{"text_format":"1","workbook":"xlsx","n_sheets":8,"sheets":["使い方","CSVデータ1","CSVデータ2","CSVデータ3","CSVデータ4","CSVデータ","出力票","temp"],"not_rendered":{"charts":0,"images":0,"macros":1,"external_links":0,"defined_names":2,"comments":0,"pivot_tables":0},"unopened":[],"bounds":{"document_bytes":16777216,"sheet_cells":100000,"rows_first":2000,"rows_last":500,"rows_between":2000,"halvings":0,"cell_chars":16384,"cell_head_chars":4096},"cells_cut":0,"cells_raw":0,"read":"whole","date_system":"1900"}

{"sheet":"使い方","index":0,"n_rows":19,"n_cols":1,"rows_kept":19,"cut":false,"hidden":false,"merged":[[13,0,13,8],[3,0,3,11]]}
["年齢調整・厚生労働省様式（様式５－２）ツールの使い方（後期高齢者医療用Version 1.6）（市町村でも使えます）"]
["（１）ＫＤＢの厚生労働省様式（様式５－２）の画面から、ＣＳＶファイルを出力・保存する。"]
["（２）（１）のCSVファイルをエクセルで開く。"]
["（３）（２）で開いたCSVファイルの内容（データのある範囲だけ※）を、このツールの「CSVデータ」シートにコピー＆ペーストする。"]
["（４）人数が少ない等の理由で複数年を合算して計算したい場合は、同様に「CSVデータ2」～「CSVデータ4」シートに他の年度をコピー＆ペーストする。"]
["　　（単年度だけで分析する場合には（４）は不要です。）"]
["（５）「出力票」シートの左上にある「計算開始」をクリックすると、計算結果が表示されるので、印刷する。※※"]
[]
["※A1～AG339（平成30年度以降はAM339） （この範囲と一致していない場合はＫＤＢのバージョンが違うので使えません）"]
["※※「集計対象年齢」の範囲を指定することも出来ます。（通常は変える必要はありません）"]
["見本データは全て仮想値です。"]
[]
[]
["このエクセルファイルは、マクロを使っています。\nセキュリティの警告でマクロが無効にされた場合は、コンテンツの有効化を行って下さい。"]
[]
[]
["履歴"]
["Ver.1.6  2019/12/2　複数年度を合算（プール）して計算できるようにしました。"]
["Ver.1.0  2017/5/10　公開"]

{"sheet":"CSVデータ1","index":1,"n_rows":339,"n_cols":33,"rows_kept":339,"cut":false,"hidden":false,"merged":[]}
["レコード種別","保険者番号","保険者名","地区名","作成年月","県計・国計"]
["共通部",999999,"○○市"]
["レコード種別","集計単位","年齢","性別","受診者","ＢＭＩ人数","ＢＭＩ割合","腹囲人数","腹囲割合","中性脂肪人数","中性脂肪割合","ＡＬＴ（ＧＰＴ）人数","ＡＬＴ（ＧＰＴ）割合","ＨＤＬコレステロール人数","ＨＤＬコレステロール割合","空腹時血糖人数","空腹時血糖割合","ＨｂＡ１ｃ人数","ＨｂＡ１ｃ割合","尿酸人数","尿酸割合","収縮期血圧人数","収縮期血圧割合","拡張期血圧人数","拡張期血圧割合","ＬＤＬコレステロール人数","ＬＤＬコレステロール割合","血清クレアチニン人数","血清クレアチニン割合","心電図人数","心電図割合","眼底検査人数","眼底検査割合"]
["明細部","国",65,"男"]
["明細部","国",66,"男"]
["明細部","国",67,"男"]
["明細部","国",68,"男"]
["明細部","国",69,"男"]
["明細部","国",70,"男"]
["明細部","国",71,"男"]
["明細部","国",72,"男"]
["明細部","国",73,"男"]
["明細部","国",74,"男"]
["明細部","国",75,"男"]
["明細部","国",76,"男"]
["明細部","国",77,"男"]
["明細部","国",78,"男"]
["明細部","国",79,"男"]
["明細部","国",80,"男"]
["明細部","国",81,"男"]
["明細部","国",82,"男"]
["明細部","国",83,"男"]
["明細部","国",84,"男"]
["明細部","国",85,"男"]
["明細部","国",86,"男"]
["明細部","国",87,"男"]
["明細部","国",88,"男"]
["明細部","国",89,"男"]
["明細部","国",90,"男"]
["明細部","国",91,"男"]
["明細部","国",92,"男"]
["明細部","国",93,"男"]
["明細部","国",94,"男"]
["明細部","国",95,"男"]
["明細部","国",96,"男"]
["明細部","国",97,"男"]
["明細部","国",98,"男"]
["明細部","国",99,"男"]
["明細部","国",100,"男"]
["明細部","国",101,"男"]
["明細部","国",102,"男"]
["明細部","国",103,"男"]
["明細部","国",104,"男"]
["明細部","国",105,"男"]
["明細部","国",106,"男"]
["明細部","国",107,"男"]
["明細部","国",108,"男"]
["明細部","国",109,"男"]
["明細部","国",110,"男"]
["明細部","国",111,"男"]
["明細部","国",112,"男"]
["明細部","国",113,"男"]
["明細部","国",114,"男"]
["明細部","国",115,"男"]
["明細部","国",116,"男"]
["明細部","国",117,"男"]
["明細部","国",118,"男"]
["明細部","国",119,"男"]
["明細部","国",120,"男"]
["明細部","国",65,"女"]
["明細部","国",66,"女"]
["明細部","国",67,"女"]
["明細部","国",68,"女"]
["明細部","国",69,"女"]
["明細部","国",70,"女"]
["明細部","国",71,"女"]
["明細部","国",72,"女"]
["明細部","国",73,"女"]
["明細部","国",74,"女"]
["明細部","国",75,"女"]
["明細部","国",76,"女"]
["明細部","国",77,"女"]
["明細部","国",78,"女"]
["明細部","国",79,"女"]
["明細部","国",80,"女"]
["明細部","国",81,"女"]
["明細部","国",82,"女"]
["明細部","国",83,"女"]
["明細部","国",84,"女"]
["明細部","国",85,"女"]
["明細部","国",86,"女"]
["明細部","国",87,"女"]
["明細部","国",88,"女"]
["明細部","国",89,"女"]
["明細部","国",90,"女"]
["明細部","国",91,"女"]
["明細部","国",92,"女"]
["明細部","国",93,"女"]
["明細部","国",94,"女"]
["明細部","国",95,"女"]
["明細部","国",96,"女"]
["明細部","国",97,"女"]
["明細部","国",98,"女"]
["明細部","国",99,"女"]
["明細部","国",100,"女"]
["明細部","国",101,"女"]
["明細部","国",102,"女"]
["明細部","国",103,"女"]
["明細部","国",104,"女"]
["明細部","国",105,"女"]
["明細部","国",106,"女"]
["明細部","国",107,"女"]
["明細部","国",108,"女"]
["明細部","国",109,"女"]
["明細部","国",110,"女"]
["明細部","国",111,"女"]
["明細部","国",112,"女"]
["明細部","国",113,"女"]
["明細部","国",114,"女"]
["明細部","国",115,"女"]
["明細部","国",116,"女"]
["明細部","国",117,"女"]
["明細部","国",118,"女"]
["明細部","国",119,"女"]
["明細部","国",120,"女"]
["明細部","県",65,"男"]
["明細部","県",66,"男"]
["明細部","県",67,"男"]
["明細部","県",68,"男"]
["明細部","県",69,"男"]
["明細部","県",70,"男"]
["明細部","県",71,"男"]
["明細部","県",72,"男"]
["明細部","県",73,"男"]
["明細部","県",74,"男"]
["明細部","県",75,"男"]
["明細部","県",76,"男"]
["明細部","県",77,"男"]
["明細部","県",78,"男"]
["明細部","県",79,"男"]
["明細部","県",80,"男"]
["明細部","県",81,"男"]
["明細部","県",82,"男"]
["明細部","県",83,"男"]
["明細部","県",84,"男"]
["明細部","県",85,"男"]
["明細部","県",86,"男"]
["明細部","県",87,"男"]
["明細部","県",88,"男"]
["明細部","県",89,"男"]
["明細部","県",90,"男"]
["明細部","県",91,"男"]
["明細部","県",92,"男"]
["明細部","県",93,"男"]
["明細部","県",94,"男"]
["明細部","県",95,"男"]
["明細部","県",96,"男"]
["明細部","県",97,"男"]
["明細部","県",98,"男"]
["明細部","県",99,"男"]
["明細部","県",100,"男"]
["明細部","県",101,"男"]
["明細部","県",102,"男"]
["明細部","県",103,"男"]
["明細部","県",104,"男"]
["明細部","県",105,"男"]
["明細部","県",106,"男"]
["明細部","県",107,"男"]
["明細部","県",108,"男"]
["明細部","県",109,"男"]
["明細部","県",110,"男"]
["明細部","県",111,"男"]
["明細部","県",112,"男"]
["明細部","県",113,"男"]
["明細部","県",114,"男"]
["明細部","県",115,"男"]
["明細部","県",116,"男"]
["明細部","県",117,"男"]
["明細部","県",118,"男"]
["明細部","県",119,"男"]
["明細部","県",120,"男"]
["明細部","県",65,"女"]
["明細部","県",66,"女"]
["明細部","県",67,"女"]
["明細部","県",68,"女"]
["明細部","県",69,"女"]
["明細部","県",70,"女"]
["明細部","県",71,"女"]
["明細部","県",72,"女"]
["明細部","県",73,"女"]
["明細部","県",74,"女"]
["明細部","県",75,"女"]
["明細部","県",76,"女"]
["明細部","県",77,"女"]
["明細部","県",78,"女"]
["明細部","県",79,"女"]
["明細部","県",80,"女"]
["明細部","県",81,"女"]
["明細部","県",82,"女"]
["明細部","県",83,"女"]
["明細部","県",84,"女"]
["明細部","県",85,"女"]
["明細部","県",86,"女"]
["明細部","県",87,"女"]
["明細部","県",88,"女"]
["明細部","県",89,"女"]
["明細部","県",90,"女"]
["明細部","県",91,"女"]
["明細部","県",92,"女"]
["明細部","県",93,"女"]
["明細部","県",94,"女"]
["明細部","県",95,"女"]
["明細部","県",96,"女"]
["明細部","県",97,"女"]
["明細部","県",98,"女"]
["明細部","県",99,"女"]
["明細部","県",100,"女"]
["明細部","県",101,"女"]
["明細部","県",102,"女"]
["明細部","県",103,"女"]
["明細部","県",104,"女"]
["明細部","県",105,"女"]
["明細部","県",106,"女"]
["明細部","県",107,"女"]
["明細部","県",108,"女"]
["明細部","県",109,"女"]
["明細部","県",110,"女"]
["明細部","県",111,"女"]
["明細部","県",112,"女"]
["明細部","県",113,"女"]
["明細部","県",114,"女"]
["明細部","県",115,"女"]
["明細部","県",116,"女"]
["明細部","県",117,"女"]
["明細部","県",118,"女"]
["明細部","県",119,"女"]
["明細部","県",120,"女"]
["明細部","保険者（地区）",65,"男"]
["明細部","保険者（地区）",66,"男"]
["明細部","保険者（地区）",67,"男"]
["明細部","保険者（地区）",68,"男"]
["明細部","保険者（地区）",69,"男"]
["明細部","保険者（地区）",70,"男"]
["明細部","保険者（地区）",71,"男"]
["明細部","保険者（地区）",72,"男"]
["明細部","保険者（地区）",73,"男"]
["明細部","保険者（地区）",74,"男"]
["明細部","保険者（地区）",75,"男"]
["明細部","保険者（地区）",76,"男"]
["明細部","保険者（地区）",77,"男"]
["明細部","保険者（地区）",78,"男"]
["明細部","保険者（地区）",79,"男"]
["明細部","保険者（地区）",80,"男"]
["明細部","保険者（地区）",81,"男"]
["明細部","保険者（地区）",82,"男"]
["明細部","保険者（地区）",83,"男"]
["明細部","保険者（地区）",84,"男"]
["明細部","保険者（地区）",85,"男"]
["明細部","保険者（地区）",86,"男"]
["明細部","保険者（地区）",87,"男"]
["明細部","保険者（地区）",88,"男"]
["明細部","保険者（地区）",89,"男"]
["明細部","保険者（地区）",90,"男"]
["明細部","保険者（地区）",91,"男"]
["明細部","保険者（地区）",92,"男"]
["明細部","保険者（地区）",93,"男"]
["明細部","保険者（地区）",94,"男"]
["明細部","保険者（地区）",95,"男"]
["明細部","保険者（地区）",96,"男"]
["明細部","保険者（地区）",97,"男"]
["明細部","保険者（地区）",98,"男"]
["明細部","保険者（地区）",99,"男"]
["明細部","保険者（地区）",100,"男"]
["明細部","保険者（地区）",101,"男"]
["明細部","保険者（地区）",102,"男"]
["明細部","保険者（地区）",103,"男"]
["明細部","保険者（地区）",104,"男"]
["明細部","保険者（地区）",105,"男"]
["明細部","保険者（地区）",106,"男"]
["明細部","保険者（地区）",107,"男"]
["明細部","保険者（地区）",108,"男"]
["明細部","保険者（地区）",109,"男"]
["明細部","保険者（地区）",110,"男"]
["明細部","保険者（地区）",111,"男"]
["明細部","保険者（地区）",112,"男"]
["明細部","保険者（地区）",113,"男"]
["明細部","保険者（地区）",114,"男"]
["明細部","保険者（地区）",115,"男"]
["明細部","保険者（地区）",116,"男"]
["明細部","保険者（地区）",117,"男"]
["明細部","保険者（地区）",118,"男"]
["明細部","保険者（地区）",119,"男"]
["明細部","保険者（地区）",120,"男"]
["明細部","保険者（地区）",65,"女"]
["明細部","保険者（地区）",66,"女"]
["明細部","保険者（地区）",67,"女"]
["明細部","保険者（地区）",68,"女"]
["明細部","保険者（地区）",69,"女"]
["明細部","保険者（地区）",70,"女"]
["明細部","保険者（地区）",71,"女"]
["明細部","保険者（地区）",72,"女"]
["明細部","保険者（地区）",73,"女"]
["明細部","保険者（地区）",74,"女"]
["明細部","保険者（地区）",75,"女"]
["明細部","保険者（地区）",76,"女"]
["明細部","保険者（地区）",77,"女"]
["明細部","保険者（地区）",78,"女"]
["明細部","保険者（地区）",79,"女"]
["明細部","保険者（地区）",80,"女"]
["明細部","保険者（地区）",81,"女"]
["明細部","保険者（地区）",82,"女"]
["明細部","保険者（地区）",83,"女"]
["明細部","保険者（地区）",84,"女"]
["明細部","保険者（地区）",85,"女"]
["明細部","保険者（地区）",86,"女"]
["明細部","保険者（地区）",87,"女"]
["明細部","保険者（地区）",88,"女"]
["明細部","保険者（地区）",89,"女"]
["明細部","保険者（地区）",90,"女"]
["明細部","保険者（地区）",91,"女"]
["明細部","保険者（地区）",92,"女"]
["明細部","保険者（地区）",93,"女"]
["明細部","保険者（地区）",94,"女"]
["明細部","保険者（地区）",95,"女"]
["明細部","保険者（地区）",96,"女"]
["明細部","保険者（地区）",97,"女"]
["明細部","保険者（地区）",98,"女"]
["明細部","保険者（地区）",99,"女"]
["明細部","保険者（地区）",100,"女"]
["明細部","保険者（地区）",101,"女"]
["明細部","保険者（地区）",102,"女"]
["明細部","保険者（地区）",103,"女"]
["明細部","保険者（地区）",104,"女"]
["明細部","保険者（地区）",105,"女"]
["明細部","保険者（地区）",106,"女"]
["明細部","保険者（地区）",107,"女"]
["明細部","保険者（地区）",108,"女"]
["明細部","保険者（地区）",109,"女"]
["明細部","保険者（地区）",110,"女"]
["明細部","保険者（地区）",111,"女"]
["明細部","保険者（地区）",112,"女"]
["明細部","保険者（地区）",113,"女"]
["明細部","保険者（地区）",114,"女"]
["明細部","保険者（地区）",115,"女"]
["明細部","保険者（地区）",116,"女"]
["明細部","保険者（地区）",117,"女"]
["明細部","保険者（地区）",118,"女"]
["明細部","保険者（地区）",119,"女"]
["明細部","保険者（地区）",120,"女"]

{"sheet":"CSVデータ2","index":2,"n_rows":339,"n_cols":33,"rows_kept":339,"cut":false,"hidden":false,"merged":[]}
["レコード種別","保険者番号","保険者名","地区名","作成年月","県計・国計"]
["共通部"]
["レコード種別","集計単位","年齢","性別","受診者","ＢＭＩ人数","ＢＭＩ割合","腹囲人数","腹囲割合","中性脂肪人数","中性脂肪割合","ＡＬＴ（ＧＰＴ）人数","ＡＬＴ（ＧＰＴ）割合","ＨＤＬコレステロール人数","ＨＤＬコレステロール割合","空腹時血糖人数","空腹時血糖割合","ＨｂＡ１ｃ人数","ＨｂＡ１ｃ割合","尿酸人数","尿酸割合","収縮期血圧人数","収縮期血圧割合","拡張期血圧人数","拡張期血圧割合","ＬＤＬコレステロール人数","ＬＤＬコレステロール割合","血清クレアチニン人数","血清クレアチニン割合","心電図人数","心電図割合","眼底検査人数","眼底検査割合"]
["明細部","国",65,"男"]
["明細部","国",66,"男"]
["明細部","国",67,"男"]
["明細部","国",68,"男"]
["明細部","国",69,"男"]
["明細部","国",70,"男"]
["明細部","国",71,"男"]
["明細部","国",72,"男"]
["明細部","国",73,"男"]
["明細部","国",74,"男"]
["明細部","国",75,"男"]
["明細部","国",76,"男"]
["明細部","国",77,"男"]
["明細部","国",78,"男"]
["明細部","国",79,"男"]
["明細部","国",80,"男"]
["明細部","国",81,"男"]
["明細部","国",82,"男"]
["明細部","国",83,"男"]
["明細部","国",84,"男"]
["明細部","国",85,"男"]
["明細部","国",86,"男"]
["明細部","国",87,"男"]
["明細部","国",88,"男"]
["明細部","国",89,"男"]
["明細部","国",90,"男"]
["明細部","国",91,"男"]
["明細部","国",92,"男"]
["明細部","国",93,"男"]
["明細部","国",94,"男"]
["明細部","国",95,"男"]
["明細部","国",96,"男"]
["明細部","国",97,"男"]
["明細部","国",98,"男"]
["明細部","国",99,"男"]
["明細部","国",100,"男"]
["明細部","国",101,"男"]
["明細部","国",102,"男"]
["明細部","国",103,"男"]
["明細部","国",104,"男"]
["明細部","国",105,"男"]
["明細部","国",106,"男"]
["明細部","国",107,"男"]
["明細部","国",108,"男"]
["明細部","国",109,"男"]
["明細部","国",110,"男"]
["明細部","国",111,"男"]
["明細部","国",112,"男"]
["明細部","国",113,"男"]
["明細部","国",114,"男"]
["明細部","国",115,"男"]
["明細部","国",116,"男"]
["明細部","国",117,"男"]
["明細部","国",118,"男"]
["明細部","国",119,"男"]
["明細部","国",120,"男"]
["明細部","国",65,"女"]
["明細部","国",66,"女"]
["明細部","国",67,"女"]
["明細部","国",68,"女"]
["明細部","国",69,"女"]
["明細部","国",70,"女"]
["明細部","国",71,"女"]
["明細部","国",72,"女"]
["明細部","国",73,"女"]
["明細部","国",74,"女"]
["明細部","国",75,"女"]
["明細部","国",76,"女"]
["明細部","国",77,"女"]
["明細部","国",78,"女"]
["明細部","国",79,"女"]
["明細部","国",80,"女"]
["明細部","国",81,"女"]
["明細部","国",82,"女"]
["明細部","国",83,"女"]
["明細部","国",84,"女"]
["明細部","国",85,"女"]
["明細部","国",86,"女"]
["明細部","国",87,"女"]
["明細部","国",88,"女"]
["明細部","国",89,"女"]
["明細部","国",90,"女"]
["明細部","国",91,"女"]
["明細部","国",92,"女"]
["明細部","国",93,"女"]
["明細部","国",94,"女"]
["明細部","国",95,"女"]
["明細部","国",96,"女"]
["明細部","国",97,"女"]
["明細部","国",98,"女"]
["明細部","国",99,"女"]
["明細部","国",100,"女"]
["明細部","国",101,"女"]
["明細部","国",102,"女"]
["明細部","国",103,"女"]
["明細部","国",104,"女"]
["明細部","国",105,"女"]
["明細部","国",106,"女"]
["明細部","国",107,"女"]
["明細部","国",108,"女"]
["明細部","国",109,"女"]
["明細部","国",110,"女"]
["明細部","国",111,"女"]
["明細部","国",112,"女"]
["明細部","国",113,"女"]
["明細部","国",114,"女"]
["明細部","国",115,"女"]
["明細部","国",116,"女"]
["明細部","国",117,"女"]
["明細部","国",118,"女"]
["明細部","国",119,"女"]
["明細部","国",120,"女"]
["明細部","県",65,"男"]
["明細部","県",66,"男"]
["明細部","県",67,"男"]
["明細部","県",68,"男"]
["明細部","県",69,"男"]
["明細部","県",70,"男"]
["明細部","県",71,"男"]
["明細部","県",72,"男"]
["明細部","県",73,"男"]
["明細部","県",74,"男"]
["明細部","県",75,"男"]
["明細部","県",76,"男"]
["明細部","県",77,"男"]
["明細部","県",78,"男"]
["明細部","県",79,"男"]
["明細部","県",80,"男"]
["明細部","県",81,"男"]
["明細部","県",82,"男"]
["明細部","県",83,"男"]
["明細部","県",84,"男"]
["明細部","県",85,"男"]
["明細部","県",86,"男"]
["明細部","県",87,"男"]
["明細部","県",88,"男"]
["明細部","県",89,"男"]
["明細部","県",90,"男"]
["明細部","県",91,"男"]
["明細部","県",92,"男"]
["明細部","県",93,"男"]
["明細部","県",94,"男"]
["明細部","県",95,"男"]
["明細部","県",96,"男"]
["明細部","県",97,"男"]
["明細部","県",98,"男"]
["明細部","県",99,"男"]
["明細部","県",100,"男"]
["明細部","県",101,"男"]
["明細部","県",102,"男"]
["明細部","県",103,"男"]
["明細部","県",104,"男"]
["明細部","県",105,"男"]
["明細部","県",106,"男"]
["明細部","県",107,"男"]
["明細部","県",108,"男"]
["明細部","県",109,"男"]
["明細部","県",110,"男"]
["明細部","県",111,"男"]
["明細部","県",112,"男"]
["明細部","県",113,"男"]
["明細部","県",114,"男"]
["明細部","県",115,"男"]
["明細部","県",116,"男"]
["明細部","県",117,"男"]
["明細部","県",118,"男"]
["明細部","県",119,"男"]
["明細部","県",120,"男"]
["明細部","県",65,"女"]
["明細部","県",66,"女"]
["明細部","県",67,"女"]
["明細部","県",68,"女"]
["明細部","県",69,"女"]
["明細部","県",70,"女"]
["明細部","県",71,"女"]
["明細部","県",72,"女"]
["明細部","県",73,"女"]
["明細部","県",74,"女"]
["明細部","県",75,"女"]
["明細部","県",76,"女"]
["明細部","県",77,"女"]
["明細部","県",78,"女"]
["明細部","県",79,"女"]
["明細部","県",80,"女"]
["明細部","県",81,"女"]
["明細部","県",82,"女"]
["明細部","県",83,"女"]
["明細部","県",84,"女"]
["明細部","県",85,"女"]
["明細部","県",86,"女"]
["明細部","県",87,"女"]
["明細部","県",88,"女"]
["明細部","県",89,"女"]
["明細部","県",90,"女"]
["明細部","県",91,"女"]
["明細部","県",92,"女"]
["明細部","県",93,"女"]
["明細部","県",94,"女"]
["明細部","県",95,"女"]
["明細部","県",96,"女"]
["明細部","県",97,"女"]
["明細部","県",98,"女"]
["明細部","県",99,"女"]
["明細部","県",100,"女"]
["明細部","県",101,"女"]
["明細部","県",102,"女"]
["明細部","県",103,"女"]
["明細部","県",104,"女"]
["明細部","県",105,"女"]
["明細部","県",106,"女"]
["明細部","県",107,"女"]
["明細部","県",108,"女"]
["明細部","県",109,"女"]
["明細部","県",110,"女"]
["明細部","県",111,"女"]
["明細部","県",112,"女"]
["明細部","県",113,"女"]
["明細部","県",114,"女"]
["明細部","県",115,"女"]
["明細部","県",116,"女"]
["明細部","県",117,"女"]
["明細部","県",118,"女"]
["明細部","県",119,"女"]
["明細部","県",120,"女"]
["明細部","保険者（地区）",65,"男"]
["明細部","保険者（地区）",66,"男"]
["明細部","保険者（地区）",67,"男"]
["明細部","保険者（地区）",68,"男"]
["明細部","保険者（地区）",69,"男"]
["明細部","保険者（地区）",70,"男"]
["明細部","保険者（地区）",71,"男"]
["明細部","保険者（地区）",72,"男"]
["明細部","保険者（地区）",73,"男"]
["明細部","保険者（地区）",74,"男"]
["明細部","保険者（地区）",75,"男"]
["明細部","保険者（地区）",76,"男"]
["明細部","保険者（地区）",77,"男"]
["明細部","保険者（地区）",78,"男"]
["明細部","保険者（地区）",79,"男"]
["明細部","保険者（地区）",80,"男"]
["明細部","保険者（地区）",81,"男"]
["明細部","保険者（地区）",82,"男"]
["明細部","保険者（地区）",83,"男"]
["明細部","保険者（地区）",84,"男"]
["明細部","保険者（地区）",85,"男"]
["明細部","保険者（地区）",86,"男"]
["明細部","保険者（地区）",87,"男"]
["明細部","保険者（地区）",88,"男"]
["明細部","保険者（地区）",89,"男"]
["明細部","保険者（地区）",90,"男"]
["明細部","保険者（地区）",91,"男"]
["明細部","保険者（地区）",92,"男"]
["明細部","保険者（地区）",93,"男"]
["明細部","保険者（地区）",94,"男"]
["明細部","保険者（地区）",95,"男"]
["明細部","保険者（地区）",96,"男"]
["明細部","保険者（地区）",97,"男"]
["明細部","保険者（地区）",98,"男"]
["明細部","保険者（地区）",99,"男"]
["明細部","保険者（地区）",100,"男"]
["明細部","保険者（地区）",101,"男"]
["明細部","保険者（地区）",102,"男"]
["明細部","保険者（地区）",103,"男"]
["明細部","保険者（地区）",104,"男"]
["明細部","保険者（地区）",105,"男"]
["明細部","保険者（地区）",106,"男"]
["明細部","保険者（地区）",107,"男"]
["明細部","保険者（地区）",108,"男"]
["明細部","保険者（地区）",109,"男"]
["明細部","保険者（地区）",110,"男"]
["明細部","保険者（地区）",111,"男"]
["明細部","保険者（地区）",112,"男"]
["明細部","保険者（地区）",113,"男"]
["明細部","保険者（地区）",114,"男"]
["明細部","保険者（地区）",115,"男"]
["明細部","保険者（地区）",116,"男"]
["明細部","保険者（地区）",117,"男"]
["明細部","保険者（地区）",118,"男"]
["明細部","保険者（地区）",119,"男"]
["明細部","保険者（地区）",120,"男"]
["明細部","保険者（地区）",65,"女"]
["明細部","保険者（地区）",66,"女"]
["明細部","保険者（地区）",67,"女"]
["明細部","保険者（地区）",68,"女"]
["明細部","保険者（地区）",69,"女"]
["明細部","保険者（地区）",70,"女"]
["明細部","保険者（地区）",71,"女"]
["明細部","保険者（地区）",72,"女"]
["明細部","保険者（地区）",73,"女"]
["明細部","保険者（地区）",74,"女"]
["明細部","保険者（地区）",75,"女"]
["明細部","保険者（地区）",76,"女"]
["明細部","保険者（地区）",77,"女"]
["明細部","保険者（地区）",78,"女"]
["明細部","保険者（地区）",79,"女"]
["明細部","保険者（地区）",80,"女"]
["明細部","保険者（地区）",81,"女"]
["明細部","保険者（地区）",82,"女"]
["明細部","保険者（地区）",83,"女"]
["明細部","保険者（地区）",84,"女"]
["明細部","保険者（地区）",85,"女"]
["明細部","保険者（地区）",86,"女"]
["明細部","保険者（地区）",87,"女"]
["明細部","保険者（地区）",88,"女"]
["明細部","保険者（地区）",89,"女"]
["明細部","保険者（地区）",90,"女"]
["明細部","保険者（地区）",91,"女"]
["明細部","保険者（地区）",92,"女"]
["明細部","保険者（地区）",93,"女"]
["明細部","保険者（地区）",94,"女"]
["明細部","保険者（地区）",95,"女"]
["明細部","保険者（地区）",96,"女"]
["明細部","保険者（地区）",97,"女"]
["明細部","保険者（地区）",98,"女"]
["明細部","保険者（地区）",99,"女"]
["明細部","保険者（地区）",100,"女"]
["明細部","保険者（地区）",101,"女"]
["明細部","保険者（地区）",102,"女"]
["明細部","保険者（地区）",103,"女"]
["明細部","保険者（地区）",104,"女"]
["明細部","保険者（地区）",105,"女"]
["明細部","保険者（地区）",106,"女"]
["明細部","保険者（地区）",107,"女"]
["明細部","保険者（地区）",108,"女"]
["明細部","保険者（地区）",109,"女"]
["明細部","保険者（地区）",110,"女"]
["明細部","保険者（地区）",111,"女"]
["明細部","保険者（地区）",112,"女"]
["明細部","保険者（地区）",113,"女"]
["明細部","保険者（地区）",114,"女"]
["明細部","保険者（地区）",115,"女"]
["明細部","保険者（地区）",116,"女"]
["明細部","保険者（地区）",117,"女"]
["明細部","保険者（地区）",118,"女"]
["明細部","保険者（地区）",119,"女"]
["明細部","保険者（地区）",120,"女"]

{"sheet":"CSVデータ3","index":3,"n_rows":339,"n_cols":33,"rows_kept":339,"cut":false,"hidden":false,"merged":[]}
["レコード種別","保険者番号","保険者名","地区名","作成年月","県計・国計"]
["共通部"]
["レコード種別","集計単位","年齢","性別","受診者","ＢＭＩ人数","ＢＭＩ割合","腹囲人数","腹囲割合","中性脂肪人数","中性脂肪割合","ＡＬＴ（ＧＰＴ）人数","ＡＬＴ（ＧＰＴ）割合","ＨＤＬコレステロール人数","ＨＤＬコレステロール割合","空腹時血糖人数","空腹時血糖割合","ＨｂＡ１ｃ人数","ＨｂＡ１ｃ割合","尿酸人数","尿酸割合","収縮期血圧人数","収縮期血圧割合","拡張期血圧人数","拡張期血圧割合","ＬＤＬコレステロール人数","ＬＤＬコレステロール割合","血清クレアチニン人数","血清クレアチニン割合","心電図人数","心電図割合","眼底検査人数","眼底検査割合"]
["明細部","国",65,"男"]
["明細部","国",66,"男"]
["明細部","国",67,"男"]
["明細部","国",68,"男"]
["明細部","国",69,"男"]
["明細部","国",70,"男"]
["明細部","国",71,"男"]
["明細部","国",72,"男"]
["明細部","国",73,"男"]
["明細部","国",74,"男"]
["明細部","国",75,"男"]
["明細部","国",76,"男"]
["明細部","国",77,"男"]
["明細部","国",78,"男"]
["明細部","国",79,"男"]
["明細部","国",80,"男"]
["明細部","国",81,"男"]
["明細部","国",82,"男"]
["明細部","国",83,"男"]
["明細部","国",84,"男"]
["明細部","国",85,"男"]
["明細部","国",86,"男"]
["明細部","国",87,"男"]
["明細部","国",88,"男"]
["明細部","国",89,"男"]
["明細部","国",90,"男"]
["明細部","国",91,"男"]
["明細部","国",92,"男"]
["明細部","国",93,"男"]
["明細部","国",94,"男"]
["明細部","国",95,"男"]
["明細部","国",96,"男"]
["明細部","国",97,"男"]
["明細部","国",98,"男"]
["明細部","国",99,"男"]
["明細部","国",100,"男"]
["明細部","国",101,"男"]
["明細部","国",102,"男"]
["明細部","国",103,"男"]
["明細部","国",104,"男"]
["明細部","国",105,"男"]
["明細部","国",106,"男"]
["明細部","国",107,"男"]
["明細部","国",108,"男"]
["明細部","国",109,"男"]
["明細部","国",110,"男"]
["明細部","国",111,"男"]
["明細部","国",112,"男"]
["明細部","国",113,"男"]
["明細部","国",114,"男"]
["明細部","国",115,"男"]
["明細部","国",116,"男"]
["明細部","国",117,"男"]
["明細部","国",118,"男"]
["明細部","国",119,"男"]
["明細部","国",120,"男"]
["明細部","国",65,"女"]
["明細部","国",66,"女"]
["明細部","国",67,"女"]
["明細部","国",68,"女"]
["明細部","国",69,"女"]
["明細部","国",70,"女"]
["明細部","国",71,"女"]
["明細部","国",72,"女"]
["明細部","国",73,"女"]
["明細部","国",74,"女"]
["明細部","国",75,"女"]
["明細部","国",76,"女"]
["明細部","国",77,"女"]
["明細部","国",78,"女"]
["明細部","国",79,"女"]
["明細部","国",80,"女"]
["明細部","国",81,"女"]
["明細部","国",82,"女"]
["明細部","国",83,"女"]
["明細部","国",84,"女"]
["明細部","国",85,"女"]
["明細部","国",86,"女"]
["明細部","国",87,"女"]
["明細部","国",88,"女"]
["明細部","国",89,"女"]
["明細部","国",90,"女"]
["明細部","国",91,"女"]
["明細部","国",92,"女"]
["明細部","国",93,"女"]
["明細部","国",94,"女"]
["明細部","国",95,"女"]
["明細部","国",96,"女"]
["明細部","国",97,"女"]
["明細部","国",98,"女"]
["明細部","国",99,"女"]
["明細部","国",100,"女"]
["明細部","国",101,"女"]
["明細部","国",102,"女"]
["明細部","国",103,"女"]
["明細部","国",104,"女"]
["明細部","国",105,"女"]
["明細部","国",106,"女"]
["明細部","国",107,"女"]
["明細部","国",108,"女"]
["明細部","国",109,"女"]
["明細部","国",110,"女"]
["明細部","国",111,"女"]
["明細部","国",112,"女"]
["明細部","国",113,"女"]
["明細部","国",114,"女"]
["明細部","国",115,"女"]
["明細部","国",116,"女"]
["明細部","国",117,"女"]
["明細部","国",118,"女"]
["明細部","国",119,"女"]
["明細部","国",120,"女"]
["明細部","県",65,"男"]
["明細部","県",66,"男"]
["明細部","県",67,"男"]
["明細部","県",68,"男"]
["明細部","県",69,"男"]
["明細部","県",70,"男"]
["明細部","県",71,"男"]
["明細部","県",72,"男"]
["明細部","県",73,"男"]
["明細部","県",74,"男"]
["明細部","県",75,"男"]
["明細部","県",76,"男"]
["明細部","県",77,"男"]
["明細部","県",78,"男"]
["明細部","県",79,"男"]
["明細部","県",80,"男"]
["明細部","県",81,"男"]
["明細部","県",82,"男"]
["明細部","県",83,"男"]
["明細部","県",84,"男"]
["明細部","県",85,"男"]
["明細部","県",86,"男"]
["明細部","県",87,"男"]
["明細部","県",88,"男"]
["明細部","県",89,"男"]
["明細部","県",90,"男"]
["明細部","県",91,"男"]
["明細部","県",92,"男"]
["明細部","県",93,"男"]
["明細部","県",94,"男"]
["明細部","県",95,"男"]
["明細部","県",96,"男"]
["明細部","県",97,"男"]
["明細部","県",98,"男"]
["明細部","県",99,"男"]
["明細部","県",100,"男"]
["明細部","県",101,"男"]
["明細部","県",102,"男"]
["明細部","県",103,"男"]
["明細部","県",104,"男"]
["明細部","県",105,"男"]
["明細部","県",106,"男"]
["明細部","県",107,"男"]
["明細部","県",108,"男"]
["明細部","県",109,"男"]
["明細部","県",110,"男"]
["明細部","県",111,"男"]
["明細部","県",112,"男"]
["明細部","県",113,"男"]
["明細部","県",114,"男"]
["明細部","県",115,"男"]
["明細部","県",116,"男"]
["明細部","県",117,"男"]
["明細部","県",118,"男"]
["明細部","県",119,"男"]
["明細部","県",120,"男"]
["明細部","県",65,"女"]
["明細部","県",66,"女"]
["明細部","県",67,"女"]
["明細部","県",68,"女"]
["明細部","県",69,"女"]
["明細部","県",70,"女"]
["明細部","県",71,"女"]
["明細部","県",72,"女"]
["明細部","県",73,"女"]
["明細部","県",74,"女"]
["明細部","県",75,"女"]
["明細部","県",76,"女"]
["明細部","県",77,"女"]
["明細部","県",78,"女"]
["明細部","県",79,"女"]
["明細部","県",80,"女"]
["明細部","県",81,"女"]
["明細部","県",82,"女"]
["明細部","県",83,"女"]
["明細部","県",84,"女"]
["明細部","県",85,"女"]
["明細部","県",86,"女"]
["明細部","県",87,"女"]
["明細部","県",88,"女"]
["明細部","県",89,"女"]
["明細部","県",90,"女"]
["明細部","県",91,"女"]
["明細部","県",92,"女"]
["明細部","県",93,"女"]
["明細部","県",94,"女"]
["明細部","県",95,"女"]
["明細部","県",96,"女"]
["明細部","県",97,"女"]
["明細部","県",98,"女"]
["明細部","県",99,"女"]
["明細部","県",100,"女"]
["明細部","県",101,"女"]
["明細部","県",102,"女"]
["明細部","県",103,"女"]
["明細部","県",104,"女"]
["明細部","県",105,"女"]
["明細部","県",106,"女"]
["明細部","県",107,"女"]
["明細部","県",108,"女"]
["明細部","県",109,"女"]
["明細部","県",110,"女"]
["明細部","県",111,"女"]
["明細部","県",112,"女"]
["明細部","県",113,"女"]
["明細部","県",114,"女"]
["明細部","県",115,"女"]
["明細部","県",116,"女"]
["明細部","県",117,"女"]
["明細部","県",118,"女"]
["明細部","県",119,"女"]
["明細部","県",120,"女"]
["明細部","保険者（地区）",65,"男"]
["明細部","保険者（地区）",66,"男"]
["明細部","保険者（地区）",67,"男"]
["明細部","保険者（地区）",68,"男"]
["明細部","保険者（地区）",69,"男"]
["明細部","保険者（地区）",70,"男"]
["明細部","保険者（地区）",71,"男"]
["明細部","保険者（地区）",72,"男"]
["明細部","保険者（地区）",73,"男"]
["明細部","保険者（地区）",74,"男"]
["明細部","保険者（地区）",75,"男"]
["明細部","保険者（地区）",76,"男"]
["明細部","保険者（地区）",77,"男"]
["明細部","保険者（地区）",78,"男"]
["明細部","保険者（地区）",79,"男"]
["明細部","保険者（地区）",80,"男"]
["明細部","保険者（地区）",81,"男"]
["明細部","保険者（地区）",82,"男"]
["明細部","保険者（地区）",83,"男"]
["明細部","保険者（地区）",84,"男"]
["明細部","保険者（地区）",85,"男"]
["明細部","保険者（地区）",86,"男"]
["明細部","保険者（地区）",87,"男"]
["明細部","保険者（地区）",88,"男"]
["明細部","保険者（地区）",89,"男"]
["明細部","保険者（地区）",90,"男"]
["明細部","保険者（地区）",91,"男"]
["明細部","保険者（地区）",92,"男"]
["明細部","保険者（地区）",93,"男"]
["明細部","保険者（地区）",94,"男"]
["明細部","保険者（地区）",95,"男"]
["明細部","保険者（地区）",96,"男"]
["明細部","保険者（地区）",97,"男"]
["明細部","保険者（地区）",98,"男"]
["明細部","保険者（地区）",99,"男"]
["明細部","保険者（地区）",100,"男"]
["明細部","保険者（地区）",101,"男"]
["明細部","保険者（地区）",102,"男"]
["明細部","保険者（地区）",103,"男"]
["明細部","保険者（地区）",104,"男"]
["明細部","保険者（地区）",105,"男"]
["明細部","保険者（地区）",106,"男"]
["明細部","保険者（地区）",107,"男"]
["明細部","保険者（地区）",108,"男"]
["明細部","保険者（地区）",109,"男"]
["明細部","保険者（地区）",110,"男"]
["明細部","保険者（地区）",111,"男"]
["明細部","保険者（地区）",112,"男"]
["明細部","保険者（地区）",113,"男"]
["明細部","保険者（地区）",114,"男"]
["明細部","保険者（地区）",115,"男"]
["明細部","保険者（地区）",116,"男"]
["明細部","保険者（地区）",117,"男"]
["明細部","保険者（地区）",118,"男"]
["明細部","保険者（地区）",119,"男"]
["明細部","保険者（地区）",120,"男"]
["明細部","保険者（地区）",65,"女"]
["明細部","保険者（地区）",66,"女"]
["明細部","保険者（地区）",67,"女"]
["明細部","保険者（地区）",68,"女"]
["明細部","保険者（地区）",69,"女"]
["明細部","保険者（地区）",70,"女"]
["明細部","保険者（地区）",71,"女"]
["明細部","保険者（地区）",72,"女"]
["明細部","保険者（地区）",73,"女"]
["明細部","保険者（地区）",74,"女"]
["明細部","保険者（地区）",75,"女"]
["明細部","保険者（地区）",76,"女"]
["明細部","保険者（地区）",77,"女"]
["明細部","保険者（地区）",78,"女"]
["明細部","保険者（地区）",79,"女"]
["明細部","保険者（地区）",80,"女"]
["明細部","保険者（地区）",81,"女"]
["明細部","保険者（地区）",82,"女"]
["明細部","保険者（地区）",83,"女"]
["明細部","保険者（地区）",84,"女"]
["明細部","保険者（地区）",85,"女"]
["明細部","保険者（地区）",86,"女"]
["明細部","保険者（地区）",87,"女"]
["明細部","保険者（地区）",88,"女"]
["明細部","保険者（地区）",89,"女"]
["明細部","保険者（地区）",90,"女"]
["明細部","保険者（地区）",91,"女"]
["明細部","保険者（地区）",92,"女"]
["明細部","保険者（地区）",93,"女"]
["明細部","保険者（地区）",94,"女"]
["明細部","保険者（地区）",95,"女"]
["明細部","保険者（地区）",96,"女"]
["明細部","保険者（地区）",97,"女"]
["明細部","保険者（地区）",98,"女"]
["明細部","保険者（地区）",99,"女"]
["明細部","保険者（地区）",100,"女"]
["明細部","保険者（地区）",101,"女"]
["明細部","保険者（地区）",102,"女"]
["明細部","保険者（地区）",103,"女"]
["明細部","保険者（地区）",104,"女"]
["明細部","保険者（地区）",105,"女"]
["明細部","保険者（地区）",106,"女"]
["明細部","保険者（地区）",107,"女"]
["明細部","保険者（地区）",108,"女"]
["明細部","保険者（地区）",109,"女"]
["明細部","保険者（地区）",110,"女"]
["明細部","保険者（地区）",111,"女"]
["明細部","保険者（地区）",112,"女"]
["明細部","保険者（地区）",113,"女"]
["明細部","保険者（地区）",114,"女"]
["明細部","保険者（地区）",115,"女"]
["明細部","保険者（地区）",116,"女"]
["明細部","保険者（地区）",117,"女"]
["明細部","保険者（地区）",118,"女"]
["明細部","保険者（地区）",119,"女"]
["明細部","保険者（地区）",120,"女"]

{"sheet":"CSVデータ4","index":4,"n_rows":339,"n_cols":33,"rows_kept":339,"cut":false,"hidden":false,"merged":[]}
["レコード種別","保険者番号","保険者名","地区名","作成年月","県計・国計"]
["共通部"]
["レコード種別","集計単位","年齢","性別","受診者","ＢＭＩ人数","ＢＭＩ割合","腹囲人数","腹囲割合","中性脂肪人数","中性脂肪割合","ＡＬＴ（ＧＰＴ）人数","ＡＬＴ（ＧＰＴ）割合","ＨＤＬコレステロール人数","ＨＤＬコレステロール割合","空腹時血糖人数","空腹時血糖割合","ＨｂＡ１ｃ人数","ＨｂＡ１ｃ割合","尿酸人数","尿酸割合","収縮期血圧人数","収縮期血圧割合","拡張期血圧人数","拡張期血圧割合","ＬＤＬコレステロール人数","ＬＤＬコレステロール割合","血清クレアチニン人数","血清クレアチニン割合","心電図人数","心電図割合","眼底検査人数","眼底検査割合"]
["明細部","国",65,"男"]
["明細部","国",66,"男"]
["明細部","国",67,"男"]
["明細部","国",68,"男"]
["明細部","国",69,"男"]
["明細部","国",70,"男"]
["明細部","国",71,"男"]
["明細部","国",72,"男"]
["明細部","国",73,"男"]
["明細部","国",74,"男"]
["明細部","国",75,"男"]
["明細部","国",76,"男"]
["明細部","国",77,"男"]
["明細部","国",78,"男"]
["明細部","国",79,"男"]
["明細部","国",80,"男"]
["明細部","国",81,"男"]
["明細部","国",82,"男"]
["明細部","国",83,"男"]
["明細部","国",84,"男"]
["明細部","国",85,"男"]
["明細部","国",86,"男"]
["明細部","国",87,"男"]
["明細部","国",88,"男"]
["明細部","国",89,"男"]
["明細部","国",90,"男"]
["明細部","国",91,"男"]
["明細部","国",92,"男"]
["明細部","国",93,"男"]
["明細部","国",94,"男"]
["明細部","国",95,"男"]
["明細部","国",96,"男"]
["明細部","国",97,"男"]
["明細部","国",98,"男"]
["明細部","国",99,"男"]
["明細部","国",100,"男"]
["明細部","国",101,"男"]
["明細部","国",102,"男"]
["明細部","国",103,"男"]
["明細部","国",104,"男"]
["明細部","国",105,"男"]
["明細部","国",106,"男"]
["明細部","国",107,"男"]
["明細部","国",108,"男"]
["明細部","国",109,"男"]
["明細部","国",110,"男"]
["明細部","国",111,"男"]
["明細部","国",112,"男"]
["明細部","国",113,"男"]
["明細部","国",114,"男"]
["明細部","国",115,"男"]
["明細部","国",116,"男"]
["明細部","国",117,"男"]
["明細部","国",118,"男"]
["明細部","国",119,"男"]
["明細部","国",120,"男"]
["明細部","国",65,"女"]
["明細部","国",66,"女"]
["明細部","国",67,"女"]
["明細部","国",68,"女"]
["明細部","国",69,"女"]
["明細部","国",70,"女"]
["明細部","国",71,"女"]
["明細部","国",72,"女"]
["明細部","国",73,"女"]
["明細部","国",74,"女"]
["明細部","国",75,"女"]
["明細部","国",76,"女"]
["明細部","国",77,"女"]
["明細部","国",78,"女"]
["明細部","国",79,"女"]
["明細部","国",80,"女"]
["明細部","国",81,"女"]
["明細部","国",82,"女"]
["明細部","国",83,"女"]
["明細部","国",84,"女"]
["明細部","国",85,"女"]
["明細部","国",86,"女"]
["明細部","国",87,"女"]
["明細部","国",88,"女"]
["明細部","国",89,"女"]
["明細部","国",90,"女"]
["明細部","国",91,"女"]
["明細部","国",92,"女"]
["明細部","国",93,"女"]
["明細部","国",94,"女"]
["明細部","国",95,"女"]
["明細部","国",96,"女"]
["明細部","国",97,"女"]
["明細部","国",98,"女"]
["明細部","国",99,"女"]
["明細部","国",100,"女"]
["明細部","国",101,"女"]
["明細部","国",102,"女"]
["明細部","国",103,"女"]
["明細部","国",104,"女"]
["明細部","国",105,"女"]
["明細部","国",106,"女"]
["明細部","国",107,"女"]
["明細部","国",108,"女"]
["明細部","国",109,"女"]
["明細部","国",110,"女"]
["明細部","国",111,"女"]
["明細部","国",112,"女"]
["明細部","国",113,"女"]
["明細部","国",114,"女"]
["明細部","国",115,"女"]
["明細部","国",116,"女"]
["明細部","国",117,"女"]
["明細部","国",118,"女"]
["明細部","国",119,"女"]
["明細部","国",120,"女"]
["明細部","県",65,"男"]
["明細部","県",66,"男"]
["明細部","県",67,"男"]
["明細部","県",68,"男"]
["明細部","県",69,"男"]
["明細部","県",70,"男"]
["明細部","県",71,"男"]
["明細部","県",72,"男"]
["明細部","県",73,"男"]
["明細部","県",74,"男"]
["明細部","県",75,"男"]
["明細部","県",76,"男"]
["明細部","県",77,"男"]
["明細部","県",78,"男"]
["明細部","県",79,"男"]
["明細部","県",80,"男"]
["明細部","県",81,"男"]
["明細部","県",82,"男"]
["明細部","県",83,"男"]
["明細部","県",84,"男"]
["明細部","県",85,"男"]
["明細部","県",86,"男"]
["明細部","県",87,"男"]
["明細部","県",88,"男"]
["明細部","県",89,"男"]
["明細部","県",90,"男"]
["明細部","県",91,"男"]
["明細部","県",92,"男"]
["明細部","県",93,"男"]
["明細部","県",94,"男"]
["明細部","県",95,"男"]
["明細部","県",96,"男"]
["明細部","県",97,"男"]
["明細部","県",98,"男"]
["明細部","県",99,"男"]
["明細部","県",100,"男"]
["明細部","県",101,"男"]
["明細部","県",102,"男"]
["明細部","県",103,"男"]
["明細部","県",104,"男"]
["明細部","県",105,"男"]
["明細部","県",106,"男"]
["明細部","県",107,"男"]
["明細部","県",108,"男"]
["明細部","県",109,"男"]
["明細部","県",110,"男"]
["明細部","県",111,"男"]
["明細部","県",112,"男"]
["明細部","県",113,"男"]
["明細部","県",114,"男"]
["明細部","県",115,"男"]
["明細部","県",116,"男"]
["明細部","県",117,"男"]
["明細部","県",118,"男"]
["明細部","県",119,"男"]
["明細部","県",120,"男"]
["明細部","県",65,"女"]
["明細部","県",66,"女"]
["明細部","県",67,"女"]
["明細部","県",68,"女"]
["明細部","県",69,"女"]
["明細部","県",70,"女"]
["明細部","県",71,"女"]
["明細部","県",72,"女"]
["明細部","県",73,"女"]
["明細部","県",74,"女"]
["明細部","県",75,"女"]
["明細部","県",76,"女"]
["明細部","県",77,"女"]
["明細部","県",78,"女"]
["明細部","県",79,"女"]
["明細部","県",80,"女"]
["明細部","県",81,"女"]
["明細部","県",82,"女"]
["明細部","県",83,"女"]
["明細部","県",84,"女"]
["明細部","県",85,"女"]
["明細部","県",86,"女"]
["明細部","県",87,"女"]
["明細部","県",88,"女"]
["明細部","県",89,"女"]
["明細部","県",90,"女"]
["明細部","県",91,"女"]
["明細部","県",92,"女"]
["明細部","県",93,"女"]
["明細部","県",94,"女"]
["明細部","県",95,"女"]
["明細部","県",96,"女"]
["明細部","県",97,"女"]
["明細部","県",98,"女"]
["明細部","県",99,"女"]
["明細部","県",100,"女"]
["明細部","県",101,"女"]
["明細部","県",102,"女"]
["明細部","県",103,"女"]
["明細部","県",104,"女"]
["明細部","県",105,"女"]
["明細部","県",106,"女"]
["明細部","県",107,"女"]
["明細部","県",108,"女"]
["明細部","県",109,"女"]
["明細部","県",110,"女"]
["明細部","県",111,"女"]
["明細部","県",112,"女"]
["明細部","県",113,"女"]
["明細部","県",114,"女"]
["明細部","県",115,"女"]
["明細部","県",116,"女"]
["明細部","県",117,"女"]
["明細部","県",118,"女"]
["明細部","県",119,"女"]
["明細部","県",120,"女"]
["明細部","保険者（地区）",65,"男"]
["明細部","保険者（地区）",66,"男"]
["明細部","保険者（地区）",67,"男"]
["明細部","保険者（地区）",68,"男"]
["明細部","保険者（地区）",69,"男"]
["明細部","保険者（地区）",70,"男"]
["明細部","保険者（地区）",71,"男"]
["明細部","保険者（地区）",72,"男"]
["明細部","保険者（地区）",73,"男"]
["明細部","保険者（地区）",74,"男"]
["明細部","保険者（地区）",75,"男"]
["明細部","保険者（地区）",76,"男"]
["明細部","保険者（地区）",77,"男"]
["明細部","保険者（地区）",78,"男"]
["明細部","保険者（地区）",79,"男"]
["明細部","保険者（地区）",80,"男"]
["明細部","保険者（地区）",81,"男"]
["明細部","保険者（地区）",82,"男"]
["明細部","保険者（地区）",83,"男"]
["明細部","保険者（地区）",84,"男"]
["明細部","保険者（地区）",85,"男"]
["明細部","保険者（地区）",86,"男"]
["明細部","保険者（地区）",87,"男"]
["明細部","保険者（地区）",88,"男"]
["明細部","保険者（地区）",89,"男"]
["明細部","保険者（地区）",90,"男"]
["明細部","保険者（地区）",91,"男"]
["明細部","保険者（地区）",92,"男"]
["明細部","保険者（地区）",93,"男"]
["明細部","保険者（地区）",94,"男"]
["明細部","保険者（地区）",95,"男"]
["明細部","保険者（地区）",96,"男"]
["明細部","保険者（地区）",97,"男"]
["明細部","保険者（地区）",98,"男"]
["明細部","保険者（地区）",99,"男"]
["明細部","保険者（地区）",100,"男"]
["明細部","保険者（地区）",101,"男"]
["明細部","保険者（地区）",102,"男"]
["明細部","保険者（地区）",103,"男"]
["明細部","保険者（地区）",104,"男"]
["明細部","保険者（地区）",105,"男"]
["明細部","保険者（地区）",106,"男"]
["明細部","保険者（地区）",107,"男"]
["明細部","保険者（地区）",108,"男"]
["明細部","保険者（地区）",109,"男"]
["明細部","保険者（地区）",110,"男"]
["明細部","保険者（地区）",111,"男"]
["明細部","保険者（地区）",112,"男"]
["明細部","保険者（地区）",113,"男"]
["明細部","保険者（地区）",114,"男"]
["明細部","保険者（地区）",115,"男"]
["明細部","保険者（地区）",116,"男"]
["明細部","保険者（地区）",117,"男"]
["明細部","保険者（地区）",118,"男"]
["明細部","保険者（地区）",119,"男"]
["明細部","保険者（地区）",120,"男"]
["明細部","保険者（地区）",65,"女"]
["明細部","保険者（地区）",66,"女"]
["明細部","保険者（地区）",67,"女"]
["明細部","保険者（地区）",68,"女"]
["明細部","保険者（地区）",69,"女"]
["明細部","保険者（地区）",70,"女"]
["明細部","保険者（地区）",71,"女"]
["明細部","保険者（地区）",72,"女"]
["明細部","保険者（地区）",73,"女"]
["明細部","保険者（地区）",74,"女"]
["明細部","保険者（地区）",75,"女"]
["明細部","保険者（地区）",76,"女"]
["明細部","保険者（地区）",77,"女"]
["明細部","保険者（地区）",78,"女"]
["明細部","保険者（地区）",79,"女"]
["明細部","保険者（地区）",80,"女"]
["明細部","保険者（地区）",81,"女"]
["明細部","保険者（地区）",82,"女"]
["明細部","保険者（地区）",83,"女"]
["明細部","保険者（地区）",84,"女"]
["明細部","保険者（地区）",85,"女"]
["明細部","保険者（地区）",86,"女"]
["明細部","保険者（地区）",87,"女"]
["明細部","保険者（地区）",88,"女"]
["明細部","保険者（地区）",89,"女"]
["明細部","保険者（地区）",90,"女"]
["明細部","保険者（地区）",91,"女"]
["明細部","保険者（地区）",92,"女"]
["明細部","保険者（地区）",93,"女"]
["明細部","保険者（地区）",94,"女"]
["明細部","保険者（地区）",95,"女"]
["明細部","保険者（地区）",96,"女"]
["明細部","保険者（地区）",97,"女"]
["明細部","保険者（地区）",98,"女"]
["明細部","保険者（地区）",99,"女"]
["明細部","保険者（地区）",100,"女"]
["明細部","保険者（地区）",101,"女"]
["明細部","保険者（地区）",102,"女"]
["明細部","保険者（地区）",103,"女"]
["明細部","保険者（地区）",104,"女"]
["明細部","保険者（地区）",105,"女"]
["明細部","保険者（地区）",106,"女"]
["明細部","保険者（地区）",107,"女"]
["明細部","保険者（地区）",108,"女"]
["明細部","保険者（地区）",109,"女"]
["明細部","保険者（地区）",110,"女"]
["明細部","保険者（地区）",111,"女"]
["明細部","保険者（地区）",112,"女"]
["明細部","保険者（地区）",113,"女"]
["明細部","保険者（地区）",114,"女"]
["明細部","保険者（地区）",115,"女"]
["明細部","保険者（地区）",116,"女"]
["明細部","保険者（地区）",117,"女"]
["明細部","保険者（地区）",118,"女"]
["明細部","保険者（地区）",119,"女"]
["明細部","保険者（地区）",120,"女"]

{"sheet":"CSVデータ","index":5,"n_rows":339,"n_cols":33,"rows_kept":339,"cut":false,"hidden":true,"merged":[]}
[{"$f":"CSVデータ1!A1","v":"レコード種別"},{"$f":"CSVデータ1!B1","v":"保険者番号"},{"$f":"CSVデータ1!C1","v":"保険者名"},{"$f":"CSVデータ1!D1","v":"地区名"},{"$f":"CSVデータ1!E1","v":"作成年月"}]
[{"$f":"CSVデータ1!A2","v":"共通部"},{"$f":"CSVデータ1!B2","v":999999},{"$f":"CSVデータ1!C2","v":"○○市"},{"$f":"CSVデータ1!D2","v":0},{"$f":"CSVデータ1!E2&CSVデータ2!E2&CSVデータ3!E2&CSVデータ4!E2","v":""}]
[{"$f":"CSVデータ1!A3","v":"レコード種別"},{"$f":"CSVデータ1!B3","v":"集計単位"},{"$f":"CSVデータ1!C3","v":"年齢"},{"$f":"CSVデータ1!D3","v":"性別"},{"$f":"CSVデータ1!E3","v":"受診者"},{"$f":"CSVデータ1!F3","v":"ＢＭＩ人数"},{"$f":"CSVデータ1!G3","v":"ＢＭＩ割合"},{"$f":"CSVデータ1!H3","v":"腹囲人数"},{"$f":"CSVデータ1!I3","v":"腹囲割合"},{"$f":"CSVデータ1!J3","v":"中性脂肪人数"},{"$f":"CSVデータ1!K3","v":"中性脂肪割合"},{"$f":"CSVデータ1!L3","v":"ＡＬＴ（ＧＰＴ）人数"},{"$f":"CSVデータ1!M3","v":"ＡＬＴ（ＧＰＴ）割合"},{"$f":"CSVデータ1!N3","v":"ＨＤＬコレステロール人数"},{"$f":"CSVデータ1!O3","v":"ＨＤＬコレステロール割合"},{"$f":"CSVデータ1!P3","v":"空腹時血糖人数"},{"$f":"CSVデータ1!Q3","v":"空腹時血糖割合"},{"$f":"CSVデータ1!R3","v":"ＨｂＡ１ｃ人数"},{"$f":"CSVデータ1!S3","v":"ＨｂＡ１ｃ割合"},{"$f":"CSVデータ1!T3","v":"尿酸人数"},{"$f":"CSVデータ1!U3","v":"尿酸割合"},{"$f":"CSVデータ1!V3","v":"収縮期血圧人数"},{"$f":"CSVデータ1!W3","v":"収縮期血圧割合"},{"$f":"CSVデータ1!X3","v":"拡張期血圧人数"},{"$f":"CSVデータ1!Y3","v":"拡張期血圧割合"},{"$f":"CSVデータ1!Z3","v":"ＬＤＬコレステロール人数"},{"$f":"CSVデータ1!AA3","v":"ＬＤＬコレステロール割合"},{"$f":"CSVデータ1!AB3","v":"血清クレアチニン人数"},{"$f":"CSVデータ1!AC3","v":"血清クレアチニン割合"},{"$f":"CSVデータ1!AD3","v":"心電図人数"},{"$f":"CSVデータ1!AE3","v":"心電図割合"},{"$f":"CSVデータ1!AF3","v":"眼底検査人数"},{"$f":"CSVデータ1!AG3","v":"眼底検査割合"}]
[{"$f":"CSVデータ1!A4","v":"明細部"},{"$f":"CSVデータ1!B4","v":"国"},{"$f":"CSVデータ1!C4","v":65},{"$f":"CSVデータ1!D4","v":"男"},{"$f":"SUM(CSVデータ1!E4,CSVデータ2!E4,CSVデータ3!E4,CSVデータ4!E4)","v":0},{"$f":"SUM(CSVデータ1!F4,CSVデータ2!F4,CSVデータ3!F4,CSVデータ4!F4)","v":0},{"$f":"SUM(CSVデータ1!G4,CSVデータ2!G4,CSVデータ3!G4,CSVデータ4!G4)","v":0},{"$f":"SUM(CSVデータ1!H4,CSVデータ2!H4,CSVデータ3!H4,CSVデータ4!H4)","v":0},{"$f":"SUM(CSVデータ1!I4,CSVデータ2!I4,CSVデータ3!I4,CSVデータ4!I4)","v":0},{"$f":"SUM(CSVデータ1!J4,CSVデータ2!J4,CSVデータ3!J4,CSVデータ4!J4)","v":0},{"$f":"SUM(CSVデータ1!K4,CSVデータ2!K4,CSVデータ3!K4,CSVデータ4!K4)","v":0},{"$f":"SUM(CSVデータ1!L4,CSVデータ2!L4,CSVデータ3!L4,CSVデータ4!L4)","v":0},{"$f":"SUM(CSVデータ1!M4,CSVデータ2!M4,CSVデータ3!M4,CSVデータ4!M4)","v":0},{"$f":"SUM(CSVデータ1!N4,CSVデータ2!N4,CSVデータ3!N4,CSVデータ4!N4)","v":0},{"$f":"SUM(CSVデータ1!O4,CSVデータ2!O4,CSVデータ3!O4,CSVデータ4!O4)","v":0},{"$f":"SUM(CSVデータ1!P4,CSVデータ2!P4,CSVデータ3!P4,CSVデータ4!P4)","v":0},{"$f":"SUM(CSVデータ1!Q4,CSVデータ2!Q4,CSVデータ3!Q4,CSVデータ4!Q4)","v":0},{"$f":"SUM(CSVデータ1!R4,CSVデータ2!R4,CSVデータ3!R4,CSVデータ4!R4)","v":0},{"$f":"SUM(CSVデータ1!S4,CSVデータ2!S4,CSVデータ3!S4,CSVデータ4!S4)","v":0},{"$f":"SUM(CSVデータ1!T4,CSVデータ2!T4,CSVデータ3!T4,CSVデータ4!T4)","v":0},{"$f":"SUM(CSVデータ1!U4,CSVデータ2!U4,CSVデータ3!U4,CSVデータ4!U4)","v":0},{"$f":"SUM(CSVデータ1!V4,CSVデータ2!V4,CSVデータ3!V4,CSVデータ4!V4)","v":0},{"$f":"SUM(CSVデータ1!W4,CSVデータ2!W4,CSVデータ3!W4,CSVデータ4!W4)","v":0},{"$f":"SUM(CSVデータ1!X4,CSVデータ2!X4,CSVデータ3!X4,CSVデータ4!X4)","v":0},{"$f":"SUM(CSVデータ1!Y4,CSVデータ2!Y4,CSVデータ3!Y4,CSVデータ4!Y4)","v":0},{"$f":"SUM(CSVデータ1!Z4,CSVデータ2!Z4,CSVデータ3!Z4,CSVデータ4!Z4)","v":0},{"$f":"SUM(CSVデータ1!AA4,CSVデータ2!AA4,CSVデータ3!AA4,CSVデータ4!AA4)","v":0},{"$f":"SUM(CSVデータ1!AB4,CSVデータ2!AB4,CSVデータ3!AB4,CSVデータ4!AB4)","v":0},{"$f":"SUM(CSVデータ1!AC4,CSVデータ2!AC4,CSVデータ3!AC4,CSVデータ4!AC4)","v":0},{"$f":"SUM(CSVデータ1!AD4,CSVデータ2!AD4,CSVデータ3!AD4,CSVデータ4!AD4)","v":0},{"$f":"SUM(CSVデータ1!AE4,CSVデータ2!AE4,CSVデータ3!AE4,CSVデータ4!AE4)","v":0},{"$f":"SUM(CSVデータ1!AF4,CSVデータ2!AF4,CSVデータ3!AF4,CSVデータ4!AF4)","v":0},{"$f":"SUM(CSVデータ1!AG4,CSVデータ2!AG4,CSVデータ3!AG4,CSVデータ4!AG4)","v":0}]
[{"$f":"CSVデータ1!A5","v":"明細部"},{"$f":"CSVデータ1!B5","v":"国"},{"$f":"CSVデータ1!C5","v":66},{"$f":"CSVデータ1!D5","v":"男"},{"$f":"SUM(CSVデータ1!E5,CSVデータ2!E5,CSVデータ3!E5,CSVデータ4!E5)","v":0},{"$f":"SUM(CSVデータ1!F5,CSVデータ2!F5,CSVデータ3!F5,CSVデータ4!F5)","v":0},{"$f":"SUM(CSVデータ1!G5,CSVデータ2!G5,CSVデータ3!G5,CSVデータ4!G5)","v":0},{"$f":"SUM(CSVデータ1!H5,CSVデータ2!H5,CSVデータ3!H5,CSVデータ4!H5)","v":0},{"$f":"SUM(CSVデータ1!I5,CSVデータ2!I5,CSVデータ3!I5,CSVデータ4!I5)","v":0},{"$f":"SUM(CSVデータ1!J5,CSVデータ2!J5,CSVデータ3!J5,CSVデータ4!J5)","v":0},{"$f":"SUM(CSVデータ1!K5,CSVデータ2!K5,CSVデータ3!K5,CSVデータ4!K5)","v":0},{"$f":"SUM(CSVデータ1!L5,CSVデータ2!L5,CSVデータ3!L5,CSVデータ4!L5)","v":0},{"$f":"SUM(CSVデータ1!M5,CSVデータ2!M5,CSVデータ3!M5,CSVデータ4!M5)","v":0},{"$f":"SUM(CSVデータ1!N5,CSVデータ2!N5,CSVデータ3!N5,CSVデータ4!N5)","v":0},{"$f":"SUM(CSVデータ1!O5,CSVデータ2!O5,CSVデータ3!O5,CSVデータ4!O5)","v":0},{"$f":"SUM(CSVデータ1!P5,CSVデータ2!P5,CSVデータ3!P5,CSVデータ4!P5)","v":0},{"$f":"SUM(CSVデータ1!Q5,CSVデータ2!Q5,CSVデータ3!Q5,CSVデータ4!Q5)","v":0},{"$f":"SUM(CSVデータ1!R5,CSVデータ2!R5,CSVデータ3!R5,CSVデータ4!R5)","v":0},{"$f":"SUM(CSVデータ1!S5,CSVデータ2!S5,CSVデータ3!S5,CSVデータ4!S5)","v":0},{"$f":"SUM(CSVデータ1!T5,CSVデータ2!T5,CSVデータ3!T5,CSVデータ4!T5)","v":0},{"$f":"SUM(CSVデータ1!U5,CSVデータ2!U5,CSVデータ3!U5,CSVデータ4!U5)","v":0},{"$f":"SUM(CSVデータ1!V5,CSVデータ2!V5,CSVデータ3!V5,CSVデータ4!V5)","v":0},{"$f":"SUM(CSVデータ1!W5,CSVデータ2!W5,CSVデータ3!W5,CSVデータ4!W5)","v":0},{"$f":"SUM(CSVデータ1!X5,CSVデータ2!X5,CSVデータ3!X5,CSVデータ4!X5)","v":0},{"$f":"SUM(CSVデータ1!Y5,CSVデータ2!Y5,CSVデータ3!Y5,CSVデータ4!Y5)","v":0},{"$f":"SUM(CSVデータ1!Z5,CSVデータ2!Z5,CSVデータ3!Z5,CSVデータ4!Z5)","v":0},{"$f":"SUM(CSVデータ1!AA5,CSVデータ2!AA5,CSVデータ3!AA5,CSVデータ4!AA5)","v":0},{"$f":"SUM(CSVデータ1!AB5,CSVデータ2!AB5,CSVデータ3!AB5,CSVデータ4!AB5)","v":0},{"$f":"SUM(CSVデータ1!AC5,CSVデータ2!AC5,CSVデータ3!AC5,CSVデータ4!AC5)","v":0},{"$f":"SUM(CSVデータ1!AD5,CSVデータ2!AD5,CSVデータ3!AD5,CSVデータ4!AD5)","v":0},{"$f":"SUM(CSVデータ1!AE5,CSVデータ2!AE5,CSVデータ3!AE5,CSVデータ4!AE5)","v":0},{"$f":"SUM(CSVデータ1!AF5,CSVデータ2!AF5,CSVデータ3!AF5,CSVデータ4!AF5)","v":0},{"$f":"SUM(CSVデータ1!AG5,CSVデータ2!AG5,CSVデータ3!AG5,CSVデータ4!AG5)","v":0}]
[{"$f":"CSVデータ1!A6","v":"明細部"},{"$f":"CSVデータ1!B6","v":"国"},{"$f":"CSVデータ1!C6","v":67},{"$f":"CSVデータ1!D6","v":"男"},{"$f":"SUM(CSVデータ1!E6,CSVデータ2!E6,CSVデータ3!E6,CSVデータ4!E6)","v":0},{"$f":"SUM(CSVデータ1!F6,CSVデータ2!F6,CSVデータ3!F6,CSVデータ4!F6)","v":0},{"$f":"SUM(CSVデータ1!G6,CSVデータ2!G6,CSVデータ3!G6,CSVデータ4!G6)","v":0},{"$f":"SUM(CSVデータ1!H6,CSVデータ2!H6,CSVデータ3!H6,CSVデータ4!H6)","v":0},{"$f":"SUM(CSVデータ1!I6,CSVデータ2!I6,CSVデータ3!I6,CSVデータ4!I6)","v":0},{"$f":"SUM(CSVデータ1!J6,CSVデータ2!J6,CSVデータ3!J6,CSVデータ4!J6)","v":0},{"$f":"SUM(CSVデータ1!K6,CSVデータ2!K6,CSVデータ3!K6,CSVデータ4!K6)","v":0},{"$f":"SUM(CSVデータ1!L6,CSVデータ2!L6,CSVデータ3!L6,CSVデータ4!L6)","v":0},{"$f":"SUM(CSVデータ1!M6,CSVデータ2!M6,CSVデータ3!M6,CSVデータ4!M6)","v":0},{"$f":"SUM(CSVデータ1!N6,CSVデータ2!N6,CSVデータ3!N6,CSVデータ4!N6)","v":0},{"$f":"SUM(CSVデータ1!O6,CSVデータ2!O6,CSVデータ3!O6,CSVデータ4!O6)","v":0},{"$f":"SUM(CSVデータ1!P6,CSVデータ2!P6,CSVデータ3!P6,CSVデータ4!P6)","v":0},{"$f":"SUM(CSVデータ1!Q6,CSVデータ2!Q6,CSVデータ3!Q6,CSVデータ4!Q6)","v":0},{"$f":"SUM(CSVデータ1!R6,CSVデータ2!R6,CSVデータ3!R6,CSVデータ4!R6)","v":0},{"$f":"SUM(CSVデータ1!S6,CSVデータ2!S6,CSVデータ3!S6,CSVデータ4!S6)","v":0},{"$f":"SUM(CSVデータ1!T6,CSVデータ2!T6,CSVデータ3!T6,CSVデータ4!T6)","v":0},{"$f":"SUM(CSVデータ1!U6,CSVデータ2!U6,CSVデータ3!U6,CSVデータ4!U6)","v":0},{"$f":"SUM(CSVデータ1!V6,CSVデータ2!V6,CSVデータ3!V6,CSVデータ4!V6)","v":0},{"$f":"SUM(CSVデータ1!W6,CSVデータ2!W6,CSVデータ3!W6,CSVデータ4!W6)","v":0},{"$f":"SUM(CSVデータ1!X6,CSVデータ2!X6,CSVデータ3!X6,CSVデータ4!X6)","v":0},{"$f":"SUM(CSVデータ1!Y6,CSVデータ2!Y6,CSVデータ3!Y6,CSVデータ4!Y6)","v":0},{"$f":"SUM(CSVデータ1!Z6,CSVデータ2!Z6,CSVデータ3!Z6,CSVデータ4!Z6)","v":0},{"$f":"SUM(CSVデータ1!AA6,CSVデータ2!AA6,CSVデータ3!AA6,CSVデータ4!AA6)","v":0},{"$f":"SUM(CSVデータ1!AB6,CSVデータ2!AB6,CSVデータ3!AB6,CSVデータ4!AB6)","v":0},{"$f":"SUM(CSVデータ1!AC6,CSVデータ2!AC6,CSVデータ3!AC6,CSVデータ4!AC6)","v":0},{"$f":"SUM(CSVデータ1!AD6,CSVデータ2!AD6,CSVデータ3!AD6,CSVデータ4!AD6)","v":0},{"$f":"SUM(CSVデータ1!AE6,CSVデータ2!AE6,CSVデータ3!AE6,CSVデータ4!AE6)","v":0},{"$f":"SUM(CSVデータ1!AF6,CSVデータ2!AF6,CSVデータ3!AF6,CSVデータ4!AF6)","v":0},{"$f":"SUM(CSVデータ1!AG6,CSVデータ2!AG6,CSVデータ3!AG6,CSVデータ4!AG6)","v":0}]
[{"$f":"CSVデータ1!A7","v":"明細部"},{"$f":"CSVデータ1!B7","v":"国"},{"$f":"CSVデータ1!C7","v":68},{"$f":"CSVデータ1!D7","v":"男"},{"$f":"SUM(CSVデータ1!E7,CSVデータ2!E7,CSVデータ3!E7,CSVデータ4!E7)","v":0},{"$f":"SUM(CSVデータ1!F7,CSVデータ2!F7,CSVデータ3!F7,CSVデータ4!F7)","v":0},{"$f":"SUM(CSVデータ1!G7,CSVデータ2!G7,CSVデータ3!G7,CSVデータ4!G7)","v":0},{"$f":"SUM(CSVデータ1!H7,CSVデータ2!H7,CSVデータ3!H7,CSVデータ4!H7)","v":0},{"$f":"SUM(CSVデータ1!I7,CSVデータ2!I7,CSVデータ3!I7,CSVデータ4!I7)","v":0},{"$f":"SUM(CSVデータ1!J7,CSVデータ2!J7,CSVデータ3!J7,CSVデータ4!J7)","v":0},{"$f":"SUM(CSVデータ1!K7,CSVデータ2!K7,CSVデータ3!K7,CSVデータ4!K7)","v":0},{"$f":"SUM(CSVデータ1!L7,CSVデータ2!L7,CSVデータ3!L7,CSVデータ4!L7)","v":0},{"$f":"SUM(CSVデータ1!M7,CSVデータ2!M7,CSVデータ3!M7,CSVデータ4!M7)","v":0},{"$f":"SUM(CSVデータ1!N7,CSVデータ2!N7,CSVデータ3!N7,CSVデータ4!N7)","v":0},{"$f":"SUM(CSVデータ1!O7,CSVデータ2!O7,CSVデータ3!O7,CSVデータ4!O7)","v":0},{"$f":"SUM(CSVデータ1!P7,CSVデータ2!P7,CSVデータ3!P7,CSVデータ4!P7)","v":0},{"$f":"SUM(CSVデータ1!Q7,CSVデータ2!Q7,CSVデータ3!Q7,CSVデータ4!Q7)","v":0},{"$f":"SUM(CSVデータ1!R7,CSVデータ2!R7,CSVデータ3!R7,CSVデータ4!R7)","v":0},{"$f":"SUM(CSVデータ1!S7,CSVデータ2!S7,CSVデータ3!S7,CSVデータ4!S7)","v":0},{"$f":"SUM(CSVデータ1!T7,CSVデータ2!T7,CSVデータ3!T7,CSVデータ4!T7)","v":0},{"$f":"SUM(CSVデータ1!U7,CSVデータ2!U7,CSVデータ3!U7,CSVデータ4!U7)","v":0},{"$f":"SUM(CSVデータ1!V7,CSVデータ2!V7,CSVデータ3!V7,CSVデータ4!V7)","v":0},{"$f":"SUM(CSVデータ1!W7,CSVデータ2!W7,CSVデータ3!W7,CSVデータ4!W7)","v":0},{"$f":"SUM(CSVデータ1!X7,CSVデータ2!X7,CSVデータ3!X7,CSVデータ4!X7)","v":0},{"$f":"SUM(CSVデータ1!Y7,CSVデータ2!Y7,CSVデータ3!Y7,CSVデータ4!Y7)","v":0},{"$f":"SUM(CSVデータ1!Z7,CSVデータ2!Z7,CSVデータ3!Z7,CSVデータ4!Z7)","v":0},{"$f":"SUM(CSVデータ1!AA7,CSVデータ2!AA7,CSVデータ3!AA7,CSVデータ4!AA7)","v":0},{"$f":"SUM(CSVデータ1!AB7,CSVデータ2!AB7,CSVデータ3!AB7,CSVデータ4!AB7)","v":0},{"$f":"SUM(CSVデータ1!AC7,CSVデータ2!AC7,CSVデータ3!AC7,CSVデータ4!AC7)","v":0},{"$f":"SUM(CSVデータ1!AD7,CSVデータ2!AD7,CSVデータ3!AD7,CSVデータ4!AD7)","v":0},{"$f":"SUM(CSVデータ1!AE7,CSVデータ2!AE7,CSVデータ3!AE7,CSVデータ4!AE7)","v":0},{"$f":"SUM(CSVデータ1!AF7,CSVデータ2!AF7,CSVデータ3!AF7,CSVデータ4!AF7)","v":0},{"$f":"SUM(CSVデータ1!AG7,CSVデータ2!AG7,CSVデータ3!AG7,CSVデータ4!AG7)","v":0}]
[{"$f":"CSVデータ1!A8","v":"明細部"},{"$f":"CSVデータ1!B8","v":"国"},{"$f":"CSVデータ1!C8","v":69},{"$f":"CSVデータ1!D8","v":"男"},{"$f":"SUM(CSVデータ1!E8,CSVデータ2!E8,CSVデータ3!E8,CSVデータ4!E8)","v":0},{"$f":"SUM(CSVデータ1!F8,CSVデータ2!F8,CSVデータ3!F8,CSVデータ4!F8)","v":0},{"$f":"SUM(CSVデータ1!G8,CSVデータ2!G8,CSVデータ3!G8,CSVデータ4!G8)","v":0},{"$f":"SUM(CSVデータ1!H8,CSVデータ2!H8,CSVデータ3!H8,CSVデータ4!H8)","v":0},{"$f":"SUM(CSVデータ1!I8,CSVデータ2!I8,CSVデータ3!I8,CSVデータ4!I8)","v":0},{"$f":"SUM(CSVデータ1!J8,CSVデータ2!J8,CSVデータ3!J8,CSVデータ4!J8)","v":0},{"$f":"SUM(CSVデータ1!K8,CSVデータ2!K8,CSVデータ3!K8,CSVデータ4!K8)","v":0},{"$f":"SUM(CSVデータ1!L8,CSVデータ2!L8,CSVデータ3!L8,CSVデータ4!L8)","v":0},{"$f":"SUM(CSVデータ1!M8,CSVデータ2!M8,CSVデータ3!M8,CSVデータ4!M8)","v":0},{"$f":"SUM(CSVデータ1!N8,CSVデータ2!N8,CSVデータ3!N8,CSVデータ4!N8)","v":0},{"$f":"SUM(CSVデータ1!O8,CSVデータ2!O8,CSVデータ3!O8,CSVデータ4!O8)","v":0},{"$f":"SUM(CSVデータ1!P8,CSVデータ2!P8,CSVデータ3!P8,CSVデータ4!P8)","v":0},{"$f":"SUM(CSVデータ1!Q8,CSVデータ2!Q8,CSVデータ3!Q8,CSVデータ4!Q8)","v":0},{"$f":"SUM(CSVデータ1!R8,CSVデータ2!R8,CSVデータ3!R8,CSVデータ4!R8)","v":0},{"$f":"SUM(CSVデータ1!S8,CSVデータ2!S8,CSVデータ3!S8,CSVデータ4!S8)","v":0},{"$f":"SUM(CSVデータ1!T8,CSVデータ2!T8,CSVデータ3!T8,CSVデータ4!T8)","v":0},{"$f":"SUM(CSVデータ1!U8,CSVデータ2!U8,CSVデータ3!U8,CSVデータ4!U8)","v":0},{"$f":"SUM(CSVデータ1!V8,CSVデータ2!V8,CSVデータ3!V8,CSVデータ4!V8)","v":0},{"$f":"SUM(CSVデータ1!W8,CSVデータ2!W8,CSVデータ3!W8,CSVデータ4!W8)","v":0},{"$f":"SUM(CSVデータ1!X8,CSVデータ2!X8,CSVデータ3!X8,CSVデータ4!X8)","v":0},{"$f":"SUM(CSVデータ1!Y8,CSVデータ2!Y8,CSVデータ3!Y8,CSVデータ4!Y8)","v":0},{"$f":"SUM(CSVデータ1!Z8,CSVデータ2!Z8,CSVデータ3!Z8,CSVデータ4!Z8)","v":0},{"$f":"SUM(CSVデータ1!AA8,CSVデータ2!AA8,CSVデータ3!AA8,CSVデータ4!AA8)","v":0},{"$f":"SUM(CSVデータ1!AB8,CSVデータ2!AB8,CSVデータ3!AB8,CSVデータ4!AB8)","v":0},{"$f":"SUM(CSVデータ1!AC8,CSVデータ2!AC8,CSVデータ3!AC8,CSVデータ4!AC8)","v":0},{"$f":"SUM(CSVデータ1!AD8,CSVデータ2!AD8,CSVデータ3!AD8,CSVデータ4!AD8)","v":0},{"$f":"SUM(CSVデータ1!AE8,CSVデータ2!AE8,CSVデータ3!AE8,CSVデータ4!AE8)","v":0},{"$f":"SUM(CSVデータ1!AF8,CSVデータ2!AF8,CSVデータ3!AF8,CSVデータ4!AF8)","v":0},{"$f":"SUM(CSVデータ1!AG8,CSVデータ2!AG8,CSVデータ3!AG8,CSVデータ4!AG8)","v":0}]
[{"$f":"CSVデータ1!A9","v":"明細部"},{"$f":"CSVデータ1!B9","v":"国"},{"$f":"CSVデータ1!C9","v":70},{"$f":"CSVデータ1!D9","v":"男"},{"$f":"SUM(CSVデータ1!E9,CSVデータ2!E9,CSVデータ3!E9,CSVデータ4!E9)","v":0},{"$f":"SUM(CSVデータ1!F9,CSVデータ2!F9,CSVデータ3!F9,CSVデータ4!F9)","v":0},{"$f":"SUM(CSVデータ1!G9,CSVデータ2!G9,CSVデータ3!G9,CSVデータ4!G9)","v":0},{"$f":"SUM(CSVデータ1!H9,CSVデータ2!H9,CSVデータ3!H9,CSVデータ4!H9)","v":0},{"$f":"SUM(CSVデータ1!I9,CSVデータ2!I9,CSVデータ3!I9,CSVデータ4!I9)","v":0},{"$f":"SUM(CSVデータ1!J9,CSVデータ2!J9,CSVデータ3!J9,CSVデータ4!J9)","v":0},{"$f":"SUM(CSVデータ1!K9,CSVデータ2!K9,CSVデータ3!K9,CSVデータ4!K9)","v":0},{"$f":"SUM(CSVデータ1!L9,CSVデータ2!L9,CSVデータ3!L9,CSVデータ4!L9)","v":0},{"$f":"SUM(CSVデータ1!M9,CSVデータ2!M9,CSVデータ3!M9,CSVデータ4!M9)","v":0},{"$f":"SUM(CSVデータ1!N9,CSVデータ2!N9,CSVデータ3!N9,CSVデータ4!N9)","v":0},{"$f":"SUM(CSVデータ1!O9,CSVデータ2!O9,CSVデータ3!O9,CSVデータ4!O9)","v":0},{"$f":"SUM(CSVデータ1!P9,CSVデータ2!P9,CSVデータ3!P9,CSVデータ4!P9)","v":0},{"$f":"SUM(CSVデータ1!Q9,CSVデータ2!Q9,CSVデータ3!Q9,CSVデータ4!Q9)","v":0},{"$f":"SUM(CSVデータ1!R9,CSVデータ2!R9,CSVデータ3!R9,CSVデータ4!R9)","v":0},{"$f":"SUM(CSVデータ1!S9,CSVデータ2!S9,CSVデータ3!S9,CSVデータ4!S9)","v":0},{"$f":"SUM(CSVデータ1!T9,CSVデータ2!T9,CSVデータ3!T9,CSVデータ4!T9)","v":0},{"$f":"SUM(CSVデータ1!U9,CSVデータ2!U9,CSVデータ3!U9,CSVデータ4!U9)","v":0},{"$f":"SUM(CSVデータ1!V9,CSVデータ2!V9,CSVデータ3!V9,CSVデータ4!V9)","v":0},{"$f":"SUM(CSVデータ1!W9,CSVデータ2!W9,CSVデータ3!W9,CSVデータ4!W9)","v":0},{"$f":"SUM(CSVデータ1!X9,CSVデータ2!X9,CSVデータ3!X9,CSVデータ4!X9)","v":0},{"$f":"SUM(CSVデータ1!Y9,CSVデータ2!Y9,CSVデータ3!Y9,CSVデータ4!Y9)","v":0},{"$f":"SUM(CSVデータ1!Z9,CSVデータ2!Z9,CSVデータ3!Z9,CSVデータ4!Z9)","v":0},{"$f":"SUM(CSVデータ1!AA9,CSVデータ2!AA9,CSVデータ3!AA9,CSVデータ4!AA9)","v":0},{"$f":"SUM(CSVデータ1!AB9,CSVデータ2!AB9,CSVデータ3!AB9,CSVデータ4!AB9)","v":0},{"$f":"SUM(CSVデータ1!AC9,CSVデータ2!AC9,CSVデータ3!AC9,CSVデータ4!AC9)","v":0},{"$f":"SUM(CSVデータ1!AD9,CSVデータ2!AD9,CSVデータ3!AD9,CSVデータ4!AD9)","v":0},{"$f":"SUM(CSVデータ1!AE9,CSVデータ2!AE9,CSVデータ3!AE9,CSVデータ4!AE9)","v":0},{"$f":"SUM(CSVデータ1!AF9,CSVデータ2!AF9,CSVデータ3!AF9,CSVデータ4!AF9)","v":0},{"$f":"SUM(CSVデータ1!AG9,CSVデータ2!AG9,CSVデータ3!AG9,CSVデータ4!AG9)","v":0}]
[{"$f":"CSVデータ1!A10","v":"明細部"},{"$f":"CSVデータ1!B10","v":"国"},{"$f":"CSVデータ1!C10","v":71},{"$f":"CSVデータ1!D10","v":"男"},{"$f":"SUM(CSVデータ1!E10,CSVデータ2!E10,CSVデータ3!E10,CSVデータ4!E10)","v":0},{"$f":"SUM(CSVデータ1!F10,CSVデータ2!F10,CSVデータ3!F10,CSVデータ4!F10)","v":0},{"$f":"SUM(CSVデータ1!G10,CSVデータ2!G10,CSVデータ3!G10,CSVデータ4!G10)","v":0},{"$f":"SUM(CSVデータ1!H10,CSVデータ2!H10,CSVデータ3!H10,CSVデータ4!H10)","v":0},{"$f":"SUM(CSVデータ1!I10,CSVデータ2!I10,CSVデータ3!I10,CSVデータ4!I10)","v":0},{"$f":"SUM(CSVデータ1!J10,CSVデータ2!J10,CSVデータ3!J10,CSVデータ4!J10)","v":0},{"$f":"SUM(CSVデータ1!K10,CSVデータ2!K10,CSVデータ3!K10,CSVデータ4!K10)","v":0},{"$f":"SUM(CSVデータ1!L10,CSVデータ2!L10,CSVデータ3!L10,CSVデータ4!L10)","v":0},{"$f":"SUM(CSVデータ1!M10,CSVデータ2!M10,CSVデータ3!M10,CSVデータ4!M10)","v":0},{"$f":"SUM(CSVデータ1!N10,CSVデータ2!N10,CSVデータ3!N10,CSVデータ4!N10)","v":0},{"$f":"SUM(CSVデータ1!O10,CSVデータ2!O10,CSVデータ3!O10,CSVデータ4!O10)","v":0},{"$f":"SUM(CSVデータ1!P10,CSVデータ2!P10,CSVデータ3!P10,CSVデータ4!P10)","v":0},{"$f":"SUM(CSVデータ1!Q10,CSVデータ2!Q10,CSVデータ3!Q10,CSVデータ4!Q10)","v":0},{"$f":"SUM(CSVデータ1!R10,CSVデータ2!R10,CSVデータ3!R10,CSVデータ4!R10)","v":0},{"$f":"SUM(CSVデータ1!S10,CSVデータ2!S10,CSVデータ3!S10,CSVデータ4!S10)","v":0},{"$f":"SUM(CSVデータ1!T10,CSVデータ2!T10,CSVデータ3!T10,CSVデータ4!T10)","v":0},{"$f":"SUM(CSVデータ1!U10,CSVデータ2!U10,CSVデータ3!U10,CSVデータ4!U10)","v":0},{"$f":"SUM(CSVデータ1!V10,CSVデータ2!V10,CSVデータ3!V10,CSVデータ4!V10)","v":0},{"$f":"SUM(CSVデータ1!W10,CSVデータ2!W10,CSVデータ3!W10,CSVデータ4!W10)","v":0},{"$f":"SUM(CSVデータ1!X10,CSVデータ2!X10,CSVデータ3!X10,CSVデータ4!X10)","v":0},{"$f":"SUM(CSVデータ1!Y10,CSVデータ2!Y10,CSVデータ3!Y10,CSVデータ4!Y10)","v":0},{"$f":"SUM(CSVデータ1!Z10,CSVデータ2!Z10,CSVデータ3!Z10,CSVデータ4!Z10)","v":0},{"$f":"SUM(CSVデータ1!AA10,CSVデータ2!AA10,CSVデータ3!AA10,CSVデータ4!AA10)","v":0},{"$f":"SUM(CSVデータ1!AB10,CSVデータ2!AB10,CSVデータ3!AB10,CSVデータ4!AB10)","v":0},{"$f":"SUM(CSVデータ1!AC10,CSVデータ2!AC10,CSVデータ3!AC10,CSVデータ4!AC10)","v":0},{"$f":"SUM(CSVデータ1!AD10,CSVデータ2!AD10,CSVデータ3!AD10,CSVデータ4!AD10)","v":0},{"$f":"SUM(CSVデータ1!AE10,CSVデータ2!AE10,CSVデータ3!AE10,CSVデータ4!AE10)","v":0},{"$f":"SUM(CSVデータ1!AF10,CSVデータ2!AF10,CSVデータ3!AF10,CSVデータ4!AF10)","v":0},{"$f":"SUM(CSVデータ1!AG10,CSVデータ2!AG10,CSVデータ3!AG10,CSVデータ4!AG10)","v":0}]
[{"$f":"CSVデータ1!A11","v":"明細部"},{"$f":"CSVデータ1!B11","v":"国"},{"$f":"CSVデータ1!C11","v":72},{"$f":"CSVデータ1!D11","v":"男"},{"$f":"SUM(CSVデータ1!E11,CSVデータ2!E11,CSVデータ3!E11,CSVデータ4!E11)","v":0},{"$f":"SUM(CSVデータ1!F11,CSVデータ2!F11,CSVデータ3!F11,CSVデータ4!F11)","v":0},{"$f":"SUM(CSVデータ1!G11,CSVデータ2!G11,CSVデータ3!G11,CSVデータ4!G11)","v":0},{"$f":"SUM(CSVデータ1!H11,CSVデータ2!H11,CSVデータ3!H11,CSVデータ4!H11)","v":0},{"$f":"SUM(CSVデータ1!I11,CSVデータ2!I11,CSVデータ3!I11,CSVデータ4!I11)","v":0},{"$f":"SUM(CSVデータ1!J11,CSVデータ2!J11,CSVデータ3!J11,CSVデータ4!J11)","v":0},{"$f":"SUM(CSVデータ1!K11,CSVデータ2!K11,CSVデータ3!K11,CSVデータ4!K11)","v":0},{"$f":"SUM(CSVデータ1!L11,CSVデータ2!L11,CSVデータ3!L11,CSVデータ4!L11)","v":0},{"$f":"SUM(CSVデータ1!M11,CSVデータ2!M11,CSVデータ3!M11,CSVデータ4!M11)","v":0},{"$f":"SUM(CSVデータ1!N11,CSVデータ2!N11,CSVデータ3!N11,CSVデータ4!N11)","v":0},{"$f":"SUM(CSVデータ1!O11,CSVデータ2!O11,CSVデータ3!O11,CSVデータ4!O11)","v":0},{"$f":"SUM(CSVデータ1!P11,CSVデータ2!P11,CSVデータ3!P11,CSVデータ4!P11)","v":0},{"$f":"SUM(CSVデータ1!Q11,CSVデータ2!Q11,CSVデータ3!Q11,CSVデータ4!Q11)","v":0},{"$f":"SUM(CSVデータ1!R11,CSVデータ2!R11,CSVデータ3!R11,CSVデータ4!R11)","v":0},{"$f":"SUM(CSVデータ1!S11,CSVデータ2!S11,CSVデータ3!S11,CSVデータ4!S11)","v":0},{"$f":"SUM(CSVデータ1!T11,CSVデータ2!T11,CSVデータ3!T11,CSVデータ4!T11)","v":0},{"$f":"SUM(CSVデータ1!U11,CSVデータ2!U11,CSVデータ3!U11,CSVデータ4!U11)","v":0},{"$f":"SUM(CSVデータ1!V11,CSVデータ2!V11,CSVデータ3!V11,CSVデータ4!V11)","v":0},{"$f":"SUM(CSVデータ1!W11,CSVデータ2!W11,CSVデータ3!W11,CSVデータ4!W11)","v":0},{"$f":"SUM(CSVデータ1!X11,CSVデータ2!X11,CSVデータ3!X11,CSVデータ4!X11)","v":0},{"$f":"SUM(CSVデータ1!Y11,CSVデータ2!Y11,CSVデータ3!Y11,CSVデータ4!Y11)","v":0},{"$f":"SUM(CSVデータ1!Z11,CSVデータ2!Z11,CSVデータ3!Z11,CSVデータ4!Z11)","v":0},{"$f":"SUM(CSVデータ1!AA11,CSVデータ2!AA11,CSVデータ3!AA11,CSVデータ4!AA11)","v":0},{"$f":"SUM(CSVデータ1!AB11,CSVデータ2!AB11,CSVデータ3!AB11,CSVデータ4!AB11)","v":0},{"$f":"SUM(CSVデータ1!AC11,CSVデータ2!AC11,CSVデータ3!AC11,CSVデータ4!AC11)","v":0},{"$f":"SUM(CSVデータ1!AD11,CSVデータ2!AD11,CSVデータ3!AD11,CSVデータ4!AD11)","v":0},{"$f":"SUM(CSVデータ1!AE11,CSVデータ2!AE11,CSVデータ3!AE11,CSVデータ4!AE11)","v":0},{"$f":"SUM(CSVデータ1!AF11,CSVデータ2!AF11,CSVデータ3!AF11,CSVデータ4!AF11)","v":0},{"$f":"SUM(CSVデータ1!AG11,CSVデータ2!AG11,CSVデータ3!AG11,CSVデータ4!AG11)","v":0}]
[{"$f":"CSVデータ1!A12","v":"明細部"},{"$f":"CSVデータ1!B12","v":"国"},{"$f":"CSVデータ1!C12","v":73},{"$f":"CSVデータ1!D12","v":"男"},{"$f":"SUM(CSVデータ1!E12,CSVデータ2!E12,CSVデータ3!E12,CSVデータ4!E12)","v":0},{"$f":"SUM(CSVデータ1!F12,CSVデータ2!F12,CSVデータ3!F12,CSVデータ4!F12)","v":0},{"$f":"SUM(CSVデータ1!G12,CSVデータ2!G12,CSVデータ3!G12,CSVデータ4!G12)","v":0},{"$f":"SUM(CSVデータ1!H12,CSVデータ2!H12,CSVデータ3!H12,CSVデータ4!H12)","v":0},{"$f":"SUM(CSVデータ1!I12,CSVデータ2!I12,CSVデータ3!I12,CSVデータ4!I12)","v":0},{"$f":"SUM(CSVデータ1!J12,CSVデータ2!J12,CSVデータ3!J12,CSVデータ4!J12)","v":0},{"$f":"SUM(CSVデータ1!K12,CSVデータ2!K12,CSVデータ3!K12,CSVデータ4!K12)","v":0},{"$f":"SUM(CSVデータ1!L12,CSVデータ2!L12,CSVデータ3!L12,CSVデータ4!L12)","v":0},{"$f":"SUM(CSVデータ1!M12,CSVデータ2!M12,CSVデータ3!M12,CSVデータ4!M12)","v":0},{"$f":"SUM(CSVデータ1!N12,CSVデータ2!N12,CSVデータ3!N12,CSVデータ4!N12)","v":0},{"$f":"SUM(CSVデータ1!O12,CSVデータ2!O12,CSVデータ3!O12,CSVデータ4!O12)","v":0},{"$f":"SUM(CSVデータ1!P12,CSVデータ2!P12,CSVデータ3!P12,CSVデータ4!P12)","v":0},{"$f":"SUM(CSVデータ1!Q12,CSVデータ2!Q12,CSVデータ3!Q12,CSVデータ4!Q12)","v":0},{"$f":"SUM(CSVデータ1!R12,CSVデータ2!R12,CSVデータ3!R12,CSVデータ4!R12)","v":0},{"$f":"SUM(CSVデータ1!S12,CSVデータ2!S12,CSVデータ3!S12,CSVデータ4!S12)","v":0},{"$f":"SUM(CSVデータ1!T12,CSVデータ2!T12,CSVデータ3!T12,CSVデータ4!T12)","v":0},{"$f":"SUM(CSVデータ1!U12,CSVデータ2!U12,CSVデータ3!U12,CSVデータ4!U12)","v":0},{"$f":"SUM(CSVデータ1!V12,CSVデータ2!V12,CSVデータ3!V12,CSVデータ4!V12)","v":0},{"$f":"SUM(CSVデータ1!W12,CSVデータ2!W12,CSVデータ3!W12,CSVデータ4!W12)","v":0},{"$f":"SUM(CSVデータ1!X12,CSVデータ2!X12,CSVデータ3!X12,CSVデータ4!X12)","v":0},{"$f":"SUM(CSVデータ1!Y12,CSVデータ2!Y12,CSVデータ3!Y12,CSVデータ4!Y12)","v":0},{"$f":"SUM(CSVデータ1!Z12,CSVデータ2!Z12,CSVデータ3!Z12,CSVデータ4!Z12)","v":0},{"$f":"SUM(CSVデータ1!AA12,CSVデータ2!AA12,CSVデータ3!AA12,CSVデータ4!AA12)","v":0},{"$f":"SUM(CSVデータ1!AB12,CSVデータ2!AB12,CSVデータ3!AB12,CSVデータ4!AB12)","v":0},{"$f":"SUM(CSVデータ1!AC12,CSVデータ2!AC12,CSVデータ3!AC12,CSVデータ4!AC12)","v":0},{"$f":"SUM(CSVデータ1!AD12,CSVデータ2!AD12,CSVデータ3!AD12,CSVデータ4!AD12)","v":0},{"$f":"SUM(CSVデータ1!AE12,CSVデータ2!AE12,CSVデータ3!AE12,CSVデータ4!AE12)","v":0},{"$f":"SUM(CSVデータ1!AF12,CSVデータ2!AF12,CSVデータ3!AF12,CSVデータ4!AF12)","v":0},{"$f":"SUM(CSVデータ1!AG12,CSVデータ2!AG12,CSVデータ3!AG12,CSVデータ4!AG12)","v":0}]
[{"$f":"CSVデータ1!A13","v":"明細部"},{"$f":"CSVデータ1!B13","v":"国"},{"$f":"CSVデータ1!C13","v":74},{"$f":"CSVデータ1!D13","v":"男"},{"$f":"SUM(CSVデータ1!E13,CSVデータ2!E13,CSVデータ3!E13,CSVデータ4!E13)","v":0},{"$f":"SUM(CSVデータ1!F13,CSVデータ2!F13,CSVデータ3!F13,CSVデータ4!F13)","v":0},{"$f":"SUM(CSVデータ1!G13,CSVデータ2!G13,CSVデータ3!G13,CSVデータ4!G13)","v":0},{"$f":"SUM(CSVデータ1!H13,CSVデータ2!H13,CSVデータ3!H13,CSVデータ4!H13)","v":0},{"$f":"SUM(CSVデータ1!I13,CSVデータ2!I13,CSVデータ3!I13,CSVデータ4!I13)","v":0},{"$f":"SUM(CSVデータ1!J13,CSVデータ2!J13,CSVデータ3!J13,CSVデータ4!J13)","v":0},{"$f":"SUM(CSVデータ1!K13,CSVデータ2!K13,CSVデータ3!K13,CSVデータ4!K13)","v":0},{"$f":"SUM(CSVデータ1!L13,CSVデータ2!L13,CSVデータ3!L13,CSVデータ4!L13)","v":0},{"$f":"SUM(CSVデータ1!M13,CSVデータ2!M13,CSVデータ3!M13,CSVデータ4!M13)","v":0},{"$f":"SUM(CSVデータ1!N13,CSVデータ2!N13,CSVデータ3!N13,CSVデータ4!N13)","v":0},{"$f":"SUM(CSVデータ1!O13,CSVデータ2!O13,CSVデータ3!O13,CSVデータ4!O13)","v":0},{"$f":"SUM(CSVデータ1!P13,CSVデータ2!P13,CSVデータ3!P13,CSVデータ4!P13)","v":0},{"$f":"SUM(CSVデータ1!Q13,CSVデータ2!Q13,CSVデータ3!Q13,CSVデータ4!Q13)","v":0},{"$f":"SUM(CSVデータ1!R13,CSVデータ2!R13,CSVデータ3!R13,CSVデータ4!R13)","v":0},{"$f":"SUM(CSVデータ1!S13,CSVデータ2!S13,CSVデータ3!S13,CSVデータ4!S13)","v":0},{"$f":"SUM(CSVデータ1!T13,CSVデータ2!T13,CSVデータ3!T13,CSVデータ4!T13)","v":0},{"$f":"SUM(CSVデータ1!U13,CSVデータ2!U13,CSVデータ3!U13,CSVデータ4!U13)","v":0},{"$f":"SUM(CSVデータ1!V13,CSVデータ2!V13,CSVデータ3!V13,CSVデータ4!V13)","v":0},{"$f":"SUM(CSVデータ1!W13,CSVデータ2!W13,CSVデータ3!W13,CSVデータ4!W13)","v":0},{"$f":"SUM(CSVデータ1!X13,CSVデータ2!X13,CSVデータ3!X13,CSVデータ4!X13)","v":0},{"$f":"SUM(CSVデータ1!Y13,CSVデータ2!Y13,CSVデータ3!Y13,CSVデータ4!Y13)","v":0},{"$f":"SUM(CSVデータ1!Z13,CSVデータ2!Z13,CSVデータ3!Z13,CSVデータ4!Z13)","v":0},{"$f":"SUM(CSVデータ1!AA13,CSVデータ2!AA13,CSVデータ3!AA13,CSVデータ4!AA13)","v":0},{"$f":"SUM(CSVデータ1!AB13,CSVデータ2!AB13,CSVデータ3!AB13,CSVデータ4!AB13)","v":0},{"$f":"SUM(CSVデータ1!AC13,CSVデータ2!AC13,CSVデータ3!AC13,CSVデータ4!AC13)","v":0},{"$f":"SUM(CSVデータ1!AD13,CSVデータ2!AD13,CSVデータ3!AD13,CSVデータ4!AD13)","v":0},{"$f":"SUM(CSVデータ1!AE13,CSVデータ2!AE13,CSVデータ3!AE13,CSVデータ4!AE13)","v":0},{"$f":"SUM(CSVデータ1!AF13,CSVデータ2!AF13,CSVデータ3!AF13,CSVデータ4!AF13)","v":0},{"$f":"SUM(CSVデータ1!AG13,CSVデータ2!AG13,CSVデータ3!AG13,CSVデータ4!AG13)","v":0}]
[{"$f":"CSVデータ1!A14","v":"明細部"},{"$f":"CSVデータ1!B14","v":"国"},{"$f":"CSVデータ1!C14","v":75},{"$f":"CSVデータ1!D14","v":"男"},{"$f":"SUM(CSVデータ1!E14,CSVデータ2!E14,CSVデータ3!E14,CSVデータ4!E14)","v":0},{"$f":"SUM(CSVデータ1!F14,CSVデータ2!F14,CSVデータ3!F14,CSVデータ4!F14)","v":0},{"$f":"SUM(CSVデータ1!G14,CSVデータ2!G14,CSVデータ3!G14,CSVデータ4!G14)","v":0},{"$f":"SUM(CSVデータ1!H14,CSVデータ2!H14,CSVデータ3!H14,CSVデータ4!H14)","v":0},{"$f":"SUM(CSVデータ1!I14,CSVデータ2!I14,CSVデータ3!I14,CSVデータ4!I14)","v":0},{"$f":"SUM(CSVデータ1!J14,CSVデータ2!J14,CSVデータ3!J14,CSVデータ4!J14)","v":0},{"$f":"SUM(CSVデータ1!K14,CSVデータ2!K14,CSVデータ3!K14,CSVデータ4!K14)","v":0},{"$f":"SUM(CSVデータ1!L14,CSVデータ2!L14,CSVデータ3!L14,CSVデータ4!L14)","v":0},{"$f":"SUM(CSVデータ1!M14,CSVデータ2!M14,CSVデータ3!M14,CSVデータ4!M14)","v":0},{"$f":"SUM(CSVデータ1!N14,CSVデータ2!N14,CSVデータ3!N14,CSVデータ4!N14)","v":0},{"$f":"SUM(CSVデータ1!O14,CSVデータ2!O14,CSVデータ3!O14,CSVデータ4!O14)","v":0},{"$f":"SUM(CSVデータ1!P14,CSVデータ2!P14,CSVデータ3!P14,CSVデータ4!P14)","v":0},{"$f":"SUM(CSVデータ1!Q14,CSVデータ2!Q14,CSVデータ3!Q14,CSVデータ4!Q14)","v":0},{"$f":"SUM(CSVデータ1!R14,CSVデータ2!R14,CSVデータ3!R14,CSVデータ4!R14)","v":0},{"$f":"SUM(CSVデータ1!S14,CSVデータ2!S14,CSVデータ3!S14,CSVデータ4!S14)","v":0},{"$f":"SUM(CSVデータ1!T14,CSVデータ2!T14,CSVデータ3!T14,CSVデータ4!T14)","v":0},{"$f":"SUM(CSVデータ1!U14,CSVデータ2!U14,CSVデータ3!U14,CSVデータ4!U14)","v":0},{"$f":"SUM(CSVデータ1!V14,CSVデータ2!V14,CSVデータ3!V14,CSVデータ4!V14)","v":0},{"$f":"SUM(CSVデータ1!W14,CSVデータ2!W14,CSVデータ3!W14,CSVデータ4!W14)","v":0},{"$f":"SUM(CSVデータ1!X14,CSVデータ2!X14,CSVデータ3!X14,CSVデータ4!X14)","v":0},{"$f":"SUM(CSVデータ1!Y14,CSVデータ2!Y14,CSVデータ3!Y14,CSVデータ4!Y14)","v":0},{"$f":"SUM(CSVデータ1!Z14,CSVデータ2!Z14,CSVデータ3!Z14,CSVデータ4!Z14)","v":0},{"$f":"SUM(CSVデータ1!AA14,CSVデータ2!AA14,CSVデータ3!AA14,CSVデータ4!AA14)","v":0},{"$f":"SUM(CSVデータ1!AB14,CSVデータ2!AB14,CSVデータ3!AB14,CSVデータ4!AB14)","v":0},{"$f":"SUM(CSVデータ1!AC14,CSVデータ2!AC14,CSVデータ3!AC14,CSVデータ4!AC14)","v":0},{"$f":"SUM(CSVデータ1!AD14,CSVデータ2!AD14,CSVデータ3!AD14,CSVデータ4!AD14)","v":0},{"$f":"SUM(CSVデータ1!AE14,CSVデータ2!AE14,CSVデータ3!AE14,CSVデータ4!AE14)","v":0},{"$f":"SUM(CSVデータ1!AF14,CSVデータ2!AF14,CSVデータ3!AF14,CSVデータ4!AF14)","v":0},{"$f":"SUM(CSVデータ1!AG14,CSVデータ2!AG14,CSVデータ3!AG14,CSVデータ4!AG14)","v":0}]
[{"$f":"CSVデータ1!A15","v":"明細部"},{"$f":"CSVデータ1!B15","v":"国"},{"$f":"CSVデータ1!C15","v":76},{"$f":"CSVデータ1!D15","v":"男"},{"$f":"SUM(CSVデータ1!E15,CSVデータ2!E15,CSVデータ3!E15,CSVデータ4!E15)","v":0},{"$f":"SUM(CSVデータ1!F15,CSVデータ2!F15,CSVデータ3!F15,CSVデータ4!F15)","v":0},{"$f":"SUM(CSVデータ1!G15,CSVデータ2!G15,CSVデータ3!G15,CSVデータ4!G15)","v":0},{"$f":"SUM(CSVデータ1!H15,CSVデータ2!H15,CSVデータ3!H15,CSVデータ4!H15)","v":0},{"$f":"SUM(CSVデータ1!I15,CSVデータ2!I15,CSVデータ3!I15,CSVデータ4!I15)","v":0},{"$f":"SUM(CSVデータ1!J15,CSVデータ2!J15,CSVデータ3!J15,CSVデータ4!J15)","v":0},{"$f":"SUM(CSVデータ1!K15,CSVデータ2!K15,CSVデータ3!K15,CSVデータ4!K15)","v":0},{"$f":"SUM(CSVデータ1!L15,CSVデータ2!L15,CSVデータ3!L15,CSVデータ4!L15)","v":0},{"$f":"SUM(CSVデータ1!M15,CSVデータ2!M15,CSVデータ3!M15,CSVデータ4!M15)","v":0},{"$f":"SUM(CSVデータ1!N15,CSVデータ2!N15,CSVデータ3!N15,CSVデータ4!N15)","v":0},{"$f":"SUM(CSVデータ1!O15,CSVデータ2!O15,CSVデータ3!O15,CSVデータ4!O15)","v":0},{"$f":"SUM(CSVデータ1!P15,CSVデータ2!P15,CSVデータ3!P15,CSVデータ4!P15)","v":0},{"$f":"SUM(CSVデータ1!Q15,CSVデータ2!Q15,CSVデータ3!Q15,CSVデータ4!Q15)","v":0},{"$f":"SUM(CSVデータ1!R15,CSVデータ2!R15,CSVデータ3!R15,CSVデータ4!R15)","v":0},{"$f":"SUM(CSVデータ1!S15,CSVデータ2!S15,CSVデータ3!S15,CSVデータ4!S15)","v":0},{"$f":"SUM(CSVデータ1!T15,CSVデータ2!T15,CSVデータ3!T15,CSVデータ4!T15)","v":0},{"$f":"SUM(CSVデータ1!U15,CSVデータ2!U15,CSVデータ3!U15,CSVデータ4!U15)","v":0},{"$f":"SUM(CSVデータ1!V15,CSVデータ2!V15,CSVデータ3!V15,CSVデータ4!V15)","v":0},{"$f":"SUM(CSVデータ1!W15,CSVデータ2!W15,CSVデータ3!W15,CSVデータ4!W15)","v":0},{"$f":"SUM(CSVデータ1!X15,CSVデータ2!X15,CSVデータ3!X15,CSVデータ4!X15)","v":0},{"$f":"SUM(CSVデータ1!Y15,CSVデータ2!Y15,CSVデータ3!Y15,CSVデータ4!Y15)","v":0},{"$f":"SUM(CSVデータ1!Z15,CSVデータ2!Z15,CSVデータ3!Z15,CSVデータ4!Z15)","v":0},{"$f":"SUM(CSVデータ1!AA15,CSVデータ2!AA15,CSVデータ3!AA15,CSVデータ4!AA15)","v":0},{"$f":"SUM(CSVデータ1!AB15,CSVデータ2!AB15,CSVデータ3!AB15,CSVデータ4!AB15)","v":0},{"$f":"SUM(CSVデータ1!AC15,CSVデータ2!AC15,CSVデータ3!AC15,CSVデータ4!AC15)","v":0},{"$f":"SUM(CSVデータ1!AD15,CSVデータ2!AD15,CSVデータ3!AD15,CSVデータ4!AD15)","v":0},{"$f":"SUM(CSVデータ1!AE15,CSVデータ2!AE15,CSVデータ3!AE15,CSVデータ4!AE15)","v":0},{"$f":"SUM(CSVデータ1!AF15,CSVデータ2!AF15,CSVデータ3!AF15,CSVデータ4!AF15)","v":0},{"$f":"SUM(CSVデータ1!AG15,CSVデータ2!AG15,CSVデータ3!AG15,CSVデータ4!AG15)","v":0}]
[{"$f":"CSVデータ1!A16","v":"明細部"},{"$f":"CSVデータ1!B16","v":"国"},{"$f":"CSVデータ1!C16","v":77},{"$f":"CSVデータ1!D16","v":"男"},{"$f":"SUM(CSVデータ1!E16,CSVデータ2!E16,CSVデータ3!E16,CSVデータ4!E16)","v":0},{"$f":"SUM(CSVデータ1!F16,CSVデータ2!F16,CSVデータ3!F16,CSVデータ4!F16)","v":0},{"$f":"SUM(CSVデータ1!G16,CSVデータ2!G16,CSVデータ3!G16,CSVデータ4!G16)","v":0},{"$f":"SUM(CSVデータ1!H16,CSVデータ2!H16,CSVデータ3!H16,CSVデータ4!H16)","v":0},{"$f":"SUM(CSVデータ1!I16,CSVデータ2!I16,CSVデータ3!I16,CSVデータ4!I16)","v":0},{"$f":"SUM(CSVデータ1!J16,CSVデータ2!J16,CSVデータ3!J16,CSVデータ4!J16)","v":0},{"$f":"SUM(CSVデータ1!K16,CSVデータ2!K16,CSVデータ3!K16,CSVデータ4!K16)","v":0},{"$f":"SUM(CSVデータ1!L16,CSVデータ2!L16,CSVデータ3!L16,CSVデータ4!L16)","v":0},{"$f":"SUM(CSVデータ1!M16,CSVデータ2!M16,CSVデータ3!M16,CSVデータ4!M16)","v":0},{"$f":"SUM(CSVデータ1!N16,CSVデータ2!N16,CSVデータ3!N16,CSVデータ4!N16)","v":0},{"$f":"SUM(CSVデータ1!O16,CSVデータ2!O16,CSVデータ3!O16,CSVデータ4!O16)","v":0},{"$f":"SUM(CSVデータ1!P16,CSVデータ2!P16,CSVデータ3!P16,CSVデータ4!P16)","v":0},{"$f":"SUM(CSVデータ1!Q16,CSVデータ2!Q16,CSVデータ3!Q16,CSVデータ4!Q16)","v":0},{"$f":"SUM(CSVデータ1!R16,CSVデータ2!R16,CSVデータ3!R16,CSVデータ4!R16)","v":0},{"$f":"SUM(CSVデータ1!S16,CSVデータ2!S16,CSVデータ3!S16,CSVデータ4!S16)","v":0},{"$f":"SUM(CSVデータ1!T16,CSVデータ2!T16,CSVデータ3!T16,CSVデータ4!T16)","v":0},{"$f":"SUM(CSVデータ1!U16,CSVデータ2!U16,CSVデータ3!U16,CSVデータ4!U16)","v":0},{"$f":"SUM(CSVデータ1!V16,CSVデータ2!V16,CSVデータ3!V16,CSVデータ4!V16)","v":0},{"$f":"SUM(CSVデータ1!W16,CSVデータ2!W16,CSVデータ3!W16,CSVデータ4!W16)","v":0},{"$f":"SUM(CSVデータ1!X16,CSVデータ2!X16,CSVデータ3!X16,CSVデータ4!X16)","v":0},{"$f":"SUM(CSVデータ1!Y16,CSVデータ2!Y16,CSVデータ3!Y16,CSVデータ4!Y16)","v":0},{"$f":"SUM(CSVデータ1!Z16,CSVデータ2!Z16,CSVデータ3!Z16,CSVデータ4!Z16)","v":0},{"$f":"SUM(CSVデータ1!AA16,CSVデータ2!AA16,CSVデータ3!AA16,CSVデータ4!AA16)","v":0},{"$f":"SUM(CSVデータ1!AB16,CSVデータ2!AB16,CSVデータ3!AB16,CSVデータ4!AB16)","v":0},{"$f":"SUM(CSVデータ1!AC16,CSVデータ2!AC16,CSVデータ3!AC16,CSVデータ4!AC16)","v":0},{"$f":"SUM(CSVデータ1!AD16,CSVデータ2!AD16,CSVデータ3!AD16,CSVデータ4!AD16)","v":0},{"$f":"SUM(CSVデータ1!AE16,CSVデータ2!AE16,CSVデータ3!AE16,CSVデータ4!AE16)","v":0},{"$f":"SUM(CSVデータ1!AF16,CSVデータ2!AF16,CSVデータ3!AF16,CSVデータ4!AF16)","v":0},{"$f":"SUM(CSVデータ1!AG16,CSVデータ2!AG16,CSVデータ3!AG16,CSVデータ4!AG16)","v":0}]
[{"$f":"CSVデータ1!A17","v":"明細部"},{"$f":"CSVデータ1!B17","v":"国"},{"$f":"CSVデータ1!C17","v":78},{"$f":"CSVデータ1!D17","v":"男"},{"$f":"SUM(CSVデータ1!E17,CSVデータ2!E17,CSVデータ3!E17,CSVデータ4!E17)","v":0},{"$f":"SUM(CSVデータ1!F17,CSVデータ2!F17,CSVデータ3!F17,CSVデータ4!F17)","v":0},{"$f":"SUM(CSVデータ1!G17,CSVデータ2!G17,CSVデータ3!G17,CSVデータ4!G17)","v":0},{"$f":"SUM(CSVデータ1!H17,CSVデータ2!H17,CSVデータ3!H17,CSVデータ4!H17)","v":0},{"$f":"SUM(CSVデータ1!I17,CSVデータ2!I17,CSVデータ3!I17,CSVデータ4!I17)","v":0},{"$f":"SUM(CSVデータ1!J17,CSVデータ2!J17,CSVデータ3!J17,CSVデータ4!J17)","v":0},{"$f":"SUM(CSVデータ1!K17,CSVデータ2!K17,CSVデータ3!K17,CSVデータ4!K17)","v":0},{"$f":"SUM(CSVデータ1!L17,CSVデータ2!L17,CSVデータ3!L17,CSVデータ4!L17)","v":0},{"$f":"SUM(CSVデータ1!M17,CSVデータ2!M17,CSVデータ3!M17,CSVデータ4!M17)","v":0},{"$f":"SUM(CSVデータ1!N17,CSVデータ2!N17,CSVデータ3!N17,CSVデータ4!N17)","v":0},{"$f":"SUM(CSVデータ1!O17,CSVデータ2!O17,CSVデータ3!O17,CSVデータ4!O17)","v":0},{"$f":"SUM(CSVデータ1!P17,CSVデータ2!P17,CSVデータ3!P17,CSVデータ4!P17)","v":0},{"$f":"SUM(CSVデータ1!Q17,CSVデータ2!Q17,CSVデータ3!Q17,CSVデータ4!Q17)","v":0},{"$f":"SUM(CSVデータ1!R17,CSVデータ2!R17,CSVデータ3!R17,CSVデータ4!R17)","v":0},{"$f":"SUM(CSVデータ1!S17,CSVデータ2!S17,CSVデータ3!S17,CSVデータ4!S17)","v":0},{"$f":"SUM(CSVデータ1!T17,CSVデータ2!T17,CSVデータ3!T17,CSVデータ4!T17)","v":0},{"$f":"SUM(CSVデータ1!U17,CSVデータ2!U17,CSVデータ3!U17,CSVデータ4!U17)","v":0},{"$f":"SUM(CSVデータ1!V17,CSVデータ2!V17,CSVデータ3!V17,CSVデータ4!V17)","v":0},{"$f":"SUM(CSVデータ1!W17,CSVデータ2!W17,CSVデータ3!W17,CSVデータ4!W17)","v":0},{"$f":"SUM(CSVデータ1!X17,CSVデータ2!X17,CSVデータ3!X17,CSVデータ4!X17)","v":0},{"$f":"SUM(CSVデータ1!Y17,CSVデータ2!Y17,CSVデータ3!Y17,CSVデータ4!Y17)","v":0},{"$f":"SUM(CSVデータ1!Z17,CSVデータ2!Z17,CSVデータ3!Z17,CSVデータ4!Z17)","v":0},{"$f":"SUM(CSVデータ1!AA17,CSVデータ2!AA17,CSVデータ3!AA17,CSVデータ4!AA17)","v":0},{"$f":"SUM(CSVデータ1!AB17,CSVデータ2!AB17,CSVデータ3!AB17,CSVデータ4!AB17)","v":0},{"$f":"SUM(CSVデータ1!AC17,CSVデータ2!AC17,CSVデータ3!AC17,CSVデータ4!AC17)","v":0},{"$f":"SUM(CSVデータ1!AD17,CSVデータ2!AD17,CSVデータ3!AD17,CSVデータ4!AD17)","v":0},{"$f":"SUM(CSVデータ1!AE17,CSVデータ2!AE17,CSVデータ3!AE17,CSVデータ4!AE17)","v":0},{"$f":"SUM(CSVデータ1!AF17,CSVデータ2!AF17,CSVデータ3!AF17,CSVデータ4!AF17)","v":0},{"$f":"SUM(CSVデータ1!AG17,CSVデータ2!AG17,CSVデータ3!AG17,CSVデータ4!AG17)","v":0}]
[{"$f":"CSVデータ1!A18","v":"明細部"},{"$f":"CSVデータ1!B18","v":"国"},{"$f":"CSVデータ1!C18","v":79},{"$f":"CSVデータ1!D18","v":"男"},{"$f":"SUM(CSVデータ1!E18,CSVデータ2!E18,CSVデータ3!E18,CSVデータ4!E18)","v":0},{"$f":"SUM(CSVデータ1!F18,CSVデータ2!F18,CSVデータ3!F18,CSVデータ4!F18)","v":0},{"$f":"SUM(CSVデータ1!G18,CSVデータ2!G18,CSVデータ3!G18,CSVデータ4!G18)","v":0},{"$f":"SUM(CSVデータ1!H18,CSVデータ2!H18,CSVデータ3!H18,CSVデータ4!H18)","v":0},{"$f":"SUM(CSVデータ1!I18,CSVデータ2!I18,CSVデータ3!I18,CSVデータ4!I18)","v":0},{"$f":"SUM(CSVデータ1!J18,CSVデータ2!J18,CSVデータ3!J18,CSVデータ4!J18)","v":0},{"$f":"SUM(CSVデータ1!K18,CSVデータ2!K18,CSVデータ3!K18,CSVデータ4!K18)","v":0},{"$f":"SUM(CSVデータ1!L18,CSVデータ2!L18,CSVデータ3!L18,CSVデータ4!L18)","v":0},{"$f":"SUM(CSVデータ1!M18,CSVデータ2!M18,CSVデータ3!M18,CSVデータ4!M18)","v":0},{"$f":"SUM(CSVデータ1!N18,CSVデータ2!N18,CSVデータ3!N18,CSVデータ4!N18)","v":0},{"$f":"SUM(CSVデータ1!O18,CSVデータ2!O18,CSVデータ3!O18,CSVデータ4!O18)","v":0},{"$f":"SUM(CSVデータ1!P18,CSVデータ2!P18,CSVデータ3!P18,CSVデータ4!P18)","v":0},{"$f":"SUM(CSVデータ1!Q18,CSVデータ2!Q18,CSVデータ3!Q18,CSVデータ4!Q18)","v":0},{"$f":"SUM(CSVデータ1!R18,CSVデータ2!R18,CSVデータ3!R18,CSVデータ4!R18)","v":0},{"$f":"SUM(CSVデータ1!S18,CSVデータ2!S18,CSVデータ3!S18,CSVデータ4!S18)","v":0},{"$f":"SUM(CSVデータ1!T18,CSVデータ2!T18,CSVデータ3!T18,CSVデータ4!T18)","v":0},{"$f":"SUM(CSVデータ1!U18,CSVデータ2!U18,CSVデータ3!U18,CSVデータ4!U18)","v":0},{"$f":"SUM(CSVデータ1!V18,CSVデータ2!V18,CSVデータ3!V18,CSVデータ4!V18)","v":0},{"$f":"SUM(CSVデータ1!W18,CSVデータ2!W18,CSVデータ3!W18,CSVデータ4!W18)","v":0},{"$f":"SUM(CSVデータ1!X18,CSVデータ2!X18,CSVデータ3!X18,CSVデータ4!X18)","v":0},{"$f":"SUM(CSVデータ1!Y18,CSVデータ2!Y18,CSVデータ3!Y18,CSVデータ4!Y18)","v":0},{"$f":"SUM(CSVデータ1!Z18,CSVデータ2!Z18,CSVデータ3!Z18,CSVデータ4!Z18)","v":0},{"$f":"SUM(CSVデータ1!AA18,CSVデータ2!AA18,CSVデータ3!AA18,CSVデータ4!AA18)","v":0},{"$f":"SUM(CSVデータ1!AB18,CSVデータ2!AB18,CSVデータ3!AB18,CSVデータ4!AB18)","v":0},{"$f":"SUM(CSVデータ1!AC18,CSVデータ2!AC18,CSVデータ3!AC18,CSVデータ4!AC18)","v":0},{"$f":"SUM(CSVデータ1!AD18,CSVデータ2!AD18,CSVデータ3!AD18,CSVデータ4!AD18)","v":0},{"$f":"SUM(CSVデータ1!AE18,CSVデータ2!AE18,CSVデータ3!AE18,CSVデータ4!AE18)","v":0},{"$f":"SUM(CSVデータ1!AF18,CSVデータ2!AF18,CSVデータ3!AF18,CSVデータ4!AF18)","v":0},{"$f":"SUM(CSVデータ1!AG18,CSVデータ2!AG18,CSVデータ3!AG18,CSVデータ4!AG18)","v":0}]
[{"$f":"CSVデータ1!A19","v":"明細部"},{"$f":"CSVデータ1!B19","v":"国"},{"$f":"CSVデータ1!C19","v":80},{"$f":"CSVデータ1!D19","v":"男"},{"$f":"SUM(CSVデータ1!E19,CSVデータ2!E19,CSVデータ3!E19,CSVデータ4!E19)","v":0},{"$f":"SUM(CSVデータ1!F19,CSVデータ2!F19,CSVデータ3!F19,CSVデータ4!F19)","v":0},{"$f":"SUM(CSVデータ1!G19,CSVデータ2!G19,CSVデータ3!G19,CSVデータ4!G19)","v":0},{"$f":"SUM(CSVデータ1!H19,CSVデータ2!H19,CSVデータ3!H19,CSVデータ4!H19)","v":0},{"$f":"SUM(CSVデータ1!I19,CSVデータ2!I19,CSVデータ3!I19,CSVデータ4!I19)","v":0},{"$f":"SUM(CSVデータ1!J19,CSVデータ2!J19,CSVデータ3!J19,CSVデータ4!J19)","v":0},{"$f":"SUM(CSVデータ1!K19,CSVデータ2!K19,CSVデータ3!K19,CSVデータ4!K19)","v":0},{"$f":"SUM(CSVデータ1!L19,CSVデータ2!L19,CSVデータ3!L19,CSVデータ4!L19)","v":0},{"$f":"SUM(CSVデータ1!M19,CSVデータ2!M19,CSVデータ3!M19,CSVデータ4!M19)","v":0},{"$f":"SUM(CSVデータ1!N19,CSVデータ2!N19,CSVデータ3!N19,CSVデータ4!N19)","v":0},{"$f":"SUM(CSVデータ1!O19,CSVデータ2!O19,CSVデータ3!O19,CSVデータ4!O19)","v":0},{"$f":"SUM(CSVデータ1!P19,CSVデータ2!P19,CSVデータ3!P19,CSVデータ4!P19)","v":0},{"$f":"SUM(CSVデータ1!Q19,CSVデータ2!Q19,CSVデータ3!Q19,CSVデータ4!Q19)","v":0},{"$f":"SUM(CSVデータ1!R19,CSVデータ2!R19,CSVデータ3!R19,CSVデータ4!R19)","v":0},{"$f":"SUM(CSVデータ1!S19,CSVデータ2!S19,CSVデータ3!S19,CSVデータ4!S19)","v":0},{"$f":"SUM(CSVデータ1!T19,CSVデータ2!T19,CSVデータ3!T19,CSVデータ4!T19)","v":0},{"$f":"SUM(CSVデータ1!U19,CSVデータ2!U19,CSVデータ3!U19,CSVデータ4!U19)","v":0},{"$f":"SUM(CSVデータ1!V19,CSVデータ2!V19,CSVデータ3!V19,CSVデータ4!V19)","v":0},{"$f":"SUM(CSVデータ1!W19,CSVデータ2!W19,CSVデータ3!W19,CSVデータ4!W19)","v":0},{"$f":"SUM(CSVデータ1!X19,CSVデータ2!X19,CSVデータ3!X19,CSVデータ4!X19)","v":0},{"$f":"SUM(CSVデータ1!Y19,CSVデータ2!Y19,CSVデータ3!Y19,CSVデータ4!Y19)","v":0},{"$f":"SUM(CSVデータ1!Z19,CSVデータ2!Z19,CSVデータ3!Z19,CSVデータ4!Z19)","v":0},{"$f":"SUM(CSVデータ1!AA19,CSVデータ2!AA19,CSVデータ3!AA19,CSVデータ4!AA19)","v":0},{"$f":"SUM(CSVデータ1!AB19,CSVデータ2!AB19,CSVデータ3!AB19,CSVデータ4!AB19)","v":0},{"$f":"SUM(CSVデータ1!AC19,CSVデータ2!AC19,CSVデータ3!AC19,CSVデータ4!AC19)","v":0},{"$f":"SUM(CSVデータ1!AD19,CSVデータ2!AD19,CSVデータ3!AD19,CSVデータ4!AD19)","v":0},{"$f":"SUM(CSVデータ1!AE19,CSVデータ2!AE19,CSVデータ3!AE19,CSVデータ4!AE19)","v":0},{"$f":"SUM(CSVデータ1!AF19,CSVデータ2!AF19,CSVデータ3!AF19,CSVデータ4!AF19)","v":0},{"$f":"SUM(CSVデータ1!AG19,CSVデータ2!AG19,CSVデータ3!AG19,CSVデータ4!AG19)","v":0}]
[{"$f":"CSVデータ1!A20","v":"明細部"},{"$f":"CSVデータ1!B20","v":"国"},{"$f":"CSVデータ1!C20","v":81},{"$f":"CSVデータ1!D20","v":"男"},{"$f":"SUM(CSVデータ1!E20,CSVデータ2!E20,CSVデータ3!E20,CSVデータ4!E20)","v":0},{"$f":"SUM(CSVデータ1!F20,CSVデータ2!F20,CSVデータ3!F20,CSVデータ4!F20)","v":0},{"$f":"SUM(CSVデータ1!G20,CSVデータ2!G20,CSVデータ3!G20,CSVデータ4!G20)","v":0},{"$f":"SUM(CSVデータ1!H20,CSVデータ2!H20,CSVデータ3!H20,CSVデータ4!H20)","v":0},{"$f":"SUM(CSVデータ1!I20,CSVデータ2!I20,CSVデータ3!I20,CSVデータ4!I20)","v":0},{"$f":"SUM(CSVデータ1!J20,CSVデータ2!J20,CSVデータ3!J20,CSVデータ4!J20)","v":0},{"$f":"SUM(CSVデータ1!K20,CSVデータ2!K20,CSVデータ3!K20,CSVデータ4!K20)","v":0},{"$f":"SUM(CSVデータ1!L20,CSVデータ2!L20,CSVデータ3!L20,CSVデータ4!L20)","v":0},{"$f":"SUM(CSVデータ1!M20,CSVデータ2!M20,CSVデータ3!M20,CSVデータ4!M20)","v":0},{"$f":"SUM(CSVデータ1!N20,CSVデータ2!N20,CSVデータ3!N20,CSVデータ4!N20)","v":0},{"$f":"SUM(CSVデータ1!O20,CSVデータ2!O20,CSVデータ3!O20,CSVデータ4!O20)","v":0},{"$f":"SUM(CSVデータ1!P20,CSVデータ2!P20,CSVデータ3!P20,CSVデータ4!P20)","v":0},{"$f":"SUM(CSVデータ1!Q20,CSVデータ2!Q20,CSVデータ3!Q20,CSVデータ4!Q20)","v":0},{"$f":"SUM(CSVデータ1!R20,CSVデータ2!R20,CSVデータ3!R20,CSVデータ4!R20)","v":0},{"$f":"SUM(CSVデータ1!S20,CSVデータ2!S20,CSVデータ3!S20,CSVデータ4!S20)","v":0},{"$f":"SUM(CSVデータ1!T20,CSVデータ2!T20,CSVデータ3!T20,CSVデータ4!T20)","v":0},{"$f":"SUM(CSVデータ1!U20,CSVデータ2!U20,CSVデータ3!U20,CSVデータ4!U20)","v":0},{"$f":"SUM(CSVデータ1!V20,CSVデータ2!V20,CSVデータ3!V20,CSVデータ4!V20)","v":0},{"$f":"SUM(CSVデータ1!W20,CSVデータ2!W20,CSVデータ3!W20,CSVデータ4!W20)","v":0},{"$f":"SUM(CSVデータ1!X20,CSVデータ2!X20,CSVデータ3!X20,CSVデータ4!X20)","v":0},{"$f":"SUM(CSVデータ1!Y20,CSVデータ2!Y20,CSVデータ3!Y20,CSVデータ4!Y20)","v":0},{"$f":"SUM(CSVデータ1!Z20,CSVデータ2!Z20,CSVデータ3!Z20,CSVデータ4!Z20)","v":0},{"$f":"SUM(CSVデータ1!AA20,CSVデータ2!AA20,CSVデータ3!AA20,CSVデータ4!AA20)","v":0},{"$f":"SUM(CSVデータ1!AB20,CSVデータ2!AB20,CSVデータ3!AB20,CSVデータ4!AB20)","v":0},{"$f":"SUM(CSVデータ1!AC20,CSVデータ2!AC20,CSVデータ3!AC20,CSVデータ4!AC20)","v":0},{"$f":"SUM(CSVデータ1!AD20,CSVデータ2!AD20,CSVデータ3!AD20,CSVデータ4!AD20)","v":0},{"$f":"SUM(CSVデータ1!AE20,CSVデータ2!AE20,CSVデータ3!AE20,CSVデータ4!AE20)","v":0},{"$f":"SUM(CSVデータ1!AF20,CSVデータ2!AF20,CSVデータ3!AF20,CSVデータ4!AF20)","v":0},{"$f":"SUM(CSVデータ1!AG20,CSVデータ2!AG20,CSVデータ3!AG20,CSVデータ4!AG20)","v":0}]
[{"$f":"CSVデータ1!A21","v":"明細部"},{"$f":"CSVデータ1!B21","v":"国"},{"$f":"CSVデータ1!C21","v":82},{"$f":"CSVデータ1!D21","v":"男"},{"$f":"SUM(CSVデータ1!E21,CSVデータ2!E21,CSVデータ3!E21,CSVデータ4!E21)","v":0},{"$f":"SUM(CSVデータ1!F21,CSVデータ2!F21,CSVデータ3!F21,CSVデータ4!F21)","v":0},{"$f":"SUM(CSVデータ1!G21,CSVデータ2!G21,CSVデータ3!G21,CSVデータ4!G21)","v":0},{"$f":"SUM(CSVデータ1!H21,CSVデータ2!H21,CSVデータ3!H21,CSVデータ4!H21)","v":0},{"$f":"SUM(CSVデータ1!I21,CSVデータ2!I21,CSVデータ3!I21,CSVデータ4!I21)","v":0},{"$f":"SUM(CSVデータ1!J21,CSVデータ2!J21,CSVデータ3!J21,CSVデータ4!J21)","v":0},{"$f":"SUM(CSVデータ1!K21,CSVデータ2!K21,CSVデータ3!K21,CSVデータ4!K21)","v":0},{"$f":"SUM(CSVデータ1!L21,CSVデータ2!L21,CSVデータ3!L21,CSVデータ4!L21)","v":0},{"$f":"SUM(CSVデータ1!M21,CSVデータ2!M21,CSVデータ3!M21,CSVデータ4!M21)","v":0},{"$f":"SUM(CSVデータ1!N21,CSVデータ2!N21,CSVデータ3!N21,CSVデータ4!N21)","v":0},{"$f":"SUM(CSVデータ1!O21,CSVデータ2!O21,CSVデータ3!O21,CSVデータ4!O21)","v":0},{"$f":"SUM(CSVデータ1!P21,CSVデータ2!P21,CSVデータ3!P21,CSVデータ4!P21)","v":0},{"$f":"SUM(CSVデータ1!Q21,CSVデータ2!Q21,CSVデータ3!Q21,CSVデータ4!Q21)","v":0},{"$f":"SUM(CSVデータ1!R21,CSVデータ2!R21,CSVデータ3!R21,CSVデータ4!R21)","v":0},{"$f":"SUM(CSVデータ1!S21,CSVデータ2!S21,CSVデータ3!S21,CSVデータ4!S21)","v":0},{"$f":"SUM(CSVデータ1!T21,CSVデータ2!T21,CSVデータ3!T21,CSVデータ4!T21)","v":0},{"$f":"SUM(CSVデータ1!U21,CSVデータ2!U21,CSVデータ3!U21,CSVデータ4!U21)","v":0},{"$f":"SUM(CSVデータ1!V21,CSVデータ2!V21,CSVデータ3!V21,CSVデータ4!V21)","v":0},{"$f":"SUM(CSVデータ1!W21,CSVデータ2!W21,CSVデータ3!W21,CSVデータ4!W21)","v":0},{"$f":"SUM(CSVデータ1!X21,CSVデータ2!X21,CSVデータ3!X21,CSVデータ4!X21)","v":0},{"$f":"SUM(CSVデータ1!Y21,CSVデータ2!Y21,CSVデータ3!Y21,CSVデータ4!Y21)","v":0},{"$f":"SUM(CSVデータ1!Z21,CSVデータ2!Z21,CSVデータ3!Z21,CSVデータ4!Z21)","v":0},{"$f":"SUM(CSVデータ1!AA21,CSVデータ2!AA21,CSVデータ3!AA21,CSVデータ4!AA21)","v":0},{"$f":"SUM(CSVデータ1!AB21,CSVデータ2!AB21,CSVデータ3!AB21,CSVデータ4!AB21)","v":0},{"$f":"SUM(CSVデータ1!AC21,CSVデータ2!AC21,CSVデータ3!AC21,CSVデータ4!AC21)","v":0},{"$f":"SUM(CSVデータ1!AD21,CSVデータ2!AD21,CSVデータ3!AD21,CSVデータ4!AD21)","v":0},{"$f":"SUM(CSVデータ1!AE21,CSVデータ2!AE21,CSVデータ3!AE21,CSVデータ4!AE21)","v":0},{"$f":"SUM(CSVデータ1!AF21,CSVデータ2!AF21,CSVデータ3!AF21,CSVデータ4!AF21)","v":0},{"$f":"SUM(CSVデータ1!AG21,CSVデータ2!AG21,CSVデータ3!AG21,CSVデータ4!AG21)","v":0}]
[{"$f":"CSVデータ1!A22","v":"明細部"},{"$f":"CSVデータ1!B22","v":"国"},{"$f":"CSVデータ1!C22","v":83},{"$f":"CSVデータ1!D22","v":"男"},{"$f":"SUM(CSVデータ1!E22,CSVデータ2!E22,CSVデータ3!E22,CSVデータ4!E22)","v":0},{"$f":"SUM(CSVデータ1!F22,CSVデータ2!F22,CSVデータ3!F22,CSVデータ4!F22)","v":0},{"$f":"SUM(CSVデータ1!G22,CSVデータ2!G22,CSVデータ3!G22,CSVデータ4!G22)","v":0},{"$f":"SUM(CSVデータ1!H22,CSVデータ2!H22,CSVデータ3!H22,CSVデータ4!H22)","v":0},{"$f":"SUM(CSVデータ1!I22,CSVデータ2!I22,CSVデータ3!I22,CSVデータ4!I22)","v":0},{"$f":"SUM(CSVデータ1!J22,CSVデータ2!J22,CSVデータ3!J22,CSVデータ4!J22)","v":0},{"$f":"SUM(CSVデータ1!K22,CSVデータ2!K22,CSVデータ3!K22,CSVデータ4!K22)","v":0},{"$f":"SUM(CSVデータ1!L22,CSVデータ2!L22,CSVデータ3!L22,CSVデータ4!L22)","v":0},{"$f":"SUM(CSVデータ1!M22,CSVデータ2!M22,CSVデータ3!M22,CSVデータ4!M22)","v":0},{"$f":"SUM(CSVデータ1!N22,CSVデータ2!N22,CSVデータ3!N22,CSVデータ4!N22)","v":0},{"$f":"SUM(CSVデータ1!O22,CSVデータ2!O22,CSVデータ3!O22,CSVデータ4!O22)","v":0},{"$f":"SUM(CSVデータ1!P22,CSVデータ2!P22,CSVデータ3!P22,CSVデータ4!P22)","v":0},{"$f":"SUM(CSVデータ1!Q22,CSVデータ2!Q22,CSVデータ3!Q22,CSVデータ4!Q22)","v":0},{"$f":"SUM(CSVデータ1!R22,CSVデータ2!R22,CSVデータ3!R22,CSVデータ4!R22)","v":0},{"$f":"SUM(CSVデータ1!S22,CSVデータ2!S22,CSVデータ3!S22,CSVデータ4!S22)","v":0},{"$f":"SUM(CSVデータ1!T22,CSVデータ2!T22,CSVデータ3!T22,CSVデータ4!T22)","v":0},{"$f":"SUM(CSVデータ1!U22,CSVデータ2!U22,CSVデータ3!U22,CSVデータ4!U22)","v":0},{"$f":"SUM(CSVデータ1!V22,CSVデータ2!V22,CSVデータ3!V22,CSVデータ4!V22)","v":0},{"$f":"SUM(CSVデータ1!W22,CSVデータ2!W22,CSVデータ3!W22,CSVデータ4!W22)","v":0},{"$f":"SUM(CSVデータ1!X22,CSVデータ2!X22,CSVデータ3!X22,CSVデータ4!X22)","v":0},{"$f":"SUM(CSVデータ1!Y22,CSVデータ2!Y22,CSVデータ3!Y22,CSVデータ4!Y22)","v":0},{"$f":"SUM(CSVデータ1!Z22,CSVデータ2!Z22,CSVデータ3!Z22,CSVデータ4!Z22)","v":0},{"$f":"SUM(CSVデータ1!AA22,CSVデータ2!AA22,CSVデータ3!AA22,CSVデータ4!AA22)","v":0},{"$f":"SUM(CSVデータ1!AB22,CSVデータ2!AB22,CSVデータ3!AB22,CSVデータ4!AB22)","v":0},{"$f":"SUM(CSVデータ1!AC22,CSVデータ2!AC22,CSVデータ3!AC22,CSVデータ4!AC22)","v":0},{"$f":"SUM(CSVデータ1!AD22,CSVデータ2!AD22,CSVデータ3!AD22,CSVデータ4!AD22)","v":0},{"$f":"SUM(CSVデータ1!AE22,CSVデータ2!AE22,CSVデータ3!AE22,CSVデータ4!AE22)","v":0},{"$f":"SUM(CSVデータ1!AF22,CSVデータ2!AF22,CSVデータ3!AF22,CSVデータ4!AF22)","v":0},{"$f":"SUM(CSVデータ1!AG22,CSVデータ2!AG22,CSVデータ3!AG22,CSVデータ4!AG22)","v":0}]
[{"$f":"CSVデータ1!A23","v":"明細部"},{"$f":"CSVデータ1!B23","v":"国"},{"$f":"CSVデータ1!C23","v":84},{"$f":"CSVデータ1!D23","v":"男"},{"$f":"SUM(CSVデータ1!E23,CSVデータ2!E23,CSVデータ3!E23,CSVデータ4!E23)","v":0},{"$f":"SUM(CSVデータ1!F23,CSVデータ2!F23,CSVデータ3!F23,CSVデータ4!F23)","v":0},{"$f":"SUM(CSVデータ1!G23,CSVデータ2!G23,CSVデータ3!G23,CSVデータ4!G23)","v":0},{"$f":"SUM(CSVデータ1!H23,CSVデータ2!H23,CSVデータ3!H23,CSVデータ4!H23)","v":0},{"$f":"SUM(CSVデータ1!I23,CSVデータ2!I23,CSVデータ3!I23,CSVデータ4!I23)","v":0},{"$f":"SUM(CSVデータ1!J23,CSVデータ2!J23,CSVデータ3!J23,CSVデータ4!J23)","v":0},{"$f":"SUM(CSVデータ1!K23,CSVデータ2!K23,CSVデータ3!K23,CSVデータ4!K23)","v":0},{"$f":"SUM(CSVデータ1!L23,CSVデータ2!L23,CSVデータ3!L23,CSVデータ4!L23)","v":0},{"$f":"SUM(CSVデータ1!M23,CSVデータ2!M23,CSVデータ3!M23,CSVデータ4!M23)","v":0},{"$f":"SUM(CSVデータ1!N23,CSVデータ2!N23,CSVデータ3!N23,CSVデータ4!N23)","v":0},{"$f":"SUM(CSVデータ1!O23,CSVデータ2!O23,CSVデータ3!O23,CSVデータ4!O23)","v":0},{"$f":"SUM(CSVデータ1!P23,CSVデータ2!P23,CSVデータ3!P23,CSVデータ4!P23)","v":0},{"$f":"SUM(CSVデータ1!Q23,CSVデータ2!Q23,CSVデータ3!Q23,CSVデータ4!Q23)","v":0},{"$f":"SUM(CSVデータ1!R23,CSVデータ2!R23,CSVデータ3!R23,CSVデータ4!R23)","v":0},{"$f":"SUM(CSVデータ1!S23,CSVデータ2!S23,CSVデータ3!S23,CSVデータ4!S23)","v":0},{"$f":"SUM(CSVデータ1!T23,CSVデータ2!T23,CSVデータ3!T23,CSVデータ4!T23)","v":0},{"$f":"SUM(CSVデータ1!U23,CSVデータ2!U23,CSVデータ3!U23,CSVデータ4!U23)","v":0},{"$f":"SUM(CSVデータ1!V23,CSVデータ2!V23,CSVデータ3!V23,CSVデータ4!V23)","v":0},{"$f":"SUM(CSVデータ1!W23,CSVデータ2!W23,CSVデータ3!W23,CSVデータ4!W23)","v":0},{"$f":"SUM(CSVデータ1!X23,CSVデータ2!X23,CSVデータ3!X23,CSVデータ4!X23)","v":0},{"$f":"SUM(CSVデータ1!Y23,CSVデータ2!Y23,CSVデータ3!Y23,CSVデータ4!Y23)","v":0},{"$f":"SUM(CSVデータ1!Z23,CSVデータ2!Z23,CSVデータ3!Z23,CSVデータ4!Z23)","v":0},{"$f":"SUM(CSVデータ1!AA23,CSVデータ2!AA23,CSVデータ3!AA23,CSVデータ4!AA23)","v":0},{"$f":"SUM(CSVデータ1!AB23,CSVデータ2!AB23,CSVデータ3!AB23,CSVデータ4!AB23)","v":0},{"$f":"SUM(CSVデータ1!AC23,CSVデータ2!AC23,CSVデータ3!AC23,CSVデータ4!AC23)","v":0},{"$f":"SUM(CSVデータ1!AD23,CSVデータ2!AD23,CSVデータ3!AD23,CSVデータ4!AD23)","v":0},{"$f":"SUM(CSVデータ1!AE23,CSVデータ2!AE23,CSVデータ3!AE23,CSVデータ4!AE23)","v":0},{"$f":"SUM(CSVデータ1!AF23,CSVデータ2!AF23,CSVデータ3!AF23,CSVデータ4!AF23)","v":0},{"$f":"SUM(CSVデータ1!AG23,CSVデータ2!AG23,CSVデータ3!AG23,CSVデータ4!AG23)","v":0}]
[{"$f":"CSVデータ1!A24","v":"明細部"},{"$f":"CSVデータ1!B24","v":"国"},{"$f":"CSVデータ1!C24","v":85},{"$f":"CSVデータ1!D24","v":"男"},{"$f":"SUM(CSVデータ1!E24,CSVデータ2!E24,CSVデータ3!E24,CSVデータ4!E24)","v":0},{"$f":"SUM(CSVデータ1!F24,CSVデータ2!F24,CSVデータ3!F24,CSVデータ4!F24)","v":0},{"$f":"SUM(CSVデータ1!G24,CSVデータ2!G24,CSVデータ3!G24,CSVデータ4!G24)","v":0},{"$f":"SUM(CSVデータ1!H24,CSVデータ2!H24,CSVデータ3!H24,CSVデータ4!H24)","v":0},{"$f":"SUM(CSVデータ1!I24,CSVデータ2!I24,CSVデータ3!I24,CSVデータ4!I24)","v":0},{"$f":"SUM(CSVデータ1!J24,CSVデータ2!J24,CSVデータ3!J24,CSVデータ4!J24)","v":0},{"$f":"SUM(CSVデータ1!K24,CSVデータ2!K24,CSVデータ3!K24,CSVデータ4!K24)","v":0},{"$f":"SUM(CSVデータ1!L24,CSVデータ2!L24,CSVデータ3!L24,CSVデータ4!L24)","v":0},{"$f":"SUM(CSVデータ1!M24,CSVデータ2!M24,CSVデータ3!M24,CSVデータ4!M24)","v":0},{"$f":"SUM(CSVデータ1!N24,CSVデータ2!N24,CSVデータ3!N24,CSVデータ4!N24)","v":0},{"$f":"SUM(CSVデータ1!O24,CSVデータ2!O24,CSVデータ3!O24,CSVデータ4!O24)","v":0},{"$f":"SUM(CSVデータ1!P24,CSVデータ2!P24,CSVデータ3!P24,CSVデータ4!P24)","v":0},{"$f":"SUM(CSVデータ1!Q24,CSVデータ2!Q24,CSVデータ3!Q24,CSVデータ4!Q24)","v":0},{"$f":"SUM(CSVデータ1!R24,CSVデータ2!R24,CSVデータ3!R24,CSVデータ4!R24)","v":0},{"$f":"SUM(CSVデータ1!S24,CSVデータ2!S24,CSVデータ3!S24,CSVデータ4!S24)","v":0},{"$f":"SUM(CSVデータ1!T24,CSVデータ2!T24,CSVデータ3!T24,CSVデータ4!T24)","v":0},{"$f":"SUM(CSVデータ1!U24,CSVデータ2!U24,CSVデータ3!U24,CSVデータ4!U24)","v":0},{"$f":"SUM(CSVデータ1!V24,CSVデータ2!V24,CSVデータ3!V24,CSVデータ4!V24)","v":0},{"$f":"SUM(CSVデータ1!W24,CSVデータ2!W24,CSVデータ3!W24,CSVデータ4!W24)","v":0},{"$f":"SUM(CSVデータ1!X24,CSVデータ2!X24,CSVデータ3!X24,CSVデータ4!X24)","v":0},{"$f":"SUM(CSVデータ1!Y24,CSVデータ2!Y24,CSVデータ3!Y24,CSVデータ4!Y24)","v":0},{"$f":"SUM(CSVデータ1!Z24,CSVデータ2!Z24,CSVデータ3!Z24,CSVデータ4!Z24)","v":0},{"$f":"SUM(CSVデータ1!AA24,CSVデータ2!AA24,CSVデータ3!AA24,CSVデータ4!AA24)","v":0},{"$f":"SUM(CSVデータ1!AB24,CSVデータ2!AB24,CSVデータ3!AB24,CSVデータ4!AB24)","v":0},{"$f":"SUM(CSVデータ1!AC24,CSVデータ2!AC24,CSVデータ3!AC24,CSVデータ4!AC24)","v":0},{"$f":"SUM(CSVデータ1!AD24,CSVデータ2!AD24,CSVデータ3!AD24,CSVデータ4!AD24)","v":0},{"$f":"SUM(CSVデータ1!AE24,CSVデータ2!AE24,CSVデータ3!AE24,CSVデータ4!AE24)","v":0},{"$f":"SUM(CSVデータ1!AF24,CSVデータ2!AF24,CSVデータ3!AF24,CSVデータ4!AF24)","v":0},{"$f":"SUM(CSVデータ1!AG24,CSVデータ2!AG24,CSVデータ3!AG24,CSVデータ4!AG24)","v":0}]
[{"$f":"CSVデータ1!A25","v":"明細部"},{"$f":"CSVデータ1!B25","v":"国"},{"$f":"CSVデータ1!C25","v":86},{"$f":"CSVデータ1!D25","v":"男"},{"$f":"SUM(CSVデータ1!E25,CSVデータ2!E25,CSVデータ3!E25,CSVデータ4!E25)","v":0},{"$f":"SUM(CSVデータ1!F25,CSVデータ2!F25,CSVデータ3!F25,CSVデータ4!F25)","v":0},{"$f":"SUM(CSVデータ1!G25,CSVデータ2!G25,CSVデータ3!G25,CSVデータ4!G25)","v":0},{"$f":"SUM(CSVデータ1!H25,CSVデータ2!H25,CSVデータ3!H25,CSVデータ4!H25)","v":0},{"$f":"SUM(CSVデータ1!I25,CSVデータ2!I25,CSVデータ3!I25,CSVデータ4!I25)","v":0},{"$f":"SUM(CSVデータ1!J25,CSVデータ2!J25,CSVデータ3!J25,CSVデータ4!J25)","v":0},{"$f":"SUM(CSVデータ1!K25,CSVデータ2!K25,CSVデータ3!K25,CSVデータ4!K25)","v":0},{"$f":"SUM(CSVデータ1!L25,CSVデータ2!L25,CSVデータ3!L25,CSVデータ4!L25)","v":0},{"$f":"SUM(CSVデータ1!M25,CSVデータ2!M25,CSVデータ3!M25,CSVデータ4!M25)","v":0},{"$f":"SUM(CSVデータ1!N25,CSVデータ2!N25,CSVデータ3!N25,CSVデータ4!N25)","v":0},{"$f":"SUM(CSVデータ1!O25,CSVデータ2!O25,CSVデータ3!O25,CSVデータ4!O25)","v":0},{"$f":"SUM(CSVデータ1!P25,CSVデータ2!P25,CSVデータ3!P25,CSVデータ4!P25)","v":0},{"$f":"SUM(CSVデータ1!Q25,CSVデータ2!Q25,CSVデータ3!Q25,CSVデータ4!Q25)","v":0},{"$f":"SUM(CSVデータ1!R25,CSVデータ2!R25,CSVデータ3!R25,CSVデータ4!R25)","v":0},{"$f":"SUM(CSVデータ1!S25,CSVデータ2!S25,CSVデータ3!S25,CSVデータ4!S25)","v":0},{"$f":"SUM(CSVデータ1!T25,CSVデータ2!T25,CSVデータ3!T25,CSVデータ4!T25)","v":0},{"$f":"SUM(CSVデータ1!U25,CSVデータ2!U25,CSVデータ3!U25,CSVデータ4!U25)","v":0},{"$f":"SUM(CSVデータ1!V25,CSVデータ2!V25,CSVデータ3!V25,CSVデータ4!V25)","v":0},{"$f":"SUM(CSVデータ1!W25,CSVデータ2!W25,CSVデータ3!W25,CSVデータ4!W25)","v":0},{"$f":"SUM(CSVデータ1!X25,CSVデータ2!X25,CSVデータ3!X25,CSVデータ4!X25)","v":0},{"$f":"SUM(CSVデータ1!Y25,CSVデータ2!Y25,CSVデータ3!Y25,CSVデータ4!Y25)","v":0},{"$f":"SUM(CSVデータ1!Z25,CSVデータ2!Z25,CSVデータ3!Z25,CSVデータ4!Z25)","v":0},{"$f":"SUM(CSVデータ1!AA25,CSVデータ2!AA25,CSVデータ3!AA25,CSVデータ4!AA25)","v":0},{"$f":"SUM(CSVデータ1!AB25,CSVデータ2!AB25,CSVデータ3!AB25,CSVデータ4!AB25)","v":0},{"$f":"SUM(CSVデータ1!AC25,CSVデータ2!AC25,CSVデータ3!AC25,CSVデータ4!AC25)","v":0},{"$f":"SUM(CSVデータ1!AD25,CSVデータ2!AD25,CSVデータ3!AD25,CSVデータ4!AD25)","v":0},{"$f":"SUM(CSVデータ1!AE25,CSVデータ2!AE25,CSVデータ3!AE25,CSVデータ4!AE25)","v":0},{"$f":"SUM(CSVデータ1!AF25,CSVデータ2!AF25,CSVデータ3!AF25,CSVデータ4!AF25)","v":0},{"$f":"SUM(CSVデータ1!AG25,CSVデータ2!AG25,CSVデータ3!AG25,CSVデータ4!AG25)","v":0}]
[{"$f":"CSVデータ1!A26","v":"明細部"},{"$f":"CSVデータ1!B26","v":"国"},{"$f":"CSVデータ1!C26","v":87},{"$f":"CSVデータ1!D26","v":"男"},{"$f":"SUM(CSVデータ1!E26,CSVデータ2!E26,CSVデータ3!E26,CSVデータ4!E26)","v":0},{"$f":"SUM(CSVデータ1!F26,CSVデータ2!F26,CSVデータ3!F26,CSVデータ4!F26)","v":0},{"$f":"SUM(CSVデータ1!G26,CSVデータ2!G26,CSVデータ3!G26,CSVデータ4!G26)","v":0},{"$f":"SUM(CSVデータ1!H26,CSVデータ2!H26,CSVデータ3!H26,CSVデータ4!H26)","v":0},{"$f":"SUM(CSVデータ1!I26,CSVデータ2!I26,CSVデータ3!I26,CSVデータ4!I26)","v":0},{"$f":"SUM(CSVデータ1!J26,CSVデータ2!J26,CSVデータ3!J26,CSVデータ4!J26)","v":0},{"$f":"SUM(CSVデータ1!K26,CSVデータ2!K26,CSVデータ3!K26,CSVデータ4!K26)","v":0},{"$f":"SUM(CSVデータ1!L26,CSVデータ2!L26,CSVデータ3!L26,CSVデータ4!L26)","v":0},{"$f":"SUM(CSVデータ1!M26,CSVデータ2!M26,CSVデータ3!M26,CSVデータ4!M26)","v":0},{"$f":"SUM(CSVデータ1!N26,CSVデータ2!N26,CSVデータ3!N26,CSVデータ4!N26)","v":0},{"$f":"SUM(CSVデータ1!O26,CSVデータ2!O26,CSVデータ3!O26,CSVデータ4!O26)","v":0},{"$f":"SUM(CSVデータ1!P26,CSVデータ2!P26,CSVデータ3!P26,CSVデータ4!P26)","v":0},{"$f":"SUM(CSVデータ1!Q26,CSVデータ2!Q26,CSVデータ3!Q26,CSVデータ4!Q26)","v":0},{"$f":"SUM(CSVデータ1!R26,CSVデータ2!R26,CSVデータ3!R26,CSVデータ4!R26)","v":0},{"$f":"SUM(CSVデータ1!S26,CSVデータ2!S26,CSVデータ3!S26,CSVデータ4!S26)","v":0},{"$f":"SUM(CSVデータ1!T26,CSVデータ2!T26,CSVデータ3!T26,CSVデータ4!T26)","v":0},{"$f":"SUM(CSVデータ1!U26,CSVデータ2!U26,CSVデータ3!U26,CSVデータ4!U26)","v":0},{"$f":"SUM(CSVデータ1!V26,CSVデータ2!V26,CSVデータ3!V26,CSVデータ4!V26)","v":0},{"$f":"SUM(CSVデータ1!W26,CSVデータ2!W26,CSVデータ3!W26,CSVデータ4!W26)","v":0},{"$f":"SUM(CSVデータ1!X26,CSVデータ2!X26,CSVデータ3!X26,CSVデータ4!X26)","v":0},{"$f":"SUM(CSVデータ1!Y26,CSVデータ2!Y26,CSVデータ3!Y26,CSVデータ4!Y26)","v":0},{"$f":"SUM(CSVデータ1!Z26,CSVデータ2!Z26,CSVデータ3!Z26,CSVデータ4!Z26)","v":0},{"$f":"SUM(CSVデータ1!AA26,CSVデータ2!AA26,CSVデータ3!AA26,CSVデータ4!AA26)","v":0},{"$f":"SUM(CSVデータ1!AB26,CSVデータ2!AB26,CSVデータ3!AB26,CSVデータ4!AB26)","v":0},{"$f":"SUM(CSVデータ1!AC26,CSVデータ2!AC26,CSVデータ3!AC26,CSVデータ4!AC26)","v":0},{"$f":"SUM(CSVデータ1!AD26,CSVデータ2!AD26,CSVデータ3!AD26,CSVデータ4!AD26)","v":0},{"$f":"SUM(CSVデータ1!AE26,CSVデータ2!AE26,CSVデータ3!AE26,CSVデータ4!AE26)","v":0},{"$f":"SUM(CSVデータ1!AF26,CSVデータ2!AF26,CSVデータ3!AF26,CSVデータ4!AF26)","v":0},{"$f":"SUM(CSVデータ1!AG26,CSVデータ2!AG26,CSVデータ3!AG26,CSVデータ4!AG26)","v":0}]
[{"$f":"CSVデータ1!A27","v":"明細部"},{"$f":"CSVデータ1!B27","v":"国"},{"$f":"CSVデータ1!C27","v":88},{"$f":"CSVデータ1!D27","v":"男"},{"$f":"SUM(CSVデータ1!E27,CSVデータ2!E27,CSVデータ3!E27,CSVデータ4!E27)","v":0},{"$f":"SUM(CSVデータ1!F27,CSVデータ2!F27,CSVデータ3!F27,CSVデータ4!F27)","v":0},{"$f":"SUM(CSVデータ1!G27,CSVデータ2!G27,CSVデータ3!G27,CSVデータ4!G27)","v":0},{"$f":"SUM(CSVデータ1!H27,CSVデータ2!H27,CSVデータ3!H27,CSVデータ4!H27)","v":0},{"$f":"SUM(CSVデータ1!I27,CSVデータ2!I27,CSVデータ3!I27,CSVデータ4!I27)","v":0},{"$f":"SUM(CSVデータ1!J27,CSVデータ2!J27,CSVデータ3!J27,CSVデータ4!J27)","v":0},{"$f":"SUM(CSVデータ1!K27,CSVデータ2!K27,CSVデータ3!K27,CSVデータ4!K27)","v":0},{"$f":"SUM(CSVデータ1!L27,CSVデータ2!L27,CSVデータ3!L27,CSVデータ4!L27)","v":0},{"$f":"SUM(CSVデータ1!M27,CSVデータ2!M27,CSVデータ3!M27,CSVデータ4!M27)","v":0},{"$f":"SUM(CSVデータ1!N27,CSVデータ2!N27,CSVデータ3!N27,CSVデータ4!N27)","v":0},{"$f":"SUM(CSVデータ1!O27,CSVデータ2!O27,CSVデータ3!O27,CSVデータ4!O27)","v":0},{"$f":"SUM(CSVデータ1!P27,CSVデータ2!P27,CSVデータ3!P27,CSVデータ4!P27)","v":0},{"$f":"SUM(CSVデータ1!Q27,CSVデータ2!Q27,CSVデータ3!Q27,CSVデータ4!Q27)","v":0},{"$f":"SUM(CSVデータ1!R27,CSVデータ2!R27,CSVデータ3!R27,CSVデータ4!R27)","v":0},{"$f":"SUM(CSVデータ1!S27,CSVデータ2!S27,CSVデータ3!S27,CSVデータ4!S27)","v":0},{"$f":"SUM(CSVデータ1!T27,CSVデータ2!T27,CSVデータ3!T27,CSVデータ4!T27)","v":0},{"$f":"SUM(CSVデータ1!U27,CSVデータ2!U27,CSVデータ3!U27,CSVデータ4!U27)","v":0},{"$f":"SUM(CSVデータ1!V27,CSVデータ2!V27,CSVデータ3!V27,CSVデータ4!V27)","v":0},{"$f":"SUM(CSVデータ1!W27,CSVデータ2!W27,CSVデータ3!W27,CSVデータ4!W27)","v":0},{"$f":"SUM(CSVデータ1!X27,CSVデータ2!X27,CSVデータ3!X27,CSVデータ4!X27)","v":0},{"$f":"SUM(CSVデータ1!Y27,CSVデータ2!Y27,CSVデータ3!Y27,CSVデータ4!Y27)","v":0},{"$f":"SUM(CSVデータ1!Z27,CSVデータ2!Z27,CSVデータ3!Z27,CSVデータ4!Z27)","v":0},{"$f":"SUM(CSVデータ1!AA27,CSVデータ2!AA27,CSVデータ3!AA27,CSVデータ4!AA27)","v":0},{"$f":"SUM(CSVデータ1!AB27,CSVデータ2!AB27,CSVデータ3!AB27,CSVデータ4!AB27)","v":0},{"$f":"SUM(CSVデータ1!AC27,CSVデータ2!AC27,CSVデータ3!AC27,CSVデータ4!AC27)","v":0},{"$f":"SUM(CSVデータ1!AD27,CSVデータ2!AD27,CSVデータ3!AD27,CSVデータ4!AD27)","v":0},{"$f":"SUM(CSVデータ1!AE27,CSVデータ2!AE27,CSVデータ3!AE27,CSVデータ4!AE27)","v":0},{"$f":"SUM(CSVデータ1!AF27,CSVデータ2!AF27,CSVデータ3!AF27,CSVデータ4!AF27)","v":0},{"$f":"SUM(CSVデータ1!AG27,CSVデータ2!AG27,CSVデータ3!AG27,CSVデータ4!AG27)","v":0}]
[{"$f":"CSVデータ1!A28","v":"明細部"},{"$f":"CSVデータ1!B28","v":"国"},{"$f":"CSVデータ1!C28","v":89},{"$f":"CSVデータ1!D28","v":"男"},{"$f":"SUM(CSVデータ1!E28,CSVデータ2!E28,CSVデータ3!E28,CSVデータ4!E28)","v":0},{"$f":"SUM(CSVデータ1!F28,CSVデータ2!F28,CSVデータ3!F28,CSVデータ4!F28)","v":0},{"$f":"SUM(CSVデータ1!G28,CSVデータ2!G28,CSVデータ3!G28,CSVデータ4!G28)","v":0},{"$f":"SUM(CSVデータ1!H28,CSVデータ2!H28,CSVデータ3!H28,CSVデータ4!H28)","v":0},{"$f":"SUM(CSVデータ1!I28,CSVデータ2!I28,CSVデータ3!I28,CSVデータ4!I28)","v":0},{"$f":"SUM(CSVデータ1!J28,CSVデータ2!J28,CSVデータ3!J28,CSVデータ4!J28)","v":0},{"$f":"SUM(CSVデータ1!K28,CSVデータ2!K28,CSVデータ3!K28,CSVデータ4!K28)","v":0},{"$f":"SUM(CSVデータ1!L28,CSVデータ2!L28,CSVデータ3!L28,CSVデータ4!L28)","v":0},{"$f":"SUM(CSVデータ1!M28,CSVデータ2!M28,CSVデータ3!M28,CSVデータ4!M28)","v":0},{"$f":"SUM(CSVデータ1!N28,CSVデータ2!N28,CSVデータ3!N28,CSVデータ4!N28)","v":0},{"$f":"SUM(CSVデータ1!O28,CSVデータ2!O28,CSVデータ3!O28,CSVデータ4!O28)","v":0},{"$f":"SUM(CSVデータ1!P28,CSVデータ2!P28,CSVデータ3!P28,CSVデータ4!P28)","v":0},{"$f":"SUM(CSVデータ1!Q28,CSVデータ2!Q28,CSVデータ3!Q28,CSVデータ4!Q28)","v":0},{"$f":"SUM(CSVデータ1!R28,CSVデータ2!R28,CSVデータ3!R28,CSVデータ4!R28)","v":0},{"$f":"SUM(CSVデータ1!S28,CSVデータ2!S28,CSVデータ3!S28,CSVデータ4!S28)","v":0},{"$f":"SUM(CSVデータ1!T28,CSVデータ2!T28,CSVデータ3!T28,CSVデータ4!T28)","v":0},{"$f":"SUM(CSVデータ1!U28,CSVデータ2!U28,CSVデータ3!U28,CSVデータ4!U28)","v":0},{"$f":"SUM(CSVデータ1!V28,CSVデータ2!V28,CSVデータ3!V28,CSVデータ4!V28)","v":0},{"$f":"SUM(CSVデータ1!W28,CSVデータ2!W28,CSVデータ3!W28,CSVデータ4!W28)","v":0},{"$f":"SUM(CSVデータ1!X28,CSVデータ2!X28,CSVデータ3!X28,CSVデータ4!X28)","v":0},{"$f":"SUM(CSVデータ1!Y28,CSVデータ2!Y28,CSVデータ3!Y28,CSVデータ4!Y28)","v":0},{"$f":"SUM(CSVデータ1!Z28,CSVデータ2!Z28,CSVデータ3!Z28,CSVデータ4!Z28)","v":0},{"$f":"SUM(CSVデータ1!AA28,CSVデータ2!AA28,CSVデータ3!AA28,CSVデータ4!AA28)","v":0},{"$f":"SUM(CSVデータ1!AB28,CSVデータ2!AB28,CSVデータ3!AB28,CSVデータ4!AB28)","v":0},{"$f":"SUM(CSVデータ1!AC28,CSVデータ2!AC28,CSVデータ3!AC28,CSVデータ4!AC28)","v":0},{"$f":"SUM(CSVデータ1!AD28,CSVデータ2!AD28,CSVデータ3!AD28,CSVデータ4!AD28)","v":0},{"$f":"SUM(CSVデータ1!AE28,CSVデータ2!AE28,CSVデータ3!AE28,CSVデータ4!AE28)","v":0},{"$f":"SUM(CSVデータ1!AF28,CSVデータ2!AF28,CSVデータ3!AF28,CSVデータ4!AF28)","v":0},{"$f":"SUM(CSVデータ1!AG28,CSVデータ2!AG28,CSVデータ3!AG28,CSVデータ4!AG28)","v":0}]
[{"$f":"CSVデータ1!A29","v":"明細部"},{"$f":"CSVデータ1!B29","v":"国"},{"$f":"CSVデータ1!C29","v":90},{"$f":"CSVデータ1!D29","v":"男"},{"$f":"SUM(CSVデータ1!E29,CSVデータ2!E29,CSVデータ3!E29,CSVデータ4!E29)","v":0},{"$f":"SUM(CSVデータ1!F29,CSVデータ2!F29,CSVデータ3!F29,CSVデータ4!F29)","v":0},{"$f":"SUM(CSVデータ1!G29,CSVデータ2!G29,CSVデータ3!G29,CSVデータ4!G29)","v":0},{"$f":"SUM(CSVデータ1!H29,CSVデータ2!H29,CSVデータ3!H29,CSVデータ4!H29)","v":0},{"$f":"SUM(CSVデータ1!I29,CSVデータ2!I29,CSVデータ3!I29,CSVデータ4!I29)","v":0},{"$f":"SUM(CSVデータ1!J29,CSVデータ2!J29,CSVデータ3!J29,CSVデータ4!J29)","v":0},{"$f":"SUM(CSVデータ1!K29,CSVデータ2!K29,CSVデータ3!K29,CSVデータ4!K29)","v":0},{"$f":"SUM(CSVデータ1!L29,CSVデータ2!L29,CSVデータ3!L29,CSVデータ4!L29)","v":0},{"$f":"SUM(CSVデータ1!M29,CSVデータ2!M29,CSVデータ3!M29,CSVデータ4!M29)","v":0},{"$f":"SUM(CSVデータ1!N29,CSVデータ2!N29,CSVデータ3!N29,CSVデータ4!N29)","v":0},{"$f":"SUM(CSVデータ1!O29,CSVデータ2!O29,CSVデータ3!O29,CSVデータ4!O29)","v":0},{"$f":"SUM(CSVデータ1!P29,CSVデータ2!P29,CSVデータ3!P29,CSVデータ4!P29)","v":0},{"$f":"SUM(CSVデータ1!Q29,CSVデータ2!Q29,CSVデータ3!Q29,CSVデータ4!Q29)","v":0},{"$f":"SUM(CSVデータ1!R29,CSVデータ2!R29,CSVデータ3!R29,CSVデータ4!R29)","v":0},{"$f":"SUM(CSVデータ1!S29,CSVデータ2!S29,CSVデータ3!S29,CSVデータ4!S29)","v":0},{"$f":"SUM(CSVデータ1!T29,CSVデータ2!T29,CSVデータ3!T29,CSVデータ4!T29)","v":0},{"$f":"SUM(CSVデータ1!U29,CSVデータ2!U29,CSVデータ3!U29,CSVデータ4!U29)","v":0},{"$f":"SUM(CSVデータ1!V29,CSVデータ2!V29,CSVデータ3!V29,CSVデータ4!V29)","v":0},{"$f":"SUM(CSVデータ1!W29,CSVデータ2!W29,CSVデータ3!W29,CSVデータ4!W29)","v":0},{"$f":"SUM(CSVデータ1!X29,CSVデータ2!X29,CSVデータ3!X29,CSVデータ4!X29)","v":0},{"$f":"SUM(CSVデータ1!Y29,CSVデータ2!Y29,CSVデータ3!Y29,CSVデータ4!Y29)","v":0},{"$f":"SUM(CSVデータ1!Z29,CSVデータ2!Z29,CSVデータ3!Z29,CSVデータ4!Z29)","v":0},{"$f":"SUM(CSVデータ1!AA29,CSVデータ2!AA29,CSVデータ3!AA29,CSVデータ4!AA29)","v":0},{"$f":"SUM(CSVデータ1!AB29,CSVデータ2!AB29,CSVデータ3!AB29,CSVデータ4!AB29)","v":0},{"$f":"SUM(CSVデータ1!AC29,CSVデータ2!AC29,CSVデータ3!AC29,CSVデータ4!AC29)","v":0},{"$f":"SUM(CSVデータ1!AD29,CSVデータ2!AD29,CSVデータ3!AD29,CSVデータ4!AD29)","v":0},{"$f":"SUM(CSVデータ1!AE29,CSVデータ2!AE29,CSVデータ3!AE29,CSVデータ4!AE29)","v":0},{"$f":"SUM(CSVデータ1!AF29,CSVデータ2!AF29,CSVデータ3!AF29,CSVデータ4!AF29)","v":0},{"$f":"SUM(CSVデータ1!AG29,CSVデータ2!AG29,CSVデータ3!AG29,CSVデータ4!AG29)","v":0}]
[{"$f":"CSVデータ1!A30","v":"明細部"},{"$f":"CSVデータ1!B30","v":"国"},{"$f":"CSVデータ1!C30","v":91},{"$f":"CSVデータ1!D30","v":"男"},{"$f":"SUM(CSVデータ1!E30,CSVデータ2!E30,CSVデータ3!E30,CSVデータ4!E30)","v":0},{"$f":"SUM(CSVデータ1!F30,CSVデータ2!F30,CSVデータ3!F30,CSVデータ4!F30)","v":0},{"$f":"SUM(CSVデータ1!G30,CSVデータ2!G30,CSVデータ3!G30,CSVデータ4!G30)","v":0},{"$f":"SUM(CSVデータ1!H30,CSVデータ2!H30,CSVデータ3!H30,CSVデータ4!H30)","v":0},{"$f":"SUM(CSVデータ1!I30,CSVデータ2!I30,CSVデータ3!I30,CSVデータ4!I30)","v":0},{"$f":"SUM(CSVデータ1!J30,CSVデータ2!J30,CSVデータ3!J30,CSVデータ4!J30)","v":0},{"$f":"SUM(CSVデータ1!K30,CSVデータ2!K30,CSVデータ3!K30,CSVデータ4!K30)","v":0},{"$f":"SUM(CSVデータ1!L30,CSVデータ2!L30,CSVデータ3!L30,CSVデータ4!L30)","v":0},{"$f":"SUM(CSVデータ1!M30,CSVデータ2!M30,CSVデータ3!M30,CSVデータ4!M30)","v":0},{"$f":"SUM(CSVデータ1!N30,CSVデータ2!N30,CSVデータ3!N30,CSVデータ4!N30)","v":0},{"$f":"SUM(CSVデータ1!O30,CSVデータ2!O30,CSVデータ3!O30,CSVデータ4!O30)","v":0},{"$f":"SUM(CSVデータ1!P30,CSVデータ2!P30,CSVデータ3!P30,CSVデータ4!P30)","v":0},{"$f":"SUM(CSVデータ1!Q30,CSVデータ2!Q30,CSVデータ3!Q30,CSVデータ4!Q30)","v":0},{"$f":"SUM(CSVデータ1!R30,CSVデータ2!R30,CSVデータ3!R30,CSVデータ4!R30)","v":0},{"$f":"SUM(CSVデータ1!S30,CSVデータ2!S30,CSVデータ3!S30,CSVデータ4!S30)","v":0},{"$f":"SUM(CSVデータ1!T30,CSVデータ2!T30,CSVデータ3!T30,CSVデータ4!T30)","v":0},{"$f":"SUM(CSVデータ1!U30,CSVデータ2!U30,CSVデータ3!U30,CSVデータ4!U30)","v":0},{"$f":"SUM(CSVデータ1!V30,CSVデータ2!V30,CSVデータ3!V30,CSVデータ4!V30)","v":0},{"$f":"SUM(CSVデータ1!W30,CSVデータ2!W30,CSVデータ3!W30,CSVデータ4!W30)","v":0},{"$f":"SUM(CSVデータ1!X30,CSVデータ2!X30,CSVデータ3!X30,CSVデータ4!X30)","v":0},{"$f":"SUM(CSVデータ1!Y30,CSVデータ2!Y30,CSVデータ3!Y30,CSVデータ4!Y30)","v":0},{"$f":"SUM(CSVデータ1!Z30,CSVデータ2!Z30,CSVデータ3!Z30,CSVデータ4!Z30)","v":0},{"$f":"SUM(CSVデータ1!AA30,CSVデータ2!AA30,CSVデータ3!AA30,CSVデータ4!AA30)","v":0},{"$f":"SUM(CSVデータ1!AB30,CSVデータ2!AB30,CSVデータ3!AB30,CSVデータ4!AB30)","v":0},{"$f":"SUM(CSVデータ1!AC30,CSVデータ2!AC30,CSVデータ3!AC30,CSVデータ4!AC30)","v":0},{"$f":"SUM(CSVデータ1!AD30,CSVデータ2!AD30,CSVデータ3!AD30,CSVデータ4!AD30)","v":0},{"$f":"SUM(CSVデータ1!AE30,CSVデータ2!AE30,CSVデータ3!AE30,CSVデータ4!AE30)","v":0},{"$f":"SUM(CSVデータ1!AF30,CSVデータ2!AF30,CSVデータ3!AF30,CSVデータ4!AF30)","v":0},{"$f":"SUM(CSVデータ1!AG30,CSVデータ2!AG30,CSVデータ3!AG30,CSVデータ4!AG30)","v":0}]
[{"$f":"CSVデータ1!A31","v":"明細部"},{"$f":"CSVデータ1!B31","v":"国"},{"$f":"CSVデータ1!C31","v":92},{"$f":"CSVデータ1!D31","v":"男"},{"$f":"SUM(CSVデータ1!E31,CSVデータ2!E31,CSVデータ3!E31,CSVデータ4!E31)","v":0},{"$f":"SUM(CSVデータ1!F31,CSVデータ2!F31,CSVデータ3!F31,CSVデータ4!F31)","v":0},{"$f":"SUM(CSVデータ1!G31,CSVデータ2!G31,CSVデータ3!G31,CSVデータ4!G31)","v":0},{"$f":"SUM(CSVデータ1!H31,CSVデータ2!H31,CSVデータ3!H31,CSVデータ4!H31)","v":0},{"$f":"SUM(CSVデータ1!I31,CSVデータ2!I31,CSVデータ3!I31,CSVデータ4!I31)","v":0},{"$f":"SUM(CSVデータ1!J31,CSVデータ2!J31,CSVデータ3!J31,CSVデータ4!J31)","v":0},{"$f":"SUM(CSVデータ1!K31,CSVデータ2!K31,CSVデータ3!K31,CSVデータ4!K31)","v":0},{"$f":"SUM(CSVデータ1!L31,CSVデータ2!L31,CSVデータ3!L31,CSVデータ4!L31)","v":0},{"$f":"SUM(CSVデータ1!M31,CSVデータ2!M31,CSVデータ3!M31,CSVデータ4!M31)","v":0},{"$f":"SUM(CSVデータ1!N31,CSVデータ2!N31,CSVデータ3!N31,CSVデータ4!N31)","v":0},{"$f":"SUM(CSVデータ1!O31,CSVデータ2!O31,CSVデータ3!O31,CSVデータ4!O31)","v":0},{"$f":"SUM(CSVデータ1!P31,CSVデータ2!P31,CSVデータ3!P31,CSVデータ4!P31)","v":0},{"$f":"SUM(CSVデータ1!Q31,CSVデータ2!Q31,CSVデータ3!Q31,CSVデータ4!Q31)","v":0},{"$f":"SUM(CSVデータ1!R31,CSVデータ2!R31,CSVデータ3!R31,CSVデータ4!R31)","v":0},{"$f":"SUM(CSVデータ1!S31,CSVデータ2!S31,CSVデータ3!S31,CSVデータ4!S31)","v":0},{"$f":"SUM(CSVデータ1!T31,CSVデータ2!T31,CSVデータ3!T31,CSVデータ4!T31)","v":0},{"$f":"SUM(CSVデータ1!U31,CSVデータ2!U31,CSVデータ3!U31,CSVデータ4!U31)","v":0},{"$f":"SUM(CSVデータ1!V31,CSVデータ2!V31,CSVデータ3!V31,CSVデータ4!V31)","v":0},{"$f":"SUM(CSVデータ1!W31,CSVデータ2!W31,CSVデータ3!W31,CSVデータ4!W31)","v":0},{"$f":"SUM(CSVデータ1!X31,CSVデータ2!X31,CSVデータ3!X31,CSVデータ4!X31)","v":0},{"$f":"SUM(CSVデータ1!Y31,CSVデータ2!Y31,CSVデータ3!Y31,CSVデータ4!Y31)","v":0},{"$f":"SUM(CSVデータ1!Z31,CSVデータ2!Z31,CSVデータ3!Z31,CSVデータ4!Z31)","v":0},{"$f":"SUM(CSVデータ1!AA31,CSVデータ2!AA31,CSVデータ3!AA31,CSVデータ4!AA31)","v":0},{"$f":"SUM(CSVデータ1!AB31,CSVデータ2!AB31,CSVデータ3!AB31,CSVデータ4!AB31)","v":0},{"$f":"SUM(CSVデータ1!AC31,CSVデータ2!AC31,CSVデータ3!AC31,CSVデータ4!AC31)","v":0},{"$f":"SUM(CSVデータ1!AD31,CSVデータ2!AD31,CSVデータ3!AD31,CSVデータ4!AD31)","v":0},{"$f":"SUM(CSVデータ1!AE31,CSVデータ2!AE31,CSVデータ3!AE31,CSVデータ4!AE31)","v":0},{"$f":"SUM(CSVデータ1!AF31,CSVデータ2!AF31,CSVデータ3!AF31,CSVデータ4!AF31)","v":0},{"$f":"SUM(CSVデータ1!AG31,CSVデータ2!AG31,CSVデータ3!AG31,CSVデータ4!AG31)","v":0}]
[{"$f":"CSVデータ1!A32","v":"明細部"},{"$f":"CSVデータ1!B32","v":"国"},{"$f":"CSVデータ1!C32","v":93},{"$f":"CSVデータ1!D32","v":"男"},{"$f":"SUM(CSVデータ1!E32,CSVデータ2!E32,CSVデータ3!E32,CSVデータ4!E32)","v":0},{"$f":"SUM(CSVデータ1!F32,CSVデータ2!F32,CSVデータ3!F32,CSVデータ4!F32)","v":0},{"$f":"SUM(CSVデータ1!G32,CSVデータ2!G32,CSVデータ3!G32,CSVデータ4!G32)","v":0},{"$f":"SUM(CSVデータ1!H32,CSVデータ2!H32,CSVデータ3!H32,CSVデータ4!H32)","v":0},{"$f":"SUM(CSVデータ1!I32,CSVデータ2!I32,CSVデータ3!I32,CSVデータ4!I32)","v":0},{"$f":"SUM(CSVデータ1!J32,CSVデータ2!J32,CSVデータ3!J32,CSVデータ4!J32)","v":0},{"$f":"SUM(CSVデータ1!K32,CSVデータ2!K32,CSVデータ3!K32,CSVデータ4!K32)","v":0},{"$f":"SUM(CSVデータ1!L32,CSVデータ2!L32,CSVデータ3!L32,CSVデータ4!L32)","v":0},{"$f":"SUM(CSVデータ1!M32,CSVデータ2!M32,CSVデータ3!M32,CSVデータ4!M32)","v":0},{"$f":"SUM(CSVデータ1!N32,CSVデータ2!N32,CSVデータ3!N32,CSVデータ4!N32)","v":0},{"$f":"SUM(CSVデータ1!O32,CSVデータ2!O32,CSVデータ3!O32,CSVデータ4!O32)","v":0},{"$f":"SUM(CSVデータ1!P32,CSVデータ2!P32,CSVデータ3!P32,CSVデータ4!P32)","v":0},{"$f":"SUM(CSVデータ1!Q32,CSVデータ2!Q32,CSVデータ3!Q32,CSVデータ4!Q32)","v":0},{"$f":"SUM(CSVデータ1!R32,CSVデータ2!R32,CSVデータ3!R32,CSVデータ4!R32)","v":0},{"$f":"SUM(CSVデータ1!S32,CSVデータ2!S32,CSVデータ3!S32,CSVデータ4!S32)","v":0},{"$f":"SUM(CSVデータ1!T32,CSVデータ2!T32,CSVデータ3!T32,CSVデータ4!T32)","v":0},{"$f":"SUM(CSVデータ1!U32,CSVデータ2!U32,CSVデータ3!U32,CSVデータ4!U32)","v":0},{"$f":"SUM(CSVデータ1!V32,CSVデータ2!V32,CSVデータ3!V32,CSVデータ4!V32)","v":0},{"$f":"SUM(CSVデータ1!W32,CSVデータ2!W32,CSVデータ3!W32,CSVデータ4!W32)","v":0},{"$f":"SUM(CSVデータ1!X32,CSVデータ2!X32,CSVデータ3!X32,CSVデータ4!X32)","v":0},{"$f":"SUM(CSVデータ1!Y32,CSVデータ2!Y32,CSVデータ3!Y32,CSVデータ4!Y32)","v":0},{"$f":"SUM(CSVデータ1!Z32,CSVデータ2!Z32,CSVデータ3!Z32,CSVデータ4!Z32)","v":0},{"$f":"SUM(CSVデータ1!AA32,CSVデータ2!AA32,CSVデータ3!AA32,CSVデータ4!AA32)","v":0},{"$f":"SUM(CSVデータ1!AB32,CSVデータ2!AB32,CSVデータ3!AB32,CSVデータ4!AB32)","v":0},{"$f":"SUM(CSVデータ1!AC32,CSVデータ2!AC32,CSVデータ3!AC32,CSVデータ4!AC32)","v":0},{"$f":"SUM(CSVデータ1!AD32,CSVデータ2!AD32,CSVデータ3!AD32,CSVデータ4!AD32)","v":0},{"$f":"SUM(CSVデータ1!AE32,CSVデータ2!AE32,CSVデータ3!AE32,CSVデータ4!AE32)","v":0},{"$f":"SUM(CSVデータ1!AF32,CSVデータ2!AF32,CSVデータ3!AF32,CSVデータ4!AF32)","v":0},{"$f":"SUM(CSVデータ1!AG32,CSVデータ2!AG32,CSVデータ3!AG32,CSVデータ4!AG32)","v":0}]
[{"$f":"CSVデータ1!A33","v":"明細部"},{"$f":"CSVデータ1!B33","v":"国"},{"$f":"CSVデータ1!C33","v":94},{"$f":"CSVデータ1!D33","v":"男"},{"$f":"SUM(CSVデータ1!E33,CSVデータ2!E33,CSVデータ3!E33,CSVデータ4!E33)","v":0},{"$f":"SUM(CSVデータ1!F33,CSVデータ2!F33,CSVデータ3!F33,CSVデータ4!F33)","v":0},{"$f":"SUM(CSVデータ1!G33,CSVデータ2!G33,CSVデータ3!G33,CSVデータ4!G33)","v":0},{"$f":"SUM(CSVデータ1!H33,CSVデータ2!H33,CSVデータ3!H33,CSVデータ4!H33)","v":0},{"$f":"SUM(CSVデータ1!I33,CSVデータ2!I33,CSVデータ3!I33,CSVデータ4!I33)","v":0},{"$f":"SUM(CSVデータ1!J33,CSVデータ2!J33,CSVデータ3!J33,CSVデータ4!J33)","v":0},{"$f":"SUM(CSVデータ1!K33,CSVデータ2!K33,CSVデータ3!K33,CSVデータ4!K33)","v":0},{"$f":"SUM(CSVデータ1!L33,CSVデータ2!L33,CSVデータ3!L33,CSVデータ4!L33)","v":0},{"$f":"SUM(CSVデータ1!M33,CSVデータ2!M33,CSVデータ3!M33,CSVデータ4!M33)","v":0},{"$f":"SUM(CSVデータ1!N33,CSVデータ2!N33,CSVデータ3!N33,CSVデータ4!N33)","v":0},{"$f":"SUM(CSVデータ1!O33,CSVデータ2!O33,CSVデータ3!O33,CSVデータ4!O33)","v":0},{"$f":"SUM(CSVデータ1!P33,CSVデータ2!P33,CSVデータ3!P33,CSVデータ4!P33)","v":0},{"$f":"SUM(CSVデータ1!Q33,CSVデータ2!Q33,CSVデータ3!Q33,CSVデータ4!Q33)","v":0},{"$f":"SUM(CSVデータ1!R33,CSVデータ2!R33,CSVデータ3!R33,CSVデータ4!R33)","v":0},{"$f":"SUM(CSVデータ1!S33,CSVデータ2!S33,CSVデータ3!S33,CSVデータ4!S33)","v":0},{"$f":"SUM(CSVデータ1!T33,CSVデータ2!T33,CSVデータ3!T33,CSVデータ4!T33)","v":0},{"$f":"SUM(CSVデータ1!U33,CSVデータ2!U33,CSVデータ3!U33,CSVデータ4!U33)","v":0},{"$f":"SUM(CSVデータ1!V33,CSVデータ2!V33,CSVデータ3!V33,CSVデータ4!V33)","v":0},{"$f":"SUM(CSVデータ1!W33,CSVデータ2!W33,CSVデータ3!W33,CSVデータ4!W33)","v":0},{"$f":"SUM(CSVデータ1!X33,CSVデータ2!X33,CSVデータ3!X33,CSVデータ4!X33)","v":0},{"$f":"SUM(CSVデータ1!Y33,CSVデータ2!Y33,CSVデータ3!Y33,CSVデータ4!Y33)","v":0},{"$f":"SUM(CSVデータ1!Z33,CSVデータ2!Z33,CSVデータ3!Z33,CSVデータ4!Z33)","v":0},{"$f":"SUM(CSVデータ1!AA33,CSVデータ2!AA33,CSVデータ3!AA33,CSVデータ4!AA33)","v":0},{"$f":"SUM(CSVデータ1!AB33,CSVデータ2!AB33,CSVデータ3!AB33,CSVデータ4!AB33)","v":0},{"$f":"SUM(CSVデータ1!AC33,CSVデータ2!AC33,CSVデータ3!AC33,CSVデータ4!AC33)","v":0},{"$f":"SUM(CSVデータ1!AD33,CSVデータ2!AD33,CSVデータ3!AD33,CSVデータ4!AD33)","v":0},{"$f":"SUM(CSVデータ1!AE33,CSVデータ2!AE33,CSVデータ3!AE33,CSVデータ4!AE33)","v":0},{"$f":"SUM(CSVデータ1!AF33,CSVデータ2!AF33,CSVデータ3!AF33,CSVデータ4!AF33)","v":0},{"$f":"SUM(CSVデータ1!AG33,CSVデータ2!AG33,CSVデータ3!AG33,CSVデータ4!AG33)","v":0}]
[{"$f":"CSVデータ1!A34","v":"明細部"},{"$f":"CSVデータ1!B34","v":"国"},{"$f":"CSVデータ1!C34","v":95},{"$f":"CSVデータ1!D34","v":"男"},{"$f":"SUM(CSVデータ1!E34,CSVデータ2!E34,CSVデータ3!E34,CSVデータ4!E34)","v":0},{"$f":"SUM(CSVデータ1!F34,CSVデータ2!F34,CSVデータ3!F34,CSVデータ4!F34)","v":0},{"$f":"SUM(CSVデータ1!G34,CSVデータ2!G34,CSVデータ3!G34,CSVデータ4!G34)","v":0},{"$f":"SUM(CSVデータ1!H34,CSVデータ2!H34,CSVデータ3!H34,CSVデータ4!H34)","v":0},{"$f":"SUM(CSVデータ1!I34,CSVデータ2!I34,CSVデータ3!I34,CSVデータ4!I34)","v":0},{"$f":"SUM(CSVデータ1!J34,CSVデータ2!J34,CSVデータ3!J34,CSVデータ4!J34)","v":0},{"$f":"SUM(CSVデータ1!K34,CSVデータ2!K34,CSVデータ3!K34,CSVデータ4!K34)","v":0},{"$f":"SUM(CSVデータ1!L34,CSVデータ2!L34,CSVデータ3!L34,CSVデータ4!L34)","v":0},{"$f":"SUM(CSVデータ1!M34,CSVデータ2!M34,CSVデータ3!M34,CSVデータ4!M34)","v":0},{"$f":"SUM(CSVデータ1!N34,CSVデータ2!N34,CSVデータ3!N34,CSVデータ4!N34)","v":0},{"$f":"SUM(CSVデータ1!O34,CSVデータ2!O34,CSVデータ3!O34,CSVデータ4!O34)","v":0},{"$f":"SUM(CSVデータ1!P34,CSVデータ2!P34,CSVデータ3!P34,CSVデータ4!P34)","v":0},{"$f":"SUM(CSVデータ1!Q34,CSVデータ2!Q34,CSVデータ3!Q34,CSVデータ4!Q34)","v":0},{"$f":"SUM(CSVデータ1!R34,CSVデータ2!R34,CSVデータ3!R34,CSVデータ4!R34)","v":0},{"$f":"SUM(CSVデータ1!S34,CSVデータ2!S34,CSVデータ3!S34,CSVデータ4!S34)","v":0},{"$f":"SUM(CSVデータ1!T34,CSVデータ2!T34,CSVデータ3!T34,CSVデータ4!T34)","v":0},{"$f":"SUM(CSVデータ1!U34,CSVデータ2!U34,CSVデータ3!U34,CSVデータ4!U34)","v":0},{"$f":"SUM(CSVデータ1!V34,CSVデータ2!V34,CSVデータ3!V34,CSVデータ4!V34)","v":0},{"$f":"SUM(CSVデータ1!W34,CSVデータ2!W34,CSVデータ3!W34,CSVデータ4!W34)","v":0},{"$f":"SUM(CSVデータ1!X34,CSVデータ2!X34,CSVデータ3!X34,CSVデータ4!X34)","v":0},{"$f":"SUM(CSVデータ1!Y34,CSVデータ2!Y34,CSVデータ3!Y34,CSVデータ4!Y34)","v":0},{"$f":"SUM(CSVデータ1!Z34,CSVデータ2!Z34,CSVデータ3!Z34,CSVデータ4!Z34)","v":0},{"$f":"SUM(CSVデータ1!AA34,CSVデータ2!AA34,CSVデータ3!AA34,CSVデータ4!AA34)","v":0},{"$f":"SUM(CSVデータ1!AB34,CSVデータ2!AB34,CSVデータ3!AB34,CSVデータ4!AB34)","v":0},{"$f":"SUM(CSVデータ1!AC34,CSVデータ2!AC34,CSVデータ3!AC34,CSVデータ4!AC34)","v":0},{"$f":"SUM(CSVデータ1!AD34,CSVデータ2!AD34,CSVデータ3!AD34,CSVデータ4!AD34)","v":0},{"$f":"SUM(CSVデータ1!AE34,CSVデータ2!AE34,CSVデータ3!AE34,CSVデータ4!AE34)","v":0},{"$f":"SUM(CSVデータ1!AF34,CSVデータ2!AF34,CSVデータ3!AF34,CSVデータ4!AF34)","v":0},{"$f":"SUM(CSVデータ1!AG34,CSVデータ2!AG34,CSVデータ3!AG34,CSVデータ4!AG34)","v":0}]
[{"$f":"CSVデータ1!A35","v":"明細部"},{"$f":"CSVデータ1!B35","v":"国"},{"$f":"CSVデータ1!C35","v":96},{"$f":"CSVデータ1!D35","v":"男"},{"$f":"SUM(CSVデータ1!E35,CSVデータ2!E35,CSVデータ3!E35,CSVデータ4!E35)","v":0},{"$f":"SUM(CSVデータ1!F35,CSVデータ2!F35,CSVデータ3!F35,CSVデータ4!F35)","v":0},{"$f":"SUM(CSVデータ1!G35,CSVデータ2!G35,CSVデータ3!G35,CSVデータ4!G35)","v":0},{"$f":"SUM(CSVデータ1!H35,CSVデータ2!H35,CSVデータ3!H35,CSVデータ4!H35)","v":0},{"$f":"SUM(CSVデータ1!I35,CSVデータ2!I35,CSVデータ3!I35,CSVデータ4!I35)","v":0},{"$f":"SUM(CSVデータ1!J35,CSVデータ2!J35,CSVデータ3!J35,CSVデータ4!J35)","v":0},{"$f":"SUM(CSVデータ1!K35,CSVデータ2!K35,CSVデータ3!K35,CSVデータ4!K35)","v":0},{"$f":"SUM(CSVデータ1!L35,CSVデータ2!L35,CSVデータ3!L35,CSVデータ4!L35)","v":0},{"$f":"SUM(CSVデータ1!M35,CSVデータ2!M35,CSVデータ3!M35,CSVデータ4!M35)","v":0},{"$f":"SUM(CSVデータ1!N35,CSVデータ2!N35,CSVデータ3!N35,CSVデータ4!N35)","v":0},{"$f":"SUM(CSVデータ1!O35,CSVデータ2!O35,CSVデータ3!O35,CSVデータ4!O35)","v":0},{"$f":"SUM(CSVデータ1!P35,CSVデータ2!P35,CSVデータ3!P35,CSVデータ4!P35)","v":0},{"$f":"SUM(CSVデータ1!Q35,CSVデータ2!Q35,CSVデータ3!Q35,CSVデータ4!Q35)","v":0},{"$f":"SUM(CSVデータ1!R35,CSVデータ2!R35,CSVデータ3!R35,CSVデータ4!R35)","v":0},{"$f":"SUM(CSVデータ1!S35,CSVデータ2!S35,CSVデータ3!S35,CSVデータ4!S35)","v":0},{"$f":"SUM(CSVデータ1!T35,CSVデータ2!T35,CSVデータ3!T35,CSVデータ4!T35)","v":0},{"$f":"SUM(CSVデータ1!U35,CSVデータ2!U35,CSVデータ3!U35,CSVデータ4!U35)","v":0},{"$f":"SUM(CSVデータ1!V35,CSVデータ2!V35,CSVデータ3!V35,CSVデータ4!V35)","v":0},{"$f":"SUM(CSVデータ1!W35,CSVデータ2!W35,CSVデータ3!W35,CSVデータ4!W35)","v":0},{"$f":"SUM(CSVデータ1!X35,CSVデータ2!X35,CSVデータ3!X35,CSVデータ4!X35)","v":0},{"$f":"SUM(CSVデータ1!Y35,CSVデータ2!Y35,CSVデータ3!Y35,CSVデータ4!Y35)","v":0},{"$f":"SUM(CSVデータ1!Z35,CSVデータ2!Z35,CSVデータ3!Z35,CSVデータ4!Z35)","v":0},{"$f":"SUM(CSVデータ1!AA35,CSVデータ2!AA35,CSVデータ3!AA35,CSVデータ4!AA35)","v":0},{"$f":"SUM(CSVデータ1!AB35,CSVデータ2!AB35,CSVデータ3!AB35,CSVデータ4!AB35)","v":0},{"$f":"SUM(CSVデータ1!AC35,CSVデータ2!AC35,CSVデータ3!AC35,CSVデータ4!AC35)","v":0},{"$f":"SUM(CSVデータ1!AD35,CSVデータ2!AD35,CSVデータ3!AD35,CSVデータ4!AD35)","v":0},{"$f":"SUM(CSVデータ1!AE35,CSVデータ2!AE35,CSVデータ3!AE35,CSVデータ4!AE35)","v":0},{"$f":"SUM(CSVデータ1!AF35,CSVデータ2!AF35,CSVデータ3!AF35,CSVデータ4!AF35)","v":0},{"$f":"SUM(CSVデータ1!AG35,CSVデータ2!AG35,CSVデータ3!AG35,CSVデータ4!AG35)","v":0}]
[{"$f":"CSVデータ1!A36","v":"明細部"},{"$f":"CSVデータ1!B36","v":"国"},{"$f":"CSVデータ1!C36","v":97},{"$f":"CSVデータ1!D36","v":"男"},{"$f":"SUM(CSVデータ1!E36,CSVデータ2!E36,CSVデータ3!E36,CSVデータ4!E36)","v":0},{"$f":"SUM(CSVデータ1!F36,CSVデータ2!F36,CSVデータ3!F36,CSVデータ4!F36)","v":0},{"$f":"SUM(CSVデータ1!G36,CSVデータ2!G36,CSVデータ3!G36,CSVデータ4!G36)","v":0},{"$f":"SUM(CSVデータ1!H36,CSVデータ2!H36,CSVデータ3!H36,CSVデータ4!H36)","v":0},{"$f":"SUM(CSVデータ1!I36,CSVデータ2!I36,CSVデータ3!I36,CSVデータ4!I36)","v":0},{"$f":"SUM(CSVデータ1!J36,CSVデータ2!J36,CSVデータ3!J36,CSVデータ4!J36)","v":0},{"$f":"SUM(CSVデータ1!K36,CSVデータ2!K36,CSVデータ3!K36,CSVデータ4!K36)","v":0},{"$f":"SUM(CSVデータ1!L36,CSVデータ2!L36,CSVデータ3!L36,CSVデータ4!L36)","v":0},{"$f":"SUM(CSVデータ1!M36,CSVデータ2!M36,CSVデータ3!M36,CSVデータ4!M36)","v":0},{"$f":"SUM(CSVデータ1!N36,CSVデータ2!N36,CSVデータ3!N36,CSVデータ4!N36)","v":0},{"$f":"SUM(CSVデータ1!O36,CSVデータ2!O36,CSVデータ3!O36,CSVデータ4!O36)","v":0},{"$f":"SUM(CSVデータ1!P36,CSVデータ2!P36,CSVデータ3!P36,CSVデータ4!P36)","v":0},{"$f":"SUM(CSVデータ1!Q36,CSVデータ2!Q36,CSVデータ3!Q36,CSVデータ4!Q36)","v":0},{"$f":"SUM(CSVデータ1!R36,CSVデータ2!R36,CSVデータ3!R36,CSVデータ4!R36)","v":0},{"$f":"SUM(CSVデータ1!S36,CSVデータ2!S36,CSVデータ3!S36,CSVデータ4!S36)","v":0},{"$f":"SUM(CSVデータ1!T36,CSVデータ2!T36,CSVデータ3!T36,CSVデータ4!T36)","v":0},{"$f":"SUM(CSVデータ1!U36,CSVデータ2!U36,CSVデータ3!U36,CSVデータ4!U36)","v":0},{"$f":"SUM(CSVデータ1!V36,CSVデータ2!V36,CSVデータ3!V36,CSVデータ4!V36)","v":0},{"$f":"SUM(CSVデータ1!W36,CSVデータ2!W36,CSVデータ3!W36,CSVデータ4!W36)","v":0},{"$f":"SUM(CSVデータ1!X36,CSVデータ2!X36,CSVデータ3!X36,CSVデータ4!X36)","v":0},{"$f":"SUM(CSVデータ1!Y36,CSVデータ2!Y36,CSVデータ3!Y36,CSVデータ4!Y36)","v":0},{"$f":"SUM(CSVデータ1!Z36,CSVデータ2!Z36,CSVデータ3!Z36,CSVデータ4!Z36)","v":0},{"$f":"SUM(CSVデータ1!AA36,CSVデータ2!AA36,CSVデータ3!AA36,CSVデータ4!AA36)","v":0},{"$f":"SUM(CSVデータ1!AB36,CSVデータ2!AB36,CSVデータ3!AB36,CSVデータ4!AB36)","v":0},{"$f":"SUM(CSVデータ1!AC36,CSVデータ2!AC36,CSVデータ3!AC36,CSVデータ4!AC36)","v":0},{"$f":"SUM(CSVデータ1!AD36,CSVデータ2!AD36,CSVデータ3!AD36,CSVデータ4!AD36)","v":0},{"$f":"SUM(CSVデータ1!AE36,CSVデータ2!AE36,CSVデータ3!AE36,CSVデータ4!AE36)","v":0},{"$f":"SUM(CSVデータ1!AF36,CSVデータ2!AF36,CSVデータ3!AF36,CSVデータ4!AF36)","v":0},{"$f":"SUM(CSVデータ1!AG36,CSVデータ2!AG36,CSVデータ3!AG36,CSVデータ4!AG36)","v":0}]
[{"$f":"CSVデータ1!A37","v":"明細部"},{"$f":"CSVデータ1!B37","v":"国"},{"$f":"CSVデータ1!C37","v":98},{"$f":"CSVデータ1!D37","v":"男"},{"$f":"SUM(CSVデータ1!E37,CSVデータ2!E37,CSVデータ3!E37,CSVデータ4!E37)","v":0},{"$f":"SUM(CSVデータ1!F37,CSVデータ2!F37,CSVデータ3!F37,CSVデータ4!F37)","v":0},{"$f":"SUM(CSVデータ1!G37,CSVデータ2!G37,CSVデータ3!G37,CSVデータ4!G37)","v":0},{"$f":"SUM(CSVデータ1!H37,CSVデータ2!H37,CSVデータ3!H37,CSVデータ4!H37)","v":0},{"$f":"SUM(CSVデータ1!I37,CSVデータ2!I37,CSVデータ3!I37,CSVデータ4!I37)","v":0},{"$f":"SUM(CSVデータ1!J37,CSVデータ2!J37,CSVデータ3!J37,CSVデータ4!J37)","v":0},{"$f":"SUM(CSVデータ1!K37,CSVデータ2!K37,CSVデータ3!K37,CSVデータ4!K37)","v":0},{"$f":"SUM(CSVデータ1!L37,CSVデータ2!L37,CSVデータ3!L37,CSVデータ4!L37)","v":0},{"$f":"SUM(CSVデータ1!M37,CSVデータ2!M37,CSVデータ3!M37,CSVデータ4!M37)","v":0},{"$f":"SUM(CSVデータ1!N37,CSVデータ2!N37,CSVデータ3!N37,CSVデータ4!N37)","v":0},{"$f":"SUM(CSVデータ1!O37,CSVデータ2!O37,CSVデータ3!O37,CSVデータ4!O37)","v":0},{"$f":"SUM(CSVデータ1!P37,CSVデータ2!P37,CSVデータ3!P37,CSVデータ4!P37)","v":0},{"$f":"SUM(CSVデータ1!Q37,CSVデータ2!Q37,CSVデータ3!Q37,CSVデータ4!Q37)","v":0},{"$f":"SUM(CSVデータ1!R37,CSVデータ2!R37,CSVデータ3!R37,CSVデータ4!R37)","v":0},{"$f":"SUM(CSVデータ1!S37,CSVデータ2!S37,CSVデータ3!S37,CSVデータ4!S37)","v":0},{"$f":"SUM(CSVデータ1!T37,CSVデータ2!T37,CSVデータ3!T37,CSVデータ4!T37)","v":0},{"$f":"SUM(CSVデータ1!U37,CSVデータ2!U37,CSVデータ3!U37,CSVデータ4!U37)","v":0},{"$f":"SUM(CSVデータ1!V37,CSVデータ2!V37,CSVデータ3!V37,CSVデータ4!V37)","v":0},{"$f":"SUM(CSVデータ1!W37,CSVデータ2!W37,CSVデータ3!W37,CSVデータ4!W37)","v":0},{"$f":"SUM(CSVデータ1!X37,CSVデータ2!X37,CSVデータ3!X37,CSVデータ4!X37)","v":0},{"$f":"SUM(CSVデータ1!Y37,CSVデータ2!Y37,CSVデータ3!Y37,CSVデータ4!Y37)","v":0},{"$f":"SUM(CSVデータ1!Z37,CSVデータ2!Z37,CSVデータ3!Z37,CSVデータ4!Z37)","v":0},{"$f":"SUM(CSVデータ1!AA37,CSVデータ2!AA37,CSVデータ3!AA37,CSVデータ4!AA37)","v":0},{"$f":"SUM(CSVデータ1!AB37,CSVデータ2!AB37,CSVデータ3!AB37,CSVデータ4!AB37)","v":0},{"$f":"SUM(CSVデータ1!AC37,CSVデータ2!AC37,CSVデータ3!AC37,CSVデータ4!AC37)","v":0},{"$f":"SUM(CSVデータ1!AD37,CSVデータ2!AD37,CSVデータ3!AD37,CSVデータ4!AD37)","v":0},{"$f":"SUM(CSVデータ1!AE37,CSVデータ2!AE37,CSVデータ3!AE37,CSVデータ4!AE37)","v":0},{"$f":"SUM(CSVデータ1!AF37,CSVデータ2!AF37,CSVデータ3!AF37,CSVデータ4!AF37)","v":0},{"$f":"SUM(CSVデータ1!AG37,CSVデータ2!AG37,CSVデータ3!AG37,CSVデータ4!AG37)","v":0}]
[{"$f":"CSVデータ1!A38","v":"明細部"},{"$f":"CSVデータ1!B38","v":"国"},{"$f":"CSVデータ1!C38","v":99},{"$f":"CSVデータ1!D38","v":"男"},{"$f":"SUM(CSVデータ1!E38,CSVデータ2!E38,CSVデータ3!E38,CSVデータ4!E38)","v":0},{"$f":"SUM(CSVデータ1!F38,CSVデータ2!F38,CSVデータ3!F38,CSVデータ4!F38)","v":0},{"$f":"SUM(CSVデータ1!G38,CSVデータ2!G38,CSVデータ3!G38,CSVデータ4!G38)","v":0},{"$f":"SUM(CSVデータ1!H38,CSVデータ2!H38,CSVデータ3!H38,CSVデータ4!H38)","v":0},{"$f":"SUM(CSVデータ1!I38,CSVデータ2!I38,CSVデータ3!I38,CSVデータ4!I38)","v":0},{"$f":"SUM(CSVデータ1!J38,CSVデータ2!J38,CSVデータ3!J38,CSVデータ4!J38)","v":0},{"$f":"SUM(CSVデータ1!K38,CSVデータ2!K38,CSVデータ3!K38,CSVデータ4!K38)","v":0},{"$f":"SUM(CSVデータ1!L38,CSVデータ2!L38,CSVデータ3!L38,CSVデータ4!L38)","v":0},{"$f":"SUM(CSVデータ1!M38,CSVデータ2!M38,CSVデータ3!M38,CSVデータ4!M38)","v":0},{"$f":"SUM(CSVデータ1!N38,CSVデータ2!N38,CSVデータ3!N38,CSVデータ4!N38)","v":0},{"$f":"SUM(CSVデータ1!O38,CSVデータ2!O38,CSVデータ3!O38,CSVデータ4!O38)","v":0},{"$f":"SUM(CSVデータ1!P38,CSVデータ2!P38,CSVデータ3!P38,CSVデータ4!P38)","v":0},{"$f":"SUM(CSVデータ1!Q38,CSVデータ2!Q38,CSVデータ3!Q38,CSVデータ4!Q38)","v":0},{"$f":"SUM(CSVデータ1!R38,CSVデータ2!R38,CSVデータ3!R38,CSVデータ4!R38)","v":0},{"$f":"SUM(CSVデータ1!S38,CSVデータ2!S38,CSVデータ3!S38,CSVデータ4!S38)","v":0},{"$f":"SUM(CSVデータ1!T38,CSVデータ2!T38,CSVデータ3!T38,CSVデータ4!T38)","v":0},{"$f":"SUM(CSVデータ1!U38,CSVデータ2!U38,CSVデータ3!U38,CSVデータ4!U38)","v":0},{"$f":"SUM(CSVデータ1!V38,CSVデータ2!V38,CSVデータ3!V38,CSVデータ4!V38)","v":0},{"$f":"SUM(CSVデータ1!W38,CSVデータ2!W38,CSVデータ3!W38,CSVデータ4!W38)","v":0},{"$f":"SUM(CSVデータ1!X38,CSVデータ2!X38,CSVデータ3!X38,CSVデータ4!X38)","v":0},{"$f":"SUM(CSVデータ1!Y38,CSVデータ2!Y38,CSVデータ3!Y38,CSVデータ4!Y38)","v":0},{"$f":"SUM(CSVデータ1!Z38,CSVデータ2!Z38,CSVデータ3!Z38,CSVデータ4!Z38)","v":0},{"$f":"SUM(CSVデータ1!AA38,CSVデータ2!AA38,CSVデータ3!AA38,CSVデータ4!AA38)","v":0},{"$f":"SUM(CSVデータ1!AB38,CSVデータ2!AB38,CSVデータ3!AB38,CSVデータ4!AB38)","v":0},{"$f":"SUM(CSVデータ1!AC38,CSVデータ2!AC38,CSVデータ3!AC38,CSVデータ4!AC38)","v":0},{"$f":"SUM(CSVデータ1!AD38,CSVデータ2!AD38,CSVデータ3!AD38,CSVデータ4!AD38)","v":0},{"$f":"SUM(CSVデータ1!AE38,CSVデータ2!AE38,CSVデータ3!AE38,CSVデータ4!AE38)","v":0},{"$f":"SUM(CSVデータ1!AF38,CSVデータ2!AF38,CSVデータ3!AF38,CSVデータ4!AF38)","v":0},{"$f":"SUM(CSVデータ1!AG38,CSVデータ2!AG38,CSVデータ3!AG38,CSVデータ4!AG38)","v":0}]
[{"$f":"CSVデータ1!A39","v":"明細部"},{"$f":"CSVデータ1!B39","v":"国"},{"$f":"CSVデータ1!C39","v":100},{"$f":"CSVデータ1!D39","v":"男"},{"$f":"SUM(CSVデータ1!E39,CSVデータ2!E39,CSVデータ3!E39,CSVデータ4!E39)","v":0},{"$f":"SUM(CSVデータ1!F39,CSVデータ2!F39,CSVデータ3!F39,CSVデータ4!F39)","v":0},{"$f":"SUM(CSVデータ1!G39,CSVデータ2!G39,CSVデータ3!G39,CSVデータ4!G39)","v":0},{"$f":"SUM(CSVデータ1!H39,CSVデータ2!H39,CSVデータ3!H39,CSVデータ4!H39)","v":0},{"$f":"SUM(CSVデータ1!I39,CSVデータ2!I39,CSVデータ3!I39,CSVデータ4!I39)","v":0},{"$f":"SUM(CSVデータ1!J39,CSVデータ2!J39,CSVデータ3!J39,CSVデータ4!J39)","v":0},{"$f":"SUM(CSVデータ1!K39,CSVデータ2!K39,CSVデータ3!K39,CSVデータ4!K39)","v":0},{"$f":"SUM(CSVデータ1!L39,CSVデータ2!L39,CSVデータ3!L39,CSVデータ4!L39)","v":0},{"$f":"SUM(CSVデータ1!M39,CSVデータ2!M39,CSVデータ3!M39,CSVデータ4!M39)","v":0},{"$f":"SUM(CSVデータ1!N39,CSVデータ2!N39,CSVデータ3!N39,CSVデータ4!N39)","v":0},{"$f":"SUM(CSVデータ1!O39,CSVデータ2!O39,CSVデータ3!O39,CSVデータ4!O39)","v":0},{"$f":"SUM(CSVデータ1!P39,CSVデータ2!P39,CSVデータ3!P39,CSVデータ4!P39)","v":0},{"$f":"SUM(CSVデータ1!Q39,CSVデータ2!Q39,CSVデータ3!Q39,CSVデータ4!Q39)","v":0},{"$f":"SUM(CSVデータ1!R39,CSVデータ2!R39,CSVデータ3!R39,CSVデータ4!R39)","v":0},{"$f":"SUM(CSVデータ1!S39,CSVデータ2!S39,CSVデータ3!S39,CSVデータ4!S39)","v":0},{"$f":"SUM(CSVデータ1!T39,CSVデータ2!T39,CSVデータ3!T39,CSVデータ4!T39)","v":0},{"$f":"SUM(CSVデータ1!U39,CSVデータ2!U39,CSVデータ3!U39,CSVデータ4!U39)","v":0},{"$f":"SUM(CSVデータ1!V39,CSVデータ2!V39,CSVデータ3!V39,CSVデータ4!V39)","v":0},{"$f":"SUM(CSVデータ1!W39,CSVデータ2!W39,CSVデータ3!W39,CSVデータ4!W39)","v":0},{"$f":"SUM(CSVデータ1!X39,CSVデータ2!X39,CSVデータ3!X39,CSVデータ4!X39)","v":0},{"$f":"SUM(CSVデータ1!Y39,CSVデータ2!Y39,CSVデータ3!Y39,CSVデータ4!Y39)","v":0},{"$f":"SUM(CSVデータ1!Z39,CSVデータ2!Z39,CSVデータ3!Z39,CSVデータ4!Z39)","v":0},{"$f":"SUM(CSVデータ1!AA39,CSVデータ2!AA39,CSVデータ3!AA39,CSVデータ4!AA39)","v":0},{"$f":"SUM(CSVデータ1!AB39,CSVデータ2!AB39,CSVデータ3!AB39,CSVデータ4!AB39)","v":0},{"$f":"SUM(CSVデータ1!AC39,CSVデータ2!AC39,CSVデータ3!AC39,CSVデータ4!AC39)","v":0},{"$f":"SUM(CSVデータ1!AD39,CSVデータ2!AD39,CSVデータ3!AD39,CSVデータ4!AD39)","v":0},{"$f":"SUM(CSVデータ1!AE39,CSVデータ2!AE39,CSVデータ3!AE39,CSVデータ4!AE39)","v":0},{"$f":"SUM(CSVデータ1!AF39,CSVデータ2!AF39,CSVデータ3!AF39,CSVデータ4!AF39)","v":0},{"$f":"SUM(CSVデータ1!AG39,CSVデータ2!AG39,CSVデータ3!AG39,CSVデータ4!AG39)","v":0}]
[{"$f":"CSVデータ1!A40","v":"明細部"},{"$f":"CSVデータ1!B40","v":"国"},{"$f":"CSVデータ1!C40","v":101},{"$f":"CSVデータ1!D40","v":"男"},{"$f":"SUM(CSVデータ1!E40,CSVデータ2!E40,CSVデータ3!E40,CSVデータ4!E40)","v":0},{"$f":"SUM(CSVデータ1!F40,CSVデータ2!F40,CSVデータ3!F40,CSVデータ4!F40)","v":0},{"$f":"SUM(CSVデータ1!G40,CSVデータ2!G40,CSVデータ3!G40,CSVデータ4!G40)","v":0},{"$f":"SUM(CSVデータ1!H40,CSVデータ2!H40,CSVデータ3!H40,CSVデータ4!H40)","v":0},{"$f":"SUM(CSVデータ1!I40,CSVデータ2!I40,CSVデータ3!I40,CSVデータ4!I40)","v":0},{"$f":"SUM(CSVデータ1!J40,CSVデータ2!J40,CSVデータ3!J40,CSVデータ4!J40)","v":0},{"$f":"SUM(CSVデータ1!K40,CSVデータ2!K40,CSVデータ3!K40,CSVデータ4!K40)","v":0},{"$f":"SUM(CSVデータ1!L40,CSVデータ2!L40,CSVデータ3!L40,CSVデータ4!L40)","v":0},{"$f":"SUM(CSVデータ1!M40,CSVデータ2!M40,CSVデータ3!M40,CSVデータ4!M40)","v":0},{"$f":"SUM(CSVデータ1!N40,CSVデータ2!N40,CSVデータ3!N40,CSVデータ4!N40)","v":0},{"$f":"SUM(CSVデータ1!O40,CSVデータ2!O40,CSVデータ3!O40,CSVデータ4!O40)","v":0},{"$f":"SUM(CSVデータ1!P40,CSVデータ2!P40,CSVデータ3!P40,CSVデータ4!P40)","v":0},{"$f":"SUM(CSVデータ1!Q40,CSVデータ2!Q40,CSVデータ3!Q40,CSVデータ4!Q40)","v":0},{"$f":"SUM(CSVデータ1!R40,CSVデータ2!R40,CSVデータ3!R40,CSVデータ4!R40)","v":0},{"$f":"SUM(CSVデータ1!S40,CSVデータ2!S40,CSVデータ3!S40,CSVデータ4!S40)","v":0},{"$f":"SUM(CSVデータ1!T40,CSVデータ2!T40,CSVデータ3!T40,CSVデータ4!T40)","v":0},{"$f":"SUM(CSVデータ1!U40,CSVデータ2!U40,CSVデータ3!U40,CSVデータ4!U40)","v":0},{"$f":"SUM(CSVデータ1!V40,CSVデータ2!V40,CSVデータ3!V40,CSVデータ4!V40)","v":0},{"$f":"SUM(CSVデータ1!W40,CSVデータ2!W40,CSVデータ3!W40,CSVデータ4!W40)","v":0},{"$f":"SUM(CSVデータ1!X40,CSVデータ2!X40,CSVデータ3!X40,CSVデータ4!X40)","v":0},{"$f":"SUM(CSVデータ1!Y40,CSVデータ2!Y40,CSVデータ3!Y40,CSVデータ4!Y40)","v":0},{"$f":"SUM(CSVデータ1!Z40,CSVデータ2!Z40,CSVデータ3!Z40,CSVデータ4!Z40)","v":0},{"$f":"SUM(CSVデータ1!AA40,CSVデータ2!AA40,CSVデータ3!AA40,CSVデータ4!AA40)","v":0},{"$f":"SUM(CSVデータ1!AB40,CSVデータ2!AB40,CSVデータ3!AB40,CSVデータ4!AB40)","v":0},{"$f":"SUM(CSVデータ1!AC40,CSVデータ2!AC40,CSVデータ3!AC40,CSVデータ4!AC40)","v":0},{"$f":"SUM(CSVデータ1!AD40,CSVデータ2!AD40,CSVデータ3!AD40,CSVデータ4!AD40)","v":0},{"$f":"SUM(CSVデータ1!AE40,CSVデータ2!AE40,CSVデータ3!AE40,CSVデータ4!AE40)","v":0},{"$f":"SUM(CSVデータ1!AF40,CSVデータ2!AF40,CSVデータ3!AF40,CSVデータ4!AF40)","v":0},{"$f":"SUM(CSVデータ1!AG40,CSVデータ2!AG40,CSVデータ3!AG40,CSVデータ4!AG40)","v":0}]
[{"$f":"CSVデータ1!A41","v":"明細部"},{"$f":"CSVデータ1!B41","v":"国"},{"$f":"CSVデータ1!C41","v":102},{"$f":"CSVデータ1!D41","v":"男"},{"$f":"SUM(CSVデータ1!E41,CSVデータ2!E41,CSVデータ3!E41,CSVデータ4!E41)","v":0},{"$f":"SUM(CSVデータ1!F41,CSVデータ2!F41,CSVデータ3!F41,CSVデータ4!F41)","v":0},{"$f":"SUM(CSVデータ1!G41,CSVデータ2!G41,CSVデータ3!G41,CSVデータ4!G41)","v":0},{"$f":"SUM(CSVデータ1!H41,CSVデータ2!H41,CSVデータ3!H41,CSVデータ4!H41)","v":0},{"$f":"SUM(CSVデータ1!I41,CSVデータ2!I41,CSVデータ3!I41,CSVデータ4!I41)","v":0},{"$f":"SUM(CSVデータ1!J41,CSVデータ2!J41,CSVデータ3!J41,CSVデータ4!J41)","v":0},{"$f":"SUM(CSVデータ1!K41,CSVデータ2!K41,CSVデータ3!K41,CSVデータ4!K41)","v":0},{"$f":"SUM(CSVデータ1!L41,CSVデータ2!L41,CSVデータ3!L41,CSVデータ4!L41)","v":0},{"$f":"SUM(CSVデータ1!M41,CSVデータ2!M41,CSVデータ3!M41,CSVデータ4!M41)","v":0},{"$f":"SUM(CSVデータ1!N41,CSVデータ2!N41,CSVデータ3!N41,CSVデータ4!N41)","v":0},{"$f":"SUM(CSVデータ1!O41,CSVデータ2!O41,CSVデータ3!O41,CSVデータ4!O41)","v":0},{"$f":"SUM(CSVデータ1!P41,CSVデータ2!P41,CSVデータ3!P41,CSVデータ4!P41)","v":0},{"$f":"SUM(CSVデータ1!Q41,CSVデータ2!Q41,CSVデータ3!Q41,CSVデータ4!Q41)","v":0},{"$f":"SUM(CSVデータ1!R41,CSVデータ2!R41,CSVデータ3!R41,CSVデータ4!R41)","v":0},{"$f":"SUM(CSVデータ1!S41,CSVデータ2!S41,CSVデータ3!S41,CSVデータ4!S41)","v":0},{"$f":"SUM(CSVデータ1!T41,CSVデータ2!T41,CSVデータ3!T41,CSVデータ4!T41)","v":0},{"$f":"SUM(CSVデータ1!U41,CSVデータ2!U41,CSVデータ3!U41,CSVデータ4!U41)","v":0},{"$f":"SUM(CSVデータ1!V41,CSVデータ2!V41,CSVデータ3!V41,CSVデータ4!V41)","v":0},{"$f":"SUM(CSVデータ1!W41,CSVデータ2!W41,CSVデータ3!W41,CSVデータ4!W41)","v":0},{"$f":"SUM(CSVデータ1!X41,CSVデータ2!X41,CSVデータ3!X41,CSVデータ4!X41)","v":0},{"$f":"SUM(CSVデータ1!Y41,CSVデータ2!Y41,CSVデータ3!Y41,CSVデータ4!Y41)","v":0},{"$f":"SUM(CSVデータ1!Z41,CSVデータ2!Z41,CSVデータ3!Z41,CSVデータ4!Z41)","v":0},{"$f":"SUM(CSVデータ1!AA41,CSVデータ2!AA41,CSVデータ3!AA41,CSVデータ4!AA41)","v":0},{"$f":"SUM(CSVデータ1!AB41,CSVデータ2!AB41,CSVデータ3!AB41,CSVデータ4!AB41)","v":0},{"$f":"SUM(CSVデータ1!AC41,CSVデータ2!AC41,CSVデータ3!AC41,CSVデータ4!AC41)","v":0},{"$f":"SUM(CSVデータ1!AD41,CSVデータ2!AD41,CSVデータ3!AD41,CSVデータ4!AD41)","v":0},{"$f":"SUM(CSVデータ1!AE41,CSVデータ2!AE41,CSVデータ3!AE41,CSVデータ4!AE41)","v":0},{"$f":"SUM(CSVデータ1!AF41,CSVデータ2!AF41,CSVデータ3!AF41,CSVデータ4!AF41)","v":0},{"$f":"SUM(CSVデータ1!AG41,CSVデータ2!AG41,CSVデータ3!AG41,CSVデータ4!AG41)","v":0}]
[{"$f":"CSVデータ1!A42","v":"明細部"},{"$f":"CSVデータ1!B42","v":"国"},{"$f":"CSVデータ1!C42","v":103},{"$f":"CSVデータ1!D42","v":"男"},{"$f":"SUM(CSVデータ1!E42,CSVデータ2!E42,CSVデータ3!E42,CSVデータ4!E42)","v":0},{"$f":"SUM(CSVデータ1!F42,CSVデータ2!F42,CSVデータ3!F42,CSVデータ4!F42)","v":0},{"$f":"SUM(CSVデータ1!G42,CSVデータ2!G42,CSVデータ3!G42,CSVデータ4!G42)","v":0},{"$f":"SUM(CSVデータ1!H42,CSVデータ2!H42,CSVデータ3!H42,CSVデータ4!H42)","v":0},{"$f":"SUM(CSVデータ1!I42,CSVデータ2!I42,CSVデータ3!I42,CSVデータ4!I42)","v":0},{"$f":"SUM(CSVデータ1!J42,CSVデータ2!J42,CSVデータ3!J42,CSVデータ4!J42)","v":0},{"$f":"SUM(CSVデータ1!K42,CSVデータ2!K42,CSVデータ3!K42,CSVデータ4!K42)","v":0},{"$f":"SUM(CSVデータ1!L42,CSVデータ2!L42,CSVデータ3!L42,CSVデータ4!L42)","v":0},{"$f":"SUM(CSVデータ1!M42,CSVデータ2!M42,CSVデータ3!M42,CSVデータ4!M42)","v":0},{"$f":"SUM(CSVデータ1!N42,CSVデータ2!N42,CSVデータ3!N42,CSVデータ4!N42)","v":0},{"$f":"SUM(CSVデータ1!O42,CSVデータ2!O42,CSVデータ3!O42,CSVデータ4!O42)","v":0},{"$f":"SUM(CSVデータ1!P42,CSVデータ2!P42,CSVデータ3!P42,CSVデータ4!P42)","v":0},{"$f":"SUM(CSVデータ1!Q42,CSVデータ2!Q42,CSVデータ3!Q42,CSVデータ4!Q42)","v":0},{"$f":"SUM(CSVデータ1!R42,CSVデータ2!R42,CSVデータ3!R42,CSVデータ4!R42)","v":0},{"$f":"SUM(CSVデータ1!S42,CSVデータ2!S42,CSVデータ3!S42,CSVデータ4!S42)","v":0},{"$f":"SUM(CSVデータ1!T42,CSVデータ2!T42,CSVデータ3!T42,CSVデータ4!T42)","v":0},{"$f":"SUM(CSVデータ1!U42,CSVデータ2!U42,CSVデータ3!U42,CSVデータ4!U42)","v":0},{"$f":"SUM(CSVデータ1!V42,CSVデータ2!V42,CSVデータ3!V42,CSVデータ4!V42)","v":0},{"$f":"SUM(CSVデータ1!W42,CSVデータ2!W42,CSVデータ3!W42,CSVデータ4!W42)","v":0},{"$f":"SUM(CSVデータ1!X42,CSVデータ2!X42,CSVデータ3!X42,CSVデータ4!X42)","v":0},{"$f":"SUM(CSVデータ1!Y42,CSVデータ2!Y42,CSVデータ3!Y42,CSVデータ4!Y42)","v":0},{"$f":"SUM(CSVデータ1!Z42,CSVデータ2!Z42,CSVデータ3!Z42,CSVデータ4!Z42)","v":0},{"$f":"SUM(CSVデータ1!AA42,CSVデータ2!AA42,CSVデータ3!AA42,CSVデータ4!AA42)","v":0},{"$f":"SUM(CSVデータ1!AB42,CSVデータ2!AB42,CSVデータ3!AB42,CSVデータ4!AB42)","v":0},{"$f":"SUM(CSVデータ1!AC42,CSVデータ2!AC42,CSVデータ3!AC42,CSVデータ4!AC42)","v":0},{"$f":"SUM(CSVデータ1!AD42,CSVデータ2!AD42,CSVデータ3!AD42,CSVデータ4!AD42)","v":0},{"$f":"SUM(CSVデータ1!AE42,CSVデータ2!AE42,CSVデータ3!AE42,CSVデータ4!AE42)","v":0},{"$f":"SUM(CSVデータ1!AF42,CSVデータ2!AF42,CSVデータ3!AF42,CSVデータ4!AF42)","v":0},{"$f":"SUM(CSVデータ1!AG42,CSVデータ2!AG42,CSVデータ3!AG42,CSVデータ4!AG42)","v":0}]
[{"$f":"CSVデータ1!A43","v":"明細部"},{"$f":"CSVデータ1!B43","v":"国"},{"$f":"CSVデータ1!C43","v":104},{"$f":"CSVデータ1!D43","v":"男"},{"$f":"SUM(CSVデータ1!E43,CSVデータ2!E43,CSVデータ3!E43,CSVデータ4!E43)","v":0},{"$f":"SUM(CSVデータ1!F43,CSVデータ2!F43,CSVデータ3!F43,CSVデータ4!F43)","v":0},{"$f":"SUM(CSVデータ1!G43,CSVデータ2!G43,CSVデータ3!G43,CSVデータ4!G43)","v":0},{"$f":"SUM(CSVデータ1!H43,CSVデータ2!H43,CSVデータ3!H43,CSVデータ4!H43)","v":0},{"$f":"SUM(CSVデータ1!I43,CSVデータ2!I43,CSVデータ3!I43,CSVデータ4!I43)","v":0},{"$f":"SUM(CSVデータ1!J43,CSVデータ2!J43,CSVデータ3!J43,CSVデータ4!J43)","v":0},{"$f":"SUM(CSVデータ1!K43,CSVデータ2!K43,CSVデータ3!K43,CSVデータ4!K43)","v":0},{"$f":"SUM(CSVデータ1!L43,CSVデータ2!L43,CSVデータ3!L43,CSVデータ4!L43)","v":0},{"$f":"SUM(CSVデータ1!M43,CSVデータ2!M43,CSVデータ3!M43,CSVデータ4!M43)","v":0},{"$f":"SUM(CSVデータ1!N43,CSVデータ2!N43,CSVデータ3!N43,CSVデータ4!N43)","v":0},{"$f":"SUM(CSVデータ1!O43,CSVデータ2!O43,CSVデータ3!O43,CSVデータ4!O43)","v":0},{"$f":"SUM(CSVデータ1!P43,CSVデータ2!P43,CSVデータ3!P43,CSVデータ4!P43)","v":0},{"$f":"SUM(CSVデータ1!Q43,CSVデータ2!Q43,CSVデータ3!Q43,CSVデータ4!Q43)","v":0},{"$f":"SUM(CSVデータ1!R43,CSVデータ2!R43,CSVデータ3!R43,CSVデータ4!R43)","v":0},{"$f":"SUM(CSVデータ1!S43,CSVデータ2!S43,CSVデータ3!S43,CSVデータ4!S43)","v":0},{"$f":"SUM(CSVデータ1!T43,CSVデータ2!T43,CSVデータ3!T43,CSVデータ4!T43)","v":0},{"$f":"SUM(CSVデータ1!U43,CSVデータ2!U43,CSVデータ3!U43,CSVデータ4!U43)","v":0},{"$f":"SUM(CSVデータ1!V43,CSVデータ2!V43,CSVデータ3!V43,CSVデータ4!V43)","v":0},{"$f":"SUM(CSVデータ1!W43,CSVデータ2!W43,CSVデータ3!W43,CSVデータ4!W43)","v":0},{"$f":"SUM(CSVデータ1!X43,CSVデータ2!X43,CSVデータ3!X43,CSVデータ4!X43)","v":0},{"$f":"SUM(CSVデータ1!Y43,CSVデータ2!Y43,CSVデータ3!Y43,CSVデータ4!Y43)","v":0},{"$f":"SUM(CSVデータ1!Z43,CSVデータ2!Z43,CSVデータ3!Z43,CSVデータ4!Z43)","v":0},{"$f":"SUM(CSVデータ1!AA43,CSVデータ2!AA43,CSVデータ3!AA43,CSVデータ4!AA43)","v":0},{"$f":"SUM(CSVデータ1!AB43,CSVデータ2!AB43,CSVデータ3!AB43,CSVデータ4!AB43)","v":0},{"$f":"SUM(CSVデータ1!AC43,CSVデータ2!AC43,CSVデータ3!AC43,CSVデータ4!AC43)","v":0},{"$f":"SUM(CSVデータ1!AD43,CSVデータ2!AD43,CSVデータ3!AD43,CSVデータ4!AD43)","v":0},{"$f":"SUM(CSVデータ1!AE43,CSVデータ2!AE43,CSVデータ3!AE43,CSVデータ4!AE43)","v":0},{"$f":"SUM(CSVデータ1!AF43,CSVデータ2!AF43,CSVデータ3!AF43,CSVデータ4!AF43)","v":0},{"$f":"SUM(CSVデータ1!AG43,CSVデータ2!AG43,CSVデータ3!AG43,CSVデータ4!AG43)","v":0}]
[{"$f":"CSVデータ1!A44","v":"明細部"},{"$f":"CSVデータ1!B44","v":"国"},{"$f":"CSVデータ1!C44","v":105},{"$f":"CSVデータ1!D44","v":"男"},{"$f":"SUM(CSVデータ1!E44,CSVデータ2!E44,CSVデータ3!E44,CSVデータ4!E44)","v":0},{"$f":"SUM(CSVデータ1!F44,CSVデータ2!F44,CSVデータ3!F44,CSVデータ4!F44)","v":0},{"$f":"SUM(CSVデータ1!G44,CSVデータ2!G44,CSVデータ3!G44,CSVデータ4!G44)","v":0},{"$f":"SUM(CSVデータ1!H44,CSVデータ2!H44,CSVデータ3!H44,CSVデータ4!H44)","v":0},{"$f":"SUM(CSVデータ1!I44,CSVデータ2!I44,CSVデータ3!I44,CSVデータ4!I44)","v":0},{"$f":"SUM(CSVデータ1!J44,CSVデータ2!J44,CSVデータ3!J44,CSVデータ4!J44)","v":0},{"$f":"SUM(CSVデータ1!K44,CSVデータ2!K44,CSVデータ3!K44,CSVデータ4!K44)","v":0},{"$f":"SUM(CSVデータ1!L44,CSVデータ2!L44,CSVデータ3!L44,CSVデータ4!L44)","v":0},{"$f":"SUM(CSVデータ1!M44,CSVデータ2!M44,CSVデータ3!M44,CSVデータ4!M44)","v":0},{"$f":"SUM(CSVデータ1!N44,CSVデータ2!N44,CSVデータ3!N44,CSVデータ4!N44)","v":0},{"$f":"SUM(CSVデータ1!O44,CSVデータ2!O44,CSVデータ3!O44,CSVデータ4!O44)","v":0},{"$f":"SUM(CSVデータ1!P44,CSVデータ2!P44,CSVデータ3!P44,CSVデータ4!P44)","v":0},{"$f":"SUM(CSVデータ1!Q44,CSVデータ2!Q44,CSVデータ3!Q44,CSVデータ4!Q44)","v":0},{"$f":"SUM(CSVデータ1!R44,CSVデータ2!R44,CSVデータ3!R44,CSVデータ4!R44)","v":0},{"$f":"SUM(CSVデータ1!S44,CSVデータ2!S44,CSVデータ3!S44,CSVデータ4!S44)","v":0},{"$f":"SUM(CSVデータ1!T44,CSVデータ2!T44,CSVデータ3!T44,CSVデータ4!T44)","v":0},{"$f":"SUM(CSVデータ1!U44,CSVデータ2!U44,CSVデータ3!U44,CSVデータ4!U44)","v":0},{"$f":"SUM(CSVデータ1!V44,CSVデータ2!V44,CSVデータ3!V44,CSVデータ4!V44)","v":0},{"$f":"SUM(CSVデータ1!W44,CSVデータ2!W44,CSVデータ3!W44,CSVデータ4!W44)","v":0},{"$f":"SUM(CSVデータ1!X44,CSVデータ2!X44,CSVデータ3!X44,CSVデータ4!X44)","v":0},{"$f":"SUM(CSVデータ1!Y44,CSVデータ2!Y44,CSVデータ3!Y44,CSVデータ4!Y44)","v":0},{"$f":"SUM(CSVデータ1!Z44,CSVデータ2!Z44,CSVデータ3!Z44,CSVデータ4!Z44)","v":0},{"$f":"SUM(CSVデータ1!AA44,CSVデータ2!AA44,CSVデータ3!AA44,CSVデータ4!AA44)","v":0},{"$f":"SUM(CSVデータ1!AB44,CSVデータ2!AB44,CSVデータ3!AB44,CSVデータ4!AB44)","v":0},{"$f":"SUM(CSVデータ1!AC44,CSVデータ2!AC44,CSVデータ3!AC44,CSVデータ4!AC44)","v":0},{"$f":"SUM(CSVデータ1!AD44,CSVデータ2!AD44,CSVデータ3!AD44,CSVデータ4!AD44)","v":0},{"$f":"SUM(CSVデータ1!AE44,CSVデータ2!AE44,CSVデータ3!AE44,CSVデータ4!AE44)","v":0},{"$f":"SUM(CSVデータ1!AF44,CSVデータ2!AF44,CSVデータ3!AF44,CSVデータ4!AF44)","v":0},{"$f":"SUM(CSVデータ1!AG44,CSVデータ2!AG44,CSVデータ3!AG44,CSVデータ4!AG44)","v":0}]
[{"$f":"CSVデータ1!A45","v":"明細部"},{"$f":"CSVデータ1!B45","v":"国"},{"$f":"CSVデータ1!C45","v":106},{"$f":"CSVデータ1!D45","v":"男"},{"$f":"SUM(CSVデータ1!E45,CSVデータ2!E45,CSVデータ3!E45,CSVデータ4!E45)","v":0},{"$f":"SUM(CSVデータ1!F45,CSVデータ2!F45,CSVデータ3!F45,CSVデータ4!F45)","v":0},{"$f":"SUM(CSVデータ1!G45,CSVデータ2!G45,CSVデータ3!G45,CSVデータ4!G45)","v":0},{"$f":"SUM(CSVデータ1!H45,CSVデータ2!H45,CSVデータ3!H45,CSVデータ4!H45)","v":0},{"$f":"SUM(CSVデータ1!I45,CSVデータ2!I45,CSVデータ3!I45,CSVデータ4!I45)","v":0},{"$f":"SUM(CSVデータ1!J45,CSVデータ2!J45,CSVデータ3!J45,CSVデータ4!J45)","v":0},{"$f":"SUM(CSVデータ1!K45,CSVデータ2!K45,CSVデータ3!K45,CSVデータ4!K45)","v":0},{"$f":"SUM(CSVデータ1!L45,CSVデータ2!L45,CSVデータ3!L45,CSVデータ4!L45)","v":0},{"$f":"SUM(CSVデータ1!M45,CSVデータ2!M45,CSVデータ3!M45,CSVデータ4!M45)","v":0},{"$f":"SUM(CSVデータ1!N45,CSVデータ2!N45,CSVデータ3!N45,CSVデータ4!N45)","v":0},{"$f":"SUM(CSVデータ1!O45,CSVデータ2!O45,CSVデータ3!O45,CSVデータ4!O45)","v":0},{"$f":"SUM(CSVデータ1!P45,CSVデータ2!P45,CSVデータ3!P45,CSVデータ4!P45)","v":0},{"$f":"SUM(CSVデータ1!Q45,CSVデータ2!Q45,CSVデータ3!Q45,CSVデータ4!Q45)","v":0},{"$f":"SUM(CSVデータ1!R45,CSVデータ2!R45,CSVデータ3!R45,CSVデータ4!R45)","v":0},{"$f":"SUM(CSVデータ1!S45,CSVデータ2!S45,CSVデータ3!S45,CSVデータ4!S45)","v":0},{"$f":"SUM(CSVデータ1!T45,CSVデータ2!T45,CSVデータ3!T45,CSVデータ4!T45)","v":0},{"$f":"SUM(CSVデータ1!U45,CSVデータ2!U45,CSVデータ3!U45,CSVデータ4!U45)","v":0},{"$f":"SUM(CSVデータ1!V45,CSVデータ2!V45,CSVデータ3!V45,CSVデータ4!V45)","v":0},{"$f":"SUM(CSVデータ1!W45,CSVデータ2!W45,CSVデータ3!W45,CSVデータ4!W45)","v":0},{"$f":"SUM(CSVデータ1!X45,CSVデータ2!X45,CSVデータ3!X45,CSVデータ4!X45)","v":0},{"$f":"SUM(CSVデータ1!Y45,CSVデータ2!Y45,CSVデータ3!Y45,CSVデータ4!Y45)","v":0},{"$f":"SUM(CSVデータ1!Z45,CSVデータ2!Z45,CSVデータ3!Z45,CSVデータ4!Z45)","v":0},{"$f":"SUM(CSVデータ1!AA45,CSVデータ2!AA45,CSVデータ3!AA45,CSVデータ4!AA45)","v":0},{"$f":"SUM(CSVデータ1!AB45,CSVデータ2!AB45,CSVデータ3!AB45,CSVデータ4!AB45)","v":0},{"$f":"SUM(CSVデータ1!AC45,CSVデータ2!AC45,CSVデータ3!AC45,CSVデータ4!AC45)","v":0},{"$f":"SUM(CSVデータ1!AD45,CSVデータ2!AD45,CSVデータ3!AD45,CSVデータ4!AD45)","v":0},{"$f":"SUM(CSVデータ1!AE45,CSVデータ2!AE45,CSVデータ3!AE45,CSVデータ4!AE45)","v":0},{"$f":"SUM(CSVデータ1!AF45,CSVデータ2!AF45,CSVデータ3!AF45,CSVデータ4!AF45)","v":0},{"$f":"SUM(CSVデータ1!AG45,CSVデータ2!AG45,CSVデータ3!AG45,CSVデータ4!AG45)","v":0}]
[{"$f":"CSVデータ1!A46","v":"明細部"},{"$f":"CSVデータ1!B46","v":"国"},{"$f":"CSVデータ1!C46","v":107},{"$f":"CSVデータ1!D46","v":"男"},{"$f":"SUM(CSVデータ1!E46,CSVデータ2!E46,CSVデータ3!E46,CSVデータ4!E46)","v":0},{"$f":"SUM(CSVデータ1!F46,CSVデータ2!F46,CSVデータ3!F46,CSVデータ4!F46)","v":0},{"$f":"SUM(CSVデータ1!G46,CSVデータ2!G46,CSVデータ3!G46,CSVデータ4!G46)","v":0},{"$f":"SUM(CSVデータ1!H46,CSVデータ2!H46,CSVデータ3!H46,CSVデータ4!H46)","v":0},{"$f":"SUM(CSVデータ1!I46,CSVデータ2!I46,CSVデータ3!I46,CSVデータ4!I46)","v":0},{"$f":"SUM(CSVデータ1!J46,CSVデータ2!J46,CSVデータ3!J46,CSVデータ4!J46)","v":0},{"$f":"SUM(CSVデータ1!K46,CSVデータ2!K46,CSVデータ3!K46,CSVデータ4!K46)","v":0},{"$f":"SUM(CSVデータ1!L46,CSVデータ2!L46,CSVデータ3!L46,CSVデータ4!L46)","v":0},{"$f":"SUM(CSVデータ1!M46,CSVデータ2!M46,CSVデータ3!M46,CSVデータ4!M46)","v":0},{"$f":"SUM(CSVデータ1!N46,CSVデータ2!N46,CSVデータ3!N46,CSVデータ4!N46)","v":0},{"$f":"SUM(CSVデータ1!O46,CSVデータ2!O46,CSVデータ3!O46,CSVデータ4!O46)","v":0},{"$f":"SUM(CSVデータ1!P46,CSVデータ2!P46,CSVデータ3!P46,CSVデータ4!P46)","v":0},{"$f":"SUM(CSVデータ1!Q46,CSVデータ2!Q46,CSVデータ3!Q46,CSVデータ4!Q46)","v":0},{"$f":"SUM(CSVデータ1!R46,CSVデータ2!R46,CSVデータ3!R46,CSVデータ4!R46)","v":0},{"$f":"SUM(CSVデータ1!S46,CSVデータ2!S46,CSVデータ3!S46,CSVデータ4!S46)","v":0},{"$f":"SUM(CSVデータ1!T46,CSVデータ2!T46,CSVデータ3!T46,CSVデータ4!T46)","v":0},{"$f":"SUM(CSVデータ1!U46,CSVデータ2!U46,CSVデータ3!U46,CSVデータ4!U46)","v":0},{"$f":"SUM(CSVデータ1!V46,CSVデータ2!V46,CSVデータ3!V46,CSVデータ4!V46)","v":0},{"$f":"SUM(CSVデータ1!W46,CSVデータ2!W46,CSVデータ3!W46,CSVデータ4!W46)","v":0},{"$f":"SUM(CSVデータ1!X46,CSVデータ2!X46,CSVデータ3!X46,CSVデータ4!X46)","v":0},{"$f":"SUM(CSVデータ1!Y46,CSVデータ2!Y46,CSVデータ3!Y46,CSVデータ4!Y46)","v":0},{"$f":"SUM(CSVデータ1!Z46,CSVデータ2!Z46,CSVデータ3!Z46,CSVデータ4!Z46)","v":0},{"$f":"SUM(CSVデータ1!AA46,CSVデータ2!AA46,CSVデータ3!AA46,CSVデータ4!AA46)","v":0},{"$f":"SUM(CSVデータ1!AB46,CSVデータ2!AB46,CSVデータ3!AB46,CSVデータ4!AB46)","v":0},{"$f":"SUM(CSVデータ1!AC46,CSVデータ2!AC46,CSVデータ3!AC46,CSVデータ4!AC46)","v":0},{"$f":"SUM(CSVデータ1!AD46,CSVデータ2!AD46,CSVデータ3!AD46,CSVデータ4!AD46)","v":0},{"$f":"SUM(CSVデータ1!AE46,CSVデータ2!AE46,CSVデータ3!AE46,CSVデータ4!AE46)","v":0},{"$f":"SUM(CSVデータ1!AF46,CSVデータ2!AF46,CSVデータ3!AF46,CSVデータ4!AF46)","v":0},{"$f":"SUM(CSVデータ1!AG46,CSVデータ2!AG46,CSVデータ3!AG46,CSVデータ4!AG46)","v":0}]
[{"$f":"CSVデータ1!A47","v":"明細部"},{"$f":"CSVデータ1!B47","v":"国"},{"$f":"CSVデータ1!C47","v":108},{"$f":"CSVデータ1!D47","v":"男"},{"$f":"SUM(CSVデータ1!E47,CSVデータ2!E47,CSVデータ3!E47,CSVデータ4!E47)","v":0},{"$f":"SUM(CSVデータ1!F47,CSVデータ2!F47,CSVデータ3!F47,CSVデータ4!F47)","v":0},{"$f":"SUM(CSVデータ1!G47,CSVデータ2!G47,CSVデータ3!G47,CSVデータ4!G47)","v":0},{"$f":"SUM(CSVデータ1!H47,CSVデータ2!H47,CSVデータ3!H47,CSVデータ4!H47)","v":0},{"$f":"SUM(CSVデータ1!I47,CSVデータ2!I47,CSVデータ3!I47,CSVデータ4!I47)","v":0},{"$f":"SUM(CSVデータ1!J47,CSVデータ2!J47,CSVデータ3!J47,CSVデータ4!J47)","v":0},{"$f":"SUM(CSVデータ1!K47,CSVデータ2!K47,CSVデータ3!K47,CSVデータ4!K47)","v":0},{"$f":"SUM(CSVデータ1!L47,CSVデータ2!L47,CSVデータ3!L47,CSVデータ4!L47)","v":0},{"$f":"SUM(CSVデータ1!M47,CSVデータ2!M47,CSVデータ3!M47,CSVデータ4!M47)","v":0},{"$f":"SUM(CSVデータ1!N47,CSVデータ2!N47,CSVデータ3!N47,CSVデータ4!N47)","v":0},{"$f":"SUM(CSVデータ1!O47,CSVデータ2!O47,CSVデータ3!O47,CSVデータ4!O47)","v":0},{"$f":"SUM(CSVデータ1!P47,CSVデータ2!P47,CSVデータ3!P47,CSVデータ4!P47)","v":0},{"$f":"SUM(CSVデータ1!Q47,CSVデータ2!Q47,CSVデータ3!Q47,CSVデータ4!Q47)","v":0},{"$f":"SUM(CSVデータ1!R47,CSVデータ2!R47,CSVデータ3!R47,CSVデータ4!R47)","v":0},{"$f":"SUM(CSVデータ1!S47,CSVデータ2!S47,CSVデータ3!S47,CSVデータ4!S47)","v":0},{"$f":"SUM(CSVデータ1!T47,CSVデータ2!T47,CSVデータ3!T47,CSVデータ4!T47)","v":0},{"$f":"SUM(CSVデータ1!U47,CSVデータ2!U47,CSVデータ3!U47,CSVデータ4!U47)","v":0},{"$f":"SUM(CSVデータ1!V47,CSVデータ2!V47,CSVデータ3!V47,CSVデータ4!V47)","v":0},{"$f":"SUM(CSVデータ1!W47,CSVデータ2!W47,CSVデータ3!W47,CSVデータ4!W47)","v":0},{"$f":"SUM(CSVデータ1!X47,CSVデータ2!X47,CSVデータ3!X47,CSVデータ4!X47)","v":0},{"$f":"SUM(CSVデータ1!Y47,CSVデータ2!Y47,CSVデータ3!Y47,CSVデータ4!Y47)","v":0},{"$f":"SUM(CSVデータ1!Z47,CSVデータ2!Z47,CSVデータ3!Z47,CSVデータ4!Z47)","v":0},{"$f":"SUM(CSVデータ1!AA47,CSVデータ2!AA47,CSVデータ3!AA47,CSVデータ4!AA47)","v":0},{"$f":"SUM(CSVデータ1!AB47,CSVデータ2!AB47,CSVデータ3!AB47,CSVデータ4!AB47)","v":0},{"$f":"SUM(CSVデータ1!AC47,CSVデータ2!AC47,CSVデータ3!AC47,CSVデータ4!AC47)","v":0},{"$f":"SUM(CSVデータ1!AD47,CSVデータ2!AD47,CSVデータ3!AD47,CSVデータ4!AD47)","v":0},{"$f":"SUM(CSVデータ1!AE47,CSVデータ2!AE47,CSVデータ3!AE47,CSVデータ4!AE47)","v":0},{"$f":"SUM(CSVデータ1!AF47,CSVデータ2!AF47,CSVデータ3!AF47,CSVデータ4!AF47)","v":0},{"$f":"SUM(CSVデータ1!AG47,CSVデータ2!AG47,CSVデータ3!AG47,CSVデータ4!AG47)","v":0}]
[{"$f":"CSVデータ1!A48","v":"明細部"},{"$f":"CSVデータ1!B48","v":"国"},{"$f":"CSVデータ1!C48","v":109},{"$f":"CSVデータ1!D48","v":"男"},{"$f":"SUM(CSVデータ1!E48,CSVデータ2!E48,CSVデータ3!E48,CSVデータ4!E48)","v":0},{"$f":"SUM(CSVデータ1!F48,CSVデータ2!F48,CSVデータ3!F48,CSVデータ4!F48)","v":0},{"$f":"SUM(CSVデータ1!G48,CSVデータ2!G48,CSVデータ3!G48,CSVデータ4!G48)","v":0},{"$f":"SUM(CSVデータ1!H48,CSVデータ2!H48,CSVデータ3!H48,CSVデータ4!H48)","v":0},{"$f":"SUM(CSVデータ1!I48,CSVデータ2!I48,CSVデータ3!I48,CSVデータ4!I48)","v":0},{"$f":"SUM(CSVデータ1!J48,CSVデータ2!J48,CSVデータ3!J48,CSVデータ4!J48)","v":0},{"$f":"SUM(CSVデータ1!K48,CSVデータ2!K48,CSVデータ3!K48,CSVデータ4!K48)","v":0},{"$f":"SUM(CSVデータ1!L48,CSVデータ2!L48,CSVデータ3!L48,CSVデータ4!L48)","v":0},{"$f":"SUM(CSVデータ1!M48,CSVデータ2!M48,CSVデータ3!M48,CSVデータ4!M48)","v":0},{"$f":"SUM(CSVデータ1!N48,CSVデータ2!N48,CSVデータ3!N48,CSVデータ4!N48)","v":0},{"$f":"SUM(CSVデータ1!O48,CSVデータ2!O48,CSVデータ3!O48,CSVデータ4!O48)","v":0},{"$f":"SUM(CSVデータ1!P48,CSVデータ2!P48,CSVデータ3!P48,CSVデータ4!P48)","v":0},{"$f":"SUM(CSVデータ1!Q48,CSVデータ2!Q48,CSVデータ3!Q48,CSVデータ4!Q48)","v":0},{"$f":"SUM(CSVデータ1!R48,CSVデータ2!R48,CSVデータ3!R48,CSVデータ4!R48)","v":0},{"$f":"SUM(CSVデータ1!S48,CSVデータ2!S48,CSVデータ3!S48,CSVデータ4!S48)","v":0},{"$f":"SUM(CSVデータ1!T48,CSVデータ2!T48,CSVデータ3!T48,CSVデータ4!T48)","v":0},{"$f":"SUM(CSVデータ1!U48,CSVデータ2!U48,CSVデータ3!U48,CSVデータ4!U48)","v":0},{"$f":"SUM(CSVデータ1!V48,CSVデータ2!V48,CSVデータ3!V48,CSVデータ4!V48)","v":0},{"$f":"SUM(CSVデータ1!W48,CSVデータ2!W48,CSVデータ3!W48,CSVデータ4!W48)","v":0},{"$f":"SUM(CSVデータ1!X48,CSVデータ2!X48,CSVデータ3!X48,CSVデータ4!X48)","v":0},{"$f":"SUM(CSVデータ1!Y48,CSVデータ2!Y48,CSVデータ3!Y48,CSVデータ4!Y48)","v":0},{"$f":"SUM(CSVデータ1!Z48,CSVデータ2!Z48,CSVデータ3!Z48,CSVデータ4!Z48)","v":0},{"$f":"SUM(CSVデータ1!AA48,CSVデータ2!AA48,CSVデータ3!AA48,CSVデータ4!AA48)","v":0},{"$f":"SUM(CSVデータ1!AB48,CSVデータ2!AB48,CSVデータ3!AB48,CSVデータ4!AB48)","v":0},{"$f":"SUM(CSVデータ1!AC48,CSVデータ2!AC48,CSVデータ3!AC48,CSVデータ4!AC48)","v":0},{"$f":"SUM(CSVデータ1!AD48,CSVデータ2!AD48,CSVデータ3!AD48,CSVデータ4!AD48)","v":0},{"$f":"SUM(CSVデータ1!AE48,CSVデータ2!AE48,CSVデータ3!AE48,CSVデータ4!AE48)","v":0},{"$f":"SUM(CSVデータ1!AF48,CSVデータ2!AF48,CSVデータ3!AF48,CSVデータ4!AF48)","v":0},{"$f":"SUM(CSVデータ1!AG48,CSVデータ2!AG48,CSVデータ3!AG48,CSVデータ4!AG48)","v":0}]
[{"$f":"CSVデータ1!A49","v":"明細部"},{"$f":"CSVデータ1!B49","v":"国"},{"$f":"CSVデータ1!C49","v":110},{"$f":"CSVデータ1!D49","v":"男"},{"$f":"SUM(CSVデータ1!E49,CSVデータ2!E49,CSVデータ3!E49,CSVデータ4!E49)","v":0},{"$f":"SUM(CSVデータ1!F49,CSVデータ2!F49,CSVデータ3!F49,CSVデータ4!F49)","v":0},{"$f":"SUM(CSVデータ1!G49,CSVデータ2!G49,CSVデータ3!G49,CSVデータ4!G49)","v":0},{"$f":"SUM(CSVデータ1!H49,CSVデータ2!H49,CSVデータ3!H49,CSVデータ4!H49)","v":0},{"$f":"SUM(CSVデータ1!I49,CSVデータ2!I49,CSVデータ3!I49,CSVデータ4!I49)","v":0},{"$f":"SUM(CSVデータ1!J49,CSVデータ2!J49,CSVデータ3!J49,CSVデータ4!J49)","v":0},{"$f":"SUM(CSVデータ1!K49,CSVデータ2!K49,CSVデータ3!K49,CSVデータ4!K49)","v":0},{"$f":"SUM(CSVデータ1!L49,CSVデータ2!L49,CSVデータ3!L49,CSVデータ4!L49)","v":0},{"$f":"SUM(CSVデータ1!M49,CSVデータ2!M49,CSVデータ3!M49,CSVデータ4!M49)","v":0},{"$f":"SUM(CSVデータ1!N49,CSVデータ2!N49,CSVデータ3!N49,CSVデータ4!N49)","v":0},{"$f":"SUM(CSVデータ1!O49,CSVデータ2!O49,CSVデータ3!O49,CSVデータ4!O49)","v":0},{"$f":"SUM(CSVデータ1!P49,CSVデータ2!P49,CSVデータ3!P49,CSVデータ4!P49)","v":0},{"$f":"SUM(CSVデータ1!Q49,CSVデータ2!Q49,CSVデータ3!Q49,CSVデータ4!Q49)","v":0},{"$f":"SUM(CSVデータ1!R49,CSVデータ2!R49,CSVデータ3!R49,CSVデータ4!R49)","v":0},{"$f":"SUM(CSVデータ1!S49,CSVデータ2!S49,CSVデータ3!S49,CSVデータ4!S49)","v":0},{"$f":"SUM(CSVデータ1!T49,CSVデータ2!T49,CSVデータ3!T49,CSVデータ4!T49)","v":0},{"$f":"SUM(CSVデータ1!U49,CSVデータ2!U49,CSVデータ3!U49,CSVデータ4!U49)","v":0},{"$f":"SUM(CSVデータ1!V49,CSVデータ2!V49,CSVデータ3!V49,CSVデータ4!V49)","v":0},{"$f":"SUM(CSVデータ1!W49,CSVデータ2!W49,CSVデータ3!W49,CSVデータ4!W49)","v":0},{"$f":"SUM(CSVデータ1!X49,CSVデータ2!X49,CSVデータ3!X49,CSVデータ4!X49)","v":0},{"$f":"SUM(CSVデータ1!Y49,CSVデータ2!Y49,CSVデータ3!Y49,CSVデータ4!Y49)","v":0},{"$f":"SUM(CSVデータ1!Z49,CSVデータ2!Z49,CSVデータ3!Z49,CSVデータ4!Z49)","v":0},{"$f":"SUM(CSVデータ1!AA49,CSVデータ2!AA49,CSVデータ3!AA49,CSVデータ4!AA49)","v":0},{"$f":"SUM(CSVデータ1!AB49,CSVデータ2!AB49,CSVデータ3!AB49,CSVデータ4!AB49)","v":0},{"$f":"SUM(CSVデータ1!AC49,CSVデータ2!AC49,CSVデータ3!AC49,CSVデータ4!AC49)","v":0},{"$f":"SUM(CSVデータ1!AD49,CSVデータ2!AD49,CSVデータ3!AD49,CSVデータ4!AD49)","v":0},{"$f":"SUM(CSVデータ1!AE49,CSVデータ2!AE49,CSVデータ3!AE49,CSVデータ4!AE49)","v":0},{"$f":"SUM(CSVデータ1!AF49,CSVデータ2!AF49,CSVデータ3!AF49,CSVデータ4!AF49)","v":0},{"$f":"SUM(CSVデータ1!AG49,CSVデータ2!AG49,CSVデータ3!AG49,CSVデータ4!AG49)","v":0}]
[{"$f":"CSVデータ1!A50","v":"明細部"},{"$f":"CSVデータ1!B50","v":"国"},{"$f":"CSVデータ1!C50","v":111},{"$f":"CSVデータ1!D50","v":"男"},{"$f":"SUM(CSVデータ1!E50,CSVデータ2!E50,CSVデータ3!E50,CSVデータ4!E50)","v":0},{"$f":"SUM(CSVデータ1!F50,CSVデータ2!F50,CSVデータ3!F50,CSVデータ4!F50)","v":0},{"$f":"SUM(CSVデータ1!G50,CSVデータ2!G50,CSVデータ3!G50,CSVデータ4!G50)","v":0},{"$f":"SUM(CSVデータ1!H50,CSVデータ2!H50,CSVデータ3!H50,CSVデータ4!H50)","v":0},{"$f":"SUM(CSVデータ1!I50,CSVデータ2!I50,CSVデータ3!I50,CSVデータ4!I50)","v":0},{"$f":"SUM(CSVデータ1!J50,CSVデータ2!J50,CSVデータ3!J50,CSVデータ4!J50)","v":0},{"$f":"SUM(CSVデータ1!K50,CSVデータ2!K50,CSVデータ3!K50,CSVデータ4!K50)","v":0},{"$f":"SUM(CSVデータ1!L50,CSVデータ2!L50,CSVデータ3!L50,CSVデータ4!L50)","v":0},{"$f":"SUM(CSVデータ1!M50,CSVデータ2!M50,CSVデータ3!M50,CSVデータ4!M50)","v":0},{"$f":"SUM(CSVデータ1!N50,CSVデータ2!N50,CSVデータ3!N50,CSVデータ4!N50)","v":0},{"$f":"SUM(CSVデータ1!O50,CSVデータ2!O50,CSVデータ3!O50,CSVデータ4!O50)","v":0},{"$f":"SUM(CSVデータ1!P50,CSVデータ2!P50,CSVデータ3!P50,CSVデータ4!P50)","v":0},{"$f":"SUM(CSVデータ1!Q50,CSVデータ2!Q50,CSVデータ3!Q50,CSVデータ4!Q50)","v":0},{"$f":"SUM(CSVデータ1!R50,CSVデータ2!R50,CSVデータ3!R50,CSVデータ4!R50)","v":0},{"$f":"SUM(CSVデータ1!S50,CSVデータ2!S50,CSVデータ3!S50,CSVデータ4!S50)","v":0},{"$f":"SUM(CSVデータ1!T50,CSVデータ2!T50,CSVデータ3!T50,CSVデータ4!T50)","v":0},{"$f":"SUM(CSVデータ1!U50,CSVデータ2!U50,CSVデータ3!U50,CSVデータ4!U50)","v":0},{"$f":"SUM(CSVデータ1!V50,CSVデータ2!V50,CSVデータ3!V50,CSVデータ4!V50)","v":0},{"$f":"SUM(CSVデータ1!W50,CSVデータ2!W50,CSVデータ3!W50,CSVデータ4!W50)","v":0},{"$f":"SUM(CSVデータ1!X50,CSVデータ2!X50,CSVデータ3!X50,CSVデータ4!X50)","v":0},{"$f":"SUM(CSVデータ1!Y50,CSVデータ2!Y50,CSVデータ3!Y50,CSVデータ4!Y50)","v":0},{"$f":"SUM(CSVデータ1!Z50,CSVデータ2!Z50,CSVデータ3!Z50,CSVデータ4!Z50)","v":0},{"$f":"SUM(CSVデータ1!AA50,CSVデータ2!AA50,CSVデータ3!AA50,CSVデータ4!AA50)","v":0},{"$f":"SUM(CSVデータ1!AB50,CSVデータ2!AB50,CSVデータ3!AB50,CSVデータ4!AB50)","v":0},{"$f":"SUM(CSVデータ1!AC50,CSVデータ2!AC50,CSVデータ3!AC50,CSVデータ4!AC50)","v":0},{"$f":"SUM(CSVデータ1!AD50,CSVデータ2!AD50,CSVデータ3!AD50,CSVデータ4!AD50)","v":0},{"$f":"SUM(CSVデータ1!AE50,CSVデータ2!AE50,CSVデータ3!AE50,CSVデータ4!AE50)","v":0},{"$f":"SUM(CSVデータ1!AF50,CSVデータ2!AF50,CSVデータ3!AF50,CSVデータ4!AF50)","v":0},{"$f":"SUM(CSVデータ1!AG50,CSVデータ2!AG50,CSVデータ3!AG50,CSVデータ4!AG50)","v":0}]
[{"$f":"CSVデータ1!A51","v":"明細部"},{"$f":"CSVデータ1!B51","v":"国"},{"$f":"CSVデータ1!C51","v":112},{"$f":"CSVデータ1!D51","v":"男"},{"$f":"SUM(CSVデータ1!E51,CSVデータ2!E51,CSVデータ3!E51,CSVデータ4!E51)","v":0},{"$f":"SUM(CSVデータ1!F51,CSVデータ2!F51,CSVデータ3!F51,CSVデータ4!F51)","v":0},{"$f":"SUM(CSVデータ1!G51,CSVデータ2!G51,CSVデータ3!G51,CSVデータ4!G51)","v":0},{"$f":"SUM(CSVデータ1!H51,CSVデータ2!H51,CSVデータ3!H51,CSVデータ4!H51)","v":0},{"$f":"SUM(CSVデータ1!I51,CSVデータ2!I51,CSVデータ3!I51,CSVデータ4!I51)","v":0},{"$f":"SUM(CSVデータ1!J51,CSVデータ2!J51,CSVデータ3!J51,CSVデータ4!J51)","v":0},{"$f":"SUM(CSVデータ1!K51,CSVデータ2!K51,CSVデータ3!K51,CSVデータ4!K51)","v":0},{"$f":"SUM(CSVデータ1!L51,CSVデータ2!L51,CSVデータ3!L51,CSVデータ4!L51)","v":0},{"$f":"SUM(CSVデータ1!M51,CSVデータ2!M51,CSVデータ3!M51,CSVデータ4!M51)","v":0},{"$f":"SUM(CSVデータ1!N51,CSVデータ2!N51,CSVデータ3!N51,CSVデータ4!N51)","v":0},{"$f":"SUM(CSVデータ1!O51,CSVデータ2!O51,CSVデータ3!O51,CSVデータ4!O51)","v":0},{"$f":"SUM(CSVデータ1!P51,CSVデータ2!P51,CSVデータ3!P51,CSVデータ4!P51)","v":0},{"$f":"SUM(CSVデータ1!Q51,CSVデータ2!Q51,CSVデータ3!Q51,CSVデータ4!Q51)","v":0},{"$f":"SUM(CSVデータ1!R51,CSVデータ2!R51,CSVデータ3!R51,CSVデータ4!R51)","v":0},{"$f":"SUM(CSVデータ1!S51,CSVデータ2!S51,CSVデータ3!S51,CSVデータ4!S51)","v":0},{"$f":"SUM(CSVデータ1!T51,CSVデータ2!T51,CSVデータ3!T51,CSVデータ4!T51)","v":0},{"$f":"SUM(CSVデータ1!U51,CSVデータ2!U51,CSVデータ3!U51,CSVデータ4!U51)","v":0},{"$f":"SUM(CSVデータ1!V51,CSVデータ2!V51,CSVデータ3!V51,CSVデータ4!V51)","v":0},{"$f":"SUM(CSVデータ1!W51,CSVデータ2!W51,CSVデータ3!W51,CSVデータ4!W51)","v":0},{"$f":"SUM(CSVデータ1!X51,CSVデータ2!X51,CSVデータ3!X51,CSVデータ4!X51)","v":0},{"$f":"SUM(CSVデータ1!Y51,CSVデータ2!Y51,CSVデータ3!Y51,CSVデータ4!Y51)","v":0},{"$f":"SUM(CSVデータ1!Z51,CSVデータ2!Z51,CSVデータ3!Z51,CSVデータ4!Z51)","v":0},{"$f":"SUM(CSVデータ1!AA51,CSVデータ2!AA51,CSVデータ3!AA51,CSVデータ4!AA51)","v":0},{"$f":"SUM(CSVデータ1!AB51,CSVデータ2!AB51,CSVデータ3!AB51,CSVデータ4!AB51)","v":0},{"$f":"SUM(CSVデータ1!AC51,CSVデータ2!AC51,CSVデータ3!AC51,CSVデータ4!AC51)","v":0},{"$f":"SUM(CSVデータ1!AD51,CSVデータ2!AD51,CSVデータ3!AD51,CSVデータ4!AD51)","v":0},{"$f":"SUM(CSVデータ1!AE51,CSVデータ2!AE51,CSVデータ3!AE51,CSVデータ4!AE51)","v":0},{"$f":"SUM(CSVデータ1!AF51,CSVデータ2!AF51,CSVデータ3!AF51,CSVデータ4!AF51)","v":0},{"$f":"SUM(CSVデータ1!AG51,CSVデータ2!AG51,CSVデータ3!AG51,CSVデータ4!AG51)","v":0}]
[{"$f":"CSVデータ1!A52","v":"明細部"},{"$f":"CSVデータ1!B52","v":"国"},{"$f":"CSVデータ1!C52","v":113},{"$f":"CSVデータ1!D52","v":"男"},{"$f":"SUM(CSVデータ1!E52,CSVデータ2!E52,CSVデータ3!E52,CSVデータ4!E52)","v":0},{"$f":"SUM(CSVデータ1!F52,CSVデータ2!F52,CSVデータ3!F52,CSVデータ4!F52)","v":0},{"$f":"SUM(CSVデータ1!G52,CSVデータ2!G52,CSVデータ3!G52,CSVデータ4!G52)","v":0},{"$f":"SUM(CSVデータ1!H52,CSVデータ2!H52,CSVデータ3!H52,CSVデータ4!H52)","v":0},{"$f":"SUM(CSVデータ1!I52,CSVデータ2!I52,CSVデータ3!I52,CSVデータ4!I52)","v":0},{"$f":"SUM(CSVデータ1!J52,CSVデータ2!J52,CSVデータ3!J52,CSVデータ4!J52)","v":0},{"$f":"SUM(CSVデータ1!K52,CSVデータ2!K52,CSVデータ3!K52,CSVデータ4!K52)","v":0},{"$f":"SUM(CSVデータ1!L52,CSVデータ2!L52,CSVデータ3!L52,CSVデータ4!L52)","v":0},{"$f":"SUM(CSVデータ1!M52,CSVデータ2!M52,CSVデータ3!M52,CSVデータ4!M52)","v":0},{"$f":"SUM(CSVデータ1!N52,CSVデータ2!N52,CSVデータ3!N52,CSVデータ4!N52)","v":0},{"$f":"SUM(CSVデータ1!O52,CSVデータ2!O52,CSVデータ3!O52,CSVデータ4!O52)","v":0},{"$f":"SUM(CSVデータ1!P52,CSVデータ2!P52,CSVデータ3!P52,CSVデータ4!P52)","v":0},{"$f":"SUM(CSVデータ1!Q52,CSVデータ2!Q52,CSVデータ3!Q52,CSVデータ4!Q52)","v":0},{"$f":"SUM(CSVデータ1!R52,CSVデータ2!R52,CSVデータ3!R52,CSVデータ4!R52)","v":0},{"$f":"SUM(CSVデータ1!S52,CSVデータ2!S52,CSVデータ3!S52,CSVデータ4!S52)","v":0},{"$f":"SUM(CSVデータ1!T52,CSVデータ2!T52,CSVデータ3!T52,CSVデータ4!T52)","v":0},{"$f":"SUM(CSVデータ1!U52,CSVデータ2!U52,CSVデータ3!U52,CSVデータ4!U52)","v":0},{"$f":"SUM(CSVデータ1!V52,CSVデータ2!V52,CSVデータ3!V52,CSVデータ4!V52)","v":0},{"$f":"SUM(CSVデータ1!W52,CSVデータ2!W52,CSVデータ3!W52,CSVデータ4!W52)","v":0},{"$f":"SUM(CSVデータ1!X52,CSVデータ2!X52,CSVデータ3!X52,CSVデータ4!X52)","v":0},{"$f":"SUM(CSVデータ1!Y52,CSVデータ2!Y52,CSVデータ3!Y52,CSVデータ4!Y52)","v":0},{"$f":"SUM(CSVデータ1!Z52,CSVデータ2!Z52,CSVデータ3!Z52,CSVデータ4!Z52)","v":0},{"$f":"SUM(CSVデータ1!AA52,CSVデータ2!AA52,CSVデータ3!AA52,CSVデータ4!AA52)","v":0},{"$f":"SUM(CSVデータ1!AB52,CSVデータ2!AB52,CSVデータ3!AB52,CSVデータ4!AB52)","v":0},{"$f":"SUM(CSVデータ1!AC52,CSVデータ2!AC52,CSVデータ3!AC52,CSVデータ4!AC52)","v":0},{"$f":"SUM(CSVデータ1!AD52,CSVデータ2!AD52,CSVデータ3!AD52,CSVデータ4!AD52)","v":0},{"$f":"SUM(CSVデータ1!AE52,CSVデータ2!AE52,CSVデータ3!AE52,CSVデータ4!AE52)","v":0},{"$f":"SUM(CSVデータ1!AF52,CSVデータ2!AF52,CSVデータ3!AF52,CSVデータ4!AF52)","v":0},{"$f":"SUM(CSVデータ1!AG52,CSVデータ2!AG52,CSVデータ3!AG52,CSVデータ4!AG52)","v":0}]
[{"$f":"CSVデータ1!A53","v":"明細部"},{"$f":"CSVデータ1!B53","v":"国"},{"$f":"CSVデータ1!C53","v":114},{"$f":"CSVデータ1!D53","v":"男"},{"$f":"SUM(CSVデータ1!E53,CSVデータ2!E53,CSVデータ3!E53,CSVデータ4!E53)","v":0},{"$f":"SUM(CSVデータ1!F53,CSVデータ2!F53,CSVデータ3!F53,CSVデータ4!F53)","v":0},{"$f":"SUM(CSVデータ1!G53,CSVデータ2!G53,CSVデータ3!G53,CSVデータ4!G53)","v":0},{"$f":"SUM(CSVデータ1!H53,CSVデータ2!H53,CSVデータ3!H53,CSVデータ4!H53)","v":0},{"$f":"SUM(CSVデータ1!I53,CSVデータ2!I53,CSVデータ3!I53,CSVデータ4!I53)","v":0},{"$f":"SUM(CSVデータ1!J53,CSVデータ2!J53,CSVデータ3!J53,CSVデータ4!J53)","v":0},{"$f":"SUM(CSVデータ1!K53,CSVデータ2!K53,CSVデータ3!K53,CSVデータ4!K53)","v":0},{"$f":"SUM(CSVデータ1!L53,CSVデータ2!L53,CSVデータ3!L53,CSVデータ4!L53)","v":0},{"$f":"SUM(CSVデータ1!M53,CSVデータ2!M53,CSVデータ3!M53,CSVデータ4!M53)","v":0},{"$f":"SUM(CSVデータ1!N53,CSVデータ2!N53,CSVデータ3!N53,CSVデータ4!N53)","v":0},{"$f":"SUM(CSVデータ1!O53,CSVデータ2!O53,CSVデータ3!O53,CSVデータ4!O53)","v":0},{"$f":"SUM(CSVデータ1!P53,CSVデータ2!P53,CSVデータ3!P53,CSVデータ4!P53)","v":0},{"$f":"SUM(CSVデータ1!Q53,CSVデータ2!Q53,CSVデータ3!Q53,CSVデータ4!Q53)","v":0},{"$f":"SUM(CSVデータ1!R53,CSVデータ2!R53,CSVデータ3!R53,CSVデータ4!R53)","v":0},{"$f":"SUM(CSVデータ1!S53,CSVデータ2!S53,CSVデータ3!S53,CSVデータ4!S53)","v":0},{"$f":"SUM(CSVデータ1!T53,CSVデータ2!T53,CSVデータ3!T53,CSVデータ4!T53)","v":0},{"$f":"SUM(CSVデータ1!U53,CSVデータ2!U53,CSVデータ3!U53,CSVデータ4!U53)","v":0},{"$f":"SUM(CSVデータ1!V53,CSVデータ2!V53,CSVデータ3!V53,CSVデータ4!V53)","v":0},{"$f":"SUM(CSVデータ1!W53,CSVデータ2!W53,CSVデータ3!W53,CSVデータ4!W53)","v":0},{"$f":"SUM(CSVデータ1!X53,CSVデータ2!X53,CSVデータ3!X53,CSVデータ4!X53)","v":0},{"$f":"SUM(CSVデータ1!Y53,CSVデータ2!Y53,CSVデータ3!Y53,CSVデータ4!Y53)","v":0},{"$f":"SUM(CSVデータ1!Z53,CSVデータ2!Z53,CSVデータ3!Z53,CSVデータ4!Z53)","v":0},{"$f":"SUM(CSVデータ1!AA53,CSVデータ2!AA53,CSVデータ3!AA53,CSVデータ4!AA53)","v":0},{"$f":"SUM(CSVデータ1!AB53,CSVデータ2!AB53,CSVデータ3!AB53,CSVデータ4!AB53)","v":0},{"$f":"SUM(CSVデータ1!AC53,CSVデータ2!AC53,CSVデータ3!AC53,CSVデータ4!AC53)","v":0},{"$f":"SUM(CSVデータ1!AD53,CSVデータ2!AD53,CSVデータ3!AD53,CSVデータ4!AD53)","v":0},{"$f":"SUM(CSVデータ1!AE53,CSVデータ2!AE53,CSVデータ3!AE53,CSVデータ4!AE53)","v":0},{"$f":"SUM(CSVデータ1!AF53,CSVデータ2!AF53,CSVデータ3!AF53,CSVデータ4!AF53)","v":0},{"$f":"SUM(CSVデータ1!AG53,CSVデータ2!AG53,CSVデータ3!AG53,CSVデータ4!AG53)","v":0}]
[{"$f":"CSVデータ1!A54","v":"明細部"},{"$f":"CSVデータ1!B54","v":"国"},{"$f":"CSVデータ1!C54","v":115},{"$f":"CSVデータ1!D54","v":"男"},{"$f":"SUM(CSVデータ1!E54,CSVデータ2!E54,CSVデータ3!E54,CSVデータ4!E54)","v":0},{"$f":"SUM(CSVデータ1!F54,CSVデータ2!F54,CSVデータ3!F54,CSVデータ4!F54)","v":0},{"$f":"SUM(CSVデータ1!G54,CSVデータ2!G54,CSVデータ3!G54,CSVデータ4!G54)","v":0},{"$f":"SUM(CSVデータ1!H54,CSVデータ2!H54,CSVデータ3!H54,CSVデータ4!H54)","v":0},{"$f":"SUM(CSVデータ1!I54,CSVデータ2!I54,CSVデータ3!I54,CSVデータ4!I54)","v":0},{"$f":"SUM(CSVデータ1!J54,CSVデータ2!J54,CSVデータ3!J54,CSVデータ4!J54)","v":0},{"$f":"SUM(CSVデータ1!K54,CSVデータ2!K54,CSVデータ3!K54,CSVデータ4!K54)","v":0},{"$f":"SUM(CSVデータ1!L54,CSVデータ2!L54,CSVデータ3!L54,CSVデータ4!L54)","v":0},{"$f":"SUM(CSVデータ1!M54,CSVデータ2!M54,CSVデータ3!M54,CSVデータ4!M54)","v":0},{"$f":"SUM(CSVデータ1!N54,CSVデータ2!N54,CSVデータ3!N54,CSVデータ4!N54)","v":0},{"$f":"SUM(CSVデータ1!O54,CSVデータ2!O54,CSVデータ3!O54,CSVデータ4!O54)","v":0},{"$f":"SUM(CSVデータ1!P54,CSVデータ2!P54,CSVデータ3!P54,CSVデータ4!P54)","v":0},{"$f":"SUM(CSVデータ1!Q54,CSVデータ2!Q54,CSVデータ3!Q54,CSVデータ4!Q54)","v":0},{"$f":"SUM(CSVデータ1!R54,CSVデータ2!R54,CSVデータ3!R54,CSVデータ4!R54)","v":0},{"$f":"SUM(CSVデータ1!S54,CSVデータ2!S54,CSVデータ3!S54,CSVデータ4!S54)","v":0},{"$f":"SUM(CSVデータ1!T54,CSVデータ2!T54,CSVデータ3!T54,CSVデータ4!T54)","v":0},{"$f":"SUM(CSVデータ1!U54,CSVデータ2!U54,CSVデータ3!U54,CSVデータ4!U54)","v":0},{"$f":"SUM(CSVデータ1!V54,CSVデータ2!V54,CSVデータ3!V54,CSVデータ4!V54)","v":0},{"$f":"SUM(CSVデータ1!W54,CSVデータ2!W54,CSVデータ3!W54,CSVデータ4!W54)","v":0},{"$f":"SUM(CSVデータ1!X54,CSVデータ2!X54,CSVデータ3!X54,CSVデータ4!X54)","v":0},{"$f":"SUM(CSVデータ1!Y54,CSVデータ2!Y54,CSVデータ3!Y54,CSVデータ4!Y54)","v":0},{"$f":"SUM(CSVデータ1!Z54,CSVデータ2!Z54,CSVデータ3!Z54,CSVデータ4!Z54)","v":0},{"$f":"SUM(CSVデータ1!AA54,CSVデータ2!AA54,CSVデータ3!AA54,CSVデータ4!AA54)","v":0},{"$f":"SUM(CSVデータ1!AB54,CSVデータ2!AB54,CSVデータ3!AB54,CSVデータ4!AB54)","v":0},{"$f":"SUM(CSVデータ1!AC54,CSVデータ2!AC54,CSVデータ3!AC54,CSVデータ4!AC54)","v":0},{"$f":"SUM(CSVデータ1!AD54,CSVデータ2!AD54,CSVデータ3!AD54,CSVデータ4!AD54)","v":0},{"$f":"SUM(CSVデータ1!AE54,CSVデータ2!AE54,CSVデータ3!AE54,CSVデータ4!AE54)","v":0},{"$f":"SUM(CSVデータ1!AF54,CSVデータ2!AF54,CSVデータ3!AF54,CSVデータ4!AF54)","v":0},{"$f":"SUM(CSVデータ1!AG54,CSVデータ2!AG54,CSVデータ3!AG54,CSVデータ4!AG54)","v":0}]
[{"$f":"CSVデータ1!A55","v":"明細部"},{"$f":"CSVデータ1!B55","v":"国"},{"$f":"CSVデータ1!C55","v":116},{"$f":"CSVデータ1!D55","v":"男"},{"$f":"SUM(CSVデータ1!E55,CSVデータ2!E55,CSVデータ3!E55,CSVデータ4!E55)","v":0},{"$f":"SUM(CSVデータ1!F55,CSVデータ2!F55,CSVデータ3!F55,CSVデータ4!F55)","v":0},{"$f":"SUM(CSVデータ1!G55,CSVデータ2!G55,CSVデータ3!G55,CSVデータ4!G55)","v":0},{"$f":"SUM(CSVデータ1!H55,CSVデータ2!H55,CSVデータ3!H55,CSVデータ4!H55)","v":0},{"$f":"SUM(CSVデータ1!I55,CSVデータ2!I55,CSVデータ3!I55,CSVデータ4!I55)","v":0},{"$f":"SUM(CSVデータ1!J55,CSVデータ2!J55,CSVデータ3!J55,CSVデータ4!J55)","v":0},{"$f":"SUM(CSVデータ1!K55,CSVデータ2!K55,CSVデータ3!K55,CSVデータ4!K55)","v":0},{"$f":"SUM(CSVデータ1!L55,CSVデータ2!L55,CSVデータ3!L55,CSVデータ4!L55)","v":0},{"$f":"SUM(CSVデータ1!M55,CSVデータ2!M55,CSVデータ3!M55,CSVデータ4!M55)","v":0},{"$f":"SUM(CSVデータ1!N55,CSVデータ2!N55,CSVデータ3!N55,CSVデータ4!N55)","v":0},{"$f":"SUM(CSVデータ1!O55,CSVデータ2!O55,CSVデータ3!O55,CSVデータ4!O55)","v":0},{"$f":"SUM(CSVデータ1!P55,CSVデータ2!P55,CSVデータ3!P55,CSVデータ4!P55)","v":0},{"$f":"SUM(CSVデータ1!Q55,CSVデータ2!Q55,CSVデータ3!Q55,CSVデータ4!Q55)","v":0},{"$f":"SUM(CSVデータ1!R55,CSVデータ2!R55,CSVデータ3!R55,CSVデータ4!R55)","v":0},{"$f":"SUM(CSVデータ1!S55,CSVデータ2!S55,CSVデータ3!S55,CSVデータ4!S55)","v":0},{"$f":"SUM(CSVデータ1!T55,CSVデータ2!T55,CSVデータ3!T55,CSVデータ4!T55)","v":0},{"$f":"SUM(CSVデータ1!U55,CSVデータ2!U55,CSVデータ3!U55,CSVデータ4!U55)","v":0},{"$f":"SUM(CSVデータ1!V55,CSVデータ2!V55,CSVデータ3!V55,CSVデータ4!V55)","v":0},{"$f":"SUM(CSVデータ1!W55,CSVデータ2!W55,CSVデータ3!W55,CSVデータ4!W55)","v":0},{"$f":"SUM(CSVデータ1!X55,CSVデータ2!X55,CSVデータ3!X55,CSVデータ4!X55)","v":0},{"$f":"SUM(CSVデータ1!Y55,CSVデータ2!Y55,CSVデータ3!Y55,CSVデータ4!Y55)","v":0},{"$f":"SUM(CSVデータ1!Z55,CSVデータ2!Z55,CSVデータ3!Z55,CSVデータ4!Z55)","v":0},{"$f":"SUM(CSVデータ1!AA55,CSVデータ2!AA55,CSVデータ3!AA55,CSVデータ4!AA55)","v":0},{"$f":"SUM(CSVデータ1!AB55,CSVデータ2!AB55,CSVデータ3!AB55,CSVデータ4!AB55)","v":0},{"$f":"SUM(CSVデータ1!AC55,CSVデータ2!AC55,CSVデータ3!AC55,CSVデータ4!AC55)","v":0},{"$f":"SUM(CSVデータ1!AD55,CSVデータ2!AD55,CSVデータ3!AD55,CSVデータ4!AD55)","v":0},{"$f":"SUM(CSVデータ1!AE55,CSVデータ2!AE55,CSVデータ3!AE55,CSVデータ4!AE55)","v":0},{"$f":"SUM(CSVデータ1!AF55,CSVデータ2!AF55,CSVデータ3!AF55,CSVデータ4!AF55)","v":0},{"$f":"SUM(CSVデータ1!AG55,CSVデータ2!AG55,CSVデータ3!AG55,CSVデータ4!AG55)","v":0}]
[{"$f":"CSVデータ1!A56","v":"明細部"},{"$f":"CSVデータ1!B56","v":"国"},{"$f":"CSVデータ1!C56","v":117},{"$f":"CSVデータ1!D56","v":"男"},{"$f":"SUM(CSVデータ1!E56,CSVデータ2!E56,CSVデータ3!E56,CSVデータ4!E56)","v":0},{"$f":"SUM(CSVデータ1!F56,CSVデータ2!F56,CSVデータ3!F56,CSVデータ4!F56)","v":0},{"$f":"SUM(CSVデータ1!G56,CSVデータ2!G56,CSVデータ3!G56,CSVデータ4!G56)","v":0},{"$f":"SUM(CSVデータ1!H56,CSVデータ2!H56,CSVデータ3!H56,CSVデータ4!H56)","v":0},{"$f":"SUM(CSVデータ1!I56,CSVデータ2!I56,CSVデータ3!I56,CSVデータ4!I56)","v":0},{"$f":"SUM(CSVデータ1!J56,CSVデータ2!J56,CSVデータ3!J56,CSVデータ4!J56)","v":0},{"$f":"SUM(CSVデータ1!K56,CSVデータ2!K56,CSVデータ3!K56,CSVデータ4!K56)","v":0},{"$f":"SUM(CSVデータ1!L56,CSVデータ2!L56,CSVデータ3!L56,CSVデータ4!L56)","v":0},{"$f":"SUM(CSVデータ1!M56,CSVデータ2!M56,CSVデータ3!M56,CSVデータ4!M56)","v":0},{"$f":"SUM(CSVデータ1!N56,CSVデータ2!N56,CSVデータ3!N56,CSVデータ4!N56)","v":0},{"$f":"SUM(CSVデータ1!O56,CSVデータ2!O56,CSVデータ3!O56,CSVデータ4!O56)","v":0},{"$f":"SUM(CSVデータ1!P56,CSVデータ2!P56,CSVデータ3!P56,CSVデータ4!P56)","v":0},{"$f":"SUM(CSVデータ1!Q56,CSVデータ2!Q56,CSVデータ3!Q56,CSVデータ4!Q56)","v":0},{"$f":"SUM(CSVデータ1!R56,CSVデータ2!R56,CSVデータ3!R56,CSVデータ4!R56)","v":0},{"$f":"SUM(CSVデータ1!S56,CSVデータ2!S56,CSVデータ3!S56,CSVデータ4!S56)","v":0},{"$f":"SUM(CSVデータ1!T56,CSVデータ2!T56,CSVデータ3!T56,CSVデータ4!T56)","v":0},{"$f":"SUM(CSVデータ1!U56,CSVデータ2!U56,CSVデータ3!U56,CSVデータ4!U56)","v":0},{"$f":"SUM(CSVデータ1!V56,CSVデータ2!V56,CSVデータ3!V56,CSVデータ4!V56)","v":0},{"$f":"SUM(CSVデータ1!W56,CSVデータ2!W56,CSVデータ3!W56,CSVデータ4!W56)","v":0},{"$f":"SUM(CSVデータ1!X56,CSVデータ2!X56,CSVデータ3!X56,CSVデータ4!X56)","v":0},{"$f":"SUM(CSVデータ1!Y56,CSVデータ2!Y56,CSVデータ3!Y56,CSVデータ4!Y56)","v":0},{"$f":"SUM(CSVデータ1!Z56,CSVデータ2!Z56,CSVデータ3!Z56,CSVデータ4!Z56)","v":0},{"$f":"SUM(CSVデータ1!AA56,CSVデータ2!AA56,CSVデータ3!AA56,CSVデータ4!AA56)","v":0},{"$f":"SUM(CSVデータ1!AB56,CSVデータ2!AB56,CSVデータ3!AB56,CSVデータ4!AB56)","v":0},{"$f":"SUM(CSVデータ1!AC56,CSVデータ2!AC56,CSVデータ3!AC56,CSVデータ4!AC56)","v":0},{"$f":"SUM(CSVデータ1!AD56,CSVデータ2!AD56,CSVデータ3!AD56,CSVデータ4!AD56)","v":0},{"$f":"SUM(CSVデータ1!AE56,CSVデータ2!AE56,CSVデータ3!AE56,CSVデータ4!AE56)","v":0},{"$f":"SUM(CSVデータ1!AF56,CSVデータ2!AF56,CSVデータ3!AF56,CSVデータ4!AF56)","v":0},{"$f":"SUM(CSVデータ1!AG56,CSVデータ2!AG56,CSVデータ3!AG56,CSVデータ4!AG56)","v":0}]
[{"$f":"CSVデータ1!A57","v":"明細部"},{"$f":"CSVデータ1!B57","v":"国"},{"$f":"CSVデータ1!C57","v":118},{"$f":"CSVデータ1!D57","v":"男"},{"$f":"SUM(CSVデータ1!E57,CSVデータ2!E57,CSVデータ3!E57,CSVデータ4!E57)","v":0},{"$f":"SUM(CSVデータ1!F57,CSVデータ2!F57,CSVデータ3!F57,CSVデータ4!F57)","v":0},{"$f":"SUM(CSVデータ1!G57,CSVデータ2!G57,CSVデータ3!G57,CSVデータ4!G57)","v":0},{"$f":"SUM(CSVデータ1!H57,CSVデータ2!H57,CSVデータ3!H57,CSVデータ4!H57)","v":0},{"$f":"SUM(CSVデータ1!I57,CSVデータ2!I57,CSVデータ3!I57,CSVデータ4!I57)","v":0},{"$f":"SUM(CSVデータ1!J57,CSVデータ2!J57,CSVデータ3!J57,CSVデータ4!J57)","v":0},{"$f":"SUM(CSVデータ1!K57,CSVデータ2!K57,CSVデータ3!K57,CSVデータ4!K57)","v":0},{"$f":"SUM(CSVデータ1!L57,CSVデータ2!L57,CSVデータ3!L57,CSVデータ4!L57)","v":0},{"$f":"SUM(CSVデータ1!M57,CSVデータ2!M57,CSVデータ3!M57,CSVデータ4!M57)","v":0},{"$f":"SUM(CSVデータ1!N57,CSVデータ2!N57,CSVデータ3!N57,CSVデータ4!N57)","v":0},{"$f":"SUM(CSVデータ1!O57,CSVデータ2!O57,CSVデータ3!O57,CSVデータ4!O57)","v":0},{"$f":"SUM(CSVデータ1!P57,CSVデータ2!P57,CSVデータ3!P57,CSVデータ4!P57)","v":0},{"$f":"SUM(CSVデータ1!Q57,CSVデータ2!Q57,CSVデータ3!Q57,CSVデータ4!Q57)","v":0},{"$f":"SUM(CSVデータ1!R57,CSVデータ2!R57,CSVデータ3!R57,CSVデータ4!R57)","v":0},{"$f":"SUM(CSVデータ1!S57,CSVデータ2!S57,CSVデータ3!S57,CSVデータ4!S57)","v":0},{"$f":"SUM(CSVデータ1!T57,CSVデータ2!T57,CSVデータ3!T57,CSVデータ4!T57)","v":0},{"$f":"SUM(CSVデータ1!U57,CSVデータ2!U57,CSVデータ3!U57,CSVデータ4!U57)","v":0},{"$f":"SUM(CSVデータ1!V57,CSVデータ2!V57,CSVデータ3!V57,CSVデータ4!V57)","v":0},{"$f":"SUM(CSVデータ1!W57,CSVデータ2!W57,CSVデータ3!W57,CSVデータ4!W57)","v":0},{"$f":"SUM(CSVデータ1!X57,CSVデータ2!X57,CSVデータ3!X57,CSVデータ4!X57)","v":0},{"$f":"SUM(CSVデータ1!Y57,CSVデータ2!Y57,CSVデータ3!Y57,CSVデータ4!Y57)","v":0},{"$f":"SUM(CSVデータ1!Z57,CSVデータ2!Z57,CSVデータ3!Z57,CSVデータ4!Z57)","v":0},{"$f":"SUM(CSVデータ1!AA57,CSVデータ2!AA57,CSVデータ3!AA57,CSVデータ4!AA57)","v":0},{"$f":"SUM(CSVデータ1!AB57,CSVデータ2!AB57,CSVデータ3!AB57,CSVデータ4!AB57)","v":0},{"$f":"SUM(CSVデータ1!AC57,CSVデータ2!AC57,CSVデータ3!AC57,CSVデータ4!AC57)","v":0},{"$f":"SUM(CSVデータ1!AD57,CSVデータ2!AD57,CSVデータ3!AD57,CSVデータ4!AD57)","v":0},{"$f":"SUM(CSVデータ1!AE57,CSVデータ2!AE57,CSVデータ3!AE57,CSVデータ4!AE57)","v":0},{"$f":"SUM(CSVデータ1!AF57,CSVデータ2!AF57,CSVデータ3!AF57,CSVデータ4!AF57)","v":0},{"$f":"SUM(CSVデータ1!AG57,CSVデータ2!AG57,CSVデータ3!AG57,CSVデータ4!AG57)","v":0}]
[{"$f":"CSVデータ1!A58","v":"明細部"},{"$f":"CSVデータ1!B58","v":"国"},{"$f":"CSVデータ1!C58","v":119},{"$f":"CSVデータ1!D58","v":"男"},{"$f":"SUM(CSVデータ1!E58,CSVデータ2!E58,CSVデータ3!E58,CSVデータ4!E58)","v":0},{"$f":"SUM(CSVデータ1!F58,CSVデータ2!F58,CSVデータ3!F58,CSVデータ4!F58)","v":0},{"$f":"SUM(CSVデータ1!G58,CSVデータ2!G58,CSVデータ3!G58,CSVデータ4!G58)","v":0},{"$f":"SUM(CSVデータ1!H58,CSVデータ2!H58,CSVデータ3!H58,CSVデータ4!H58)","v":0},{"$f":"SUM(CSVデータ1!I58,CSVデータ2!I58,CSVデータ3!I58,CSVデータ4!I58)","v":0},{"$f":"SUM(CSVデータ1!J58,CSVデータ2!J58,CSVデータ3!J58,CSVデータ4!J58)","v":0},{"$f":"SUM(CSVデータ1!K58,CSVデータ2!K58,CSVデータ3!K58,CSVデータ4!K58)","v":0},{"$f":"SUM(CSVデータ1!L58,CSVデータ2!L58,CSVデータ3!L58,CSVデータ4!L58)","v":0},{"$f":"SUM(CSVデータ1!M58,CSVデータ2!M58,CSVデータ3!M58,CSVデータ4!M58)","v":0},{"$f":"SUM(CSVデータ1!N58,CSVデータ2!N58,CSVデータ3!N58,CSVデータ4!N58)","v":0},{"$f":"SUM(CSVデータ1!O58,CSVデータ2!O58,CSVデータ3!O58,CSVデータ4!O58)","v":0},{"$f":"SUM(CSVデータ1!P58,CSVデータ2!P58,CSVデータ3!P58,CSVデータ4!P58)","v":0},{"$f":"SUM(CSVデータ1!Q58,CSVデータ2!Q58,CSVデータ3!Q58,CSVデータ4!Q58)","v":0},{"$f":"SUM(CSVデータ1!R58,CSVデータ2!R58,CSVデータ3!R58,CSVデータ4!R58)","v":0},{"$f":"SUM(CSVデータ1!S58,CSVデータ2!S58,CSVデータ3!S58,CSVデータ4!S58)","v":0},{"$f":"SUM(CSVデータ1!T58,CSVデータ2!T58,CSVデータ3!T58,CSVデータ4!T58)","v":0},{"$f":"SUM(CSVデータ1!U58,CSVデータ2!U58,CSVデータ3!U58,CSVデータ4!U58)","v":0},{"$f":"SUM(CSVデータ1!V58,CSVデータ2!V58,CSVデータ3!V58,CSVデータ4!V58)","v":0},{"$f":"SUM(CSVデータ1!W58,CSVデータ2!W58,CSVデータ3!W58,CSVデータ4!W58)","v":0},{"$f":"SUM(CSVデータ1!X58,CSVデータ2!X58,CSVデータ3!X58,CSVデータ4!X58)","v":0},{"$f":"SUM(CSVデータ1!Y58,CSVデータ2!Y58,CSVデータ3!Y58,CSVデータ4!Y58)","v":0},{"$f":"SUM(CSVデータ1!Z58,CSVデータ2!Z58,CSVデータ3!Z58,CSVデータ4!Z58)","v":0},{"$f":"SUM(CSVデータ1!AA58,CSVデータ2!AA58,CSVデータ3!AA58,CSVデータ4!AA58)","v":0},{"$f":"SUM(CSVデータ1!AB58,CSVデータ2!AB58,CSVデータ3!AB58,CSVデータ4!AB58)","v":0},{"$f":"SUM(CSVデータ1!AC58,CSVデータ2!AC58,CSVデータ3!AC58,CSVデータ4!AC58)","v":0},{"$f":"SUM(CSVデータ1!AD58,CSVデータ2!AD58,CSVデータ3!AD58,CSVデータ4!AD58)","v":0},{"$f":"SUM(CSVデータ1!AE58,CSVデータ2!AE58,CSVデータ3!AE58,CSVデータ4!AE58)","v":0},{"$f":"SUM(CSVデータ1!AF58,CSVデータ2!AF58,CSVデータ3!AF58,CSVデータ4!AF58)","v":0},{"$f":"SUM(CSVデータ1!AG58,CSVデータ2!AG58,CSVデータ3!AG58,CSVデータ4!AG58)","v":0}]
[{"$f":"CSVデータ1!A59","v":"明細部"},{"$f":"CSVデータ1!B59","v":"国"},{"$f":"CSVデータ1!C59","v":120},{"$f":"CSVデータ1!D59","v":"男"},{"$f":"SUM(CSVデータ1!E59,CSVデータ2!E59,CSVデータ3!E59,CSVデータ4!E59)","v":0},{"$f":"SUM(CSVデータ1!F59,CSVデータ2!F59,CSVデータ3!F59,CSVデータ4!F59)","v":0},{"$f":"SUM(CSVデータ1!G59,CSVデータ2!G59,CSVデータ3!G59,CSVデータ4!G59)","v":0},{"$f":"SUM(CSVデータ1!H59,CSVデータ2!H59,CSVデータ3!H59,CSVデータ4!H59)","v":0},{"$f":"SUM(CSVデータ1!I59,CSVデータ2!I59,CSVデータ3!I59,CSVデータ4!I59)","v":0},{"$f":"SUM(CSVデータ1!J59,CSVデータ2!J59,CSVデータ3!J59,CSVデータ4!J59)","v":0},{"$f":"SUM(CSVデータ1!K59,CSVデータ2!K59,CSVデータ3!K59,CSVデータ4!K59)","v":0},{"$f":"SUM(CSVデータ1!L59,CSVデータ2!L59,CSVデータ3!L59,CSVデータ4!L59)","v":0},{"$f":"SUM(CSVデータ1!M59,CSVデータ2!M59,CSVデータ3!M59,CSVデータ4!M59)","v":0},{"$f":"SUM(CSVデータ1!N59,CSVデータ2!N59,CSVデータ3!N59,CSVデータ4!N59)","v":0},{"$f":"SUM(CSVデータ1!O59,CSVデータ2!O59,CSVデータ3!O59,CSVデータ4!O59)","v":0},{"$f":"SUM(CSVデータ1!P59,CSVデータ2!P59,CSVデータ3!P59,CSVデータ4!P59)","v":0},{"$f":"SUM(CSVデータ1!Q59,CSVデータ2!Q59,CSVデータ3!Q59,CSVデータ4!Q59)","v":0},{"$f":"SUM(CSVデータ1!R59,CSVデータ2!R59,CSVデータ3!R59,CSVデータ4!R59)","v":0},{"$f":"SUM(CSVデータ1!S59,CSVデータ2!S59,CSVデータ3!S59,CSVデータ4!S59)","v":0},{"$f":"SUM(CSVデータ1!T59,CSVデータ2!T59,CSVデータ3!T59,CSVデータ4!T59)","v":0},{"$f":"SUM(CSVデータ1!U59,CSVデータ2!U59,CSVデータ3!U59,CSVデータ4!U59)","v":0},{"$f":"SUM(CSVデータ1!V59,CSVデータ2!V59,CSVデータ3!V59,CSVデータ4!V59)","v":0},{"$f":"SUM(CSVデータ1!W59,CSVデータ2!W59,CSVデータ3!W59,CSVデータ4!W59)","v":0},{"$f":"SUM(CSVデータ1!X59,CSVデータ2!X59,CSVデータ3!X59,CSVデータ4!X59)","v":0},{"$f":"SUM(CSVデータ1!Y59,CSVデータ2!Y59,CSVデータ3!Y59,CSVデータ4!Y59)","v":0},{"$f":"SUM(CSVデータ1!Z59,CSVデータ2!Z59,CSVデータ3!Z59,CSVデータ4!Z59)","v":0},{"$f":"SUM(CSVデータ1!AA59,CSVデータ2!AA59,CSVデータ3!AA59,CSVデータ4!AA59)","v":0},{"$f":"SUM(CSVデータ1!AB59,CSVデータ2!AB59,CSVデータ3!AB59,CSVデータ4!AB59)","v":0},{"$f":"SUM(CSVデータ1!AC59,CSVデータ2!AC59,CSVデータ3!AC59,CSVデータ4!AC59)","v":0},{"$f":"SUM(CSVデータ1!AD59,CSVデータ2!AD59,CSVデータ3!AD59,CSVデータ4!AD59)","v":0},{"$f":"SUM(CSVデータ1!AE59,CSVデータ2!AE59,CSVデータ3!AE59,CSVデータ4!AE59)","v":0},{"$f":"SUM(CSVデータ1!AF59,CSVデータ2!AF59,CSVデータ3!AF59,CSVデータ4!AF59)","v":0},{"$f":"SUM(CSVデータ1!AG59,CSVデータ2!AG59,CSVデータ3!AG59,CSVデータ4!AG59)","v":0}]
[{"$f":"CSVデータ1!A60","v":"明細部"},{"$f":"CSVデータ1!B60","v":"国"},{"$f":"CSVデータ1!C60","v":65},{"$f":"CSVデータ1!D60","v":"女"},{"$f":"SUM(CSVデータ1!E60,CSVデータ2!E60,CSVデータ3!E60,CSVデータ4!E60)","v":0},{"$f":"SUM(CSVデータ1!F60,CSVデータ2!F60,CSVデータ3!F60,CSVデータ4!F60)","v":0},{"$f":"SUM(CSVデータ1!G60,CSVデータ2!G60,CSVデータ3!G60,CSVデータ4!G60)","v":0},{"$f":"SUM(CSVデータ1!H60,CSVデータ2!H60,CSVデータ3!H60,CSVデータ4!H60)","v":0},{"$f":"SUM(CSVデータ1!I60,CSVデータ2!I60,CSVデータ3!I60,CSVデータ4!I60)","v":0},{"$f":"SUM(CSVデータ1!J60,CSVデータ2!J60,CSVデータ3!J60,CSVデータ4!J60)","v":0},{"$f":"SUM(CSVデータ1!K60,CSVデータ2!K60,CSVデータ3!K60,CSVデータ4!K60)","v":0},{"$f":"SUM(CSVデータ1!L60,CSVデータ2!L60,CSVデータ3!L60,CSVデータ4!L60)","v":0},{"$f":"SUM(CSVデータ1!M60,CSVデータ2!M60,CSVデータ3!M60,CSVデータ4!M60)","v":0},{"$f":"SUM(CSVデータ1!N60,CSVデータ2!N60,CSVデータ3!N60,CSVデータ4!N60)","v":0},{"$f":"SUM(CSVデータ1!O60,CSVデータ2!O60,CSVデータ3!O60,CSVデータ4!O60)","v":0},{"$f":"SUM(CSVデータ1!P60,CSVデータ2!P60,CSVデータ3!P60,CSVデータ4!P60)","v":0},{"$f":"SUM(CSVデータ1!Q60,CSVデータ2!Q60,CSVデータ3!Q60,CSVデータ4!Q60)","v":0},{"$f":"SUM(CSVデータ1!R60,CSVデータ2!R60,CSVデータ3!R60,CSVデータ4!R60)","v":0},{"$f":"SUM(CSVデータ1!S60,CSVデータ2!S60,CSVデータ3!S60,CSVデータ4!S60)","v":0},{"$f":"SUM(CSVデータ1!T60,CSVデータ2!T60,CSVデータ3!T60,CSVデータ4!T60)","v":0},{"$f":"SUM(CSVデータ1!U60,CSVデータ2!U60,CSVデータ3!U60,CSVデータ4!U60)","v":0},{"$f":"SUM(CSVデータ1!V60,CSVデータ2!V60,CSVデータ3!V60,CSVデータ4!V60)","v":0},{"$f":"SUM(CSVデータ1!W60,CSVデータ2!W60,CSVデータ3!W60,CSVデータ4!W60)","v":0},{"$f":"SUM(CSVデータ1!X60,CSVデータ2!X60,CSVデータ3!X60,CSVデータ4!X60)","v":0},{"$f":"SUM(CSVデータ1!Y60,CSVデータ2!Y60,CSVデータ3!Y60,CSVデータ4!Y60)","v":0},{"$f":"SUM(CSVデータ1!Z60,CSVデータ2!Z60,CSVデータ3!Z60,CSVデータ4!Z60)","v":0},{"$f":"SUM(CSVデータ1!AA60,CSVデータ2!AA60,CSVデータ3!AA60,CSVデータ4!AA60)","v":0},{"$f":"SUM(CSVデータ1!AB60,CSVデータ2!AB60,CSVデータ3!AB60,CSVデータ4!AB60)","v":0},{"$f":"SUM(CSVデータ1!AC60,CSVデータ2!AC60,CSVデータ3!AC60,CSVデータ4!AC60)","v":0},{"$f":"SUM(CSVデータ1!AD60,CSVデータ2!AD60,CSVデータ3!AD60,CSVデータ4!AD60)","v":0},{"$f":"SUM(CSVデータ1!AE60,CSVデータ2!AE60,CSVデータ3!AE60,CSVデータ4!AE60)","v":0},{"$f":"SUM(CSVデータ1!AF60,CSVデータ2!AF60,CSVデータ3!AF60,CSVデータ4!AF60)","v":0},{"$f":"SUM(CSVデータ1!AG60,CSVデータ2!AG60,CSVデータ3!AG60,CSVデータ4!AG60)","v":0}]
[{"$f":"CSVデータ1!A61","v":"明細部"},{"$f":"CSVデータ1!B61","v":"国"},{"$f":"CSVデータ1!C61","v":66},{"$f":"CSVデータ1!D61","v":"女"},{"$f":"SUM(CSVデータ1!E61,CSVデータ2!E61,CSVデータ3!E61,CSVデータ4!E61)","v":0},{"$f":"SUM(CSVデータ1!F61,CSVデータ2!F61,CSVデータ3!F61,CSVデータ4!F61)","v":0},{"$f":"SUM(CSVデータ1!G61,CSVデータ2!G61,CSVデータ3!G61,CSVデータ4!G61)","v":0},{"$f":"SUM(CSVデータ1!H61,CSVデータ2!H61,CSVデータ3!H61,CSVデータ4!H61)","v":0},{"$f":"SUM(CSVデータ1!I61,CSVデータ2!I61,CSVデータ3!I61,CSVデータ4!I61)","v":0},{"$f":"SUM(CSVデータ1!J61,CSVデータ2!J61,CSVデータ3!J61,CSVデータ4!J61)","v":0},{"$f":"SUM(CSVデータ1!K61,CSVデータ2!K61,CSVデータ3!K61,CSVデータ4!K61)","v":0},{"$f":"SUM(CSVデータ1!L61,CSVデータ2!L61,CSVデータ3!L61,CSVデータ4!L61)","v":0},{"$f":"SUM(CSVデータ1!M61,CSVデータ2!M61,CSVデータ3!M61,CSVデータ4!M61)","v":0},{"$f":"SUM(CSVデータ1!N61,CSVデータ2!N61,CSVデータ3!N61,CSVデータ4!N61)","v":0},{"$f":"SUM(CSVデータ1!O61,CSVデータ2!O61,CSVデータ3!O61,CSVデータ4!O61)","v":0},{"$f":"SUM(CSVデータ1!P61,CSVデータ2!P61,CSVデータ3!P61,CSVデータ4!P61)","v":0},{"$f":"SUM(CSVデータ1!Q61,CSVデータ2!Q61,CSVデータ3!Q61,CSVデータ4!Q61)","v":0},{"$f":"SUM(CSVデータ1!R61,CSVデータ2!R61,CSVデータ3!R61,CSVデータ4!R61)","v":0},{"$f":"SUM(CSVデータ1!S61,CSVデータ2!S61,CSVデータ3!S61,CSVデータ4!S61)","v":0},{"$f":"SUM(CSVデータ1!T61,CSVデータ2!T61,CSVデータ3!T61,CSVデータ4!T61)","v":0},{"$f":"SUM(CSVデータ1!U61,CSVデータ2!U61,CSVデータ3!U61,CSVデータ4!U61)","v":0},{"$f":"SUM(CSVデータ1!V61,CSVデータ2!V61,CSVデータ3!V61,CSVデータ4!V61)","v":0},{"$f":"SUM(CSVデータ1!W61,CSVデータ2!W61,CSVデータ3!W61,CSVデータ4!W61)","v":0},{"$f":"SUM(CSVデータ1!X61,CSVデータ2!X61,CSVデータ3!X61,CSVデータ4!X61)","v":0},{"$f":"SUM(CSVデータ1!Y61,CSVデータ2!Y61,CSVデータ3!Y61,CSVデータ4!Y61)","v":0},{"$f":"SUM(CSVデータ1!Z61,CSVデータ2!Z61,CSVデータ3!Z61,CSVデータ4!Z61)","v":0},{"$f":"SUM(CSVデータ1!AA61,CSVデータ2!AA61,CSVデータ3!AA61,CSVデータ4!AA61)","v":0},{"$f":"SUM(CSVデータ1!AB61,CSVデータ2!AB61,CSVデータ3!AB61,CSVデータ4!AB61)","v":0},{"$f":"SUM(CSVデータ1!AC61,CSVデータ2!AC61,CSVデータ3!AC61,CSVデータ4!AC61)","v":0},{"$f":"SUM(CSVデータ1!AD61,CSVデータ2!AD61,CSVデータ3!AD61,CSVデータ4!AD61)","v":0},{"$f":"SUM(CSVデータ1!AE61,CSVデータ2!AE61,CSVデータ3!AE61,CSVデータ4!AE61)","v":0},{"$f":"SUM(CSVデータ1!AF61,CSVデータ2!AF61,CSVデータ3!AF61,CSVデータ4!AF61)","v":0},{"$f":"SUM(CSVデータ1!AG61,CSVデータ2!AG61,CSVデータ3!AG61,CSVデータ4!AG61)","v":0}]
[{"$f":"CSVデータ1!A62","v":"明細部"},{"$f":"CSVデータ1!B62","v":"国"},{"$f":"CSVデータ1!C62","v":67},{"$f":"CSVデータ1!D62","v":"女"},{"$f":"SUM(CSVデータ1!E62,CSVデータ2!E62,CSVデータ3!E62,CSVデータ4!E62)","v":0},{"$f":"SUM(CSVデータ1!F62,CSVデータ2!F62,CSVデータ3!F62,CSVデータ4!F62)","v":0},{"$f":"SUM(CSVデータ1!G62,CSVデータ2!G62,CSVデータ3!G62,CSVデータ4!G62)","v":0},{"$f":"SUM(CSVデータ1!H62,CSVデータ2!H62,CSVデータ3!H62,CSVデータ4!H62)","v":0},{"$f":"SUM(CSVデータ1!I62,CSVデータ2!I62,CSVデータ3!I62,CSVデータ4!I62)","v":0},{"$f":"SUM(CSVデータ1!J62,CSVデータ2!J62,CSVデータ3!J62,CSVデータ4!J62)","v":0},{"$f":"SUM(CSVデータ1!K62,CSVデータ2!K62,CSVデータ3!K62,CSVデータ4!K62)","v":0},{"$f":"SUM(CSVデータ1!L62,CSVデータ2!L62,CSVデータ3!L62,CSVデータ4!L62)","v":0},{"$f":"SUM(CSVデータ1!M62,CSVデータ2!M62,CSVデータ3!M62,CSVデータ4!M62)","v":0},{"$f":"SUM(CSVデータ1!N62,CSVデータ2!N62,CSVデータ3!N62,CSVデータ4!N62)","v":0},{"$f":"SUM(CSVデータ1!O62,CSVデータ2!O62,CSVデータ3!O62,CSVデータ4!O62)","v":0},{"$f":"SUM(CSVデータ1!P62,CSVデータ2!P62,CSVデータ3!P62,CSVデータ4!P62)","v":0},{"$f":"SUM(CSVデータ1!Q62,CSVデータ2!Q62,CSVデータ3!Q62,CSVデータ4!Q62)","v":0},{"$f":"SUM(CSVデータ1!R62,CSVデータ2!R62,CSVデータ3!R62,CSVデータ4!R62)","v":0},{"$f":"SUM(CSVデータ1!S62,CSVデータ2!S62,CSVデータ3!S62,CSVデータ4!S62)","v":0},{"$f":"SUM(CSVデータ1!T62,CSVデータ2!T62,CSVデータ3!T62,CSVデータ4!T62)","v":0},{"$f":"SUM(CSVデータ1!U62,CSVデータ2!U62,CSVデータ3!U62,CSVデータ4!U62)","v":0},{"$f":"SUM(CSVデータ1!V62,CSVデータ2!V62,CSVデータ3!V62,CSVデータ4!V62)","v":0},{"$f":"SUM(CSVデータ1!W62,CSVデータ2!W62,CSVデータ3!W62,CSVデータ4!W62)","v":0},{"$f":"SUM(CSVデータ1!X62,CSVデータ2!X62,CSVデータ3!X62,CSVデータ4!X62)","v":0},{"$f":"SUM(CSVデータ1!Y62,CSVデータ2!Y62,CSVデータ3!Y62,CSVデータ4!Y62)","v":0},{"$f":"SUM(CSVデータ1!Z62,CSVデータ2!Z62,CSVデータ3!Z62,CSVデータ4!Z62)","v":0},{"$f":"SUM(CSVデータ1!AA62,CSVデータ2!AA62,CSVデータ3!AA62,CSVデータ4!AA62)","v":0},{"$f":"SUM(CSVデータ1!AB62,CSVデータ2!AB62,CSVデータ3!AB62,CSVデータ4!AB62)","v":0},{"$f":"SUM(CSVデータ1!AC62,CSVデータ2!AC62,CSVデータ3!AC62,CSVデータ4!AC62)","v":0},{"$f":"SUM(CSVデータ1!AD62,CSVデータ2!AD62,CSVデータ3!AD62,CSVデータ4!AD62)","v":0},{"$f":"SUM(CSVデータ1!AE62,CSVデータ2!AE62,CSVデータ3!AE62,CSVデータ4!AE62)","v":0},{"$f":"SUM(CSVデータ1!AF62,CSVデータ2!AF62,CSVデータ3!AF62,CSVデータ4!AF62)","v":0},{"$f":"SUM(CSVデータ1!AG62,CSVデータ2!AG62,CSVデータ3!AG62,CSVデータ4!AG62)","v":0}]
[{"$f":"CSVデータ1!A63","v":"明細部"},{"$f":"CSVデータ1!B63","v":"国"},{"$f":"CSVデータ1!C63","v":68},{"$f":"CSVデータ1!D63","v":"女"},{"$f":"SUM(CSVデータ1!E63,CSVデータ2!E63,CSVデータ3!E63,CSVデータ4!E63)","v":0},{"$f":"SUM(CSVデータ1!F63,CSVデータ2!F63,CSVデータ3!F63,CSVデータ4!F63)","v":0},{"$f":"SUM(CSVデータ1!G63,CSVデータ2!G63,CSVデータ3!G63,CSVデータ4!G63)","v":0},{"$f":"SUM(CSVデータ1!H63,CSVデータ2!H63,CSVデータ3!H63,CSVデータ4!H63)","v":0},{"$f":"SUM(CSVデータ1!I63,CSVデータ2!I63,CSVデータ3!I63,CSVデータ4!I63)","v":0},{"$f":"SUM(CSVデータ1!J63,CSVデータ2!J63,CSVデータ3!J63,CSVデータ4!J63)","v":0},{"$f":"SUM(CSVデータ1!K63,CSVデータ2!K63,CSVデータ3!K63,CSVデータ4!K63)","v":0},{"$f":"SUM(CSVデータ1!L63,CSVデータ2!L63,CSVデータ3!L63,CSVデータ4!L63)","v":0},{"$f":"SUM(CSVデータ1!M63,CSVデータ2!M63,CSVデータ3!M63,CSVデータ4!M63)","v":0},{"$f":"SUM(CSVデータ1!N63,CSVデータ2!N63,CSVデータ3!N63,CSVデータ4!N63)","v":0},{"$f":"SUM(CSVデータ1!O63,CSVデータ2!O63,CSVデータ3!O63,CSVデータ4!O63)","v":0},{"$f":"SUM(CSVデータ1!P63,CSVデータ2!P63,CSVデータ3!P63,CSVデータ4!P63)","v":0},{"$f":"SUM(CSVデータ1!Q63,CSVデータ2!Q63,CSVデータ3!Q63,CSVデータ4!Q63)","v":0},{"$f":"SUM(CSVデータ1!R63,CSVデータ2!R63,CSVデータ3!R63,CSVデータ4!R63)","v":0},{"$f":"SUM(CSVデータ1!S63,CSVデータ2!S63,CSVデータ3!S63,CSVデータ4!S63)","v":0},{"$f":"SUM(CSVデータ1!T63,CSVデータ2!T63,CSVデータ3!T63,CSVデータ4!T63)","v":0},{"$f":"SUM(CSVデータ1!U63,CSVデータ2!U63,CSVデータ3!U63,CSVデータ4!U63)","v":0},{"$f":"SUM(CSVデータ1!V63,CSVデータ2!V63,CSVデータ3!V63,CSVデータ4!V63)","v":0},{"$f":"SUM(CSVデータ1!W63,CSVデータ2!W63,CSVデータ3!W63,CSVデータ4!W63)","v":0},{"$f":"SUM(CSVデータ1!X63,CSVデータ2!X63,CSVデータ3!X63,CSVデータ4!X63)","v":0},{"$f":"SUM(CSVデータ1!Y63,CSVデータ2!Y63,CSVデータ3!Y63,CSVデータ4!Y63)","v":0},{"$f":"SUM(CSVデータ1!Z63,CSVデータ2!Z63,CSVデータ3!Z63,CSVデータ4!Z63)","v":0},{"$f":"SUM(CSVデータ1!AA63,CSVデータ2!AA63,CSVデータ3!AA63,CSVデータ4!AA63)","v":0},{"$f":"SUM(CSVデータ1!AB63,CSVデータ2!AB63,CSVデータ3!AB63,CSVデータ4!AB63)","v":0},{"$f":"SUM(CSVデータ1!AC63,CSVデータ2!AC63,CSVデータ3!AC63,CSVデータ4!AC63)","v":0},{"$f":"SUM(CSVデータ1!AD63,CSVデータ2!AD63,CSVデータ3!AD63,CSVデータ4!AD63)","v":0},{"$f":"SUM(CSVデータ1!AE63,CSVデータ2!AE63,CSVデータ3!AE63,CSVデータ4!AE63)","v":0},{"$f":"SUM(CSVデータ1!AF63,CSVデータ2!AF63,CSVデータ3!AF63,CSVデータ4!AF63)","v":0},{"$f":"SUM(CSVデータ1!AG63,CSVデータ2!AG63,CSVデータ3!AG63,CSVデータ4!AG63)","v":0}]
[{"$f":"CSVデータ1!A64","v":"明細部"},{"$f":"CSVデータ1!B64","v":"国"},{"$f":"CSVデータ1!C64","v":69},{"$f":"CSVデータ1!D64","v":"女"},{"$f":"SUM(CSVデータ1!E64,CSVデータ2!E64,CSVデータ3!E64,CSVデータ4!E64)","v":0},{"$f":"SUM(CSVデータ1!F64,CSVデータ2!F64,CSVデータ3!F64,CSVデータ4!F64)","v":0},{"$f":"SUM(CSVデータ1!G64,CSVデータ2!G64,CSVデータ3!G64,CSVデータ4!G64)","v":0},{"$f":"SUM(CSVデータ1!H64,CSVデータ2!H64,CSVデータ3!H64,CSVデータ4!H64)","v":0},{"$f":"SUM(CSVデータ1!I64,CSVデータ2!I64,CSVデータ3!I64,CSVデータ4!I64)","v":0},{"$f":"SUM(CSVデータ1!J64,CSVデータ2!J64,CSVデータ3!J64,CSVデータ4!J64)","v":0},{"$f":"SUM(CSVデータ1!K64,CSVデータ2!K64,CSVデータ3!K64,CSVデータ4!K64)","v":0},{"$f":"SUM(CSVデータ1!L64,CSVデータ2!L64,CSVデータ3!L64,CSVデータ4!L64)","v":0},{"$f":"SUM(CSVデータ1!M64,CSVデータ2!M64,CSVデータ3!M64,CSVデータ4!M64)","v":0},{"$f":"SUM(CSVデータ1!N64,CSVデータ2!N64,CSVデータ3!N64,CSVデータ4!N64)","v":0},{"$f":"SUM(CSVデータ1!O64,CSVデータ2!O64,CSVデータ3!O64,CSVデータ4!O64)","v":0},{"$f":"SUM(CSVデータ1!P64,CSVデータ2!P64,CSVデータ3!P64,CSVデータ4!P64)","v":0},{"$f":"SUM(CSVデータ1!Q64,CSVデータ2!Q64,CSVデータ3!Q64,CSVデータ4!Q64)","v":0},{"$f":"SUM(CSVデータ1!R64,CSVデータ2!R64,CSVデータ3!R64,CSVデータ4!R64)","v":0},{"$f":"SUM(CSVデータ1!S64,CSVデータ2!S64,CSVデータ3!S64,CSVデータ4!S64)","v":0},{"$f":"SUM(CSVデータ1!T64,CSVデータ2!T64,CSVデータ3!T64,CSVデータ4!T64)","v":0},{"$f":"SUM(CSVデータ1!U64,CSVデータ2!U64,CSVデータ3!U64,CSVデータ4!U64)","v":0},{"$f":"SUM(CSVデータ1!V64,CSVデータ2!V64,CSVデータ3!V64,CSVデータ4!V64)","v":0},{"$f":"SUM(CSVデータ1!W64,CSVデータ2!W64,CSVデータ3!W64,CSVデータ4!W64)","v":0},{"$f":"SUM(CSVデータ1!X64,CSVデータ2!X64,CSVデータ3!X64,CSVデータ4!X64)","v":0},{"$f":"SUM(CSVデータ1!Y64,CSVデータ2!Y64,CSVデータ3!Y64,CSVデータ4!Y64)","v":0},{"$f":"SUM(CSVデータ1!Z64,CSVデータ2!Z64,CSVデータ3!Z64,CSVデータ4!Z64)","v":0},{"$f":"SUM(CSVデータ1!AA64,CSVデータ2!AA64,CSVデータ3!AA64,CSVデータ4!AA64)","v":0},{"$f":"SUM(CSVデータ1!AB64,CSVデータ2!AB64,CSVデータ3!AB64,CSVデータ4!AB64)","v":0},{"$f":"SUM(CSVデータ1!AC64,CSVデータ2!AC64,CSVデータ3!AC64,CSVデータ4!AC64)","v":0},{"$f":"SUM(CSVデータ1!AD64,CSVデータ2!AD64,CSVデータ3!AD64,CSVデータ4!AD64)","v":0},{"$f":"SUM(CSVデータ1!AE64,CSVデータ2!AE64,CSVデータ3!AE64,CSVデータ4!AE64)","v":0},{"$f":"SUM(CSVデータ1!AF64,CSVデータ2!AF64,CSVデータ3!AF64,CSVデータ4!AF64)","v":0},{"$f":"SUM(CSVデータ1!AG64,CSVデータ2!AG64,CSVデータ3!AG64,CSVデータ4!AG64)","v":0}]
[{"$f":"CSVデータ1!A65","v":"明細部"},{"$f":"CSVデータ1!B65","v":"国"},{"$f":"CSVデータ1!C65","v":70},{"$f":"CSVデータ1!D65","v":"女"},{"$f":"SUM(CSVデータ1!E65,CSVデータ2!E65,CSVデータ3!E65,CSVデータ4!E65)","v":0},{"$f":"SUM(CSVデータ1!F65,CSVデータ2!F65,CSVデータ3!F65,CSVデータ4!F65)","v":0},{"$f":"SUM(CSVデータ1!G65,CSVデータ2!G65,CSVデータ3!G65,CSVデータ4!G65)","v":0},{"$f":"SUM(CSVデータ1!H65,CSVデータ2!H65,CSVデータ3!H65,CSVデータ4!H65)","v":0},{"$f":"SUM(CSVデータ1!I65,CSVデータ2!I65,CSVデータ3!I65,CSVデータ4!I65)","v":0},{"$f":"SUM(CSVデータ1!J65,CSVデータ2!J65,CSVデータ3!J65,CSVデータ4!J65)","v":0},{"$f":"SUM(CSVデータ1!K65,CSVデータ2!K65,CSVデータ3!K65,CSVデータ4!K65)","v":0},{"$f":"SUM(CSVデータ1!L65,CSVデータ2!L65,CSVデータ3!L65,CSVデータ4!L65)","v":0},{"$f":"SUM(CSVデータ1!M65,CSVデータ2!M65,CSVデータ3!M65,CSVデータ4!M65)","v":0},{"$f":"SUM(CSVデータ1!N65,CSVデータ2!N65,CSVデータ3!N65,CSVデータ4!N65)","v":0},{"$f":"SUM(CSVデータ1!O65,CSVデータ2!O65,CSVデータ3!O65,CSVデータ4!O65)","v":0},{"$f":"SUM(CSVデータ1!P65,CSVデータ2!P65,CSVデータ3!P65,CSVデータ4!P65)","v":0},{"$f":"SUM(CSVデータ1!Q65,CSVデータ2!Q65,CSVデータ3!Q65,CSVデータ4!Q65)","v":0},{"$f":"SUM(CSVデータ1!R65,CSVデータ2!R65,CSVデータ3!R65,CSVデータ4!R65)","v":0},{"$f":"SUM(CSVデータ1!S65,CSVデータ2!S65,CSVデータ3!S65,CSVデータ4!S65)","v":0},{"$f":"SUM(CSVデータ1!T65,CSVデータ2!T65,CSVデータ3!T65,CSVデータ4!T65)","v":0},{"$f":"SUM(CSVデータ1!U65,CSVデータ2!U65,CSVデータ3!U65,CSVデータ4!U65)","v":0},{"$f":"SUM(CSVデータ1!V65,CSVデータ2!V65,CSVデータ3!V65,CSVデータ4!V65)","v":0},{"$f":"SUM(CSVデータ1!W65,CSVデータ2!W65,CSVデータ3!W65,CSVデータ4!W65)","v":0},{"$f":"SUM(CSVデータ1!X65,CSVデータ2!X65,CSVデータ3!X65,CSVデータ4!X65)","v":0},{"$f":"SUM(CSVデータ1!Y65,CSVデータ2!Y65,CSVデータ3!Y65,CSVデータ4!Y65)","v":0},{"$f":"SUM(CSVデータ1!Z65,CSVデータ2!Z65,CSVデータ3!Z65,CSVデータ4!Z65)","v":0},{"$f":"SUM(CSVデータ1!AA65,CSVデータ2!AA65,CSVデータ3!AA65,CSVデータ4!AA65)","v":0},{"$f":"SUM(CSVデータ1!AB65,CSVデータ2!AB65,CSVデータ3!AB65,CSVデータ4!AB65)","v":0},{"$f":"SUM(CSVデータ1!AC65,CSVデータ2!AC65,CSVデータ3!AC65,CSVデータ4!AC65)","v":0},{"$f":"SUM(CSVデータ1!AD65,CSVデータ2!AD65,CSVデータ3!AD65,CSVデータ4!AD65)","v":0},{"$f":"SUM(CSVデータ1!AE65,CSVデータ2!AE65,CSVデータ3!AE65,CSVデータ4!AE65)","v":0},{"$f":"SUM(CSVデータ1!AF65,CSVデータ2!AF65,CSVデータ3!AF65,CSVデータ4!AF65)","v":0},{"$f":"SUM(CSVデータ1!AG65,CSVデータ2!AG65,CSVデータ3!AG65,CSVデータ4!AG65)","v":0}]
[{"$f":"CSVデータ1!A66","v":"明細部"},{"$f":"CSVデータ1!B66","v":"国"},{"$f":"CSVデータ1!C66","v":71},{"$f":"CSVデータ1!D66","v":"女"},{"$f":"SUM(CSVデータ1!E66,CSVデータ2!E66,CSVデータ3!E66,CSVデータ4!E66)","v":0},{"$f":"SUM(CSVデータ1!F66,CSVデータ2!F66,CSVデータ3!F66,CSVデータ4!F66)","v":0},{"$f":"SUM(CSVデータ1!G66,CSVデータ2!G66,CSVデータ3!G66,CSVデータ4!G66)","v":0},{"$f":"SUM(CSVデータ1!H66,CSVデータ2!H66,CSVデータ3!H66,CSVデータ4!H66)","v":0},{"$f":"SUM(CSVデータ1!I66,CSVデータ2!I66,CSVデータ3!I66,CSVデータ4!I66)","v":0},{"$f":"SUM(CSVデータ1!J66,CSVデータ2!J66,CSVデータ3!J66,CSVデータ4!J66)","v":0},{"$f":"SUM(CSVデータ1!K66,CSVデータ2!K66,CSVデータ3!K66,CSVデータ4!K66)","v":0},{"$f":"SUM(CSVデータ1!L66,CSVデータ2!L66,CSVデータ3!L66,CSVデータ4!L66)","v":0},{"$f":"SUM(CSVデータ1!M66,CSVデータ2!M66,CSVデータ3!M66,CSVデータ4!M66)","v":0},{"$f":"SUM(CSVデータ1!N66,CSVデータ2!N66,CSVデータ3!N66,CSVデータ4!N66)","v":0},{"$f":"SUM(CSVデータ1!O66,CSVデータ2!O66,CSVデータ3!O66,CSVデータ4!O66)","v":0},{"$f":"SUM(CSVデータ1!P66,CSVデータ2!P66,CSVデータ3!P66,CSVデータ4!P66)","v":0},{"$f":"SUM(CSVデータ1!Q66,CSVデータ2!Q66,CSVデータ3!Q66,CSVデータ4!Q66)","v":0},{"$f":"SUM(CSVデータ1!R66,CSVデータ2!R66,CSVデータ3!R66,CSVデータ4!R66)","v":0},{"$f":"SUM(CSVデータ1!S66,CSVデータ2!S66,CSVデータ3!S66,CSVデータ4!S66)","v":0},{"$f":"SUM(CSVデータ1!T66,CSVデータ2!T66,CSVデータ3!T66,CSVデータ4!T66)","v":0},{"$f":"SUM(CSVデータ1!U66,CSVデータ2!U66,CSVデータ3!U66,CSVデータ4!U66)","v":0},{"$f":"SUM(CSVデータ1!V66,CSVデータ2!V66,CSVデータ3!V66,CSVデータ4!V66)","v":0},{"$f":"SUM(CSVデータ1!W66,CSVデータ2!W66,CSVデータ3!W66,CSVデータ4!W66)","v":0},{"$f":"SUM(CSVデータ1!X66,CSVデータ2!X66,CSVデータ3!X66,CSVデータ4!X66)","v":0},{"$f":"SUM(CSVデータ1!Y66,CSVデータ2!Y66,CSVデータ3!Y66,CSVデータ4!Y66)","v":0},{"$f":"SUM(CSVデータ1!Z66,CSVデータ2!Z66,CSVデータ3!Z66,CSVデータ4!Z66)","v":0},{"$f":"SUM(CSVデータ1!AA66,CSVデータ2!AA66,CSVデータ3!AA66,CSVデータ4!AA66)","v":0},{"$f":"SUM(CSVデータ1!AB66,CSVデータ2!AB66,CSVデータ3!AB66,CSVデータ4!AB66)","v":0},{"$f":"SUM(CSVデータ1!AC66,CSVデータ2!AC66,CSVデータ3!AC66,CSVデータ4!AC66)","v":0},{"$f":"SUM(CSVデータ1!AD66,CSVデータ2!AD66,CSVデータ3!AD66,CSVデータ4!AD66)","v":0},{"$f":"SUM(CSVデータ1!AE66,CSVデータ2!AE66,CSVデータ3!AE66,CSVデータ4!AE66)","v":0},{"$f":"SUM(CSVデータ1!AF66,CSVデータ2!AF66,CSVデータ3!AF66,CSVデータ4!AF66)","v":0},{"$f":"SUM(CSVデータ1!AG66,CSVデータ2!AG66,CSVデータ3!AG66,CSVデータ4!AG66)","v":0}]
[{"$f":"CSVデータ1!A67","v":"明細部"},{"$f":"CSVデータ1!B67","v":"国"},{"$f":"CSVデータ1!C67","v":72},{"$f":"CSVデータ1!D67","v":"女"},{"$f":"SUM(CSVデータ1!E67,CSVデータ2!E67,CSVデータ3!E67,CSVデータ4!E67)","v":0},{"$f":"SUM(CSVデータ1!F67,CSVデータ2!F67,CSVデータ3!F67,CSVデータ4!F67)","v":0},{"$f":"SUM(CSVデータ1!G67,CSVデータ2!G67,CSVデータ3!G67,CSVデータ4!G67)","v":0},{"$f":"SUM(CSVデータ1!H67,CSVデータ2!H67,CSVデータ3!H67,CSVデータ4!H67)","v":0},{"$f":"SUM(CSVデータ1!I67,CSVデータ2!I67,CSVデータ3!I67,CSVデータ4!I67)","v":0},{"$f":"SUM(CSVデータ1!J67,CSVデータ2!J67,CSVデータ3!J67,CSVデータ4!J67)","v":0},{"$f":"SUM(CSVデータ1!K67,CSVデータ2!K67,CSVデータ3!K67,CSVデータ4!K67)","v":0},{"$f":"SUM(CSVデータ1!L67,CSVデータ2!L67,CSVデータ3!L67,CSVデータ4!L67)","v":0},{"$f":"SUM(CSVデータ1!M67,CSVデータ2!M67,CSVデータ3!M67,CSVデータ4!M67)","v":0},{"$f":"SUM(CSVデータ1!N67,CSVデータ2!N67,CSVデータ3!N67,CSVデータ4!N67)","v":0},{"$f":"SUM(CSVデータ1!O67,CSVデータ2!O67,CSVデータ3!O67,CSVデータ4!O67)","v":0},{"$f":"SUM(CSVデータ1!P67,CSVデータ2!P67,CSVデータ3!P67,CSVデータ4!P67)","v":0},{"$f":"SUM(CSVデータ1!Q67,CSVデータ2!Q67,CSVデータ3!Q67,CSVデータ4!Q67)","v":0},{"$f":"SUM(CSVデータ1!R67,CSVデータ2!R67,CSVデータ3!R67,CSVデータ4!R67)","v":0},{"$f":"SUM(CSVデータ1!S67,CSVデータ2!S67,CSVデータ3!S67,CSVデータ4!S67)","v":0},{"$f":"SUM(CSVデータ1!T67,CSVデータ2!T67,CSVデータ3!T67,CSVデータ4!T67)","v":0},{"$f":"SUM(CSVデータ1!U67,CSVデータ2!U67,CSVデータ3!U67,CSVデータ4!U67)","v":0},{"$f":"SUM(CSVデータ1!V67,CSVデータ2!V67,CSVデータ3!V67,CSVデータ4!V67)","v":0},{"$f":"SUM(CSVデータ1!W67,CSVデータ2!W67,CSVデータ3!W67,CSVデータ4!W67)","v":0},{"$f":"SUM(CSVデータ1!X67,CSVデータ2!X67,CSVデータ3!X67,CSVデータ4!X67)","v":0},{"$f":"SUM(CSVデータ1!Y67,CSVデータ2!Y67,CSVデータ3!Y67,CSVデータ4!Y67)","v":0},{"$f":"SUM(CSVデータ1!Z67,CSVデータ2!Z67,CSVデータ3!Z67,CSVデータ4!Z67)","v":0},{"$f":"SUM(CSVデータ1!AA67,CSVデータ2!AA67,CSVデータ3!AA67,CSVデータ4!AA67)","v":0},{"$f":"SUM(CSVデータ1!AB67,CSVデータ2!AB67,CSVデータ3!AB67,CSVデータ4!AB67)","v":0},{"$f":"SUM(CSVデータ1!AC67,CSVデータ2!AC67,CSVデータ3!AC67,CSVデータ4!AC67)","v":0},{"$f":"SUM(CSVデータ1!AD67,CSVデータ2!AD67,CSVデータ3!AD67,CSVデータ4!AD67)","v":0},{"$f":"SUM(CSVデータ1!AE67,CSVデータ2!AE67,CSVデータ3!AE67,CSVデータ4!AE67)","v":0},{"$f":"SUM(CSVデータ1!AF67,CSVデータ2!AF67,CSVデータ3!AF67,CSVデータ4!AF67)","v":0},{"$f":"SUM(CSVデータ1!AG67,CSVデータ2!AG67,CSVデータ3!AG67,CSVデータ4!AG67)","v":0}]
[{"$f":"CSVデータ1!A68","v":"明細部"},{"$f":"CSVデータ1!B68","v":"国"},{"$f":"CSVデータ1!C68","v":73},{"$f":"CSVデータ1!D68","v":"女"},{"$f":"SUM(CSVデータ1!E68,CSVデータ2!E68,CSVデータ3!E68,CSVデータ4!E68)","v":0},{"$f":"SUM(CSVデータ1!F68,CSVデータ2!F68,CSVデータ3!F68,CSVデータ4!F68)","v":0},{"$f":"SUM(CSVデータ1!G68,CSVデータ2!G68,CSVデータ3!G68,CSVデータ4!G68)","v":0},{"$f":"SUM(CSVデータ1!H68,CSVデータ2!H68,CSVデータ3!H68,CSVデータ4!H68)","v":0},{"$f":"SUM(CSVデータ1!I68,CSVデータ2!I68,CSVデータ3!I68,CSVデータ4!I68)","v":0},{"$f":"SUM(CSVデータ1!J68,CSVデータ2!J68,CSVデータ3!J68,CSVデータ4!J68)","v":0},{"$f":"SUM(CSVデータ1!K68,CSVデータ2!K68,CSVデータ3!K68,CSVデータ4!K68)","v":0},{"$f":"SUM(CSVデータ1!L68,CSVデータ2!L68,CSVデータ3!L68,CSVデータ4!L68)","v":0},{"$f":"SUM(CSVデータ1!M68,CSVデータ2!M68,CSVデータ3!M68,CSVデータ4!M68)","v":0},{"$f":"SUM(CSVデータ1!N68,CSVデータ2!N68,CSVデータ3!N68,CSVデータ4!N68)","v":0},{"$f":"SUM(CSVデータ1!O68,CSVデータ2!O68,CSVデータ3!O68,CSVデータ4!O68)","v":0},{"$f":"SUM(CSVデータ1!P68,CSVデータ2!P68,CSVデータ3!P68,CSVデータ4!P68)","v":0},{"$f":"SUM(CSVデータ1!Q68,CSVデータ2!Q68,CSVデータ3!Q68,CSVデータ4!Q68)","v":0},{"$f":"SUM(CSVデータ1!R68,CSVデータ2!R68,CSVデータ3!R68,CSVデータ4!R68)","v":0},{"$f":"SUM(CSVデータ1!S68,CSVデータ2!S68,CSVデータ3!S68,CSVデータ4!S68)","v":0},{"$f":"SUM(CSVデータ1!T68,CSVデータ2!T68,CSVデータ3!T68,CSVデータ4!T68)","v":0},{"$f":"SUM(CSVデータ1!U68,CSVデータ2!U68,CSVデータ3!U68,CSVデータ4!U68)","v":0},{"$f":"SUM(CSVデータ1!V68,CSVデータ2!V68,CSVデータ3!V68,CSVデータ4!V68)","v":0},{"$f":"SUM(CSVデータ1!W68,CSVデータ2!W68,CSVデータ3!W68,CSVデータ4!W68)","v":0},{"$f":"SUM(CSVデータ1!X68,CSVデータ2!X68,CSVデータ3!X68,CSVデータ4!X68)","v":0},{"$f":"SUM(CSVデータ1!Y68,CSVデータ2!Y68,CSVデータ3!Y68,CSVデータ4!Y68)","v":0},{"$f":"SUM(CSVデータ1!Z68,CSVデータ2!Z68,CSVデータ3!Z68,CSVデータ4!Z68)","v":0},{"$f":"SUM(CSVデータ1!AA68,CSVデータ2!AA68,CSVデータ3!AA68,CSVデータ4!AA68)","v":0},{"$f":"SUM(CSVデータ1!AB68,CSVデータ2!AB68,CSVデータ3!AB68,CSVデータ4!AB68)","v":0},{"$f":"SUM(CSVデータ1!AC68,CSVデータ2!AC68,CSVデータ3!AC68,CSVデータ4!AC68)","v":0},{"$f":"SUM(CSVデータ1!AD68,CSVデータ2!AD68,CSVデータ3!AD68,CSVデータ4!AD68)","v":0},{"$f":"SUM(CSVデータ1!AE68,CSVデータ2!AE68,CSVデータ3!AE68,CSVデータ4!AE68)","v":0},{"$f":"SUM(CSVデータ1!AF68,CSVデータ2!AF68,CSVデータ3!AF68,CSVデータ4!AF68)","v":0},{"$f":"SUM(CSVデータ1!AG68,CSVデータ2!AG68,CSVデータ3!AG68,CSVデータ4!AG68)","v":0}]
[{"$f":"CSVデータ1!A69","v":"明細部"},{"$f":"CSVデータ1!B69","v":"国"},{"$f":"CSVデータ1!C69","v":74},{"$f":"CSVデータ1!D69","v":"女"},{"$f":"SUM(CSVデータ1!E69,CSVデータ2!E69,CSVデータ3!E69,CSVデータ4!E69)","v":0},{"$f":"SUM(CSVデータ1!F69,CSVデータ2!F69,CSVデータ3!F69,CSVデータ4!F69)","v":0},{"$f":"SUM(CSVデータ1!G69,CSVデータ2!G69,CSVデータ3!G69,CSVデータ4!G69)","v":0},{"$f":"SUM(CSVデータ1!H69,CSVデータ2!H69,CSVデータ3!H69,CSVデータ4!H69)","v":0},{"$f":"SUM(CSVデータ1!I69,CSVデータ2!I69,CSVデータ3!I69,CSVデータ4!I69)","v":0},{"$f":"SUM(CSVデータ1!J69,CSVデータ2!J69,CSVデータ3!J69,CSVデータ4!J69)","v":0},{"$f":"SUM(CSVデータ1!K69,CSVデータ2!K69,CSVデータ3!K69,CSVデータ4!K69)","v":0},{"$f":"SUM(CSVデータ1!L69,CSVデータ2!L69,CSVデータ3!L69,CSVデータ4!L69)","v":0},{"$f":"SUM(CSVデータ1!M69,CSVデータ2!M69,CSVデータ3!M69,CSVデータ4!M69)","v":0},{"$f":"SUM(CSVデータ1!N69,CSVデータ2!N69,CSVデータ3!N69,CSVデータ4!N69)","v":0},{"$f":"SUM(CSVデータ1!O69,CSVデータ2!O69,CSVデータ3!O69,CSVデータ4!O69)","v":0},{"$f":"SUM(CSVデータ1!P69,CSVデータ2!P69,CSVデータ3!P69,CSVデータ4!P69)","v":0},{"$f":"SUM(CSVデータ1!Q69,CSVデータ2!Q69,CSVデータ3!Q69,CSVデータ4!Q69)","v":0},{"$f":"SUM(CSVデータ1!R69,CSVデータ2!R69,CSVデータ3!R69,CSVデータ4!R69)","v":0},{"$f":"SUM(CSVデータ1!S69,CSVデータ2!S69,CSVデータ3!S69,CSVデータ4!S69)","v":0},{"$f":"SUM(CSVデータ1!T69,CSVデータ2!T69,CSVデータ3!T69,CSVデータ4!T69)","v":0},{"$f":"SUM(CSVデータ1!U69,CSVデータ2!U69,CSVデータ3!U69,CSVデータ4!U69)","v":0},{"$f":"SUM(CSVデータ1!V69,CSVデータ2!V69,CSVデータ3!V69,CSVデータ4!V69)","v":0},{"$f":"SUM(CSVデータ1!W69,CSVデータ2!W69,CSVデータ3!W69,CSVデータ4!W69)","v":0},{"$f":"SUM(CSVデータ1!X69,CSVデータ2!X69,CSVデータ3!X69,CSVデータ4!X69)","v":0},{"$f":"SUM(CSVデータ1!Y69,CSVデータ2!Y69,CSVデータ3!Y69,CSVデータ4!Y69)","v":0},{"$f":"SUM(CSVデータ1!Z69,CSVデータ2!Z69,CSVデータ3!Z69,CSVデータ4!Z69)","v":0},{"$f":"SUM(CSVデータ1!AA69,CSVデータ2!AA69,CSVデータ3!AA69,CSVデータ4!AA69)","v":0},{"$f":"SUM(CSVデータ1!AB69,CSVデータ2!AB69,CSVデータ3!AB69,CSVデータ4!AB69)","v":0},{"$f":"SUM(CSVデータ1!AC69,CSVデータ2!AC69,CSVデータ3!AC69,CSVデータ4!AC69)","v":0},{"$f":"SUM(CSVデータ1!AD69,CSVデータ2!AD69,CSVデータ3!AD69,CSVデータ4!AD69)","v":0},{"$f":"SUM(CSVデータ1!AE69,CSVデータ2!AE69,CSVデータ3!AE69,CSVデータ4!AE69)","v":0},{"$f":"SUM(CSVデータ1!AF69,CSVデータ2!AF69,CSVデータ3!AF69,CSVデータ4!AF69)","v":0},{"$f":"SUM(CSVデータ1!AG69,CSVデータ2!AG69,CSVデータ3!AG69,CSVデータ4!AG69)","v":0}]
[{"$f":"CSVデータ1!A70","v":"明細部"},{"$f":"CSVデータ1!B70","v":"国"},{"$f":"CSVデータ1!C70","v":75},{"$f":"CSVデータ1!D70","v":"女"},{"$f":"SUM(CSVデータ1!E70,CSVデータ2!E70,CSVデータ3!E70,CSVデータ4!E70)","v":0},{"$f":"SUM(CSVデータ1!F70,CSVデータ2!F70,CSVデータ3!F70,CSVデータ4!F70)","v":0},{"$f":"SUM(CSVデータ1!G70,CSVデータ2!G70,CSVデータ3!G70,CSVデータ4!G70)","v":0},{"$f":"SUM(CSVデータ1!H70,CSVデータ2!H70,CSVデータ3!H70,CSVデータ4!H70)","v":0},{"$f":"SUM(CSVデータ1!I70,CSVデータ2!I70,CSVデータ3!I70,CSVデータ4!I70)","v":0},{"$f":"SUM(CSVデータ1!J70,CSVデータ2!J70,CSVデータ3!J70,CSVデータ4!J70)","v":0},{"$f":"SUM(CSVデータ1!K70,CSVデータ2!K70,CSVデータ3!K70,CSVデータ4!K70)","v":0},{"$f":"SUM(CSVデータ1!L70,CSVデータ2!L70,CSVデータ3!L70,CSVデータ4!L70)","v":0},{"$f":"SUM(CSVデータ1!M70,CSVデータ2!M70,CSVデータ3!M70,CSVデータ4!M70)","v":0},{"$f":"SUM(CSVデータ1!N70,CSVデータ2!N70,CSVデータ3!N70,CSVデータ4!N70)","v":0},{"$f":"SUM(CSVデータ1!O70,CSVデータ2!O70,CSVデータ3!O70,CSVデータ4!O70)","v":0},{"$f":"SUM(CSVデータ1!P70,CSVデータ2!P70,CSVデータ3!P70,CSVデータ4!P70)","v":0},{"$f":"SUM(CSVデータ1!Q70,CSVデータ2!Q70,CSVデータ3!Q70,CSVデータ4!Q70)","v":0},{"$f":"SUM(CSVデータ1!R70,CSVデータ2!R70,CSVデータ3!R70,CSVデータ4!R70)","v":0},{"$f":"SUM(CSVデータ1!S70,CSVデータ2!S70,CSVデータ3!S70,CSVデータ4!S70)","v":0},{"$f":"SUM(CSVデータ1!T70,CSVデータ2!T70,CSVデータ3!T70,CSVデータ4!T70)","v":0},{"$f":"SUM(CSVデータ1!U70,CSVデータ2!U70,CSVデータ3!U70,CSVデータ4!U70)","v":0},{"$f":"SUM(CSVデータ1!V70,CSVデータ2!V70,CSVデータ3!V70,CSVデータ4!V70)","v":0},{"$f":"SUM(CSVデータ1!W70,CSVデータ2!W70,CSVデータ3!W70,CSVデータ4!W70)","v":0},{"$f":"SUM(CSVデータ1!X70,CSVデータ2!X70,CSVデータ3!X70,CSVデータ4!X70)","v":0},{"$f":"SUM(CSVデータ1!Y70,CSVデータ2!Y70,CSVデータ3!Y70,CSVデータ4!Y70)","v":0},{"$f":"SUM(CSVデータ1!Z70,CSVデータ2!Z70,CSVデータ3!Z70,CSVデータ4!Z70)","v":0},{"$f":"SUM(CSVデータ1!AA70,CSVデータ2!AA70,CSVデータ3!AA70,CSVデータ4!AA70)","v":0},{"$f":"SUM(CSVデータ1!AB70,CSVデータ2!AB70,CSVデータ3!AB70,CSVデータ4!AB70)","v":0},{"$f":"SUM(CSVデータ1!AC70,CSVデータ2!AC70,CSVデータ3!AC70,CSVデータ4!AC70)","v":0},{"$f":"SUM(CSVデータ1!AD70,CSVデータ2!AD70,CSVデータ3!AD70,CSVデータ4!AD70)","v":0},{"$f":"SUM(CSVデータ1!AE70,CSVデータ2!AE70,CSVデータ3!AE70,CSVデータ4!AE70)","v":0},{"$f":"SUM(CSVデータ1!AF70,CSVデータ2!AF70,CSVデータ3!AF70,CSVデータ4!AF70)","v":0},{"$f":"SUM(CSVデータ1!AG70,CSVデータ2!AG70,CSVデータ3!AG70,CSVデータ4!AG70)","v":0}]
[{"$f":"CSVデータ1!A71","v":"明細部"},{"$f":"CSVデータ1!B71","v":"国"},{"$f":"CSVデータ1!C71","v":76},{"$f":"CSVデータ1!D71","v":"女"},{"$f":"SUM(CSVデータ1!E71,CSVデータ2!E71,CSVデータ3!E71,CSVデータ4!E71)","v":0},{"$f":"SUM(CSVデータ1!F71,CSVデータ2!F71,CSVデータ3!F71,CSVデータ4!F71)","v":0},{"$f":"SUM(CSVデータ1!G71,CSVデータ2!G71,CSVデータ3!G71,CSVデータ4!G71)","v":0},{"$f":"SUM(CSVデータ1!H71,CSVデータ2!H71,CSVデータ3!H71,CSVデータ4!H71)","v":0},{"$f":"SUM(CSVデータ1!I71,CSVデータ2!I71,CSVデータ3!I71,CSVデータ4!I71)","v":0},{"$f":"SUM(CSVデータ1!J71,CSVデータ2!J71,CSVデータ3!J71,CSVデータ4!J71)","v":0},{"$f":"SUM(CSVデータ1!K71,CSVデータ2!K71,CSVデータ3!K71,CSVデータ4!K71)","v":0},{"$f":"SUM(CSVデータ1!L71,CSVデータ2!L71,CSVデータ3!L71,CSVデータ4!L71)","v":0},{"$f":"SUM(CSVデータ1!M71,CSVデータ2!M71,CSVデータ3!M71,CSVデータ4!M71)","v":0},{"$f":"SUM(CSVデータ1!N71,CSVデータ2!N71,CSVデータ3!N71,CSVデータ4!N71)","v":0},{"$f":"SUM(CSVデータ1!O71,CSVデータ2!O71,CSVデータ3!O71,CSVデータ4!O71)","v":0},{"$f":"SUM(CSVデータ1!P71,CSVデータ2!P71,CSVデータ3!P71,CSVデータ4!P71)","v":0},{"$f":"SUM(CSVデータ1!Q71,CSVデータ2!Q71,CSVデータ3!Q71,CSVデータ4!Q71)","v":0},{"$f":"SUM(CSVデータ1!R71,CSVデータ2!R71,CSVデータ3!R71,CSVデータ4!R71)","v":0},{"$f":"SUM(CSVデータ1!S71,CSVデータ2!S71,CSVデータ3!S71,CSVデータ4!S71)","v":0},{"$f":"SUM(CSVデータ1!T71,CSVデータ2!T71,CSVデータ3!T71,CSVデータ4!T71)","v":0},{"$f":"SUM(CSVデータ1!U71,CSVデータ2!U71,CSVデータ3!U71,CSVデータ4!U71)","v":0},{"$f":"SUM(CSVデータ1!V71,CSVデータ2!V71,CSVデータ3!V71,CSVデータ4!V71)","v":0},{"$f":"SUM(CSVデータ1!W71,CSVデータ2!W71,CSVデータ3!W71,CSVデータ4!W71)","v":0},{"$f":"SUM(CSVデータ1!X71,CSVデータ2!X71,CSVデータ3!X71,CSVデータ4!X71)","v":0},{"$f":"SUM(CSVデータ1!Y71,CSVデータ2!Y71,CSVデータ3!Y71,CSVデータ4!Y71)","v":0},{"$f":"SUM(CSVデータ1!Z71,CSVデータ2!Z71,CSVデータ3!Z71,CSVデータ4!Z71)","v":0},{"$f":"SUM(CSVデータ1!AA71,CSVデータ2!AA71,CSVデータ3!AA71,CSVデータ4!AA71)","v":0},{"$f":"SUM(CSVデータ1!AB71,CSVデータ2!AB71,CSVデータ3!AB71,CSVデータ4!AB71)","v":0},{"$f":"SUM(CSVデータ1!AC71,CSVデータ2!AC71,CSVデータ3!AC71,CSVデータ4!AC71)","v":0},{"$f":"SUM(CSVデータ1!AD71,CSVデータ2!AD71,CSVデータ3!AD71,CSVデータ4!AD71)","v":0},{"$f":"SUM(CSVデータ1!AE71,CSVデータ2!AE71,CSVデータ3!AE71,CSVデータ4!AE71)","v":0},{"$f":"SUM(CSVデータ1!AF71,CSVデータ2!AF71,CSVデータ3!AF71,CSVデータ4!AF71)","v":0},{"$f":"SUM(CSVデータ1!AG71,CSVデータ2!AG71,CSVデータ3!AG71,CSVデータ4!AG71)","v":0}]
[{"$f":"CSVデータ1!A72","v":"明細部"},{"$f":"CSVデータ1!B72","v":"国"},{"$f":"CSVデータ1!C72","v":77},{"$f":"CSVデータ1!D72","v":"女"},{"$f":"SUM(CSVデータ1!E72,CSVデータ2!E72,CSVデータ3!E72,CSVデータ4!E72)","v":0},{"$f":"SUM(CSVデータ1!F72,CSVデータ2!F72,CSVデータ3!F72,CSVデータ4!F72)","v":0},{"$f":"SUM(CSVデータ1!G72,CSVデータ2!G72,CSVデータ3!G72,CSVデータ4!G72)","v":0},{"$f":"SUM(CSVデータ1!H72,CSVデータ2!H72,CSVデータ3!H72,CSVデータ4!H72)","v":0},{"$f":"SUM(CSVデータ1!I72,CSVデータ2!I72,CSVデータ3!I72,CSVデータ4!I72)","v":0},{"$f":"SUM(CSVデータ1!J72,CSVデータ2!J72,CSVデータ3!J72,CSVデータ4!J72)","v":0},{"$f":"SUM(CSVデータ1!K72,CSVデータ2!K72,CSVデータ3!K72,CSVデータ4!K72)","v":0},{"$f":"SUM(CSVデータ1!L72,CSVデータ2!L72,CSVデータ3!L72,CSVデータ4!L72)","v":0},{"$f":"SUM(CSVデータ1!M72,CSVデータ2!M72,CSVデータ3!M72,CSVデータ4!M72)","v":0},{"$f":"SUM(CSVデータ1!N72,CSVデータ2!N72,CSVデータ3!N72,CSVデータ4!N72)","v":0},{"$f":"SUM(CSVデータ1!O72,CSVデータ2!O72,CSVデータ3!O72,CSVデータ4!O72)","v":0},{"$f":"SUM(CSVデータ1!P72,CSVデータ2!P72,CSVデータ3!P72,CSVデータ4!P72)","v":0},{"$f":"SUM(CSVデータ1!Q72,CSVデータ2!Q72,CSVデータ3!Q72,CSVデータ4!Q72)","v":0},{"$f":"SUM(CSVデータ1!R72,CSVデータ2!R72,CSVデータ3!R72,CSVデータ4!R72)","v":0},{"$f":"SUM(CSVデータ1!S72,CSVデータ2!S72,CSVデータ3!S72,CSVデータ4!S72)","v":0},{"$f":"SUM(CSVデータ1!T72,CSVデータ2!T72,CSVデータ3!T72,CSVデータ4!T72)","v":0},{"$f":"SUM(CSVデータ1!U72,CSVデータ2!U72,CSVデータ3!U72,CSVデータ4!U72)","v":0},{"$f":"SUM(CSVデータ1!V72,CSVデータ2!V72,CSVデータ3!V72,CSVデータ4!V72)","v":0},{"$f":"SUM(CSVデータ1!W72,CSVデータ2!W72,CSVデータ3!W72,CSVデータ4!W72)","v":0},{"$f":"SUM(CSVデータ1!X72,CSVデータ2!X72,CSVデータ3!X72,CSVデータ4!X72)","v":0},{"$f":"SUM(CSVデータ1!Y72,CSVデータ2!Y72,CSVデータ3!Y72,CSVデータ4!Y72)","v":0},{"$f":"SUM(CSVデータ1!Z72,CSVデータ2!Z72,CSVデータ3!Z72,CSVデータ4!Z72)","v":0},{"$f":"SUM(CSVデータ1!AA72,CSVデータ2!AA72,CSVデータ3!AA72,CSVデータ4!AA72)","v":0},{"$f":"SUM(CSVデータ1!AB72,CSVデータ2!AB72,CSVデータ3!AB72,CSVデータ4!AB72)","v":0},{"$f":"SUM(CSVデータ1!AC72,CSVデータ2!AC72,CSVデータ3!AC72,CSVデータ4!AC72)","v":0},{"$f":"SUM(CSVデータ1!AD72,CSVデータ2!AD72,CSVデータ3!AD72,CSVデータ4!AD72)","v":0},{"$f":"SUM(CSVデータ1!AE72,CSVデータ2!AE72,CSVデータ3!AE72,CSVデータ4!AE72)","v":0},{"$f":"SUM(CSVデータ1!AF72,CSVデータ2!AF72,CSVデータ3!AF72,CSVデータ4!AF72)","v":0},{"$f":"SUM(CSVデータ1!AG72,CSVデータ2!AG72,CSVデータ3!AG72,CSVデータ4!AG72)","v":0}]
[{"$f":"CSVデータ1!A73","v":"明細部"},{"$f":"CSVデータ1!B73","v":"国"},{"$f":"CSVデータ1!C73","v":78},{"$f":"CSVデータ1!D73","v":"女"},{"$f":"SUM(CSVデータ1!E73,CSVデータ2!E73,CSVデータ3!E73,CSVデータ4!E73)","v":0},{"$f":"SUM(CSVデータ1!F73,CSVデータ2!F73,CSVデータ3!F73,CSVデータ4!F73)","v":0},{"$f":"SUM(CSVデータ1!G73,CSVデータ2!G73,CSVデータ3!G73,CSVデータ4!G73)","v":0},{"$f":"SUM(CSVデータ1!H73,CSVデータ2!H73,CSVデータ3!H73,CSVデータ4!H73)","v":0},{"$f":"SUM(CSVデータ1!I73,CSVデータ2!I73,CSVデータ3!I73,CSVデータ4!I73)","v":0},{"$f":"SUM(CSVデータ1!J73,CSVデータ2!J73,CSVデータ3!J73,CSVデータ4!J73)","v":0},{"$f":"SUM(CSVデータ1!K73,CSVデータ2!K73,CSVデータ3!K73,CSVデータ4!K73)","v":0},{"$f":"SUM(CSVデータ1!L73,CSVデータ2!L73,CSVデータ3!L73,CSVデータ4!L73)","v":0},{"$f":"SUM(CSVデータ1!M73,CSVデータ2!M73,CSVデータ3!M73,CSVデータ4!M73)","v":0},{"$f":"SUM(CSVデータ1!N73,CSVデータ2!N73,CSVデータ3!N73,CSVデータ4!N73)","v":0},{"$f":"SUM(CSVデータ1!O73,CSVデータ2!O73,CSVデータ3!O73,CSVデータ4!O73)","v":0},{"$f":"SUM(CSVデータ1!P73,CSVデータ2!P73,CSVデータ3!P73,CSVデータ4!P73)","v":0},{"$f":"SUM(CSVデータ1!Q73,CSVデータ2!Q73,CSVデータ3!Q73,CSVデータ4!Q73)","v":0},{"$f":"SUM(CSVデータ1!R73,CSVデータ2!R73,CSVデータ3!R73,CSVデータ4!R73)","v":0},{"$f":"SUM(CSVデータ1!S73,CSVデータ2!S73,CSVデータ3!S73,CSVデータ4!S73)","v":0},{"$f":"SUM(CSVデータ1!T73,CSVデータ2!T73,CSVデータ3!T73,CSVデータ4!T73)","v":0},{"$f":"SUM(CSVデータ1!U73,CSVデータ2!U73,CSVデータ3!U73,CSVデータ4!U73)","v":0},{"$f":"SUM(CSVデータ1!V73,CSVデータ2!V73,CSVデータ3!V73,CSVデータ4!V73)","v":0},{"$f":"SUM(CSVデータ1!W73,CSVデータ2!W73,CSVデータ3!W73,CSVデータ4!W73)","v":0},{"$f":"SUM(CSVデータ1!X73,CSVデータ2!X73,CSVデータ3!X73,CSVデータ4!X73)","v":0},{"$f":"SUM(CSVデータ1!Y73,CSVデータ2!Y73,CSVデータ3!Y73,CSVデータ4!Y73)","v":0},{"$f":"SUM(CSVデータ1!Z73,CSVデータ2!Z73,CSVデータ3!Z73,CSVデータ4!Z73)","v":0},{"$f":"SUM(CSVデータ1!AA73,CSVデータ2!AA73,CSVデータ3!AA73,CSVデータ4!AA73)","v":0},{"$f":"SUM(CSVデータ1!AB73,CSVデータ2!AB73,CSVデータ3!AB73,CSVデータ4!AB73)","v":0},{"$f":"SUM(CSVデータ1!AC73,CSVデータ2!AC73,CSVデータ3!AC73,CSVデータ4!AC73)","v":0},{"$f":"SUM(CSVデータ1!AD73,CSVデータ2!AD73,CSVデータ3!AD73,CSVデータ4!AD73)","v":0},{"$f":"SUM(CSVデータ1!AE73,CSVデータ2!AE73,CSVデータ3!AE73,CSVデータ4!AE73)","v":0},{"$f":"SUM(CSVデータ1!AF73,CSVデータ2!AF73,CSVデータ3!AF73,CSVデータ4!AF73)","v":0},{"$f":"SUM(CSVデータ1!AG73,CSVデータ2!AG73,CSVデータ3!AG73,CSVデータ4!AG73)","v":0}]
[{"$f":"CSVデータ1!A74","v":"明細部"},{"$f":"CSVデータ1!B74","v":"国"},{"$f":"CSVデータ1!C74","v":79},{"$f":"CSVデータ1!D74","v":"女"},{"$f":"SUM(CSVデータ1!E74,CSVデータ2!E74,CSVデータ3!E74,CSVデータ4!E74)","v":0},{"$f":"SUM(CSVデータ1!F74,CSVデータ2!F74,CSVデータ3!F74,CSVデータ4!F74)","v":0},{"$f":"SUM(CSVデータ1!G74,CSVデータ2!G74,CSVデータ3!G74,CSVデータ4!G74)","v":0},{"$f":"SUM(CSVデータ1!H74,CSVデータ2!H74,CSVデータ3!H74,CSVデータ4!H74)","v":0},{"$f":"SUM(CSVデータ1!I74,CSVデータ2!I74,CSVデータ3!I74,CSVデータ4!I74)","v":0},{"$f":"SUM(CSVデータ1!J74,CSVデータ2!J74,CSVデータ3!J74,CSVデータ4!J74)","v":0},{"$f":"SUM(CSVデータ1!K74,CSVデータ2!K74,CSVデータ3!K74,CSVデータ4!K74)","v":0},{"$f":"SUM(CSVデータ1!L74,CSVデータ2!L74,CSVデータ3!L74,CSVデータ4!L74)","v":0},{"$f":"SUM(CSVデータ1!M74,CSVデータ2!M74,CSVデータ3!M74,CSVデータ4!M74)","v":0},{"$f":"SUM(CSVデータ1!N74,CSVデータ2!N74,CSVデータ3!N74,CSVデータ4!N74)","v":0},{"$f":"SUM(CSVデータ1!O74,CSVデータ2!O74,CSVデータ3!O74,CSVデータ4!O74)","v":0},{"$f":"SUM(CSVデータ1!P74,CSVデータ2!P74,CSVデータ3!P74,CSVデータ4!P74)","v":0},{"$f":"SUM(CSVデータ1!Q74,CSVデータ2!Q74,CSVデータ3!Q74,CSVデータ4!Q74)","v":0},{"$f":"SUM(CSVデータ1!R74,CSVデータ2!R74,CSVデータ3!R74,CSVデータ4!R74)","v":0},{"$f":"SUM(CSVデータ1!S74,CSVデータ2!S74,CSVデータ3!S74,CSVデータ4!S74)","v":0},{"$f":"SUM(CSVデータ1!T74,CSVデータ2!T74,CSVデータ3!T74,CSVデータ4!T74)","v":0},{"$f":"SUM(CSVデータ1!U74,CSVデータ2!U74,CSVデータ3!U74,CSVデータ4!U74)","v":0},{"$f":"SUM(CSVデータ1!V74,CSVデータ2!V74,CSVデータ3!V74,CSVデータ4!V74)","v":0},{"$f":"SUM(CSVデータ1!W74,CSVデータ2!W74,CSVデータ3!W74,CSVデータ4!W74)","v":0},{"$f":"SUM(CSVデータ1!X74,CSVデータ2!X74,CSVデータ3!X74,CSVデータ4!X74)","v":0},{"$f":"SUM(CSVデータ1!Y74,CSVデータ2!Y74,CSVデータ3!Y74,CSVデータ4!Y74)","v":0},{"$f":"SUM(CSVデータ1!Z74,CSVデータ2!Z74,CSVデータ3!Z74,CSVデータ4!Z74)","v":0},{"$f":"SUM(CSVデータ1!AA74,CSVデータ2!AA74,CSVデータ3!AA74,CSVデータ4!AA74)","v":0},{"$f":"SUM(CSVデータ1!AB74,CSVデータ2!AB74,CSVデータ3!AB74,CSVデータ4!AB74)","v":0},{"$f":"SUM(CSVデータ1!AC74,CSVデータ2!AC74,CSVデータ3!AC74,CSVデータ4!AC74)","v":0},{"$f":"SUM(CSVデータ1!AD74,CSVデータ2!AD74,CSVデータ3!AD74,CSVデータ4!AD74)","v":0},{"$f":"SUM(CSVデータ1!AE74,CSVデータ2!AE74,CSVデータ3!AE74,CSVデータ4!AE74)","v":0},{"$f":"SUM(CSVデータ1!AF74,CSVデータ2!AF74,CSVデータ3!AF74,CSVデータ4!AF74)","v":0},{"$f":"SUM(CSVデータ1!AG74,CSVデータ2!AG74,CSVデータ3!AG74,CSVデータ4!AG74)","v":0}]
[{"$f":"CSVデータ1!A75","v":"明細部"},{"$f":"CSVデータ1!B75","v":"国"},{"$f":"CSVデータ1!C75","v":80},{"$f":"CSVデータ1!D75","v":"女"},{"$f":"SUM(CSVデータ1!E75,CSVデータ2!E75,CSVデータ3!E75,CSVデータ4!E75)","v":0},{"$f":"SUM(CSVデータ1!F75,CSVデータ2!F75,CSVデータ3!F75,CSVデータ4!F75)","v":0},{"$f":"SUM(CSVデータ1!G75,CSVデータ2!G75,CSVデータ3!G75,CSVデータ4!G75)","v":0},{"$f":"SUM(CSVデータ1!H75,CSVデータ2!H75,CSVデータ3!H75,CSVデータ4!H75)","v":0},{"$f":"SUM(CSVデータ1!I75,CSVデータ2!I75,CSVデータ3!I75,CSVデータ4!I75)","v":0},{"$f":"SUM(CSVデータ1!J75,CSVデータ2!J75,CSVデータ3!J75,CSVデータ4!J75)","v":0},{"$f":"SUM(CSVデータ1!K75,CSVデータ2!K75,CSVデータ3!K75,CSVデータ4!K75)","v":0},{"$f":"SUM(CSVデータ1!L75,CSVデータ2!L75,CSVデータ3!L75,CSVデータ4!L75)","v":0},{"$f":"SUM(CSVデータ1!M75,CSVデータ2!M75,CSVデータ3!M75,CSVデータ4!M75)","v":0},{"$f":"SUM(CSVデータ1!N75,CSVデータ2!N75,CSVデータ3!N75,CSVデータ4!N75)","v":0},{"$f":"SUM(CSVデータ1!O75,CSVデータ2!O75,CSVデータ3!O75,CSVデータ4!O75)","v":0},{"$f":"SUM(CSVデータ1!P75,CSVデータ2!P75,CSVデータ3!P75,CSVデータ4!P75)","v":0},{"$f":"SUM(CSVデータ1!Q75,CSVデータ2!Q75,CSVデータ3!Q75,CSVデータ4!Q75)","v":0},{"$f":"SUM(CSVデータ1!R75,CSVデータ2!R75,CSVデータ3!R75,CSVデータ4!R75)","v":0},{"$f":"SUM(CSVデータ1!S75,CSVデータ2!S75,CSVデータ3!S75,CSVデータ4!S75)","v":0},{"$f":"SUM(CSVデータ1!T75,CSVデータ2!T75,CSVデータ3!T75,CSVデータ4!T75)","v":0},{"$f":"SUM(CSVデータ1!U75,CSVデータ2!U75,CSVデータ3!U75,CSVデータ4!U75)","v":0},{"$f":"SUM(CSVデータ1!V75,CSVデータ2!V75,CSVデータ3!V75,CSVデータ4!V75)","v":0},{"$f":"SUM(CSVデータ1!W75,CSVデータ2!W75,CSVデータ3!W75,CSVデータ4!W75)","v":0},{"$f":"SUM(CSVデータ1!X75,CSVデータ2!X75,CSVデータ3!X75,CSVデータ4!X75)","v":0},{"$f":"SUM(CSVデータ1!Y75,CSVデータ2!Y75,CSVデータ3!Y75,CSVデータ4!Y75)","v":0},{"$f":"SUM(CSVデータ1!Z75,CSVデータ2!Z75,CSVデータ3!Z75,CSVデータ4!Z75)","v":0},{"$f":"SUM(CSVデータ1!AA75,CSVデータ2!AA75,CSVデータ3!AA75,CSVデータ4!AA75)","v":0},{"$f":"SUM(CSVデータ1!AB75,CSVデータ2!AB75,CSVデータ3!AB75,CSVデータ4!AB75)","v":0},{"$f":"SUM(CSVデータ1!AC75,CSVデータ2!AC75,CSVデータ3!AC75,CSVデータ4!AC75)","v":0},{"$f":"SUM(CSVデータ1!AD75,CSVデータ2!AD75,CSVデータ3!AD75,CSVデータ4!AD75)","v":0},{"$f":"SUM(CSVデータ1!AE75,CSVデータ2!AE75,CSVデータ3!AE75,CSVデータ4!AE75)","v":0},{"$f":"SUM(CSVデータ1!AF75,CSVデータ2!AF75,CSVデータ3!AF75,CSVデータ4!AF75)","v":0},{"$f":"SUM(CSVデータ1!AG75,CSVデータ2!AG75,CSVデータ3!AG75,CSVデータ4!AG75)","v":0}]
[{"$f":"CSVデータ1!A76","v":"明細部"},{"$f":"CSVデータ1!B76","v":"国"},{"$f":"CSVデータ1!C76","v":81},{"$f":"CSVデータ1!D76","v":"女"},{"$f":"SUM(CSVデータ1!E76,CSVデータ2!E76,CSVデータ3!E76,CSVデータ4!E76)","v":0},{"$f":"SUM(CSVデータ1!F76,CSVデータ2!F76,CSVデータ3!F76,CSVデータ4!F76)","v":0},{"$f":"SUM(CSVデータ1!G76,CSVデータ2!G76,CSVデータ3!G76,CSVデータ4!G76)","v":0},{"$f":"SUM(CSVデータ1!H76,CSVデータ2!H76,CSVデータ3!H76,CSVデータ4!H76)","v":0},{"$f":"SUM(CSVデータ1!I76,CSVデータ2!I76,CSVデータ3!I76,CSVデータ4!I76)","v":0},{"$f":"SUM(CSVデータ1!J76,CSVデータ2!J76,CSVデータ3!J76,CSVデータ4!J76)","v":0},{"$f":"SUM(CSVデータ1!K76,CSVデータ2!K76,CSVデータ3!K76,CSVデータ4!K76)","v":0},{"$f":"SUM(CSVデータ1!L76,CSVデータ2!L76,CSVデータ3!L76,CSVデータ4!L76)","v":0},{"$f":"SUM(CSVデータ1!M76,CSVデータ2!M76,CSVデータ3!M76,CSVデータ4!M76)","v":0},{"$f":"SUM(CSVデータ1!N76,CSVデータ2!N76,CSVデータ3!N76,CSVデータ4!N76)","v":0},{"$f":"SUM(CSVデータ1!O76,CSVデータ2!O76,CSVデータ3!O76,CSVデータ4!O76)","v":0},{"$f":"SUM(CSVデータ1!P76,CSVデータ2!P76,CSVデータ3!P76,CSVデータ4!P76)","v":0},{"$f":"SUM(CSVデータ1!Q76,CSVデータ2!Q76,CSVデータ3!Q76,CSVデータ4!Q76)","v":0},{"$f":"SUM(CSVデータ1!R76,CSVデータ2!R76,CSVデータ3!R76,CSVデータ4!R76)","v":0},{"$f":"SUM(CSVデータ1!S76,CSVデータ2!S76,CSVデータ3!S76,CSVデータ4!S76)","v":0},{"$f":"SUM(CSVデータ1!T76,CSVデータ2!T76,CSVデータ3!T76,CSVデータ4!T76)","v":0},{"$f":"SUM(CSVデータ1!U76,CSVデータ2!U76,CSVデータ3!U76,CSVデータ4!U76)","v":0},{"$f":"SUM(CSVデータ1!V76,CSVデータ2!V76,CSVデータ3!V76,CSVデータ4!V76)","v":0},{"$f":"SUM(CSVデータ1!W76,CSVデータ2!W76,CSVデータ3!W76,CSVデータ4!W76)","v":0},{"$f":"SUM(CSVデータ1!X76,CSVデータ2!X76,CSVデータ3!X76,CSVデータ4!X76)","v":0},{"$f":"SUM(CSVデータ1!Y76,CSVデータ2!Y76,CSVデータ3!Y76,CSVデータ4!Y76)","v":0},{"$f":"SUM(CSVデータ1!Z76,CSVデータ2!Z76,CSVデータ3!Z76,CSVデータ4!Z76)","v":0},{"$f":"SUM(CSVデータ1!AA76,CSVデータ2!AA76,CSVデータ3!AA76,CSVデータ4!AA76)","v":0},{"$f":"SUM(CSVデータ1!AB76,CSVデータ2!AB76,CSVデータ3!AB76,CSVデータ4!AB76)","v":0},{"$f":"SUM(CSVデータ1!AC76,CSVデータ2!AC76,CSVデータ3!AC76,CSVデータ4!AC76)","v":0},{"$f":"SUM(CSVデータ1!AD76,CSVデータ2!AD76,CSVデータ3!AD76,CSVデータ4!AD76)","v":0},{"$f":"SUM(CSVデータ1!AE76,CSVデータ2!AE76,CSVデータ3!AE76,CSVデータ4!AE76)","v":0},{"$f":"SUM(CSVデータ1!AF76,CSVデータ2!AF76,CSVデータ3!AF76,CSVデータ4!AF76)","v":0},{"$f":"SUM(CSVデータ1!AG76,CSVデータ2!AG76,CSVデータ3!AG76,CSVデータ4!AG76)","v":0}]
[{"$f":"CSVデータ1!A77","v":"明細部"},{"$f":"CSVデータ1!B77","v":"国"},{"$f":"CSVデータ1!C77","v":82},{"$f":"CSVデータ1!D77","v":"女"},{"$f":"SUM(CSVデータ1!E77,CSVデータ2!E77,CSVデータ3!E77,CSVデータ4!E77)","v":0},{"$f":"SUM(CSVデータ1!F77,CSVデータ2!F77,CSVデータ3!F77,CSVデータ4!F77)","v":0},{"$f":"SUM(CSVデータ1!G77,CSVデータ2!G77,CSVデータ3!G77,CSVデータ4!G77)","v":0},{"$f":"SUM(CSVデータ1!H77,CSVデータ2!H77,CSVデータ3!H77,CSVデータ4!H77)","v":0},{"$f":"SUM(CSVデータ1!I77,CSVデータ2!I77,CSVデータ3!I77,CSVデータ4!I77)","v":0},{"$f":"SUM(CSVデータ1!J77,CSVデータ2!J77,CSVデータ3!J77,CSVデータ4!J77)","v":0},{"$f":"SUM(CSVデータ1!K77,CSVデータ2!K77,CSVデータ3!K77,CSVデータ4!K77)","v":0},{"$f":"SUM(CSVデータ1!L77,CSVデータ2!L77,CSVデータ3!L77,CSVデータ4!L77)","v":0},{"$f":"SUM(CSVデータ1!M77,CSVデータ2!M77,CSVデータ3!M77,CSVデータ4!M77)","v":0},{"$f":"SUM(CSVデータ1!N77,CSVデータ2!N77,CSVデータ3!N77,CSVデータ4!N77)","v":0},{"$f":"SUM(CSVデータ1!O77,CSVデータ2!O77,CSVデータ3!O77,CSVデータ4!O77)","v":0},{"$f":"SUM(CSVデータ1!P77,CSVデータ2!P77,CSVデータ3!P77,CSVデータ4!P77)","v":0},{"$f":"SUM(CSVデータ1!Q77,CSVデータ2!Q77,CSVデータ3!Q77,CSVデータ4!Q77)","v":0},{"$f":"SUM(CSVデータ1!R77,CSVデータ2!R77,CSVデータ3!R77,CSVデータ4!R77)","v":0},{"$f":"SUM(CSVデータ1!S77,CSVデータ2!S77,CSVデータ3!S77,CSVデータ4!S77)","v":0},{"$f":"SUM(CSVデータ1!T77,CSVデータ2!T77,CSVデータ3!T77,CSVデータ4!T77)","v":0},{"$f":"SUM(CSVデータ1!U77,CSVデータ2!U77,CSVデータ3!U77,CSVデータ4!U77)","v":0},{"$f":"SUM(CSVデータ1!V77,CSVデータ2!V77,CSVデータ3!V77,CSVデータ4!V77)","v":0},{"$f":"SUM(CSVデータ1!W77,CSVデータ2!W77,CSVデータ3!W77,CSVデータ4!W77)","v":0},{"$f":"SUM(CSVデータ1!X77,CSVデータ2!X77,CSVデータ3!X77,CSVデータ4!X77)","v":0},{"$f":"SUM(CSVデータ1!Y77,CSVデータ2!Y77,CSVデータ3!Y77,CSVデータ4!Y77)","v":0},{"$f":"SUM(CSVデータ1!Z77,CSVデータ2!Z77,CSVデータ3!Z77,CSVデータ4!Z77)","v":0},{"$f":"SUM(CSVデータ1!AA77,CSVデータ2!AA77,CSVデータ3!AA77,CSVデータ4!AA77)","v":0},{"$f":"SUM(CSVデータ1!AB77,CSVデータ2!AB77,CSVデータ3!AB77,CSVデータ4!AB77)","v":0},{"$f":"SUM(CSVデータ1!AC77,CSVデータ2!AC77,CSVデータ3!AC77,CSVデータ4!AC77)","v":0},{"$f":"SUM(CSVデータ1!AD77,CSVデータ2!AD77,CSVデータ3!AD77,CSVデータ4!AD77)","v":0},{"$f":"SUM(CSVデータ1!AE77,CSVデータ2!AE77,CSVデータ3!AE77,CSVデータ4!AE77)","v":0},{"$f":"SUM(CSVデータ1!AF77,CSVデータ2!AF77,CSVデータ3!AF77,CSVデータ4!AF77)","v":0},{"$f":"SUM(CSVデータ1!AG77,CSVデータ2!AG77,CSVデータ3!AG77,CSVデータ4!AG77)","v":0}]
[{"$f":"CSVデータ1!A78","v":"明細部"},{"$f":"CSVデータ1!B78","v":"国"},{"$f":"CSVデータ1!C78","v":83},{"$f":"CSVデータ1!D78","v":"女"},{"$f":"SUM(CSVデータ1!E78,CSVデータ2!E78,CSVデータ3!E78,CSVデータ4!E78)","v":0},{"$f":"SUM(CSVデータ1!F78,CSVデータ2!F78,CSVデータ3!F78,CSVデータ4!F78)","v":0},{"$f":"SUM(CSVデータ1!G78,CSVデータ2!G78,CSVデータ3!G78,CSVデータ4!G78)","v":0},{"$f":"SUM(CSVデータ1!H78,CSVデータ2!H78,CSVデータ3!H78,CSVデータ4!H78)","v":0},{"$f":"SUM(CSVデータ1!I78,CSVデータ2!I78,CSVデータ3!I78,CSVデータ4!I78)","v":0},{"$f":"SUM(CSVデータ1!J78,CSVデータ2!J78,CSVデータ3!J78,CSVデータ4!J78)","v":0},{"$f":"SUM(CSVデータ1!K78,CSVデータ2!K78,CSVデータ3!K78,CSVデータ4!K78)","v":0},{"$f":"SUM(CSVデータ1!L78,CSVデータ2!L78,CSVデータ3!L78,CSVデータ4!L78)","v":0},{"$f":"SUM(CSVデータ1!M78,CSVデータ2!M78,CSVデータ3!M78,CSVデータ4!M78)","v":0},{"$f":"SUM(CSVデータ1!N78,CSVデータ2!N78,CSVデータ3!N78,CSVデータ4!N78)","v":0},{"$f":"SUM(CSVデータ1!O78,CSVデータ2!O78,CSVデータ3!O78,CSVデータ4!O78)","v":0},{"$f":"SUM(CSVデータ1!P78,CSVデータ2!P78,CSVデータ3!P78,CSVデータ4!P78)","v":0},{"$f":"SUM(CSVデータ1!Q78,CSVデータ2!Q78,CSVデータ3!Q78,CSVデータ4!Q78)","v":0},{"$f":"SUM(CSVデータ1!R78,CSVデータ2!R78,CSVデータ3!R78,CSVデータ4!R78)","v":0},{"$f":"SUM(CSVデータ1!S78,CSVデータ2!S78,CSVデータ3!S78,CSVデータ4!S78)","v":0},{"$f":"SUM(CSVデータ1!T78,CSVデータ2!T78,CSVデータ3!T78,CSVデータ4!T78)","v":0},{"$f":"SUM(CSVデータ1!U78,CSVデータ2!U78,CSVデータ3!U78,CSVデータ4!U78)","v":0},{"$f":"SUM(CSVデータ1!V78,CSVデータ2!V78,CSVデータ3!V78,CSVデータ4!V78)","v":0},{"$f":"SUM(CSVデータ1!W78,CSVデータ2!W78,CSVデータ3!W78,CSVデータ4!W78)","v":0},{"$f":"SUM(CSVデータ1!X78,CSVデータ2!X78,CSVデータ3!X78,CSVデータ4!X78)","v":0},{"$f":"SUM(CSVデータ1!Y78,CSVデータ2!Y78,CSVデータ3!Y78,CSVデータ4!Y78)","v":0},{"$f":"SUM(CSVデータ1!Z78,CSVデータ2!Z78,CSVデータ3!Z78,CSVデータ4!Z78)","v":0},{"$f":"SUM(CSVデータ1!AA78,CSVデータ2!AA78,CSVデータ3!AA78,CSVデータ4!AA78)","v":0},{"$f":"SUM(CSVデータ1!AB78,CSVデータ2!AB78,CSVデータ3!AB78,CSVデータ4!AB78)","v":0},{"$f":"SUM(CSVデータ1!AC78,CSVデータ2!AC78,CSVデータ3!AC78,CSVデータ4!AC78)","v":0},{"$f":"SUM(CSVデータ1!AD78,CSVデータ2!AD78,CSVデータ3!AD78,CSVデータ4!AD78)","v":0},{"$f":"SUM(CSVデータ1!AE78,CSVデータ2!AE78,CSVデータ3!AE78,CSVデータ4!AE78)","v":0},{"$f":"SUM(CSVデータ1!AF78,CSVデータ2!AF78,CSVデータ3!AF78,CSVデータ4!AF78)","v":0},{"$f":"SUM(CSVデータ1!AG78,CSVデータ2!AG78,CSVデータ3!AG78,CSVデータ4!AG78)","v":0}]
[{"$f":"CSVデータ1!A79","v":"明細部"},{"$f":"CSVデータ1!B79","v":"国"},{"$f":"CSVデータ1!C79","v":84},{"$f":"CSVデータ1!D79","v":"女"},{"$f":"SUM(CSVデータ1!E79,CSVデータ2!E79,CSVデータ3!E79,CSVデータ4!E79)","v":0},{"$f":"SUM(CSVデータ1!F79,CSVデータ2!F79,CSVデータ3!F79,CSVデータ4!F79)","v":0},{"$f":"SUM(CSVデータ1!G79,CSVデータ2!G79,CSVデータ3!G79,CSVデータ4!G79)","v":0},{"$f":"SUM(CSVデータ1!H79,CSVデータ2!H79,CSVデータ3!H79,CSVデータ4!H79)","v":0},{"$f":"SUM(CSVデータ1!I79,CSVデータ2!I79,CSVデータ3!I79,CSVデータ4!I79)","v":0},{"$f":"SUM(CSVデータ1!J79,CSVデータ2!J79,CSVデータ3!J79,CSVデータ4!J79)","v":0},{"$f":"SUM(CSVデータ1!K79,CSVデータ2!K79,CSVデータ3!K79,CSVデータ4!K79)","v":0},{"$f":"SUM(CSVデータ1!L79,CSVデータ2!L79,CSVデータ3!L79,CSVデータ4!L79)","v":0},{"$f":"SUM(CSVデータ1!M79,CSVデータ2!M79,CSVデータ3!M79,CSVデータ4!M79)","v":0},{"$f":"SUM(CSVデータ1!N79,CSVデータ2!N79,CSVデータ3!N79,CSVデータ4!N79)","v":0},{"$f":"SUM(CSVデータ1!O79,CSVデータ2!O79,CSVデータ3!O79,CSVデータ4!O79)","v":0},{"$f":"SUM(CSVデータ1!P79,CSVデータ2!P79,CSVデータ3!P79,CSVデータ4!P79)","v":0},{"$f":"SUM(CSVデータ1!Q79,CSVデータ2!Q79,CSVデータ3!Q79,CSVデータ4!Q79)","v":0},{"$f":"SUM(CSVデータ1!R79,CSVデータ2!R79,CSVデータ3!R79,CSVデータ4!R79)","v":0},{"$f":"SUM(CSVデータ1!S79,CSVデータ2!S79,CSVデータ3!S79,CSVデータ4!S79)","v":0},{"$f":"SUM(CSVデータ1!T79,CSVデータ2!T79,CSVデータ3!T79,CSVデータ4!T79)","v":0},{"$f":"SUM(CSVデータ1!U79,CSVデータ2!U79,CSVデータ3!U79,CSVデータ4!U79)","v":0},{"$f":"SUM(CSVデータ1!V79,CSVデータ2!V79,CSVデータ3!V79,CSVデータ4!V79)","v":0},{"$f":"SUM(CSVデータ1!W79,CSVデータ2!W79,CSVデータ3!W79,CSVデータ4!W79)","v":0},{"$f":"SUM(CSVデータ1!X79,CSVデータ2!X79,CSVデータ3!X79,CSVデータ4!X79)","v":0},{"$f":"SUM(CSVデータ1!Y79,CSVデータ2!Y79,CSVデータ3!Y79,CSVデータ4!Y79)","v":0},{"$f":"SUM(CSVデータ1!Z79,CSVデータ2!Z79,CSVデータ3!Z79,CSVデータ4!Z79)","v":0},{"$f":"SUM(CSVデータ1!AA79,CSVデータ2!AA79,CSVデータ3!AA79,CSVデータ4!AA79)","v":0},{"$f":"SUM(CSVデータ1!AB79,CSVデータ2!AB79,CSVデータ3!AB79,CSVデータ4!AB79)","v":0},{"$f":"SUM(CSVデータ1!AC79,CSVデータ2!AC79,CSVデータ3!AC79,CSVデータ4!AC79)","v":0},{"$f":"SUM(CSVデータ1!AD79,CSVデータ2!AD79,CSVデータ3!AD79,CSVデータ4!AD79)","v":0},{"$f":"SUM(CSVデータ1!AE79,CSVデータ2!AE79,CSVデータ3!AE79,CSVデータ4!AE79)","v":0},{"$f":"SUM(CSVデータ1!AF79,CSVデータ2!AF79,CSVデータ3!AF79,CSVデータ4!AF79)","v":0},{"$f":"SUM(CSVデータ1!AG79,CSVデータ2!AG79,CSVデータ3!AG79,CSVデータ4!AG79)","v":0}]
[{"$f":"CSVデータ1!A80","v":"明細部"},{"$f":"CSVデータ1!B80","v":"国"},{"$f":"CSVデータ1!C80","v":85},{"$f":"CSVデータ1!D80","v":"女"},{"$f":"SUM(CSVデータ1!E80,CSVデータ2!E80,CSVデータ3!E80,CSVデータ4!E80)","v":0},{"$f":"SUM(CSVデータ1!F80,CSVデータ2!F80,CSVデータ3!F80,CSVデータ4!F80)","v":0},{"$f":"SUM(CSVデータ1!G80,CSVデータ2!G80,CSVデータ3!G80,CSVデータ4!G80)","v":0},{"$f":"SUM(CSVデータ1!H80,CSVデータ2!H80,CSVデータ3!H80,CSVデータ4!H80)","v":0},{"$f":"SUM(CSVデータ1!I80,CSVデータ2!I80,CSVデータ3!I80,CSVデータ4!I80)","v":0},{"$f":"SUM(CSVデータ1!J80,CSVデータ2!J80,CSVデータ3!J80,CSVデータ4!J80)","v":0},{"$f":"SUM(CSVデータ1!K80,CSVデータ2!K80,CSVデータ3!K80,CSVデータ4!K80)","v":0},{"$f":"SUM(CSVデータ1!L80,CSVデータ2!L80,CSVデータ3!L80,CSVデータ4!L80)","v":0},{"$f":"SUM(CSVデータ1!M80,CSVデータ2!M80,CSVデータ3!M80,CSVデータ4!M80)","v":0},{"$f":"SUM(CSVデータ1!N80,CSVデータ2!N80,CSVデータ3!N80,CSVデータ4!N80)","v":0},{"$f":"SUM(CSVデータ1!O80,CSVデータ2!O80,CSVデータ3!O80,CSVデータ4!O80)","v":0},{"$f":"SUM(CSVデータ1!P80,CSVデータ2!P80,CSVデータ3!P80,CSVデータ4!P80)","v":0},{"$f":"SUM(CSVデータ1!Q80,CSVデータ2!Q80,CSVデータ3!Q80,CSVデータ4!Q80)","v":0},{"$f":"SUM(CSVデータ1!R80,CSVデータ2!R80,CSVデータ3!R80,CSVデータ4!R80)","v":0},{"$f":"SUM(CSVデータ1!S80,CSVデータ2!S80,CSVデータ3!S80,CSVデータ4!S80)","v":0},{"$f":"SUM(CSVデータ1!T80,CSVデータ2!T80,CSVデータ3!T80,CSVデータ4!T80)","v":0},{"$f":"SUM(CSVデータ1!U80,CSVデータ2!U80,CSVデータ3!U80,CSVデータ4!U80)","v":0},{"$f":"SUM(CSVデータ1!V80,CSVデータ2!V80,CSVデータ3!V80,CSVデータ4!V80)","v":0},{"$f":"SUM(CSVデータ1!W80,CSVデータ2!W80,CSVデータ3!W80,CSVデータ4!W80)","v":0},{"$f":"SUM(CSVデータ1!X80,CSVデータ2!X80,CSVデータ3!X80,CSVデータ4!X80)","v":0},{"$f":"SUM(CSVデータ1!Y80,CSVデータ2!Y80,CSVデータ3!Y80,CSVデータ4!Y80)","v":0},{"$f":"SUM(CSVデータ1!Z80,CSVデータ2!Z80,CSVデータ3!Z80,CSVデータ4!Z80)","v":0},{"$f":"SUM(CSVデータ1!AA80,CSVデータ2!AA80,CSVデータ3!AA80,CSVデータ4!AA80)","v":0},{"$f":"SUM(CSVデータ1!AB80,CSVデータ2!AB80,CSVデータ3!AB80,CSVデータ4!AB80)","v":0},{"$f":"SUM(CSVデータ1!AC80,CSVデータ2!AC80,CSVデータ3!AC80,CSVデータ4!AC80)","v":0},{"$f":"SUM(CSVデータ1!AD80,CSVデータ2!AD80,CSVデータ3!AD80,CSVデータ4!AD80)","v":0},{"$f":"SUM(CSVデータ1!AE80,CSVデータ2!AE80,CSVデータ3!AE80,CSVデータ4!AE80)","v":0},{"$f":"SUM(CSVデータ1!AF80,CSVデータ2!AF80,CSVデータ3!AF80,CSVデータ4!AF80)","v":0},{"$f":"SUM(CSVデータ1!AG80,CSVデータ2!AG80,CSVデータ3!AG80,CSVデータ4!AG80)","v":0}]
[{"$f":"CSVデータ1!A81","v":"明細部"},{"$f":"CSVデータ1!B81","v":"国"},{"$f":"CSVデータ1!C81","v":86},{"$f":"CSVデータ1!D81","v":"女"},{"$f":"SUM(CSVデータ1!E81,CSVデータ2!E81,CSVデータ3!E81,CSVデータ4!E81)","v":0},{"$f":"SUM(CSVデータ1!F81,CSVデータ2!F81,CSVデータ3!F81,CSVデータ4!F81)","v":0},{"$f":"SUM(CSVデータ1!G81,CSVデータ2!G81,CSVデータ3!G81,CSVデータ4!G81)","v":0},{"$f":"SUM(CSVデータ1!H81,CSVデータ2!H81,CSVデータ3!H81,CSVデータ4!H81)","v":0},{"$f":"SUM(CSVデータ1!I81,CSVデータ2!I81,CSVデータ3!I81,CSVデータ4!I81)","v":0},{"$f":"SUM(CSVデータ1!J81,CSVデータ2!J81,CSVデータ3!J81,CSVデータ4!J81)","v":0},{"$f":"SUM(CSVデータ1!K81,CSVデータ2!K81,CSVデータ3!K81,CSVデータ4!K81)","v":0},{"$f":"SUM(CSVデータ1!L81,CSVデータ2!L81,CSVデータ3!L81,CSVデータ4!L81)","v":0},{"$f":"SUM(CSVデータ1!M81,CSVデータ2!M81,CSVデータ3!M81,CSVデータ4!M81)","v":0},{"$f":"SUM(CSVデータ1!N81,CSVデータ2!N81,CSVデータ3!N81,CSVデータ4!N81)","v":0},{"$f":"SUM(CSVデータ1!O81,CSVデータ2!O81,CSVデータ3!O81,CSVデータ4!O81)","v":0},{"$f":"SUM(CSVデータ1!P81,CSVデータ2!P81,CSVデータ3!P81,CSVデータ4!P81)","v":0},{"$f":"SUM(CSVデータ1!Q81,CSVデータ2!Q81,CSVデータ3!Q81,CSVデータ4!Q81)","v":0},{"$f":"SUM(CSVデータ1!R81,CSVデータ2!R81,CSVデータ3!R81,CSVデータ4!R81)","v":0},{"$f":"SUM(CSVデータ1!S81,CSVデータ2!S81,CSVデータ3!S81,CSVデータ4!S81)","v":0},{"$f":"SUM(CSVデータ1!T81,CSVデータ2!T81,CSVデータ3!T81,CSVデータ4!T81)","v":0},{"$f":"SUM(CSVデータ1!U81,CSVデータ2!U81,CSVデータ3!U81,CSVデータ4!U81)","v":0},{"$f":"SUM(CSVデータ1!V81,CSVデータ2!V81,CSVデータ3!V81,CSVデータ4!V81)","v":0},{"$f":"SUM(CSVデータ1!W81,CSVデータ2!W81,CSVデータ3!W81,CSVデータ4!W81)","v":0},{"$f":"SUM(CSVデータ1!X81,CSVデータ2!X81,CSVデータ3!X81,CSVデータ4!X81)","v":0},{"$f":"SUM(CSVデータ1!Y81,CSVデータ2!Y81,CSVデータ3!Y81,CSVデータ4!Y81)","v":0},{"$f":"SUM(CSVデータ1!Z81,CSVデータ2!Z81,CSVデータ3!Z81,CSVデータ4!Z81)","v":0},{"$f":"SUM(CSVデータ1!AA81,CSVデータ2!AA81,CSVデータ3!AA81,CSVデータ4!AA81)","v":0},{"$f":"SUM(CSVデータ1!AB81,CSVデータ2!AB81,CSVデータ3!AB81,CSVデータ4!AB81)","v":0},{"$f":"SUM(CSVデータ1!AC81,CSVデータ2!AC81,CSVデータ3!AC81,CSVデータ4!AC81)","v":0},{"$f":"SUM(CSVデータ1!AD81,CSVデータ2!AD81,CSVデータ3!AD81,CSVデータ4!AD81)","v":0},{"$f":"SUM(CSVデータ1!AE81,CSVデータ2!AE81,CSVデータ3!AE81,CSVデータ4!AE81)","v":0},{"$f":"SUM(CSVデータ1!AF81,CSVデータ2!AF81,CSVデータ3!AF81,CSVデータ4!AF81)","v":0},{"$f":"SUM(CSVデータ1!AG81,CSVデータ2!AG81,CSVデータ3!AG81,CSVデータ4!AG81)","v":0}]
[{"$f":"CSVデータ1!A82","v":"明細部"},{"$f":"CSVデータ1!B82","v":"国"},{"$f":"CSVデータ1!C82","v":87},{"$f":"CSVデータ1!D82","v":"女"},{"$f":"SUM(CSVデータ1!E82,CSVデータ2!E82,CSVデータ3!E82,CSVデータ4!E82)","v":0},{"$f":"SUM(CSVデータ1!F82,CSVデータ2!F82,CSVデータ3!F82,CSVデータ4!F82)","v":0},{"$f":"SUM(CSVデータ1!G82,CSVデータ2!G82,CSVデータ3!G82,CSVデータ4!G82)","v":0},{"$f":"SUM(CSVデータ1!H82,CSVデータ2!H82,CSVデータ3!H82,CSVデータ4!H82)","v":0},{"$f":"SUM(CSVデータ1!I82,CSVデータ2!I82,CSVデータ3!I82,CSVデータ4!I82)","v":0},{"$f":"SUM(CSVデータ1!J82,CSVデータ2!J82,CSVデータ3!J82,CSVデータ4!J82)","v":0},{"$f":"SUM(CSVデータ1!K82,CSVデータ2!K82,CSVデータ3!K82,CSVデータ4!K82)","v":0},{"$f":"SUM(CSVデータ1!L82,CSVデータ2!L82,CSVデータ3!L82,CSVデータ4!L82)","v":0},{"$f":"SUM(CSVデータ1!M82,CSVデータ2!M82,CSVデータ3!M82,CSVデータ4!M82)","v":0},{"$f":"SUM(CSVデータ1!N82,CSVデータ2!N82,CSVデータ3!N82,CSVデータ4!N82)","v":0},{"$f":"SUM(CSVデータ1!O82,CSVデータ2!O82,CSVデータ3!O82,CSVデータ4!O82)","v":0},{"$f":"SUM(CSVデータ1!P82,CSVデータ2!P82,CSVデータ3!P82,CSVデータ4!P82)","v":0},{"$f":"SUM(CSVデータ1!Q82,CSVデータ2!Q82,CSVデータ3!Q82,CSVデータ4!Q82)","v":0},{"$f":"SUM(CSVデータ1!R82,CSVデータ2!R82,CSVデータ3!R82,CSVデータ4!R82)","v":0},{"$f":"SUM(CSVデータ1!S82,CSVデータ2!S82,CSVデータ3!S82,CSVデータ4!S82)","v":0},{"$f":"SUM(CSVデータ1!T82,CSVデータ2!T82,CSVデータ3!T82,CSVデータ4!T82)","v":0},{"$f":"SUM(CSVデータ1!U82,CSVデータ2!U82,CSVデータ3!U82,CSVデータ4!U82)","v":0},{"$f":"SUM(CSVデータ1!V82,CSVデータ2!V82,CSVデータ3!V82,CSVデータ4!V82)","v":0},{"$f":"SUM(CSVデータ1!W82,CSVデータ2!W82,CSVデータ3!W82,CSVデータ4!W82)","v":0},{"$f":"SUM(CSVデータ1!X82,CSVデータ2!X82,CSVデータ3!X82,CSVデータ4!X82)","v":0},{"$f":"SUM(CSVデータ1!Y82,CSVデータ2!Y82,CSVデータ3!Y82,CSVデータ4!Y82)","v":0},{"$f":"SUM(CSVデータ1!Z82,CSVデータ2!Z82,CSVデータ3!Z82,CSVデータ4!Z82)","v":0},{"$f":"SUM(CSVデータ1!AA82,CSVデータ2!AA82,CSVデータ3!AA82,CSVデータ4!AA82)","v":0},{"$f":"SUM(CSVデータ1!AB82,CSVデータ2!AB82,CSVデータ3!AB82,CSVデータ4!AB82)","v":0},{"$f":"SUM(CSVデータ1!AC82,CSVデータ2!AC82,CSVデータ3!AC82,CSVデータ4!AC82)","v":0},{"$f":"SUM(CSVデータ1!AD82,CSVデータ2!AD82,CSVデータ3!AD82,CSVデータ4!AD82)","v":0},{"$f":"SUM(CSVデータ1!AE82,CSVデータ2!AE82,CSVデータ3!AE82,CSVデータ4!AE82)","v":0},{"$f":"SUM(CSVデータ1!AF82,CSVデータ2!AF82,CSVデータ3!AF82,CSVデータ4!AF82)","v":0},{"$f":"SUM(CSVデータ1!AG82,CSVデータ2!AG82,CSVデータ3!AG82,CSVデータ4!AG82)","v":0}]
[{"$f":"CSVデータ1!A83","v":"明細部"},{"$f":"CSVデータ1!B83","v":"国"},{"$f":"CSVデータ1!C83","v":88},{"$f":"CSVデータ1!D83","v":"女"},{"$f":"SUM(CSVデータ1!E83,CSVデータ2!E83,CSVデータ3!E83,CSVデータ4!E83)","v":0},{"$f":"SUM(CSVデータ1!F83,CSVデータ2!F83,CSVデータ3!F83,CSVデータ4!F83)","v":0},{"$f":"SUM(CSVデータ1!G83,CSVデータ2!G83,CSVデータ3!G83,CSVデータ4!G83)","v":0},{"$f":"SUM(CSVデータ1!H83,CSVデータ2!H83,CSVデータ3!H83,CSVデータ4!H83)","v":0},{"$f":"SUM(CSVデータ1!I83,CSVデータ2!I83,CSVデータ3!I83,CSVデータ4!I83)","v":0},{"$f":"SUM(CSVデータ1!J83,CSVデータ2!J83,CSVデータ3!J83,CSVデータ4!J83)","v":0},{"$f":"SUM(CSVデータ1!K83,CSVデータ2!K83,CSVデータ3!K83,CSVデータ4!K83)","v":0},{"$f":"SUM(CSVデータ1!L83,CSVデータ2!L83,CSVデータ3!L83,CSVデータ4!L83)","v":0},{"$f":"SUM(CSVデータ1!M83,CSVデータ2!M83,CSVデータ3!M83,CSVデータ4!M83)","v":0},{"$f":"SUM(CSVデータ1!N83,CSVデータ2!N83,CSVデータ3!N83,CSVデータ4!N83)","v":0},{"$f":"SUM(CSVデータ1!O83,CSVデータ2!O83,CSVデータ3!O83,CSVデータ4!O83)","v":0},{"$f":"SUM(CSVデータ1!P83,CSVデータ2!P83,CSVデータ3!P83,CSVデータ4!P83)","v":0},{"$f":"SUM(CSVデータ1!Q83,CSVデータ2!Q83,CSVデータ3!Q83,CSVデータ4!Q83)","v":0},{"$f":"SUM(CSVデータ1!R83,CSVデータ2!R83,CSVデータ3!R83,CSVデータ4!R83)","v":0},{"$f":"SUM(CSVデータ1!S83,CSVデータ2!S83,CSVデータ3!S83,CSVデータ4!S83)","v":0},{"$f":"SUM(CSVデータ1!T83,CSVデータ2!T83,CSVデータ3!T83,CSVデータ4!T83)","v":0},{"$f":"SUM(CSVデータ1!U83,CSVデータ2!U83,CSVデータ3!U83,CSVデータ4!U83)","v":0},{"$f":"SUM(CSVデータ1!V83,CSVデータ2!V83,CSVデータ3!V83,CSVデータ4!V83)","v":0},{"$f":"SUM(CSVデータ1!W83,CSVデータ2!W83,CSVデータ3!W83,CSVデータ4!W83)","v":0},{"$f":"SUM(CSVデータ1!X83,CSVデータ2!X83,CSVデータ3!X83,CSVデータ4!X83)","v":0},{"$f":"SUM(CSVデータ1!Y83,CSVデータ2!Y83,CSVデータ3!Y83,CSVデータ4!Y83)","v":0},{"$f":"SUM(CSVデータ1!Z83,CSVデータ2!Z83,CSVデータ3!Z83,CSVデータ4!Z83)","v":0},{"$f":"SUM(CSVデータ1!AA83,CSVデータ2!AA83,CSVデータ3!AA83,CSVデータ4!AA83)","v":0},{"$f":"SUM(CSVデータ1!AB83,CSVデータ2!AB83,CSVデータ3!AB83,CSVデータ4!AB83)","v":0},{"$f":"SUM(CSVデータ1!AC83,CSVデータ2!AC83,CSVデータ3!AC83,CSVデータ4!AC83)","v":0},{"$f":"SUM(CSVデータ1!AD83,CSVデータ2!AD83,CSVデータ3!AD83,CSVデータ4!AD83)","v":0},{"$f":"SUM(CSVデータ1!AE83,CSVデータ2!AE83,CSVデータ3!AE83,CSVデータ4!AE83)","v":0},{"$f":"SUM(CSVデータ1!AF83,CSVデータ2!AF83,CSVデータ3!AF83,CSVデータ4!AF83)","v":0},{"$f":"SUM(CSVデータ1!AG83,CSVデータ2!AG83,CSVデータ3!AG83,CSVデータ4!AG83)","v":0}]
[{"$f":"CSVデータ1!A84","v":"明細部"},{"$f":"CSVデータ1!B84","v":"国"},{"$f":"CSVデータ1!C84","v":89},{"$f":"CSVデータ1!D84","v":"女"},{"$f":"SUM(CSVデータ1!E84,CSVデータ2!E84,CSVデータ3!E84,CSVデータ4!E84)","v":0},{"$f":"SUM(CSVデータ1!F84,CSVデータ2!F84,CSVデータ3!F84,CSVデータ4!F84)","v":0},{"$f":"SUM(CSVデータ1!G84,CSVデータ2!G84,CSVデータ3!G84,CSVデータ4!G84)","v":0},{"$f":"SUM(CSVデータ1!H84,CSVデータ2!H84,CSVデータ3!H84,CSVデータ4!H84)","v":0},{"$f":"SUM(CSVデータ1!I84,CSVデータ2!I84,CSVデータ3!I84,CSVデータ4!I84)","v":0},{"$f":"SUM(CSVデータ1!J84,CSVデータ2!J84,CSVデータ3!J84,CSVデータ4!J84)","v":0},{"$f":"SUM(CSVデータ1!K84,CSVデータ2!K84,CSVデータ3!K84,CSVデータ4!K84)","v":0},{"$f":"SUM(CSVデータ1!L84,CSVデータ2!L84,CSVデータ3!L84,CSVデータ4!L84)","v":0},{"$f":"SUM(CSVデータ1!M84,CSVデータ2!M84,CSVデータ3!M84,CSVデータ4!M84)","v":0},{"$f":"SUM(CSVデータ1!N84,CSVデータ2!N84,CSVデータ3!N84,CSVデータ4!N84)","v":0},{"$f":"SUM(CSVデータ1!O84,CSVデータ2!O84,CSVデータ3!O84,CSVデータ4!O84)","v":0},{"$f":"SUM(CSVデータ1!P84,CSVデータ2!P84,CSVデータ3!P84,CSVデータ4!P84)","v":0},{"$f":"SUM(CSVデータ1!Q84,CSVデータ2!Q84,CSVデータ3!Q84,CSVデータ4!Q84)","v":0},{"$f":"SUM(CSVデータ1!R84,CSVデータ2!R84,CSVデータ3!R84,CSVデータ4!R84)","v":0},{"$f":"SUM(CSVデータ1!S84,CSVデータ2!S84,CSVデータ3!S84,CSVデータ4!S84)","v":0},{"$f":"SUM(CSVデータ1!T84,CSVデータ2!T84,CSVデータ3!T84,CSVデータ4!T84)","v":0},{"$f":"SUM(CSVデータ1!U84,CSVデータ2!U84,CSVデータ3!U84,CSVデータ4!U84)","v":0},{"$f":"SUM(CSVデータ1!V84,CSVデータ2!V84,CSVデータ3!V84,CSVデータ4!V84)","v":0},{"$f":"SUM(CSVデータ1!W84,CSVデータ2!W84,CSVデータ3!W84,CSVデータ4!W84)","v":0},{"$f":"SUM(CSVデータ1!X84,CSVデータ2!X84,CSVデータ3!X84,CSVデータ4!X84)","v":0},{"$f":"SUM(CSVデータ1!Y84,CSVデータ2!Y84,CSVデータ3!Y84,CSVデータ4!Y84)","v":0},{"$f":"SUM(CSVデータ1!Z84,CSVデータ2!Z84,CSVデータ3!Z84,CSVデータ4!Z84)","v":0},{"$f":"SUM(CSVデータ1!AA84,CSVデータ2!AA84,CSVデータ3!AA84,CSVデータ4!AA84)","v":0},{"$f":"SUM(CSVデータ1!AB84,CSVデータ2!AB84,CSVデータ3!AB84,CSVデータ4!AB84)","v":0},{"$f":"SUM(CSVデータ1!AC84,CSVデータ2!AC84,CSVデータ3!AC84,CSVデータ4!AC84)","v":0},{"$f":"SUM(CSVデータ1!AD84,CSVデータ2!AD84,CSVデータ3!AD84,CSVデータ4!AD84)","v":0},{"$f":"SUM(CSVデータ1!AE84,CSVデータ2!AE84,CSVデータ3!AE84,CSVデータ4!AE84)","v":0},{"$f":"SUM(CSVデータ1!AF84,CSVデータ2!AF84,CSVデータ3!AF84,CSVデータ4!AF84)","v":0},{"$f":"SUM(CSVデータ1!AG84,CSVデータ2!AG84,CSVデータ3!AG84,CSVデータ4!AG84)","v":0}]
[{"$f":"CSVデータ1!A85","v":"明細部"},{"$f":"CSVデータ1!B85","v":"国"},{"$f":"CSVデータ1!C85","v":90},{"$f":"CSVデータ1!D85","v":"女"},{"$f":"SUM(CSVデータ1!E85,CSVデータ2!E85,CSVデータ3!E85,CSVデータ4!E85)","v":0},{"$f":"SUM(CSVデータ1!F85,CSVデータ2!F85,CSVデータ3!F85,CSVデータ4!F85)","v":0},{"$f":"SUM(CSVデータ1!G85,CSVデータ2!G85,CSVデータ3!G85,CSVデータ4!G85)","v":0},{"$f":"SUM(CSVデータ1!H85,CSVデータ2!H85,CSVデータ3!H85,CSVデータ4!H85)","v":0},{"$f":"SUM(CSVデータ1!I85,CSVデータ2!I85,CSVデータ3!I85,CSVデータ4!I85)","v":0},{"$f":"SUM(CSVデータ1!J85,CSVデータ2!J85,CSVデータ3!J85,CSVデータ4!J85)","v":0},{"$f":"SUM(CSVデータ1!K85,CSVデータ2!K85,CSVデータ3!K85,CSVデータ4!K85)","v":0},{"$f":"SUM(CSVデータ1!L85,CSVデータ2!L85,CSVデータ3!L85,CSVデータ4!L85)","v":0},{"$f":"SUM(CSVデータ1!M85,CSVデータ2!M85,CSVデータ3!M85,CSVデータ4!M85)","v":0},{"$f":"SUM(CSVデータ1!N85,CSVデータ2!N85,CSVデータ3!N85,CSVデータ4!N85)","v":0},{"$f":"SUM(CSVデータ1!O85,CSVデータ2!O85,CSVデータ3!O85,CSVデータ4!O85)","v":0},{"$f":"SUM(CSVデータ1!P85,CSVデータ2!P85,CSVデータ3!P85,CSVデータ4!P85)","v":0},{"$f":"SUM(CSVデータ1!Q85,CSVデータ2!Q85,CSVデータ3!Q85,CSVデータ4!Q85)","v":0},{"$f":"SUM(CSVデータ1!R85,CSVデータ2!R85,CSVデータ3!R85,CSVデータ4!R85)","v":0},{"$f":"SUM(CSVデータ1!S85,CSVデータ2!S85,CSVデータ3!S85,CSVデータ4!S85)","v":0},{"$f":"SUM(CSVデータ1!T85,CSVデータ2!T85,CSVデータ3!T85,CSVデータ4!T85)","v":0},{"$f":"SUM(CSVデータ1!U85,CSVデータ2!U85,CSVデータ3!U85,CSVデータ4!U85)","v":0},{"$f":"SUM(CSVデータ1!V85,CSVデータ2!V85,CSVデータ3!V85,CSVデータ4!V85)","v":0},{"$f":"SUM(CSVデータ1!W85,CSVデータ2!W85,CSVデータ3!W85,CSVデータ4!W85)","v":0},{"$f":"SUM(CSVデータ1!X85,CSVデータ2!X85,CSVデータ3!X85,CSVデータ4!X85)","v":0},{"$f":"SUM(CSVデータ1!Y85,CSVデータ2!Y85,CSVデータ3!Y85,CSVデータ4!Y85)","v":0},{"$f":"SUM(CSVデータ1!Z85,CSVデータ2!Z85,CSVデータ3!Z85,CSVデータ4!Z85)","v":0},{"$f":"SUM(CSVデータ1!AA85,CSVデータ2!AA85,CSVデータ3!AA85,CSVデータ4!AA85)","v":0},{"$f":"SUM(CSVデータ1!AB85,CSVデータ2!AB85,CSVデータ3!AB85,CSVデータ4!AB85)","v":0},{"$f":"SUM(CSVデータ1!AC85,CSVデータ2!AC85,CSVデータ3!AC85,CSVデータ4!AC85)","v":0},{"$f":"SUM(CSVデータ1!AD85,CSVデータ2!AD85,CSVデータ3!AD85,CSVデータ4!AD85)","v":0},{"$f":"SUM(CSVデータ1!AE85,CSVデータ2!AE85,CSVデータ3!AE85,CSVデータ4!AE85)","v":0},{"$f":"SUM(CSVデータ1!AF85,CSVデータ2!AF85,CSVデータ3!AF85,CSVデータ4!AF85)","v":0},{"$f":"SUM(CSVデータ1!AG85,CSVデータ2!AG85,CSVデータ3!AG85,CSVデータ4!AG85)","v":0}]
[{"$f":"CSVデータ1!A86","v":"明細部"},{"$f":"CSVデータ1!B86","v":"国"},{"$f":"CSVデータ1!C86","v":91},{"$f":"CSVデータ1!D86","v":"女"},{"$f":"SUM(CSVデータ1!E86,CSVデータ2!E86,CSVデータ3!E86,CSVデータ4!E86)","v":0},{"$f":"SUM(CSVデータ1!F86,CSVデータ2!F86,CSVデータ3!F86,CSVデータ4!F86)","v":0},{"$f":"SUM(CSVデータ1!G86,CSVデータ2!G86,CSVデータ3!G86,CSVデータ4!G86)","v":0},{"$f":"SUM(CSVデータ1!H86,CSVデータ2!H86,CSVデータ3!H86,CSVデータ4!H86)","v":0},{"$f":"SUM(CSVデータ1!I86,CSVデータ2!I86,CSVデータ3!I86,CSVデータ4!I86)","v":0},{"$f":"SUM(CSVデータ1!J86,CSVデータ2!J86,CSVデータ3!J86,CSVデータ4!J86)","v":0},{"$f":"SUM(CSVデータ1!K86,CSVデータ2!K86,CSVデータ3!K86,CSVデータ4!K86)","v":0},{"$f":"SUM(CSVデータ1!L86,CSVデータ2!L86,CSVデータ3!L86,CSVデータ4!L86)","v":0},{"$f":"SUM(CSVデータ1!M86,CSVデータ2!M86,CSVデータ3!M86,CSVデータ4!M86)","v":0},{"$f":"SUM(CSVデータ1!N86,CSVデータ2!N86,CSVデータ3!N86,CSVデータ4!N86)","v":0},{"$f":"SUM(CSVデータ1!O86,CSVデータ2!O86,CSVデータ3!O86,CSVデータ4!O86)","v":0},{"$f":"SUM(CSVデータ1!P86,CSVデータ2!P86,CSVデータ3!P86,CSVデータ4!P86)","v":0},{"$f":"SUM(CSVデータ1!Q86,CSVデータ2!Q86,CSVデータ3!Q86,CSVデータ4!Q86)","v":0},{"$f":"SUM(CSVデータ1!R86,CSVデータ2!R86,CSVデータ3!R86,CSVデータ4!R86)","v":0},{"$f":"SUM(CSVデータ1!S86,CSVデータ2!S86,CSVデータ3!S86,CSVデータ4!S86)","v":0},{"$f":"SUM(CSVデータ1!T86,CSVデータ2!T86,CSVデータ3!T86,CSVデータ4!T86)","v":0},{"$f":"SUM(CSVデータ1!U86,CSVデータ2!U86,CSVデータ3!U86,CSVデータ4!U86)","v":0},{"$f":"SUM(CSVデータ1!V86,CSVデータ2!V86,CSVデータ3!V86,CSVデータ4!V86)","v":0},{"$f":"SUM(CSVデータ1!W86,CSVデータ2!W86,CSVデータ3!W86,CSVデータ4!W86)","v":0},{"$f":"SUM(CSVデータ1!X86,CSVデータ2!X86,CSVデータ3!X86,CSVデータ4!X86)","v":0},{"$f":"SUM(CSVデータ1!Y86,CSVデータ2!Y86,CSVデータ3!Y86,CSVデータ4!Y86)","v":0},{"$f":"SUM(CSVデータ1!Z86,CSVデータ2!Z86,CSVデータ3!Z86,CSVデータ4!Z86)","v":0},{"$f":"SUM(CSVデータ1!AA86,CSVデータ2!AA86,CSVデータ3!AA86,CSVデータ4!AA86)","v":0},{"$f":"SUM(CSVデータ1!AB86,CSVデータ2!AB86,CSVデータ3!AB86,CSVデータ4!AB86)","v":0},{"$f":"SUM(CSVデータ1!AC86,CSVデータ2!AC86,CSVデータ3!AC86,CSVデータ4!AC86)","v":0},{"$f":"SUM(CSVデータ1!AD86,CSVデータ2!AD86,CSVデータ3!AD86,CSVデータ4!AD86)","v":0},{"$f":"SUM(CSVデータ1!AE86,CSVデータ2!AE86,CSVデータ3!AE86,CSVデータ4!AE86)","v":0},{"$f":"SUM(CSVデータ1!AF86,CSVデータ2!AF86,CSVデータ3!AF86,CSVデータ4!AF86)","v":0},{"$f":"SUM(CSVデータ1!AG86,CSVデータ2!AG86,CSVデータ3!AG86,CSVデータ4!AG86)","v":0}]
[{"$f":"CSVデータ1!A87","v":"明細部"},{"$f":"CSVデータ1!B87","v":"国"},{"$f":"CSVデータ1!C87","v":92},{"$f":"CSVデータ1!D87","v":"女"},{"$f":"SUM(CSVデータ1!E87,CSVデータ2!E87,CSVデータ3!E87,CSVデータ4!E87)","v":0},{"$f":"SUM(CSVデータ1!F87,CSVデータ2!F87,CSVデータ3!F87,CSVデータ4!F87)","v":0},{"$f":"SUM(CSVデータ1!G87,CSVデータ2!G87,CSVデータ3!G87,CSVデータ4!G87)","v":0},{"$f":"SUM(CSVデータ1!H87,CSVデータ2!H87,CSVデータ3!H87,CSVデータ4!H87)","v":0},{"$f":"SUM(CSVデータ1!I87,CSVデータ2!I87,CSVデータ3!I87,CSVデータ4!I87)","v":0},{"$f":"SUM(CSVデータ1!J87,CSVデータ2!J87,CSVデータ3!J87,CSVデータ4!J87)","v":0},{"$f":"SUM(CSVデータ1!K87,CSVデータ2!K87,CSVデータ3!K87,CSVデータ4!K87)","v":0},{"$f":"SUM(CSVデータ1!L87,CSVデータ2!L87,CSVデータ3!L87,CSVデータ4!L87)","v":0},{"$f":"SUM(CSVデータ1!M87,CSVデータ2!M87,CSVデータ3!M87,CSVデータ4!M87)","v":0},{"$f":"SUM(CSVデータ1!N87,CSVデータ2!N87,CSVデータ3!N87,CSVデータ4!N87)","v":0},{"$f":"SUM(CSVデータ1!O87,CSVデータ2!O87,CSVデータ3!O87,CSVデータ4!O87)","v":0},{"$f":"SUM(CSVデータ1!P87,CSVデータ2!P87,CSVデータ3!P87,CSVデータ4!P87)","v":0},{"$f":"SUM(CSVデータ1!Q87,CSVデータ2!Q87,CSVデータ3!Q87,CSVデータ4!Q87)","v":0},{"$f":"SUM(CSVデータ1!R87,CSVデータ2!R87,CSVデータ3!R87,CSVデータ4!R87)","v":0},{"$f":"SUM(CSVデータ1!S87,CSVデータ2!S87,CSVデータ3!S87,CSVデータ4!S87)","v":0},{"$f":"SUM(CSVデータ1!T87,CSVデータ2!T87,CSVデータ3!T87,CSVデータ4!T87)","v":0},{"$f":"SUM(CSVデータ1!U87,CSVデータ2!U87,CSVデータ3!U87,CSVデータ4!U87)","v":0},{"$f":"SUM(CSVデータ1!V87,CSVデータ2!V87,CSVデータ3!V87,CSVデータ4!V87)","v":0},{"$f":"SUM(CSVデータ1!W87,CSVデータ2!W87,CSVデータ3!W87,CSVデータ4!W87)","v":0},{"$f":"SUM(CSVデータ1!X87,CSVデータ2!X87,CSVデータ3!X87,CSVデータ4!X87)","v":0},{"$f":"SUM(CSVデータ1!Y87,CSVデータ2!Y87,CSVデータ3!Y87,CSVデータ4!Y87)","v":0},{"$f":"SUM(CSVデータ1!Z87,CSVデータ2!Z87,CSVデータ3!Z87,CSVデータ4!Z87)","v":0},{"$f":"SUM(CSVデータ1!AA87,CSVデータ2!AA87,CSVデータ3!AA87,CSVデータ4!AA87)","v":0},{"$f":"SUM(CSVデータ1!AB87,CSVデータ2!AB87,CSVデータ3!AB87,CSVデータ4!AB87)","v":0},{"$f":"SUM(CSVデータ1!AC87,CSVデータ2!AC87,CSVデータ3!AC87,CSVデータ4!AC87)","v":0},{"$f":"SUM(CSVデータ1!AD87,CSVデータ2!AD87,CSVデータ3!AD87,CSVデータ4!AD87)","v":0},{"$f":"SUM(CSVデータ1!AE87,CSVデータ2!AE87,CSVデータ3!AE87,CSVデータ4!AE87)","v":0},{"$f":"SUM(CSVデータ1!AF87,CSVデータ2!AF87,CSVデータ3!AF87,CSVデータ4!AF87)","v":0},{"$f":"SUM(CSVデータ1!AG87,CSVデータ2!AG87,CSVデータ3!AG87,CSVデータ4!AG87)","v":0}]
[{"$f":"CSVデータ1!A88","v":"明細部"},{"$f":"CSVデータ1!B88","v":"国"},{"$f":"CSVデータ1!C88","v":93},{"$f":"CSVデータ1!D88","v":"女"},{"$f":"SUM(CSVデータ1!E88,CSVデータ2!E88,CSVデータ3!E88,CSVデータ4!E88)","v":0},{"$f":"SUM(CSVデータ1!F88,CSVデータ2!F88,CSVデータ3!F88,CSVデータ4!F88)","v":0},{"$f":"SUM(CSVデータ1!G88,CSVデータ2!G88,CSVデータ3!G88,CSVデータ4!G88)","v":0},{"$f":"SUM(CSVデータ1!H88,CSVデータ2!H88,CSVデータ3!H88,CSVデータ4!H88)","v":0},{"$f":"SUM(CSVデータ1!I88,CSVデータ2!I88,CSVデータ3!I88,CSVデータ4!I88)","v":0},{"$f":"SUM(CSVデータ1!J88,CSVデータ2!J88,CSVデータ3!J88,CSVデータ4!J88)","v":0},{"$f":"SUM(CSVデータ1!K88,CSVデータ2!K88,CSVデータ3!K88,CSVデータ4!K88)","v":0},{"$f":"SUM(CSVデータ1!L88,CSVデータ2!L88,CSVデータ3!L88,CSVデータ4!L88)","v":0},{"$f":"SUM(CSVデータ1!M88,CSVデータ2!M88,CSVデータ3!M88,CSVデータ4!M88)","v":0},{"$f":"SUM(CSVデータ1!N88,CSVデータ2!N88,CSVデータ3!N88,CSVデータ4!N88)","v":0},{"$f":"SUM(CSVデータ1!O88,CSVデータ2!O88,CSVデータ3!O88,CSVデータ4!O88)","v":0},{"$f":"SUM(CSVデータ1!P88,CSVデータ2!P88,CSVデータ3!P88,CSVデータ4!P88)","v":0},{"$f":"SUM(CSVデータ1!Q88,CSVデータ2!Q88,CSVデータ3!Q88,CSVデータ4!Q88)","v":0},{"$f":"SUM(CSVデータ1!R88,CSVデータ2!R88,CSVデータ3!R88,CSVデータ4!R88)","v":0},{"$f":"SUM(CSVデータ1!S88,CSVデータ2!S88,CSVデータ3!S88,CSVデータ4!S88)","v":0},{"$f":"SUM(CSVデータ1!T88,CSVデータ2!T88,CSVデータ3!T88,CSVデータ4!T88)","v":0},{"$f":"SUM(CSVデータ1!U88,CSVデータ2!U88,CSVデータ3!U88,CSVデータ4!U88)","v":0},{"$f":"SUM(CSVデータ1!V88,CSVデータ2!V88,CSVデータ3!V88,CSVデータ4!V88)","v":0},{"$f":"SUM(CSVデータ1!W88,CSVデータ2!W88,CSVデータ3!W88,CSVデータ4!W88)","v":0},{"$f":"SUM(CSVデータ1!X88,CSVデータ2!X88,CSVデータ3!X88,CSVデータ4!X88)","v":0},{"$f":"SUM(CSVデータ1!Y88,CSVデータ2!Y88,CSVデータ3!Y88,CSVデータ4!Y88)","v":0},{"$f":"SUM(CSVデータ1!Z88,CSVデータ2!Z88,CSVデータ3!Z88,CSVデータ4!Z88)","v":0},{"$f":"SUM(CSVデータ1!AA88,CSVデータ2!AA88,CSVデータ3!AA88,CSVデータ4!AA88)","v":0},{"$f":"SUM(CSVデータ1!AB88,CSVデータ2!AB88,CSVデータ3!AB88,CSVデータ4!AB88)","v":0},{"$f":"SUM(CSVデータ1!AC88,CSVデータ2!AC88,CSVデータ3!AC88,CSVデータ4!AC88)","v":0},{"$f":"SUM(CSVデータ1!AD88,CSVデータ2!AD88,CSVデータ3!AD88,CSVデータ4!AD88)","v":0},{"$f":"SUM(CSVデータ1!AE88,CSVデータ2!AE88,CSVデータ3!AE88,CSVデータ4!AE88)","v":0},{"$f":"SUM(CSVデータ1!AF88,CSVデータ2!AF88,CSVデータ3!AF88,CSVデータ4!AF88)","v":0},{"$f":"SUM(CSVデータ1!AG88,CSVデータ2!AG88,CSVデータ3!AG88,CSVデータ4!AG88)","v":0}]
[{"$f":"CSVデータ1!A89","v":"明細部"},{"$f":"CSVデータ1!B89","v":"国"},{"$f":"CSVデータ1!C89","v":94},{"$f":"CSVデータ1!D89","v":"女"},{"$f":"SUM(CSVデータ1!E89,CSVデータ2!E89,CSVデータ3!E89,CSVデータ4!E89)","v":0},{"$f":"SUM(CSVデータ1!F89,CSVデータ2!F89,CSVデータ3!F89,CSVデータ4!F89)","v":0},{"$f":"SUM(CSVデータ1!G89,CSVデータ2!G89,CSVデータ3!G89,CSVデータ4!G89)","v":0},{"$f":"SUM(CSVデータ1!H89,CSVデータ2!H89,CSVデータ3!H89,CSVデータ4!H89)","v":0},{"$f":"SUM(CSVデータ1!I89,CSVデータ2!I89,CSVデータ3!I89,CSVデータ4!I89)","v":0},{"$f":"SUM(CSVデータ1!J89,CSVデータ2!J89,CSVデータ3!J89,CSVデータ4!J89)","v":0},{"$f":"SUM(CSVデータ1!K89,CSVデータ2!K89,CSVデータ3!K89,CSVデータ4!K89)","v":0},{"$f":"SUM(CSVデータ1!L89,CSVデータ2!L89,CSVデータ3!L89,CSVデータ4!L89)","v":0},{"$f":"SUM(CSVデータ1!M89,CSVデータ2!M89,CSVデータ3!M89,CSVデータ4!M89)","v":0},{"$f":"SUM(CSVデータ1!N89,CSVデータ2!N89,CSVデータ3!N89,CSVデータ4!N89)","v":0},{"$f":"SUM(CSVデータ1!O89,CSVデータ2!O89,CSVデータ3!O89,CSVデータ4!O89)","v":0},{"$f":"SUM(CSVデータ1!P89,CSVデータ2!P89,CSVデータ3!P89,CSVデータ4!P89)","v":0},{"$f":"SUM(CSVデータ1!Q89,CSVデータ2!Q89,CSVデータ3!Q89,CSVデータ4!Q89)","v":0},{"$f":"SUM(CSVデータ1!R89,CSVデータ2!R89,CSVデータ3!R89,CSVデータ4!R89)","v":0},{"$f":"SUM(CSVデータ1!S89,CSVデータ2!S89,CSVデータ3!S89,CSVデータ4!S89)","v":0},{"$f":"SUM(CSVデータ1!T89,CSVデータ2!T89,CSVデータ3!T89,CSVデータ4!T89)","v":0},{"$f":"SUM(CSVデータ1!U89,CSVデータ2!U89,CSVデータ3!U89,CSVデータ4!U89)","v":0},{"$f":"SUM(CSVデータ1!V89,CSVデータ2!V89,CSVデータ3!V89,CSVデータ4!V89)","v":0},{"$f":"SUM(CSVデータ1!W89,CSVデータ2!W89,CSVデータ3!W89,CSVデータ4!W89)","v":0},{"$f":"SUM(CSVデータ1!X89,CSVデータ2!X89,CSVデータ3!X89,CSVデータ4!X89)","v":0},{"$f":"SUM(CSVデータ1!Y89,CSVデータ2!Y89,CSVデータ3!Y89,CSVデータ4!Y89)","v":0},{"$f":"SUM(CSVデータ1!Z89,CSVデータ2!Z89,CSVデータ3!Z89,CSVデータ4!Z89)","v":0},{"$f":"SUM(CSVデータ1!AA89,CSVデータ2!AA89,CSVデータ3!AA89,CSVデータ4!AA89)","v":0},{"$f":"SUM(CSVデータ1!AB89,CSVデータ2!AB89,CSVデータ3!AB89,CSVデータ4!AB89)","v":0},{"$f":"SUM(CSVデータ1!AC89,CSVデータ2!AC89,CSVデータ3!AC89,CSVデータ4!AC89)","v":0},{"$f":"SUM(CSVデータ1!AD89,CSVデータ2!AD89,CSVデータ3!AD89,CSVデータ4!AD89)","v":0},{"$f":"SUM(CSVデータ1!AE89,CSVデータ2!AE89,CSVデータ3!AE89,CSVデータ4!AE89)","v":0},{"$f":"SUM(CSVデータ1!AF89,CSVデータ2!AF89,CSVデータ3!AF89,CSVデータ4!AF89)","v":0},{"$f":"SUM(CSVデータ1!AG89,CSVデータ2!AG89,CSVデータ3!AG89,CSVデータ4!AG89)","v":0}]
[{"$f":"CSVデータ1!A90","v":"明細部"},{"$f":"CSVデータ1!B90","v":"国"},{"$f":"CSVデータ1!C90","v":95},{"$f":"CSVデータ1!D90","v":"女"},{"$f":"SUM(CSVデータ1!E90,CSVデータ2!E90,CSVデータ3!E90,CSVデータ4!E90)","v":0},{"$f":"SUM(CSVデータ1!F90,CSVデータ2!F90,CSVデータ3!F90,CSVデータ4!F90)","v":0},{"$f":"SUM(CSVデータ1!G90,CSVデータ2!G90,CSVデータ3!G90,CSVデータ4!G90)","v":0},{"$f":"SUM(CSVデータ1!H90,CSVデータ2!H90,CSVデータ3!H90,CSVデータ4!H90)","v":0},{"$f":"SUM(CSVデータ1!I90,CSVデータ2!I90,CSVデータ3!I90,CSVデータ4!I90)","v":0},{"$f":"SUM(CSVデータ1!J90,CSVデータ2!J90,CSVデータ3!J90,CSVデータ4!J90)","v":0},{"$f":"SUM(CSVデータ1!K90,CSVデータ2!K90,CSVデータ3!K90,CSVデータ4!K90)","v":0},{"$f":"SUM(CSVデータ1!L90,CSVデータ2!L90,CSVデータ3!L90,CSVデータ4!L90)","v":0},{"$f":"SUM(CSVデータ1!M90,CSVデータ2!M90,CSVデータ3!M90,CSVデータ4!M90)","v":0},{"$f":"SUM(CSVデータ1!N90,CSVデータ2!N90,CSVデータ3!N90,CSVデータ4!N90)","v":0},{"$f":"SUM(CSVデータ1!O90,CSVデータ2!O90,CSVデータ3!O90,CSVデータ4!O90)","v":0},{"$f":"SUM(CSVデータ1!P90,CSVデータ2!P90,CSVデータ3!P90,CSVデータ4!P90)","v":0},{"$f":"SUM(CSVデータ1!Q90,CSVデータ2!Q90,CSVデータ3!Q90,CSVデータ4!Q90)","v":0},{"$f":"SUM(CSVデータ1!R90,CSVデータ2!R90,CSVデータ3!R90,CSVデータ4!R90)","v":0},{"$f":"SUM(CSVデータ1!S90,CSVデータ2!S90,CSVデータ3!S90,CSVデータ4!S90)","v":0},{"$f":"SUM(CSVデータ1!T90,CSVデータ2!T90,CSVデータ3!T90,CSVデータ4!T90)","v":0},{"$f":"SUM(CSVデータ1!U90,CSVデータ2!U90,CSVデータ3!U90,CSVデータ4!U90)","v":0},{"$f":"SUM(CSVデータ1!V90,CSVデータ2!V90,CSVデータ3!V90,CSVデータ4!V90)","v":0},{"$f":"SUM(CSVデータ1!W90,CSVデータ2!W90,CSVデータ3!W90,CSVデータ4!W90)","v":0},{"$f":"SUM(CSVデータ1!X90,CSVデータ2!X90,CSVデータ3!X90,CSVデータ4!X90)","v":0},{"$f":"SUM(CSVデータ1!Y90,CSVデータ2!Y90,CSVデータ3!Y90,CSVデータ4!Y90)","v":0},{"$f":"SUM(CSVデータ1!Z90,CSVデータ2!Z90,CSVデータ3!Z90,CSVデータ4!Z90)","v":0},{"$f":"SUM(CSVデータ1!AA90,CSVデータ2!AA90,CSVデータ3!AA90,CSVデータ4!AA90)","v":0},{"$f":"SUM(CSVデータ1!AB90,CSVデータ2!AB90,CSVデータ3!AB90,CSVデータ4!AB90)","v":0},{"$f":"SUM(CSVデータ1!AC90,CSVデータ2!AC90,CSVデータ3!AC90,CSVデータ4!AC90)","v":0},{"$f":"SUM(CSVデータ1!AD90,CSVデータ2!AD90,CSVデータ3!AD90,CSVデータ4!AD90)","v":0},{"$f":"SUM(CSVデータ1!AE90,CSVデータ2!AE90,CSVデータ3!AE90,CSVデータ4!AE90)","v":0},{"$f":"SUM(CSVデータ1!AF90,CSVデータ2!AF90,CSVデータ3!AF90,CSVデータ4!AF90)","v":0},{"$f":"SUM(CSVデータ1!AG90,CSVデータ2!AG90,CSVデータ3!AG90,CSVデータ4!AG90)","v":0}]
[{"$f":"CSVデータ1!A91","v":"明細部"},{"$f":"CSVデータ1!B91","v":"国"},{"$f":"CSVデータ1!C91","v":96},{"$f":"CSVデータ1!D91","v":"女"},{"$f":"SUM(CSVデータ1!E91,CSVデータ2!E91,CSVデータ3!E91,CSVデータ4!E91)","v":0},{"$f":"SUM(CSVデータ1!F91,CSVデータ2!F91,CSVデータ3!F91,CSVデータ4!F91)","v":0},{"$f":"SUM(CSVデータ1!G91,CSVデータ2!G91,CSVデータ3!G91,CSVデータ4!G91)","v":0},{"$f":"SUM(CSVデータ1!H91,CSVデータ2!H91,CSVデータ3!H91,CSVデータ4!H91)","v":0},{"$f":"SUM(CSVデータ1!I91,CSVデータ2!I91,CSVデータ3!I91,CSVデータ4!I91)","v":0},{"$f":"SUM(CSVデータ1!J91,CSVデータ2!J91,CSVデータ3!J91,CSVデータ4!J91)","v":0},{"$f":"SUM(CSVデータ1!K91,CSVデータ2!K91,CSVデータ3!K91,CSVデータ4!K91)","v":0},{"$f":"SUM(CSVデータ1!L91,CSVデータ2!L91,CSVデータ3!L91,CSVデータ4!L91)","v":0},{"$f":"SUM(CSVデータ1!M91,CSVデータ2!M91,CSVデータ3!M91,CSVデータ4!M91)","v":0},{"$f":"SUM(CSVデータ1!N91,CSVデータ2!N91,CSVデータ3!N91,CSVデータ4!N91)","v":0},{"$f":"SUM(CSVデータ1!O91,CSVデータ2!O91,CSVデータ3!O91,CSVデータ4!O91)","v":0},{"$f":"SUM(CSVデータ1!P91,CSVデータ2!P91,CSVデータ3!P91,CSVデータ4!P91)","v":0},{"$f":"SUM(CSVデータ1!Q91,CSVデータ2!Q91,CSVデータ3!Q91,CSVデータ4!Q91)","v":0},{"$f":"SUM(CSVデータ1!R91,CSVデータ2!R91,CSVデータ3!R91,CSVデータ4!R91)","v":0},{"$f":"SUM(CSVデータ1!S91,CSVデータ2!S91,CSVデータ3!S91,CSVデータ4!S91)","v":0},{"$f":"SUM(CSVデータ1!T91,CSVデータ2!T91,CSVデータ3!T91,CSVデータ4!T91)","v":0},{"$f":"SUM(CSVデータ1!U91,CSVデータ2!U91,CSVデータ3!U91,CSVデータ4!U91)","v":0},{"$f":"SUM(CSVデータ1!V91,CSVデータ2!V91,CSVデータ3!V91,CSVデータ4!V91)","v":0},{"$f":"SUM(CSVデータ1!W91,CSVデータ2!W91,CSVデータ3!W91,CSVデータ4!W91)","v":0},{"$f":"SUM(CSVデータ1!X91,CSVデータ2!X91,CSVデータ3!X91,CSVデータ4!X91)","v":0},{"$f":"SUM(CSVデータ1!Y91,CSVデータ2!Y91,CSVデータ3!Y91,CSVデータ4!Y91)","v":0},{"$f":"SUM(CSVデータ1!Z91,CSVデータ2!Z91,CSVデータ3!Z91,CSVデータ4!Z91)","v":0},{"$f":"SUM(CSVデータ1!AA91,CSVデータ2!AA91,CSVデータ3!AA91,CSVデータ4!AA91)","v":0},{"$f":"SUM(CSVデータ1!AB91,CSVデータ2!AB91,CSVデータ3!AB91,CSVデータ4!AB91)","v":0},{"$f":"SUM(CSVデータ1!AC91,CSVデータ2!AC91,CSVデータ3!AC91,CSVデータ4!AC91)","v":0},{"$f":"SUM(CSVデータ1!AD91,CSVデータ2!AD91,CSVデータ3!AD91,CSVデータ4!AD91)","v":0},{"$f":"SUM(CSVデータ1!AE91,CSVデータ2!AE91,CSVデータ3!AE91,CSVデータ4!AE91)","v":0},{"$f":"SUM(CSVデータ1!AF91,CSVデータ2!AF91,CSVデータ3!AF91,CSVデータ4!AF91)","v":0},{"$f":"SUM(CSVデータ1!AG91,CSVデータ2!AG91,CSVデータ3!AG91,CSVデータ4!AG91)","v":0}]
[{"$f":"CSVデータ1!A92","v":"明細部"},{"$f":"CSVデータ1!B92","v":"国"},{"$f":"CSVデータ1!C92","v":97},{"$f":"CSVデータ1!D92","v":"女"},{"$f":"SUM(CSVデータ1!E92,CSVデータ2!E92,CSVデータ3!E92,CSVデータ4!E92)","v":0},{"$f":"SUM(CSVデータ1!F92,CSVデータ2!F92,CSVデータ3!F92,CSVデータ4!F92)","v":0},{"$f":"SUM(CSVデータ1!G92,CSVデータ2!G92,CSVデータ3!G92,CSVデータ4!G92)","v":0},{"$f":"SUM(CSVデータ1!H92,CSVデータ2!H92,CSVデータ3!H92,CSVデータ4!H92)","v":0},{"$f":"SUM(CSVデータ1!I92,CSVデータ2!I92,CSVデータ3!I92,CSVデータ4!I92)","v":0},{"$f":"SUM(CSVデータ1!J92,CSVデータ2!J92,CSVデータ3!J92,CSVデータ4!J92)","v":0},{"$f":"SUM(CSVデータ1!K92,CSVデータ2!K92,CSVデータ3!K92,CSVデータ4!K92)","v":0},{"$f":"SUM(CSVデータ1!L92,CSVデータ2!L92,CSVデータ3!L92,CSVデータ4!L92)","v":0},{"$f":"SUM(CSVデータ1!M92,CSVデータ2!M92,CSVデータ3!M92,CSVデータ4!M92)","v":0},{"$f":"SUM(CSVデータ1!N92,CSVデータ2!N92,CSVデータ3!N92,CSVデータ4!N92)","v":0},{"$f":"SUM(CSVデータ1!O92,CSVデータ2!O92,CSVデータ3!O92,CSVデータ4!O92)","v":0},{"$f":"SUM(CSVデータ1!P92,CSVデータ2!P92,CSVデータ3!P92,CSVデータ4!P92)","v":0},{"$f":"SUM(CSVデータ1!Q92,CSVデータ2!Q92,CSVデータ3!Q92,CSVデータ4!Q92)","v":0},{"$f":"SUM(CSVデータ1!R92,CSVデータ2!R92,CSVデータ3!R92,CSVデータ4!R92)","v":0},{"$f":"SUM(CSVデータ1!S92,CSVデータ2!S92,CSVデータ3!S92,CSVデータ4!S92)","v":0},{"$f":"SUM(CSVデータ1!T92,CSVデータ2!T92,CSVデータ3!T92,CSVデータ4!T92)","v":0},{"$f":"SUM(CSVデータ1!U92,CSVデータ2!U92,CSVデータ3!U92,CSVデータ4!U92)","v":0},{"$f":"SUM(CSVデータ1!V92,CSVデータ2!V92,CSVデータ3!V92,CSVデータ4!V92)","v":0},{"$f":"SUM(CSVデータ1!W92,CSVデータ2!W92,CSVデータ3!W92,CSVデータ4!W92)","v":0},{"$f":"SUM(CSVデータ1!X92,CSVデータ2!X92,CSVデータ3!X92,CSVデータ4!X92)","v":0},{"$f":"SUM(CSVデータ1!Y92,CSVデータ2!Y92,CSVデータ3!Y92,CSVデータ4!Y92)","v":0},{"$f":"SUM(CSVデータ1!Z92,CSVデータ2!Z92,CSVデータ3!Z92,CSVデータ4!Z92)","v":0},{"$f":"SUM(CSVデータ1!AA92,CSVデータ2!AA92,CSVデータ3!AA92,CSVデータ4!AA92)","v":0},{"$f":"SUM(CSVデータ1!AB92,CSVデータ2!AB92,CSVデータ3!AB92,CSVデータ4!AB92)","v":0},{"$f":"SUM(CSVデータ1!AC92,CSVデータ2!AC92,CSVデータ3!AC92,CSVデータ4!AC92)","v":0},{"$f":"SUM(CSVデータ1!AD92,CSVデータ2!AD92,CSVデータ3!AD92,CSVデータ4!AD92)","v":0},{"$f":"SUM(CSVデータ1!AE92,CSVデータ2!AE92,CSVデータ3!AE92,CSVデータ4!AE92)","v":0},{"$f":"SUM(CSVデータ1!AF92,CSVデータ2!AF92,CSVデータ3!AF92,CSVデータ4!AF92)","v":0},{"$f":"SUM(CSVデータ1!AG92,CSVデータ2!AG92,CSVデータ3!AG92,CSVデータ4!AG92)","v":0}]
[{"$f":"CSVデータ1!A93","v":"明細部"},{"$f":"CSVデータ1!B93","v":"国"},{"$f":"CSVデータ1!C93","v":98},{"$f":"CSVデータ1!D93","v":"女"},{"$f":"SUM(CSVデータ1!E93,CSVデータ2!E93,CSVデータ3!E93,CSVデータ4!E93)","v":0},{"$f":"SUM(CSVデータ1!F93,CSVデータ2!F93,CSVデータ3!F93,CSVデータ4!F93)","v":0},{"$f":"SUM(CSVデータ1!G93,CSVデータ2!G93,CSVデータ3!G93,CSVデータ4!G93)","v":0},{"$f":"SUM(CSVデータ1!H93,CSVデータ2!H93,CSVデータ3!H93,CSVデータ4!H93)","v":0},{"$f":"SUM(CSVデータ1!I93,CSVデータ2!I93,CSVデータ3!I93,CSVデータ4!I93)","v":0},{"$f":"SUM(CSVデータ1!J93,CSVデータ2!J93,CSVデータ3!J93,CSVデータ4!J93)","v":0},{"$f":"SUM(CSVデータ1!K93,CSVデータ2!K93,CSVデータ3!K93,CSVデータ4!K93)","v":0},{"$f":"SUM(CSVデータ1!L93,CSVデータ2!L93,CSVデータ3!L93,CSVデータ4!L93)","v":0},{"$f":"SUM(CSVデータ1!M93,CSVデータ2!M93,CSVデータ3!M93,CSVデータ4!M93)","v":0},{"$f":"SUM(CSVデータ1!N93,CSVデータ2!N93,CSVデータ3!N93,CSVデータ4!N93)","v":0},{"$f":"SUM(CSVデータ1!O93,CSVデータ2!O93,CSVデータ3!O93,CSVデータ4!O93)","v":0},{"$f":"SUM(CSVデータ1!P93,CSVデータ2!P93,CSVデータ3!P93,CSVデータ4!P93)","v":0},{"$f":"SUM(CSVデータ1!Q93,CSVデータ2!Q93,CSVデータ3!Q93,CSVデータ4!Q93)","v":0},{"$f":"SUM(CSVデータ1!R93,CSVデータ2!R93,CSVデータ3!R93,CSVデータ4!R93)","v":0},{"$f":"SUM(CSVデータ1!S93,CSVデータ2!S93,CSVデータ3!S93,CSVデータ4!S93)","v":0},{"$f":"SUM(CSVデータ1!T93,CSVデータ2!T93,CSVデータ3!T93,CSVデータ4!T93)","v":0},{"$f":"SUM(CSVデータ1!U93,CSVデータ2!U93,CSVデータ3!U93,CSVデータ4!U93)","v":0},{"$f":"SUM(CSVデータ1!V93,CSVデータ2!V93,CSVデータ3!V93,CSVデータ4!V93)","v":0},{"$f":"SUM(CSVデータ1!W93,CSVデータ2!W93,CSVデータ3!W93,CSVデータ4!W93)","v":0},{"$f":"SUM(CSVデータ1!X93,CSVデータ2!X93,CSVデータ3!X93,CSVデータ4!X93)","v":0},{"$f":"SUM(CSVデータ1!Y93,CSVデータ2!Y93,CSVデータ3!Y93,CSVデータ4!Y93)","v":0},{"$f":"SUM(CSVデータ1!Z93,CSVデータ2!Z93,CSVデータ3!Z93,CSVデータ4!Z93)","v":0},{"$f":"SUM(CSVデータ1!AA93,CSVデータ2!AA93,CSVデータ3!AA93,CSVデータ4!AA93)","v":0},{"$f":"SUM(CSVデータ1!AB93,CSVデータ2!AB93,CSVデータ3!AB93,CSVデータ4!AB93)","v":0},{"$f":"SUM(CSVデータ1!AC93,CSVデータ2!AC93,CSVデータ3!AC93,CSVデータ4!AC93)","v":0},{"$f":"SUM(CSVデータ1!AD93,CSVデータ2!AD93,CSVデータ3!AD93,CSVデータ4!AD93)","v":0},{"$f":"SUM(CSVデータ1!AE93,CSVデータ2!AE93,CSVデータ3!AE93,CSVデータ4!AE93)","v":0},{"$f":"SUM(CSVデータ1!AF93,CSVデータ2!AF93,CSVデータ3!AF93,CSVデータ4!AF93)","v":0},{"$f":"SUM(CSVデータ1!AG93,CSVデータ2!AG93,CSVデータ3!AG93,CSVデータ4!AG93)","v":0}]
[{"$f":"CSVデータ1!A94","v":"明細部"},{"$f":"CSVデータ1!B94","v":"国"},{"$f":"CSVデータ1!C94","v":99},{"$f":"CSVデータ1!D94","v":"女"},{"$f":"SUM(CSVデータ1!E94,CSVデータ2!E94,CSVデータ3!E94,CSVデータ4!E94)","v":0},{"$f":"SUM(CSVデータ1!F94,CSVデータ2!F94,CSVデータ3!F94,CSVデータ4!F94)","v":0},{"$f":"SUM(CSVデータ1!G94,CSVデータ2!G94,CSVデータ3!G94,CSVデータ4!G94)","v":0},{"$f":"SUM(CSVデータ1!H94,CSVデータ2!H94,CSVデータ3!H94,CSVデータ4!H94)","v":0},{"$f":"SUM(CSVデータ1!I94,CSVデータ2!I94,CSVデータ3!I94,CSVデータ4!I94)","v":0},{"$f":"SUM(CSVデータ1!J94,CSVデータ2!J94,CSVデータ3!J94,CSVデータ4!J94)","v":0},{"$f":"SUM(CSVデータ1!K94,CSVデータ2!K94,CSVデータ3!K94,CSVデータ4!K94)","v":0},{"$f":"SUM(CSVデータ1!L94,CSVデータ2!L94,CSVデータ3!L94,CSVデータ4!L94)","v":0},{"$f":"SUM(CSVデータ1!M94,CSVデータ2!M94,CSVデータ3!M94,CSVデータ4!M94)","v":0},{"$f":"SUM(CSVデータ1!N94,CSVデータ2!N94,CSVデータ3!N94,CSVデータ4!N94)","v":0},{"$f":"SUM(CSVデータ1!O94,CSVデータ2!O94,CSVデータ3!O94,CSVデータ4!O94)","v":0},{"$f":"SUM(CSVデータ1!P94,CSVデータ2!P94,CSVデータ3!P94,CSVデータ4!P94)","v":0},{"$f":"SUM(CSVデータ1!Q94,CSVデータ2!Q94,CSVデータ3!Q94,CSVデータ4!Q94)","v":0},{"$f":"SUM(CSVデータ1!R94,CSVデータ2!R94,CSVデータ3!R94,CSVデータ4!R94)","v":0},{"$f":"SUM(CSVデータ1!S94,CSVデータ2!S94,CSVデータ3!S94,CSVデータ4!S94)","v":0},{"$f":"SUM(CSVデータ1!T94,CSVデータ2!T94,CSVデータ3!T94,CSVデータ4!T94)","v":0},{"$f":"SUM(CSVデータ1!U94,CSVデータ2!U94,CSVデータ3!U94,CSVデータ4!U94)","v":0},{"$f":"SUM(CSVデータ1!V94,CSVデータ2!V94,CSVデータ3!V94,CSVデータ4!V94)","v":0},{"$f":"SUM(CSVデータ1!W94,CSVデータ2!W94,CSVデータ3!W94,CSVデータ4!W94)","v":0},{"$f":"SUM(CSVデータ1!X94,CSVデータ2!X94,CSVデータ3!X94,CSVデータ4!X94)","v":0},{"$f":"SUM(CSVデータ1!Y94,CSVデータ2!Y94,CSVデータ3!Y94,CSVデータ4!Y94)","v":0},{"$f":"SUM(CSVデータ1!Z94,CSVデータ2!Z94,CSVデータ3!Z94,CSVデータ4!Z94)","v":0},{"$f":"SUM(CSVデータ1!AA94,CSVデータ2!AA94,CSVデータ3!AA94,CSVデータ4!AA94)","v":0},{"$f":"SUM(CSVデータ1!AB94,CSVデータ2!AB94,CSVデータ3!AB94,CSVデータ4!AB94)","v":0},{"$f":"SUM(CSVデータ1!AC94,CSVデータ2!AC94,CSVデータ3!AC94,CSVデータ4!AC94)","v":0},{"$f":"SUM(CSVデータ1!AD94,CSVデータ2!AD94,CSVデータ3!AD94,CSVデータ4!AD94)","v":0},{"$f":"SUM(CSVデータ1!AE94,CSVデータ2!AE94,CSVデータ3!AE94,CSVデータ4!AE94)","v":0},{"$f":"SUM(CSVデータ1!AF94,CSVデータ2!AF94,CSVデータ3!AF94,CSVデータ4!AF94)","v":0},{"$f":"SUM(CSVデータ1!AG94,CSVデータ2!AG94,CSVデータ3!AG94,CSVデータ4!AG94)","v":0}]
[{"$f":"CSVデータ1!A95","v":"明細部"},{"$f":"CSVデータ1!B95","v":"国"},{"$f":"CSVデータ1!C95","v":100},{"$f":"CSVデータ1!D95","v":"女"},{"$f":"SUM(CSVデータ1!E95,CSVデータ2!E95,CSVデータ3!E95,CSVデータ4!E95)","v":0},{"$f":"SUM(CSVデータ1!F95,CSVデータ2!F95,CSVデータ3!F95,CSVデータ4!F95)","v":0},{"$f":"SUM(CSVデータ1!G95,CSVデータ2!G95,CSVデータ3!G95,CSVデータ4!G95)","v":0},{"$f":"SUM(CSVデータ1!H95,CSVデータ2!H95,CSVデータ3!H95,CSVデータ4!H95)","v":0},{"$f":"SUM(CSVデータ1!I95,CSVデータ2!I95,CSVデータ3!I95,CSVデータ4!I95)","v":0},{"$f":"SUM(CSVデータ1!J95,CSVデータ2!J95,CSVデータ3!J95,CSVデータ4!J95)","v":0},{"$f":"SUM(CSVデータ1!K95,CSVデータ2!K95,CSVデータ3!K95,CSVデータ4!K95)","v":0},{"$f":"SUM(CSVデータ1!L95,CSVデータ2!L95,CSVデータ3!L95,CSVデータ4!L95)","v":0},{"$f":"SUM(CSVデータ1!M95,CSVデータ2!M95,CSVデータ3!M95,CSVデータ4!M95)","v":0},{"$f":"SUM(CSVデータ1!N95,CSVデータ2!N95,CSVデータ3!N95,CSVデータ4!N95)","v":0},{"$f":"SUM(CSVデータ1!O95,CSVデータ2!O95,CSVデータ3!O95,CSVデータ4!O95)","v":0},{"$f":"SUM(CSVデータ1!P95,CSVデータ2!P95,CSVデータ3!P95,CSVデータ4!P95)","v":0},{"$f":"SUM(CSVデータ1!Q95,CSVデータ2!Q95,CSVデータ3!Q95,CSVデータ4!Q95)","v":0},{"$f":"SUM(CSVデータ1!R95,CSVデータ2!R95,CSVデータ3!R95,CSVデータ4!R95)","v":0},{"$f":"SUM(CSVデータ1!S95,CSVデータ2!S95,CSVデータ3!S95,CSVデータ4!S95)","v":0},{"$f":"SUM(CSVデータ1!T95,CSVデータ2!T95,CSVデータ3!T95,CSVデータ4!T95)","v":0},{"$f":"SUM(CSVデータ1!U95,CSVデータ2!U95,CSVデータ3!U95,CSVデータ4!U95)","v":0},{"$f":"SUM(CSVデータ1!V95,CSVデータ2!V95,CSVデータ3!V95,CSVデータ4!V95)","v":0},{"$f":"SUM(CSVデータ1!W95,CSVデータ2!W95,CSVデータ3!W95,CSVデータ4!W95)","v":0},{"$f":"SUM(CSVデータ1!X95,CSVデータ2!X95,CSVデータ3!X95,CSVデータ4!X95)","v":0},{"$f":"SUM(CSVデータ1!Y95,CSVデータ2!Y95,CSVデータ3!Y95,CSVデータ4!Y95)","v":0},{"$f":"SUM(CSVデータ1!Z95,CSVデータ2!Z95,CSVデータ3!Z95,CSVデータ4!Z95)","v":0},{"$f":"SUM(CSVデータ1!AA95,CSVデータ2!AA95,CSVデータ3!AA95,CSVデータ4!AA95)","v":0},{"$f":"SUM(CSVデータ1!AB95,CSVデータ2!AB95,CSVデータ3!AB95,CSVデータ4!AB95)","v":0},{"$f":"SUM(CSVデータ1!AC95,CSVデータ2!AC95,CSVデータ3!AC95,CSVデータ4!AC95)","v":0},{"$f":"SUM(CSVデータ1!AD95,CSVデータ2!AD95,CSVデータ3!AD95,CSVデータ4!AD95)","v":0},{"$f":"SUM(CSVデータ1!AE95,CSVデータ2!AE95,CSVデータ3!AE95,CSVデータ4!AE95)","v":0},{"$f":"SUM(CSVデータ1!AF95,CSVデータ2!AF95,CSVデータ3!AF95,CSVデータ4!AF95)","v":0},{"$f":"SUM(CSVデータ1!AG95,CSVデータ2!AG95,CSVデータ3!AG95,CSVデータ4!AG95)","v":0}]
[{"$f":"CSVデータ1!A96","v":"明細部"},{"$f":"CSVデータ1!B96","v":"国"},{"$f":"CSVデータ1!C96","v":101},{"$f":"CSVデータ1!D96","v":"女"},{"$f":"SUM(CSVデータ1!E96,CSVデータ2!E96,CSVデータ3!E96,CSVデータ4!E96)","v":0},{"$f":"SUM(CSVデータ1!F96,CSVデータ2!F96,CSVデータ3!F96,CSVデータ4!F96)","v":0},{"$f":"SUM(CSVデータ1!G96,CSVデータ2!G96,CSVデータ3!G96,CSVデータ4!G96)","v":0},{"$f":"SUM(CSVデータ1!H96,CSVデータ2!H96,CSVデータ3!H96,CSVデータ4!H96)","v":0},{"$f":"SUM(CSVデータ1!I96,CSVデータ2!I96,CSVデータ3!I96,CSVデータ4!I96)","v":0},{"$f":"SUM(CSVデータ1!J96,CSVデータ2!J96,CSVデータ3!J96,CSVデータ4!J96)","v":0},{"$f":"SUM(CSVデータ1!K96,CSVデータ2!K96,CSVデータ3!K96,CSVデータ4!K96)","v":0},{"$f":"SUM(CSVデータ1!L96,CSVデータ2!L96,CSVデータ3!L96,CSVデータ4!L96)","v":0},{"$f":"SUM(CSVデータ1!M96,CSVデータ2!M96,CSVデータ3!M96,CSVデータ4!M96)","v":0},{"$f":"SUM(CSVデータ1!N96,CSVデータ2!N96,CSVデータ3!N96,CSVデータ4!N96)","v":0},{"$f":"SUM(CSVデータ1!O96,CSVデータ2!O96,CSVデータ3!O96,CSVデータ4!O96)","v":0},{"$f":"SUM(CSVデータ1!P96,CSVデータ2!P96,CSVデータ3!P96,CSVデータ4!P96)","v":0},{"$f":"SUM(CSVデータ1!Q96,CSVデータ2!Q96,CSVデータ3!Q96,CSVデータ4!Q96)","v":0},{"$f":"SUM(CSVデータ1!R96,CSVデータ2!R96,CSVデータ3!R96,CSVデータ4!R96)","v":0},{"$f":"SUM(CSVデータ1!S96,CSVデータ2!S96,CSVデータ3!S96,CSVデータ4!S96)","v":0},{"$f":"SUM(CSVデータ1!T96,CSVデータ2!T96,CSVデータ3!T96,CSVデータ4!T96)","v":0},{"$f":"SUM(CSVデータ1!U96,CSVデータ2!U96,CSVデータ3!U96,CSVデータ4!U96)","v":0},{"$f":"SUM(CSVデータ1!V96,CSVデータ2!V96,CSVデータ3!V96,CSVデータ4!V96)","v":0},{"$f":"SUM(CSVデータ1!W96,CSVデータ2!W96,CSVデータ3!W96,CSVデータ4!W96)","v":0},{"$f":"SUM(CSVデータ1!X96,CSVデータ2!X96,CSVデータ3!X96,CSVデータ4!X96)","v":0},{"$f":"SUM(CSVデータ1!Y96,CSVデータ2!Y96,CSVデータ3!Y96,CSVデータ4!Y96)","v":0},{"$f":"SUM(CSVデータ1!Z96,CSVデータ2!Z96,CSVデータ3!Z96,CSVデータ4!Z96)","v":0},{"$f":"SUM(CSVデータ1!AA96,CSVデータ2!AA96,CSVデータ3!AA96,CSVデータ4!AA96)","v":0},{"$f":"SUM(CSVデータ1!AB96,CSVデータ2!AB96,CSVデータ3!AB96,CSVデータ4!AB96)","v":0},{"$f":"SUM(CSVデータ1!AC96,CSVデータ2!AC96,CSVデータ3!AC96,CSVデータ4!AC96)","v":0},{"$f":"SUM(CSVデータ1!AD96,CSVデータ2!AD96,CSVデータ3!AD96,CSVデータ4!AD96)","v":0},{"$f":"SUM(CSVデータ1!AE96,CSVデータ2!AE96,CSVデータ3!AE96,CSVデータ4!AE96)","v":0},{"$f":"SUM(CSVデータ1!AF96,CSVデータ2!AF96,CSVデータ3!AF96,CSVデータ4!AF96)","v":0},{"$f":"SUM(CSVデータ1!AG96,CSVデータ2!AG96,CSVデータ3!AG96,CSVデータ4!AG96)","v":0}]
[{"$f":"CSVデータ1!A97","v":"明細部"},{"$f":"CSVデータ1!B97","v":"国"},{"$f":"CSVデータ1!C97","v":102},{"$f":"CSVデータ1!D97","v":"女"},{"$f":"SUM(CSVデータ1!E97,CSVデータ2!E97,CSVデータ3!E97,CSVデータ4!E97)","v":0},{"$f":"SUM(CSVデータ1!F97,CSVデータ2!F97,CSVデータ3!F97,CSVデータ4!F97)","v":0},{"$f":"SUM(CSVデータ1!G97,CSVデータ2!G97,CSVデータ3!G97,CSVデータ4!G97)","v":0},{"$f":"SUM(CSVデータ1!H97,CSVデータ2!H97,CSVデータ3!H97,CSVデータ4!H97)","v":0},{"$f":"SUM(CSVデータ1!I97,CSVデータ2!I97,CSVデータ3!I97,CSVデータ4!I97)","v":0},{"$f":"SUM(CSVデータ1!J97,CSVデータ2!J97,CSVデータ3!J97,CSVデータ4!J97)","v":0},{"$f":"SUM(CSVデータ1!K97,CSVデータ2!K97,CSVデータ3!K97,CSVデータ4!K97)","v":0},{"$f":"SUM(CSVデータ1!L97,CSVデータ2!L97,CSVデータ3!L97,CSVデータ4!L97)","v":0},{"$f":"SUM(CSVデータ1!M97,CSVデータ2!M97,CSVデータ3!M97,CSVデータ4!M97)","v":0},{"$f":"SUM(CSVデータ1!N97,CSVデータ2!N97,CSVデータ3!N97,CSVデータ4!N97)","v":0},{"$f":"SUM(CSVデータ1!O97,CSVデータ2!O97,CSVデータ3!O97,CSVデータ4!O97)","v":0},{"$f":"SUM(CSVデータ1!P97,CSVデータ2!P97,CSVデータ3!P97,CSVデータ4!P97)","v":0},{"$f":"SUM(CSVデータ1!Q97,CSVデータ2!Q97,CSVデータ3!Q97,CSVデータ4!Q97)","v":0},{"$f":"SUM(CSVデータ1!R97,CSVデータ2!R97,CSVデータ3!R97,CSVデータ4!R97)","v":0},{"$f":"SUM(CSVデータ1!S97,CSVデータ2!S97,CSVデータ3!S97,CSVデータ4!S97)","v":0},{"$f":"SUM(CSVデータ1!T97,CSVデータ2!T97,CSVデータ3!T97,CSVデータ4!T97)","v":0},{"$f":"SUM(CSVデータ1!U97,CSVデータ2!U97,CSVデータ3!U97,CSVデータ4!U97)","v":0},{"$f":"SUM(CSVデータ1!V97,CSVデータ2!V97,CSVデータ3!V97,CSVデータ4!V97)","v":0},{"$f":"SUM(CSVデータ1!W97,CSVデータ2!W97,CSVデータ3!W97,CSVデータ4!W97)","v":0},{"$f":"SUM(CSVデータ1!X97,CSVデータ2!X97,CSVデータ3!X97,CSVデータ4!X97)","v":0},{"$f":"SUM(CSVデータ1!Y97,CSVデータ2!Y97,CSVデータ3!Y97,CSVデータ4!Y97)","v":0},{"$f":"SUM(CSVデータ1!Z97,CSVデータ2!Z97,CSVデータ3!Z97,CSVデータ4!Z97)","v":0},{"$f":"SUM(CSVデータ1!AA97,CSVデータ2!AA97,CSVデータ3!AA97,CSVデータ4!AA97)","v":0},{"$f":"SUM(CSVデータ1!AB97,CSVデータ2!AB97,CSVデータ3!AB97,CSVデータ4!AB97)","v":0},{"$f":"SUM(CSVデータ1!AC97,CSVデータ2!AC97,CSVデータ3!AC97,CSVデータ4!AC97)","v":0},{"$f":"SUM(CSVデータ1!AD97,CSVデータ2!AD97,CSVデータ3!AD97,CSVデータ4!AD97)","v":0},{"$f":"SUM(CSVデータ1!AE97,CSVデータ2!AE97,CSVデータ3!AE97,CSVデータ4!AE97)","v":0},{"$f":"SUM(CSVデータ1!AF97,CSVデータ2!AF97,CSVデータ3!AF97,CSVデータ4!AF97)","v":0},{"$f":"SUM(CSVデータ1!AG97,CSVデータ2!AG97,CSVデータ3!AG97,CSVデータ4!AG97)","v":0}]
[{"$f":"CSVデータ1!A98","v":"明細部"},{"$f":"CSVデータ1!B98","v":"国"},{"$f":"CSVデータ1!C98","v":103},{"$f":"CSVデータ1!D98","v":"女"},{"$f":"SUM(CSVデータ1!E98,CSVデータ2!E98,CSVデータ3!E98,CSVデータ4!E98)","v":0},{"$f":"SUM(CSVデータ1!F98,CSVデータ2!F98,CSVデータ3!F98,CSVデータ4!F98)","v":0},{"$f":"SUM(CSVデータ1!G98,CSVデータ2!G98,CSVデータ3!G98,CSVデータ4!G98)","v":0},{"$f":"SUM(CSVデータ1!H98,CSVデータ2!H98,CSVデータ3!H98,CSVデータ4!H98)","v":0},{"$f":"SUM(CSVデータ1!I98,CSVデータ2!I98,CSVデータ3!I98,CSVデータ4!I98)","v":0},{"$f":"SUM(CSVデータ1!J98,CSVデータ2!J98,CSVデータ3!J98,CSVデータ4!J98)","v":0},{"$f":"SUM(CSVデータ1!K98,CSVデータ2!K98,CSVデータ3!K98,CSVデータ4!K98)","v":0},{"$f":"SUM(CSVデータ1!L98,CSVデータ2!L98,CSVデータ3!L98,CSVデータ4!L98)","v":0},{"$f":"SUM(CSVデータ1!M98,CSVデータ2!M98,CSVデータ3!M98,CSVデータ4!M98)","v":0},{"$f":"SUM(CSVデータ1!N98,CSVデータ2!N98,CSVデータ3!N98,CSVデータ4!N98)","v":0},{"$f":"SUM(CSVデータ1!O98,CSVデータ2!O98,CSVデータ3!O98,CSVデータ4!O98)","v":0},{"$f":"SUM(CSVデータ1!P98,CSVデータ2!P98,CSVデータ3!P98,CSVデータ4!P98)","v":0},{"$f":"SUM(CSVデータ1!Q98,CSVデータ2!Q98,CSVデータ3!Q98,CSVデータ4!Q98)","v":0},{"$f":"SUM(CSVデータ1!R98,CSVデータ2!R98,CSVデータ3!R98,CSVデータ4!R98)","v":0},{"$f":"SUM(CSVデータ1!S98,CSVデータ2!S98,CSVデータ3!S98,CSVデータ4!S98)","v":0},{"$f":"SUM(CSVデータ1!T98,CSVデータ2!T98,CSVデータ3!T98,CSVデータ4!T98)","v":0},{"$f":"SUM(CSVデータ1!U98,CSVデータ2!U98,CSVデータ3!U98,CSVデータ4!U98)","v":0},{"$f":"SUM(CSVデータ1!V98,CSVデータ2!V98,CSVデータ3!V98,CSVデータ4!V98)","v":0},{"$f":"SUM(CSVデータ1!W98,CSVデータ2!W98,CSVデータ3!W98,CSVデータ4!W98)","v":0},{"$f":"SUM(CSVデータ1!X98,CSVデータ2!X98,CSVデータ3!X98,CSVデータ4!X98)","v":0},{"$f":"SUM(CSVデータ1!Y98,CSVデータ2!Y98,CSVデータ3!Y98,CSVデータ4!Y98)","v":0},{"$f":"SUM(CSVデータ1!Z98,CSVデータ2!Z98,CSVデータ3!Z98,CSVデータ4!Z98)","v":0},{"$f":"SUM(CSVデータ1!AA98,CSVデータ2!AA98,CSVデータ3!AA98,CSVデータ4!AA98)","v":0},{"$f":"SUM(CSVデータ1!AB98,CSVデータ2!AB98,CSVデータ3!AB98,CSVデータ4!AB98)","v":0},{"$f":"SUM(CSVデータ1!AC98,CSVデータ2!AC98,CSVデータ3!AC98,CSVデータ4!AC98)","v":0},{"$f":"SUM(CSVデータ1!AD98,CSVデータ2!AD98,CSVデータ3!AD98,CSVデータ4!AD98)","v":0},{"$f":"SUM(CSVデータ1!AE98,CSVデータ2!AE98,CSVデータ3!AE98,CSVデータ4!AE98)","v":0},{"$f":"SUM(CSVデータ1!AF98,CSVデータ2!AF98,CSVデータ3!AF98,CSVデータ4!AF98)","v":0},{"$f":"SUM(CSVデータ1!AG98,CSVデータ2!AG98,CSVデータ3!AG98,CSVデータ4!AG98)","v":0}]
[{"$f":"CSVデータ1!A99","v":"明細部"},{"$f":"CSVデータ1!B99","v":"国"},{"$f":"CSVデータ1!C99","v":104},{"$f":"CSVデータ1!D99","v":"女"},{"$f":"SUM(CSVデータ1!E99,CSVデータ2!E99,CSVデータ3!E99,CSVデータ4!E99)","v":0},{"$f":"SUM(CSVデータ1!F99,CSVデータ2!F99,CSVデータ3!F99,CSVデータ4!F99)","v":0},{"$f":"SUM(CSVデータ1!G99,CSVデータ2!G99,CSVデータ3!G99,CSVデータ4!G99)","v":0},{"$f":"SUM(CSVデータ1!H99,CSVデータ2!H99,CSVデータ3!H99,CSVデータ4!H99)","v":0},{"$f":"SUM(CSVデータ1!I99,CSVデータ2!I99,CSVデータ3!I99,CSVデータ4!I99)","v":0},{"$f":"SUM(CSVデータ1!J99,CSVデータ2!J99,CSVデータ3!J99,CSVデータ4!J99)","v":0},{"$f":"SUM(CSVデータ1!K99,CSVデータ2!K99,CSVデータ3!K99,CSVデータ4!K99)","v":0},{"$f":"SUM(CSVデータ1!L99,CSVデータ2!L99,CSVデータ3!L99,CSVデータ4!L99)","v":0},{"$f":"SUM(CSVデータ1!M99,CSVデータ2!M99,CSVデータ3!M99,CSVデータ4!M99)","v":0},{"$f":"SUM(CSVデータ1!N99,CSVデータ2!N99,CSVデータ3!N99,CSVデータ4!N99)","v":0},{"$f":"SUM(CSVデータ1!O99,CSVデータ2!O99,CSVデータ3!O99,CSVデータ4!O99)","v":0},{"$f":"SUM(CSVデータ1!P99,CSVデータ2!P99,CSVデータ3!P99,CSVデータ4!P99)","v":0},{"$f":"SUM(CSVデータ1!Q99,CSVデータ2!Q99,CSVデータ3!Q99,CSVデータ4!Q99)","v":0},{"$f":"SUM(CSVデータ1!R99,CSVデータ2!R99,CSVデータ3!R99,CSVデータ4!R99)","v":0},{"$f":"SUM(CSVデータ1!S99,CSVデータ2!S99,CSVデータ3!S99,CSVデータ4!S99)","v":0},{"$f":"SUM(CSVデータ1!T99,CSVデータ2!T99,CSVデータ3!T99,CSVデータ4!T99)","v":0},{"$f":"SUM(CSVデータ1!U99,CSVデータ2!U99,CSVデータ3!U99,CSVデータ4!U99)","v":0},{"$f":"SUM(CSVデータ1!V99,CSVデータ2!V99,CSVデータ3!V99,CSVデータ4!V99)","v":0},{"$f":"SUM(CSVデータ1!W99,CSVデータ2!W99,CSVデータ3!W99,CSVデータ4!W99)","v":0},{"$f":"SUM(CSVデータ1!X99,CSVデータ2!X99,CSVデータ3!X99,CSVデータ4!X99)","v":0},{"$f":"SUM(CSVデータ1!Y99,CSVデータ2!Y99,CSVデータ3!Y99,CSVデータ4!Y99)","v":0},{"$f":"SUM(CSVデータ1!Z99,CSVデータ2!Z99,CSVデータ3!Z99,CSVデータ4!Z99)","v":0},{"$f":"SUM(CSVデータ1!AA99,CSVデータ2!AA99,CSVデータ3!AA99,CSVデータ4!AA99)","v":0},{"$f":"SUM(CSVデータ1!AB99,CSVデータ2!AB99,CSVデータ3!AB99,CSVデータ4!AB99)","v":0},{"$f":"SUM(CSVデータ1!AC99,CSVデータ2!AC99,CSVデータ3!AC99,CSVデータ4!AC99)","v":0},{"$f":"SUM(CSVデータ1!AD99,CSVデータ2!AD99,CSVデータ3!AD99,CSVデータ4!AD99)","v":0},{"$f":"SUM(CSVデータ1!AE99,CSVデータ2!AE99,CSVデータ3!AE99,CSVデータ4!AE99)","v":0},{"$f":"SUM(CSVデータ1!AF99,CSVデータ2!AF99,CSVデータ3!AF99,CSVデータ4!AF99)","v":0},{"$f":"SUM(CSVデータ1!AG99,CSVデータ2!AG99,CSVデータ3!AG99,CSVデータ4!AG99)","v":0}]
[{"$f":"CSVデータ1!A100","v":"明細部"},{"$f":"CSVデータ1!B100","v":"国"},{"$f":"CSVデータ1!C100","v":105},{"$f":"CSVデータ1!D100","v":"女"},{"$f":"SUM(CSVデータ1!E100,CSVデータ2!E100,CSVデータ3!E100,CSVデータ4!E100)","v":0},{"$f":"SUM(CSVデータ1!F100,CSVデータ2!F100,CSVデータ3!F100,CSVデータ4!F100)","v":0},{"$f":"SUM(CSVデータ1!G100,CSVデータ2!G100,CSVデータ3!G100,CSVデータ4!G100)","v":0},{"$f":"SUM(CSVデータ1!H100,CSVデータ2!H100,CSVデータ3!H100,CSVデータ4!H100)","v":0},{"$f":"SUM(CSVデータ1!I100,CSVデータ2!I100,CSVデータ3!I100,CSVデータ4!I100)","v":0},{"$f":"SUM(CSVデータ1!J100,CSVデータ2!J100,CSVデータ3!J100,CSVデータ4!J100)","v":0},{"$f":"SUM(CSVデータ1!K100,CSVデータ2!K100,CSVデータ3!K100,CSVデータ4!K100)","v":0},{"$f":"SUM(CSVデータ1!L100,CSVデータ2!L100,CSVデータ3!L100,CSVデータ4!L100)","v":0},{"$f":"SUM(CSVデータ1!M100,CSVデータ2!M100,CSVデータ3!M100,CSVデータ4!M100)","v":0},{"$f":"SUM(CSVデータ1!N100,CSVデータ2!N100,CSVデータ3!N100,CSVデータ4!N100)","v":0},{"$f":"SUM(CSVデータ1!O100,CSVデータ2!O100,CSVデータ3!O100,CSVデータ4!O100)","v":0},{"$f":"SUM(CSVデータ1!P100,CSVデータ2!P100,CSVデータ3!P100,CSVデータ4!P100)","v":0},{"$f":"SUM(CSVデータ1!Q100,CSVデータ2!Q100,CSVデータ3!Q100,CSVデータ4!Q100)","v":0},{"$f":"SUM(CSVデータ1!R100,CSVデータ2!R100,CSVデータ3!R100,CSVデータ4!R100)","v":0},{"$f":"SUM(CSVデータ1!S100,CSVデータ2!S100,CSVデータ3!S100,CSVデータ4!S100)","v":0},{"$f":"SUM(CSVデータ1!T100,CSVデータ2!T100,CSVデータ3!T100,CSVデータ4!T100)","v":0},{"$f":"SUM(CSVデータ1!U100,CSVデータ2!U100,CSVデータ3!U100,CSVデータ4!U100)","v":0},{"$f":"SUM(CSVデータ1!V100,CSVデータ2!V100,CSVデータ3!V100,CSVデータ4!V100)","v":0},{"$f":"SUM(CSVデータ1!W100,CSVデータ2!W100,CSVデータ3!W100,CSVデータ4!W100)","v":0},{"$f":"SUM(CSVデータ1!X100,CSVデータ2!X100,CSVデータ3!X100,CSVデータ4!X100)","v":0},{"$f":"SUM(CSVデータ1!Y100,CSVデータ2!Y100,CSVデータ3!Y100,CSVデータ4!Y100)","v":0},{"$f":"SUM(CSVデータ1!Z100,CSVデータ2!Z100,CSVデータ3!Z100,CSVデータ4!Z100)","v":0},{"$f":"SUM(CSVデータ1!AA100,CSVデータ2!AA100,CSVデータ3!AA100,CSVデータ4!AA100)","v":0},{"$f":"SUM(CSVデータ1!AB100,CSVデータ2!AB100,CSVデータ3!AB100,CSVデータ4!AB100)","v":0},{"$f":"SUM(CSVデータ1!AC100,CSVデータ2!AC100,CSVデータ3!AC100,CSVデータ4!AC100)","v":0},{"$f":"SUM(CSVデータ1!AD100,CSVデータ2!AD100,CSVデータ3!AD100,CSVデータ4!AD100)","v":0},{"$f":"SUM(CSVデータ1!AE100,CSVデータ2!AE100,CSVデータ3!AE100,CSVデータ4!AE100)","v":0},{"$f":"SUM(CSVデータ1!AF100,CSVデータ2!AF100,CSVデータ3!AF100,CSVデータ4!AF100)","v":0},{"$f":"SUM(CSVデータ1!AG100,CSVデータ2!AG100,CSVデータ3!AG100,CSVデータ4!AG100)","v":0}]
[{"$f":"CSVデータ1!A101","v":"明細部"},{"$f":"CSVデータ1!B101","v":"国"},{"$f":"CSVデータ1!C101","v":106},{"$f":"CSVデータ1!D101","v":"女"},{"$f":"SUM(CSVデータ1!E101,CSVデータ2!E101,CSVデータ3!E101,CSVデータ4!E101)","v":0},{"$f":"SUM(CSVデータ1!F101,CSVデータ2!F101,CSVデータ3!F101,CSVデータ4!F101)","v":0},{"$f":"SUM(CSVデータ1!G101,CSVデータ2!G101,CSVデータ3!G101,CSVデータ4!G101)","v":0},{"$f":"SUM(CSVデータ1!H101,CSVデータ2!H101,CSVデータ3!H101,CSVデータ4!H101)","v":0},{"$f":"SUM(CSVデータ1!I101,CSVデータ2!I101,CSVデータ3!I101,CSVデータ4!I101)","v":0},{"$f":"SUM(CSVデータ1!J101,CSVデータ2!J101,CSVデータ3!J101,CSVデータ4!J101)","v":0},{"$f":"SUM(CSVデータ1!K101,CSVデータ2!K101,CSVデータ3!K101,CSVデータ4!K101)","v":0},{"$f":"SUM(CSVデータ1!L101,CSVデータ2!L101,CSVデータ3!L101,CSVデータ4!L101)","v":0},{"$f":"SUM(CSVデータ1!M101,CSVデータ2!M101,CSVデータ3!M101,CSVデータ4!M101)","v":0},{"$f":"SUM(CSVデータ1!N101,CSVデータ2!N101,CSVデータ3!N101,CSVデータ4!N101)","v":0},{"$f":"SUM(CSVデータ1!O101,CSVデータ2!O101,CSVデータ3!O101,CSVデータ4!O101)","v":0},{"$f":"SUM(CSVデータ1!P101,CSVデータ2!P101,CSVデータ3!P101,CSVデータ4!P101)","v":0},{"$f":"SUM(CSVデータ1!Q101,CSVデータ2!Q101,CSVデータ3!Q101,CSVデータ4!Q101)","v":0},{"$f":"SUM(CSVデータ1!R101,CSVデータ2!R101,CSVデータ3!R101,CSVデータ4!R101)","v":0},{"$f":"SUM(CSVデータ1!S101,CSVデータ2!S101,CSVデータ3!S101,CSVデータ4!S101)","v":0},{"$f":"SUM(CSVデータ1!T101,CSVデータ2!T101,CSVデータ3!T101,CSVデータ4!T101)","v":0},{"$f":"SUM(CSVデータ1!U101,CSVデータ2!U101,CSVデータ3!U101,CSVデータ4!U101)","v":0},{"$f":"SUM(CSVデータ1!V101,CSVデータ2!V101,CSVデータ3!V101,CSVデータ4!V101)","v":0},{"$f":"SUM(CSVデータ1!W101,CSVデータ2!W101,CSVデータ3!W101,CSVデータ4!W101)","v":0},{"$f":"SUM(CSVデータ1!X101,CSVデータ2!X101,CSVデータ3!X101,CSVデータ4!X101)","v":0},{"$f":"SUM(CSVデータ1!Y101,CSVデータ2!Y101,CSVデータ3!Y101,CSVデータ4!Y101)","v":0},{"$f":"SUM(CSVデータ1!Z101,CSVデータ2!Z101,CSVデータ3!Z101,CSVデータ4!Z101)","v":0},{"$f":"SUM(CSVデータ1!AA101,CSVデータ2!AA101,CSVデータ3!AA101,CSVデータ4!AA101)","v":0},{"$f":"SUM(CSVデータ1!AB101,CSVデータ2!AB101,CSVデータ3!AB101,CSVデータ4!AB101)","v":0},{"$f":"SUM(CSVデータ1!AC101,CSVデータ2!AC101,CSVデータ3!AC101,CSVデータ4!AC101)","v":0},{"$f":"SUM(CSVデータ1!AD101,CSVデータ2!AD101,CSVデータ3!AD101,CSVデータ4!AD101)","v":0},{"$f":"SUM(CSVデータ1!AE101,CSVデータ2!AE101,CSVデータ3!AE101,CSVデータ4!AE101)","v":0},{"$f":"SUM(CSVデータ1!AF101,CSVデータ2!AF101,CSVデータ3!AF101,CSVデータ4!AF101)","v":0},{"$f":"SUM(CSVデータ1!AG101,CSVデータ2!AG101,CSVデータ3!AG101,CSVデータ4!AG101)","v":0}]
[{"$f":"CSVデータ1!A102","v":"明細部"},{"$f":"CSVデータ1!B102","v":"国"},{"$f":"CSVデータ1!C102","v":107},{"$f":"CSVデータ1!D102","v":"女"},{"$f":"SUM(CSVデータ1!E102,CSVデータ2!E102,CSVデータ3!E102,CSVデータ4!E102)","v":0},{"$f":"SUM(CSVデータ1!F102,CSVデータ2!F102,CSVデータ3!F102,CSVデータ4!F102)","v":0},{"$f":"SUM(CSVデータ1!G102,CSVデータ2!G102,CSVデータ3!G102,CSVデータ4!G102)","v":0},{"$f":"SUM(CSVデータ1!H102,CSVデータ2!H102,CSVデータ3!H102,CSVデータ4!H102)","v":0},{"$f":"SUM(CSVデータ1!I102,CSVデータ2!I102,CSVデータ3!I102,CSVデータ4!I102)","v":0},{"$f":"SUM(CSVデータ1!J102,CSVデータ2!J102,CSVデータ3!J102,CSVデータ4!J102)","v":0},{"$f":"SUM(CSVデータ1!K102,CSVデータ2!K102,CSVデータ3!K102,CSVデータ4!K102)","v":0},{"$f":"SUM(CSVデータ1!L102,CSVデータ2!L102,CSVデータ3!L102,CSVデータ4!L102)","v":0},{"$f":"SUM(CSVデータ1!M102,CSVデータ2!M102,CSVデータ3!M102,CSVデータ4!M102)","v":0},{"$f":"SUM(CSVデータ1!N102,CSVデータ2!N102,CSVデータ3!N102,CSVデータ4!N102)","v":0},{"$f":"SUM(CSVデータ1!O102,CSVデータ2!O102,CSVデータ3!O102,CSVデータ4!O102)","v":0},{"$f":"SUM(CSVデータ1!P102,CSVデータ2!P102,CSVデータ3!P102,CSVデータ4!P102)","v":0},{"$f":"SUM(CSVデータ1!Q102,CSVデータ2!Q102,CSVデータ3!Q102,CSVデータ4!Q102)","v":0},{"$f":"SUM(CSVデータ1!R102,CSVデータ2!R102,CSVデータ3!R102,CSVデータ4!R102)","v":0},{"$f":"SUM(CSVデータ1!S102,CSVデータ2!S102,CSVデータ3!S102,CSVデータ4!S102)","v":0},{"$f":"SUM(CSVデータ1!T102,CSVデータ2!T102,CSVデータ3!T102,CSVデータ4!T102)","v":0},{"$f":"SUM(CSVデータ1!U102,CSVデータ2!U102,CSVデータ3!U102,CSVデータ4!U102)","v":0},{"$f":"SUM(CSVデータ1!V102,CSVデータ2!V102,CSVデータ3!V102,CSVデータ4!V102)","v":0},{"$f":"SUM(CSVデータ1!W102,CSVデータ2!W102,CSVデータ3!W102,CSVデータ4!W102)","v":0},{"$f":"SUM(CSVデータ1!X102,CSVデータ2!X102,CSVデータ3!X102,CSVデータ4!X102)","v":0},{"$f":"SUM(CSVデータ1!Y102,CSVデータ2!Y102,CSVデータ3!Y102,CSVデータ4!Y102)","v":0},{"$f":"SUM(CSVデータ1!Z102,CSVデータ2!Z102,CSVデータ3!Z102,CSVデータ4!Z102)","v":0},{"$f":"SUM(CSVデータ1!AA102,CSVデータ2!AA102,CSVデータ3!AA102,CSVデータ4!AA102)","v":0},{"$f":"SUM(CSVデータ1!AB102,CSVデータ2!AB102,CSVデータ3!AB102,CSVデータ4!AB102)","v":0},{"$f":"SUM(CSVデータ1!AC102,CSVデータ2!AC102,CSVデータ3!AC102,CSVデータ4!AC102)","v":0},{"$f":"SUM(CSVデータ1!AD102,CSVデータ2!AD102,CSVデータ3!AD102,CSVデータ4!AD102)","v":0},{"$f":"SUM(CSVデータ1!AE102,CSVデータ2!AE102,CSVデータ3!AE102,CSVデータ4!AE102)","v":0},{"$f":"SUM(CSVデータ1!AF102,CSVデータ2!AF102,CSVデータ3!AF102,CSVデータ4!AF102)","v":0},{"$f":"SUM(CSVデータ1!AG102,CSVデータ2!AG102,CSVデータ3!AG102,CSVデータ4!AG102)","v":0}]
[{"$f":"CSVデータ1!A103","v":"明細部"},{"$f":"CSVデータ1!B103","v":"国"},{"$f":"CSVデータ1!C103","v":108},{"$f":"CSVデータ1!D103","v":"女"},{"$f":"SUM(CSVデータ1!E103,CSVデータ2!E103,CSVデータ3!E103,CSVデータ4!E103)","v":0},{"$f":"SUM(CSVデータ1!F103,CSVデータ2!F103,CSVデータ3!F103,CSVデータ4!F103)","v":0},{"$f":"SUM(CSVデータ1!G103,CSVデータ2!G103,CSVデータ3!G103,CSVデータ4!G103)","v":0},{"$f":"SUM(CSVデータ1!H103,CSVデータ2!H103,CSVデータ3!H103,CSVデータ4!H103)","v":0},{"$f":"SUM(CSVデータ1!I103,CSVデータ2!I103,CSVデータ3!I103,CSVデータ4!I103)","v":0},{"$f":"SUM(CSVデータ1!J103,CSVデータ2!J103,CSVデータ3!J103,CSVデータ4!J103)","v":0},{"$f":"SUM(CSVデータ1!K103,CSVデータ2!K103,CSVデータ3!K103,CSVデータ4!K103)","v":0},{"$f":"SUM(CSVデータ1!L103,CSVデータ2!L103,CSVデータ3!L103,CSVデータ4!L103)","v":0},{"$f":"SUM(CSVデータ1!M103,CSVデータ2!M103,CSVデータ3!M103,CSVデータ4!M103)","v":0},{"$f":"SUM(CSVデータ1!N103,CSVデータ2!N103,CSVデータ3!N103,CSVデータ4!N103)","v":0},{"$f":"SUM(CSVデータ1!O103,CSVデータ2!O103,CSVデータ3!O103,CSVデータ4!O103)","v":0},{"$f":"SUM(CSVデータ1!P103,CSVデータ2!P103,CSVデータ3!P103,CSVデータ4!P103)","v":0},{"$f":"SUM(CSVデータ1!Q103,CSVデータ2!Q103,CSVデータ3!Q103,CSVデータ4!Q103)","v":0},{"$f":"SUM(CSVデータ1!R103,CSVデータ2!R103,CSVデータ3!R103,CSVデータ4!R103)","v":0},{"$f":"SUM(CSVデータ1!S103,CSVデータ2!S103,CSVデータ3!S103,CSVデータ4!S103)","v":0},{"$f":"SUM(CSVデータ1!T103,CSVデータ2!T103,CSVデータ3!T103,CSVデータ4!T103)","v":0},{"$f":"SUM(CSVデータ1!U103,CSVデータ2!U103,CSVデータ3!U103,CSVデータ4!U103)","v":0},{"$f":"SUM(CSVデータ1!V103,CSVデータ2!V103,CSVデータ3!V103,CSVデータ4!V103)","v":0},{"$f":"SUM(CSVデータ1!W103,CSVデータ2!W103,CSVデータ3!W103,CSVデータ4!W103)","v":0},{"$f":"SUM(CSVデータ1!X103,CSVデータ2!X103,CSVデータ3!X103,CSVデータ4!X103)","v":0},{"$f":"SUM(CSVデータ1!Y103,CSVデータ2!Y103,CSVデータ3!Y103,CSVデータ4!Y103)","v":0},{"$f":"SUM(CSVデータ1!Z103,CSVデータ2!Z103,CSVデータ3!Z103,CSVデータ4!Z103)","v":0},{"$f":"SUM(CSVデータ1!AA103,CSVデータ2!AA103,CSVデータ3!AA103,CSVデータ4!AA103)","v":0},{"$f":"SUM(CSVデータ1!AB103,CSVデータ2!AB103,CSVデータ3!AB103,CSVデータ4!AB103)","v":0},{"$f":"SUM(CSVデータ1!AC103,CSVデータ2!AC103,CSVデータ3!AC103,CSVデータ4!AC103)","v":0},{"$f":"SUM(CSVデータ1!AD103,CSVデータ2!AD103,CSVデータ3!AD103,CSVデータ4!AD103)","v":0},{"$f":"SUM(CSVデータ1!AE103,CSVデータ2!AE103,CSVデータ3!AE103,CSVデータ4!AE103)","v":0},{"$f":"SUM(CSVデータ1!AF103,CSVデータ2!AF103,CSVデータ3!AF103,CSVデータ4!AF103)","v":0},{"$f":"SUM(CSVデータ1!AG103,CSVデータ2!AG103,CSVデータ3!AG103,CSVデータ4!AG103)","v":0}]
[{"$f":"CSVデータ1!A104","v":"明細部"},{"$f":"CSVデータ1!B104","v":"国"},{"$f":"CSVデータ1!C104","v":109},{"$f":"CSVデータ1!D104","v":"女"},{"$f":"SUM(CSVデータ1!E104,CSVデータ2!E104,CSVデータ3!E104,CSVデータ4!E104)","v":0},{"$f":"SUM(CSVデータ1!F104,CSVデータ2!F104,CSVデータ3!F104,CSVデータ4!F104)","v":0},{"$f":"SUM(CSVデータ1!G104,CSVデータ2!G104,CSVデータ3!G104,CSVデータ4!G104)","v":0},{"$f":"SUM(CSVデータ1!H104,CSVデータ2!H104,CSVデータ3!H104,CSVデータ4!H104)","v":0},{"$f":"SUM(CSVデータ1!I104,CSVデータ2!I104,CSVデータ3!I104,CSVデータ4!I104)","v":0},{"$f":"SUM(CSVデータ1!J104,CSVデータ2!J104,CSVデータ3!J104,CSVデータ4!J104)","v":0},{"$f":"SUM(CSVデータ1!K104,CSVデータ2!K104,CSVデータ3!K104,CSVデータ4!K104)","v":0},{"$f":"SUM(CSVデータ1!L104,CSVデータ2!L104,CSVデータ3!L104,CSVデータ4!L104)","v":0},{"$f":"SUM(CSVデータ1!M104,CSVデータ2!M104,CSVデータ3!M104,CSVデータ4!M104)","v":0},{"$f":"SUM(CSVデータ1!N104,CSVデータ2!N104,CSVデータ3!N104,CSVデータ4!N104)","v":0},{"$f":"SUM(CSVデータ1!O104,CSVデータ2!O104,CSVデータ3!O104,CSVデータ4!O104)","v":0},{"$f":"SUM(CSVデータ1!P104,CSVデータ2!P104,CSVデータ3!P104,CSVデータ4!P104)","v":0},{"$f":"SUM(CSVデータ1!Q104,CSVデータ2!Q104,CSVデータ3!Q104,CSVデータ4!Q104)","v":0},{"$f":"SUM(CSVデータ1!R104,CSVデータ2!R104,CSVデータ3!R104,CSVデータ4!R104)","v":0},{"$f":"SUM(CSVデータ1!S104,CSVデータ2!S104,CSVデータ3!S104,CSVデータ4!S104)","v":0},{"$f":"SUM(CSVデータ1!T104,CSVデータ2!T104,CSVデータ3!T104,CSVデータ4!T104)","v":0},{"$f":"SUM(CSVデータ1!U104,CSVデータ2!U104,CSVデータ3!U104,CSVデータ4!U104)","v":0},{"$f":"SUM(CSVデータ1!V104,CSVデータ2!V104,CSVデータ3!V104,CSVデータ4!V104)","v":0},{"$f":"SUM(CSVデータ1!W104,CSVデータ2!W104,CSVデータ3!W104,CSVデータ4!W104)","v":0},{"$f":"SUM(CSVデータ1!X104,CSVデータ2!X104,CSVデータ3!X104,CSVデータ4!X104)","v":0},{"$f":"SUM(CSVデータ1!Y104,CSVデータ2!Y104,CSVデータ3!Y104,CSVデータ4!Y104)","v":0},{"$f":"SUM(CSVデータ1!Z104,CSVデータ2!Z104,CSVデータ3!Z104,CSVデータ4!Z104)","v":0},{"$f":"SUM(CSVデータ1!AA104,CSVデータ2!AA104,CSVデータ3!AA104,CSVデータ4!AA104)","v":0},{"$f":"SUM(CSVデータ1!AB104,CSVデータ2!AB104,CSVデータ3!AB104,CSVデータ4!AB104)","v":0},{"$f":"SUM(CSVデータ1!AC104,CSVデータ2!AC104,CSVデータ3!AC104,CSVデータ4!AC104)","v":0},{"$f":"SUM(CSVデータ1!AD104,CSVデータ2!AD104,CSVデータ3!AD104,CSVデータ4!AD104)","v":0},{"$f":"SUM(CSVデータ1!AE104,CSVデータ2!AE104,CSVデータ3!AE104,CSVデータ4!AE104)","v":0},{"$f":"SUM(CSVデータ1!AF104,CSVデータ2!AF104,CSVデータ3!AF104,CSVデータ4!AF104)","v":0},{"$f":"SUM(CSVデータ1!AG104,CSVデータ2!AG104,CSVデータ3!AG104,CSVデータ4!AG104)","v":0}]
[{"$f":"CSVデータ1!A105","v":"明細部"},{"$f":"CSVデータ1!B105","v":"国"},{"$f":"CSVデータ1!C105","v":110},{"$f":"CSVデータ1!D105","v":"女"},{"$f":"SUM(CSVデータ1!E105,CSVデータ2!E105,CSVデータ3!E105,CSVデータ4!E105)","v":0},{"$f":"SUM(CSVデータ1!F105,CSVデータ2!F105,CSVデータ3!F105,CSVデータ4!F105)","v":0},{"$f":"SUM(CSVデータ1!G105,CSVデータ2!G105,CSVデータ3!G105,CSVデータ4!G105)","v":0},{"$f":"SUM(CSVデータ1!H105,CSVデータ2!H105,CSVデータ3!H105,CSVデータ4!H105)","v":0},{"$f":"SUM(CSVデータ1!I105,CSVデータ2!I105,CSVデータ3!I105,CSVデータ4!I105)","v":0},{"$f":"SUM(CSVデータ1!J105,CSVデータ2!J105,CSVデータ3!J105,CSVデータ4!J105)","v":0},{"$f":"SUM(CSVデータ1!K105,CSVデータ2!K105,CSVデータ3!K105,CSVデータ4!K105)","v":0},{"$f":"SUM(CSVデータ1!L105,CSVデータ2!L105,CSVデータ3!L105,CSVデータ4!L105)","v":0},{"$f":"SUM(CSVデータ1!M105,CSVデータ2!M105,CSVデータ3!M105,CSVデータ4!M105)","v":0},{"$f":"SUM(CSVデータ1!N105,CSVデータ2!N105,CSVデータ3!N105,CSVデータ4!N105)","v":0},{"$f":"SUM(CSVデータ1!O105,CSVデータ2!O105,CSVデータ3!O105,CSVデータ4!O105)","v":0},{"$f":"SUM(CSVデータ1!P105,CSVデータ2!P105,CSVデータ3!P105,CSVデータ4!P105)","v":0},{"$f":"SUM(CSVデータ1!Q105,CSVデータ2!Q105,CSVデータ3!Q105,CSVデータ4!Q105)","v":0},{"$f":"SUM(CSVデータ1!R105,CSVデータ2!R105,CSVデータ3!R105,CSVデータ4!R105)","v":0},{"$f":"SUM(CSVデータ1!S105,CSVデータ2!S105,CSVデータ3!S105,CSVデータ4!S105)","v":0},{"$f":"SUM(CSVデータ1!T105,CSVデータ2!T105,CSVデータ3!T105,CSVデータ4!T105)","v":0},{"$f":"SUM(CSVデータ1!U105,CSVデータ2!U105,CSVデータ3!U105,CSVデータ4!U105)","v":0},{"$f":"SUM(CSVデータ1!V105,CSVデータ2!V105,CSVデータ3!V105,CSVデータ4!V105)","v":0},{"$f":"SUM(CSVデータ1!W105,CSVデータ2!W105,CSVデータ3!W105,CSVデータ4!W105)","v":0},{"$f":"SUM(CSVデータ1!X105,CSVデータ2!X105,CSVデータ3!X105,CSVデータ4!X105)","v":0},{"$f":"SUM(CSVデータ1!Y105,CSVデータ2!Y105,CSVデータ3!Y105,CSVデータ4!Y105)","v":0},{"$f":"SUM(CSVデータ1!Z105,CSVデータ2!Z105,CSVデータ3!Z105,CSVデータ4!Z105)","v":0},{"$f":"SUM(CSVデータ1!AA105,CSVデータ2!AA105,CSVデータ3!AA105,CSVデータ4!AA105)","v":0},{"$f":"SUM(CSVデータ1!AB105,CSVデータ2!AB105,CSVデータ3!AB105,CSVデータ4!AB105)","v":0},{"$f":"SUM(CSVデータ1!AC105,CSVデータ2!AC105,CSVデータ3!AC105,CSVデータ4!AC105)","v":0},{"$f":"SUM(CSVデータ1!AD105,CSVデータ2!AD105,CSVデータ3!AD105,CSVデータ4!AD105)","v":0},{"$f":"SUM(CSVデータ1!AE105,CSVデータ2!AE105,CSVデータ3!AE105,CSVデータ4!AE105)","v":0},{"$f":"SUM(CSVデータ1!AF105,CSVデータ2!AF105,CSVデータ3!AF105,CSVデータ4!AF105)","v":0},{"$f":"SUM(CSVデータ1!AG105,CSVデータ2!AG105,CSVデータ3!AG105,CSVデータ4!AG105)","v":0}]
[{"$f":"CSVデータ1!A106","v":"明細部"},{"$f":"CSVデータ1!B106","v":"国"},{"$f":"CSVデータ1!C106","v":111},{"$f":"CSVデータ1!D106","v":"女"},{"$f":"SUM(CSVデータ1!E106,CSVデータ2!E106,CSVデータ3!E106,CSVデータ4!E106)","v":0},{"$f":"SUM(CSVデータ1!F106,CSVデータ2!F106,CSVデータ3!F106,CSVデータ4!F106)","v":0},{"$f":"SUM(CSVデータ1!G106,CSVデータ2!G106,CSVデータ3!G106,CSVデータ4!G106)","v":0},{"$f":"SUM(CSVデータ1!H106,CSVデータ2!H106,CSVデータ3!H106,CSVデータ4!H106)","v":0},{"$f":"SUM(CSVデータ1!I106,CSVデータ2!I106,CSVデータ3!I106,CSVデータ4!I106)","v":0},{"$f":"SUM(CSVデータ1!J106,CSVデータ2!J106,CSVデータ3!J106,CSVデータ4!J106)","v":0},{"$f":"SUM(CSVデータ1!K106,CSVデータ2!K106,CSVデータ3!K106,CSVデータ4!K106)","v":0},{"$f":"SUM(CSVデータ1!L106,CSVデータ2!L106,CSVデータ3!L106,CSVデータ4!L106)","v":0},{"$f":"SUM(CSVデータ1!M106,CSVデータ2!M106,CSVデータ3!M106,CSVデータ4!M106)","v":0},{"$f":"SUM(CSVデータ1!N106,CSVデータ2!N106,CSVデータ3!N106,CSVデータ4!N106)","v":0},{"$f":"SUM(CSVデータ1!O106,CSVデータ2!O106,CSVデータ3!O106,CSVデータ4!O106)","v":0},{"$f":"SUM(CSVデータ1!P106,CSVデータ2!P106,CSVデータ3!P106,CSVデータ4!P106)","v":0},{"$f":"SUM(CSVデータ1!Q106,CSVデータ2!Q106,CSVデータ3!Q106,CSVデータ4!Q106)","v":0},{"$f":"SUM(CSVデータ1!R106,CSVデータ2!R106,CSVデータ3!R106,CSVデータ4!R106)","v":0},{"$f":"SUM(CSVデータ1!S106,CSVデータ2!S106,CSVデータ3!S106,CSVデータ4!S106)","v":0},{"$f":"SUM(CSVデータ1!T106,CSVデータ2!T106,CSVデータ3!T106,CSVデータ4!T106)","v":0},{"$f":"SUM(CSVデータ1!U106,CSVデータ2!U106,CSVデータ3!U106,CSVデータ4!U106)","v":0},{"$f":"SUM(CSVデータ1!V106,CSVデータ2!V106,CSVデータ3!V106,CSVデータ4!V106)","v":0},{"$f":"SUM(CSVデータ1!W106,CSVデータ2!W106,CSVデータ3!W106,CSVデータ4!W106)","v":0},{"$f":"SUM(CSVデータ1!X106,CSVデータ2!X106,CSVデータ3!X106,CSVデータ4!X106)","v":0},{"$f":"SUM(CSVデータ1!Y106,CSVデータ2!Y106,CSVデータ3!Y106,CSVデータ4!Y106)","v":0},{"$f":"SUM(CSVデータ1!Z106,CSVデータ2!Z106,CSVデータ3!Z106,CSVデータ4!Z106)","v":0},{"$f":"SUM(CSVデータ1!AA106,CSVデータ2!AA106,CSVデータ3!AA106,CSVデータ4!AA106)","v":0},{"$f":"SUM(CSVデータ1!AB106,CSVデータ2!AB106,CSVデータ3!AB106,CSVデータ4!AB106)","v":0},{"$f":"SUM(CSVデータ1!AC106,CSVデータ2!AC106,CSVデータ3!AC106,CSVデータ4!AC106)","v":0},{"$f":"SUM(CSVデータ1!AD106,CSVデータ2!AD106,CSVデータ3!AD106,CSVデータ4!AD106)","v":0},{"$f":"SUM(CSVデータ1!AE106,CSVデータ2!AE106,CSVデータ3!AE106,CSVデータ4!AE106)","v":0},{"$f":"SUM(CSVデータ1!AF106,CSVデータ2!AF106,CSVデータ3!AF106,CSVデータ4!AF106)","v":0},{"$f":"SUM(CSVデータ1!AG106,CSVデータ2!AG106,CSVデータ3!AG106,CSVデータ4!AG106)","v":0}]
[{"$f":"CSVデータ1!A107","v":"明細部"},{"$f":"CSVデータ1!B107","v":"国"},{"$f":"CSVデータ1!C107","v":112},{"$f":"CSVデータ1!D107","v":"女"},{"$f":"SUM(CSVデータ1!E107,CSVデータ2!E107,CSVデータ3!E107,CSVデータ4!E107)","v":0},{"$f":"SUM(CSVデータ1!F107,CSVデータ2!F107,CSVデータ3!F107,CSVデータ4!F107)","v":0},{"$f":"SUM(CSVデータ1!G107,CSVデータ2!G107,CSVデータ3!G107,CSVデータ4!G107)","v":0},{"$f":"SUM(CSVデータ1!H107,CSVデータ2!H107,CSVデータ3!H107,CSVデータ4!H107)","v":0},{"$f":"SUM(CSVデータ1!I107,CSVデータ2!I107,CSVデータ3!I107,CSVデータ4!I107)","v":0},{"$f":"SUM(CSVデータ1!J107,CSVデータ2!J107,CSVデータ3!J107,CSVデータ4!J107)","v":0},{"$f":"SUM(CSVデータ1!K107,CSVデータ2!K107,CSVデータ3!K107,CSVデータ4!K107)","v":0},{"$f":"SUM(CSVデータ1!L107,CSVデータ2!L107,CSVデータ3!L107,CSVデータ4!L107)","v":0},{"$f":"SUM(CSVデータ1!M107,CSVデータ2!M107,CSVデータ3!M107,CSVデータ4!M107)","v":0},{"$f":"SUM(CSVデータ1!N107,CSVデータ2!N107,CSVデータ3!N107,CSVデータ4!N107)","v":0},{"$f":"SUM(CSVデータ1!O107,CSVデータ2!O107,CSVデータ3!O107,CSVデータ4!O107)","v":0},{"$f":"SUM(CSVデータ1!P107,CSVデータ2!P107,CSVデータ3!P107,CSVデータ4!P107)","v":0},{"$f":"SUM(CSVデータ1!Q107,CSVデータ2!Q107,CSVデータ3!Q107,CSVデータ4!Q107)","v":0},{"$f":"SUM(CSVデータ1!R107,CSVデータ2!R107,CSVデータ3!R107,CSVデータ4!R107)","v":0},{"$f":"SUM(CSVデータ1!S107,CSVデータ2!S107,CSVデータ3!S107,CSVデータ4!S107)","v":0},{"$f":"SUM(CSVデータ1!T107,CSVデータ2!T107,CSVデータ3!T107,CSVデータ4!T107)","v":0},{"$f":"SUM(CSVデータ1!U107,CSVデータ2!U107,CSVデータ3!U107,CSVデータ4!U107)","v":0},{"$f":"SUM(CSVデータ1!V107,CSVデータ2!V107,CSVデータ3!V107,CSVデータ4!V107)","v":0},{"$f":"SUM(CSVデータ1!W107,CSVデータ2!W107,CSVデータ3!W107,CSVデータ4!W107)","v":0},{"$f":"SUM(CSVデータ1!X107,CSVデータ2!X107,CSVデータ3!X107,CSVデータ4!X107)","v":0},{"$f":"SUM(CSVデータ1!Y107,CSVデータ2!Y107,CSVデータ3!Y107,CSVデータ4!Y107)","v":0},{"$f":"SUM(CSVデータ1!Z107,CSVデータ2!Z107,CSVデータ3!Z107,CSVデータ4!Z107)","v":0},{"$f":"SUM(CSVデータ1!AA107,CSVデータ2!AA107,CSVデータ3!AA107,CSVデータ4!AA107)","v":0},{"$f":"SUM(CSVデータ1!AB107,CSVデータ2!AB107,CSVデータ3!AB107,CSVデータ4!AB107)","v":0},{"$f":"SUM(CSVデータ1!AC107,CSVデータ2!AC107,CSVデータ3!AC107,CSVデータ4!AC107)","v":0},{"$f":"SUM(CSVデータ1!AD107,CSVデータ2!AD107,CSVデータ3!AD107,CSVデータ4!AD107)","v":0},{"$f":"SUM(CSVデータ1!AE107,CSVデータ2!AE107,CSVデータ3!AE107,CSVデータ4!AE107)","v":0},{"$f":"SUM(CSVデータ1!AF107,CSVデータ2!AF107,CSVデータ3!AF107,CSVデータ4!AF107)","v":0},{"$f":"SUM(CSVデータ1!AG107,CSVデータ2!AG107,CSVデータ3!AG107,CSVデータ4!AG107)","v":0}]
[{"$f":"CSVデータ1!A108","v":"明細部"},{"$f":"CSVデータ1!B108","v":"国"},{"$f":"CSVデータ1!C108","v":113},{"$f":"CSVデータ1!D108","v":"女"},{"$f":"SUM(CSVデータ1!E108,CSVデータ2!E108,CSVデータ3!E108,CSVデータ4!E108)","v":0},{"$f":"SUM(CSVデータ1!F108,CSVデータ2!F108,CSVデータ3!F108,CSVデータ4!F108)","v":0},{"$f":"SUM(CSVデータ1!G108,CSVデータ2!G108,CSVデータ3!G108,CSVデータ4!G108)","v":0},{"$f":"SUM(CSVデータ1!H108,CSVデータ2!H108,CSVデータ3!H108,CSVデータ4!H108)","v":0},{"$f":"SUM(CSVデータ1!I108,CSVデータ2!I108,CSVデータ3!I108,CSVデータ4!I108)","v":0},{"$f":"SUM(CSVデータ1!J108,CSVデータ2!J108,CSVデータ3!J108,CSVデータ4!J108)","v":0},{"$f":"SUM(CSVデータ1!K108,CSVデータ2!K108,CSVデータ3!K108,CSVデータ4!K108)","v":0},{"$f":"SUM(CSVデータ1!L108,CSVデータ2!L108,CSVデータ3!L108,CSVデータ4!L108)","v":0},{"$f":"SUM(CSVデータ1!M108,CSVデータ2!M108,CSVデータ3!M108,CSVデータ4!M108)","v":0},{"$f":"SUM(CSVデータ1!N108,CSVデータ2!N108,CSVデータ3!N108,CSVデータ4!N108)","v":0},{"$f":"SUM(CSVデータ1!O108,CSVデータ2!O108,CSVデータ3!O108,CSVデータ4!O108)","v":0},{"$f":"SUM(CSVデータ1!P108,CSVデータ2!P108,CSVデータ3!P108,CSVデータ4!P108)","v":0},{"$f":"SUM(CSVデータ1!Q108,CSVデータ2!Q108,CSVデータ3!Q108,CSVデータ4!Q108)","v":0},{"$f":"SUM(CSVデータ1!R108,CSVデータ2!R108,CSVデータ3!R108,CSVデータ4!R108)","v":0},{"$f":"SUM(CSVデータ1!S108,CSVデータ2!S108,CSVデータ3!S108,CSVデータ4!S108)","v":0},{"$f":"SUM(CSVデータ1!T108,CSVデータ2!T108,CSVデータ3!T108,CSVデータ4!T108)","v":0},{"$f":"SUM(CSVデータ1!U108,CSVデータ2!U108,CSVデータ3!U108,CSVデータ4!U108)","v":0},{"$f":"SUM(CSVデータ1!V108,CSVデータ2!V108,CSVデータ3!V108,CSVデータ4!V108)","v":0},{"$f":"SUM(CSVデータ1!W108,CSVデータ2!W108,CSVデータ3!W108,CSVデータ4!W108)","v":0},{"$f":"SUM(CSVデータ1!X108,CSVデータ2!X108,CSVデータ3!X108,CSVデータ4!X108)","v":0},{"$f":"SUM(CSVデータ1!Y108,CSVデータ2!Y108,CSVデータ3!Y108,CSVデータ4!Y108)","v":0},{"$f":"SUM(CSVデータ1!Z108,CSVデータ2!Z108,CSVデータ3!Z108,CSVデータ4!Z108)","v":0},{"$f":"SUM(CSVデータ1!AA108,CSVデータ2!AA108,CSVデータ3!AA108,CSVデータ4!AA108)","v":0},{"$f":"SUM(CSVデータ1!AB108,CSVデータ2!AB108,CSVデータ3!AB108,CSVデータ4!AB108)","v":0},{"$f":"SUM(CSVデータ1!AC108,CSVデータ2!AC108,CSVデータ3!AC108,CSVデータ4!AC108)","v":0},{"$f":"SUM(CSVデータ1!AD108,CSVデータ2!AD108,CSVデータ3!AD108,CSVデータ4!AD108)","v":0},{"$f":"SUM(CSVデータ1!AE108,CSVデータ2!AE108,CSVデータ3!AE108,CSVデータ4!AE108)","v":0},{"$f":"SUM(CSVデータ1!AF108,CSVデータ2!AF108,CSVデータ3!AF108,CSVデータ4!AF108)","v":0},{"$f":"SUM(CSVデータ1!AG108,CSVデータ2!AG108,CSVデータ3!AG108,CSVデータ4!AG108)","v":0}]
[{"$f":"CSVデータ1!A109","v":"明細部"},{"$f":"CSVデータ1!B109","v":"国"},{"$f":"CSVデータ1!C109","v":114},{"$f":"CSVデータ1!D109","v":"女"},{"$f":"SUM(CSVデータ1!E109,CSVデータ2!E109,CSVデータ3!E109,CSVデータ4!E109)","v":0},{"$f":"SUM(CSVデータ1!F109,CSVデータ2!F109,CSVデータ3!F109,CSVデータ4!F109)","v":0},{"$f":"SUM(CSVデータ1!G109,CSVデータ2!G109,CSVデータ3!G109,CSVデータ4!G109)","v":0},{"$f":"SUM(CSVデータ1!H109,CSVデータ2!H109,CSVデータ3!H109,CSVデータ4!H109)","v":0},{"$f":"SUM(CSVデータ1!I109,CSVデータ2!I109,CSVデータ3!I109,CSVデータ4!I109)","v":0},{"$f":"SUM(CSVデータ1!J109,CSVデータ2!J109,CSVデータ3!J109,CSVデータ4!J109)","v":0},{"$f":"SUM(CSVデータ1!K109,CSVデータ2!K109,CSVデータ3!K109,CSVデータ4!K109)","v":0},{"$f":"SUM(CSVデータ1!L109,CSVデータ2!L109,CSVデータ3!L109,CSVデータ4!L109)","v":0},{"$f":"SUM(CSVデータ1!M109,CSVデータ2!M109,CSVデータ3!M109,CSVデータ4!M109)","v":0},{"$f":"SUM(CSVデータ1!N109,CSVデータ2!N109,CSVデータ3!N109,CSVデータ4!N109)","v":0},{"$f":"SUM(CSVデータ1!O109,CSVデータ2!O109,CSVデータ3!O109,CSVデータ4!O109)","v":0},{"$f":"SUM(CSVデータ1!P109,CSVデータ2!P109,CSVデータ3!P109,CSVデータ4!P109)","v":0},{"$f":"SUM(CSVデータ1!Q109,CSVデータ2!Q109,CSVデータ3!Q109,CSVデータ4!Q109)","v":0},{"$f":"SUM(CSVデータ1!R109,CSVデータ2!R109,CSVデータ3!R109,CSVデータ4!R109)","v":0},{"$f":"SUM(CSVデータ1!S109,CSVデータ2!S109,CSVデータ3!S109,CSVデータ4!S109)","v":0},{"$f":"SUM(CSVデータ1!T109,CSVデータ2!T109,CSVデータ3!T109,CSVデータ4!T109)","v":0},{"$f":"SUM(CSVデータ1!U109,CSVデータ2!U109,CSVデータ3!U109,CSVデータ4!U109)","v":0},{"$f":"SUM(CSVデータ1!V109,CSVデータ2!V109,CSVデータ3!V109,CSVデータ4!V109)","v":0},{"$f":"SUM(CSVデータ1!W109,CSVデータ2!W109,CSVデータ3!W109,CSVデータ4!W109)","v":0},{"$f":"SUM(CSVデータ1!X109,CSVデータ2!X109,CSVデータ3!X109,CSVデータ4!X109)","v":0},{"$f":"SUM(CSVデータ1!Y109,CSVデータ2!Y109,CSVデータ3!Y109,CSVデータ4!Y109)","v":0},{"$f":"SUM(CSVデータ1!Z109,CSVデータ2!Z109,CSVデータ3!Z109,CSVデータ4!Z109)","v":0},{"$f":"SUM(CSVデータ1!AA109,CSVデータ2!AA109,CSVデータ3!AA109,CSVデータ4!AA109)","v":0},{"$f":"SUM(CSVデータ1!AB109,CSVデータ2!AB109,CSVデータ3!AB109,CSVデータ4!AB109)","v":0},{"$f":"SUM(CSVデータ1!AC109,CSVデータ2!AC109,CSVデータ3!AC109,CSVデータ4!AC109)","v":0},{"$f":"SUM(CSVデータ1!AD109,CSVデータ2!AD109,CSVデータ3!AD109,CSVデータ4!AD109)","v":0},{"$f":"SUM(CSVデータ1!AE109,CSVデータ2!AE109,CSVデータ3!AE109,CSVデータ4!AE109)","v":0},{"$f":"SUM(CSVデータ1!AF109,CSVデータ2!AF109,CSVデータ3!AF109,CSVデータ4!AF109)","v":0},{"$f":"SUM(CSVデータ1!AG109,CSVデータ2!AG109,CSVデータ3!AG109,CSVデータ4!AG109)","v":0}]
[{"$f":"CSVデータ1!A110","v":"明細部"},{"$f":"CSVデータ1!B110","v":"国"},{"$f":"CSVデータ1!C110","v":115},{"$f":"CSVデータ1!D110","v":"女"},{"$f":"SUM(CSVデータ1!E110,CSVデータ2!E110,CSVデータ3!E110,CSVデータ4!E110)","v":0},{"$f":"SUM(CSVデータ1!F110,CSVデータ2!F110,CSVデータ3!F110,CSVデータ4!F110)","v":0},{"$f":"SUM(CSVデータ1!G110,CSVデータ2!G110,CSVデータ3!G110,CSVデータ4!G110)","v":0},{"$f":"SUM(CSVデータ1!H110,CSVデータ2!H110,CSVデータ3!H110,CSVデータ4!H110)","v":0},{"$f":"SUM(CSVデータ1!I110,CSVデータ2!I110,CSVデータ3!I110,CSVデータ4!I110)","v":0},{"$f":"SUM(CSVデータ1!J110,CSVデータ2!J110,CSVデータ3!J110,CSVデータ4!J110)","v":0},{"$f":"SUM(CSVデータ1!K110,CSVデータ2!K110,CSVデータ3!K110,CSVデータ4!K110)","v":0},{"$f":"SUM(CSVデータ1!L110,CSVデータ2!L110,CSVデータ3!L110,CSVデータ4!L110)","v":0},{"$f":"SUM(CSVデータ1!M110,CSVデータ2!M110,CSVデータ3!M110,CSVデータ4!M110)","v":0},{"$f":"SUM(CSVデータ1!N110,CSVデータ2!N110,CSVデータ3!N110,CSVデータ4!N110)","v":0},{"$f":"SUM(CSVデータ1!O110,CSVデータ2!O110,CSVデータ3!O110,CSVデータ4!O110)","v":0},{"$f":"SUM(CSVデータ1!P110,CSVデータ2!P110,CSVデータ3!P110,CSVデータ4!P110)","v":0},{"$f":"SUM(CSVデータ1!Q110,CSVデータ2!Q110,CSVデータ3!Q110,CSVデータ4!Q110)","v":0},{"$f":"SUM(CSVデータ1!R110,CSVデータ2!R110,CSVデータ3!R110,CSVデータ4!R110)","v":0},{"$f":"SUM(CSVデータ1!S110,CSVデータ2!S110,CSVデータ3!S110,CSVデータ4!S110)","v":0},{"$f":"SUM(CSVデータ1!T110,CSVデータ2!T110,CSVデータ3!T110,CSVデータ4!T110)","v":0},{"$f":"SUM(CSVデータ1!U110,CSVデータ2!U110,CSVデータ3!U110,CSVデータ4!U110)","v":0},{"$f":"SUM(CSVデータ1!V110,CSVデータ2!V110,CSVデータ3!V110,CSVデータ4!V110)","v":0},{"$f":"SUM(CSVデータ1!W110,CSVデータ2!W110,CSVデータ3!W110,CSVデータ4!W110)","v":0},{"$f":"SUM(CSVデータ1!X110,CSVデータ2!X110,CSVデータ3!X110,CSVデータ4!X110)","v":0},{"$f":"SUM(CSVデータ1!Y110,CSVデータ2!Y110,CSVデータ3!Y110,CSVデータ4!Y110)","v":0},{"$f":"SUM(CSVデータ1!Z110,CSVデータ2!Z110,CSVデータ3!Z110,CSVデータ4!Z110)","v":0},{"$f":"SUM(CSVデータ1!AA110,CSVデータ2!AA110,CSVデータ3!AA110,CSVデータ4!AA110)","v":0},{"$f":"SUM(CSVデータ1!AB110,CSVデータ2!AB110,CSVデータ3!AB110,CSVデータ4!AB110)","v":0},{"$f":"SUM(CSVデータ1!AC110,CSVデータ2!AC110,CSVデータ3!AC110,CSVデータ4!AC110)","v":0},{"$f":"SUM(CSVデータ1!AD110,CSVデータ2!AD110,CSVデータ3!AD110,CSVデータ4!AD110)","v":0},{"$f":"SUM(CSVデータ1!AE110,CSVデータ2!AE110,CSVデータ3!AE110,CSVデータ4!AE110)","v":0},{"$f":"SUM(CSVデータ1!AF110,CSVデータ2!AF110,CSVデータ3!AF110,CSVデータ4!AF110)","v":0},{"$f":"SUM(CSVデータ1!AG110,CSVデータ2!AG110,CSVデータ3!AG110,CSVデータ4!AG110)","v":0}]
[{"$f":"CSVデータ1!A111","v":"明細部"},{"$f":"CSVデータ1!B111","v":"国"},{"$f":"CSVデータ1!C111","v":116},{"$f":"CSVデータ1!D111","v":"女"},{"$f":"SUM(CSVデータ1!E111,CSVデータ2!E111,CSVデータ3!E111,CSVデータ4!E111)","v":0},{"$f":"SUM(CSVデータ1!F111,CSVデータ2!F111,CSVデータ3!F111,CSVデータ4!F111)","v":0},{"$f":"SUM(CSVデータ1!G111,CSVデータ2!G111,CSVデータ3!G111,CSVデータ4!G111)","v":0},{"$f":"SUM(CSVデータ1!H111,CSVデータ2!H111,CSVデータ3!H111,CSVデータ4!H111)","v":0},{"$f":"SUM(CSVデータ1!I111,CSVデータ2!I111,CSVデータ3!I111,CSVデータ4!I111)","v":0},{"$f":"SUM(CSVデータ1!J111,CSVデータ2!J111,CSVデータ3!J111,CSVデータ4!J111)","v":0},{"$f":"SUM(CSVデータ1!K111,CSVデータ2!K111,CSVデータ3!K111,CSVデータ4!K111)","v":0},{"$f":"SUM(CSVデータ1!L111,CSVデータ2!L111,CSVデータ3!L111,CSVデータ4!L111)","v":0},{"$f":"SUM(CSVデータ1!M111,CSVデータ2!M111,CSVデータ3!M111,CSVデータ4!M111)","v":0},{"$f":"SUM(CSVデータ1!N111,CSVデータ2!N111,CSVデータ3!N111,CSVデータ4!N111)","v":0},{"$f":"SUM(CSVデータ1!O111,CSVデータ2!O111,CSVデータ3!O111,CSVデータ4!O111)","v":0},{"$f":"SUM(CSVデータ1!P111,CSVデータ2!P111,CSVデータ3!P111,CSVデータ4!P111)","v":0},{"$f":"SUM(CSVデータ1!Q111,CSVデータ2!Q111,CSVデータ3!Q111,CSVデータ4!Q111)","v":0},{"$f":"SUM(CSVデータ1!R111,CSVデータ2!R111,CSVデータ3!R111,CSVデータ4!R111)","v":0},{"$f":"SUM(CSVデータ1!S111,CSVデータ2!S111,CSVデータ3!S111,CSVデータ4!S111)","v":0},{"$f":"SUM(CSVデータ1!T111,CSVデータ2!T111,CSVデータ3!T111,CSVデータ4!T111)","v":0},{"$f":"SUM(CSVデータ1!U111,CSVデータ2!U111,CSVデータ3!U111,CSVデータ4!U111)","v":0},{"$f":"SUM(CSVデータ1!V111,CSVデータ2!V111,CSVデータ3!V111,CSVデータ4!V111)","v":0},{"$f":"SUM(CSVデータ1!W111,CSVデータ2!W111,CSVデータ3!W111,CSVデータ4!W111)","v":0},{"$f":"SUM(CSVデータ1!X111,CSVデータ2!X111,CSVデータ3!X111,CSVデータ4!X111)","v":0},{"$f":"SUM(CSVデータ1!Y111,CSVデータ2!Y111,CSVデータ3!Y111,CSVデータ4!Y111)","v":0},{"$f":"SUM(CSVデータ1!Z111,CSVデータ2!Z111,CSVデータ3!Z111,CSVデータ4!Z111)","v":0},{"$f":"SUM(CSVデータ1!AA111,CSVデータ2!AA111,CSVデータ3!AA111,CSVデータ4!AA111)","v":0},{"$f":"SUM(CSVデータ1!AB111,CSVデータ2!AB111,CSVデータ3!AB111,CSVデータ4!AB111)","v":0},{"$f":"SUM(CSVデータ1!AC111,CSVデータ2!AC111,CSVデータ3!AC111,CSVデータ4!AC111)","v":0},{"$f":"SUM(CSVデータ1!AD111,CSVデータ2!AD111,CSVデータ3!AD111,CSVデータ4!AD111)","v":0},{"$f":"SUM(CSVデータ1!AE111,CSVデータ2!AE111,CSVデータ3!AE111,CSVデータ4!AE111)","v":0},{"$f":"SUM(CSVデータ1!AF111,CSVデータ2!AF111,CSVデータ3!AF111,CSVデータ4!AF111)","v":0},{"$f":"SUM(CSVデータ1!AG111,CSVデータ2!AG111,CSVデータ3!AG111,CSVデータ4!AG111)","v":0}]
[{"$f":"CSVデータ1!A112","v":"明細部"},{"$f":"CSVデータ1!B112","v":"国"},{"$f":"CSVデータ1!C112","v":117},{"$f":"CSVデータ1!D112","v":"女"},{"$f":"SUM(CSVデータ1!E112,CSVデータ2!E112,CSVデータ3!E112,CSVデータ4!E112)","v":0},{"$f":"SUM(CSVデータ1!F112,CSVデータ2!F112,CSVデータ3!F112,CSVデータ4!F112)","v":0},{"$f":"SUM(CSVデータ1!G112,CSVデータ2!G112,CSVデータ3!G112,CSVデータ4!G112)","v":0},{"$f":"SUM(CSVデータ1!H112,CSVデータ2!H112,CSVデータ3!H112,CSVデータ4!H112)","v":0},{"$f":"SUM(CSVデータ1!I112,CSVデータ2!I112,CSVデータ3!I112,CSVデータ4!I112)","v":0},{"$f":"SUM(CSVデータ1!J112,CSVデータ2!J112,CSVデータ3!J112,CSVデータ4!J112)","v":0},{"$f":"SUM(CSVデータ1!K112,CSVデータ2!K112,CSVデータ3!K112,CSVデータ4!K112)","v":0},{"$f":"SUM(CSVデータ1!L112,CSVデータ2!L112,CSVデータ3!L112,CSVデータ4!L112)","v":0},{"$f":"SUM(CSVデータ1!M112,CSVデータ2!M112,CSVデータ3!M112,CSVデータ4!M112)","v":0},{"$f":"SUM(CSVデータ1!N112,CSVデータ2!N112,CSVデータ3!N112,CSVデータ4!N112)","v":0},{"$f":"SUM(CSVデータ1!O112,CSVデータ2!O112,CSVデータ3!O112,CSVデータ4!O112)","v":0},{"$f":"SUM(CSVデータ1!P112,CSVデータ2!P112,CSVデータ3!P112,CSVデータ4!P112)","v":0},{"$f":"SUM(CSVデータ1!Q112,CSVデータ2!Q112,CSVデータ3!Q112,CSVデータ4!Q112)","v":0},{"$f":"SUM(CSVデータ1!R112,CSVデータ2!R112,CSVデータ3!R112,CSVデータ4!R112)","v":0},{"$f":"SUM(CSVデータ1!S112,CSVデータ2!S112,CSVデータ3!S112,CSVデータ4!S112)","v":0},{"$f":"SUM(CSVデータ1!T112,CSVデータ2!T112,CSVデータ3!T112,CSVデータ4!T112)","v":0},{"$f":"SUM(CSVデータ1!U112,CSVデータ2!U112,CSVデータ3!U112,CSVデータ4!U112)","v":0},{"$f":"SUM(CSVデータ1!V112,CSVデータ2!V112,CSVデータ3!V112,CSVデータ4!V112)","v":0},{"$f":"SUM(CSVデータ1!W112,CSVデータ2!W112,CSVデータ3!W112,CSVデータ4!W112)","v":0},{"$f":"SUM(CSVデータ1!X112,CSVデータ2!X112,CSVデータ3!X112,CSVデータ4!X112)","v":0},{"$f":"SUM(CSVデータ1!Y112,CSVデータ2!Y112,CSVデータ3!Y112,CSVデータ4!Y112)","v":0},{"$f":"SUM(CSVデータ1!Z112,CSVデータ2!Z112,CSVデータ3!Z112,CSVデータ4!Z112)","v":0},{"$f":"SUM(CSVデータ1!AA112,CSVデータ2!AA112,CSVデータ3!AA112,CSVデータ4!AA112)","v":0},{"$f":"SUM(CSVデータ1!AB112,CSVデータ2!AB112,CSVデータ3!AB112,CSVデータ4!AB112)","v":0},{"$f":"SUM(CSVデータ1!AC112,CSVデータ2!AC112,CSVデータ3!AC112,CSVデータ4!AC112)","v":0},{"$f":"SUM(CSVデータ1!AD112,CSVデータ2!AD112,CSVデータ3!AD112,CSVデータ4!AD112)","v":0},{"$f":"SUM(CSVデータ1!AE112,CSVデータ2!AE112,CSVデータ3!AE112,CSVデータ4!AE112)","v":0},{"$f":"SUM(CSVデータ1!AF112,CSVデータ2!AF112,CSVデータ3!AF112,CSVデータ4!AF112)","v":0},{"$f":"SUM(CSVデータ1!AG112,CSVデータ2!AG112,CSVデータ3!AG112,CSVデータ4!AG112)","v":0}]
[{"$f":"CSVデータ1!A113","v":"明細部"},{"$f":"CSVデータ1!B113","v":"国"},{"$f":"CSVデータ1!C113","v":118},{"$f":"CSVデータ1!D113","v":"女"},{"$f":"SUM(CSVデータ1!E113,CSVデータ2!E113,CSVデータ3!E113,CSVデータ4!E113)","v":0},{"$f":"SUM(CSVデータ1!F113,CSVデータ2!F113,CSVデータ3!F113,CSVデータ4!F113)","v":0},{"$f":"SUM(CSVデータ1!G113,CSVデータ2!G113,CSVデータ3!G113,CSVデータ4!G113)","v":0},{"$f":"SUM(CSVデータ1!H113,CSVデータ2!H113,CSVデータ3!H113,CSVデータ4!H113)","v":0},{"$f":"SUM(CSVデータ1!I113,CSVデータ2!I113,CSVデータ3!I113,CSVデータ4!I113)","v":0},{"$f":"SUM(CSVデータ1!J113,CSVデータ2!J113,CSVデータ3!J113,CSVデータ4!J113)","v":0},{"$f":"SUM(CSVデータ1!K113,CSVデータ2!K113,CSVデータ3!K113,CSVデータ4!K113)","v":0},{"$f":"SUM(CSVデータ1!L113,CSVデータ2!L113,CSVデータ3!L113,CSVデータ4!L113)","v":0},{"$f":"SUM(CSVデータ1!M113,CSVデータ2!M113,CSVデータ3!M113,CSVデータ4!M113)","v":0},{"$f":"SUM(CSVデータ1!N113,CSVデータ2!N113,CSVデータ3!N113,CSVデータ4!N113)","v":0},{"$f":"SUM(CSVデータ1!O113,CSVデータ2!O113,CSVデータ3!O113,CSVデータ4!O113)","v":0},{"$f":"SUM(CSVデータ1!P113,CSVデータ2!P113,CSVデータ3!P113,CSVデータ4!P113)","v":0},{"$f":"SUM(CSVデータ1!Q113,CSVデータ2!Q113,CSVデータ3!Q113,CSVデータ4!Q113)","v":0},{"$f":"SUM(CSVデータ1!R113,CSVデータ2!R113,CSVデータ3!R113,CSVデータ4!R113)","v":0},{"$f":"SUM(CSVデータ1!S113,CSVデータ2!S113,CSVデータ3!S113,CSVデータ4!S113)","v":0},{"$f":"SUM(CSVデータ1!T113,CSVデータ2!T113,CSVデータ3!T113,CSVデータ4!T113)","v":0},{"$f":"SUM(CSVデータ1!U113,CSVデータ2!U113,CSVデータ3!U113,CSVデータ4!U113)","v":0},{"$f":"SUM(CSVデータ1!V113,CSVデータ2!V113,CSVデータ3!V113,CSVデータ4!V113)","v":0},{"$f":"SUM(CSVデータ1!W113,CSVデータ2!W113,CSVデータ3!W113,CSVデータ4!W113)","v":0},{"$f":"SUM(CSVデータ1!X113,CSVデータ2!X113,CSVデータ3!X113,CSVデータ4!X113)","v":0},{"$f":"SUM(CSVデータ1!Y113,CSVデータ2!Y113,CSVデータ3!Y113,CSVデータ4!Y113)","v":0},{"$f":"SUM(CSVデータ1!Z113,CSVデータ2!Z113,CSVデータ3!Z113,CSVデータ4!Z113)","v":0},{"$f":"SUM(CSVデータ1!AA113,CSVデータ2!AA113,CSVデータ3!AA113,CSVデータ4!AA113)","v":0},{"$f":"SUM(CSVデータ1!AB113,CSVデータ2!AB113,CSVデータ3!AB113,CSVデータ4!AB113)","v":0},{"$f":"SUM(CSVデータ1!AC113,CSVデータ2!AC113,CSVデータ3!AC113,CSVデータ4!AC113)","v":0},{"$f":"SUM(CSVデータ1!AD113,CSVデータ2!AD113,CSVデータ3!AD113,CSVデータ4!AD113)","v":0},{"$f":"SUM(CSVデータ1!AE113,CSVデータ2!AE113,CSVデータ3!AE113,CSVデータ4!AE113)","v":0},{"$f":"SUM(CSVデータ1!AF113,CSVデータ2!AF113,CSVデータ3!AF113,CSVデータ4!AF113)","v":0},{"$f":"SUM(CSVデータ1!AG113,CSVデータ2!AG113,CSVデータ3!AG113,CSVデータ4!AG113)","v":0}]
[{"$f":"CSVデータ1!A114","v":"明細部"},{"$f":"CSVデータ1!B114","v":"国"},{"$f":"CSVデータ1!C114","v":119},{"$f":"CSVデータ1!D114","v":"女"},{"$f":"SUM(CSVデータ1!E114,CSVデータ2!E114,CSVデータ3!E114,CSVデータ4!E114)","v":0},{"$f":"SUM(CSVデータ1!F114,CSVデータ2!F114,CSVデータ3!F114,CSVデータ4!F114)","v":0},{"$f":"SUM(CSVデータ1!G114,CSVデータ2!G114,CSVデータ3!G114,CSVデータ4!G114)","v":0},{"$f":"SUM(CSVデータ1!H114,CSVデータ2!H114,CSVデータ3!H114,CSVデータ4!H114)","v":0},{"$f":"SUM(CSVデータ1!I114,CSVデータ2!I114,CSVデータ3!I114,CSVデータ4!I114)","v":0},{"$f":"SUM(CSVデータ1!J114,CSVデータ2!J114,CSVデータ3!J114,CSVデータ4!J114)","v":0},{"$f":"SUM(CSVデータ1!K114,CSVデータ2!K114,CSVデータ3!K114,CSVデータ4!K114)","v":0},{"$f":"SUM(CSVデータ1!L114,CSVデータ2!L114,CSVデータ3!L114,CSVデータ4!L114)","v":0},{"$f":"SUM(CSVデータ1!M114,CSVデータ2!M114,CSVデータ3!M114,CSVデータ4!M114)","v":0},{"$f":"SUM(CSVデータ1!N114,CSVデータ2!N114,CSVデータ3!N114,CSVデータ4!N114)","v":0},{"$f":"SUM(CSVデータ1!O114,CSVデータ2!O114,CSVデータ3!O114,CSVデータ4!O114)","v":0},{"$f":"SUM(CSVデータ1!P114,CSVデータ2!P114,CSVデータ3!P114,CSVデータ4!P114)","v":0},{"$f":"SUM(CSVデータ1!Q114,CSVデータ2!Q114,CSVデータ3!Q114,CSVデータ4!Q114)","v":0},{"$f":"SUM(CSVデータ1!R114,CSVデータ2!R114,CSVデータ3!R114,CSVデータ4!R114)","v":0},{"$f":"SUM(CSVデータ1!S114,CSVデータ2!S114,CSVデータ3!S114,CSVデータ4!S114)","v":0},{"$f":"SUM(CSVデータ1!T114,CSVデータ2!T114,CSVデータ3!T114,CSVデータ4!T114)","v":0},{"$f":"SUM(CSVデータ1!U114,CSVデータ2!U114,CSVデータ3!U114,CSVデータ4!U114)","v":0},{"$f":"SUM(CSVデータ1!V114,CSVデータ2!V114,CSVデータ3!V114,CSVデータ4!V114)","v":0},{"$f":"SUM(CSVデータ1!W114,CSVデータ2!W114,CSVデータ3!W114,CSVデータ4!W114)","v":0},{"$f":"SUM(CSVデータ1!X114,CSVデータ2!X114,CSVデータ3!X114,CSVデータ4!X114)","v":0},{"$f":"SUM(CSVデータ1!Y114,CSVデータ2!Y114,CSVデータ3!Y114,CSVデータ4!Y114)","v":0},{"$f":"SUM(CSVデータ1!Z114,CSVデータ2!Z114,CSVデータ3!Z114,CSVデータ4!Z114)","v":0},{"$f":"SUM(CSVデータ1!AA114,CSVデータ2!AA114,CSVデータ3!AA114,CSVデータ4!AA114)","v":0},{"$f":"SUM(CSVデータ1!AB114,CSVデータ2!AB114,CSVデータ3!AB114,CSVデータ4!AB114)","v":0},{"$f":"SUM(CSVデータ1!AC114,CSVデータ2!AC114,CSVデータ3!AC114,CSVデータ4!AC114)","v":0},{"$f":"SUM(CSVデータ1!AD114,CSVデータ2!AD114,CSVデータ3!AD114,CSVデータ4!AD114)","v":0},{"$f":"SUM(CSVデータ1!AE114,CSVデータ2!AE114,CSVデータ3!AE114,CSVデータ4!AE114)","v":0},{"$f":"SUM(CSVデータ1!AF114,CSVデータ2!AF114,CSVデータ3!AF114,CSVデータ4!AF114)","v":0},{"$f":"SUM(CSVデータ1!AG114,CSVデータ2!AG114,CSVデータ3!AG114,CSVデータ4!AG114)","v":0}]
[{"$f":"CSVデータ1!A115","v":"明細部"},{"$f":"CSVデータ1!B115","v":"国"},{"$f":"CSVデータ1!C115","v":120},{"$f":"CSVデータ1!D115","v":"女"},{"$f":"SUM(CSVデータ1!E115,CSVデータ2!E115,CSVデータ3!E115,CSVデータ4!E115)","v":0},{"$f":"SUM(CSVデータ1!F115,CSVデータ2!F115,CSVデータ3!F115,CSVデータ4!F115)","v":0},{"$f":"SUM(CSVデータ1!G115,CSVデータ2!G115,CSVデータ3!G115,CSVデータ4!G115)","v":0},{"$f":"SUM(CSVデータ1!H115,CSVデータ2!H115,CSVデータ3!H115,CSVデータ4!H115)","v":0},{"$f":"SUM(CSVデータ1!I115,CSVデータ2!I115,CSVデータ3!I115,CSVデータ4!I115)","v":0},{"$f":"SUM(CSVデータ1!J115,CSVデータ2!J115,CSVデータ3!J115,CSVデータ4!J115)","v":0},{"$f":"SUM(CSVデータ1!K115,CSVデータ2!K115,CSVデータ3!K115,CSVデータ4!K115)","v":0},{"$f":"SUM(CSVデータ1!L115,CSVデータ2!L115,CSVデータ3!L115,CSVデータ4!L115)","v":0},{"$f":"SUM(CSVデータ1!M115,CSVデータ2!M115,CSVデータ3!M115,CSVデータ4!M115)","v":0},{"$f":"SUM(CSVデータ1!N115,CSVデータ2!N115,CSVデータ3!N115,CSVデータ4!N115)","v":0},{"$f":"SUM(CSVデータ1!O115,CSVデータ2!O115,CSVデータ3!O115,CSVデータ4!O115)","v":0},{"$f":"SUM(CSVデータ1!P115,CSVデータ2!P115,CSVデータ3!P115,CSVデータ4!P115)","v":0},{"$f":"SUM(CSVデータ1!Q115,CSVデータ2!Q115,CSVデータ3!Q115,CSVデータ4!Q115)","v":0},{"$f":"SUM(CSVデータ1!R115,CSVデータ2!R115,CSVデータ3!R115,CSVデータ4!R115)","v":0},{"$f":"SUM(CSVデータ1!S115,CSVデータ2!S115,CSVデータ3!S115,CSVデータ4!S115)","v":0},{"$f":"SUM(CSVデータ1!T115,CSVデータ2!T115,CSVデータ3!T115,CSVデータ4!T115)","v":0},{"$f":"SUM(CSVデータ1!U115,CSVデータ2!U115,CSVデータ3!U115,CSVデータ4!U115)","v":0},{"$f":"SUM(CSVデータ1!V115,CSVデータ2!V115,CSVデータ3!V115,CSVデータ4!V115)","v":0},{"$f":"SUM(CSVデータ1!W115,CSVデータ2!W115,CSVデータ3!W115,CSVデータ4!W115)","v":0},{"$f":"SUM(CSVデータ1!X115,CSVデータ2!X115,CSVデータ3!X115,CSVデータ4!X115)","v":0},{"$f":"SUM(CSVデータ1!Y115,CSVデータ2!Y115,CSVデータ3!Y115,CSVデータ4!Y115)","v":0},{"$f":"SUM(CSVデータ1!Z115,CSVデータ2!Z115,CSVデータ3!Z115,CSVデータ4!Z115)","v":0},{"$f":"SUM(CSVデータ1!AA115,CSVデータ2!AA115,CSVデータ3!AA115,CSVデータ4!AA115)","v":0},{"$f":"SUM(CSVデータ1!AB115,CSVデータ2!AB115,CSVデータ3!AB115,CSVデータ4!AB115)","v":0},{"$f":"SUM(CSVデータ1!AC115,CSVデータ2!AC115,CSVデータ3!AC115,CSVデータ4!AC115)","v":0},{"$f":"SUM(CSVデータ1!AD115,CSVデータ2!AD115,CSVデータ3!AD115,CSVデータ4!AD115)","v":0},{"$f":"SUM(CSVデータ1!AE115,CSVデータ2!AE115,CSVデータ3!AE115,CSVデータ4!AE115)","v":0},{"$f":"SUM(CSVデータ1!AF115,CSVデータ2!AF115,CSVデータ3!AF115,CSVデータ4!AF115)","v":0},{"$f":"SUM(CSVデータ1!AG115,CSVデータ2!AG115,CSVデータ3!AG115,CSVデータ4!AG115)","v":0}]
[{"$f":"CSVデータ1!A116","v":"明細部"},{"$f":"CSVデータ1!B116","v":"県"},{"$f":"CSVデータ1!C116","v":65},{"$f":"CSVデータ1!D116","v":"男"},{"$f":"SUM(CSVデータ1!E116,CSVデータ2!E116,CSVデータ3!E116,CSVデータ4!E116)","v":0},{"$f":"SUM(CSVデータ1!F116,CSVデータ2!F116,CSVデータ3!F116,CSVデータ4!F116)","v":0},{"$f":"SUM(CSVデータ1!G116,CSVデータ2!G116,CSVデータ3!G116,CSVデータ4!G116)","v":0},{"$f":"SUM(CSVデータ1!H116,CSVデータ2!H116,CSVデータ3!H116,CSVデータ4!H116)","v":0},{"$f":"SUM(CSVデータ1!I116,CSVデータ2!I116,CSVデータ3!I116,CSVデータ4!I116)","v":0},{"$f":"SUM(CSVデータ1!J116,CSVデータ2!J116,CSVデータ3!J116,CSVデータ4!J116)","v":0},{"$f":"SUM(CSVデータ1!K116,CSVデータ2!K116,CSVデータ3!K116,CSVデータ4!K116)","v":0},{"$f":"SUM(CSVデータ1!L116,CSVデータ2!L116,CSVデータ3!L116,CSVデータ4!L116)","v":0},{"$f":"SUM(CSVデータ1!M116,CSVデータ2!M116,CSVデータ3!M116,CSVデータ4!M116)","v":0},{"$f":"SUM(CSVデータ1!N116,CSVデータ2!N116,CSVデータ3!N116,CSVデータ4!N116)","v":0},{"$f":"SUM(CSVデータ1!O116,CSVデータ2!O116,CSVデータ3!O116,CSVデータ4!O116)","v":0},{"$f":"SUM(CSVデータ1!P116,CSVデータ2!P116,CSVデータ3!P116,CSVデータ4!P116)","v":0},{"$f":"SUM(CSVデータ1!Q116,CSVデータ2!Q116,CSVデータ3!Q116,CSVデータ4!Q116)","v":0},{"$f":"SUM(CSVデータ1!R116,CSVデータ2!R116,CSVデータ3!R116,CSVデータ4!R116)","v":0},{"$f":"SUM(CSVデータ1!S116,CSVデータ2!S116,CSVデータ3!S116,CSVデータ4!S116)","v":0},{"$f":"SUM(CSVデータ1!T116,CSVデータ2!T116,CSVデータ3!T116,CSVデータ4!T116)","v":0},{"$f":"SUM(CSVデータ1!U116,CSVデータ2!U116,CSVデータ3!U116,CSVデータ4!U116)","v":0},{"$f":"SUM(CSVデータ1!V116,CSVデータ2!V116,CSVデータ3!V116,CSVデータ4!V116)","v":0},{"$f":"SUM(CSVデータ1!W116,CSVデータ2!W116,CSVデータ3!W116,CSVデータ4!W116)","v":0},{"$f":"SUM(CSVデータ1!X116,CSVデータ2!X116,CSVデータ3!X116,CSVデータ4!X116)","v":0},{"$f":"SUM(CSVデータ1!Y116,CSVデータ2!Y116,CSVデータ3!Y116,CSVデータ4!Y116)","v":0},{"$f":"SUM(CSVデータ1!Z116,CSVデータ2!Z116,CSVデータ3!Z116,CSVデータ4!Z116)","v":0},{"$f":"SUM(CSVデータ1!AA116,CSVデータ2!AA116,CSVデータ3!AA116,CSVデータ4!AA116)","v":0},{"$f":"SUM(CSVデータ1!AB116,CSVデータ2!AB116,CSVデータ3!AB116,CSVデータ4!AB116)","v":0},{"$f":"SUM(CSVデータ1!AC116,CSVデータ2!AC116,CSVデータ3!AC116,CSVデータ4!AC116)","v":0},{"$f":"SUM(CSVデータ1!AD116,CSVデータ2!AD116,CSVデータ3!AD116,CSVデータ4!AD116)","v":0},{"$f":"SUM(CSVデータ1!AE116,CSVデータ2!AE116,CSVデータ3!AE116,CSVデータ4!AE116)","v":0},{"$f":"SUM(CSVデータ1!AF116,CSVデータ2!AF116,CSVデータ3!AF116,CSVデータ4!AF116)","v":0},{"$f":"SUM(CSVデータ1!AG116,CSVデータ2!AG116,CSVデータ3!AG116,CSVデータ4!AG116)","v":0}]
[{"$f":"CSVデータ1!A117","v":"明細部"},{"$f":"CSVデータ1!B117","v":"県"},{"$f":"CSVデータ1!C117","v":66},{"$f":"CSVデータ1!D117","v":"男"},{"$f":"SUM(CSVデータ1!E117,CSVデータ2!E117,CSVデータ3!E117,CSVデータ4!E117)","v":0},{"$f":"SUM(CSVデータ1!F117,CSVデータ2!F117,CSVデータ3!F117,CSVデータ4!F117)","v":0},{"$f":"SUM(CSVデータ1!G117,CSVデータ2!G117,CSVデータ3!G117,CSVデータ4!G117)","v":0},{"$f":"SUM(CSVデータ1!H117,CSVデータ2!H117,CSVデータ3!H117,CSVデータ4!H117)","v":0},{"$f":"SUM(CSVデータ1!I117,CSVデータ2!I117,CSVデータ3!I117,CSVデータ4!I117)","v":0},{"$f":"SUM(CSVデータ1!J117,CSVデータ2!J117,CSVデータ3!J117,CSVデータ4!J117)","v":0},{"$f":"SUM(CSVデータ1!K117,CSVデータ2!K117,CSVデータ3!K117,CSVデータ4!K117)","v":0},{"$f":"SUM(CSVデータ1!L117,CSVデータ2!L117,CSVデータ3!L117,CSVデータ4!L117)","v":0},{"$f":"SUM(CSVデータ1!M117,CSVデータ2!M117,CSVデータ3!M117,CSVデータ4!M117)","v":0},{"$f":"SUM(CSVデータ1!N117,CSVデータ2!N117,CSVデータ3!N117,CSVデータ4!N117)","v":0},{"$f":"SUM(CSVデータ1!O117,CSVデータ2!O117,CSVデータ3!O117,CSVデータ4!O117)","v":0},{"$f":"SUM(CSVデータ1!P117,CSVデータ2!P117,CSVデータ3!P117,CSVデータ4!P117)","v":0},{"$f":"SUM(CSVデータ1!Q117,CSVデータ2!Q117,CSVデータ3!Q117,CSVデータ4!Q117)","v":0},{"$f":"SUM(CSVデータ1!R117,CSVデータ2!R117,CSVデータ3!R117,CSVデータ4!R117)","v":0},{"$f":"SUM(CSVデータ1!S117,CSVデータ2!S117,CSVデータ3!S117,CSVデータ4!S117)","v":0},{"$f":"SUM(CSVデータ1!T117,CSVデータ2!T117,CSVデータ3!T117,CSVデータ4!T117)","v":0},{"$f":"SUM(CSVデータ1!U117,CSVデータ2!U117,CSVデータ3!U117,CSVデータ4!U117)","v":0},{"$f":"SUM(CSVデータ1!V117,CSVデータ2!V117,CSVデータ3!V117,CSVデータ4!V117)","v":0},{"$f":"SUM(CSVデータ1!W117,CSVデータ2!W117,CSVデータ3!W117,CSVデータ4!W117)","v":0},{"$f":"SUM(CSVデータ1!X117,CSVデータ2!X117,CSVデータ3!X117,CSVデータ4!X117)","v":0},{"$f":"SUM(CSVデータ1!Y117,CSVデータ2!Y117,CSVデータ3!Y117,CSVデータ4!Y117)","v":0},{"$f":"SUM(CSVデータ1!Z117,CSVデータ2!Z117,CSVデータ3!Z117,CSVデータ4!Z117)","v":0},{"$f":"SUM(CSVデータ1!AA117,CSVデータ2!AA117,CSVデータ3!AA117,CSVデータ4!AA117)","v":0},{"$f":"SUM(CSVデータ1!AB117,CSVデータ2!AB117,CSVデータ3!AB117,CSVデータ4!AB117)","v":0},{"$f":"SUM(CSVデータ1!AC117,CSVデータ2!AC117,CSVデータ3!AC117,CSVデータ4!AC117)","v":0},{"$f":"SUM(CSVデータ1!AD117,CSVデータ2!AD117,CSVデータ3!AD117,CSVデータ4!AD117)","v":0},{"$f":"SUM(CSVデータ1!AE117,CSVデータ2!AE117,CSVデータ3!AE117,CSVデータ4!AE117)","v":0},{"$f":"SUM(CSVデータ1!AF117,CSVデータ2!AF117,CSVデータ3!AF117,CSVデータ4!AF117)","v":0},{"$f":"SUM(CSVデータ1!AG117,CSVデータ2!AG117,CSVデータ3!AG117,CSVデータ4!AG117)","v":0}]
[{"$f":"CSVデータ1!A118","v":"明細部"},{"$f":"CSVデータ1!B118","v":"県"},{"$f":"CSVデータ1!C118","v":67},{"$f":"CSVデータ1!D118","v":"男"},{"$f":"SUM(CSVデータ1!E118,CSVデータ2!E118,CSVデータ3!E118,CSVデータ4!E118)","v":0},{"$f":"SUM(CSVデータ1!F118,CSVデータ2!F118,CSVデータ3!F118,CSVデータ4!F118)","v":0},{"$f":"SUM(CSVデータ1!G118,CSVデータ2!G118,CSVデータ3!G118,CSVデータ4!G118)","v":0},{"$f":"SUM(CSVデータ1!H118,CSVデータ2!H118,CSVデータ3!H118,CSVデータ4!H118)","v":0},{"$f":"SUM(CSVデータ1!I118,CSVデータ2!I118,CSVデータ3!I118,CSVデータ4!I118)","v":0},{"$f":"SUM(CSVデータ1!J118,CSVデータ2!J118,CSVデータ3!J118,CSVデータ4!J118)","v":0},{"$f":"SUM(CSVデータ1!K118,CSVデータ2!K118,CSVデータ3!K118,CSVデータ4!K118)","v":0},{"$f":"SUM(CSVデータ1!L118,CSVデータ2!L118,CSVデータ3!L118,CSVデータ4!L118)","v":0},{"$f":"SUM(CSVデータ1!M118,CSVデータ2!M118,CSVデータ3!M118,CSVデータ4!M118)","v":0},{"$f":"SUM(CSVデータ1!N118,CSVデータ2!N118,CSVデータ3!N118,CSVデータ4!N118)","v":0},{"$f":"SUM(CSVデータ1!O118,CSVデータ2!O118,CSVデータ3!O118,CSVデータ4!O118)","v":0},{"$f":"SUM(CSVデータ1!P118,CSVデータ2!P118,CSVデータ3!P118,CSVデータ4!P118)","v":0},{"$f":"SUM(CSVデータ1!Q118,CSVデータ2!Q118,CSVデータ3!Q118,CSVデータ4!Q118)","v":0},{"$f":"SUM(CSVデータ1!R118,CSVデータ2!R118,CSVデータ3!R118,CSVデータ4!R118)","v":0},{"$f":"SUM(CSVデータ1!S118,CSVデータ2!S118,CSVデータ3!S118,CSVデータ4!S118)","v":0},{"$f":"SUM(CSVデータ1!T118,CSVデータ2!T118,CSVデータ3!T118,CSVデータ4!T118)","v":0},{"$f":"SUM(CSVデータ1!U118,CSVデータ2!U118,CSVデータ3!U118,CSVデータ4!U118)","v":0},{"$f":"SUM(CSVデータ1!V118,CSVデータ2!V118,CSVデータ3!V118,CSVデータ4!V118)","v":0},{"$f":"SUM(CSVデータ1!W118,CSVデータ2!W118,CSVデータ3!W118,CSVデータ4!W118)","v":0},{"$f":"SUM(CSVデータ1!X118,CSVデータ2!X118,CSVデータ3!X118,CSVデータ4!X118)","v":0},{"$f":"SUM(CSVデータ1!Y118,CSVデータ2!Y118,CSVデータ3!Y118,CSVデータ4!Y118)","v":0},{"$f":"SUM(CSVデータ1!Z118,CSVデータ2!Z118,CSVデータ3!Z118,CSVデータ4!Z118)","v":0},{"$f":"SUM(CSVデータ1!AA118,CSVデータ2!AA118,CSVデータ3!AA118,CSVデータ4!AA118)","v":0},{"$f":"SUM(CSVデータ1!AB118,CSVデータ2!AB118,CSVデータ3!AB118,CSVデータ4!AB118)","v":0},{"$f":"SUM(CSVデータ1!AC118,CSVデータ2!AC118,CSVデータ3!AC118,CSVデータ4!AC118)","v":0},{"$f":"SUM(CSVデータ1!AD118,CSVデータ2!AD118,CSVデータ3!AD118,CSVデータ4!AD118)","v":0},{"$f":"SUM(CSVデータ1!AE118,CSVデータ2!AE118,CSVデータ3!AE118,CSVデータ4!AE118)","v":0},{"$f":"SUM(CSVデータ1!AF118,CSVデータ2!AF118,CSVデータ3!AF118,CSVデータ4!AF118)","v":0},{"$f":"SUM(CSVデータ1!AG118,CSVデータ2!AG118,CSVデータ3!AG118,CSVデータ4!AG118)","v":0}]
[{"$f":"CSVデータ1!A119","v":"明細部"},{"$f":"CSVデータ1!B119","v":"県"},{"$f":"CSVデータ1!C119","v":68},{"$f":"CSVデータ1!D119","v":"男"},{"$f":"SUM(CSVデータ1!E119,CSVデータ2!E119,CSVデータ3!E119,CSVデータ4!E119)","v":0},{"$f":"SUM(CSVデータ1!F119,CSVデータ2!F119,CSVデータ3!F119,CSVデータ4!F119)","v":0},{"$f":"SUM(CSVデータ1!G119,CSVデータ2!G119,CSVデータ3!G119,CSVデータ4!G119)","v":0},{"$f":"SUM(CSVデータ1!H119,CSVデータ2!H119,CSVデータ3!H119,CSVデータ4!H119)","v":0},{"$f":"SUM(CSVデータ1!I119,CSVデータ2!I119,CSVデータ3!I119,CSVデータ4!I119)","v":0},{"$f":"SUM(CSVデータ1!J119,CSVデータ2!J119,CSVデータ3!J119,CSVデータ4!J119)","v":0},{"$f":"SUM(CSVデータ1!K119,CSVデータ2!K119,CSVデータ3!K119,CSVデータ4!K119)","v":0},{"$f":"SUM(CSVデータ1!L119,CSVデータ2!L119,CSVデータ3!L119,CSVデータ4!L119)","v":0},{"$f":"SUM(CSVデータ1!M119,CSVデータ2!M119,CSVデータ3!M119,CSVデータ4!M119)","v":0},{"$f":"SUM(CSVデータ1!N119,CSVデータ2!N119,CSVデータ3!N119,CSVデータ4!N119)","v":0},{"$f":"SUM(CSVデータ1!O119,CSVデータ2!O119,CSVデータ3!O119,CSVデータ4!O119)","v":0},{"$f":"SUM(CSVデータ1!P119,CSVデータ2!P119,CSVデータ3!P119,CSVデータ4!P119)","v":0},{"$f":"SUM(CSVデータ1!Q119,CSVデータ2!Q119,CSVデータ3!Q119,CSVデータ4!Q119)","v":0},{"$f":"SUM(CSVデータ1!R119,CSVデータ2!R119,CSVデータ3!R119,CSVデータ4!R119)","v":0},{"$f":"SUM(CSVデータ1!S119,CSVデータ2!S119,CSVデータ3!S119,CSVデータ4!S119)","v":0},{"$f":"SUM(CSVデータ1!T119,CSVデータ2!T119,CSVデータ3!T119,CSVデータ4!T119)","v":0},{"$f":"SUM(CSVデータ1!U119,CSVデータ2!U119,CSVデータ3!U119,CSVデータ4!U119)","v":0},{"$f":"SUM(CSVデータ1!V119,CSVデータ2!V119,CSVデータ3!V119,CSVデータ4!V119)","v":0},{"$f":"SUM(CSVデータ1!W119,CSVデータ2!W119,CSVデータ3!W119,CSVデータ4!W119)","v":0},{"$f":"SUM(CSVデータ1!X119,CSVデータ2!X119,CSVデータ3!X119,CSVデータ4!X119)","v":0},{"$f":"SUM(CSVデータ1!Y119,CSVデータ2!Y119,CSVデータ3!Y119,CSVデータ4!Y119)","v":0},{"$f":"SUM(CSVデータ1!Z119,CSVデータ2!Z119,CSVデータ3!Z119,CSVデータ4!Z119)","v":0},{"$f":"SUM(CSVデータ1!AA119,CSVデータ2!AA119,CSVデータ3!AA119,CSVデータ4!AA119)","v":0},{"$f":"SUM(CSVデータ1!AB119,CSVデータ2!AB119,CSVデータ3!AB119,CSVデータ4!AB119)","v":0},{"$f":"SUM(CSVデータ1!AC119,CSVデータ2!AC119,CSVデータ3!AC119,CSVデータ4!AC119)","v":0},{"$f":"SUM(CSVデータ1!AD119,CSVデータ2!AD119,CSVデータ3!AD119,CSVデータ4!AD119)","v":0},{"$f":"SUM(CSVデータ1!AE119,CSVデータ2!AE119,CSVデータ3!AE119,CSVデータ4!AE119)","v":0},{"$f":"SUM(CSVデータ1!AF119,CSVデータ2!AF119,CSVデータ3!AF119,CSVデータ4!AF119)","v":0},{"$f":"SUM(CSVデータ1!AG119,CSVデータ2!AG119,CSVデータ3!AG119,CSVデータ4!AG119)","v":0}]
[{"$f":"CSVデータ1!A120","v":"明細部"},{"$f":"CSVデータ1!B120","v":"県"},{"$f":"CSVデータ1!C120","v":69},{"$f":"CSVデータ1!D120","v":"男"},{"$f":"SUM(CSVデータ1!E120,CSVデータ2!E120,CSVデータ3!E120,CSVデータ4!E120)","v":0},{"$f":"SUM(CSVデータ1!F120,CSVデータ2!F120,CSVデータ3!F120,CSVデータ4!F120)","v":0},{"$f":"SUM(CSVデータ1!G120,CSVデータ2!G120,CSVデータ3!G120,CSVデータ4!G120)","v":0},{"$f":"SUM(CSVデータ1!H120,CSVデータ2!H120,CSVデータ3!H120,CSVデータ4!H120)","v":0},{"$f":"SUM(CSVデータ1!I120,CSVデータ2!I120,CSVデータ3!I120,CSVデータ4!I120)","v":0},{"$f":"SUM(CSVデータ1!J120,CSVデータ2!J120,CSVデータ3!J120,CSVデータ4!J120)","v":0},{"$f":"SUM(CSVデータ1!K120,CSVデータ2!K120,CSVデータ3!K120,CSVデータ4!K120)","v":0},{"$f":"SUM(CSVデータ1!L120,CSVデータ2!L120,CSVデータ3!L120,CSVデータ4!L120)","v":0},{"$f":"SUM(CSVデータ1!M120,CSVデータ2!M120,CSVデータ3!M120,CSVデータ4!M120)","v":0},{"$f":"SUM(CSVデータ1!N120,CSVデータ2!N120,CSVデータ3!N120,CSVデータ4!N120)","v":0},{"$f":"SUM(CSVデータ1!O120,CSVデータ2!O120,CSVデータ3!O120,CSVデータ4!O120)","v":0},{"$f":"SUM(CSVデータ1!P120,CSVデータ2!P120,CSVデータ3!P120,CSVデータ4!P120)","v":0},{"$f":"SUM(CSVデータ1!Q120,CSVデータ2!Q120,CSVデータ3!Q120,CSVデータ4!Q120)","v":0},{"$f":"SUM(CSVデータ1!R120,CSVデータ2!R120,CSVデータ3!R120,CSVデータ4!R120)","v":0},{"$f":"SUM(CSVデータ1!S120,CSVデータ2!S120,CSVデータ3!S120,CSVデータ4!S120)","v":0},{"$f":"SUM(CSVデータ1!T120,CSVデータ2!T120,CSVデータ3!T120,CSVデータ4!T120)","v":0},{"$f":"SUM(CSVデータ1!U120,CSVデータ2!U120,CSVデータ3!U120,CSVデータ4!U120)","v":0},{"$f":"SUM(CSVデータ1!V120,CSVデータ2!V120,CSVデータ3!V120,CSVデータ4!V120)","v":0},{"$f":"SUM(CSVデータ1!W120,CSVデータ2!W120,CSVデータ3!W120,CSVデータ4!W120)","v":0},{"$f":"SUM(CSVデータ1!X120,CSVデータ2!X120,CSVデータ3!X120,CSVデータ4!X120)","v":0},{"$f":"SUM(CSVデータ1!Y120,CSVデータ2!Y120,CSVデータ3!Y120,CSVデータ4!Y120)","v":0},{"$f":"SUM(CSVデータ1!Z120,CSVデータ2!Z120,CSVデータ3!Z120,CSVデータ4!Z120)","v":0},{"$f":"SUM(CSVデータ1!AA120,CSVデータ2!AA120,CSVデータ3!AA120,CSVデータ4!AA120)","v":0},{"$f":"SUM(CSVデータ1!AB120,CSVデータ2!AB120,CSVデータ3!AB120,CSVデータ4!AB120)","v":0},{"$f":"SUM(CSVデータ1!AC120,CSVデータ2!AC120,CSVデータ3!AC120,CSVデータ4!AC120)","v":0},{"$f":"SUM(CSVデータ1!AD120,CSVデータ2!AD120,CSVデータ3!AD120,CSVデータ4!AD120)","v":0},{"$f":"SUM(CSVデータ1!AE120,CSVデータ2!AE120,CSVデータ3!AE120,CSVデータ4!AE120)","v":0},{"$f":"SUM(CSVデータ1!AF120,CSVデータ2!AF120,CSVデータ3!AF120,CSVデータ4!AF120)","v":0},{"$f":"SUM(CSVデータ1!AG120,CSVデータ2!AG120,CSVデータ3!AG120,CSVデータ4!AG120)","v":0}]
[{"$f":"CSVデータ1!A121","v":"明細部"},{"$f":"CSVデータ1!B121","v":"県"},{"$f":"CSVデータ1!C121","v":70},{"$f":"CSVデータ1!D121","v":"男"},{"$f":"SUM(CSVデータ1!E121,CSVデータ2!E121,CSVデータ3!E121,CSVデータ4!E121)","v":0},{"$f":"SUM(CSVデータ1!F121,CSVデータ2!F121,CSVデータ3!F121,CSVデータ4!F121)","v":0},{"$f":"SUM(CSVデータ1!G121,CSVデータ2!G121,CSVデータ3!G121,CSVデータ4!G121)","v":0},{"$f":"SUM(CSVデータ1!H121,CSVデータ2!H121,CSVデータ3!H121,CSVデータ4!H121)","v":0},{"$f":"SUM(CSVデータ1!I121,CSVデータ2!I121,CSVデータ3!I121,CSVデータ4!I121)","v":0},{"$f":"SUM(CSVデータ1!J121,CSVデータ2!J121,CSVデータ3!J121,CSVデータ4!J121)","v":0},{"$f":"SUM(CSVデータ1!K121,CSVデータ2!K121,CSVデータ3!K121,CSVデータ4!K121)","v":0},{"$f":"SUM(CSVデータ1!L121,CSVデータ2!L121,CSVデータ3!L121,CSVデータ4!L121)","v":0},{"$f":"SUM(CSVデータ1!M121,CSVデータ2!M121,CSVデータ3!M121,CSVデータ4!M121)","v":0},{"$f":"SUM(CSVデータ1!N121,CSVデータ2!N121,CSVデータ3!N121,CSVデータ4!N121)","v":0},{"$f":"SUM(CSVデータ1!O121,CSVデータ2!O121,CSVデータ3!O121,CSVデータ4!O121)","v":0},{"$f":"SUM(CSVデータ1!P121,CSVデータ2!P121,CSVデータ3!P121,CSVデータ4!P121)","v":0},{"$f":"SUM(CSVデータ1!Q121,CSVデータ2!Q121,CSVデータ3!Q121,CSVデータ4!Q121)","v":0},{"$f":"SUM(CSVデータ1!R121,CSVデータ2!R121,CSVデータ3!R121,CSVデータ4!R121)","v":0},{"$f":"SUM(CSVデータ1!S121,CSVデータ2!S121,CSVデータ3!S121,CSVデータ4!S121)","v":0},{"$f":"SUM(CSVデータ1!T121,CSVデータ2!T121,CSVデータ3!T121,CSVデータ4!T121)","v":0},{"$f":"SUM(CSVデータ1!U121,CSVデータ2!U121,CSVデータ3!U121,CSVデータ4!U121)","v":0},{"$f":"SUM(CSVデータ1!V121,CSVデータ2!V121,CSVデータ3!V121,CSVデータ4!V121)","v":0},{"$f":"SUM(CSVデータ1!W121,CSVデータ2!W121,CSVデータ3!W121,CSVデータ4!W121)","v":0},{"$f":"SUM(CSVデータ1!X121,CSVデータ2!X121,CSVデータ3!X121,CSVデータ4!X121)","v":0},{"$f":"SUM(CSVデータ1!Y121,CSVデータ2!Y121,CSVデータ3!Y121,CSVデータ4!Y121)","v":0},{"$f":"SUM(CSVデータ1!Z121,CSVデータ2!Z121,CSVデータ3!Z121,CSVデータ4!Z121)","v":0},{"$f":"SUM(CSVデータ1!AA121,CSVデータ2!AA121,CSVデータ3!AA121,CSVデータ4!AA121)","v":0},{"$f":"SUM(CSVデータ1!AB121,CSVデータ2!AB121,CSVデータ3!AB121,CSVデータ4!AB121)","v":0},{"$f":"SUM(CSVデータ1!AC121,CSVデータ2!AC121,CSVデータ3!AC121,CSVデータ4!AC121)","v":0},{"$f":"SUM(CSVデータ1!AD121,CSVデータ2!AD121,CSVデータ3!AD121,CSVデータ4!AD121)","v":0},{"$f":"SUM(CSVデータ1!AE121,CSVデータ2!AE121,CSVデータ3!AE121,CSVデータ4!AE121)","v":0},{"$f":"SUM(CSVデータ1!AF121,CSVデータ2!AF121,CSVデータ3!AF121,CSVデータ4!AF121)","v":0},{"$f":"SUM(CSVデータ1!AG121,CSVデータ2!AG121,CSVデータ3!AG121,CSVデータ4!AG121)","v":0}]
[{"$f":"CSVデータ1!A122","v":"明細部"},{"$f":"CSVデータ1!B122","v":"県"},{"$f":"CSVデータ1!C122","v":71},{"$f":"CSVデータ1!D122","v":"男"},{"$f":"SUM(CSVデータ1!E122,CSVデータ2!E122,CSVデータ3!E122,CSVデータ4!E122)","v":0},{"$f":"SUM(CSVデータ1!F122,CSVデータ2!F122,CSVデータ3!F122,CSVデータ4!F122)","v":0},{"$f":"SUM(CSVデータ1!G122,CSVデータ2!G122,CSVデータ3!G122,CSVデータ4!G122)","v":0},{"$f":"SUM(CSVデータ1!H122,CSVデータ2!H122,CSVデータ3!H122,CSVデータ4!H122)","v":0},{"$f":"SUM(CSVデータ1!I122,CSVデータ2!I122,CSVデータ3!I122,CSVデータ4!I122)","v":0},{"$f":"SUM(CSVデータ1!J122,CSVデータ2!J122,CSVデータ3!J122,CSVデータ4!J122)","v":0},{"$f":"SUM(CSVデータ1!K122,CSVデータ2!K122,CSVデータ3!K122,CSVデータ4!K122)","v":0},{"$f":"SUM(CSVデータ1!L122,CSVデータ2!L122,CSVデータ3!L122,CSVデータ4!L122)","v":0},{"$f":"SUM(CSVデータ1!M122,CSVデータ2!M122,CSVデータ3!M122,CSVデータ4!M122)","v":0},{"$f":"SUM(CSVデータ1!N122,CSVデータ2!N122,CSVデータ3!N122,CSVデータ4!N122)","v":0},{"$f":"SUM(CSVデータ1!O122,CSVデータ2!O122,CSVデータ3!O122,CSVデータ4!O122)","v":0},{"$f":"SUM(CSVデータ1!P122,CSVデータ2!P122,CSVデータ3!P122,CSVデータ4!P122)","v":0},{"$f":"SUM(CSVデータ1!Q122,CSVデータ2!Q122,CSVデータ3!Q122,CSVデータ4!Q122)","v":0},{"$f":"SUM(CSVデータ1!R122,CSVデータ2!R122,CSVデータ3!R122,CSVデータ4!R122)","v":0},{"$f":"SUM(CSVデータ1!S122,CSVデータ2!S122,CSVデータ3!S122,CSVデータ4!S122)","v":0},{"$f":"SUM(CSVデータ1!T122,CSVデータ2!T122,CSVデータ3!T122,CSVデータ4!T122)","v":0},{"$f":"SUM(CSVデータ1!U122,CSVデータ2!U122,CSVデータ3!U122,CSVデータ4!U122)","v":0},{"$f":"SUM(CSVデータ1!V122,CSVデータ2!V122,CSVデータ3!V122,CSVデータ4!V122)","v":0},{"$f":"SUM(CSVデータ1!W122,CSVデータ2!W122,CSVデータ3!W122,CSVデータ4!W122)","v":0},{"$f":"SUM(CSVデータ1!X122,CSVデータ2!X122,CSVデータ3!X122,CSVデータ4!X122)","v":0},{"$f":"SUM(CSVデータ1!Y122,CSVデータ2!Y122,CSVデータ3!Y122,CSVデータ4!Y122)","v":0},{"$f":"SUM(CSVデータ1!Z122,CSVデータ2!Z122,CSVデータ3!Z122,CSVデータ4!Z122)","v":0},{"$f":"SUM(CSVデータ1!AA122,CSVデータ2!AA122,CSVデータ3!AA122,CSVデータ4!AA122)","v":0},{"$f":"SUM(CSVデータ1!AB122,CSVデータ2!AB122,CSVデータ3!AB122,CSVデータ4!AB122)","v":0},{"$f":"SUM(CSVデータ1!AC122,CSVデータ2!AC122,CSVデータ3!AC122,CSVデータ4!AC122)","v":0},{"$f":"SUM(CSVデータ1!AD122,CSVデータ2!AD122,CSVデータ3!AD122,CSVデータ4!AD122)","v":0},{"$f":"SUM(CSVデータ1!AE122,CSVデータ2!AE122,CSVデータ3!AE122,CSVデータ4!AE122)","v":0},{"$f":"SUM(CSVデータ1!AF122,CSVデータ2!AF122,CSVデータ3!AF122,CSVデータ4!AF122)","v":0},{"$f":"SUM(CSVデータ1!AG122,CSVデータ2!AG122,CSVデータ3!AG122,CSVデータ4!AG122)","v":0}]
[{"$f":"CSVデータ1!A123","v":"明細部"},{"$f":"CSVデータ1!B123","v":"県"},{"$f":"CSVデータ1!C123","v":72},{"$f":"CSVデータ1!D123","v":"男"},{"$f":"SUM(CSVデータ1!E123,CSVデータ2!E123,CSVデータ3!E123,CSVデータ4!E123)","v":0},{"$f":"SUM(CSVデータ1!F123,CSVデータ2!F123,CSVデータ3!F123,CSVデータ4!F123)","v":0},{"$f":"SUM(CSVデータ1!G123,CSVデータ2!G123,CSVデータ3!G123,CSVデータ4!G123)","v":0},{"$f":"SUM(CSVデータ1!H123,CSVデータ2!H123,CSVデータ3!H123,CSVデータ4!H123)","v":0},{"$f":"SUM(CSVデータ1!I123,CSVデータ2!I123,CSVデータ3!I123,CSVデータ4!I123)","v":0},{"$f":"SUM(CSVデータ1!J123,CSVデータ2!J123,CSVデータ3!J123,CSVデータ4!J123)","v":0},{"$f":"SUM(CSVデータ1!K123,CSVデータ2!K123,CSVデータ3!K123,CSVデータ4!K123)","v":0},{"$f":"SUM(CSVデータ1!L123,CSVデータ2!L123,CSVデータ3!L123,CSVデータ4!L123)","v":0},{"$f":"SUM(CSVデータ1!M123,CSVデータ2!M123,CSVデータ3!M123,CSVデータ4!M123)","v":0},{"$f":"SUM(CSVデータ1!N123,CSVデータ2!N123,CSVデータ3!N123,CSVデータ4!N123)","v":0},{"$f":"SUM(CSVデータ1!O123,CSVデータ2!O123,CSVデータ3!O123,CSVデータ4!O123)","v":0},{"$f":"SUM(CSVデータ1!P123,CSVデータ2!P123,CSVデータ3!P123,CSVデータ4!P123)","v":0},{"$f":"SUM(CSVデータ1!Q123,CSVデータ2!Q123,CSVデータ3!Q123,CSVデータ4!Q123)","v":0},{"$f":"SUM(CSVデータ1!R123,CSVデータ2!R123,CSVデータ3!R123,CSVデータ4!R123)","v":0},{"$f":"SUM(CSVデータ1!S123,CSVデータ2!S123,CSVデータ3!S123,CSVデータ4!S123)","v":0},{"$f":"SUM(CSVデータ1!T123,CSVデータ2!T123,CSVデータ3!T123,CSVデータ4!T123)","v":0},{"$f":"SUM(CSVデータ1!U123,CSVデータ2!U123,CSVデータ3!U123,CSVデータ4!U123)","v":0},{"$f":"SUM(CSVデータ1!V123,CSVデータ2!V123,CSVデータ3!V123,CSVデータ4!V123)","v":0},{"$f":"SUM(CSVデータ1!W123,CSVデータ2!W123,CSVデータ3!W123,CSVデータ4!W123)","v":0},{"$f":"SUM(CSVデータ1!X123,CSVデータ2!X123,CSVデータ3!X123,CSVデータ4!X123)","v":0},{"$f":"SUM(CSVデータ1!Y123,CSVデータ2!Y123,CSVデータ3!Y123,CSVデータ4!Y123)","v":0},{"$f":"SUM(CSVデータ1!Z123,CSVデータ2!Z123,CSVデータ3!Z123,CSVデータ4!Z123)","v":0},{"$f":"SUM(CSVデータ1!AA123,CSVデータ2!AA123,CSVデータ3!AA123,CSVデータ4!AA123)","v":0},{"$f":"SUM(CSVデータ1!AB123,CSVデータ2!AB123,CSVデータ3!AB123,CSVデータ4!AB123)","v":0},{"$f":"SUM(CSVデータ1!AC123,CSVデータ2!AC123,CSVデータ3!AC123,CSVデータ4!AC123)","v":0},{"$f":"SUM(CSVデータ1!AD123,CSVデータ2!AD123,CSVデータ3!AD123,CSVデータ4!AD123)","v":0},{"$f":"SUM(CSVデータ1!AE123,CSVデータ2!AE123,CSVデータ3!AE123,CSVデータ4!AE123)","v":0},{"$f":"SUM(CSVデータ1!AF123,CSVデータ2!AF123,CSVデータ3!AF123,CSVデータ4!AF123)","v":0},{"$f":"SUM(CSVデータ1!AG123,CSVデータ2!AG123,CSVデータ3!AG123,CSVデータ4!AG123)","v":0}]
[{"$f":"CSVデータ1!A124","v":"明細部"},{"$f":"CSVデータ1!B124","v":"県"},{"$f":"CSVデータ1!C124","v":73},{"$f":"CSVデータ1!D124","v":"男"},{"$f":"SUM(CSVデータ1!E124,CSVデータ2!E124,CSVデータ3!E124,CSVデータ4!E124)","v":0},{"$f":"SUM(CSVデータ1!F124,CSVデータ2!F124,CSVデータ3!F124,CSVデータ4!F124)","v":0},{"$f":"SUM(CSVデータ1!G124,CSVデータ2!G124,CSVデータ3!G124,CSVデータ4!G124)","v":0},{"$f":"SUM(CSVデータ1!H124,CSVデータ2!H124,CSVデータ3!H124,CSVデータ4!H124)","v":0},{"$f":"SUM(CSVデータ1!I124,CSVデータ2!I124,CSVデータ3!I124,CSVデータ4!I124)","v":0},{"$f":"SUM(CSVデータ1!J124,CSVデータ2!J124,CSVデータ3!J124,CSVデータ4!J124)","v":0},{"$f":"SUM(CSVデータ1!K124,CSVデータ2!K124,CSVデータ3!K124,CSVデータ4!K124)","v":0},{"$f":"SUM(CSVデータ1!L124,CSVデータ2!L124,CSVデータ3!L124,CSVデータ4!L124)","v":0},{"$f":"SUM(CSVデータ1!M124,CSVデータ2!M124,CSVデータ3!M124,CSVデータ4!M124)","v":0},{"$f":"SUM(CSVデータ1!N124,CSVデータ2!N124,CSVデータ3!N124,CSVデータ4!N124)","v":0},{"$f":"SUM(CSVデータ1!O124,CSVデータ2!O124,CSVデータ3!O124,CSVデータ4!O124)","v":0},{"$f":"SUM(CSVデータ1!P124,CSVデータ2!P124,CSVデータ3!P124,CSVデータ4!P124)","v":0},{"$f":"SUM(CSVデータ1!Q124,CSVデータ2!Q124,CSVデータ3!Q124,CSVデータ4!Q124)","v":0},{"$f":"SUM(CSVデータ1!R124,CSVデータ2!R124,CSVデータ3!R124,CSVデータ4!R124)","v":0},{"$f":"SUM(CSVデータ1!S124,CSVデータ2!S124,CSVデータ3!S124,CSVデータ4!S124)","v":0},{"$f":"SUM(CSVデータ1!T124,CSVデータ2!T124,CSVデータ3!T124,CSVデータ4!T124)","v":0},{"$f":"SUM(CSVデータ1!U124,CSVデータ2!U124,CSVデータ3!U124,CSVデータ4!U124)","v":0},{"$f":"SUM(CSVデータ1!V124,CSVデータ2!V124,CSVデータ3!V124,CSVデータ4!V124)","v":0},{"$f":"SUM(CSVデータ1!W124,CSVデータ2!W124,CSVデータ3!W124,CSVデータ4!W124)","v":0},{"$f":"SUM(CSVデータ1!X124,CSVデータ2!X124,CSVデータ3!X124,CSVデータ4!X124)","v":0},{"$f":"SUM(CSVデータ1!Y124,CSVデータ2!Y124,CSVデータ3!Y124,CSVデータ4!Y124)","v":0},{"$f":"SUM(CSVデータ1!Z124,CSVデータ2!Z124,CSVデータ3!Z124,CSVデータ4!Z124)","v":0},{"$f":"SUM(CSVデータ1!AA124,CSVデータ2!AA124,CSVデータ3!AA124,CSVデータ4!AA124)","v":0},{"$f":"SUM(CSVデータ1!AB124,CSVデータ2!AB124,CSVデータ3!AB124,CSVデータ4!AB124)","v":0},{"$f":"SUM(CSVデータ1!AC124,CSVデータ2!AC124,CSVデータ3!AC124,CSVデータ4!AC124)","v":0},{"$f":"SUM(CSVデータ1!AD124,CSVデータ2!AD124,CSVデータ3!AD124,CSVデータ4!AD124)","v":0},{"$f":"SUM(CSVデータ1!AE124,CSVデータ2!AE124,CSVデータ3!AE124,CSVデータ4!AE124)","v":0},{"$f":"SUM(CSVデータ1!AF124,CSVデータ2!AF124,CSVデータ3!AF124,CSVデータ4!AF124)","v":0},{"$f":"SUM(CSVデータ1!AG124,CSVデータ2!AG124,CSVデータ3!AG124,CSVデータ4!AG124)","v":0}]
[{"$f":"CSVデータ1!A125","v":"明細部"},{"$f":"CSVデータ1!B125","v":"県"},{"$f":"CSVデータ1!C125","v":74},{"$f":"CSVデータ1!D125","v":"男"},{"$f":"SUM(CSVデータ1!E125,CSVデータ2!E125,CSVデータ3!E125,CSVデータ4!E125)","v":0},{"$f":"SUM(CSVデータ1!F125,CSVデータ2!F125,CSVデータ3!F125,CSVデータ4!F125)","v":0},{"$f":"SUM(CSVデータ1!G125,CSVデータ2!G125,CSVデータ3!G125,CSVデータ4!G125)","v":0},{"$f":"SUM(CSVデータ1!H125,CSVデータ2!H125,CSVデータ3!H125,CSVデータ4!H125)","v":0},{"$f":"SUM(CSVデータ1!I125,CSVデータ2!I125,CSVデータ3!I125,CSVデータ4!I125)","v":0},{"$f":"SUM(CSVデータ1!J125,CSVデータ2!J125,CSVデータ3!J125,CSVデータ4!J125)","v":0},{"$f":"SUM(CSVデータ1!K125,CSVデータ2!K125,CSVデータ3!K125,CSVデータ4!K125)","v":0},{"$f":"SUM(CSVデータ1!L125,CSVデータ2!L125,CSVデータ3!L125,CSVデータ4!L125)","v":0},{"$f":"SUM(CSVデータ1!M125,CSVデータ2!M125,CSVデータ3!M125,CSVデータ4!M125)","v":0},{"$f":"SUM(CSVデータ1!N125,CSVデータ2!N125,CSVデータ3!N125,CSVデータ4!N125)","v":0},{"$f":"SUM(CSVデータ1!O125,CSVデータ2!O125,CSVデータ3!O125,CSVデータ4!O125)","v":0},{"$f":"SUM(CSVデータ1!P125,CSVデータ2!P125,CSVデータ3!P125,CSVデータ4!P125)","v":0},{"$f":"SUM(CSVデータ1!Q125,CSVデータ2!Q125,CSVデータ3!Q125,CSVデータ4!Q125)","v":0},{"$f":"SUM(CSVデータ1!R125,CSVデータ2!R125,CSVデータ3!R125,CSVデータ4!R125)","v":0},{"$f":"SUM(CSVデータ1!S125,CSVデータ2!S125,CSVデータ3!S125,CSVデータ4!S125)","v":0},{"$f":"SUM(CSVデータ1!T125,CSVデータ2!T125,CSVデータ3!T125,CSVデータ4!T125)","v":0},{"$f":"SUM(CSVデータ1!U125,CSVデータ2!U125,CSVデータ3!U125,CSVデータ4!U125)","v":0},{"$f":"SUM(CSVデータ1!V125,CSVデータ2!V125,CSVデータ3!V125,CSVデータ4!V125)","v":0},{"$f":"SUM(CSVデータ1!W125,CSVデータ2!W125,CSVデータ3!W125,CSVデータ4!W125)","v":0},{"$f":"SUM(CSVデータ1!X125,CSVデータ2!X125,CSVデータ3!X125,CSVデータ4!X125)","v":0},{"$f":"SUM(CSVデータ1!Y125,CSVデータ2!Y125,CSVデータ3!Y125,CSVデータ4!Y125)","v":0},{"$f":"SUM(CSVデータ1!Z125,CSVデータ2!Z125,CSVデータ3!Z125,CSVデータ4!Z125)","v":0},{"$f":"SUM(CSVデータ1!AA125,CSVデータ2!AA125,CSVデータ3!AA125,CSVデータ4!AA125)","v":0},{"$f":"SUM(CSVデータ1!AB125,CSVデータ2!AB125,CSVデータ3!AB125,CSVデータ4!AB125)","v":0},{"$f":"SUM(CSVデータ1!AC125,CSVデータ2!AC125,CSVデータ3!AC125,CSVデータ4!AC125)","v":0},{"$f":"SUM(CSVデータ1!AD125,CSVデータ2!AD125,CSVデータ3!AD125,CSVデータ4!AD125)","v":0},{"$f":"SUM(CSVデータ1!AE125,CSVデータ2!AE125,CSVデータ3!AE125,CSVデータ4!AE125)","v":0},{"$f":"SUM(CSVデータ1!AF125,CSVデータ2!AF125,CSVデータ3!AF125,CSVデータ4!AF125)","v":0},{"$f":"SUM(CSVデータ1!AG125,CSVデータ2!AG125,CSVデータ3!AG125,CSVデータ4!AG125)","v":0}]
[{"$f":"CSVデータ1!A126","v":"明細部"},{"$f":"CSVデータ1!B126","v":"県"},{"$f":"CSVデータ1!C126","v":75},{"$f":"CSVデータ1!D126","v":"男"},{"$f":"SUM(CSVデータ1!E126,CSVデータ2!E126,CSVデータ3!E126,CSVデータ4!E126)","v":0},{"$f":"SUM(CSVデータ1!F126,CSVデータ2!F126,CSVデータ3!F126,CSVデータ4!F126)","v":0},{"$f":"SUM(CSVデータ1!G126,CSVデータ2!G126,CSVデータ3!G126,CSVデータ4!G126)","v":0},{"$f":"SUM(CSVデータ1!H126,CSVデータ2!H126,CSVデータ3!H126,CSVデータ4!H126)","v":0},{"$f":"SUM(CSVデータ1!I126,CSVデータ2!I126,CSVデータ3!I126,CSVデータ4!I126)","v":0},{"$f":"SUM(CSVデータ1!J126,CSVデータ2!J126,CSVデータ3!J126,CSVデータ4!J126)","v":0},{"$f":"SUM(CSVデータ1!K126,CSVデータ2!K126,CSVデータ3!K126,CSVデータ4!K126)","v":0},{"$f":"SUM(CSVデータ1!L126,CSVデータ2!L126,CSVデータ3!L126,CSVデータ4!L126)","v":0},{"$f":"SUM(CSVデータ1!M126,CSVデータ2!M126,CSVデータ3!M126,CSVデータ4!M126)","v":0},{"$f":"SUM(CSVデータ1!N126,CSVデータ2!N126,CSVデータ3!N126,CSVデータ4!N126)","v":0},{"$f":"SUM(CSVデータ1!O126,CSVデータ2!O126,CSVデータ3!O126,CSVデータ4!O126)","v":0},{"$f":"SUM(CSVデータ1!P126,CSVデータ2!P126,CSVデータ3!P126,CSVデータ4!P126)","v":0},{"$f":"SUM(CSVデータ1!Q126,CSVデータ2!Q126,CSVデータ3!Q126,CSVデータ4!Q126)","v":0},{"$f":"SUM(CSVデータ1!R126,CSVデータ2!R126,CSVデータ3!R126,CSVデータ4!R126)","v":0},{"$f":"SUM(CSVデータ1!S126,CSVデータ2!S126,CSVデータ3!S126,CSVデータ4!S126)","v":0},{"$f":"SUM(CSVデータ1!T126,CSVデータ2!T126,CSVデータ3!T126,CSVデータ4!T126)","v":0},{"$f":"SUM(CSVデータ1!U126,CSVデータ2!U126,CSVデータ3!U126,CSVデータ4!U126)","v":0},{"$f":"SUM(CSVデータ1!V126,CSVデータ2!V126,CSVデータ3!V126,CSVデータ4!V126)","v":0},{"$f":"SUM(CSVデータ1!W126,CSVデータ2!W126,CSVデータ3!W126,CSVデータ4!W126)","v":0},{"$f":"SUM(CSVデータ1!X126,CSVデータ2!X126,CSVデータ3!X126,CSVデータ4!X126)","v":0},{"$f":"SUM(CSVデータ1!Y126,CSVデータ2!Y126,CSVデータ3!Y126,CSVデータ4!Y126)","v":0},{"$f":"SUM(CSVデータ1!Z126,CSVデータ2!Z126,CSVデータ3!Z126,CSVデータ4!Z126)","v":0},{"$f":"SUM(CSVデータ1!AA126,CSVデータ2!AA126,CSVデータ3!AA126,CSVデータ4!AA126)","v":0},{"$f":"SUM(CSVデータ1!AB126,CSVデータ2!AB126,CSVデータ3!AB126,CSVデータ4!AB126)","v":0},{"$f":"SUM(CSVデータ1!AC126,CSVデータ2!AC126,CSVデータ3!AC126,CSVデータ4!AC126)","v":0},{"$f":"SUM(CSVデータ1!AD126,CSVデータ2!AD126,CSVデータ3!AD126,CSVデータ4!AD126)","v":0},{"$f":"SUM(CSVデータ1!AE126,CSVデータ2!AE126,CSVデータ3!AE126,CSVデータ4!AE126)","v":0},{"$f":"SUM(CSVデータ1!AF126,CSVデータ2!AF126,CSVデータ3!AF126,CSVデータ4!AF126)","v":0},{"$f":"SUM(CSVデータ1!AG126,CSVデータ2!AG126,CSVデータ3!AG126,CSVデータ4!AG126)","v":0}]
[{"$f":"CSVデータ1!A127","v":"明細部"},{"$f":"CSVデータ1!B127","v":"県"},{"$f":"CSVデータ1!C127","v":76},{"$f":"CSVデータ1!D127","v":"男"},{"$f":"SUM(CSVデータ1!E127,CSVデータ2!E127,CSVデータ3!E127,CSVデータ4!E127)","v":0},{"$f":"SUM(CSVデータ1!F127,CSVデータ2!F127,CSVデータ3!F127,CSVデータ4!F127)","v":0},{"$f":"SUM(CSVデータ1!G127,CSVデータ2!G127,CSVデータ3!G127,CSVデータ4!G127)","v":0},{"$f":"SUM(CSVデータ1!H127,CSVデータ2!H127,CSVデータ3!H127,CSVデータ4!H127)","v":0},{"$f":"SUM(CSVデータ1!I127,CSVデータ2!I127,CSVデータ3!I127,CSVデータ4!I127)","v":0},{"$f":"SUM(CSVデータ1!J127,CSVデータ2!J127,CSVデータ3!J127,CSVデータ4!J127)","v":0},{"$f":"SUM(CSVデータ1!K127,CSVデータ2!K127,CSVデータ3!K127,CSVデータ4!K127)","v":0},{"$f":"SUM(CSVデータ1!L127,CSVデータ2!L127,CSVデータ3!L127,CSVデータ4!L127)","v":0},{"$f":"SUM(CSVデータ1!M127,CSVデータ2!M127,CSVデータ3!M127,CSVデータ4!M127)","v":0},{"$f":"SUM(CSVデータ1!N127,CSVデータ2!N127,CSVデータ3!N127,CSVデータ4!N127)","v":0},{"$f":"SUM(CSVデータ1!O127,CSVデータ2!O127,CSVデータ3!O127,CSVデータ4!O127)","v":0},{"$f":"SUM(CSVデータ1!P127,CSVデータ2!P127,CSVデータ3!P127,CSVデータ4!P127)","v":0},{"$f":"SUM(CSVデータ1!Q127,CSVデータ2!Q127,CSVデータ3!Q127,CSVデータ4!Q127)","v":0},{"$f":"SUM(CSVデータ1!R127,CSVデータ2!R127,CSVデータ3!R127,CSVデータ4!R127)","v":0},{"$f":"SUM(CSVデータ1!S127,CSVデータ2!S127,CSVデータ3!S127,CSVデータ4!S127)","v":0},{"$f":"SUM(CSVデータ1!T127,CSVデータ2!T127,CSVデータ3!T127,CSVデータ4!T127)","v":0},{"$f":"SUM(CSVデータ1!U127,CSVデータ2!U127,CSVデータ3!U127,CSVデータ4!U127)","v":0},{"$f":"SUM(CSVデータ1!V127,CSVデータ2!V127,CSVデータ3!V127,CSVデータ4!V127)","v":0},{"$f":"SUM(CSVデータ1!W127,CSVデータ2!W127,CSVデータ3!W127,CSVデータ4!W127)","v":0},{"$f":"SUM(CSVデータ1!X127,CSVデータ2!X127,CSVデータ3!X127,CSVデータ4!X127)","v":0},{"$f":"SUM(CSVデータ1!Y127,CSVデータ2!Y127,CSVデータ3!Y127,CSVデータ4!Y127)","v":0},{"$f":"SUM(CSVデータ1!Z127,CSVデータ2!Z127,CSVデータ3!Z127,CSVデータ4!Z127)","v":0},{"$f":"SUM(CSVデータ1!AA127,CSVデータ2!AA127,CSVデータ3!AA127,CSVデータ4!AA127)","v":0},{"$f":"SUM(CSVデータ1!AB127,CSVデータ2!AB127,CSVデータ3!AB127,CSVデータ4!AB127)","v":0},{"$f":"SUM(CSVデータ1!AC127,CSVデータ2!AC127,CSVデータ3!AC127,CSVデータ4!AC127)","v":0},{"$f":"SUM(CSVデータ1!AD127,CSVデータ2!AD127,CSVデータ3!AD127,CSVデータ4!AD127)","v":0},{"$f":"SUM(CSVデータ1!AE127,CSVデータ2!AE127,CSVデータ3!AE127,CSVデータ4!AE127)","v":0},{"$f":"SUM(CSVデータ1!AF127,CSVデータ2!AF127,CSVデータ3!AF127,CSVデータ4!AF127)","v":0},{"$f":"SUM(CSVデータ1!AG127,CSVデータ2!AG127,CSVデータ3!AG127,CSVデータ4!AG127)","v":0}]
[{"$f":"CSVデータ1!A128","v":"明細部"},{"$f":"CSVデータ1!B128","v":"県"},{"$f":"CSVデータ1!C128","v":77},{"$f":"CSVデータ1!D128","v":"男"},{"$f":"SUM(CSVデータ1!E128,CSVデータ2!E128,CSVデータ3!E128,CSVデータ4!E128)","v":0},{"$f":"SUM(CSVデータ1!F128,CSVデータ2!F128,CSVデータ3!F128,CSVデータ4!F128)","v":0},{"$f":"SUM(CSVデータ1!G128,CSVデータ2!G128,CSVデータ3!G128,CSVデータ4!G128)","v":0},{"$f":"SUM(CSVデータ1!H128,CSVデータ2!H128,CSVデータ3!H128,CSVデータ4!H128)","v":0},{"$f":"SUM(CSVデータ1!I128,CSVデータ2!I128,CSVデータ3!I128,CSVデータ4!I128)","v":0},{"$f":"SUM(CSVデータ1!J128,CSVデータ2!J128,CSVデータ3!J128,CSVデータ4!J128)","v":0},{"$f":"SUM(CSVデータ1!K128,CSVデータ2!K128,CSVデータ3!K128,CSVデータ4!K128)","v":0},{"$f":"SUM(CSVデータ1!L128,CSVデータ2!L128,CSVデータ3!L128,CSVデータ4!L128)","v":0},{"$f":"SUM(CSVデータ1!M128,CSVデータ2!M128,CSVデータ3!M128,CSVデータ4!M128)","v":0},{"$f":"SUM(CSVデータ1!N128,CSVデータ2!N128,CSVデータ3!N128,CSVデータ4!N128)","v":0},{"$f":"SUM(CSVデータ1!O128,CSVデータ2!O128,CSVデータ3!O128,CSVデータ4!O128)","v":0},{"$f":"SUM(CSVデータ1!P128,CSVデータ2!P128,CSVデータ3!P128,CSVデータ4!P128)","v":0},{"$f":"SUM(CSVデータ1!Q128,CSVデータ2!Q128,CSVデータ3!Q128,CSVデータ4!Q128)","v":0},{"$f":"SUM(CSVデータ1!R128,CSVデータ2!R128,CSVデータ3!R128,CSVデータ4!R128)","v":0},{"$f":"SUM(CSVデータ1!S128,CSVデータ2!S128,CSVデータ3!S128,CSVデータ4!S128)","v":0},{"$f":"SUM(CSVデータ1!T128,CSVデータ2!T128,CSVデータ3!T128,CSVデータ4!T128)","v":0},{"$f":"SUM(CSVデータ1!U128,CSVデータ2!U128,CSVデータ3!U128,CSVデータ4!U128)","v":0},{"$f":"SUM(CSVデータ1!V128,CSVデータ2!V128,CSVデータ3!V128,CSVデータ4!V128)","v":0},{"$f":"SUM(CSVデータ1!W128,CSVデータ2!W128,CSVデータ3!W128,CSVデータ4!W128)","v":0},{"$f":"SUM(CSVデータ1!X128,CSVデータ2!X128,CSVデータ3!X128,CSVデータ4!X128)","v":0},{"$f":"SUM(CSVデータ1!Y128,CSVデータ2!Y128,CSVデータ3!Y128,CSVデータ4!Y128)","v":0},{"$f":"SUM(CSVデータ1!Z128,CSVデータ2!Z128,CSVデータ3!Z128,CSVデータ4!Z128)","v":0},{"$f":"SUM(CSVデータ1!AA128,CSVデータ2!AA128,CSVデータ3!AA128,CSVデータ4!AA128)","v":0},{"$f":"SUM(CSVデータ1!AB128,CSVデータ2!AB128,CSVデータ3!AB128,CSVデータ4!AB128)","v":0},{"$f":"SUM(CSVデータ1!AC128,CSVデータ2!AC128,CSVデータ3!AC128,CSVデータ4!AC128)","v":0},{"$f":"SUM(CSVデータ1!AD128,CSVデータ2!AD128,CSVデータ3!AD128,CSVデータ4!AD128)","v":0},{"$f":"SUM(CSVデータ1!AE128,CSVデータ2!AE128,CSVデータ3!AE128,CSVデータ4!AE128)","v":0},{"$f":"SUM(CSVデータ1!AF128,CSVデータ2!AF128,CSVデータ3!AF128,CSVデータ4!AF128)","v":0},{"$f":"SUM(CSVデータ1!AG128,CSVデータ2!AG128,CSVデータ3!AG128,CSVデータ4!AG128)","v":0}]
[{"$f":"CSVデータ1!A129","v":"明細部"},{"$f":"CSVデータ1!B129","v":"県"},{"$f":"CSVデータ1!C129","v":78},{"$f":"CSVデータ1!D129","v":"男"},{"$f":"SUM(CSVデータ1!E129,CSVデータ2!E129,CSVデータ3!E129,CSVデータ4!E129)","v":0},{"$f":"SUM(CSVデータ1!F129,CSVデータ2!F129,CSVデータ3!F129,CSVデータ4!F129)","v":0},{"$f":"SUM(CSVデータ1!G129,CSVデータ2!G129,CSVデータ3!G129,CSVデータ4!G129)","v":0},{"$f":"SUM(CSVデータ1!H129,CSVデータ2!H129,CSVデータ3!H129,CSVデータ4!H129)","v":0},{"$f":"SUM(CSVデータ1!I129,CSVデータ2!I129,CSVデータ3!I129,CSVデータ4!I129)","v":0},{"$f":"SUM(CSVデータ1!J129,CSVデータ2!J129,CSVデータ3!J129,CSVデータ4!J129)","v":0},{"$f":"SUM(CSVデータ1!K129,CSVデータ2!K129,CSVデータ3!K129,CSVデータ4!K129)","v":0},{"$f":"SUM(CSVデータ1!L129,CSVデータ2!L129,CSVデータ3!L129,CSVデータ4!L129)","v":0},{"$f":"SUM(CSVデータ1!M129,CSVデータ2!M129,CSVデータ3!M129,CSVデータ4!M129)","v":0},{"$f":"SUM(CSVデータ1!N129,CSVデータ2!N129,CSVデータ3!N129,CSVデータ4!N129)","v":0},{"$f":"SUM(CSVデータ1!O129,CSVデータ2!O129,CSVデータ3!O129,CSVデータ4!O129)","v":0},{"$f":"SUM(CSVデータ1!P129,CSVデータ2!P129,CSVデータ3!P129,CSVデータ4!P129)","v":0},{"$f":"SUM(CSVデータ1!Q129,CSVデータ2!Q129,CSVデータ3!Q129,CSVデータ4!Q129)","v":0},{"$f":"SUM(CSVデータ1!R129,CSVデータ2!R129,CSVデータ3!R129,CSVデータ4!R129)","v":0},{"$f":"SUM(CSVデータ1!S129,CSVデータ2!S129,CSVデータ3!S129,CSVデータ4!S129)","v":0},{"$f":"SUM(CSVデータ1!T129,CSVデータ2!T129,CSVデータ3!T129,CSVデータ4!T129)","v":0},{"$f":"SUM(CSVデータ1!U129,CSVデータ2!U129,CSVデータ3!U129,CSVデータ4!U129)","v":0},{"$f":"SUM(CSVデータ1!V129,CSVデータ2!V129,CSVデータ3!V129,CSVデータ4!V129)","v":0},{"$f":"SUM(CSVデータ1!W129,CSVデータ2!W129,CSVデータ3!W129,CSVデータ4!W129)","v":0},{"$f":"SUM(CSVデータ1!X129,CSVデータ2!X129,CSVデータ3!X129,CSVデータ4!X129)","v":0},{"$f":"SUM(CSVデータ1!Y129,CSVデータ2!Y129,CSVデータ3!Y129,CSVデータ4!Y129)","v":0},{"$f":"SUM(CSVデータ1!Z129,CSVデータ2!Z129,CSVデータ3!Z129,CSVデータ4!Z129)","v":0},{"$f":"SUM(CSVデータ1!AA129,CSVデータ2!AA129,CSVデータ3!AA129,CSVデータ4!AA129)","v":0},{"$f":"SUM(CSVデータ1!AB129,CSVデータ2!AB129,CSVデータ3!AB129,CSVデータ4!AB129)","v":0},{"$f":"SUM(CSVデータ1!AC129,CSVデータ2!AC129,CSVデータ3!AC129,CSVデータ4!AC129)","v":0},{"$f":"SUM(CSVデータ1!AD129,CSVデータ2!AD129,CSVデータ3!AD129,CSVデータ4!AD129)","v":0},{"$f":"SUM(CSVデータ1!AE129,CSVデータ2!AE129,CSVデータ3!AE129,CSVデータ4!AE129)","v":0},{"$f":"SUM(CSVデータ1!AF129,CSVデータ2!AF129,CSVデータ3!AF129,CSVデータ4!AF129)","v":0},{"$f":"SUM(CSVデータ1!AG129,CSVデータ2!AG129,CSVデータ3!AG129,CSVデータ4!AG129)","v":0}]
[{"$f":"CSVデータ1!A130","v":"明細部"},{"$f":"CSVデータ1!B130","v":"県"},{"$f":"CSVデータ1!C130","v":79},{"$f":"CSVデータ1!D130","v":"男"},{"$f":"SUM(CSVデータ1!E130,CSVデータ2!E130,CSVデータ3!E130,CSVデータ4!E130)","v":0},{"$f":"SUM(CSVデータ1!F130,CSVデータ2!F130,CSVデータ3!F130,CSVデータ4!F130)","v":0},{"$f":"SUM(CSVデータ1!G130,CSVデータ2!G130,CSVデータ3!G130,CSVデータ4!G130)","v":0},{"$f":"SUM(CSVデータ1!H130,CSVデータ2!H130,CSVデータ3!H130,CSVデータ4!H130)","v":0},{"$f":"SUM(CSVデータ1!I130,CSVデータ2!I130,CSVデータ3!I130,CSVデータ4!I130)","v":0},{"$f":"SUM(CSVデータ1!J130,CSVデータ2!J130,CSVデータ3!J130,CSVデータ4!J130)","v":0},{"$f":"SUM(CSVデータ1!K130,CSVデータ2!K130,CSVデータ3!K130,CSVデータ4!K130)","v":0},{"$f":"SUM(CSVデータ1!L130,CSVデータ2!L130,CSVデータ3!L130,CSVデータ4!L130)","v":0},{"$f":"SUM(CSVデータ1!M130,CSVデータ2!M130,CSVデータ3!M130,CSVデータ4!M130)","v":0},{"$f":"SUM(CSVデータ1!N130,CSVデータ2!N130,CSVデータ3!N130,CSVデータ4!N130)","v":0},{"$f":"SUM(CSVデータ1!O130,CSVデータ2!O130,CSVデータ3!O130,CSVデータ4!O130)","v":0},{"$f":"SUM(CSVデータ1!P130,CSVデータ2!P130,CSVデータ3!P130,CSVデータ4!P130)","v":0},{"$f":"SUM(CSVデータ1!Q130,CSVデータ2!Q130,CSVデータ3!Q130,CSVデータ4!Q130)","v":0},{"$f":"SUM(CSVデータ1!R130,CSVデータ2!R130,CSVデータ3!R130,CSVデータ4!R130)","v":0},{"$f":"SUM(CSVデータ1!S130,CSVデータ2!S130,CSVデータ3!S130,CSVデータ4!S130)","v":0},{"$f":"SUM(CSVデータ1!T130,CSVデータ2!T130,CSVデータ3!T130,CSVデータ4!T130)","v":0},{"$f":"SUM(CSVデータ1!U130,CSVデータ2!U130,CSVデータ3!U130,CSVデータ4!U130)","v":0},{"$f":"SUM(CSVデータ1!V130,CSVデータ2!V130,CSVデータ3!V130,CSVデータ4!V130)","v":0},{"$f":"SUM(CSVデータ1!W130,CSVデータ2!W130,CSVデータ3!W130,CSVデータ4!W130)","v":0},{"$f":"SUM(CSVデータ1!X130,CSVデータ2!X130,CSVデータ3!X130,CSVデータ4!X130)","v":0},{"$f":"SUM(CSVデータ1!Y130,CSVデータ2!Y130,CSVデータ3!Y130,CSVデータ4!Y130)","v":0},{"$f":"SUM(CSVデータ1!Z130,CSVデータ2!Z130,CSVデータ3!Z130,CSVデータ4!Z130)","v":0},{"$f":"SUM(CSVデータ1!AA130,CSVデータ2!AA130,CSVデータ3!AA130,CSVデータ4!AA130)","v":0},{"$f":"SUM(CSVデータ1!AB130,CSVデータ2!AB130,CSVデータ3!AB130,CSVデータ4!AB130)","v":0},{"$f":"SUM(CSVデータ1!AC130,CSVデータ2!AC130,CSVデータ3!AC130,CSVデータ4!AC130)","v":0},{"$f":"SUM(CSVデータ1!AD130,CSVデータ2!AD130,CSVデータ3!AD130,CSVデータ4!AD130)","v":0},{"$f":"SUM(CSVデータ1!AE130,CSVデータ2!AE130,CSVデータ3!AE130,CSVデータ4!AE130)","v":0},{"$f":"SUM(CSVデータ1!AF130,CSVデータ2!AF130,CSVデータ3!AF130,CSVデータ4!AF130)","v":0},{"$f":"SUM(CSVデータ1!AG130,CSVデータ2!AG130,CSVデータ3!AG130,CSVデータ4!AG130)","v":0}]
[{"$f":"CSVデータ1!A131","v":"明細部"},{"$f":"CSVデータ1!B131","v":"県"},{"$f":"CSVデータ1!C131","v":80},{"$f":"CSVデータ1!D131","v":"男"},{"$f":"SUM(CSVデータ1!E131,CSVデータ2!E131,CSVデータ3!E131,CSVデータ4!E131)","v":0},{"$f":"SUM(CSVデータ1!F131,CSVデータ2!F131,CSVデータ3!F131,CSVデータ4!F131)","v":0},{"$f":"SUM(CSVデータ1!G131,CSVデータ2!G131,CSVデータ3!G131,CSVデータ4!G131)","v":0},{"$f":"SUM(CSVデータ1!H131,CSVデータ2!H131,CSVデータ3!H131,CSVデータ4!H131)","v":0},{"$f":"SUM(CSVデータ1!I131,CSVデータ2!I131,CSVデータ3!I131,CSVデータ4!I131)","v":0},{"$f":"SUM(CSVデータ1!J131,CSVデータ2!J131,CSVデータ3!J131,CSVデータ4!J131)","v":0},{"$f":"SUM(CSVデータ1!K131,CSVデータ2!K131,CSVデータ3!K131,CSVデータ4!K131)","v":0},{"$f":"SUM(CSVデータ1!L131,CSVデータ2!L131,CSVデータ3!L131,CSVデータ4!L131)","v":0},{"$f":"SUM(CSVデータ1!M131,CSVデータ2!M131,CSVデータ3!M131,CSVデータ4!M131)","v":0},{"$f":"SUM(CSVデータ1!N131,CSVデータ2!N131,CSVデータ3!N131,CSVデータ4!N131)","v":0},{"$f":"SUM(CSVデータ1!O131,CSVデータ2!O131,CSVデータ3!O131,CSVデータ4!O131)","v":0},{"$f":"SUM(CSVデータ1!P131,CSVデータ2!P131,CSVデータ3!P131,CSVデータ4!P131)","v":0},{"$f":"SUM(CSVデータ1!Q131,CSVデータ2!Q131,CSVデータ3!Q131,CSVデータ4!Q131)","v":0},{"$f":"SUM(CSVデータ1!R131,CSVデータ2!R131,CSVデータ3!R131,CSVデータ4!R131)","v":0},{"$f":"SUM(CSVデータ1!S131,CSVデータ2!S131,CSVデータ3!S131,CSVデータ4!S131)","v":0},{"$f":"SUM(CSVデータ1!T131,CSVデータ2!T131,CSVデータ3!T131,CSVデータ4!T131)","v":0},{"$f":"SUM(CSVデータ1!U131,CSVデータ2!U131,CSVデータ3!U131,CSVデータ4!U131)","v":0},{"$f":"SUM(CSVデータ1!V131,CSVデータ2!V131,CSVデータ3!V131,CSVデータ4!V131)","v":0},{"$f":"SUM(CSVデータ1!W131,CSVデータ2!W131,CSVデータ3!W131,CSVデータ4!W131)","v":0},{"$f":"SUM(CSVデータ1!X131,CSVデータ2!X131,CSVデータ3!X131,CSVデータ4!X131)","v":0},{"$f":"SUM(CSVデータ1!Y131,CSVデータ2!Y131,CSVデータ3!Y131,CSVデータ4!Y131)","v":0},{"$f":"SUM(CSVデータ1!Z131,CSVデータ2!Z131,CSVデータ3!Z131,CSVデータ4!Z131)","v":0},{"$f":"SUM(CSVデータ1!AA131,CSVデータ2!AA131,CSVデータ3!AA131,CSVデータ4!AA131)","v":0},{"$f":"SUM(CSVデータ1!AB131,CSVデータ2!AB131,CSVデータ3!AB131,CSVデータ4!AB131)","v":0},{"$f":"SUM(CSVデータ1!AC131,CSVデータ2!AC131,CSVデータ3!AC131,CSVデータ4!AC131)","v":0},{"$f":"SUM(CSVデータ1!AD131,CSVデータ2!AD131,CSVデータ3!AD131,CSVデータ4!AD131)","v":0},{"$f":"SUM(CSVデータ1!AE131,CSVデータ2!AE131,CSVデータ3!AE131,CSVデータ4!AE131)","v":0},{"$f":"SUM(CSVデータ1!AF131,CSVデータ2!AF131,CSVデータ3!AF131,CSVデータ4!AF131)","v":0},{"$f":"SUM(CSVデータ1!AG131,CSVデータ2!AG131,CSVデータ3!AG131,CSVデータ4!AG131)","v":0}]
[{"$f":"CSVデータ1!A132","v":"明細部"},{"$f":"CSVデータ1!B132","v":"県"},{"$f":"CSVデータ1!C132","v":81},{"$f":"CSVデータ1!D132","v":"男"},{"$f":"SUM(CSVデータ1!E132,CSVデータ2!E132,CSVデータ3!E132,CSVデータ4!E132)","v":0},{"$f":"SUM(CSVデータ1!F132,CSVデータ2!F132,CSVデータ3!F132,CSVデータ4!F132)","v":0},{"$f":"SUM(CSVデータ1!G132,CSVデータ2!G132,CSVデータ3!G132,CSVデータ4!G132)","v":0},{"$f":"SUM(CSVデータ1!H132,CSVデータ2!H132,CSVデータ3!H132,CSVデータ4!H132)","v":0},{"$f":"SUM(CSVデータ1!I132,CSVデータ2!I132,CSVデータ3!I132,CSVデータ4!I132)","v":0},{"$f":"SUM(CSVデータ1!J132,CSVデータ2!J132,CSVデータ3!J132,CSVデータ4!J132)","v":0},{"$f":"SUM(CSVデータ1!K132,CSVデータ2!K132,CSVデータ3!K132,CSVデータ4!K132)","v":0},{"$f":"SUM(CSVデータ1!L132,CSVデータ2!L132,CSVデータ3!L132,CSVデータ4!L132)","v":0},{"$f":"SUM(CSVデータ1!M132,CSVデータ2!M132,CSVデータ3!M132,CSVデータ4!M132)","v":0},{"$f":"SUM(CSVデータ1!N132,CSVデータ2!N132,CSVデータ3!N132,CSVデータ4!N132)","v":0},{"$f":"SUM(CSVデータ1!O132,CSVデータ2!O132,CSVデータ3!O132,CSVデータ4!O132)","v":0},{"$f":"SUM(CSVデータ1!P132,CSVデータ2!P132,CSVデータ3!P132,CSVデータ4!P132)","v":0},{"$f":"SUM(CSVデータ1!Q132,CSVデータ2!Q132,CSVデータ3!Q132,CSVデータ4!Q132)","v":0},{"$f":"SUM(CSVデータ1!R132,CSVデータ2!R132,CSVデータ3!R132,CSVデータ4!R132)","v":0},{"$f":"SUM(CSVデータ1!S132,CSVデータ2!S132,CSVデータ3!S132,CSVデータ4!S132)","v":0},{"$f":"SUM(CSVデータ1!T132,CSVデータ2!T132,CSVデータ3!T132,CSVデータ4!T132)","v":0},{"$f":"SUM(CSVデータ1!U132,CSVデータ2!U132,CSVデータ3!U132,CSVデータ4!U132)","v":0},{"$f":"SUM(CSVデータ1!V132,CSVデータ2!V132,CSVデータ3!V132,CSVデータ4!V132)","v":0},{"$f":"SUM(CSVデータ1!W132,CSVデータ2!W132,CSVデータ3!W132,CSVデータ4!W132)","v":0},{"$f":"SUM(CSVデータ1!X132,CSVデータ2!X132,CSVデータ3!X132,CSVデータ4!X132)","v":0},{"$f":"SUM(CSVデータ1!Y132,CSVデータ2!Y132,CSVデータ3!Y132,CSVデータ4!Y132)","v":0},{"$f":"SUM(CSVデータ1!Z132,CSVデータ2!Z132,CSVデータ3!Z132,CSVデータ4!Z132)","v":0},{"$f":"SUM(CSVデータ1!AA132,CSVデータ2!AA132,CSVデータ3!AA132,CSVデータ4!AA132)","v":0},{"$f":"SUM(CSVデータ1!AB132,CSVデータ2!AB132,CSVデータ3!AB132,CSVデータ4!AB132)","v":0},{"$f":"SUM(CSVデータ1!AC132,CSVデータ2!AC132,CSVデータ3!AC132,CSVデータ4!AC132)","v":0},{"$f":"SUM(CSVデータ1!AD132,CSVデータ2!AD132,CSVデータ3!AD132,CSVデータ4!AD132)","v":0},{"$f":"SUM(CSVデータ1!AE132,CSVデータ2!AE132,CSVデータ3!AE132,CSVデータ4!AE132)","v":0},{"$f":"SUM(CSVデータ1!AF132,CSVデータ2!AF132,CSVデータ3!AF132,CSVデータ4!AF132)","v":0},{"$f":"SUM(CSVデータ1!AG132,CSVデータ2!AG132,CSVデータ3!AG132,CSVデータ4!AG132)","v":0}]
[{"$f":"CSVデータ1!A133","v":"明細部"},{"$f":"CSVデータ1!B133","v":"県"},{"$f":"CSVデータ1!C133","v":82},{"$f":"CSVデータ1!D133","v":"男"},{"$f":"SUM(CSVデータ1!E133,CSVデータ2!E133,CSVデータ3!E133,CSVデータ4!E133)","v":0},{"$f":"SUM(CSVデータ1!F133,CSVデータ2!F133,CSVデータ3!F133,CSVデータ4!F133)","v":0},{"$f":"SUM(CSVデータ1!G133,CSVデータ2!G133,CSVデータ3!G133,CSVデータ4!G133)","v":0},{"$f":"SUM(CSVデータ1!H133,CSVデータ2!H133,CSVデータ3!H133,CSVデータ4!H133)","v":0},{"$f":"SUM(CSVデータ1!I133,CSVデータ2!I133,CSVデータ3!I133,CSVデータ4!I133)","v":0},{"$f":"SUM(CSVデータ1!J133,CSVデータ2!J133,CSVデータ3!J133,CSVデータ4!J133)","v":0},{"$f":"SUM(CSVデータ1!K133,CSVデータ2!K133,CSVデータ3!K133,CSVデータ4!K133)","v":0},{"$f":"SUM(CSVデータ1!L133,CSVデータ2!L133,CSVデータ3!L133,CSVデータ4!L133)","v":0},{"$f":"SUM(CSVデータ1!M133,CSVデータ2!M133,CSVデータ3!M133,CSVデータ4!M133)","v":0},{"$f":"SUM(CSVデータ1!N133,CSVデータ2!N133,CSVデータ3!N133,CSVデータ4!N133)","v":0},{"$f":"SUM(CSVデータ1!O133,CSVデータ2!O133,CSVデータ3!O133,CSVデータ4!O133)","v":0},{"$f":"SUM(CSVデータ1!P133,CSVデータ2!P133,CSVデータ3!P133,CSVデータ4!P133)","v":0},{"$f":"SUM(CSVデータ1!Q133,CSVデータ2!Q133,CSVデータ3!Q133,CSVデータ4!Q133)","v":0},{"$f":"SUM(CSVデータ1!R133,CSVデータ2!R133,CSVデータ3!R133,CSVデータ4!R133)","v":0},{"$f":"SUM(CSVデータ1!S133,CSVデータ2!S133,CSVデータ3!S133,CSVデータ4!S133)","v":0},{"$f":"SUM(CSVデータ1!T133,CSVデータ2!T133,CSVデータ3!T133,CSVデータ4!T133)","v":0},{"$f":"SUM(CSVデータ1!U133,CSVデータ2!U133,CSVデータ3!U133,CSVデータ4!U133)","v":0},{"$f":"SUM(CSVデータ1!V133,CSVデータ2!V133,CSVデータ3!V133,CSVデータ4!V133)","v":0},{"$f":"SUM(CSVデータ1!W133,CSVデータ2!W133,CSVデータ3!W133,CSVデータ4!W133)","v":0},{"$f":"SUM(CSVデータ1!X133,CSVデータ2!X133,CSVデータ3!X133,CSVデータ4!X133)","v":0},{"$f":"SUM(CSVデータ1!Y133,CSVデータ2!Y133,CSVデータ3!Y133,CSVデータ4!Y133)","v":0},{"$f":"SUM(CSVデータ1!Z133,CSVデータ2!Z133,CSVデータ3!Z133,CSVデータ4!Z133)","v":0},{"$f":"SUM(CSVデータ1!AA133,CSVデータ2!AA133,CSVデータ3!AA133,CSVデータ4!AA133)","v":0},{"$f":"SUM(CSVデータ1!AB133,CSVデータ2!AB133,CSVデータ3!AB133,CSVデータ4!AB133)","v":0},{"$f":"SUM(CSVデータ1!AC133,CSVデータ2!AC133,CSVデータ3!AC133,CSVデータ4!AC133)","v":0},{"$f":"SUM(CSVデータ1!AD133,CSVデータ2!AD133,CSVデータ3!AD133,CSVデータ4!AD133)","v":0},{"$f":"SUM(CSVデータ1!AE133,CSVデータ2!AE133,CSVデータ3!AE133,CSVデータ4!AE133)","v":0},{"$f":"SUM(CSVデータ1!AF133,CSVデータ2!AF133,CSVデータ3!AF133,CSVデータ4!AF133)","v":0},{"$f":"SUM(CSVデータ1!AG133,CSVデータ2!AG133,CSVデータ3!AG133,CSVデータ4!AG133)","v":0}]
[{"$f":"CSVデータ1!A134","v":"明細部"},{"$f":"CSVデータ1!B134","v":"県"},{"$f":"CSVデータ1!C134","v":83},{"$f":"CSVデータ1!D134","v":"男"},{"$f":"SUM(CSVデータ1!E134,CSVデータ2!E134,CSVデータ3!E134,CSVデータ4!E134)","v":0},{"$f":"SUM(CSVデータ1!F134,CSVデータ2!F134,CSVデータ3!F134,CSVデータ4!F134)","v":0},{"$f":"SUM(CSVデータ1!G134,CSVデータ2!G134,CSVデータ3!G134,CSVデータ4!G134)","v":0},{"$f":"SUM(CSVデータ1!H134,CSVデータ2!H134,CSVデータ3!H134,CSVデータ4!H134)","v":0},{"$f":"SUM(CSVデータ1!I134,CSVデータ2!I134,CSVデータ3!I134,CSVデータ4!I134)","v":0},{"$f":"SUM(CSVデータ1!J134,CSVデータ2!J134,CSVデータ3!J134,CSVデータ4!J134)","v":0},{"$f":"SUM(CSVデータ1!K134,CSVデータ2!K134,CSVデータ3!K134,CSVデータ4!K134)","v":0},{"$f":"SUM(CSVデータ1!L134,CSVデータ2!L134,CSVデータ3!L134,CSVデータ4!L134)","v":0},{"$f":"SUM(CSVデータ1!M134,CSVデータ2!M134,CSVデータ3!M134,CSVデータ4!M134)","v":0},{"$f":"SUM(CSVデータ1!N134,CSVデータ2!N134,CSVデータ3!N134,CSVデータ4!N134)","v":0},{"$f":"SUM(CSVデータ1!O134,CSVデータ2!O134,CSVデータ3!O134,CSVデータ4!O134)","v":0},{"$f":"SUM(CSVデータ1!P134,CSVデータ2!P134,CSVデータ3!P134,CSVデータ4!P134)","v":0},{"$f":"SUM(CSVデータ1!Q134,CSVデータ2!Q134,CSVデータ3!Q134,CSVデータ4!Q134)","v":0},{"$f":"SUM(CSVデータ1!R134,CSVデータ2!R134,CSVデータ3!R134,CSVデータ4!R134)","v":0},{"$f":"SUM(CSVデータ1!S134,CSVデータ2!S134,CSVデータ3!S134,CSVデータ4!S134)","v":0},{"$f":"SUM(CSVデータ1!T134,CSVデータ2!T134,CSVデータ3!T134,CSVデータ4!T134)","v":0},{"$f":"SUM(CSVデータ1!U134,CSVデータ2!U134,CSVデータ3!U134,CSVデータ4!U134)","v":0},{"$f":"SUM(CSVデータ1!V134,CSVデータ2!V134,CSVデータ3!V134,CSVデータ4!V134)","v":0},{"$f":"SUM(CSVデータ1!W134,CSVデータ2!W134,CSVデータ3!W134,CSVデータ4!W134)","v":0},{"$f":"SUM(CSVデータ1!X134,CSVデータ2!X134,CSVデータ3!X134,CSVデータ4!X134)","v":0},{"$f":"SUM(CSVデータ1!Y134,CSVデータ2!Y134,CSVデータ3!Y134,CSVデータ4!Y134)","v":0},{"$f":"SUM(CSVデータ1!Z134,CSVデータ2!Z134,CSVデータ3!Z134,CSVデータ4!Z134)","v":0},{"$f":"SUM(CSVデータ1!AA134,CSVデータ2!AA134,CSVデータ3!AA134,CSVデータ4!AA134)","v":0},{"$f":"SUM(CSVデータ1!AB134,CSVデータ2!AB134,CSVデータ3!AB134,CSVデータ4!AB134)","v":0},{"$f":"SUM(CSVデータ1!AC134,CSVデータ2!AC134,CSVデータ3!AC134,CSVデータ4!AC134)","v":0},{"$f":"SUM(CSVデータ1!AD134,CSVデータ2!AD134,CSVデータ3!AD134,CSVデータ4!AD134)","v":0},{"$f":"SUM(CSVデータ1!AE134,CSVデータ2!AE134,CSVデータ3!AE134,CSVデータ4!AE134)","v":0},{"$f":"SUM(CSVデータ1!AF134,CSVデータ2!AF134,CSVデータ3!AF134,CSVデータ4!AF134)","v":0},{"$f":"SUM(CSVデータ1!AG134,CSVデータ2!AG134,CSVデータ3!AG134,CSVデータ4!AG134)","v":0}]
[{"$f":"CSVデータ1!A135","v":"明細部"},{"$f":"CSVデータ1!B135","v":"県"},{"$f":"CSVデータ1!C135","v":84},{"$f":"CSVデータ1!D135","v":"男"},{"$f":"SUM(CSVデータ1!E135,CSVデータ2!E135,CSVデータ3!E135,CSVデータ4!E135)","v":0},{"$f":"SUM(CSVデータ1!F135,CSVデータ2!F135,CSVデータ3!F135,CSVデータ4!F135)","v":0},{"$f":"SUM(CSVデータ1!G135,CSVデータ2!G135,CSVデータ3!G135,CSVデータ4!G135)","v":0},{"$f":"SUM(CSVデータ1!H135,CSVデータ2!H135,CSVデータ3!H135,CSVデータ4!H135)","v":0},{"$f":"SUM(CSVデータ1!I135,CSVデータ2!I135,CSVデータ3!I135,CSVデータ4!I135)","v":0},{"$f":"SUM(CSVデータ1!J135,CSVデータ2!J135,CSVデータ3!J135,CSVデータ4!J135)","v":0},{"$f":"SUM(CSVデータ1!K135,CSVデータ2!K135,CSVデータ3!K135,CSVデータ4!K135)","v":0},{"$f":"SUM(CSVデータ1!L135,CSVデータ2!L135,CSVデータ3!L135,CSVデータ4!L135)","v":0},{"$f":"SUM(CSVデータ1!M135,CSVデータ2!M135,CSVデータ3!M135,CSVデータ4!M135)","v":0},{"$f":"SUM(CSVデータ1!N135,CSVデータ2!N135,CSVデータ3!N135,CSVデータ4!N135)","v":0},{"$f":"SUM(CSVデータ1!O135,CSVデータ2!O135,CSVデータ3!O135,CSVデータ4!O135)","v":0},{"$f":"SUM(CSVデータ1!P135,CSVデータ2!P135,CSVデータ3!P135,CSVデータ4!P135)","v":0},{"$f":"SUM(CSVデータ1!Q135,CSVデータ2!Q135,CSVデータ3!Q135,CSVデータ4!Q135)","v":0},{"$f":"SUM(CSVデータ1!R135,CSVデータ2!R135,CSVデータ3!R135,CSVデータ4!R135)","v":0},{"$f":"SUM(CSVデータ1!S135,CSVデータ2!S135,CSVデータ3!S135,CSVデータ4!S135)","v":0},{"$f":"SUM(CSVデータ1!T135,CSVデータ2!T135,CSVデータ3!T135,CSVデータ4!T135)","v":0},{"$f":"SUM(CSVデータ1!U135,CSVデータ2!U135,CSVデータ3!U135,CSVデータ4!U135)","v":0},{"$f":"SUM(CSVデータ1!V135,CSVデータ2!V135,CSVデータ3!V135,CSVデータ4!V135)","v":0},{"$f":"SUM(CSVデータ1!W135,CSVデータ2!W135,CSVデータ3!W135,CSVデータ4!W135)","v":0},{"$f":"SUM(CSVデータ1!X135,CSVデータ2!X135,CSVデータ3!X135,CSVデータ4!X135)","v":0},{"$f":"SUM(CSVデータ1!Y135,CSVデータ2!Y135,CSVデータ3!Y135,CSVデータ4!Y135)","v":0},{"$f":"SUM(CSVデータ1!Z135,CSVデータ2!Z135,CSVデータ3!Z135,CSVデータ4!Z135)","v":0},{"$f":"SUM(CSVデータ1!AA135,CSVデータ2!AA135,CSVデータ3!AA135,CSVデータ4!AA135)","v":0},{"$f":"SUM(CSVデータ1!AB135,CSVデータ2!AB135,CSVデータ3!AB135,CSVデータ4!AB135)","v":0},{"$f":"SUM(CSVデータ1!AC135,CSVデータ2!AC135,CSVデータ3!AC135,CSVデータ4!AC135)","v":0},{"$f":"SUM(CSVデータ1!AD135,CSVデータ2!AD135,CSVデータ3!AD135,CSVデータ4!AD135)","v":0},{"$f":"SUM(CSVデータ1!AE135,CSVデータ2!AE135,CSVデータ3!AE135,CSVデータ4!AE135)","v":0},{"$f":"SUM(CSVデータ1!AF135,CSVデータ2!AF135,CSVデータ3!AF135,CSVデータ4!AF135)","v":0},{"$f":"SUM(CSVデータ1!AG135,CSVデータ2!AG135,CSVデータ3!AG135,CSVデータ4!AG135)","v":0}]
[{"$f":"CSVデータ1!A136","v":"明細部"},{"$f":"CSVデータ1!B136","v":"県"},{"$f":"CSVデータ1!C136","v":85},{"$f":"CSVデータ1!D136","v":"男"},{"$f":"SUM(CSVデータ1!E136,CSVデータ2!E136,CSVデータ3!E136,CSVデータ4!E136)","v":0},{"$f":"SUM(CSVデータ1!F136,CSVデータ2!F136,CSVデータ3!F136,CSVデータ4!F136)","v":0},{"$f":"SUM(CSVデータ1!G136,CSVデータ2!G136,CSVデータ3!G136,CSVデータ4!G136)","v":0},{"$f":"SUM(CSVデータ1!H136,CSVデータ2!H136,CSVデータ3!H136,CSVデータ4!H136)","v":0},{"$f":"SUM(CSVデータ1!I136,CSVデータ2!I136,CSVデータ3!I136,CSVデータ4!I136)","v":0},{"$f":"SUM(CSVデータ1!J136,CSVデータ2!J136,CSVデータ3!J136,CSVデータ4!J136)","v":0},{"$f":"SUM(CSVデータ1!K136,CSVデータ2!K136,CSVデータ3!K136,CSVデータ4!K136)","v":0},{"$f":"SUM(CSVデータ1!L136,CSVデータ2!L136,CSVデータ3!L136,CSVデータ4!L136)","v":0},{"$f":"SUM(CSVデータ1!M136,CSVデータ2!M136,CSVデータ3!M136,CSVデータ4!M136)","v":0},{"$f":"SUM(CSVデータ1!N136,CSVデータ2!N136,CSVデータ3!N136,CSVデータ4!N136)","v":0},{"$f":"SUM(CSVデータ1!O136,CSVデータ2!O136,CSVデータ3!O136,CSVデータ4!O136)","v":0},{"$f":"SUM(CSVデータ1!P136,CSVデータ2!P136,CSVデータ3!P136,CSVデータ4!P136)","v":0},{"$f":"SUM(CSVデータ1!Q136,CSVデータ2!Q136,CSVデータ3!Q136,CSVデータ4!Q136)","v":0},{"$f":"SUM(CSVデータ1!R136,CSVデータ2!R136,CSVデータ3!R136,CSVデータ4!R136)","v":0},{"$f":"SUM(CSVデータ1!S136,CSVデータ2!S136,CSVデータ3!S136,CSVデータ4!S136)","v":0},{"$f":"SUM(CSVデータ1!T136,CSVデータ2!T136,CSVデータ3!T136,CSVデータ4!T136)","v":0},{"$f":"SUM(CSVデータ1!U136,CSVデータ2!U136,CSVデータ3!U136,CSVデータ4!U136)","v":0},{"$f":"SUM(CSVデータ1!V136,CSVデータ2!V136,CSVデータ3!V136,CSVデータ4!V136)","v":0},{"$f":"SUM(CSVデータ1!W136,CSVデータ2!W136,CSVデータ3!W136,CSVデータ4!W136)","v":0},{"$f":"SUM(CSVデータ1!X136,CSVデータ2!X136,CSVデータ3!X136,CSVデータ4!X136)","v":0},{"$f":"SUM(CSVデータ1!Y136,CSVデータ2!Y136,CSVデータ3!Y136,CSVデータ4!Y136)","v":0},{"$f":"SUM(CSVデータ1!Z136,CSVデータ2!Z136,CSVデータ3!Z136,CSVデータ4!Z136)","v":0},{"$f":"SUM(CSVデータ1!AA136,CSVデータ2!AA136,CSVデータ3!AA136,CSVデータ4!AA136)","v":0},{"$f":"SUM(CSVデータ1!AB136,CSVデータ2!AB136,CSVデータ3!AB136,CSVデータ4!AB136)","v":0},{"$f":"SUM(CSVデータ1!AC136,CSVデータ2!AC136,CSVデータ3!AC136,CSVデータ4!AC136)","v":0},{"$f":"SUM(CSVデータ1!AD136,CSVデータ2!AD136,CSVデータ3!AD136,CSVデータ4!AD136)","v":0},{"$f":"SUM(CSVデータ1!AE136,CSVデータ2!AE136,CSVデータ3!AE136,CSVデータ4!AE136)","v":0},{"$f":"SUM(CSVデータ1!AF136,CSVデータ2!AF136,CSVデータ3!AF136,CSVデータ4!AF136)","v":0},{"$f":"SUM(CSVデータ1!AG136,CSVデータ2!AG136,CSVデータ3!AG136,CSVデータ4!AG136)","v":0}]
[{"$f":"CSVデータ1!A137","v":"明細部"},{"$f":"CSVデータ1!B137","v":"県"},{"$f":"CSVデータ1!C137","v":86},{"$f":"CSVデータ1!D137","v":"男"},{"$f":"SUM(CSVデータ1!E137,CSVデータ2!E137,CSVデータ3!E137,CSVデータ4!E137)","v":0},{"$f":"SUM(CSVデータ1!F137,CSVデータ2!F137,CSVデータ3!F137,CSVデータ4!F137)","v":0},{"$f":"SUM(CSVデータ1!G137,CSVデータ2!G137,CSVデータ3!G137,CSVデータ4!G137)","v":0},{"$f":"SUM(CSVデータ1!H137,CSVデータ2!H137,CSVデータ3!H137,CSVデータ4!H137)","v":0},{"$f":"SUM(CSVデータ1!I137,CSVデータ2!I137,CSVデータ3!I137,CSVデータ4!I137)","v":0},{"$f":"SUM(CSVデータ1!J137,CSVデータ2!J137,CSVデータ3!J137,CSVデータ4!J137)","v":0},{"$f":"SUM(CSVデータ1!K137,CSVデータ2!K137,CSVデータ3!K137,CSVデータ4!K137)","v":0},{"$f":"SUM(CSVデータ1!L137,CSVデータ2!L137,CSVデータ3!L137,CSVデータ4!L137)","v":0},{"$f":"SUM(CSVデータ1!M137,CSVデータ2!M137,CSVデータ3!M137,CSVデータ4!M137)","v":0},{"$f":"SUM(CSVデータ1!N137,CSVデータ2!N137,CSVデータ3!N137,CSVデータ4!N137)","v":0},{"$f":"SUM(CSVデータ1!O137,CSVデータ2!O137,CSVデータ3!O137,CSVデータ4!O137)","v":0},{"$f":"SUM(CSVデータ1!P137,CSVデータ2!P137,CSVデータ3!P137,CSVデータ4!P137)","v":0},{"$f":"SUM(CSVデータ1!Q137,CSVデータ2!Q137,CSVデータ3!Q137,CSVデータ4!Q137)","v":0},{"$f":"SUM(CSVデータ1!R137,CSVデータ2!R137,CSVデータ3!R137,CSVデータ4!R137)","v":0},{"$f":"SUM(CSVデータ1!S137,CSVデータ2!S137,CSVデータ3!S137,CSVデータ4!S137)","v":0},{"$f":"SUM(CSVデータ1!T137,CSVデータ2!T137,CSVデータ3!T137,CSVデータ4!T137)","v":0},{"$f":"SUM(CSVデータ1!U137,CSVデータ2!U137,CSVデータ3!U137,CSVデータ4!U137)","v":0},{"$f":"SUM(CSVデータ1!V137,CSVデータ2!V137,CSVデータ3!V137,CSVデータ4!V137)","v":0},{"$f":"SUM(CSVデータ1!W137,CSVデータ2!W137,CSVデータ3!W137,CSVデータ4!W137)","v":0},{"$f":"SUM(CSVデータ1!X137,CSVデータ2!X137,CSVデータ3!X137,CSVデータ4!X137)","v":0},{"$f":"SUM(CSVデータ1!Y137,CSVデータ2!Y137,CSVデータ3!Y137,CSVデータ4!Y137)","v":0},{"$f":"SUM(CSVデータ1!Z137,CSVデータ2!Z137,CSVデータ3!Z137,CSVデータ4!Z137)","v":0},{"$f":"SUM(CSVデータ1!AA137,CSVデータ2!AA137,CSVデータ3!AA137,CSVデータ4!AA137)","v":0},{"$f":"SUM(CSVデータ1!AB137,CSVデータ2!AB137,CSVデータ3!AB137,CSVデータ4!AB137)","v":0},{"$f":"SUM(CSVデータ1!AC137,CSVデータ2!AC137,CSVデータ3!AC137,CSVデータ4!AC137)","v":0},{"$f":"SUM(CSVデータ1!AD137,CSVデータ2!AD137,CSVデータ3!AD137,CSVデータ4!AD137)","v":0},{"$f":"SUM(CSVデータ1!AE137,CSVデータ2!AE137,CSVデータ3!AE137,CSVデータ4!AE137)","v":0},{"$f":"SUM(CSVデータ1!AF137,CSVデータ2!AF137,CSVデータ3!AF137,CSVデータ4!AF137)","v":0},{"$f":"SUM(CSVデータ1!AG137,CSVデータ2!AG137,CSVデータ3!AG137,CSVデータ4!AG137)","v":0}]
[{"$f":"CSVデータ1!A138","v":"明細部"},{"$f":"CSVデータ1!B138","v":"県"},{"$f":"CSVデータ1!C138","v":87},{"$f":"CSVデータ1!D138","v":"男"},{"$f":"SUM(CSVデータ1!E138,CSVデータ2!E138,CSVデータ3!E138,CSVデータ4!E138)","v":0},{"$f":"SUM(CSVデータ1!F138,CSVデータ2!F138,CSVデータ3!F138,CSVデータ4!F138)","v":0},{"$f":"SUM(CSVデータ1!G138,CSVデータ2!G138,CSVデータ3!G138,CSVデータ4!G138)","v":0},{"$f":"SUM(CSVデータ1!H138,CSVデータ2!H138,CSVデータ3!H138,CSVデータ4!H138)","v":0},{"$f":"SUM(CSVデータ1!I138,CSVデータ2!I138,CSVデータ3!I138,CSVデータ4!I138)","v":0},{"$f":"SUM(CSVデータ1!J138,CSVデータ2!J138,CSVデータ3!J138,CSVデータ4!J138)","v":0},{"$f":"SUM(CSVデータ1!K138,CSVデータ2!K138,CSVデータ3!K138,CSVデータ4!K138)","v":0},{"$f":"SUM(CSVデータ1!L138,CSVデータ2!L138,CSVデータ3!L138,CSVデータ4!L138)","v":0},{"$f":"SUM(CSVデータ1!M138,CSVデータ2!M138,CSVデータ3!M138,CSVデータ4!M138)","v":0},{"$f":"SUM(CSVデータ1!N138,CSVデータ2!N138,CSVデータ3!N138,CSVデータ4!N138)","v":0},{"$f":"SUM(CSVデータ1!O138,CSVデータ2!O138,CSVデータ3!O138,CSVデータ4!O138)","v":0},{"$f":"SUM(CSVデータ1!P138,CSVデータ2!P138,CSVデータ3!P138,CSVデータ4!P138)","v":0},{"$f":"SUM(CSVデータ1!Q138,CSVデータ2!Q138,CSVデータ3!Q138,CSVデータ4!Q138)","v":0},{"$f":"SUM(CSVデータ1!R138,CSVデータ2!R138,CSVデータ3!R138,CSVデータ4!R138)","v":0},{"$f":"SUM(CSVデータ1!S138,CSVデータ2!S138,CSVデータ3!S138,CSVデータ4!S138)","v":0},{"$f":"SUM(CSVデータ1!T138,CSVデータ2!T138,CSVデータ3!T138,CSVデータ4!T138)","v":0},{"$f":"SUM(CSVデータ1!U138,CSVデータ2!U138,CSVデータ3!U138,CSVデータ4!U138)","v":0},{"$f":"SUM(CSVデータ1!V138,CSVデータ2!V138,CSVデータ3!V138,CSVデータ4!V138)","v":0},{"$f":"SUM(CSVデータ1!W138,CSVデータ2!W138,CSVデータ3!W138,CSVデータ4!W138)","v":0},{"$f":"SUM(CSVデータ1!X138,CSVデータ2!X138,CSVデータ3!X138,CSVデータ4!X138)","v":0},{"$f":"SUM(CSVデータ1!Y138,CSVデータ2!Y138,CSVデータ3!Y138,CSVデータ4!Y138)","v":0},{"$f":"SUM(CSVデータ1!Z138,CSVデータ2!Z138,CSVデータ3!Z138,CSVデータ4!Z138)","v":0},{"$f":"SUM(CSVデータ1!AA138,CSVデータ2!AA138,CSVデータ3!AA138,CSVデータ4!AA138)","v":0},{"$f":"SUM(CSVデータ1!AB138,CSVデータ2!AB138,CSVデータ3!AB138,CSVデータ4!AB138)","v":0},{"$f":"SUM(CSVデータ1!AC138,CSVデータ2!AC138,CSVデータ3!AC138,CSVデータ4!AC138)","v":0},{"$f":"SUM(CSVデータ1!AD138,CSVデータ2!AD138,CSVデータ3!AD138,CSVデータ4!AD138)","v":0},{"$f":"SUM(CSVデータ1!AE138,CSVデータ2!AE138,CSVデータ3!AE138,CSVデータ4!AE138)","v":0},{"$f":"SUM(CSVデータ1!AF138,CSVデータ2!AF138,CSVデータ3!AF138,CSVデータ4!AF138)","v":0},{"$f":"SUM(CSVデータ1!AG138,CSVデータ2!AG138,CSVデータ3!AG138,CSVデータ4!AG138)","v":0}]
[{"$f":"CSVデータ1!A139","v":"明細部"},{"$f":"CSVデータ1!B139","v":"県"},{"$f":"CSVデータ1!C139","v":88},{"$f":"CSVデータ1!D139","v":"男"},{"$f":"SUM(CSVデータ1!E139,CSVデータ2!E139,CSVデータ3!E139,CSVデータ4!E139)","v":0},{"$f":"SUM(CSVデータ1!F139,CSVデータ2!F139,CSVデータ3!F139,CSVデータ4!F139)","v":0},{"$f":"SUM(CSVデータ1!G139,CSVデータ2!G139,CSVデータ3!G139,CSVデータ4!G139)","v":0},{"$f":"SUM(CSVデータ1!H139,CSVデータ2!H139,CSVデータ3!H139,CSVデータ4!H139)","v":0},{"$f":"SUM(CSVデータ1!I139,CSVデータ2!I139,CSVデータ3!I139,CSVデータ4!I139)","v":0},{"$f":"SUM(CSVデータ1!J139,CSVデータ2!J139,CSVデータ3!J139,CSVデータ4!J139)","v":0},{"$f":"SUM(CSVデータ1!K139,CSVデータ2!K139,CSVデータ3!K139,CSVデータ4!K139)","v":0},{"$f":"SUM(CSVデータ1!L139,CSVデータ2!L139,CSVデータ3!L139,CSVデータ4!L139)","v":0},{"$f":"SUM(CSVデータ1!M139,CSVデータ2!M139,CSVデータ3!M139,CSVデータ4!M139)","v":0},{"$f":"SUM(CSVデータ1!N139,CSVデータ2!N139,CSVデータ3!N139,CSVデータ4!N139)","v":0},{"$f":"SUM(CSVデータ1!O139,CSVデータ2!O139,CSVデータ3!O139,CSVデータ4!O139)","v":0},{"$f":"SUM(CSVデータ1!P139,CSVデータ2!P139,CSVデータ3!P139,CSVデータ4!P139)","v":0},{"$f":"SUM(CSVデータ1!Q139,CSVデータ2!Q139,CSVデータ3!Q139,CSVデータ4!Q139)","v":0},{"$f":"SUM(CSVデータ1!R139,CSVデータ2!R139,CSVデータ3!R139,CSVデータ4!R139)","v":0},{"$f":"SUM(CSVデータ1!S139,CSVデータ2!S139,CSVデータ3!S139,CSVデータ4!S139)","v":0},{"$f":"SUM(CSVデータ1!T139,CSVデータ2!T139,CSVデータ3!T139,CSVデータ4!T139)","v":0},{"$f":"SUM(CSVデータ1!U139,CSVデータ2!U139,CSVデータ3!U139,CSVデータ4!U139)","v":0},{"$f":"SUM(CSVデータ1!V139,CSVデータ2!V139,CSVデータ3!V139,CSVデータ4!V139)","v":0},{"$f":"SUM(CSVデータ1!W139,CSVデータ2!W139,CSVデータ3!W139,CSVデータ4!W139)","v":0},{"$f":"SUM(CSVデータ1!X139,CSVデータ2!X139,CSVデータ3!X139,CSVデータ4!X139)","v":0},{"$f":"SUM(CSVデータ1!Y139,CSVデータ2!Y139,CSVデータ3!Y139,CSVデータ4!Y139)","v":0},{"$f":"SUM(CSVデータ1!Z139,CSVデータ2!Z139,CSVデータ3!Z139,CSVデータ4!Z139)","v":0},{"$f":"SUM(CSVデータ1!AA139,CSVデータ2!AA139,CSVデータ3!AA139,CSVデータ4!AA139)","v":0},{"$f":"SUM(CSVデータ1!AB139,CSVデータ2!AB139,CSVデータ3!AB139,CSVデータ4!AB139)","v":0},{"$f":"SUM(CSVデータ1!AC139,CSVデータ2!AC139,CSVデータ3!AC139,CSVデータ4!AC139)","v":0},{"$f":"SUM(CSVデータ1!AD139,CSVデータ2!AD139,CSVデータ3!AD139,CSVデータ4!AD139)","v":0},{"$f":"SUM(CSVデータ1!AE139,CSVデータ2!AE139,CSVデータ3!AE139,CSVデータ4!AE139)","v":0},{"$f":"SUM(CSVデータ1!AF139,CSVデータ2!AF139,CSVデータ3!AF139,CSVデータ4!AF139)","v":0},{"$f":"SUM(CSVデータ1!AG139,CSVデータ2!AG139,CSVデータ3!AG139,CSVデータ4!AG139)","v":0}]
[{"$f":"CSVデータ1!A140","v":"明細部"},{"$f":"CSVデータ1!B140","v":"県"},{"$f":"CSVデータ1!C140","v":89},{"$f":"CSVデータ1!D140","v":"男"},{"$f":"SUM(CSVデータ1!E140,CSVデータ2!E140,CSVデータ3!E140,CSVデータ4!E140)","v":0},{"$f":"SUM(CSVデータ1!F140,CSVデータ2!F140,CSVデータ3!F140,CSVデータ4!F140)","v":0},{"$f":"SUM(CSVデータ1!G140,CSVデータ2!G140,CSVデータ3!G140,CSVデータ4!G140)","v":0},{"$f":"SUM(CSVデータ1!H140,CSVデータ2!H140,CSVデータ3!H140,CSVデータ4!H140)","v":0},{"$f":"SUM(CSVデータ1!I140,CSVデータ2!I140,CSVデータ3!I140,CSVデータ4!I140)","v":0},{"$f":"SUM(CSVデータ1!J140,CSVデータ2!J140,CSVデータ3!J140,CSVデータ4!J140)","v":0},{"$f":"SUM(CSVデータ1!K140,CSVデータ2!K140,CSVデータ3!K140,CSVデータ4!K140)","v":0},{"$f":"SUM(CSVデータ1!L140,CSVデータ2!L140,CSVデータ3!L140,CSVデータ4!L140)","v":0},{"$f":"SUM(CSVデータ1!M140,CSVデータ2!M140,CSVデータ3!M140,CSVデータ4!M140)","v":0},{"$f":"SUM(CSVデータ1!N140,CSVデータ2!N140,CSVデータ3!N140,CSVデータ4!N140)","v":0},{"$f":"SUM(CSVデータ1!O140,CSVデータ2!O140,CSVデータ3!O140,CSVデータ4!O140)","v":0},{"$f":"SUM(CSVデータ1!P140,CSVデータ2!P140,CSVデータ3!P140,CSVデータ4!P140)","v":0},{"$f":"SUM(CSVデータ1!Q140,CSVデータ2!Q140,CSVデータ3!Q140,CSVデータ4!Q140)","v":0},{"$f":"SUM(CSVデータ1!R140,CSVデータ2!R140,CSVデータ3!R140,CSVデータ4!R140)","v":0},{"$f":"SUM(CSVデータ1!S140,CSVデータ2!S140,CSVデータ3!S140,CSVデータ4!S140)","v":0},{"$f":"SUM(CSVデータ1!T140,CSVデータ2!T140,CSVデータ3!T140,CSVデータ4!T140)","v":0},{"$f":"SUM(CSVデータ1!U140,CSVデータ2!U140,CSVデータ3!U140,CSVデータ4!U140)","v":0},{"$f":"SUM(CSVデータ1!V140,CSVデータ2!V140,CSVデータ3!V140,CSVデータ4!V140)","v":0},{"$f":"SUM(CSVデータ1!W140,CSVデータ2!W140,CSVデータ3!W140,CSVデータ4!W140)","v":0},{"$f":"SUM(CSVデータ1!X140,CSVデータ2!X140,CSVデータ3!X140,CSVデータ4!X140)","v":0},{"$f":"SUM(CSVデータ1!Y140,CSVデータ2!Y140,CSVデータ3!Y140,CSVデータ4!Y140)","v":0},{"$f":"SUM(CSVデータ1!Z140,CSVデータ2!Z140,CSVデータ3!Z140,CSVデータ4!Z140)","v":0},{"$f":"SUM(CSVデータ1!AA140,CSVデータ2!AA140,CSVデータ3!AA140,CSVデータ4!AA140)","v":0},{"$f":"SUM(CSVデータ1!AB140,CSVデータ2!AB140,CSVデータ3!AB140,CSVデータ4!AB140)","v":0},{"$f":"SUM(CSVデータ1!AC140,CSVデータ2!AC140,CSVデータ3!AC140,CSVデータ4!AC140)","v":0},{"$f":"SUM(CSVデータ1!AD140,CSVデータ2!AD140,CSVデータ3!AD140,CSVデータ4!AD140)","v":0},{"$f":"SUM(CSVデータ1!AE140,CSVデータ2!AE140,CSVデータ3!AE140,CSVデータ4!AE140)","v":0},{"$f":"SUM(CSVデータ1!AF140,CSVデータ2!AF140,CSVデータ3!AF140,CSVデータ4!AF140)","v":0},{"$f":"SUM(CSVデータ1!AG140,CSVデータ2!AG140,CSVデータ3!AG140,CSVデータ4!AG140)","v":0}]
[{"$f":"CSVデータ1!A141","v":"明細部"},{"$f":"CSVデータ1!B141","v":"県"},{"$f":"CSVデータ1!C141","v":90},{"$f":"CSVデータ1!D141","v":"男"},{"$f":"SUM(CSVデータ1!E141,CSVデータ2!E141,CSVデータ3!E141,CSVデータ4!E141)","v":0},{"$f":"SUM(CSVデータ1!F141,CSVデータ2!F141,CSVデータ3!F141,CSVデータ4!F141)","v":0},{"$f":"SUM(CSVデータ1!G141,CSVデータ2!G141,CSVデータ3!G141,CSVデータ4!G141)","v":0},{"$f":"SUM(CSVデータ1!H141,CSVデータ2!H141,CSVデータ3!H141,CSVデータ4!H141)","v":0},{"$f":"SUM(CSVデータ1!I141,CSVデータ2!I141,CSVデータ3!I141,CSVデータ4!I141)","v":0},{"$f":"SUM(CSVデータ1!J141,CSVデータ2!J141,CSVデータ3!J141,CSVデータ4!J141)","v":0},{"$f":"SUM(CSVデータ1!K141,CSVデータ2!K141,CSVデータ3!K141,CSVデータ4!K141)","v":0},{"$f":"SUM(CSVデータ1!L141,CSVデータ2!L141,CSVデータ3!L141,CSVデータ4!L141)","v":0},{"$f":"SUM(CSVデータ1!M141,CSVデータ2!M141,CSVデータ3!M141,CSVデータ4!M141)","v":0},{"$f":"SUM(CSVデータ1!N141,CSVデータ2!N141,CSVデータ3!N141,CSVデータ4!N141)","v":0},{"$f":"SUM(CSVデータ1!O141,CSVデータ2!O141,CSVデータ3!O141,CSVデータ4!O141)","v":0},{"$f":"SUM(CSVデータ1!P141,CSVデータ2!P141,CSVデータ3!P141,CSVデータ4!P141)","v":0},{"$f":"SUM(CSVデータ1!Q141,CSVデータ2!Q141,CSVデータ3!Q141,CSVデータ4!Q141)","v":0},{"$f":"SUM(CSVデータ1!R141,CSVデータ2!R141,CSVデータ3!R141,CSVデータ4!R141)","v":0},{"$f":"SUM(CSVデータ1!S141,CSVデータ2!S141,CSVデータ3!S141,CSVデータ4!S141)","v":0},{"$f":"SUM(CSVデータ1!T141,CSVデータ2!T141,CSVデータ3!T141,CSVデータ4!T141)","v":0},{"$f":"SUM(CSVデータ1!U141,CSVデータ2!U141,CSVデータ3!U141,CSVデータ4!U141)","v":0},{"$f":"SUM(CSVデータ1!V141,CSVデータ2!V141,CSVデータ3!V141,CSVデータ4!V141)","v":0},{"$f":"SUM(CSVデータ1!W141,CSVデータ2!W141,CSVデータ3!W141,CSVデータ4!W141)","v":0},{"$f":"SUM(CSVデータ1!X141,CSVデータ2!X141,CSVデータ3!X141,CSVデータ4!X141)","v":0},{"$f":"SUM(CSVデータ1!Y141,CSVデータ2!Y141,CSVデータ3!Y141,CSVデータ4!Y141)","v":0},{"$f":"SUM(CSVデータ1!Z141,CSVデータ2!Z141,CSVデータ3!Z141,CSVデータ4!Z141)","v":0},{"$f":"SUM(CSVデータ1!AA141,CSVデータ2!AA141,CSVデータ3!AA141,CSVデータ4!AA141)","v":0},{"$f":"SUM(CSVデータ1!AB141,CSVデータ2!AB141,CSVデータ3!AB141,CSVデータ4!AB141)","v":0},{"$f":"SUM(CSVデータ1!AC141,CSVデータ2!AC141,CSVデータ3!AC141,CSVデータ4!AC141)","v":0},{"$f":"SUM(CSVデータ1!AD141,CSVデータ2!AD141,CSVデータ3!AD141,CSVデータ4!AD141)","v":0},{"$f":"SUM(CSVデータ1!AE141,CSVデータ2!AE141,CSVデータ3!AE141,CSVデータ4!AE141)","v":0},{"$f":"SUM(CSVデータ1!AF141,CSVデータ2!AF141,CSVデータ3!AF141,CSVデータ4!AF141)","v":0},{"$f":"SUM(CSVデータ1!AG141,CSVデータ2!AG141,CSVデータ3!AG141,CSVデータ4!AG141)","v":0}]
[{"$f":"CSVデータ1!A142","v":"明細部"},{"$f":"CSVデータ1!B142","v":"県"},{"$f":"CSVデータ1!C142","v":91},{"$f":"CSVデータ1!D142","v":"男"},{"$f":"SUM(CSVデータ1!E142,CSVデータ2!E142,CSVデータ3!E142,CSVデータ4!E142)","v":0},{"$f":"SUM(CSVデータ1!F142,CSVデータ2!F142,CSVデータ3!F142,CSVデータ4!F142)","v":0},{"$f":"SUM(CSVデータ1!G142,CSVデータ2!G142,CSVデータ3!G142,CSVデータ4!G142)","v":0},{"$f":"SUM(CSVデータ1!H142,CSVデータ2!H142,CSVデータ3!H142,CSVデータ4!H142)","v":0},{"$f":"SUM(CSVデータ1!I142,CSVデータ2!I142,CSVデータ3!I142,CSVデータ4!I142)","v":0},{"$f":"SUM(CSVデータ1!J142,CSVデータ2!J142,CSVデータ3!J142,CSVデータ4!J142)","v":0},{"$f":"SUM(CSVデータ1!K142,CSVデータ2!K142,CSVデータ3!K142,CSVデータ4!K142)","v":0},{"$f":"SUM(CSVデータ1!L142,CSVデータ2!L142,CSVデータ3!L142,CSVデータ4!L142)","v":0},{"$f":"SUM(CSVデータ1!M142,CSVデータ2!M142,CSVデータ3!M142,CSVデータ4!M142)","v":0},{"$f":"SUM(CSVデータ1!N142,CSVデータ2!N142,CSVデータ3!N142,CSVデータ4!N142)","v":0},{"$f":"SUM(CSVデータ1!O142,CSVデータ2!O142,CSVデータ3!O142,CSVデータ4!O142)","v":0},{"$f":"SUM(CSVデータ1!P142,CSVデータ2!P142,CSVデータ3!P142,CSVデータ4!P142)","v":0},{"$f":"SUM(CSVデータ1!Q142,CSVデータ2!Q142,CSVデータ3!Q142,CSVデータ4!Q142)","v":0},{"$f":"SUM(CSVデータ1!R142,CSVデータ2!R142,CSVデータ3!R142,CSVデータ4!R142)","v":0},{"$f":"SUM(CSVデータ1!S142,CSVデータ2!S142,CSVデータ3!S142,CSVデータ4!S142)","v":0},{"$f":"SUM(CSVデータ1!T142,CSVデータ2!T142,CSVデータ3!T142,CSVデータ4!T142)","v":0},{"$f":"SUM(CSVデータ1!U142,CSVデータ2!U142,CSVデータ3!U142,CSVデータ4!U142)","v":0},{"$f":"SUM(CSVデータ1!V142,CSVデータ2!V142,CSVデータ3!V142,CSVデータ4!V142)","v":0},{"$f":"SUM(CSVデータ1!W142,CSVデータ2!W142,CSVデータ3!W142,CSVデータ4!W142)","v":0},{"$f":"SUM(CSVデータ1!X142,CSVデータ2!X142,CSVデータ3!X142,CSVデータ4!X142)","v":0},{"$f":"SUM(CSVデータ1!Y142,CSVデータ2!Y142,CSVデータ3!Y142,CSVデータ4!Y142)","v":0},{"$f":"SUM(CSVデータ1!Z142,CSVデータ2!Z142,CSVデータ3!Z142,CSVデータ4!Z142)","v":0},{"$f":"SUM(CSVデータ1!AA142,CSVデータ2!AA142,CSVデータ3!AA142,CSVデータ4!AA142)","v":0},{"$f":"SUM(CSVデータ1!AB142,CSVデータ2!AB142,CSVデータ3!AB142,CSVデータ4!AB142)","v":0},{"$f":"SUM(CSVデータ1!AC142,CSVデータ2!AC142,CSVデータ3!AC142,CSVデータ4!AC142)","v":0},{"$f":"SUM(CSVデータ1!AD142,CSVデータ2!AD142,CSVデータ3!AD142,CSVデータ4!AD142)","v":0},{"$f":"SUM(CSVデータ1!AE142,CSVデータ2!AE142,CSVデータ3!AE142,CSVデータ4!AE142)","v":0},{"$f":"SUM(CSVデータ1!AF142,CSVデータ2!AF142,CSVデータ3!AF142,CSVデータ4!AF142)","v":0},{"$f":"SUM(CSVデータ1!AG142,CSVデータ2!AG142,CSVデータ3!AG142,CSVデータ4!AG142)","v":0}]
[{"$f":"CSVデータ1!A143","v":"明細部"},{"$f":"CSVデータ1!B143","v":"県"},{"$f":"CSVデータ1!C143","v":92},{"$f":"CSVデータ1!D143","v":"男"},{"$f":"SUM(CSVデータ1!E143,CSVデータ2!E143,CSVデータ3!E143,CSVデータ4!E143)","v":0},{"$f":"SUM(CSVデータ1!F143,CSVデータ2!F143,CSVデータ3!F143,CSVデータ4!F143)","v":0},{"$f":"SUM(CSVデータ1!G143,CSVデータ2!G143,CSVデータ3!G143,CSVデータ4!G143)","v":0},{"$f":"SUM(CSVデータ1!H143,CSVデータ2!H143,CSVデータ3!H143,CSVデータ4!H143)","v":0},{"$f":"SUM(CSVデータ1!I143,CSVデータ2!I143,CSVデータ3!I143,CSVデータ4!I143)","v":0},{"$f":"SUM(CSVデータ1!J143,CSVデータ2!J143,CSVデータ3!J143,CSVデータ4!J143)","v":0},{"$f":"SUM(CSVデータ1!K143,CSVデータ2!K143,CSVデータ3!K143,CSVデータ4!K143)","v":0},{"$f":"SUM(CSVデータ1!L143,CSVデータ2!L143,CSVデータ3!L143,CSVデータ4!L143)","v":0},{"$f":"SUM(CSVデータ1!M143,CSVデータ2!M143,CSVデータ3!M143,CSVデータ4!M143)","v":0},{"$f":"SUM(CSVデータ1!N143,CSVデータ2!N143,CSVデータ3!N143,CSVデータ4!N143)","v":0},{"$f":"SUM(CSVデータ1!O143,CSVデータ2!O143,CSVデータ3!O143,CSVデータ4!O143)","v":0},{"$f":"SUM(CSVデータ1!P143,CSVデータ2!P143,CSVデータ3!P143,CSVデータ4!P143)","v":0},{"$f":"SUM(CSVデータ1!Q143,CSVデータ2!Q143,CSVデータ3!Q143,CSVデータ4!Q143)","v":0},{"$f":"SUM(CSVデータ1!R143,CSVデータ2!R143,CSVデータ3!R143,CSVデータ4!R143)","v":0},{"$f":"SUM(CSVデータ1!S143,CSVデータ2!S143,CSVデータ3!S143,CSVデータ4!S143)","v":0},{"$f":"SUM(CSVデータ1!T143,CSVデータ2!T143,CSVデータ3!T143,CSVデータ4!T143)","v":0},{"$f":"SUM(CSVデータ1!U143,CSVデータ2!U143,CSVデータ3!U143,CSVデータ4!U143)","v":0},{"$f":"SUM(CSVデータ1!V143,CSVデータ2!V143,CSVデータ3!V143,CSVデータ4!V143)","v":0},{"$f":"SUM(CSVデータ1!W143,CSVデータ2!W143,CSVデータ3!W143,CSVデータ4!W143)","v":0},{"$f":"SUM(CSVデータ1!X143,CSVデータ2!X143,CSVデータ3!X143,CSVデータ4!X143)","v":0},{"$f":"SUM(CSVデータ1!Y143,CSVデータ2!Y143,CSVデータ3!Y143,CSVデータ4!Y143)","v":0},{"$f":"SUM(CSVデータ1!Z143,CSVデータ2!Z143,CSVデータ3!Z143,CSVデータ4!Z143)","v":0},{"$f":"SUM(CSVデータ1!AA143,CSVデータ2!AA143,CSVデータ3!AA143,CSVデータ4!AA143)","v":0},{"$f":"SUM(CSVデータ1!AB143,CSVデータ2!AB143,CSVデータ3!AB143,CSVデータ4!AB143)","v":0},{"$f":"SUM(CSVデータ1!AC143,CSVデータ2!AC143,CSVデータ3!AC143,CSVデータ4!AC143)","v":0},{"$f":"SUM(CSVデータ1!AD143,CSVデータ2!AD143,CSVデータ3!AD143,CSVデータ4!AD143)","v":0},{"$f":"SUM(CSVデータ1!AE143,CSVデータ2!AE143,CSVデータ3!AE143,CSVデータ4!AE143)","v":0},{"$f":"SUM(CSVデータ1!AF143,CSVデータ2!AF143,CSVデータ3!AF143,CSVデータ4!AF143)","v":0},{"$f":"SUM(CSVデータ1!AG143,CSVデータ2!AG143,CSVデータ3!AG143,CSVデータ4!AG143)","v":0}]
[{"$f":"CSVデータ1!A144","v":"明細部"},{"$f":"CSVデータ1!B144","v":"県"},{"$f":"CSVデータ1!C144","v":93},{"$f":"CSVデータ1!D144","v":"男"},{"$f":"SUM(CSVデータ1!E144,CSVデータ2!E144,CSVデータ3!E144,CSVデータ4!E144)","v":0},{"$f":"SUM(CSVデータ1!F144,CSVデータ2!F144,CSVデータ3!F144,CSVデータ4!F144)","v":0},{"$f":"SUM(CSVデータ1!G144,CSVデータ2!G144,CSVデータ3!G144,CSVデータ4!G144)","v":0},{"$f":"SUM(CSVデータ1!H144,CSVデータ2!H144,CSVデータ3!H144,CSVデータ4!H144)","v":0},{"$f":"SUM(CSVデータ1!I144,CSVデータ2!I144,CSVデータ3!I144,CSVデータ4!I144)","v":0},{"$f":"SUM(CSVデータ1!J144,CSVデータ2!J144,CSVデータ3!J144,CSVデータ4!J144)","v":0},{"$f":"SUM(CSVデータ1!K144,CSVデータ2!K144,CSVデータ3!K144,CSVデータ4!K144)","v":0},{"$f":"SUM(CSVデータ1!L144,CSVデータ2!L144,CSVデータ3!L144,CSVデータ4!L144)","v":0},{"$f":"SUM(CSVデータ1!M144,CSVデータ2!M144,CSVデータ3!M144,CSVデータ4!M144)","v":0},{"$f":"SUM(CSVデータ1!N144,CSVデータ2!N144,CSVデータ3!N144,CSVデータ4!N144)","v":0},{"$f":"SUM(CSVデータ1!O144,CSVデータ2!O144,CSVデータ3!O144,CSVデータ4!O144)","v":0},{"$f":"SUM(CSVデータ1!P144,CSVデータ2!P144,CSVデータ3!P144,CSVデータ4!P144)","v":0},{"$f":"SUM(CSVデータ1!Q144,CSVデータ2!Q144,CSVデータ3!Q144,CSVデータ4!Q144)","v":0},{"$f":"SUM(CSVデータ1!R144,CSVデータ2!R144,CSVデータ3!R144,CSVデータ4!R144)","v":0},{"$f":"SUM(CSVデータ1!S144,CSVデータ2!S144,CSVデータ3!S144,CSVデータ4!S144)","v":0},{"$f":"SUM(CSVデータ1!T144,CSVデータ2!T144,CSVデータ3!T144,CSVデータ4!T144)","v":0},{"$f":"SUM(CSVデータ1!U144,CSVデータ2!U144,CSVデータ3!U144,CSVデータ4!U144)","v":0},{"$f":"SUM(CSVデータ1!V144,CSVデータ2!V144,CSVデータ3!V144,CSVデータ4!V144)","v":0},{"$f":"SUM(CSVデータ1!W144,CSVデータ2!W144,CSVデータ3!W144,CSVデータ4!W144)","v":0},{"$f":"SUM(CSVデータ1!X144,CSVデータ2!X144,CSVデータ3!X144,CSVデータ4!X144)","v":0},{"$f":"SUM(CSVデータ1!Y144,CSVデータ2!Y144,CSVデータ3!Y144,CSVデータ4!Y144)","v":0},{"$f":"SUM(CSVデータ1!Z144,CSVデータ2!Z144,CSVデータ3!Z144,CSVデータ4!Z144)","v":0},{"$f":"SUM(CSVデータ1!AA144,CSVデータ2!AA144,CSVデータ3!AA144,CSVデータ4!AA144)","v":0},{"$f":"SUM(CSVデータ1!AB144,CSVデータ2!AB144,CSVデータ3!AB144,CSVデータ4!AB144)","v":0},{"$f":"SUM(CSVデータ1!AC144,CSVデータ2!AC144,CSVデータ3!AC144,CSVデータ4!AC144)","v":0},{"$f":"SUM(CSVデータ1!AD144,CSVデータ2!AD144,CSVデータ3!AD144,CSVデータ4!AD144)","v":0},{"$f":"SUM(CSVデータ1!AE144,CSVデータ2!AE144,CSVデータ3!AE144,CSVデータ4!AE144)","v":0},{"$f":"SUM(CSVデータ1!AF144,CSVデータ2!AF144,CSVデータ3!AF144,CSVデータ4!AF144)","v":0},{"$f":"SUM(CSVデータ1!AG144,CSVデータ2!AG144,CSVデータ3!AG144,CSVデータ4!AG144)","v":0}]
[{"$f":"CSVデータ1!A145","v":"明細部"},{"$f":"CSVデータ1!B145","v":"県"},{"$f":"CSVデータ1!C145","v":94},{"$f":"CSVデータ1!D145","v":"男"},{"$f":"SUM(CSVデータ1!E145,CSVデータ2!E145,CSVデータ3!E145,CSVデータ4!E145)","v":0},{"$f":"SUM(CSVデータ1!F145,CSVデータ2!F145,CSVデータ3!F145,CSVデータ4!F145)","v":0},{"$f":"SUM(CSVデータ1!G145,CSVデータ2!G145,CSVデータ3!G145,CSVデータ4!G145)","v":0},{"$f":"SUM(CSVデータ1!H145,CSVデータ2!H145,CSVデータ3!H145,CSVデータ4!H145)","v":0},{"$f":"SUM(CSVデータ1!I145,CSVデータ2!I145,CSVデータ3!I145,CSVデータ4!I145)","v":0},{"$f":"SUM(CSVデータ1!J145,CSVデータ2!J145,CSVデータ3!J145,CSVデータ4!J145)","v":0},{"$f":"SUM(CSVデータ1!K145,CSVデータ2!K145,CSVデータ3!K145,CSVデータ4!K145)","v":0},{"$f":"SUM(CSVデータ1!L145,CSVデータ2!L145,CSVデータ3!L145,CSVデータ4!L145)","v":0},{"$f":"SUM(CSVデータ1!M145,CSVデータ2!M145,CSVデータ3!M145,CSVデータ4!M145)","v":0},{"$f":"SUM(CSVデータ1!N145,CSVデータ2!N145,CSVデータ3!N145,CSVデータ4!N145)","v":0},{"$f":"SUM(CSVデータ1!O145,CSVデータ2!O145,CSVデータ3!O145,CSVデータ4!O145)","v":0},{"$f":"SUM(CSVデータ1!P145,CSVデータ2!P145,CSVデータ3!P145,CSVデータ4!P145)","v":0},{"$f":"SUM(CSVデータ1!Q145,CSVデータ2!Q145,CSVデータ3!Q145,CSVデータ4!Q145)","v":0},{"$f":"SUM(CSVデータ1!R145,CSVデータ2!R145,CSVデータ3!R145,CSVデータ4!R145)","v":0},{"$f":"SUM(CSVデータ1!S145,CSVデータ2!S145,CSVデータ3!S145,CSVデータ4!S145)","v":0},{"$f":"SUM(CSVデータ1!T145,CSVデータ2!T145,CSVデータ3!T145,CSVデータ4!T145)","v":0},{"$f":"SUM(CSVデータ1!U145,CSVデータ2!U145,CSVデータ3!U145,CSVデータ4!U145)","v":0},{"$f":"SUM(CSVデータ1!V145,CSVデータ2!V145,CSVデータ3!V145,CSVデータ4!V145)","v":0},{"$f":"SUM(CSVデータ1!W145,CSVデータ2!W145,CSVデータ3!W145,CSVデータ4!W145)","v":0},{"$f":"SUM(CSVデータ1!X145,CSVデータ2!X145,CSVデータ3!X145,CSVデータ4!X145)","v":0},{"$f":"SUM(CSVデータ1!Y145,CSVデータ2!Y145,CSVデータ3!Y145,CSVデータ4!Y145)","v":0},{"$f":"SUM(CSVデータ1!Z145,CSVデータ2!Z145,CSVデータ3!Z145,CSVデータ4!Z145)","v":0},{"$f":"SUM(CSVデータ1!AA145,CSVデータ2!AA145,CSVデータ3!AA145,CSVデータ4!AA145)","v":0},{"$f":"SUM(CSVデータ1!AB145,CSVデータ2!AB145,CSVデータ3!AB145,CSVデータ4!AB145)","v":0},{"$f":"SUM(CSVデータ1!AC145,CSVデータ2!AC145,CSVデータ3!AC145,CSVデータ4!AC145)","v":0},{"$f":"SUM(CSVデータ1!AD145,CSVデータ2!AD145,CSVデータ3!AD145,CSVデータ4!AD145)","v":0},{"$f":"SUM(CSVデータ1!AE145,CSVデータ2!AE145,CSVデータ3!AE145,CSVデータ4!AE145)","v":0},{"$f":"SUM(CSVデータ1!AF145,CSVデータ2!AF145,CSVデータ3!AF145,CSVデータ4!AF145)","v":0},{"$f":"SUM(CSVデータ1!AG145,CSVデータ2!AG145,CSVデータ3!AG145,CSVデータ4!AG145)","v":0}]
[{"$f":"CSVデータ1!A146","v":"明細部"},{"$f":"CSVデータ1!B146","v":"県"},{"$f":"CSVデータ1!C146","v":95},{"$f":"CSVデータ1!D146","v":"男"},{"$f":"SUM(CSVデータ1!E146,CSVデータ2!E146,CSVデータ3!E146,CSVデータ4!E146)","v":0},{"$f":"SUM(CSVデータ1!F146,CSVデータ2!F146,CSVデータ3!F146,CSVデータ4!F146)","v":0},{"$f":"SUM(CSVデータ1!G146,CSVデータ2!G146,CSVデータ3!G146,CSVデータ4!G146)","v":0},{"$f":"SUM(CSVデータ1!H146,CSVデータ2!H146,CSVデータ3!H146,CSVデータ4!H146)","v":0},{"$f":"SUM(CSVデータ1!I146,CSVデータ2!I146,CSVデータ3!I146,CSVデータ4!I146)","v":0},{"$f":"SUM(CSVデータ1!J146,CSVデータ2!J146,CSVデータ3!J146,CSVデータ4!J146)","v":0},{"$f":"SUM(CSVデータ1!K146,CSVデータ2!K146,CSVデータ3!K146,CSVデータ4!K146)","v":0},{"$f":"SUM(CSVデータ1!L146,CSVデータ2!L146,CSVデータ3!L146,CSVデータ4!L146)","v":0},{"$f":"SUM(CSVデータ1!M146,CSVデータ2!M146,CSVデータ3!M146,CSVデータ4!M146)","v":0},{"$f":"SUM(CSVデータ1!N146,CSVデータ2!N146,CSVデータ3!N146,CSVデータ4!N146)","v":0},{"$f":"SUM(CSVデータ1!O146,CSVデータ2!O146,CSVデータ3!O146,CSVデータ4!O146)","v":0},{"$f":"SUM(CSVデータ1!P146,CSVデータ2!P146,CSVデータ3!P146,CSVデータ4!P146)","v":0},{"$f":"SUM(CSVデータ1!Q146,CSVデータ2!Q146,CSVデータ3!Q146,CSVデータ4!Q146)","v":0},{"$f":"SUM(CSVデータ1!R146,CSVデータ2!R146,CSVデータ3!R146,CSVデータ4!R146)","v":0},{"$f":"SUM(CSVデータ1!S146,CSVデータ2!S146,CSVデータ3!S146,CSVデータ4!S146)","v":0},{"$f":"SUM(CSVデータ1!T146,CSVデータ2!T146,CSVデータ3!T146,CSVデータ4!T146)","v":0},{"$f":"SUM(CSVデータ1!U146,CSVデータ2!U146,CSVデータ3!U146,CSVデータ4!U146)","v":0},{"$f":"SUM(CSVデータ1!V146,CSVデータ2!V146,CSVデータ3!V146,CSVデータ4!V146)","v":0},{"$f":"SUM(CSVデータ1!W146,CSVデータ2!W146,CSVデータ3!W146,CSVデータ4!W146)","v":0},{"$f":"SUM(CSVデータ1!X146,CSVデータ2!X146,CSVデータ3!X146,CSVデータ4!X146)","v":0},{"$f":"SUM(CSVデータ1!Y146,CSVデータ2!Y146,CSVデータ3!Y146,CSVデータ4!Y146)","v":0},{"$f":"SUM(CSVデータ1!Z146,CSVデータ2!Z146,CSVデータ3!Z146,CSVデータ4!Z146)","v":0},{"$f":"SUM(CSVデータ1!AA146,CSVデータ2!AA146,CSVデータ3!AA146,CSVデータ4!AA146)","v":0},{"$f":"SUM(CSVデータ1!AB146,CSVデータ2!AB146,CSVデータ3!AB146,CSVデータ4!AB146)","v":0},{"$f":"SUM(CSVデータ1!AC146,CSVデータ2!AC146,CSVデータ3!AC146,CSVデータ4!AC146)","v":0},{"$f":"SUM(CSVデータ1!AD146,CSVデータ2!AD146,CSVデータ3!AD146,CSVデータ4!AD146)","v":0},{"$f":"SUM(CSVデータ1!AE146,CSVデータ2!AE146,CSVデータ3!AE146,CSVデータ4!AE146)","v":0},{"$f":"SUM(CSVデータ1!AF146,CSVデータ2!AF146,CSVデータ3!AF146,CSVデータ4!AF146)","v":0},{"$f":"SUM(CSVデータ1!AG146,CSVデータ2!AG146,CSVデータ3!AG146,CSVデータ4!AG146)","v":0}]
[{"$f":"CSVデータ1!A147","v":"明細部"},{"$f":"CSVデータ1!B147","v":"県"},{"$f":"CSVデータ1!C147","v":96},{"$f":"CSVデータ1!D147","v":"男"},{"$f":"SUM(CSVデータ1!E147,CSVデータ2!E147,CSVデータ3!E147,CSVデータ4!E147)","v":0},{"$f":"SUM(CSVデータ1!F147,CSVデータ2!F147,CSVデータ3!F147,CSVデータ4!F147)","v":0},{"$f":"SUM(CSVデータ1!G147,CSVデータ2!G147,CSVデータ3!G147,CSVデータ4!G147)","v":0},{"$f":"SUM(CSVデータ1!H147,CSVデータ2!H147,CSVデータ3!H147,CSVデータ4!H147)","v":0},{"$f":"SUM(CSVデータ1!I147,CSVデータ2!I147,CSVデータ3!I147,CSVデータ4!I147)","v":0},{"$f":"SUM(CSVデータ1!J147,CSVデータ2!J147,CSVデータ3!J147,CSVデータ4!J147)","v":0},{"$f":"SUM(CSVデータ1!K147,CSVデータ2!K147,CSVデータ3!K147,CSVデータ4!K147)","v":0},{"$f":"SUM(CSVデータ1!L147,CSVデータ2!L147,CSVデータ3!L147,CSVデータ4!L147)","v":0},{"$f":"SUM(CSVデータ1!M147,CSVデータ2!M147,CSVデータ3!M147,CSVデータ4!M147)","v":0},{"$f":"SUM(CSVデータ1!N147,CSVデータ2!N147,CSVデータ3!N147,CSVデータ4!N147)","v":0},{"$f":"SUM(CSVデータ1!O147,CSVデータ2!O147,CSVデータ3!O147,CSVデータ4!O147)","v":0},{"$f":"SUM(CSVデータ1!P147,CSVデータ2!P147,CSVデータ3!P147,CSVデータ4!P147)","v":0},{"$f":"SUM(CSVデータ1!Q147,CSVデータ2!Q147,CSVデータ3!Q147,CSVデータ4!Q147)","v":0},{"$f":"SUM(CSVデータ1!R147,CSVデータ2!R147,CSVデータ3!R147,CSVデータ4!R147)","v":0},{"$f":"SUM(CSVデータ1!S147,CSVデータ2!S147,CSVデータ3!S147,CSVデータ4!S147)","v":0},{"$f":"SUM(CSVデータ1!T147,CSVデータ2!T147,CSVデータ3!T147,CSVデータ4!T147)","v":0},{"$f":"SUM(CSVデータ1!U147,CSVデータ2!U147,CSVデータ3!U147,CSVデータ4!U147)","v":0},{"$f":"SUM(CSVデータ1!V147,CSVデータ2!V147,CSVデータ3!V147,CSVデータ4!V147)","v":0},{"$f":"SUM(CSVデータ1!W147,CSVデータ2!W147,CSVデータ3!W147,CSVデータ4!W147)","v":0},{"$f":"SUM(CSVデータ1!X147,CSVデータ2!X147,CSVデータ3!X147,CSVデータ4!X147)","v":0},{"$f":"SUM(CSVデータ1!Y147,CSVデータ2!Y147,CSVデータ3!Y147,CSVデータ4!Y147)","v":0},{"$f":"SUM(CSVデータ1!Z147,CSVデータ2!Z147,CSVデータ3!Z147,CSVデータ4!Z147)","v":0},{"$f":"SUM(CSVデータ1!AA147,CSVデータ2!AA147,CSVデータ3!AA147,CSVデータ4!AA147)","v":0},{"$f":"SUM(CSVデータ1!AB147,CSVデータ2!AB147,CSVデータ3!AB147,CSVデータ4!AB147)","v":0},{"$f":"SUM(CSVデータ1!AC147,CSVデータ2!AC147,CSVデータ3!AC147,CSVデータ4!AC147)","v":0},{"$f":"SUM(CSVデータ1!AD147,CSVデータ2!AD147,CSVデータ3!AD147,CSVデータ4!AD147)","v":0},{"$f":"SUM(CSVデータ1!AE147,CSVデータ2!AE147,CSVデータ3!AE147,CSVデータ4!AE147)","v":0},{"$f":"SUM(CSVデータ1!AF147,CSVデータ2!AF147,CSVデータ3!AF147,CSVデータ4!AF147)","v":0},{"$f":"SUM(CSVデータ1!AG147,CSVデータ2!AG147,CSVデータ3!AG147,CSVデータ4!AG147)","v":0}]
[{"$f":"CSVデータ1!A148","v":"明細部"},{"$f":"CSVデータ1!B148","v":"県"},{"$f":"CSVデータ1!C148","v":97},{"$f":"CSVデータ1!D148","v":"男"},{"$f":"SUM(CSVデータ1!E148,CSVデータ2!E148,CSVデータ3!E148,CSVデータ4!E148)","v":0},{"$f":"SUM(CSVデータ1!F148,CSVデータ2!F148,CSVデータ3!F148,CSVデータ4!F148)","v":0},{"$f":"SUM(CSVデータ1!G148,CSVデータ2!G148,CSVデータ3!G148,CSVデータ4!G148)","v":0},{"$f":"SUM(CSVデータ1!H148,CSVデータ2!H148,CSVデータ3!H148,CSVデータ4!H148)","v":0},{"$f":"SUM(CSVデータ1!I148,CSVデータ2!I148,CSVデータ3!I148,CSVデータ4!I148)","v":0},{"$f":"SUM(CSVデータ1!J148,CSVデータ2!J148,CSVデータ3!J148,CSVデータ4!J148)","v":0},{"$f":"SUM(CSVデータ1!K148,CSVデータ2!K148,CSVデータ3!K148,CSVデータ4!K148)","v":0},{"$f":"SUM(CSVデータ1!L148,CSVデータ2!L148,CSVデータ3!L148,CSVデータ4!L148)","v":0},{"$f":"SUM(CSVデータ1!M148,CSVデータ2!M148,CSVデータ3!M148,CSVデータ4!M148)","v":0},{"$f":"SUM(CSVデータ1!N148,CSVデータ2!N148,CSVデータ3!N148,CSVデータ4!N148)","v":0},{"$f":"SUM(CSVデータ1!O148,CSVデータ2!O148,CSVデータ3!O148,CSVデータ4!O148)","v":0},{"$f":"SUM(CSVデータ1!P148,CSVデータ2!P148,CSVデータ3!P148,CSVデータ4!P148)","v":0},{"$f":"SUM(CSVデータ1!Q148,CSVデータ2!Q148,CSVデータ3!Q148,CSVデータ4!Q148)","v":0},{"$f":"SUM(CSVデータ1!R148,CSVデータ2!R148,CSVデータ3!R148,CSVデータ4!R148)","v":0},{"$f":"SUM(CSVデータ1!S148,CSVデータ2!S148,CSVデータ3!S148,CSVデータ4!S148)","v":0},{"$f":"SUM(CSVデータ1!T148,CSVデータ2!T148,CSVデータ3!T148,CSVデータ4!T148)","v":0},{"$f":"SUM(CSVデータ1!U148,CSVデータ2!U148,CSVデータ3!U148,CSVデータ4!U148)","v":0},{"$f":"SUM(CSVデータ1!V148,CSVデータ2!V148,CSVデータ3!V148,CSVデータ4!V148)","v":0},{"$f":"SUM(CSVデータ1!W148,CSVデータ2!W148,CSVデータ3!W148,CSVデータ4!W148)","v":0},{"$f":"SUM(CSVデータ1!X148,CSVデータ2!X148,CSVデータ3!X148,CSVデータ4!X148)","v":0},{"$f":"SUM(CSVデータ1!Y148,CSVデータ2!Y148,CSVデータ3!Y148,CSVデータ4!Y148)","v":0},{"$f":"SUM(CSVデータ1!Z148,CSVデータ2!Z148,CSVデータ3!Z148,CSVデータ4!Z148)","v":0},{"$f":"SUM(CSVデータ1!AA148,CSVデータ2!AA148,CSVデータ3!AA148,CSVデータ4!AA148)","v":0},{"$f":"SUM(CSVデータ1!AB148,CSVデータ2!AB148,CSVデータ3!AB148,CSVデータ4!AB148)","v":0},{"$f":"SUM(CSVデータ1!AC148,CSVデータ2!AC148,CSVデータ3!AC148,CSVデータ4!AC148)","v":0},{"$f":"SUM(CSVデータ1!AD148,CSVデータ2!AD148,CSVデータ3!AD148,CSVデータ4!AD148)","v":0},{"$f":"SUM(CSVデータ1!AE148,CSVデータ2!AE148,CSVデータ3!AE148,CSVデータ4!AE148)","v":0},{"$f":"SUM(CSVデータ1!AF148,CSVデータ2!AF148,CSVデータ3!AF148,CSVデータ4!AF148)","v":0},{"$f":"SUM(CSVデータ1!AG148,CSVデータ2!AG148,CSVデータ3!AG148,CSVデータ4!AG148)","v":0}]
[{"$f":"CSVデータ1!A149","v":"明細部"},{"$f":"CSVデータ1!B149","v":"県"},{"$f":"CSVデータ1!C149","v":98},{"$f":"CSVデータ1!D149","v":"男"},{"$f":"SUM(CSVデータ1!E149,CSVデータ2!E149,CSVデータ3!E149,CSVデータ4!E149)","v":0},{"$f":"SUM(CSVデータ1!F149,CSVデータ2!F149,CSVデータ3!F149,CSVデータ4!F149)","v":0},{"$f":"SUM(CSVデータ1!G149,CSVデータ2!G149,CSVデータ3!G149,CSVデータ4!G149)","v":0},{"$f":"SUM(CSVデータ1!H149,CSVデータ2!H149,CSVデータ3!H149,CSVデータ4!H149)","v":0},{"$f":"SUM(CSVデータ1!I149,CSVデータ2!I149,CSVデータ3!I149,CSVデータ4!I149)","v":0},{"$f":"SUM(CSVデータ1!J149,CSVデータ2!J149,CSVデータ3!J149,CSVデータ4!J149)","v":0},{"$f":"SUM(CSVデータ1!K149,CSVデータ2!K149,CSVデータ3!K149,CSVデータ4!K149)","v":0},{"$f":"SUM(CSVデータ1!L149,CSVデータ2!L149,CSVデータ3!L149,CSVデータ4!L149)","v":0},{"$f":"SUM(CSVデータ1!M149,CSVデータ2!M149,CSVデータ3!M149,CSVデータ4!M149)","v":0},{"$f":"SUM(CSVデータ1!N149,CSVデータ2!N149,CSVデータ3!N149,CSVデータ4!N149)","v":0},{"$f":"SUM(CSVデータ1!O149,CSVデータ2!O149,CSVデータ3!O149,CSVデータ4!O149)","v":0},{"$f":"SUM(CSVデータ1!P149,CSVデータ2!P149,CSVデータ3!P149,CSVデータ4!P149)","v":0},{"$f":"SUM(CSVデータ1!Q149,CSVデータ2!Q149,CSVデータ3!Q149,CSVデータ4!Q149)","v":0},{"$f":"SUM(CSVデータ1!R149,CSVデータ2!R149,CSVデータ3!R149,CSVデータ4!R149)","v":0},{"$f":"SUM(CSVデータ1!S149,CSVデータ2!S149,CSVデータ3!S149,CSVデータ4!S149)","v":0},{"$f":"SUM(CSVデータ1!T149,CSVデータ2!T149,CSVデータ3!T149,CSVデータ4!T149)","v":0},{"$f":"SUM(CSVデータ1!U149,CSVデータ2!U149,CSVデータ3!U149,CSVデータ4!U149)","v":0},{"$f":"SUM(CSVデータ1!V149,CSVデータ2!V149,CSVデータ3!V149,CSVデータ4!V149)","v":0},{"$f":"SUM(CSVデータ1!W149,CSVデータ2!W149,CSVデータ3!W149,CSVデータ4!W149)","v":0},{"$f":"SUM(CSVデータ1!X149,CSVデータ2!X149,CSVデータ3!X149,CSVデータ4!X149)","v":0},{"$f":"SUM(CSVデータ1!Y149,CSVデータ2!Y149,CSVデータ3!Y149,CSVデータ4!Y149)","v":0},{"$f":"SUM(CSVデータ1!Z149,CSVデータ2!Z149,CSVデータ3!Z149,CSVデータ4!Z149)","v":0},{"$f":"SUM(CSVデータ1!AA149,CSVデータ2!AA149,CSVデータ3!AA149,CSVデータ4!AA149)","v":0},{"$f":"SUM(CSVデータ1!AB149,CSVデータ2!AB149,CSVデータ3!AB149,CSVデータ4!AB149)","v":0},{"$f":"SUM(CSVデータ1!AC149,CSVデータ2!AC149,CSVデータ3!AC149,CSVデータ4!AC149)","v":0},{"$f":"SUM(CSVデータ1!AD149,CSVデータ2!AD149,CSVデータ3!AD149,CSVデータ4!AD149)","v":0},{"$f":"SUM(CSVデータ1!AE149,CSVデータ2!AE149,CSVデータ3!AE149,CSVデータ4!AE149)","v":0},{"$f":"SUM(CSVデータ1!AF149,CSVデータ2!AF149,CSVデータ3!AF149,CSVデータ4!AF149)","v":0},{"$f":"SUM(CSVデータ1!AG149,CSVデータ2!AG149,CSVデータ3!AG149,CSVデータ4!AG149)","v":0}]
[{"$f":"CSVデータ1!A150","v":"明細部"},{"$f":"CSVデータ1!B150","v":"県"},{"$f":"CSVデータ1!C150","v":99},{"$f":"CSVデータ1!D150","v":"男"},{"$f":"SUM(CSVデータ1!E150,CSVデータ2!E150,CSVデータ3!E150,CSVデータ4!E150)","v":0},{"$f":"SUM(CSVデータ1!F150,CSVデータ2!F150,CSVデータ3!F150,CSVデータ4!F150)","v":0},{"$f":"SUM(CSVデータ1!G150,CSVデータ2!G150,CSVデータ3!G150,CSVデータ4!G150)","v":0},{"$f":"SUM(CSVデータ1!H150,CSVデータ2!H150,CSVデータ3!H150,CSVデータ4!H150)","v":0},{"$f":"SUM(CSVデータ1!I150,CSVデータ2!I150,CSVデータ3!I150,CSVデータ4!I150)","v":0},{"$f":"SUM(CSVデータ1!J150,CSVデータ2!J150,CSVデータ3!J150,CSVデータ4!J150)","v":0},{"$f":"SUM(CSVデータ1!K150,CSVデータ2!K150,CSVデータ3!K150,CSVデータ4!K150)","v":0},{"$f":"SUM(CSVデータ1!L150,CSVデータ2!L150,CSVデータ3!L150,CSVデータ4!L150)","v":0},{"$f":"SUM(CSVデータ1!M150,CSVデータ2!M150,CSVデータ3!M150,CSVデータ4!M150)","v":0},{"$f":"SUM(CSVデータ1!N150,CSVデータ2!N150,CSVデータ3!N150,CSVデータ4!N150)","v":0},{"$f":"SUM(CSVデータ1!O150,CSVデータ2!O150,CSVデータ3!O150,CSVデータ4!O150)","v":0},{"$f":"SUM(CSVデータ1!P150,CSVデータ2!P150,CSVデータ3!P150,CSVデータ4!P150)","v":0},{"$f":"SUM(CSVデータ1!Q150,CSVデータ2!Q150,CSVデータ3!Q150,CSVデータ4!Q150)","v":0},{"$f":"SUM(CSVデータ1!R150,CSVデータ2!R150,CSVデータ3!R150,CSVデータ4!R150)","v":0},{"$f":"SUM(CSVデータ1!S150,CSVデータ2!S150,CSVデータ3!S150,CSVデータ4!S150)","v":0},{"$f":"SUM(CSVデータ1!T150,CSVデータ2!T150,CSVデータ3!T150,CSVデータ4!T150)","v":0},{"$f":"SUM(CSVデータ1!U150,CSVデータ2!U150,CSVデータ3!U150,CSVデータ4!U150)","v":0},{"$f":"SUM(CSVデータ1!V150,CSVデータ2!V150,CSVデータ3!V150,CSVデータ4!V150)","v":0},{"$f":"SUM(CSVデータ1!W150,CSVデータ2!W150,CSVデータ3!W150,CSVデータ4!W150)","v":0},{"$f":"SUM(CSVデータ1!X150,CSVデータ2!X150,CSVデータ3!X150,CSVデータ4!X150)","v":0},{"$f":"SUM(CSVデータ1!Y150,CSVデータ2!Y150,CSVデータ3!Y150,CSVデータ4!Y150)","v":0},{"$f":"SUM(CSVデータ1!Z150,CSVデータ2!Z150,CSVデータ3!Z150,CSVデータ4!Z150)","v":0},{"$f":"SUM(CSVデータ1!AA150,CSVデータ2!AA150,CSVデータ3!AA150,CSVデータ4!AA150)","v":0},{"$f":"SUM(CSVデータ1!AB150,CSVデータ2!AB150,CSVデータ3!AB150,CSVデータ4!AB150)","v":0},{"$f":"SUM(CSVデータ1!AC150,CSVデータ2!AC150,CSVデータ3!AC150,CSVデータ4!AC150)","v":0},{"$f":"SUM(CSVデータ1!AD150,CSVデータ2!AD150,CSVデータ3!AD150,CSVデータ4!AD150)","v":0},{"$f":"SUM(CSVデータ1!AE150,CSVデータ2!AE150,CSVデータ3!AE150,CSVデータ4!AE150)","v":0},{"$f":"SUM(CSVデータ1!AF150,CSVデータ2!AF150,CSVデータ3!AF150,CSVデータ4!AF150)","v":0},{"$f":"SUM(CSVデータ1!AG150,CSVデータ2!AG150,CSVデータ3!AG150,CSVデータ4!AG150)","v":0}]
[{"$f":"CSVデータ1!A151","v":"明細部"},{"$f":"CSVデータ1!B151","v":"県"},{"$f":"CSVデータ1!C151","v":100},{"$f":"CSVデータ1!D151","v":"男"},{"$f":"SUM(CSVデータ1!E151,CSVデータ2!E151,CSVデータ3!E151,CSVデータ4!E151)","v":0},{"$f":"SUM(CSVデータ1!F151,CSVデータ2!F151,CSVデータ3!F151,CSVデータ4!F151)","v":0},{"$f":"SUM(CSVデータ1!G151,CSVデータ2!G151,CSVデータ3!G151,CSVデータ4!G151)","v":0},{"$f":"SUM(CSVデータ1!H151,CSVデータ2!H151,CSVデータ3!H151,CSVデータ4!H151)","v":0},{"$f":"SUM(CSVデータ1!I151,CSVデータ2!I151,CSVデータ3!I151,CSVデータ4!I151)","v":0},{"$f":"SUM(CSVデータ1!J151,CSVデータ2!J151,CSVデータ3!J151,CSVデータ4!J151)","v":0},{"$f":"SUM(CSVデータ1!K151,CSVデータ2!K151,CSVデータ3!K151,CSVデータ4!K151)","v":0},{"$f":"SUM(CSVデータ1!L151,CSVデータ2!L151,CSVデータ3!L151,CSVデータ4!L151)","v":0},{"$f":"SUM(CSVデータ1!M151,CSVデータ2!M151,CSVデータ3!M151,CSVデータ4!M151)","v":0},{"$f":"SUM(CSVデータ1!N151,CSVデータ2!N151,CSVデータ3!N151,CSVデータ4!N151)","v":0},{"$f":"SUM(CSVデータ1!O151,CSVデータ2!O151,CSVデータ3!O151,CSVデータ4!O151)","v":0},{"$f":"SUM(CSVデータ1!P151,CSVデータ2!P151,CSVデータ3!P151,CSVデータ4!P151)","v":0},{"$f":"SUM(CSVデータ1!Q151,CSVデータ2!Q151,CSVデータ3!Q151,CSVデータ4!Q151)","v":0},{"$f":"SUM(CSVデータ1!R151,CSVデータ2!R151,CSVデータ3!R151,CSVデータ4!R151)","v":0},{"$f":"SUM(CSVデータ1!S151,CSVデータ2!S151,CSVデータ3!S151,CSVデータ4!S151)","v":0},{"$f":"SUM(CSVデータ1!T151,CSVデータ2!T151,CSVデータ3!T151,CSVデータ4!T151)","v":0},{"$f":"SUM(CSVデータ1!U151,CSVデータ2!U151,CSVデータ3!U151,CSVデータ4!U151)","v":0},{"$f":"SUM(CSVデータ1!V151,CSVデータ2!V151,CSVデータ3!V151,CSVデータ4!V151)","v":0},{"$f":"SUM(CSVデータ1!W151,CSVデータ2!W151,CSVデータ3!W151,CSVデータ4!W151)","v":0},{"$f":"SUM(CSVデータ1!X151,CSVデータ2!X151,CSVデータ3!X151,CSVデータ4!X151)","v":0},{"$f":"SUM(CSVデータ1!Y151,CSVデータ2!Y151,CSVデータ3!Y151,CSVデータ4!Y151)","v":0},{"$f":"SUM(CSVデータ1!Z151,CSVデータ2!Z151,CSVデータ3!Z151,CSVデータ4!Z151)","v":0},{"$f":"SUM(CSVデータ1!AA151,CSVデータ2!AA151,CSVデータ3!AA151,CSVデータ4!AA151)","v":0},{"$f":"SUM(CSVデータ1!AB151,CSVデータ2!AB151,CSVデータ3!AB151,CSVデータ4!AB151)","v":0},{"$f":"SUM(CSVデータ1!AC151,CSVデータ2!AC151,CSVデータ3!AC151,CSVデータ4!AC151)","v":0},{"$f":"SUM(CSVデータ1!AD151,CSVデータ2!AD151,CSVデータ3!AD151,CSVデータ4!AD151)","v":0},{"$f":"SUM(CSVデータ1!AE151,CSVデータ2!AE151,CSVデータ3!AE151,CSVデータ4!AE151)","v":0},{"$f":"SUM(CSVデータ1!AF151,CSVデータ2!AF151,CSVデータ3!AF151,CSVデータ4!AF151)","v":0},{"$f":"SUM(CSVデータ1!AG151,CSVデータ2!AG151,CSVデータ3!AG151,CSVデータ4!AG151)","v":0}]
[{"$f":"CSVデータ1!A152","v":"明細部"},{"$f":"CSVデータ1!B152","v":"県"},{"$f":"CSVデータ1!C152","v":101},{"$f":"CSVデータ1!D152","v":"男"},{"$f":"SUM(CSVデータ1!E152,CSVデータ2!E152,CSVデータ3!E152,CSVデータ4!E152)","v":0},{"$f":"SUM(CSVデータ1!F152,CSVデータ2!F152,CSVデータ3!F152,CSVデータ4!F152)","v":0},{"$f":"SUM(CSVデータ1!G152,CSVデータ2!G152,CSVデータ3!G152,CSVデータ4!G152)","v":0},{"$f":"SUM(CSVデータ1!H152,CSVデータ2!H152,CSVデータ3!H152,CSVデータ4!H152)","v":0},{"$f":"SUM(CSVデータ1!I152,CSVデータ2!I152,CSVデータ3!I152,CSVデータ4!I152)","v":0},{"$f":"SUM(CSVデータ1!J152,CSVデータ2!J152,CSVデータ3!J152,CSVデータ4!J152)","v":0},{"$f":"SUM(CSVデータ1!K152,CSVデータ2!K152,CSVデータ3!K152,CSVデータ4!K152)","v":0},{"$f":"SUM(CSVデータ1!L152,CSVデータ2!L152,CSVデータ3!L152,CSVデータ4!L152)","v":0},{"$f":"SUM(CSVデータ1!M152,CSVデータ2!M152,CSVデータ3!M152,CSVデータ4!M152)","v":0},{"$f":"SUM(CSVデータ1!N152,CSVデータ2!N152,CSVデータ3!N152,CSVデータ4!N152)","v":0},{"$f":"SUM(CSVデータ1!O152,CSVデータ2!O152,CSVデータ3!O152,CSVデータ4!O152)","v":0},{"$f":"SUM(CSVデータ1!P152,CSVデータ2!P152,CSVデータ3!P152,CSVデータ4!P152)","v":0},{"$f":"SUM(CSVデータ1!Q152,CSVデータ2!Q152,CSVデータ3!Q152,CSVデータ4!Q152)","v":0},{"$f":"SUM(CSVデータ1!R152,CSVデータ2!R152,CSVデータ3!R152,CSVデータ4!R152)","v":0},{"$f":"SUM(CSVデータ1!S152,CSVデータ2!S152,CSVデータ3!S152,CSVデータ4!S152)","v":0},{"$f":"SUM(CSVデータ1!T152,CSVデータ2!T152,CSVデータ3!T152,CSVデータ4!T152)","v":0},{"$f":"SUM(CSVデータ1!U152,CSVデータ2!U152,CSVデータ3!U152,CSVデータ4!U152)","v":0},{"$f":"SUM(CSVデータ1!V152,CSVデータ2!V152,CSVデータ3!V152,CSVデータ4!V152)","v":0},{"$f":"SUM(CSVデータ1!W152,CSVデータ2!W152,CSVデータ3!W152,CSVデータ4!W152)","v":0},{"$f":"SUM(CSVデータ1!X152,CSVデータ2!X152,CSVデータ3!X152,CSVデータ4!X152)","v":0},{"$f":"SUM(CSVデータ1!Y152,CSVデータ2!Y152,CSVデータ3!Y152,CSVデータ4!Y152)","v":0},{"$f":"SUM(CSVデータ1!Z152,CSVデータ2!Z152,CSVデータ3!Z152,CSVデータ4!Z152)","v":0},{"$f":"SUM(CSVデータ1!AA152,CSVデータ2!AA152,CSVデータ3!AA152,CSVデータ4!AA152)","v":0},{"$f":"SUM(CSVデータ1!AB152,CSVデータ2!AB152,CSVデータ3!AB152,CSVデータ4!AB152)","v":0},{"$f":"SUM(CSVデータ1!AC152,CSVデータ2!AC152,CSVデータ3!AC152,CSVデータ4!AC152)","v":0},{"$f":"SUM(CSVデータ1!AD152,CSVデータ2!AD152,CSVデータ3!AD152,CSVデータ4!AD152)","v":0},{"$f":"SUM(CSVデータ1!AE152,CSVデータ2!AE152,CSVデータ3!AE152,CSVデータ4!AE152)","v":0},{"$f":"SUM(CSVデータ1!AF152,CSVデータ2!AF152,CSVデータ3!AF152,CSVデータ4!AF152)","v":0},{"$f":"SUM(CSVデータ1!AG152,CSVデータ2!AG152,CSVデータ3!AG152,CSVデータ4!AG152)","v":0}]
[{"$f":"CSVデータ1!A153","v":"明細部"},{"$f":"CSVデータ1!B153","v":"県"},{"$f":"CSVデータ1!C153","v":102},{"$f":"CSVデータ1!D153","v":"男"},{"$f":"SUM(CSVデータ1!E153,CSVデータ2!E153,CSVデータ3!E153,CSVデータ4!E153)","v":0},{"$f":"SUM(CSVデータ1!F153,CSVデータ2!F153,CSVデータ3!F153,CSVデータ4!F153)","v":0},{"$f":"SUM(CSVデータ1!G153,CSVデータ2!G153,CSVデータ3!G153,CSVデータ4!G153)","v":0},{"$f":"SUM(CSVデータ1!H153,CSVデータ2!H153,CSVデータ3!H153,CSVデータ4!H153)","v":0},{"$f":"SUM(CSVデータ1!I153,CSVデータ2!I153,CSVデータ3!I153,CSVデータ4!I153)","v":0},{"$f":"SUM(CSVデータ1!J153,CSVデータ2!J153,CSVデータ3!J153,CSVデータ4!J153)","v":0},{"$f":"SUM(CSVデータ1!K153,CSVデータ2!K153,CSVデータ3!K153,CSVデータ4!K153)","v":0},{"$f":"SUM(CSVデータ1!L153,CSVデータ2!L153,CSVデータ3!L153,CSVデータ4!L153)","v":0},{"$f":"SUM(CSVデータ1!M153,CSVデータ2!M153,CSVデータ3!M153,CSVデータ4!M153)","v":0},{"$f":"SUM(CSVデータ1!N153,CSVデータ2!N153,CSVデータ3!N153,CSVデータ4!N153)","v":0},{"$f":"SUM(CSVデータ1!O153,CSVデータ2!O153,CSVデータ3!O153,CSVデータ4!O153)","v":0},{"$f":"SUM(CSVデータ1!P153,CSVデータ2!P153,CSVデータ3!P153,CSVデータ4!P153)","v":0},{"$f":"SUM(CSVデータ1!Q153,CSVデータ2!Q153,CSVデータ3!Q153,CSVデータ4!Q153)","v":0},{"$f":"SUM(CSVデータ1!R153,CSVデータ2!R153,CSVデータ3!R153,CSVデータ4!R153)","v":0},{"$f":"SUM(CSVデータ1!S153,CSVデータ2!S153,CSVデータ3!S153,CSVデータ4!S153)","v":0},{"$f":"SUM(CSVデータ1!T153,CSVデータ2!T153,CSVデータ3!T153,CSVデータ4!T153)","v":0},{"$f":"SUM(CSVデータ1!U153,CSVデータ2!U153,CSVデータ3!U153,CSVデータ4!U153)","v":0},{"$f":"SUM(CSVデータ1!V153,CSVデータ2!V153,CSVデータ3!V153,CSVデータ4!V153)","v":0},{"$f":"SUM(CSVデータ1!W153,CSVデータ2!W153,CSVデータ3!W153,CSVデータ4!W153)","v":0},{"$f":"SUM(CSVデータ1!X153,CSVデータ2!X153,CSVデータ3!X153,CSVデータ4!X153)","v":0},{"$f":"SUM(CSVデータ1!Y153,CSVデータ2!Y153,CSVデータ3!Y153,CSVデータ4!Y153)","v":0},{"$f":"SUM(CSVデータ1!Z153,CSVデータ2!Z153,CSVデータ3!Z153,CSVデータ4!Z153)","v":0},{"$f":"SUM(CSVデータ1!AA153,CSVデータ2!AA153,CSVデータ3!AA153,CSVデータ4!AA153)","v":0},{"$f":"SUM(CSVデータ1!AB153,CSVデータ2!AB153,CSVデータ3!AB153,CSVデータ4!AB153)","v":0},{"$f":"SUM(CSVデータ1!AC153,CSVデータ2!AC153,CSVデータ3!AC153,CSVデータ4!AC153)","v":0},{"$f":"SUM(CSVデータ1!AD153,CSVデータ2!AD153,CSVデータ3!AD153,CSVデータ4!AD153)","v":0},{"$f":"SUM(CSVデータ1!AE153,CSVデータ2!AE153,CSVデータ3!AE153,CSVデータ4!AE153)","v":0},{"$f":"SUM(CSVデータ1!AF153,CSVデータ2!AF153,CSVデータ3!AF153,CSVデータ4!AF153)","v":0},{"$f":"SUM(CSVデータ1!AG153,CSVデータ2!AG153,CSVデータ3!AG153,CSVデータ4!AG153)","v":0}]
[{"$f":"CSVデータ1!A154","v":"明細部"},{"$f":"CSVデータ1!B154","v":"県"},{"$f":"CSVデータ1!C154","v":103},{"$f":"CSVデータ1!D154","v":"男"},{"$f":"SUM(CSVデータ1!E154,CSVデータ2!E154,CSVデータ3!E154,CSVデータ4!E154)","v":0},{"$f":"SUM(CSVデータ1!F154,CSVデータ2!F154,CSVデータ3!F154,CSVデータ4!F154)","v":0},{"$f":"SUM(CSVデータ1!G154,CSVデータ2!G154,CSVデータ3!G154,CSVデータ4!G154)","v":0},{"$f":"SUM(CSVデータ1!H154,CSVデータ2!H154,CSVデータ3!H154,CSVデータ4!H154)","v":0},{"$f":"SUM(CSVデータ1!I154,CSVデータ2!I154,CSVデータ3!I154,CSVデータ4!I154)","v":0},{"$f":"SUM(CSVデータ1!J154,CSVデータ2!J154,CSVデータ3!J154,CSVデータ4!J154)","v":0},{"$f":"SUM(CSVデータ1!K154,CSVデータ2!K154,CSVデータ3!K154,CSVデータ4!K154)","v":0},{"$f":"SUM(CSVデータ1!L154,CSVデータ2!L154,CSVデータ3!L154,CSVデータ4!L154)","v":0},{"$f":"SUM(CSVデータ1!M154,CSVデータ2!M154,CSVデータ3!M154,CSVデータ4!M154)","v":0},{"$f":"SUM(CSVデータ1!N154,CSVデータ2!N154,CSVデータ3!N154,CSVデータ4!N154)","v":0},{"$f":"SUM(CSVデータ1!O154,CSVデータ2!O154,CSVデータ3!O154,CSVデータ4!O154)","v":0},{"$f":"SUM(CSVデータ1!P154,CSVデータ2!P154,CSVデータ3!P154,CSVデータ4!P154)","v":0},{"$f":"SUM(CSVデータ1!Q154,CSVデータ2!Q154,CSVデータ3!Q154,CSVデータ4!Q154)","v":0},{"$f":"SUM(CSVデータ1!R154,CSVデータ2!R154,CSVデータ3!R154,CSVデータ4!R154)","v":0},{"$f":"SUM(CSVデータ1!S154,CSVデータ2!S154,CSVデータ3!S154,CSVデータ4!S154)","v":0},{"$f":"SUM(CSVデータ1!T154,CSVデータ2!T154,CSVデータ3!T154,CSVデータ4!T154)","v":0},{"$f":"SUM(CSVデータ1!U154,CSVデータ2!U154,CSVデータ3!U154,CSVデータ4!U154)","v":0},{"$f":"SUM(CSVデータ1!V154,CSVデータ2!V154,CSVデータ3!V154,CSVデータ4!V154)","v":0},{"$f":"SUM(CSVデータ1!W154,CSVデータ2!W154,CSVデータ3!W154,CSVデータ4!W154)","v":0},{"$f":"SUM(CSVデータ1!X154,CSVデータ2!X154,CSVデータ3!X154,CSVデータ4!X154)","v":0},{"$f":"SUM(CSVデータ1!Y154,CSVデータ2!Y154,CSVデータ3!Y154,CSVデータ4!Y154)","v":0},{"$f":"SUM(CSVデータ1!Z154,CSVデータ2!Z154,CSVデータ3!Z154,CSVデータ4!Z154)","v":0},{"$f":"SUM(CSVデータ1!AA154,CSVデータ2!AA154,CSVデータ3!AA154,CSVデータ4!AA154)","v":0},{"$f":"SUM(CSVデータ1!AB154,CSVデータ2!AB154,CSVデータ3!AB154,CSVデータ4!AB154)","v":0},{"$f":"SUM(CSVデータ1!AC154,CSVデータ2!AC154,CSVデータ3!AC154,CSVデータ4!AC154)","v":0},{"$f":"SUM(CSVデータ1!AD154,CSVデータ2!AD154,CSVデータ3!AD154,CSVデータ4!AD154)","v":0},{"$f":"SUM(CSVデータ1!AE154,CSVデータ2!AE154,CSVデータ3!AE154,CSVデータ4!AE154)","v":0},{"$f":"SUM(CSVデータ1!AF154,CSVデータ2!AF154,CSVデータ3!AF154,CSVデータ4!AF154)","v":0},{"$f":"SUM(CSVデータ1!AG154,CSVデータ2!AG154,CSVデータ3!AG154,CSVデータ4!AG154)","v":0}]
[{"$f":"CSVデータ1!A155","v":"明細部"},{"$f":"CSVデータ1!B155","v":"県"},{"$f":"CSVデータ1!C155","v":104},{"$f":"CSVデータ1!D155","v":"男"},{"$f":"SUM(CSVデータ1!E155,CSVデータ2!E155,CSVデータ3!E155,CSVデータ4!E155)","v":0},{"$f":"SUM(CSVデータ1!F155,CSVデータ2!F155,CSVデータ3!F155,CSVデータ4!F155)","v":0},{"$f":"SUM(CSVデータ1!G155,CSVデータ2!G155,CSVデータ3!G155,CSVデータ4!G155)","v":0},{"$f":"SUM(CSVデータ1!H155,CSVデータ2!H155,CSVデータ3!H155,CSVデータ4!H155)","v":0},{"$f":"SUM(CSVデータ1!I155,CSVデータ2!I155,CSVデータ3!I155,CSVデータ4!I155)","v":0},{"$f":"SUM(CSVデータ1!J155,CSVデータ2!J155,CSVデータ3!J155,CSVデータ4!J155)","v":0},{"$f":"SUM(CSVデータ1!K155,CSVデータ2!K155,CSVデータ3!K155,CSVデータ4!K155)","v":0},{"$f":"SUM(CSVデータ1!L155,CSVデータ2!L155,CSVデータ3!L155,CSVデータ4!L155)","v":0},{"$f":"SUM(CSVデータ1!M155,CSVデータ2!M155,CSVデータ3!M155,CSVデータ4!M155)","v":0},{"$f":"SUM(CSVデータ1!N155,CSVデータ2!N155,CSVデータ3!N155,CSVデータ4!N155)","v":0},{"$f":"SUM(CSVデータ1!O155,CSVデータ2!O155,CSVデータ3!O155,CSVデータ4!O155)","v":0},{"$f":"SUM(CSVデータ1!P155,CSVデータ2!P155,CSVデータ3!P155,CSVデータ4!P155)","v":0},{"$f":"SUM(CSVデータ1!Q155,CSVデータ2!Q155,CSVデータ3!Q155,CSVデータ4!Q155)","v":0},{"$f":"SUM(CSVデータ1!R155,CSVデータ2!R155,CSVデータ3!R155,CSVデータ4!R155)","v":0},{"$f":"SUM(CSVデータ1!S155,CSVデータ2!S155,CSVデータ3!S155,CSVデータ4!S155)","v":0},{"$f":"SUM(CSVデータ1!T155,CSVデータ2!T155,CSVデータ3!T155,CSVデータ4!T155)","v":0},{"$f":"SUM(CSVデータ1!U155,CSVデータ2!U155,CSVデータ3!U155,CSVデータ4!U155)","v":0},{"$f":"SUM(CSVデータ1!V155,CSVデータ2!V155,CSVデータ3!V155,CSVデータ4!V155)","v":0},{"$f":"SUM(CSVデータ1!W155,CSVデータ2!W155,CSVデータ3!W155,CSVデータ4!W155)","v":0},{"$f":"SUM(CSVデータ1!X155,CSVデータ2!X155,CSVデータ3!X155,CSVデータ4!X155)","v":0},{"$f":"SUM(CSVデータ1!Y155,CSVデータ2!Y155,CSVデータ3!Y155,CSVデータ4!Y155)","v":0},{"$f":"SUM(CSVデータ1!Z155,CSVデータ2!Z155,CSVデータ3!Z155,CSVデータ4!Z155)","v":0},{"$f":"SUM(CSVデータ1!AA155,CSVデータ2!AA155,CSVデータ3!AA155,CSVデータ4!AA155)","v":0},{"$f":"SUM(CSVデータ1!AB155,CSVデータ2!AB155,CSVデータ3!AB155,CSVデータ4!AB155)","v":0},{"$f":"SUM(CSVデータ1!AC155,CSVデータ2!AC155,CSVデータ3!AC155,CSVデータ4!AC155)","v":0},{"$f":"SUM(CSVデータ1!AD155,CSVデータ2!AD155,CSVデータ3!AD155,CSVデータ4!AD155)","v":0},{"$f":"SUM(CSVデータ1!AE155,CSVデータ2!AE155,CSVデータ3!AE155,CSVデータ4!AE155)","v":0},{"$f":"SUM(CSVデータ1!AF155,CSVデータ2!AF155,CSVデータ3!AF155,CSVデータ4!AF155)","v":0},{"$f":"SUM(CSVデータ1!AG155,CSVデータ2!AG155,CSVデータ3!AG155,CSVデータ4!AG155)","v":0}]
[{"$f":"CSVデータ1!A156","v":"明細部"},{"$f":"CSVデータ1!B156","v":"県"},{"$f":"CSVデータ1!C156","v":105},{"$f":"CSVデータ1!D156","v":"男"},{"$f":"SUM(CSVデータ1!E156,CSVデータ2!E156,CSVデータ3!E156,CSVデータ4!E156)","v":0},{"$f":"SUM(CSVデータ1!F156,CSVデータ2!F156,CSVデータ3!F156,CSVデータ4!F156)","v":0},{"$f":"SUM(CSVデータ1!G156,CSVデータ2!G156,CSVデータ3!G156,CSVデータ4!G156)","v":0},{"$f":"SUM(CSVデータ1!H156,CSVデータ2!H156,CSVデータ3!H156,CSVデータ4!H156)","v":0},{"$f":"SUM(CSVデータ1!I156,CSVデータ2!I156,CSVデータ3!I156,CSVデータ4!I156)","v":0},{"$f":"SUM(CSVデータ1!J156,CSVデータ2!J156,CSVデータ3!J156,CSVデータ4!J156)","v":0},{"$f":"SUM(CSVデータ1!K156,CSVデータ2!K156,CSVデータ3!K156,CSVデータ4!K156)","v":0},{"$f":"SUM(CSVデータ1!L156,CSVデータ2!L156,CSVデータ3!L156,CSVデータ4!L156)","v":0},{"$f":"SUM(CSVデータ1!M156,CSVデータ2!M156,CSVデータ3!M156,CSVデータ4!M156)","v":0},{"$f":"SUM(CSVデータ1!N156,CSVデータ2!N156,CSVデータ3!N156,CSVデータ4!N156)","v":0},{"$f":"SUM(CSVデータ1!O156,CSVデータ2!O156,CSVデータ3!O156,CSVデータ4!O156)","v":0},{"$f":"SUM(CSVデータ1!P156,CSVデータ2!P156,CSVデータ3!P156,CSVデータ4!P156)","v":0},{"$f":"SUM(CSVデータ1!Q156,CSVデータ2!Q156,CSVデータ3!Q156,CSVデータ4!Q156)","v":0},{"$f":"SUM(CSVデータ1!R156,CSVデータ2!R156,CSVデータ3!R156,CSVデータ4!R156)","v":0},{"$f":"SUM(CSVデータ1!S156,CSVデータ2!S156,CSVデータ3!S156,CSVデータ4!S156)","v":0},{"$f":"SUM(CSVデータ1!T156,CSVデータ2!T156,CSVデータ3!T156,CSVデータ4!T156)","v":0},{"$f":"SUM(CSVデータ1!U156,CSVデータ2!U156,CSVデータ3!U156,CSVデータ4!U156)","v":0},{"$f":"SUM(CSVデータ1!V156,CSVデータ2!V156,CSVデータ3!V156,CSVデータ4!V156)","v":0},{"$f":"SUM(CSVデータ1!W156,CSVデータ2!W156,CSVデータ3!W156,CSVデータ4!W156)","v":0},{"$f":"SUM(CSVデータ1!X156,CSVデータ2!X156,CSVデータ3!X156,CSVデータ4!X156)","v":0},{"$f":"SUM(CSVデータ1!Y156,CSVデータ2!Y156,CSVデータ3!Y156,CSVデータ4!Y156)","v":0},{"$f":"SUM(CSVデータ1!Z156,CSVデータ2!Z156,CSVデータ3!Z156,CSVデータ4!Z156)","v":0},{"$f":"SUM(CSVデータ1!AA156,CSVデータ2!AA156,CSVデータ3!AA156,CSVデータ4!AA156)","v":0},{"$f":"SUM(CSVデータ1!AB156,CSVデータ2!AB156,CSVデータ3!AB156,CSVデータ4!AB156)","v":0},{"$f":"SUM(CSVデータ1!AC156,CSVデータ2!AC156,CSVデータ3!AC156,CSVデータ4!AC156)","v":0},{"$f":"SUM(CSVデータ1!AD156,CSVデータ2!AD156,CSVデータ3!AD156,CSVデータ4!AD156)","v":0},{"$f":"SUM(CSVデータ1!AE156,CSVデータ2!AE156,CSVデータ3!AE156,CSVデータ4!AE156)","v":0},{"$f":"SUM(CSVデータ1!AF156,CSVデータ2!AF156,CSVデータ3!AF156,CSVデータ4!AF156)","v":0},{"$f":"SUM(CSVデータ1!AG156,CSVデータ2!AG156,CSVデータ3!AG156,CSVデータ4!AG156)","v":0}]
[{"$f":"CSVデータ1!A157","v":"明細部"},{"$f":"CSVデータ1!B157","v":"県"},{"$f":"CSVデータ1!C157","v":106},{"$f":"CSVデータ1!D157","v":"男"},{"$f":"SUM(CSVデータ1!E157,CSVデータ2!E157,CSVデータ3!E157,CSVデータ4!E157)","v":0},{"$f":"SUM(CSVデータ1!F157,CSVデータ2!F157,CSVデータ3!F157,CSVデータ4!F157)","v":0},{"$f":"SUM(CSVデータ1!G157,CSVデータ2!G157,CSVデータ3!G157,CSVデータ4!G157)","v":0},{"$f":"SUM(CSVデータ1!H157,CSVデータ2!H157,CSVデータ3!H157,CSVデータ4!H157)","v":0},{"$f":"SUM(CSVデータ1!I157,CSVデータ2!I157,CSVデータ3!I157,CSVデータ4!I157)","v":0},{"$f":"SUM(CSVデータ1!J157,CSVデータ2!J157,CSVデータ3!J157,CSVデータ4!J157)","v":0},{"$f":"SUM(CSVデータ1!K157,CSVデータ2!K157,CSVデータ3!K157,CSVデータ4!K157)","v":0},{"$f":"SUM(CSVデータ1!L157,CSVデータ2!L157,CSVデータ3!L157,CSVデータ4!L157)","v":0},{"$f":"SUM(CSVデータ1!M157,CSVデータ2!M157,CSVデータ3!M157,CSVデータ4!M157)","v":0},{"$f":"SUM(CSVデータ1!N157,CSVデータ2!N157,CSVデータ3!N157,CSVデータ4!N157)","v":0},{"$f":"SUM(CSVデータ1!O157,CSVデータ2!O157,CSVデータ3!O157,CSVデータ4!O157)","v":0},{"$f":"SUM(CSVデータ1!P157,CSVデータ2!P157,CSVデータ3!P157,CSVデータ4!P157)","v":0},{"$f":"SUM(CSVデータ1!Q157,CSVデータ2!Q157,CSVデータ3!Q157,CSVデータ4!Q157)","v":0},{"$f":"SUM(CSVデータ1!R157,CSVデータ2!R157,CSVデータ3!R157,CSVデータ4!R157)","v":0},{"$f":"SUM(CSVデータ1!S157,CSVデータ2!S157,CSVデータ3!S157,CSVデータ4!S157)","v":0},{"$f":"SUM(CSVデータ1!T157,CSVデータ2!T157,CSVデータ3!T157,CSVデータ4!T157)","v":0},{"$f":"SUM(CSVデータ1!U157,CSVデータ2!U157,CSVデータ3!U157,CSVデータ4!U157)","v":0},{"$f":"SUM(CSVデータ1!V157,CSVデータ2!V157,CSVデータ3!V157,CSVデータ4!V157)","v":0},{"$f":"SUM(CSVデータ1!W157,CSVデータ2!W157,CSVデータ3!W157,CSVデータ4!W157)","v":0},{"$f":"SUM(CSVデータ1!X157,CSVデータ2!X157,CSVデータ3!X157,CSVデータ4!X157)","v":0},{"$f":"SUM(CSVデータ1!Y157,CSVデータ2!Y157,CSVデータ3!Y157,CSVデータ4!Y157)","v":0},{"$f":"SUM(CSVデータ1!Z157,CSVデータ2!Z157,CSVデータ3!Z157,CSVデータ4!Z157)","v":0},{"$f":"SUM(CSVデータ1!AA157,CSVデータ2!AA157,CSVデータ3!AA157,CSVデータ4!AA157)","v":0},{"$f":"SUM(CSVデータ1!AB157,CSVデータ2!AB157,CSVデータ3!AB157,CSVデータ4!AB157)","v":0},{"$f":"SUM(CSVデータ1!AC157,CSVデータ2!AC157,CSVデータ3!AC157,CSVデータ4!AC157)","v":0},{"$f":"SUM(CSVデータ1!AD157,CSVデータ2!AD157,CSVデータ3!AD157,CSVデータ4!AD157)","v":0},{"$f":"SUM(CSVデータ1!AE157,CSVデータ2!AE157,CSVデータ3!AE157,CSVデータ4!AE157)","v":0},{"$f":"SUM(CSVデータ1!AF157,CSVデータ2!AF157,CSVデータ3!AF157,CSVデータ4!AF157)","v":0},{"$f":"SUM(CSVデータ1!AG157,CSVデータ2!AG157,CSVデータ3!AG157,CSVデータ4!AG157)","v":0}]
[{"$f":"CSVデータ1!A158","v":"明細部"},{"$f":"CSVデータ1!B158","v":"県"},{"$f":"CSVデータ1!C158","v":107},{"$f":"CSVデータ1!D158","v":"男"},{"$f":"SUM(CSVデータ1!E158,CSVデータ2!E158,CSVデータ3!E158,CSVデータ4!E158)","v":0},{"$f":"SUM(CSVデータ1!F158,CSVデータ2!F158,CSVデータ3!F158,CSVデータ4!F158)","v":0},{"$f":"SUM(CSVデータ1!G158,CSVデータ2!G158,CSVデータ3!G158,CSVデータ4!G158)","v":0},{"$f":"SUM(CSVデータ1!H158,CSVデータ2!H158,CSVデータ3!H158,CSVデータ4!H158)","v":0},{"$f":"SUM(CSVデータ1!I158,CSVデータ2!I158,CSVデータ3!I158,CSVデータ4!I158)","v":0},{"$f":"SUM(CSVデータ1!J158,CSVデータ2!J158,CSVデータ3!J158,CSVデータ4!J158)","v":0},{"$f":"SUM(CSVデータ1!K158,CSVデータ2!K158,CSVデータ3!K158,CSVデータ4!K158)","v":0},{"$f":"SUM(CSVデータ1!L158,CSVデータ2!L158,CSVデータ3!L158,CSVデータ4!L158)","v":0},{"$f":"SUM(CSVデータ1!M158,CSVデータ2!M158,CSVデータ3!M158,CSVデータ4!M158)","v":0},{"$f":"SUM(CSVデータ1!N158,CSVデータ2!N158,CSVデータ3!N158,CSVデータ4!N158)","v":0},{"$f":"SUM(CSVデータ1!O158,CSVデータ2!O158,CSVデータ3!O158,CSVデータ4!O158)","v":0},{"$f":"SUM(CSVデータ1!P158,CSVデータ2!P158,CSVデータ3!P158,CSVデータ4!P158)","v":0},{"$f":"SUM(CSVデータ1!Q158,CSVデータ2!Q158,CSVデータ3!Q158,CSVデータ4!Q158)","v":0},{"$f":"SUM(CSVデータ1!R158,CSVデータ2!R158,CSVデータ3!R158,CSVデータ4!R158)","v":0},{"$f":"SUM(CSVデータ1!S158,CSVデータ2!S158,CSVデータ3!S158,CSVデータ4!S158)","v":0},{"$f":"SUM(CSVデータ1!T158,CSVデータ2!T158,CSVデータ3!T158,CSVデータ4!T158)","v":0},{"$f":"SUM(CSVデータ1!U158,CSVデータ2!U158,CSVデータ3!U158,CSVデータ4!U158)","v":0},{"$f":"SUM(CSVデータ1!V158,CSVデータ2!V158,CSVデータ3!V158,CSVデータ4!V158)","v":0},{"$f":"SUM(CSVデータ1!W158,CSVデータ2!W158,CSVデータ3!W158,CSVデータ4!W158)","v":0},{"$f":"SUM(CSVデータ1!X158,CSVデータ2!X158,CSVデータ3!X158,CSVデータ4!X158)","v":0},{"$f":"SUM(CSVデータ1!Y158,CSVデータ2!Y158,CSVデータ3!Y158,CSVデータ4!Y158)","v":0},{"$f":"SUM(CSVデータ1!Z158,CSVデータ2!Z158,CSVデータ3!Z158,CSVデータ4!Z158)","v":0},{"$f":"SUM(CSVデータ1!AA158,CSVデータ2!AA158,CSVデータ3!AA158,CSVデータ4!AA158)","v":0},{"$f":"SUM(CSVデータ1!AB158,CSVデータ2!AB158,CSVデータ3!AB158,CSVデータ4!AB158)","v":0},{"$f":"SUM(CSVデータ1!AC158,CSVデータ2!AC158,CSVデータ3!AC158,CSVデータ4!AC158)","v":0},{"$f":"SUM(CSVデータ1!AD158,CSVデータ2!AD158,CSVデータ3!AD158,CSVデータ4!AD158)","v":0},{"$f":"SUM(CSVデータ1!AE158,CSVデータ2!AE158,CSVデータ3!AE158,CSVデータ4!AE158)","v":0},{"$f":"SUM(CSVデータ1!AF158,CSVデータ2!AF158,CSVデータ3!AF158,CSVデータ4!AF158)","v":0},{"$f":"SUM(CSVデータ1!AG158,CSVデータ2!AG158,CSVデータ3!AG158,CSVデータ4!AG158)","v":0}]
[{"$f":"CSVデータ1!A159","v":"明細部"},{"$f":"CSVデータ1!B159","v":"県"},{"$f":"CSVデータ1!C159","v":108},{"$f":"CSVデータ1!D159","v":"男"},{"$f":"SUM(CSVデータ1!E159,CSVデータ2!E159,CSVデータ3!E159,CSVデータ4!E159)","v":0},{"$f":"SUM(CSVデータ1!F159,CSVデータ2!F159,CSVデータ3!F159,CSVデータ4!F159)","v":0},{"$f":"SUM(CSVデータ1!G159,CSVデータ2!G159,CSVデータ3!G159,CSVデータ4!G159)","v":0},{"$f":"SUM(CSVデータ1!H159,CSVデータ2!H159,CSVデータ3!H159,CSVデータ4!H159)","v":0},{"$f":"SUM(CSVデータ1!I159,CSVデータ2!I159,CSVデータ3!I159,CSVデータ4!I159)","v":0},{"$f":"SUM(CSVデータ1!J159,CSVデータ2!J159,CSVデータ3!J159,CSVデータ4!J159)","v":0},{"$f":"SUM(CSVデータ1!K159,CSVデータ2!K159,CSVデータ3!K159,CSVデータ4!K159)","v":0},{"$f":"SUM(CSVデータ1!L159,CSVデータ2!L159,CSVデータ3!L159,CSVデータ4!L159)","v":0},{"$f":"SUM(CSVデータ1!M159,CSVデータ2!M159,CSVデータ3!M159,CSVデータ4!M159)","v":0},{"$f":"SUM(CSVデータ1!N159,CSVデータ2!N159,CSVデータ3!N159,CSVデータ4!N159)","v":0},{"$f":"SUM(CSVデータ1!O159,CSVデータ2!O159,CSVデータ3!O159,CSVデータ4!O159)","v":0},{"$f":"SUM(CSVデータ1!P159,CSVデータ2!P159,CSVデータ3!P159,CSVデータ4!P159)","v":0},{"$f":"SUM(CSVデータ1!Q159,CSVデータ2!Q159,CSVデータ3!Q159,CSVデータ4!Q159)","v":0},{"$f":"SUM(CSVデータ1!R159,CSVデータ2!R159,CSVデータ3!R159,CSVデータ4!R159)","v":0},{"$f":"SUM(CSVデータ1!S159,CSVデータ2!S159,CSVデータ3!S159,CSVデータ4!S159)","v":0},{"$f":"SUM(CSVデータ1!T159,CSVデータ2!T159,CSVデータ3!T159,CSVデータ4!T159)","v":0},{"$f":"SUM(CSVデータ1!U159,CSVデータ2!U159,CSVデータ3!U159,CSVデータ4!U159)","v":0},{"$f":"SUM(CSVデータ1!V159,CSVデータ2!V159,CSVデータ3!V159,CSVデータ4!V159)","v":0},{"$f":"SUM(CSVデータ1!W159,CSVデータ2!W159,CSVデータ3!W159,CSVデータ4!W159)","v":0},{"$f":"SUM(CSVデータ1!X159,CSVデータ2!X159,CSVデータ3!X159,CSVデータ4!X159)","v":0},{"$f":"SUM(CSVデータ1!Y159,CSVデータ2!Y159,CSVデータ3!Y159,CSVデータ4!Y159)","v":0},{"$f":"SUM(CSVデータ1!Z159,CSVデータ2!Z159,CSVデータ3!Z159,CSVデータ4!Z159)","v":0},{"$f":"SUM(CSVデータ1!AA159,CSVデータ2!AA159,CSVデータ3!AA159,CSVデータ4!AA159)","v":0},{"$f":"SUM(CSVデータ1!AB159,CSVデータ2!AB159,CSVデータ3!AB159,CSVデータ4!AB159)","v":0},{"$f":"SUM(CSVデータ1!AC159,CSVデータ2!AC159,CSVデータ3!AC159,CSVデータ4!AC159)","v":0},{"$f":"SUM(CSVデータ1!AD159,CSVデータ2!AD159,CSVデータ3!AD159,CSVデータ4!AD159)","v":0},{"$f":"SUM(CSVデータ1!AE159,CSVデータ2!AE159,CSVデータ3!AE159,CSVデータ4!AE159)","v":0},{"$f":"SUM(CSVデータ1!AF159,CSVデータ2!AF159,CSVデータ3!AF159,CSVデータ4!AF159)","v":0},{"$f":"SUM(CSVデータ1!AG159,CSVデータ2!AG159,CSVデータ3!AG159,CSVデータ4!AG159)","v":0}]
[{"$f":"CSVデータ1!A160","v":"明細部"},{"$f":"CSVデータ1!B160","v":"県"},{"$f":"CSVデータ1!C160","v":109},{"$f":"CSVデータ1!D160","v":"男"},{"$f":"SUM(CSVデータ1!E160,CSVデータ2!E160,CSVデータ3!E160,CSVデータ4!E160)","v":0},{"$f":"SUM(CSVデータ1!F160,CSVデータ2!F160,CSVデータ3!F160,CSVデータ4!F160)","v":0},{"$f":"SUM(CSVデータ1!G160,CSVデータ2!G160,CSVデータ3!G160,CSVデータ4!G160)","v":0},{"$f":"SUM(CSVデータ1!H160,CSVデータ2!H160,CSVデータ3!H160,CSVデータ4!H160)","v":0},{"$f":"SUM(CSVデータ1!I160,CSVデータ2!I160,CSVデータ3!I160,CSVデータ4!I160)","v":0},{"$f":"SUM(CSVデータ1!J160,CSVデータ2!J160,CSVデータ3!J160,CSVデータ4!J160)","v":0},{"$f":"SUM(CSVデータ1!K160,CSVデータ2!K160,CSVデータ3!K160,CSVデータ4!K160)","v":0},{"$f":"SUM(CSVデータ1!L160,CSVデータ2!L160,CSVデータ3!L160,CSVデータ4!L160)","v":0},{"$f":"SUM(CSVデータ1!M160,CSVデータ2!M160,CSVデータ3!M160,CSVデータ4!M160)","v":0},{"$f":"SUM(CSVデータ1!N160,CSVデータ2!N160,CSVデータ3!N160,CSVデータ4!N160)","v":0},{"$f":"SUM(CSVデータ1!O160,CSVデータ2!O160,CSVデータ3!O160,CSVデータ4!O160)","v":0},{"$f":"SUM(CSVデータ1!P160,CSVデータ2!P160,CSVデータ3!P160,CSVデータ4!P160)","v":0},{"$f":"SUM(CSVデータ1!Q160,CSVデータ2!Q160,CSVデータ3!Q160,CSVデータ4!Q160)","v":0},{"$f":"SUM(CSVデータ1!R160,CSVデータ2!R160,CSVデータ3!R160,CSVデータ4!R160)","v":0},{"$f":"SUM(CSVデータ1!S160,CSVデータ2!S160,CSVデータ3!S160,CSVデータ4!S160)","v":0},{"$f":"SUM(CSVデータ1!T160,CSVデータ2!T160,CSVデータ3!T160,CSVデータ4!T160)","v":0},{"$f":"SUM(CSVデータ1!U160,CSVデータ2!U160,CSVデータ3!U160,CSVデータ4!U160)","v":0},{"$f":"SUM(CSVデータ1!V160,CSVデータ2!V160,CSVデータ3!V160,CSVデータ4!V160)","v":0},{"$f":"SUM(CSVデータ1!W160,CSVデータ2!W160,CSVデータ3!W160,CSVデータ4!W160)","v":0},{"$f":"SUM(CSVデータ1!X160,CSVデータ2!X160,CSVデータ3!X160,CSVデータ4!X160)","v":0},{"$f":"SUM(CSVデータ1!Y160,CSVデータ2!Y160,CSVデータ3!Y160,CSVデータ4!Y160)","v":0},{"$f":"SUM(CSVデータ1!Z160,CSVデータ2!Z160,CSVデータ3!Z160,CSVデータ4!Z160)","v":0},{"$f":"SUM(CSVデータ1!AA160,CSVデータ2!AA160,CSVデータ3!AA160,CSVデータ4!AA160)","v":0},{"$f":"SUM(CSVデータ1!AB160,CSVデータ2!AB160,CSVデータ3!AB160,CSVデータ4!AB160)","v":0},{"$f":"SUM(CSVデータ1!AC160,CSVデータ2!AC160,CSVデータ3!AC160,CSVデータ4!AC160)","v":0},{"$f":"SUM(CSVデータ1!AD160,CSVデータ2!AD160,CSVデータ3!AD160,CSVデータ4!AD160)","v":0},{"$f":"SUM(CSVデータ1!AE160,CSVデータ2!AE160,CSVデータ3!AE160,CSVデータ4!AE160)","v":0},{"$f":"SUM(CSVデータ1!AF160,CSVデータ2!AF160,CSVデータ3!AF160,CSVデータ4!AF160)","v":0},{"$f":"SUM(CSVデータ1!AG160,CSVデータ2!AG160,CSVデータ3!AG160,CSVデータ4!AG160)","v":0}]
[{"$f":"CSVデータ1!A161","v":"明細部"},{"$f":"CSVデータ1!B161","v":"県"},{"$f":"CSVデータ1!C161","v":110},{"$f":"CSVデータ1!D161","v":"男"},{"$f":"SUM(CSVデータ1!E161,CSVデータ2!E161,CSVデータ3!E161,CSVデータ4!E161)","v":0},{"$f":"SUM(CSVデータ1!F161,CSVデータ2!F161,CSVデータ3!F161,CSVデータ4!F161)","v":0},{"$f":"SUM(CSVデータ1!G161,CSVデータ2!G161,CSVデータ3!G161,CSVデータ4!G161)","v":0},{"$f":"SUM(CSVデータ1!H161,CSVデータ2!H161,CSVデータ3!H161,CSVデータ4!H161)","v":0},{"$f":"SUM(CSVデータ1!I161,CSVデータ2!I161,CSVデータ3!I161,CSVデータ4!I161)","v":0},{"$f":"SUM(CSVデータ1!J161,CSVデータ2!J161,CSVデータ3!J161,CSVデータ4!J161)","v":0},{"$f":"SUM(CSVデータ1!K161,CSVデータ2!K161,CSVデータ3!K161,CSVデータ4!K161)","v":0},{"$f":"SUM(CSVデータ1!L161,CSVデータ2!L161,CSVデータ3!L161,CSVデータ4!L161)","v":0},{"$f":"SUM(CSVデータ1!M161,CSVデータ2!M161,CSVデータ3!M161,CSVデータ4!M161)","v":0},{"$f":"SUM(CSVデータ1!N161,CSVデータ2!N161,CSVデータ3!N161,CSVデータ4!N161)","v":0},{"$f":"SUM(CSVデータ1!O161,CSVデータ2!O161,CSVデータ3!O161,CSVデータ4!O161)","v":0},{"$f":"SUM(CSVデータ1!P161,CSVデータ2!P161,CSVデータ3!P161,CSVデータ4!P161)","v":0},{"$f":"SUM(CSVデータ1!Q161,CSVデータ2!Q161,CSVデータ3!Q161,CSVデータ4!Q161)","v":0},{"$f":"SUM(CSVデータ1!R161,CSVデータ2!R161,CSVデータ3!R161,CSVデータ4!R161)","v":0},{"$f":"SUM(CSVデータ1!S161,CSVデータ2!S161,CSVデータ3!S161,CSVデータ4!S161)","v":0},{"$f":"SUM(CSVデータ1!T161,CSVデータ2!T161,CSVデータ3!T161,CSVデータ4!T161)","v":0},{"$f":"SUM(CSVデータ1!U161,CSVデータ2!U161,CSVデータ3!U161,CSVデータ4!U161)","v":0},{"$f":"SUM(CSVデータ1!V161,CSVデータ2!V161,CSVデータ3!V161,CSVデータ4!V161)","v":0},{"$f":"SUM(CSVデータ1!W161,CSVデータ2!W161,CSVデータ3!W161,CSVデータ4!W161)","v":0},{"$f":"SUM(CSVデータ1!X161,CSVデータ2!X161,CSVデータ3!X161,CSVデータ4!X161)","v":0},{"$f":"SUM(CSVデータ1!Y161,CSVデータ2!Y161,CSVデータ3!Y161,CSVデータ4!Y161)","v":0},{"$f":"SUM(CSVデータ1!Z161,CSVデータ2!Z161,CSVデータ3!Z161,CSVデータ4!Z161)","v":0},{"$f":"SUM(CSVデータ1!AA161,CSVデータ2!AA161,CSVデータ3!AA161,CSVデータ4!AA161)","v":0},{"$f":"SUM(CSVデータ1!AB161,CSVデータ2!AB161,CSVデータ3!AB161,CSVデータ4!AB161)","v":0},{"$f":"SUM(CSVデータ1!AC161,CSVデータ2!AC161,CSVデータ3!AC161,CSVデータ4!AC161)","v":0},{"$f":"SUM(CSVデータ1!AD161,CSVデータ2!AD161,CSVデータ3!AD161,CSVデータ4!AD161)","v":0},{"$f":"SUM(CSVデータ1!AE161,CSVデータ2!AE161,CSVデータ3!AE161,CSVデータ4!AE161)","v":0},{"$f":"SUM(CSVデータ1!AF161,CSVデータ2!AF161,CSVデータ3!AF161,CSVデータ4!AF161)","v":0},{"$f":"SUM(CSVデータ1!AG161,CSVデータ2!AG161,CSVデータ3!AG161,CSVデータ4!AG161)","v":0}]
[{"$f":"CSVデータ1!A162","v":"明細部"},{"$f":"CSVデータ1!B162","v":"県"},{"$f":"CSVデータ1!C162","v":111},{"$f":"CSVデータ1!D162","v":"男"},{"$f":"SUM(CSVデータ1!E162,CSVデータ2!E162,CSVデータ3!E162,CSVデータ4!E162)","v":0},{"$f":"SUM(CSVデータ1!F162,CSVデータ2!F162,CSVデータ3!F162,CSVデータ4!F162)","v":0},{"$f":"SUM(CSVデータ1!G162,CSVデータ2!G162,CSVデータ3!G162,CSVデータ4!G162)","v":0},{"$f":"SUM(CSVデータ1!H162,CSVデータ2!H162,CSVデータ3!H162,CSVデータ4!H162)","v":0},{"$f":"SUM(CSVデータ1!I162,CSVデータ2!I162,CSVデータ3!I162,CSVデータ4!I162)","v":0},{"$f":"SUM(CSVデータ1!J162,CSVデータ2!J162,CSVデータ3!J162,CSVデータ4!J162)","v":0},{"$f":"SUM(CSVデータ1!K162,CSVデータ2!K162,CSVデータ3!K162,CSVデータ4!K162)","v":0},{"$f":"SUM(CSVデータ1!L162,CSVデータ2!L162,CSVデータ3!L162,CSVデータ4!L162)","v":0},{"$f":"SUM(CSVデータ1!M162,CSVデータ2!M162,CSVデータ3!M162,CSVデータ4!M162)","v":0},{"$f":"SUM(CSVデータ1!N162,CSVデータ2!N162,CSVデータ3!N162,CSVデータ4!N162)","v":0},{"$f":"SUM(CSVデータ1!O162,CSVデータ2!O162,CSVデータ3!O162,CSVデータ4!O162)","v":0},{"$f":"SUM(CSVデータ1!P162,CSVデータ2!P162,CSVデータ3!P162,CSVデータ4!P162)","v":0},{"$f":"SUM(CSVデータ1!Q162,CSVデータ2!Q162,CSVデータ3!Q162,CSVデータ4!Q162)","v":0},{"$f":"SUM(CSVデータ1!R162,CSVデータ2!R162,CSVデータ3!R162,CSVデータ4!R162)","v":0},{"$f":"SUM(CSVデータ1!S162,CSVデータ2!S162,CSVデータ3!S162,CSVデータ4!S162)","v":0},{"$f":"SUM(CSVデータ1!T162,CSVデータ2!T162,CSVデータ3!T162,CSVデータ4!T162)","v":0},{"$f":"SUM(CSVデータ1!U162,CSVデータ2!U162,CSVデータ3!U162,CSVデータ4!U162)","v":0},{"$f":"SUM(CSVデータ1!V162,CSVデータ2!V162,CSVデータ3!V162,CSVデータ4!V162)","v":0},{"$f":"SUM(CSVデータ1!W162,CSVデータ2!W162,CSVデータ3!W162,CSVデータ4!W162)","v":0},{"$f":"SUM(CSVデータ1!X162,CSVデータ2!X162,CSVデータ3!X162,CSVデータ4!X162)","v":0},{"$f":"SUM(CSVデータ1!Y162,CSVデータ2!Y162,CSVデータ3!Y162,CSVデータ4!Y162)","v":0},{"$f":"SUM(CSVデータ1!Z162,CSVデータ2!Z162,CSVデータ3!Z162,CSVデータ4!Z162)","v":0},{"$f":"SUM(CSVデータ1!AA162,CSVデータ2!AA162,CSVデータ3!AA162,CSVデータ4!AA162)","v":0},{"$f":"SUM(CSVデータ1!AB162,CSVデータ2!AB162,CSVデータ3!AB162,CSVデータ4!AB162)","v":0},{"$f":"SUM(CSVデータ1!AC162,CSVデータ2!AC162,CSVデータ3!AC162,CSVデータ4!AC162)","v":0},{"$f":"SUM(CSVデータ1!AD162,CSVデータ2!AD162,CSVデータ3!AD162,CSVデータ4!AD162)","v":0},{"$f":"SUM(CSVデータ1!AE162,CSVデータ2!AE162,CSVデータ3!AE162,CSVデータ4!AE162)","v":0},{"$f":"SUM(CSVデータ1!AF162,CSVデータ2!AF162,CSVデータ3!AF162,CSVデータ4!AF162)","v":0},{"$f":"SUM(CSVデータ1!AG162,CSVデータ2!AG162,CSVデータ3!AG162,CSVデータ4!AG162)","v":0}]
[{"$f":"CSVデータ1!A163","v":"明細部"},{"$f":"CSVデータ1!B163","v":"県"},{"$f":"CSVデータ1!C163","v":112},{"$f":"CSVデータ1!D163","v":"男"},{"$f":"SUM(CSVデータ1!E163,CSVデータ2!E163,CSVデータ3!E163,CSVデータ4!E163)","v":0},{"$f":"SUM(CSVデータ1!F163,CSVデータ2!F163,CSVデータ3!F163,CSVデータ4!F163)","v":0},{"$f":"SUM(CSVデータ1!G163,CSVデータ2!G163,CSVデータ3!G163,CSVデータ4!G163)","v":0},{"$f":"SUM(CSVデータ1!H163,CSVデータ2!H163,CSVデータ3!H163,CSVデータ4!H163)","v":0},{"$f":"SUM(CSVデータ1!I163,CSVデータ2!I163,CSVデータ3!I163,CSVデータ4!I163)","v":0},{"$f":"SUM(CSVデータ1!J163,CSVデータ2!J163,CSVデータ3!J163,CSVデータ4!J163)","v":0},{"$f":"SUM(CSVデータ1!K163,CSVデータ2!K163,CSVデータ3!K163,CSVデータ4!K163)","v":0},{"$f":"SUM(CSVデータ1!L163,CSVデータ2!L163,CSVデータ3!L163,CSVデータ4!L163)","v":0},{"$f":"SUM(CSVデータ1!M163,CSVデータ2!M163,CSVデータ3!M163,CSVデータ4!M163)","v":0},{"$f":"SUM(CSVデータ1!N163,CSVデータ2!N163,CSVデータ3!N163,CSVデータ4!N163)","v":0},{"$f":"SUM(CSVデータ1!O163,CSVデータ2!O163,CSVデータ3!O163,CSVデータ4!O163)","v":0},{"$f":"SUM(CSVデータ1!P163,CSVデータ2!P163,CSVデータ3!P163,CSVデータ4!P163)","v":0},{"$f":"SUM(CSVデータ1!Q163,CSVデータ2!Q163,CSVデータ3!Q163,CSVデータ4!Q163)","v":0},{"$f":"SUM(CSVデータ1!R163,CSVデータ2!R163,CSVデータ3!R163,CSVデータ4!R163)","v":0},{"$f":"SUM(CSVデータ1!S163,CSVデータ2!S163,CSVデータ3!S163,CSVデータ4!S163)","v":0},{"$f":"SUM(CSVデータ1!T163,CSVデータ2!T163,CSVデータ3!T163,CSVデータ4!T163)","v":0},{"$f":"SUM(CSVデータ1!U163,CSVデータ2!U163,CSVデータ3!U163,CSVデータ4!U163)","v":0},{"$f":"SUM(CSVデータ1!V163,CSVデータ2!V163,CSVデータ3!V163,CSVデータ4!V163)","v":0},{"$f":"SUM(CSVデータ1!W163,CSVデータ2!W163,CSVデータ3!W163,CSVデータ4!W163)","v":0},{"$f":"SUM(CSVデータ1!X163,CSVデータ2!X163,CSVデータ3!X163,CSVデータ4!X163)","v":0},{"$f":"SUM(CSVデータ1!Y163,CSVデータ2!Y163,CSVデータ3!Y163,CSVデータ4!Y163)","v":0},{"$f":"SUM(CSVデータ1!Z163,CSVデータ2!Z163,CSVデータ3!Z163,CSVデータ4!Z163)","v":0},{"$f":"SUM(CSVデータ1!AA163,CSVデータ2!AA163,CSVデータ3!AA163,CSVデータ4!AA163)","v":0},{"$f":"SUM(CSVデータ1!AB163,CSVデータ2!AB163,CSVデータ3!AB163,CSVデータ4!AB163)","v":0},{"$f":"SUM(CSVデータ1!AC163,CSVデータ2!AC163,CSVデータ3!AC163,CSVデータ4!AC163)","v":0},{"$f":"SUM(CSVデータ1!AD163,CSVデータ2!AD163,CSVデータ3!AD163,CSVデータ4!AD163)","v":0},{"$f":"SUM(CSVデータ1!AE163,CSVデータ2!AE163,CSVデータ3!AE163,CSVデータ4!AE163)","v":0},{"$f":"SUM(CSVデータ1!AF163,CSVデータ2!AF163,CSVデータ3!AF163,CSVデータ4!AF163)","v":0},{"$f":"SUM(CSVデータ1!AG163,CSVデータ2!AG163,CSVデータ3!AG163,CSVデータ4!AG163)","v":0}]
[{"$f":"CSVデータ1!A164","v":"明細部"},{"$f":"CSVデータ1!B164","v":"県"},{"$f":"CSVデータ1!C164","v":113},{"$f":"CSVデータ1!D164","v":"男"},{"$f":"SUM(CSVデータ1!E164,CSVデータ2!E164,CSVデータ3!E164,CSVデータ4!E164)","v":0},{"$f":"SUM(CSVデータ1!F164,CSVデータ2!F164,CSVデータ3!F164,CSVデータ4!F164)","v":0},{"$f":"SUM(CSVデータ1!G164,CSVデータ2!G164,CSVデータ3!G164,CSVデータ4!G164)","v":0},{"$f":"SUM(CSVデータ1!H164,CSVデータ2!H164,CSVデータ3!H164,CSVデータ4!H164)","v":0},{"$f":"SUM(CSVデータ1!I164,CSVデータ2!I164,CSVデータ3!I164,CSVデータ4!I164)","v":0},{"$f":"SUM(CSVデータ1!J164,CSVデータ2!J164,CSVデータ3!J164,CSVデータ4!J164)","v":0},{"$f":"SUM(CSVデータ1!K164,CSVデータ2!K164,CSVデータ3!K164,CSVデータ4!K164)","v":0},{"$f":"SUM(CSVデータ1!L164,CSVデータ2!L164,CSVデータ3!L164,CSVデータ4!L164)","v":0},{"$f":"SUM(CSVデータ1!M164,CSVデータ2!M164,CSVデータ3!M164,CSVデータ4!M164)","v":0},{"$f":"SUM(CSVデータ1!N164,CSVデータ2!N164,CSVデータ3!N164,CSVデータ4!N164)","v":0},{"$f":"SUM(CSVデータ1!O164,CSVデータ2!O164,CSVデータ3!O164,CSVデータ4!O164)","v":0},{"$f":"SUM(CSVデータ1!P164,CSVデータ2!P164,CSVデータ3!P164,CSVデータ4!P164)","v":0},{"$f":"SUM(CSVデータ1!Q164,CSVデータ2!Q164,CSVデータ3!Q164,CSVデータ4!Q164)","v":0},{"$f":"SUM(CSVデータ1!R164,CSVデータ2!R164,CSVデータ3!R164,CSVデータ4!R164)","v":0},{"$f":"SUM(CSVデータ1!S164,CSVデータ2!S164,CSVデータ3!S164,CSVデータ4!S164)","v":0},{"$f":"SUM(CSVデータ1!T164,CSVデータ2!T164,CSVデータ3!T164,CSVデータ4!T164)","v":0},{"$f":"SUM(CSVデータ1!U164,CSVデータ2!U164,CSVデータ3!U164,CSVデータ4!U164)","v":0},{"$f":"SUM(CSVデータ1!V164,CSVデータ2!V164,CSVデータ3!V164,CSVデータ4!V164)","v":0},{"$f":"SUM(CSVデータ1!W164,CSVデータ2!W164,CSVデータ3!W164,CSVデータ4!W164)","v":0},{"$f":"SUM(CSVデータ1!X164,CSVデータ2!X164,CSVデータ3!X164,CSVデータ4!X164)","v":0},{"$f":"SUM(CSVデータ1!Y164,CSVデータ2!Y164,CSVデータ3!Y164,CSVデータ4!Y164)","v":0},{"$f":"SUM(CSVデータ1!Z164,CSVデータ2!Z164,CSVデータ3!Z164,CSVデータ4!Z164)","v":0},{"$f":"SUM(CSVデータ1!AA164,CSVデータ2!AA164,CSVデータ3!AA164,CSVデータ4!AA164)","v":0},{"$f":"SUM(CSVデータ1!AB164,CSVデータ2!AB164,CSVデータ3!AB164,CSVデータ4!AB164)","v":0},{"$f":"SUM(CSVデータ1!AC164,CSVデータ2!AC164,CSVデータ3!AC164,CSVデータ4!AC164)","v":0},{"$f":"SUM(CSVデータ1!AD164,CSVデータ2!AD164,CSVデータ3!AD164,CSVデータ4!AD164)","v":0},{"$f":"SUM(CSVデータ1!AE164,CSVデータ2!AE164,CSVデータ3!AE164,CSVデータ4!AE164)","v":0},{"$f":"SUM(CSVデータ1!AF164,CSVデータ2!AF164,CSVデータ3!AF164,CSVデータ4!AF164)","v":0},{"$f":"SUM(CSVデータ1!AG164,CSVデータ2!AG164,CSVデータ3!AG164,CSVデータ4!AG164)","v":0}]
[{"$f":"CSVデータ1!A165","v":"明細部"},{"$f":"CSVデータ1!B165","v":"県"},{"$f":"CSVデータ1!C165","v":114},{"$f":"CSVデータ1!D165","v":"男"},{"$f":"SUM(CSVデータ1!E165,CSVデータ2!E165,CSVデータ3!E165,CSVデータ4!E165)","v":0},{"$f":"SUM(CSVデータ1!F165,CSVデータ2!F165,CSVデータ3!F165,CSVデータ4!F165)","v":0},{"$f":"SUM(CSVデータ1!G165,CSVデータ2!G165,CSVデータ3!G165,CSVデータ4!G165)","v":0},{"$f":"SUM(CSVデータ1!H165,CSVデータ2!H165,CSVデータ3!H165,CSVデータ4!H165)","v":0},{"$f":"SUM(CSVデータ1!I165,CSVデータ2!I165,CSVデータ3!I165,CSVデータ4!I165)","v":0},{"$f":"SUM(CSVデータ1!J165,CSVデータ2!J165,CSVデータ3!J165,CSVデータ4!J165)","v":0},{"$f":"SUM(CSVデータ1!K165,CSVデータ2!K165,CSVデータ3!K165,CSVデータ4!K165)","v":0},{"$f":"SUM(CSVデータ1!L165,CSVデータ2!L165,CSVデータ3!L165,CSVデータ4!L165)","v":0},{"$f":"SUM(CSVデータ1!M165,CSVデータ2!M165,CSVデータ3!M165,CSVデータ4!M165)","v":0},{"$f":"SUM(CSVデータ1!N165,CSVデータ2!N165,CSVデータ3!N165,CSVデータ4!N165)","v":0},{"$f":"SUM(CSVデータ1!O165,CSVデータ2!O165,CSVデータ3!O165,CSVデータ4!O165)","v":0},{"$f":"SUM(CSVデータ1!P165,CSVデータ2!P165,CSVデータ3!P165,CSVデータ4!P165)","v":0},{"$f":"SUM(CSVデータ1!Q165,CSVデータ2!Q165,CSVデータ3!Q165,CSVデータ4!Q165)","v":0},{"$f":"SUM(CSVデータ1!R165,CSVデータ2!R165,CSVデータ3!R165,CSVデータ4!R165)","v":0},{"$f":"SUM(CSVデータ1!S165,CSVデータ2!S165,CSVデータ3!S165,CSVデータ4!S165)","v":0},{"$f":"SUM(CSVデータ1!T165,CSVデータ2!T165,CSVデータ3!T165,CSVデータ4!T165)","v":0},{"$f":"SUM(CSVデータ1!U165,CSVデータ2!U165,CSVデータ3!U165,CSVデータ4!U165)","v":0},{"$f":"SUM(CSVデータ1!V165,CSVデータ2!V165,CSVデータ3!V165,CSVデータ4!V165)","v":0},{"$f":"SUM(CSVデータ1!W165,CSVデータ2!W165,CSVデータ3!W165,CSVデータ4!W165)","v":0},{"$f":"SUM(CSVデータ1!X165,CSVデータ2!X165,CSVデータ3!X165,CSVデータ4!X165)","v":0},{"$f":"SUM(CSVデータ1!Y165,CSVデータ2!Y165,CSVデータ3!Y165,CSVデータ4!Y165)","v":0},{"$f":"SUM(CSVデータ1!Z165,CSVデータ2!Z165,CSVデータ3!Z165,CSVデータ4!Z165)","v":0},{"$f":"SUM(CSVデータ1!AA165,CSVデータ2!AA165,CSVデータ3!AA165,CSVデータ4!AA165)","v":0},{"$f":"SUM(CSVデータ1!AB165,CSVデータ2!AB165,CSVデータ3!AB165,CSVデータ4!AB165)","v":0},{"$f":"SUM(CSVデータ1!AC165,CSVデータ2!AC165,CSVデータ3!AC165,CSVデータ4!AC165)","v":0},{"$f":"SUM(CSVデータ1!AD165,CSVデータ2!AD165,CSVデータ3!AD165,CSVデータ4!AD165)","v":0},{"$f":"SUM(CSVデータ1!AE165,CSVデータ2!AE165,CSVデータ3!AE165,CSVデータ4!AE165)","v":0},{"$f":"SUM(CSVデータ1!AF165,CSVデータ2!AF165,CSVデータ3!AF165,CSVデータ4!AF165)","v":0},{"$f":"SUM(CSVデータ1!AG165,CSVデータ2!AG165,CSVデータ3!AG165,CSVデータ4!AG165)","v":0}]
[{"$f":"CSVデータ1!A166","v":"明細部"},{"$f":"CSVデータ1!B166","v":"県"},{"$f":"CSVデータ1!C166","v":115},{"$f":"CSVデータ1!D166","v":"男"},{"$f":"SUM(CSVデータ1!E166,CSVデータ2!E166,CSVデータ3!E166,CSVデータ4!E166)","v":0},{"$f":"SUM(CSVデータ1!F166,CSVデータ2!F166,CSVデータ3!F166,CSVデータ4!F166)","v":0},{"$f":"SUM(CSVデータ1!G166,CSVデータ2!G166,CSVデータ3!G166,CSVデータ4!G166)","v":0},{"$f":"SUM(CSVデータ1!H166,CSVデータ2!H166,CSVデータ3!H166,CSVデータ4!H166)","v":0},{"$f":"SUM(CSVデータ1!I166,CSVデータ2!I166,CSVデータ3!I166,CSVデータ4!I166)","v":0},{"$f":"SUM(CSVデータ1!J166,CSVデータ2!J166,CSVデータ3!J166,CSVデータ4!J166)","v":0},{"$f":"SUM(CSVデータ1!K166,CSVデータ2!K166,CSVデータ3!K166,CSVデータ4!K166)","v":0},{"$f":"SUM(CSVデータ1!L166,CSVデータ2!L166,CSVデータ3!L166,CSVデータ4!L166)","v":0},{"$f":"SUM(CSVデータ1!M166,CSVデータ2!M166,CSVデータ3!M166,CSVデータ4!M166)","v":0},{"$f":"SUM(CSVデータ1!N166,CSVデータ2!N166,CSVデータ3!N166,CSVデータ4!N166)","v":0},{"$f":"SUM(CSVデータ1!O166,CSVデータ2!O166,CSVデータ3!O166,CSVデータ4!O166)","v":0},{"$f":"SUM(CSVデータ1!P166,CSVデータ2!P166,CSVデータ3!P166,CSVデータ4!P166)","v":0},{"$f":"SUM(CSVデータ1!Q166,CSVデータ2!Q166,CSVデータ3!Q166,CSVデータ4!Q166)","v":0},{"$f":"SUM(CSVデータ1!R166,CSVデータ2!R166,CSVデータ3!R166,CSVデータ4!R166)","v":0},{"$f":"SUM(CSVデータ1!S166,CSVデータ2!S166,CSVデータ3!S166,CSVデータ4!S166)","v":0},{"$f":"SUM(CSVデータ1!T166,CSVデータ2!T166,CSVデータ3!T166,CSVデータ4!T166)","v":0},{"$f":"SUM(CSVデータ1!U166,CSVデータ2!U166,CSVデータ3!U166,CSVデータ4!U166)","v":0},{"$f":"SUM(CSVデータ1!V166,CSVデータ2!V166,CSVデータ3!V166,CSVデータ4!V166)","v":0},{"$f":"SUM(CSVデータ1!W166,CSVデータ2!W166,CSVデータ3!W166,CSVデータ4!W166)","v":0},{"$f":"SUM(CSVデータ1!X166,CSVデータ2!X166,CSVデータ3!X166,CSVデータ4!X166)","v":0},{"$f":"SUM(CSVデータ1!Y166,CSVデータ2!Y166,CSVデータ3!Y166,CSVデータ4!Y166)","v":0},{"$f":"SUM(CSVデータ1!Z166,CSVデータ2!Z166,CSVデータ3!Z166,CSVデータ4!Z166)","v":0},{"$f":"SUM(CSVデータ1!AA166,CSVデータ2!AA166,CSVデータ3!AA166,CSVデータ4!AA166)","v":0},{"$f":"SUM(CSVデータ1!AB166,CSVデータ2!AB166,CSVデータ3!AB166,CSVデータ4!AB166)","v":0},{"$f":"SUM(CSVデータ1!AC166,CSVデータ2!AC166,CSVデータ3!AC166,CSVデータ4!AC166)","v":0},{"$f":"SUM(CSVデータ1!AD166,CSVデータ2!AD166,CSVデータ3!AD166,CSVデータ4!AD166)","v":0},{"$f":"SUM(CSVデータ1!AE166,CSVデータ2!AE166,CSVデータ3!AE166,CSVデータ4!AE166)","v":0},{"$f":"SUM(CSVデータ1!AF166,CSVデータ2!AF166,CSVデータ3!AF166,CSVデータ4!AF166)","v":0},{"$f":"SUM(CSVデータ1!AG166,CSVデータ2!AG166,CSVデータ3!AG166,CSVデータ4!AG166)","v":0}]
[{"$f":"CSVデータ1!A167","v":"明細部"},{"$f":"CSVデータ1!B167","v":"県"},{"$f":"CSVデータ1!C167","v":116},{"$f":"CSVデータ1!D167","v":"男"},{"$f":"SUM(CSVデータ1!E167,CSVデータ2!E167,CSVデータ3!E167,CSVデータ4!E167)","v":0},{"$f":"SUM(CSVデータ1!F167,CSVデータ2!F167,CSVデータ3!F167,CSVデータ4!F167)","v":0},{"$f":"SUM(CSVデータ1!G167,CSVデータ2!G167,CSVデータ3!G167,CSVデータ4!G167)","v":0},{"$f":"SUM(CSVデータ1!H167,CSVデータ2!H167,CSVデータ3!H167,CSVデータ4!H167)","v":0},{"$f":"SUM(CSVデータ1!I167,CSVデータ2!I167,CSVデータ3!I167,CSVデータ4!I167)","v":0},{"$f":"SUM(CSVデータ1!J167,CSVデータ2!J167,CSVデータ3!J167,CSVデータ4!J167)","v":0},{"$f":"SUM(CSVデータ1!K167,CSVデータ2!K167,CSVデータ3!K167,CSVデータ4!K167)","v":0},{"$f":"SUM(CSVデータ1!L167,CSVデータ2!L167,CSVデータ3!L167,CSVデータ4!L167)","v":0},{"$f":"SUM(CSVデータ1!M167,CSVデータ2!M167,CSVデータ3!M167,CSVデータ4!M167)","v":0},{"$f":"SUM(CSVデータ1!N167,CSVデータ2!N167,CSVデータ3!N167,CSVデータ4!N167)","v":0},{"$f":"SUM(CSVデータ1!O167,CSVデータ2!O167,CSVデータ3!O167,CSVデータ4!O167)","v":0},{"$f":"SUM(CSVデータ1!P167,CSVデータ2!P167,CSVデータ3!P167,CSVデータ4!P167)","v":0},{"$f":"SUM(CSVデータ1!Q167,CSVデータ2!Q167,CSVデータ3!Q167,CSVデータ4!Q167)","v":0},{"$f":"SUM(CSVデータ1!R167,CSVデータ2!R167,CSVデータ3!R167,CSVデータ4!R167)","v":0},{"$f":"SUM(CSVデータ1!S167,CSVデータ2!S167,CSVデータ3!S167,CSVデータ4!S167)","v":0},{"$f":"SUM(CSVデータ1!T167,CSVデータ2!T167,CSVデータ3!T167,CSVデータ4!T167)","v":0},{"$f":"SUM(CSVデータ1!U167,CSVデータ2!U167,CSVデータ3!U167,CSVデータ4!U167)","v":0},{"$f":"SUM(CSVデータ1!V167,CSVデータ2!V167,CSVデータ3!V167,CSVデータ4!V167)","v":0},{"$f":"SUM(CSVデータ1!W167,CSVデータ2!W167,CSVデータ3!W167,CSVデータ4!W167)","v":0},{"$f":"SUM(CSVデータ1!X167,CSVデータ2!X167,CSVデータ3!X167,CSVデータ4!X167)","v":0},{"$f":"SUM(CSVデータ1!Y167,CSVデータ2!Y167,CSVデータ3!Y167,CSVデータ4!Y167)","v":0},{"$f":"SUM(CSVデータ1!Z167,CSVデータ2!Z167,CSVデータ3!Z167,CSVデータ4!Z167)","v":0},{"$f":"SUM(CSVデータ1!AA167,CSVデータ2!AA167,CSVデータ3!AA167,CSVデータ4!AA167)","v":0},{"$f":"SUM(CSVデータ1!AB167,CSVデータ2!AB167,CSVデータ3!AB167,CSVデータ4!AB167)","v":0},{"$f":"SUM(CSVデータ1!AC167,CSVデータ2!AC167,CSVデータ3!AC167,CSVデータ4!AC167)","v":0},{"$f":"SUM(CSVデータ1!AD167,CSVデータ2!AD167,CSVデータ3!AD167,CSVデータ4!AD167)","v":0},{"$f":"SUM(CSVデータ1!AE167,CSVデータ2!AE167,CSVデータ3!AE167,CSVデータ4!AE167)","v":0},{"$f":"SUM(CSVデータ1!AF167,CSVデータ2!AF167,CSVデータ3!AF167,CSVデータ4!AF167)","v":0},{"$f":"SUM(CSVデータ1!AG167,CSVデータ2!AG167,CSVデータ3!AG167,CSVデータ4!AG167)","v":0}]
[{"$f":"CSVデータ1!A168","v":"明細部"},{"$f":"CSVデータ1!B168","v":"県"},{"$f":"CSVデータ1!C168","v":117},{"$f":"CSVデータ1!D168","v":"男"},{"$f":"SUM(CSVデータ1!E168,CSVデータ2!E168,CSVデータ3!E168,CSVデータ4!E168)","v":0},{"$f":"SUM(CSVデータ1!F168,CSVデータ2!F168,CSVデータ3!F168,CSVデータ4!F168)","v":0},{"$f":"SUM(CSVデータ1!G168,CSVデータ2!G168,CSVデータ3!G168,CSVデータ4!G168)","v":0},{"$f":"SUM(CSVデータ1!H168,CSVデータ2!H168,CSVデータ3!H168,CSVデータ4!H168)","v":0},{"$f":"SUM(CSVデータ1!I168,CSVデータ2!I168,CSVデータ3!I168,CSVデータ4!I168)","v":0},{"$f":"SUM(CSVデータ1!J168,CSVデータ2!J168,CSVデータ3!J168,CSVデータ4!J168)","v":0},{"$f":"SUM(CSVデータ1!K168,CSVデータ2!K168,CSVデータ3!K168,CSVデータ4!K168)","v":0},{"$f":"SUM(CSVデータ1!L168,CSVデータ2!L168,CSVデータ3!L168,CSVデータ4!L168)","v":0},{"$f":"SUM(CSVデータ1!M168,CSVデータ2!M168,CSVデータ3!M168,CSVデータ4!M168)","v":0},{"$f":"SUM(CSVデータ1!N168,CSVデータ2!N168,CSVデータ3!N168,CSVデータ4!N168)","v":0},{"$f":"SUM(CSVデータ1!O168,CSVデータ2!O168,CSVデータ3!O168,CSVデータ4!O168)","v":0},{"$f":"SUM(CSVデータ1!P168,CSVデータ2!P168,CSVデータ3!P168,CSVデータ4!P168)","v":0},{"$f":"SUM(CSVデータ1!Q168,CSVデータ2!Q168,CSVデータ3!Q168,CSVデータ4!Q168)","v":0},{"$f":"SUM(CSVデータ1!R168,CSVデータ2!R168,CSVデータ3!R168,CSVデータ4!R168)","v":0},{"$f":"SUM(CSVデータ1!S168,CSVデータ2!S168,CSVデータ3!S168,CSVデータ4!S168)","v":0},{"$f":"SUM(CSVデータ1!T168,CSVデータ2!T168,CSVデータ3!T168,CSVデータ4!T168)","v":0},{"$f":"SUM(CSVデータ1!U168,CSVデータ2!U168,CSVデータ3!U168,CSVデータ4!U168)","v":0},{"$f":"SUM(CSVデータ1!V168,CSVデータ2!V168,CSVデータ3!V168,CSVデータ4!V168)","v":0},{"$f":"SUM(CSVデータ1!W168,CSVデータ2!W168,CSVデータ3!W168,CSVデータ4!W168)","v":0},{"$f":"SUM(CSVデータ1!X168,CSVデータ2!X168,CSVデータ3!X168,CSVデータ4!X168)","v":0},{"$f":"SUM(CSVデータ1!Y168,CSVデータ2!Y168,CSVデータ3!Y168,CSVデータ4!Y168)","v":0},{"$f":"SUM(CSVデータ1!Z168,CSVデータ2!Z168,CSVデータ3!Z168,CSVデータ4!Z168)","v":0},{"$f":"SUM(CSVデータ1!AA168,CSVデータ2!AA168,CSVデータ3!AA168,CSVデータ4!AA168)","v":0},{"$f":"SUM(CSVデータ1!AB168,CSVデータ2!AB168,CSVデータ3!AB168,CSVデータ4!AB168)","v":0},{"$f":"SUM(CSVデータ1!AC168,CSVデータ2!AC168,CSVデータ3!AC168,CSVデータ4!AC168)","v":0},{"$f":"SUM(CSVデータ1!AD168,CSVデータ2!AD168,CSVデータ3!AD168,CSVデータ4!AD168)","v":0},{"$f":"SUM(CSVデータ1!AE168,CSVデータ2!AE168,CSVデータ3!AE168,CSVデータ4!AE168)","v":0},{"$f":"SUM(CSVデータ1!AF168,CSVデータ2!AF168,CSVデータ3!AF168,CSVデータ4!AF168)","v":0},{"$f":"SUM(CSVデータ1!AG168,CSVデータ2!AG168,CSVデータ3!AG168,CSVデータ4!AG168)","v":0}]
[{"$f":"CSVデータ1!A169","v":"明細部"},{"$f":"CSVデータ1!B169","v":"県"},{"$f":"CSVデータ1!C169","v":118},{"$f":"CSVデータ1!D169","v":"男"},{"$f":"SUM(CSVデータ1!E169,CSVデータ2!E169,CSVデータ3!E169,CSVデータ4!E169)","v":0},{"$f":"SUM(CSVデータ1!F169,CSVデータ2!F169,CSVデータ3!F169,CSVデータ4!F169)","v":0},{"$f":"SUM(CSVデータ1!G169,CSVデータ2!G169,CSVデータ3!G169,CSVデータ4!G169)","v":0},{"$f":"SUM(CSVデータ1!H169,CSVデータ2!H169,CSVデータ3!H169,CSVデータ4!H169)","v":0},{"$f":"SUM(CSVデータ1!I169,CSVデータ2!I169,CSVデータ3!I169,CSVデータ4!I169)","v":0},{"$f":"SUM(CSVデータ1!J169,CSVデータ2!J169,CSVデータ3!J169,CSVデータ4!J169)","v":0},{"$f":"SUM(CSVデータ1!K169,CSVデータ2!K169,CSVデータ3!K169,CSVデータ4!K169)","v":0},{"$f":"SUM(CSVデータ1!L169,CSVデータ2!L169,CSVデータ3!L169,CSVデータ4!L169)","v":0},{"$f":"SUM(CSVデータ1!M169,CSVデータ2!M169,CSVデータ3!M169,CSVデータ4!M169)","v":0},{"$f":"SUM(CSVデータ1!N169,CSVデータ2!N169,CSVデータ3!N169,CSVデータ4!N169)","v":0},{"$f":"SUM(CSVデータ1!O169,CSVデータ2!O169,CSVデータ3!O169,CSVデータ4!O169)","v":0},{"$f":"SUM(CSVデータ1!P169,CSVデータ2!P169,CSVデータ3!P169,CSVデータ4!P169)","v":0},{"$f":"SUM(CSVデータ1!Q169,CSVデータ2!Q169,CSVデータ3!Q169,CSVデータ4!Q169)","v":0},{"$f":"SUM(CSVデータ1!R169,CSVデータ2!R169,CSVデータ3!R169,CSVデータ4!R169)","v":0},{"$f":"SUM(CSVデータ1!S169,CSVデータ2!S169,CSVデータ3!S169,CSVデータ4!S169)","v":0},{"$f":"SUM(CSVデータ1!T169,CSVデータ2!T169,CSVデータ3!T169,CSVデータ4!T169)","v":0},{"$f":"SUM(CSVデータ1!U169,CSVデータ2!U169,CSVデータ3!U169,CSVデータ4!U169)","v":0},{"$f":"SUM(CSVデータ1!V169,CSVデータ2!V169,CSVデータ3!V169,CSVデータ4!V169)","v":0},{"$f":"SUM(CSVデータ1!W169,CSVデータ2!W169,CSVデータ3!W169,CSVデータ4!W169)","v":0},{"$f":"SUM(CSVデータ1!X169,CSVデータ2!X169,CSVデータ3!X169,CSVデータ4!X169)","v":0},{"$f":"SUM(CSVデータ1!Y169,CSVデータ2!Y169,CSVデータ3!Y169,CSVデータ4!Y169)","v":0},{"$f":"SUM(CSVデータ1!Z169,CSVデータ2!Z169,CSVデータ3!Z169,CSVデータ4!Z169)","v":0},{"$f":"SUM(CSVデータ1!AA169,CSVデータ2!AA169,CSVデータ3!AA169,CSVデータ4!AA169)","v":0},{"$f":"SUM(CSVデータ1!AB169,CSVデータ2!AB169,CSVデータ3!AB169,CSVデータ4!AB169)","v":0},{"$f":"SUM(CSVデータ1!AC169,CSVデータ2!AC169,CSVデータ3!AC169,CSVデータ4!AC169)","v":0},{"$f":"SUM(CSVデータ1!AD169,CSVデータ2!AD169,CSVデータ3!AD169,CSVデータ4!AD169)","v":0},{"$f":"SUM(CSVデータ1!AE169,CSVデータ2!AE169,CSVデータ3!AE169,CSVデータ4!AE169)","v":0},{"$f":"SUM(CSVデータ1!AF169,CSVデータ2!AF169,CSVデータ3!AF169,CSVデータ4!AF169)","v":0},{"$f":"SUM(CSVデータ1!AG169,CSVデータ2!AG169,CSVデータ3!AG169,CSVデータ4!AG169)","v":0}]
[{"$f":"CSVデータ1!A170","v":"明細部"},{"$f":"CSVデータ1!B170","v":"県"},{"$f":"CSVデータ1!C170","v":119},{"$f":"CSVデータ1!D170","v":"男"},{"$f":"SUM(CSVデータ1!E170,CSVデータ2!E170,CSVデータ3!E170,CSVデータ4!E170)","v":0},{"$f":"SUM(CSVデータ1!F170,CSVデータ2!F170,CSVデータ3!F170,CSVデータ4!F170)","v":0},{"$f":"SUM(CSVデータ1!G170,CSVデータ2!G170,CSVデータ3!G170,CSVデータ4!G170)","v":0},{"$f":"SUM(CSVデータ1!H170,CSVデータ2!H170,CSVデータ3!H170,CSVデータ4!H170)","v":0},{"$f":"SUM(CSVデータ1!I170,CSVデータ2!I170,CSVデータ3!I170,CSVデータ4!I170)","v":0},{"$f":"SUM(CSVデータ1!J170,CSVデータ2!J170,CSVデータ3!J170,CSVデータ4!J170)","v":0},{"$f":"SUM(CSVデータ1!K170,CSVデータ2!K170,CSVデータ3!K170,CSVデータ4!K170)","v":0},{"$f":"SUM(CSVデータ1!L170,CSVデータ2!L170,CSVデータ3!L170,CSVデータ4!L170)","v":0},{"$f":"SUM(CSVデータ1!M170,CSVデータ2!M170,CSVデータ3!M170,CSVデータ4!M170)","v":0},{"$f":"SUM(CSVデータ1!N170,CSVデータ2!N170,CSVデータ3!N170,CSVデータ4!N170)","v":0},{"$f":"SUM(CSVデータ1!O170,CSVデータ2!O170,CSVデータ3!O170,CSVデータ4!O170)","v":0},{"$f":"SUM(CSVデータ1!P170,CSVデータ2!P170,CSVデータ3!P170,CSVデータ4!P170)","v":0},{"$f":"SUM(CSVデータ1!Q170,CSVデータ2!Q170,CSVデータ3!Q170,CSVデータ4!Q170)","v":0},{"$f":"SUM(CSVデータ1!R170,CSVデータ2!R170,CSVデータ3!R170,CSVデータ4!R170)","v":0},{"$f":"SUM(CSVデータ1!S170,CSVデータ2!S170,CSVデータ3!S170,CSVデータ4!S170)","v":0},{"$f":"SUM(CSVデータ1!T170,CSVデータ2!T170,CSVデータ3!T170,CSVデータ4!T170)","v":0},{"$f":"SUM(CSVデータ1!U170,CSVデータ2!U170,CSVデータ3!U170,CSVデータ4!U170)","v":0},{"$f":"SUM(CSVデータ1!V170,CSVデータ2!V170,CSVデータ3!V170,CSVデータ4!V170)","v":0},{"$f":"SUM(CSVデータ1!W170,CSVデータ2!W170,CSVデータ3!W170,CSVデータ4!W170)","v":0},{"$f":"SUM(CSVデータ1!X170,CSVデータ2!X170,CSVデータ3!X170,CSVデータ4!X170)","v":0},{"$f":"SUM(CSVデータ1!Y170,CSVデータ2!Y170,CSVデータ3!Y170,CSVデータ4!Y170)","v":0},{"$f":"SUM(CSVデータ1!Z170,CSVデータ2!Z170,CSVデータ3!Z170,CSVデータ4!Z170)","v":0},{"$f":"SUM(CSVデータ1!AA170,CSVデータ2!AA170,CSVデータ3!AA170,CSVデータ4!AA170)","v":0},{"$f":"SUM(CSVデータ1!AB170,CSVデータ2!AB170,CSVデータ3!AB170,CSVデータ4!AB170)","v":0},{"$f":"SUM(CSVデータ1!AC170,CSVデータ2!AC170,CSVデータ3!AC170,CSVデータ4!AC170)","v":0},{"$f":"SUM(CSVデータ1!AD170,CSVデータ2!AD170,CSVデータ3!AD170,CSVデータ4!AD170)","v":0},{"$f":"SUM(CSVデータ1!AE170,CSVデータ2!AE170,CSVデータ3!AE170,CSVデータ4!AE170)","v":0},{"$f":"SUM(CSVデータ1!AF170,CSVデータ2!AF170,CSVデータ3!AF170,CSVデータ4!AF170)","v":0},{"$f":"SUM(CSVデータ1!AG170,CSVデータ2!AG170,CSVデータ3!AG170,CSVデータ4!AG170)","v":0}]
[{"$f":"CSVデータ1!A171","v":"明細部"},{"$f":"CSVデータ1!B171","v":"県"},{"$f":"CSVデータ1!C171","v":120},{"$f":"CSVデータ1!D171","v":"男"},{"$f":"SUM(CSVデータ1!E171,CSVデータ2!E171,CSVデータ3!E171,CSVデータ4!E171)","v":0},{"$f":"SUM(CSVデータ1!F171,CSVデータ2!F171,CSVデータ3!F171,CSVデータ4!F171)","v":0},{"$f":"SUM(CSVデータ1!G171,CSVデータ2!G171,CSVデータ3!G171,CSVデータ4!G171)","v":0},{"$f":"SUM(CSVデータ1!H171,CSVデータ2!H171,CSVデータ3!H171,CSVデータ4!H171)","v":0},{"$f":"SUM(CSVデータ1!I171,CSVデータ2!I171,CSVデータ3!I171,CSVデータ4!I171)","v":0},{"$f":"SUM(CSVデータ1!J171,CSVデータ2!J171,CSVデータ3!J171,CSVデータ4!J171)","v":0},{"$f":"SUM(CSVデータ1!K171,CSVデータ2!K171,CSVデータ3!K171,CSVデータ4!K171)","v":0},{"$f":"SUM(CSVデータ1!L171,CSVデータ2!L171,CSVデータ3!L171,CSVデータ4!L171)","v":0},{"$f":"SUM(CSVデータ1!M171,CSVデータ2!M171,CSVデータ3!M171,CSVデータ4!M171)","v":0},{"$f":"SUM(CSVデータ1!N171,CSVデータ2!N171,CSVデータ3!N171,CSVデータ4!N171)","v":0},{"$f":"SUM(CSVデータ1!O171,CSVデータ2!O171,CSVデータ3!O171,CSVデータ4!O171)","v":0},{"$f":"SUM(CSVデータ1!P171,CSVデータ2!P171,CSVデータ3!P171,CSVデータ4!P171)","v":0},{"$f":"SUM(CSVデータ1!Q171,CSVデータ2!Q171,CSVデータ3!Q171,CSVデータ4!Q171)","v":0},{"$f":"SUM(CSVデータ1!R171,CSVデータ2!R171,CSVデータ3!R171,CSVデータ4!R171)","v":0},{"$f":"SUM(CSVデータ1!S171,CSVデータ2!S171,CSVデータ3!S171,CSVデータ4!S171)","v":0},{"$f":"SUM(CSVデータ1!T171,CSVデータ2!T171,CSVデータ3!T171,CSVデータ4!T171)","v":0},{"$f":"SUM(CSVデータ1!U171,CSVデータ2!U171,CSVデータ3!U171,CSVデータ4!U171)","v":0},{"$f":"SUM(CSVデータ1!V171,CSVデータ2!V171,CSVデータ3!V171,CSVデータ4!V171)","v":0},{"$f":"SUM(CSVデータ1!W171,CSVデータ2!W171,CSVデータ3!W171,CSVデータ4!W171)","v":0},{"$f":"SUM(CSVデータ1!X171,CSVデータ2!X171,CSVデータ3!X171,CSVデータ4!X171)","v":0},{"$f":"SUM(CSVデータ1!Y171,CSVデータ2!Y171,CSVデータ3!Y171,CSVデータ4!Y171)","v":0},{"$f":"SUM(CSVデータ1!Z171,CSVデータ2!Z171,CSVデータ3!Z171,CSVデータ4!Z171)","v":0},{"$f":"SUM(CSVデータ1!AA171,CSVデータ2!AA171,CSVデータ3!AA171,CSVデータ4!AA171)","v":0},{"$f":"SUM(CSVデータ1!AB171,CSVデータ2!AB171,CSVデータ3!AB171,CSVデータ4!AB171)","v":0},{"$f":"SUM(CSVデータ1!AC171,CSVデータ2!AC171,CSVデータ3!AC171,CSVデータ4!AC171)","v":0},{"$f":"SUM(CSVデータ1!AD171,CSVデータ2!AD171,CSVデータ3!AD171,CSVデータ4!AD171)","v":0},{"$f":"SUM(CSVデータ1!AE171,CSVデータ2!AE171,CSVデータ3!AE171,CSVデータ4!AE171)","v":0},{"$f":"SUM(CSVデータ1!AF171,CSVデータ2!AF171,CSVデータ3!AF171,CSVデータ4!AF171)","v":0},{"$f":"SUM(CSVデータ1!AG171,CSVデータ2!AG171,CSVデータ3!AG171,CSVデータ4!AG171)","v":0}]
[{"$f":"CSVデータ1!A172","v":"明細部"},{"$f":"CSVデータ1!B172","v":"県"},{"$f":"CSVデータ1!C172","v":65},{"$f":"CSVデータ1!D172","v":"女"},{"$f":"SUM(CSVデータ1!E172,CSVデータ2!E172,CSVデータ3!E172,CSVデータ4!E172)","v":0},{"$f":"SUM(CSVデータ1!F172,CSVデータ2!F172,CSVデータ3!F172,CSVデータ4!F172)","v":0},{"$f":"SUM(CSVデータ1!G172,CSVデータ2!G172,CSVデータ3!G172,CSVデータ4!G172)","v":0},{"$f":"SUM(CSVデータ1!H172,CSVデータ2!H172,CSVデータ3!H172,CSVデータ4!H172)","v":0},{"$f":"SUM(CSVデータ1!I172,CSVデータ2!I172,CSVデータ3!I172,CSVデータ4!I172)","v":0},{"$f":"SUM(CSVデータ1!J172,CSVデータ2!J172,CSVデータ3!J172,CSVデータ4!J172)","v":0},{"$f":"SUM(CSVデータ1!K172,CSVデータ2!K172,CSVデータ3!K172,CSVデータ4!K172)","v":0},{"$f":"SUM(CSVデータ1!L172,CSVデータ2!L172,CSVデータ3!L172,CSVデータ4!L172)","v":0},{"$f":"SUM(CSVデータ1!M172,CSVデータ2!M172,CSVデータ3!M172,CSVデータ4!M172)","v":0},{"$f":"SUM(CSVデータ1!N172,CSVデータ2!N172,CSVデータ3!N172,CSVデータ4!N172)","v":0},{"$f":"SUM(CSVデータ1!O172,CSVデータ2!O172,CSVデータ3!O172,CSVデータ4!O172)","v":0},{"$f":"SUM(CSVデータ1!P172,CSVデータ2!P172,CSVデータ3!P172,CSVデータ4!P172)","v":0},{"$f":"SUM(CSVデータ1!Q172,CSVデータ2!Q172,CSVデータ3!Q172,CSVデータ4!Q172)","v":0},{"$f":"SUM(CSVデータ1!R172,CSVデータ2!R172,CSVデータ3!R172,CSVデータ4!R172)","v":0},{"$f":"SUM(CSVデータ1!S172,CSVデータ2!S172,CSVデータ3!S172,CSVデータ4!S172)","v":0},{"$f":"SUM(CSVデータ1!T172,CSVデータ2!T172,CSVデータ3!T172,CSVデータ4!T172)","v":0},{"$f":"SUM(CSVデータ1!U172,CSVデータ2!U172,CSVデータ3!U172,CSVデータ4!U172)","v":0},{"$f":"SUM(CSVデータ1!V172,CSVデータ2!V172,CSVデータ3!V172,CSVデータ4!V172)","v":0},{"$f":"SUM(CSVデータ1!W172,CSVデータ2!W172,CSVデータ3!W172,CSVデータ4!W172)","v":0},{"$f":"SUM(CSVデータ1!X172,CSVデータ2!X172,CSVデータ3!X172,CSVデータ4!X172)","v":0},{"$f":"SUM(CSVデータ1!Y172,CSVデータ2!Y172,CSVデータ3!Y172,CSVデータ4!Y172)","v":0},{"$f":"SUM(CSVデータ1!Z172,CSVデータ2!Z172,CSVデータ3!Z172,CSVデータ4!Z172)","v":0},{"$f":"SUM(CSVデータ1!AA172,CSVデータ2!AA172,CSVデータ3!AA172,CSVデータ4!AA172)","v":0},{"$f":"SUM(CSVデータ1!AB172,CSVデータ2!AB172,CSVデータ3!AB172,CSVデータ4!AB172)","v":0},{"$f":"SUM(CSVデータ1!AC172,CSVデータ2!AC172,CSVデータ3!AC172,CSVデータ4!AC172)","v":0},{"$f":"SUM(CSVデータ1!AD172,CSVデータ2!AD172,CSVデータ3!AD172,CSVデータ4!AD172)","v":0},{"$f":"SUM(CSVデータ1!AE172,CSVデータ2!AE172,CSVデータ3!AE172,CSVデータ4!AE172)","v":0},{"$f":"SUM(CSVデータ1!AF172,CSVデータ2!AF172,CSVデータ3!AF172,CSVデータ4!AF172)","v":0},{"$f":"SUM(CSVデータ1!AG172,CSVデータ2!AG172,CSVデータ3!AG172,CSVデータ4!AG172)","v":0}]
[{"$f":"CSVデータ1!A173","v":"明細部"},{"$f":"CSVデータ1!B173","v":"県"},{"$f":"CSVデータ1!C173","v":66},{"$f":"CSVデータ1!D173","v":"女"},{"$f":"SUM(CSVデータ1!E173,CSVデータ2!E173,CSVデータ3!E173,CSVデータ4!E173)","v":0},{"$f":"SUM(CSVデータ1!F173,CSVデータ2!F173,CSVデータ3!F173,CSVデータ4!F173)","v":0},{"$f":"SUM(CSVデータ1!G173,CSVデータ2!G173,CSVデータ3!G173,CSVデータ4!G173)","v":0},{"$f":"SUM(CSVデータ1!H173,CSVデータ2!H173,CSVデータ3!H173,CSVデータ4!H173)","v":0},{"$f":"SUM(CSVデータ1!I173,CSVデータ2!I173,CSVデータ3!I173,CSVデータ4!I173)","v":0},{"$f":"SUM(CSVデータ1!J173,CSVデータ2!J173,CSVデータ3!J173,CSVデータ4!J173)","v":0},{"$f":"SUM(CSVデータ1!K173,CSVデータ2!K173,CSVデータ3!K173,CSVデータ4!K173)","v":0},{"$f":"SUM(CSVデータ1!L173,CSVデータ2!L173,CSVデータ3!L173,CSVデータ4!L173)","v":0},{"$f":"SUM(CSVデータ1!M173,CSVデータ2!M173,CSVデータ3!M173,CSVデータ4!M173)","v":0},{"$f":"SUM(CSVデータ1!N173,CSVデータ2!N173,CSVデータ3!N173,CSVデータ4!N173)","v":0},{"$f":"SUM(CSVデータ1!O173,CSVデータ2!O173,CSVデータ3!O173,CSVデータ4!O173)","v":0},{"$f":"SUM(CSVデータ1!P173,CSVデータ2!P173,CSVデータ3!P173,CSVデータ4!P173)","v":0},{"$f":"SUM(CSVデータ1!Q173,CSVデータ2!Q173,CSVデータ3!Q173,CSVデータ4!Q173)","v":0},{"$f":"SUM(CSVデータ1!R173,CSVデータ2!R173,CSVデータ3!R173,CSVデータ4!R173)","v":0},{"$f":"SUM(CSVデータ1!S173,CSVデータ2!S173,CSVデータ3!S173,CSVデータ4!S173)","v":0},{"$f":"SUM(CSVデータ1!T173,CSVデータ2!T173,CSVデータ3!T173,CSVデータ4!T173)","v":0},{"$f":"SUM(CSVデータ1!U173,CSVデータ2!U173,CSVデータ3!U173,CSVデータ4!U173)","v":0},{"$f":"SUM(CSVデータ1!V173,CSVデータ2!V173,CSVデータ3!V173,CSVデータ4!V173)","v":0},{"$f":"SUM(CSVデータ1!W173,CSVデータ2!W173,CSVデータ3!W173,CSVデータ4!W173)","v":0},{"$f":"SUM(CSVデータ1!X173,CSVデータ2!X173,CSVデータ3!X173,CSVデータ4!X173)","v":0},{"$f":"SUM(CSVデータ1!Y173,CSVデータ2!Y173,CSVデータ3!Y173,CSVデータ4!Y173)","v":0},{"$f":"SUM(CSVデータ1!Z173,CSVデータ2!Z173,CSVデータ3!Z173,CSVデータ4!Z173)","v":0},{"$f":"SUM(CSVデータ1!AA173,CSVデータ2!AA173,CSVデータ3!AA173,CSVデータ4!AA173)","v":0},{"$f":"SUM(CSVデータ1!AB173,CSVデータ2!AB173,CSVデータ3!AB173,CSVデータ4!AB173)","v":0},{"$f":"SUM(CSVデータ1!AC173,CSVデータ2!AC173,CSVデータ3!AC173,CSVデータ4!AC173)","v":0},{"$f":"SUM(CSVデータ1!AD173,CSVデータ2!AD173,CSVデータ3!AD173,CSVデータ4!AD173)","v":0},{"$f":"SUM(CSVデータ1!AE173,CSVデータ2!AE173,CSVデータ3!AE173,CSVデータ4!AE173)","v":0},{"$f":"SUM(CSVデータ1!AF173,CSVデータ2!AF173,CSVデータ3!AF173,CSVデータ4!AF173)","v":0},{"$f":"SUM(CSVデータ1!AG173,CSVデータ2!AG173,CSVデータ3!AG173,CSVデータ4!AG173)","v":0}]
[{"$f":"CSVデータ1!A174","v":"明細部"},{"$f":"CSVデータ1!B174","v":"県"},{"$f":"CSVデータ1!C174","v":67},{"$f":"CSVデータ1!D174","v":"女"},{"$f":"SUM(CSVデータ1!E174,CSVデータ2!E174,CSVデータ3!E174,CSVデータ4!E174)","v":0},{"$f":"SUM(CSVデータ1!F174,CSVデータ2!F174,CSVデータ3!F174,CSVデータ4!F174)","v":0},{"$f":"SUM(CSVデータ1!G174,CSVデータ2!G174,CSVデータ3!G174,CSVデータ4!G174)","v":0},{"$f":"SUM(CSVデータ1!H174,CSVデータ2!H174,CSVデータ3!H174,CSVデータ4!H174)","v":0},{"$f":"SUM(CSVデータ1!I174,CSVデータ2!I174,CSVデータ3!I174,CSVデータ4!I174)","v":0},{"$f":"SUM(CSVデータ1!J174,CSVデータ2!J174,CSVデータ3!J174,CSVデータ4!J174)","v":0},{"$f":"SUM(CSVデータ1!K174,CSVデータ2!K174,CSVデータ3!K174,CSVデータ4!K174)","v":0},{"$f":"SUM(CSVデータ1!L174,CSVデータ2!L174,CSVデータ3!L174,CSVデータ4!L174)","v":0},{"$f":"SUM(CSVデータ1!M174,CSVデータ2!M174,CSVデータ3!M174,CSVデータ4!M174)","v":0},{"$f":"SUM(CSVデータ1!N174,CSVデータ2!N174,CSVデータ3!N174,CSVデータ4!N174)","v":0},{"$f":"SUM(CSVデータ1!O174,CSVデータ2!O174,CSVデータ3!O174,CSVデータ4!O174)","v":0},{"$f":"SUM(CSVデータ1!P174,CSVデータ2!P174,CSVデータ3!P174,CSVデータ4!P174)","v":0},{"$f":"SUM(CSVデータ1!Q174,CSVデータ2!Q174,CSVデータ3!Q174,CSVデータ4!Q174)","v":0},{"$f":"SUM(CSVデータ1!R174,CSVデータ2!R174,CSVデータ3!R174,CSVデータ4!R174)","v":0},{"$f":"SUM(CSVデータ1!S174,CSVデータ2!S174,CSVデータ3!S174,CSVデータ4!S174)","v":0},{"$f":"SUM(CSVデータ1!T174,CSVデータ2!T174,CSVデータ3!T174,CSVデータ4!T174)","v":0},{"$f":"SUM(CSVデータ1!U174,CSVデータ2!U174,CSVデータ3!U174,CSVデータ4!U174)","v":0},{"$f":"SUM(CSVデータ1!V174,CSVデータ2!V174,CSVデータ3!V174,CSVデータ4!V174)","v":0},{"$f":"SUM(CSVデータ1!W174,CSVデータ2!W174,CSVデータ3!W174,CSVデータ4!W174)","v":0},{"$f":"SUM(CSVデータ1!X174,CSVデータ2!X174,CSVデータ3!X174,CSVデータ4!X174)","v":0},{"$f":"SUM(CSVデータ1!Y174,CSVデータ2!Y174,CSVデータ3!Y174,CSVデータ4!Y174)","v":0},{"$f":"SUM(CSVデータ1!Z174,CSVデータ2!Z174,CSVデータ3!Z174,CSVデータ4!Z174)","v":0},{"$f":"SUM(CSVデータ1!AA174,CSVデータ2!AA174,CSVデータ3!AA174,CSVデータ4!AA174)","v":0},{"$f":"SUM(CSVデータ1!AB174,CSVデータ2!AB174,CSVデータ3!AB174,CSVデータ4!AB174)","v":0},{"$f":"SUM(CSVデータ1!AC174,CSVデータ2!AC174,CSVデータ3!AC174,CSVデータ4!AC174)","v":0},{"$f":"SUM(CSVデータ1!AD174,CSVデータ2!AD174,CSVデータ3!AD174,CSVデータ4!AD174)","v":0},{"$f":"SUM(CSVデータ1!AE174,CSVデータ2!AE174,CSVデータ3!AE174,CSVデータ4!AE174)","v":0},{"$f":"SUM(CSVデータ1!AF174,CSVデータ2!AF174,CSVデータ3!AF174,CSVデータ4!AF174)","v":0},{"$f":"SUM(CSVデータ1!AG174,CSVデータ2!AG174,CSVデータ3!AG174,CSVデータ4!AG174)","v":0}]
[{"$f":"CSVデータ1!A175","v":"明細部"},{"$f":"CSVデータ1!B175","v":"県"},{"$f":"CSVデータ1!C175","v":68},{"$f":"CSVデータ1!D175","v":"女"},{"$f":"SUM(CSVデータ1!E175,CSVデータ2!E175,CSVデータ3!E175,CSVデータ4!E175)","v":0},{"$f":"SUM(CSVデータ1!F175,CSVデータ2!F175,CSVデータ3!F175,CSVデータ4!F175)","v":0},{"$f":"SUM(CSVデータ1!G175,CSVデータ2!G175,CSVデータ3!G175,CSVデータ4!G175)","v":0},{"$f":"SUM(CSVデータ1!H175,CSVデータ2!H175,CSVデータ3!H175,CSVデータ4!H175)","v":0},{"$f":"SUM(CSVデータ1!I175,CSVデータ2!I175,CSVデータ3!I175,CSVデータ4!I175)","v":0},{"$f":"SUM(CSVデータ1!J175,CSVデータ2!J175,CSVデータ3!J175,CSVデータ4!J175)","v":0},{"$f":"SUM(CSVデータ1!K175,CSVデータ2!K175,CSVデータ3!K175,CSVデータ4!K175)","v":0},{"$f":"SUM(CSVデータ1!L175,CSVデータ2!L175,CSVデータ3!L175,CSVデータ4!L175)","v":0},{"$f":"SUM(CSVデータ1!M175,CSVデータ2!M175,CSVデータ3!M175,CSVデータ4!M175)","v":0},{"$f":"SUM(CSVデータ1!N175,CSVデータ2!N175,CSVデータ3!N175,CSVデータ4!N175)","v":0},{"$f":"SUM(CSVデータ1!O175,CSVデータ2!O175,CSVデータ3!O175,CSVデータ4!O175)","v":0},{"$f":"SUM(CSVデータ1!P175,CSVデータ2!P175,CSVデータ3!P175,CSVデータ4!P175)","v":0},{"$f":"SUM(CSVデータ1!Q175,CSVデータ2!Q175,CSVデータ3!Q175,CSVデータ4!Q175)","v":0},{"$f":"SUM(CSVデータ1!R175,CSVデータ2!R175,CSVデータ3!R175,CSVデータ4!R175)","v":0},{"$f":"SUM(CSVデータ1!S175,CSVデータ2!S175,CSVデータ3!S175,CSVデータ4!S175)","v":0},{"$f":"SUM(CSVデータ1!T175,CSVデータ2!T175,CSVデータ3!T175,CSVデータ4!T175)","v":0},{"$f":"SUM(CSVデータ1!U175,CSVデータ2!U175,CSVデータ3!U175,CSVデータ4!U175)","v":0},{"$f":"SUM(CSVデータ1!V175,CSVデータ2!V175,CSVデータ3!V175,CSVデータ4!V175)","v":0},{"$f":"SUM(CSVデータ1!W175,CSVデータ2!W175,CSVデータ3!W175,CSVデータ4!W175)","v":0},{"$f":"SUM(CSVデータ1!X175,CSVデータ2!X175,CSVデータ3!X175,CSVデータ4!X175)","v":0},{"$f":"SUM(CSVデータ1!Y175,CSVデータ2!Y175,CSVデータ3!Y175,CSVデータ4!Y175)","v":0},{"$f":"SUM(CSVデータ1!Z175,CSVデータ2!Z175,CSVデータ3!Z175,CSVデータ4!Z175)","v":0},{"$f":"SUM(CSVデータ1!AA175,CSVデータ2!AA175,CSVデータ3!AA175,CSVデータ4!AA175)","v":0},{"$f":"SUM(CSVデータ1!AB175,CSVデータ2!AB175,CSVデータ3!AB175,CSVデータ4!AB175)","v":0},{"$f":"SUM(CSVデータ1!AC175,CSVデータ2!AC175,CSVデータ3!AC175,CSVデータ4!AC175)","v":0},{"$f":"SUM(CSVデータ1!AD175,CSVデータ2!AD175,CSVデータ3!AD175,CSVデータ4!AD175)","v":0},{"$f":"SUM(CSVデータ1!AE175,CSVデータ2!AE175,CSVデータ3!AE175,CSVデータ4!AE175)","v":0},{"$f":"SUM(CSVデータ1!AF175,CSVデータ2!AF175,CSVデータ3!AF175,CSVデータ4!AF175)","v":0},{"$f":"SUM(CSVデータ1!AG175,CSVデータ2!AG175,CSVデータ3!AG175,CSVデータ4!AG175)","v":0}]
[{"$f":"CSVデータ1!A176","v":"明細部"},{"$f":"CSVデータ1!B176","v":"県"},{"$f":"CSVデータ1!C176","v":69},{"$f":"CSVデータ1!D176","v":"女"},{"$f":"SUM(CSVデータ1!E176,CSVデータ2!E176,CSVデータ3!E176,CSVデータ4!E176)","v":0},{"$f":"SUM(CSVデータ1!F176,CSVデータ2!F176,CSVデータ3!F176,CSVデータ4!F176)","v":0},{"$f":"SUM(CSVデータ1!G176,CSVデータ2!G176,CSVデータ3!G176,CSVデータ4!G176)","v":0},{"$f":"SUM(CSVデータ1!H176,CSVデータ2!H176,CSVデータ3!H176,CSVデータ4!H176)","v":0},{"$f":"SUM(CSVデータ1!I176,CSVデータ2!I176,CSVデータ3!I176,CSVデータ4!I176)","v":0},{"$f":"SUM(CSVデータ1!J176,CSVデータ2!J176,CSVデータ3!J176,CSVデータ4!J176)","v":0},{"$f":"SUM(CSVデータ1!K176,CSVデータ2!K176,CSVデータ3!K176,CSVデータ4!K176)","v":0},{"$f":"SUM(CSVデータ1!L176,CSVデータ2!L176,CSVデータ3!L176,CSVデータ4!L176)","v":0},{"$f":"SUM(CSVデータ1!M176,CSVデータ2!M176,CSVデータ3!M176,CSVデータ4!M176)","v":0},{"$f":"SUM(CSVデータ1!N176,CSVデータ2!N176,CSVデータ3!N176,CSVデータ4!N176)","v":0},{"$f":"SUM(CSVデータ1!O176,CSVデータ2!O176,CSVデータ3!O176,CSVデータ4!O176)","v":0},{"$f":"SUM(CSVデータ1!P176,CSVデータ2!P176,CSVデータ3!P176,CSVデータ4!P176)","v":0},{"$f":"SUM(CSVデータ1!Q176,CSVデータ2!Q176,CSVデータ3!Q176,CSVデータ4!Q176)","v":0},{"$f":"SUM(CSVデータ1!R176,CSVデータ2!R176,CSVデータ3!R176,CSVデータ4!R176)","v":0},{"$f":"SUM(CSVデータ1!S176,CSVデータ2!S176,CSVデータ3!S176,CSVデータ4!S176)","v":0},{"$f":"SUM(CSVデータ1!T176,CSVデータ2!T176,CSVデータ3!T176,CSVデータ4!T176)","v":0},{"$f":"SUM(CSVデータ1!U176,CSVデータ2!U176,CSVデータ3!U176,CSVデータ4!U176)","v":0},{"$f":"SUM(CSVデータ1!V176,CSVデータ2!V176,CSVデータ3!V176,CSVデータ4!V176)","v":0},{"$f":"SUM(CSVデータ1!W176,CSVデータ2!W176,CSVデータ3!W176,CSVデータ4!W176)","v":0},{"$f":"SUM(CSVデータ1!X176,CSVデータ2!X176,CSVデータ3!X176,CSVデータ4!X176)","v":0},{"$f":"SUM(CSVデータ1!Y176,CSVデータ2!Y176,CSVデータ3!Y176,CSVデータ4!Y176)","v":0},{"$f":"SUM(CSVデータ1!Z176,CSVデータ2!Z176,CSVデータ3!Z176,CSVデータ4!Z176)","v":0},{"$f":"SUM(CSVデータ1!AA176,CSVデータ2!AA176,CSVデータ3!AA176,CSVデータ4!AA176)","v":0},{"$f":"SUM(CSVデータ1!AB176,CSVデータ2!AB176,CSVデータ3!AB176,CSVデータ4!AB176)","v":0},{"$f":"SUM(CSVデータ1!AC176,CSVデータ2!AC176,CSVデータ3!AC176,CSVデータ4!AC176)","v":0},{"$f":"SUM(CSVデータ1!AD176,CSVデータ2!AD176,CSVデータ3!AD176,CSVデータ4!AD176)","v":0},{"$f":"SUM(CSVデータ1!AE176,CSVデータ2!AE176,CSVデータ3!AE176,CSVデータ4!AE176)","v":0},{"$f":"SUM(CSVデータ1!AF176,CSVデータ2!AF176,CSVデータ3!AF176,CSVデータ4!AF176)","v":0},{"$f":"SUM(CSVデータ1!AG176,CSVデータ2!AG176,CSVデータ3!AG176,CSVデータ4!AG176)","v":0}]
[{"$f":"CSVデータ1!A177","v":"明細部"},{"$f":"CSVデータ1!B177","v":"県"},{"$f":"CSVデータ1!C177","v":70},{"$f":"CSVデータ1!D177","v":"女"},{"$f":"SUM(CSVデータ1!E177,CSVデータ2!E177,CSVデータ3!E177,CSVデータ4!E177)","v":0},{"$f":"SUM(CSVデータ1!F177,CSVデータ2!F177,CSVデータ3!F177,CSVデータ4!F177)","v":0},{"$f":"SUM(CSVデータ1!G177,CSVデータ2!G177,CSVデータ3!G177,CSVデータ4!G177)","v":0},{"$f":"SUM(CSVデータ1!H177,CSVデータ2!H177,CSVデータ3!H177,CSVデータ4!H177)","v":0},{"$f":"SUM(CSVデータ1!I177,CSVデータ2!I177,CSVデータ3!I177,CSVデータ4!I177)","v":0},{"$f":"SUM(CSVデータ1!J177,CSVデータ2!J177,CSVデータ3!J177,CSVデータ4!J177)","v":0},{"$f":"SUM(CSVデータ1!K177,CSVデータ2!K177,CSVデータ3!K177,CSVデータ4!K177)","v":0},{"$f":"SUM(CSVデータ1!L177,CSVデータ2!L177,CSVデータ3!L177,CSVデータ4!L177)","v":0},{"$f":"SUM(CSVデータ1!M177,CSVデータ2!M177,CSVデータ3!M177,CSVデータ4!M177)","v":0},{"$f":"SUM(CSVデータ1!N177,CSVデータ2!N177,CSVデータ3!N177,CSVデータ4!N177)","v":0},{"$f":"SUM(CSVデータ1!O177,CSVデータ2!O177,CSVデータ3!O177,CSVデータ4!O177)","v":0},{"$f":"SUM(CSVデータ1!P177,CSVデータ2!P177,CSVデータ3!P177,CSVデータ4!P177)","v":0},{"$f":"SUM(CSVデータ1!Q177,CSVデータ2!Q177,CSVデータ3!Q177,CSVデータ4!Q177)","v":0},{"$f":"SUM(CSVデータ1!R177,CSVデータ2!R177,CSVデータ3!R177,CSVデータ4!R177)","v":0},{"$f":"SUM(CSVデータ1!S177,CSVデータ2!S177,CSVデータ3!S177,CSVデータ4!S177)","v":0},{"$f":"SUM(CSVデータ1!T177,CSVデータ2!T177,CSVデータ3!T177,CSVデータ4!T177)","v":0},{"$f":"SUM(CSVデータ1!U177,CSVデータ2!U177,CSVデータ3!U177,CSVデータ4!U177)","v":0},{"$f":"SUM(CSVデータ1!V177,CSVデータ2!V177,CSVデータ3!V177,CSVデータ4!V177)","v":0},{"$f":"SUM(CSVデータ1!W177,CSVデータ2!W177,CSVデータ3!W177,CSVデータ4!W177)","v":0},{"$f":"SUM(CSVデータ1!X177,CSVデータ2!X177,CSVデータ3!X177,CSVデータ4!X177)","v":0},{"$f":"SUM(CSVデータ1!Y177,CSVデータ2!Y177,CSVデータ3!Y177,CSVデータ4!Y177)","v":0},{"$f":"SUM(CSVデータ1!Z177,CSVデータ2!Z177,CSVデータ3!Z177,CSVデータ4!Z177)","v":0},{"$f":"SUM(CSVデータ1!AA177,CSVデータ2!AA177,CSVデータ3!AA177,CSVデータ4!AA177)","v":0},{"$f":"SUM(CSVデータ1!AB177,CSVデータ2!AB177,CSVデータ3!AB177,CSVデータ4!AB177)","v":0},{"$f":"SUM(CSVデータ1!AC177,CSVデータ2!AC177,CSVデータ3!AC177,CSVデータ4!AC177)","v":0},{"$f":"SUM(CSVデータ1!AD177,CSVデータ2!AD177,CSVデータ3!AD177,CSVデータ4!AD177)","v":0},{"$f":"SUM(CSVデータ1!AE177,CSVデータ2!AE177,CSVデータ3!AE177,CSVデータ4!AE177)","v":0},{"$f":"SUM(CSVデータ1!AF177,CSVデータ2!AF177,CSVデータ3!AF177,CSVデータ4!AF177)","v":0},{"$f":"SUM(CSVデータ1!AG177,CSVデータ2!AG177,CSVデータ3!AG177,CSVデータ4!AG177)","v":0}]
[{"$f":"CSVデータ1!A178","v":"明細部"},{"$f":"CSVデータ1!B178","v":"県"},{"$f":"CSVデータ1!C178","v":71},{"$f":"CSVデータ1!D178","v":"女"},{"$f":"SUM(CSVデータ1!E178,CSVデータ2!E178,CSVデータ3!E178,CSVデータ4!E178)","v":0},{"$f":"SUM(CSVデータ1!F178,CSVデータ2!F178,CSVデータ3!F178,CSVデータ4!F178)","v":0},{"$f":"SUM(CSVデータ1!G178,CSVデータ2!G178,CSVデータ3!G178,CSVデータ4!G178)","v":0},{"$f":"SUM(CSVデータ1!H178,CSVデータ2!H178,CSVデータ3!H178,CSVデータ4!H178)","v":0},{"$f":"SUM(CSVデータ1!I178,CSVデータ2!I178,CSVデータ3!I178,CSVデータ4!I178)","v":0},{"$f":"SUM(CSVデータ1!J178,CSVデータ2!J178,CSVデータ3!J178,CSVデータ4!J178)","v":0},{"$f":"SUM(CSVデータ1!K178,CSVデータ2!K178,CSVデータ3!K178,CSVデータ4!K178)","v":0},{"$f":"SUM(CSVデータ1!L178,CSVデータ2!L178,CSVデータ3!L178,CSVデータ4!L178)","v":0},{"$f":"SUM(CSVデータ1!M178,CSVデータ2!M178,CSVデータ3!M178,CSVデータ4!M178)","v":0},{"$f":"SUM(CSVデータ1!N178,CSVデータ2!N178,CSVデータ3!N178,CSVデータ4!N178)","v":0},{"$f":"SUM(CSVデータ1!O178,CSVデータ2!O178,CSVデータ3!O178,CSVデータ4!O178)","v":0},{"$f":"SUM(CSVデータ1!P178,CSVデータ2!P178,CSVデータ3!P178,CSVデータ4!P178)","v":0},{"$f":"SUM(CSVデータ1!Q178,CSVデータ2!Q178,CSVデータ3!Q178,CSVデータ4!Q178)","v":0},{"$f":"SUM(CSVデータ1!R178,CSVデータ2!R178,CSVデータ3!R178,CSVデータ4!R178)","v":0},{"$f":"SUM(CSVデータ1!S178,CSVデータ2!S178,CSVデータ3!S178,CSVデータ4!S178)","v":0},{"$f":"SUM(CSVデータ1!T178,CSVデータ2!T178,CSVデータ3!T178,CSVデータ4!T178)","v":0},{"$f":"SUM(CSVデータ1!U178,CSVデータ2!U178,CSVデータ3!U178,CSVデータ4!U178)","v":0},{"$f":"SUM(CSVデータ1!V178,CSVデータ2!V178,CSVデータ3!V178,CSVデータ4!V178)","v":0},{"$f":"SUM(CSVデータ1!W178,CSVデータ2!W178,CSVデータ3!W178,CSVデータ4!W178)","v":0},{"$f":"SUM(CSVデータ1!X178,CSVデータ2!X178,CSVデータ3!X178,CSVデータ4!X178)","v":0},{"$f":"SUM(CSVデータ1!Y178,CSVデータ2!Y178,CSVデータ3!Y178,CSVデータ4!Y178)","v":0},{"$f":"SUM(CSVデータ1!Z178,CSVデータ2!Z178,CSVデータ3!Z178,CSVデータ4!Z178)","v":0},{"$f":"SUM(CSVデータ1!AA178,CSVデータ2!AA178,CSVデータ3!AA178,CSVデータ4!AA178)","v":0},{"$f":"SUM(CSVデータ1!AB178,CSVデータ2!AB178,CSVデータ3!AB178,CSVデータ4!AB178)","v":0},{"$f":"SUM(CSVデータ1!AC178,CSVデータ2!AC178,CSVデータ3!AC178,CSVデータ4!AC178)","v":0},{"$f":"SUM(CSVデータ1!AD178,CSVデータ2!AD178,CSVデータ3!AD178,CSVデータ4!AD178)","v":0},{"$f":"SUM(CSVデータ1!AE178,CSVデータ2!AE178,CSVデータ3!AE178,CSVデータ4!AE178)","v":0},{"$f":"SUM(CSVデータ1!AF178,CSVデータ2!AF178,CSVデータ3!AF178,CSVデータ4!AF178)","v":0},{"$f":"SUM(CSVデータ1!AG178,CSVデータ2!AG178,CSVデータ3!AG178,CSVデータ4!AG178)","v":0}]
[{"$f":"CSVデータ1!A179","v":"明細部"},{"$f":"CSVデータ1!B179","v":"県"},{"$f":"CSVデータ1!C179","v":72},{"$f":"CSVデータ1!D179","v":"女"},{"$f":"SUM(CSVデータ1!E179,CSVデータ2!E179,CSVデータ3!E179,CSVデータ4!E179)","v":0},{"$f":"SUM(CSVデータ1!F179,CSVデータ2!F179,CSVデータ3!F179,CSVデータ4!F179)","v":0},{"$f":"SUM(CSVデータ1!G179,CSVデータ2!G179,CSVデータ3!G179,CSVデータ4!G179)","v":0},{"$f":"SUM(CSVデータ1!H179,CSVデータ2!H179,CSVデータ3!H179,CSVデータ4!H179)","v":0},{"$f":"SUM(CSVデータ1!I179,CSVデータ2!I179,CSVデータ3!I179,CSVデータ4!I179)","v":0},{"$f":"SUM(CSVデータ1!J179,CSVデータ2!J179,CSVデータ3!J179,CSVデータ4!J179)","v":0},{"$f":"SUM(CSVデータ1!K179,CSVデータ2!K179,CSVデータ3!K179,CSVデータ4!K179)","v":0},{"$f":"SUM(CSVデータ1!L179,CSVデータ2!L179,CSVデータ3!L179,CSVデータ4!L179)","v":0},{"$f":"SUM(CSVデータ1!M179,CSVデータ2!M179,CSVデータ3!M179,CSVデータ4!M179)","v":0},{"$f":"SUM(CSVデータ1!N179,CSVデータ2!N179,CSVデータ3!N179,CSVデータ4!N179)","v":0},{"$f":"SUM(CSVデータ1!O179,CSVデータ2!O179,CSVデータ3!O179,CSVデータ4!O179)","v":0},{"$f":"SUM(CSVデータ1!P179,CSVデータ2!P179,CSVデータ3!P179,CSVデータ4!P179)","v":0},{"$f":"SUM(CSVデータ1!Q179,CSVデータ2!Q179,CSVデータ3!Q179,CSVデータ4!Q179)","v":0},{"$f":"SUM(CSVデータ1!R179,CSVデータ2!R179,CSVデータ3!R179,CSVデータ4!R179)","v":0},{"$f":"SUM(CSVデータ1!S179,CSVデータ2!S179,CSVデータ3!S179,CSVデータ4!S179)","v":0},{"$f":"SUM(CSVデータ1!T179,CSVデータ2!T179,CSVデータ3!T179,CSVデータ4!T179)","v":0},{"$f":"SUM(CSVデータ1!U179,CSVデータ2!U179,CSVデータ3!U179,CSVデータ4!U179)","v":0},{"$f":"SUM(CSVデータ1!V179,CSVデータ2!V179,CSVデータ3!V179,CSVデータ4!V179)","v":0},{"$f":"SUM(CSVデータ1!W179,CSVデータ2!W179,CSVデータ3!W179,CSVデータ4!W179)","v":0},{"$f":"SUM(CSVデータ1!X179,CSVデータ2!X179,CSVデータ3!X179,CSVデータ4!X179)","v":0},{"$f":"SUM(CSVデータ1!Y179,CSVデータ2!Y179,CSVデータ3!Y179,CSVデータ4!Y179)","v":0},{"$f":"SUM(CSVデータ1!Z179,CSVデータ2!Z179,CSVデータ3!Z179,CSVデータ4!Z179)","v":0},{"$f":"SUM(CSVデータ1!AA179,CSVデータ2!AA179,CSVデータ3!AA179,CSVデータ4!AA179)","v":0},{"$f":"SUM(CSVデータ1!AB179,CSVデータ2!AB179,CSVデータ3!AB179,CSVデータ4!AB179)","v":0},{"$f":"SUM(CSVデータ1!AC179,CSVデータ2!AC179,CSVデータ3!AC179,CSVデータ4!AC179)","v":0},{"$f":"SUM(CSVデータ1!AD179,CSVデータ2!AD179,CSVデータ3!AD179,CSVデータ4!AD179)","v":0},{"$f":"SUM(CSVデータ1!AE179,CSVデータ2!AE179,CSVデータ3!AE179,CSVデータ4!AE179)","v":0},{"$f":"SUM(CSVデータ1!AF179,CSVデータ2!AF179,CSVデータ3!AF179,CSVデータ4!AF179)","v":0},{"$f":"SUM(CSVデータ1!AG179,CSVデータ2!AG179,CSVデータ3!AG179,CSVデータ4!AG179)","v":0}]
[{"$f":"CSVデータ1!A180","v":"明細部"},{"$f":"CSVデータ1!B180","v":"県"},{"$f":"CSVデータ1!C180","v":73},{"$f":"CSVデータ1!D180","v":"女"},{"$f":"SUM(CSVデータ1!E180,CSVデータ2!E180,CSVデータ3!E180,CSVデータ4!E180)","v":0},{"$f":"SUM(CSVデータ1!F180,CSVデータ2!F180,CSVデータ3!F180,CSVデータ4!F180)","v":0},{"$f":"SUM(CSVデータ1!G180,CSVデータ2!G180,CSVデータ3!G180,CSVデータ4!G180)","v":0},{"$f":"SUM(CSVデータ1!H180,CSVデータ2!H180,CSVデータ3!H180,CSVデータ4!H180)","v":0},{"$f":"SUM(CSVデータ1!I180,CSVデータ2!I180,CSVデータ3!I180,CSVデータ4!I180)","v":0},{"$f":"SUM(CSVデータ1!J180,CSVデータ2!J180,CSVデータ3!J180,CSVデータ4!J180)","v":0},{"$f":"SUM(CSVデータ1!K180,CSVデータ2!K180,CSVデータ3!K180,CSVデータ4!K180)","v":0},{"$f":"SUM(CSVデータ1!L180,CSVデータ2!L180,CSVデータ3!L180,CSVデータ4!L180)","v":0},{"$f":"SUM(CSVデータ1!M180,CSVデータ2!M180,CSVデータ3!M180,CSVデータ4!M180)","v":0},{"$f":"SUM(CSVデータ1!N180,CSVデータ2!N180,CSVデータ3!N180,CSVデータ4!N180)","v":0},{"$f":"SUM(CSVデータ1!O180,CSVデータ2!O180,CSVデータ3!O180,CSVデータ4!O180)","v":0},{"$f":"SUM(CSVデータ1!P180,CSVデータ2!P180,CSVデータ3!P180,CSVデータ4!P180)","v":0},{"$f":"SUM(CSVデータ1!Q180,CSVデータ2!Q180,CSVデータ3!Q180,CSVデータ4!Q180)","v":0},{"$f":"SUM(CSVデータ1!R180,CSVデータ2!R180,CSVデータ3!R180,CSVデータ4!R180)","v":0},{"$f":"SUM(CSVデータ1!S180,CSVデータ2!S180,CSVデータ3!S180,CSVデータ4!S180)","v":0},{"$f":"SUM(CSVデータ1!T180,CSVデータ2!T180,CSVデータ3!T180,CSVデータ4!T180)","v":0},{"$f":"SUM(CSVデータ1!U180,CSVデータ2!U180,CSVデータ3!U180,CSVデータ4!U180)","v":0},{"$f":"SUM(CSVデータ1!V180,CSVデータ2!V180,CSVデータ3!V180,CSVデータ4!V180)","v":0},{"$f":"SUM(CSVデータ1!W180,CSVデータ2!W180,CSVデータ3!W180,CSVデータ4!W180)","v":0},{"$f":"SUM(CSVデータ1!X180,CSVデータ2!X180,CSVデータ3!X180,CSVデータ4!X180)","v":0},{"$f":"SUM(CSVデータ1!Y180,CSVデータ2!Y180,CSVデータ3!Y180,CSVデータ4!Y180)","v":0},{"$f":"SUM(CSVデータ1!Z180,CSVデータ2!Z180,CSVデータ3!Z180,CSVデータ4!Z180)","v":0},{"$f":"SUM(CSVデータ1!AA180,CSVデータ2!AA180,CSVデータ3!AA180,CSVデータ4!AA180)","v":0},{"$f":"SUM(CSVデータ1!AB180,CSVデータ2!AB180,CSVデータ3!AB180,CSVデータ4!AB180)","v":0},{"$f":"SUM(CSVデータ1!AC180,CSVデータ2!AC180,CSVデータ3!AC180,CSVデータ4!AC180)","v":0},{"$f":"SUM(CSVデータ1!AD180,CSVデータ2!AD180,CSVデータ3!AD180,CSVデータ4!AD180)","v":0},{"$f":"SUM(CSVデータ1!AE180,CSVデータ2!AE180,CSVデータ3!AE180,CSVデータ4!AE180)","v":0},{"$f":"SUM(CSVデータ1!AF180,CSVデータ2!AF180,CSVデータ3!AF180,CSVデータ4!AF180)","v":0},{"$f":"SUM(CSVデータ1!AG180,CSVデータ2!AG180,CSVデータ3!AG180,CSVデータ4!AG180)","v":0}]
[{"$f":"CSVデータ1!A181","v":"明細部"},{"$f":"CSVデータ1!B181","v":"県"},{"$f":"CSVデータ1!C181","v":74},{"$f":"CSVデータ1!D181","v":"女"},{"$f":"SUM(CSVデータ1!E181,CSVデータ2!E181,CSVデータ3!E181,CSVデータ4!E181)","v":0},{"$f":"SUM(CSVデータ1!F181,CSVデータ2!F181,CSVデータ3!F181,CSVデータ4!F181)","v":0},{"$f":"SUM(CSVデータ1!G181,CSVデータ2!G181,CSVデータ3!G181,CSVデータ4!G181)","v":0},{"$f":"SUM(CSVデータ1!H181,CSVデータ2!H181,CSVデータ3!H181,CSVデータ4!H181)","v":0},{"$f":"SUM(CSVデータ1!I181,CSVデータ2!I181,CSVデータ3!I181,CSVデータ4!I181)","v":0},{"$f":"SUM(CSVデータ1!J181,CSVデータ2!J181,CSVデータ3!J181,CSVデータ4!J181)","v":0},{"$f":"SUM(CSVデータ1!K181,CSVデータ2!K181,CSVデータ3!K181,CSVデータ4!K181)","v":0},{"$f":"SUM(CSVデータ1!L181,CSVデータ2!L181,CSVデータ3!L181,CSVデータ4!L181)","v":0},{"$f":"SUM(CSVデータ1!M181,CSVデータ2!M181,CSVデータ3!M181,CSVデータ4!M181)","v":0},{"$f":"SUM(CSVデータ1!N181,CSVデータ2!N181,CSVデータ3!N181,CSVデータ4!N181)","v":0},{"$f":"SUM(CSVデータ1!O181,CSVデータ2!O181,CSVデータ3!O181,CSVデータ4!O181)","v":0},{"$f":"SUM(CSVデータ1!P181,CSVデータ2!P181,CSVデータ3!P181,CSVデータ4!P181)","v":0},{"$f":"SUM(CSVデータ1!Q181,CSVデータ2!Q181,CSVデータ3!Q181,CSVデータ4!Q181)","v":0},{"$f":"SUM(CSVデータ1!R181,CSVデータ2!R181,CSVデータ3!R181,CSVデータ4!R181)","v":0},{"$f":"SUM(CSVデータ1!S181,CSVデータ2!S181,CSVデータ3!S181,CSVデータ4!S181)","v":0},{"$f":"SUM(CSVデータ1!T181,CSVデータ2!T181,CSVデータ3!T181,CSVデータ4!T181)","v":0},{"$f":"SUM(CSVデータ1!U181,CSVデータ2!U181,CSVデータ3!U181,CSVデータ4!U181)","v":0},{"$f":"SUM(CSVデータ1!V181,CSVデータ2!V181,CSVデータ3!V181,CSVデータ4!V181)","v":0},{"$f":"SUM(CSVデータ1!W181,CSVデータ2!W181,CSVデータ3!W181,CSVデータ4!W181)","v":0},{"$f":"SUM(CSVデータ1!X181,CSVデータ2!X181,CSVデータ3!X181,CSVデータ4!X181)","v":0},{"$f":"SUM(CSVデータ1!Y181,CSVデータ2!Y181,CSVデータ3!Y181,CSVデータ4!Y181)","v":0},{"$f":"SUM(CSVデータ1!Z181,CSVデータ2!Z181,CSVデータ3!Z181,CSVデータ4!Z181)","v":0},{"$f":"SUM(CSVデータ1!AA181,CSVデータ2!AA181,CSVデータ3!AA181,CSVデータ4!AA181)","v":0},{"$f":"SUM(CSVデータ1!AB181,CSVデータ2!AB181,CSVデータ3!AB181,CSVデータ4!AB181)","v":0},{"$f":"SUM(CSVデータ1!AC181,CSVデータ2!AC181,CSVデータ3!AC181,CSVデータ4!AC181)","v":0},{"$f":"SUM(CSVデータ1!AD181,CSVデータ2!AD181,CSVデータ3!AD181,CSVデータ4!AD181)","v":0},{"$f":"SUM(CSVデータ1!AE181,CSVデータ2!AE181,CSVデータ3!AE181,CSVデータ4!AE181)","v":0},{"$f":"SUM(CSVデータ1!AF181,CSVデータ2!AF181,CSVデータ3!AF181,CSVデータ4!AF181)","v":0},{"$f":"SUM(CSVデータ1!AG181,CSVデータ2!AG181,CSVデータ3!AG181,CSVデータ4!AG181)","v":0}]
[{"$f":"CSVデータ1!A182","v":"明細部"},{"$f":"CSVデータ1!B182","v":"県"},{"$f":"CSVデータ1!C182","v":75},{"$f":"CSVデータ1!D182","v":"女"},{"$f":"SUM(CSVデータ1!E182,CSVデータ2!E182,CSVデータ3!E182,CSVデータ4!E182)","v":0},{"$f":"SUM(CSVデータ1!F182,CSVデータ2!F182,CSVデータ3!F182,CSVデータ4!F182)","v":0},{"$f":"SUM(CSVデータ1!G182,CSVデータ2!G182,CSVデータ3!G182,CSVデータ4!G182)","v":0},{"$f":"SUM(CSVデータ1!H182,CSVデータ2!H182,CSVデータ3!H182,CSVデータ4!H182)","v":0},{"$f":"SUM(CSVデータ1!I182,CSVデータ2!I182,CSVデータ3!I182,CSVデータ4!I182)","v":0},{"$f":"SUM(CSVデータ1!J182,CSVデータ2!J182,CSVデータ3!J182,CSVデータ4!J182)","v":0},{"$f":"SUM(CSVデータ1!K182,CSVデータ2!K182,CSVデータ3!K182,CSVデータ4!K182)","v":0},{"$f":"SUM(CSVデータ1!L182,CSVデータ2!L182,CSVデータ3!L182,CSVデータ4!L182)","v":0},{"$f":"SUM(CSVデータ1!M182,CSVデータ2!M182,CSVデータ3!M182,CSVデータ4!M182)","v":0},{"$f":"SUM(CSVデータ1!N182,CSVデータ2!N182,CSVデータ3!N182,CSVデータ4!N182)","v":0},{"$f":"SUM(CSVデータ1!O182,CSVデータ2!O182,CSVデータ3!O182,CSVデータ4!O182)","v":0},{"$f":"SUM(CSVデータ1!P182,CSVデータ2!P182,CSVデータ3!P182,CSVデータ4!P182)","v":0},{"$f":"SUM(CSVデータ1!Q182,CSVデータ2!Q182,CSVデータ3!Q182,CSVデータ4!Q182)","v":0},{"$f":"SUM(CSVデータ1!R182,CSVデータ2!R182,CSVデータ3!R182,CSVデータ4!R182)","v":0},{"$f":"SUM(CSVデータ1!S182,CSVデータ2!S182,CSVデータ3!S182,CSVデータ4!S182)","v":0},{"$f":"SUM(CSVデータ1!T182,CSVデータ2!T182,CSVデータ3!T182,CSVデータ4!T182)","v":0},{"$f":"SUM(CSVデータ1!U182,CSVデータ2!U182,CSVデータ3!U182,CSVデータ4!U182)","v":0},{"$f":"SUM(CSVデータ1!V182,CSVデータ2!V182,CSVデータ3!V182,CSVデータ4!V182)","v":0},{"$f":"SUM(CSVデータ1!W182,CSVデータ2!W182,CSVデータ3!W182,CSVデータ4!W182)","v":0},{"$f":"SUM(CSVデータ1!X182,CSVデータ2!X182,CSVデータ3!X182,CSVデータ4!X182)","v":0},{"$f":"SUM(CSVデータ1!Y182,CSVデータ2!Y182,CSVデータ3!Y182,CSVデータ4!Y182)","v":0},{"$f":"SUM(CSVデータ1!Z182,CSVデータ2!Z182,CSVデータ3!Z182,CSVデータ4!Z182)","v":0},{"$f":"SUM(CSVデータ1!AA182,CSVデータ2!AA182,CSVデータ3!AA182,CSVデータ4!AA182)","v":0},{"$f":"SUM(CSVデータ1!AB182,CSVデータ2!AB182,CSVデータ3!AB182,CSVデータ4!AB182)","v":0},{"$f":"SUM(CSVデータ1!AC182,CSVデータ2!AC182,CSVデータ3!AC182,CSVデータ4!AC182)","v":0},{"$f":"SUM(CSVデータ1!AD182,CSVデータ2!AD182,CSVデータ3!AD182,CSVデータ4!AD182)","v":0},{"$f":"SUM(CSVデータ1!AE182,CSVデータ2!AE182,CSVデータ3!AE182,CSVデータ4!AE182)","v":0},{"$f":"SUM(CSVデータ1!AF182,CSVデータ2!AF182,CSVデータ3!AF182,CSVデータ4!AF182)","v":0},{"$f":"SUM(CSVデータ1!AG182,CSVデータ2!AG182,CSVデータ3!AG182,CSVデータ4!AG182)","v":0}]
[{"$f":"CSVデータ1!A183","v":"明細部"},{"$f":"CSVデータ1!B183","v":"県"},{"$f":"CSVデータ1!C183","v":76},{"$f":"CSVデータ1!D183","v":"女"},{"$f":"SUM(CSVデータ1!E183,CSVデータ2!E183,CSVデータ3!E183,CSVデータ4!E183)","v":0},{"$f":"SUM(CSVデータ1!F183,CSVデータ2!F183,CSVデータ3!F183,CSVデータ4!F183)","v":0},{"$f":"SUM(CSVデータ1!G183,CSVデータ2!G183,CSVデータ3!G183,CSVデータ4!G183)","v":0},{"$f":"SUM(CSVデータ1!H183,CSVデータ2!H183,CSVデータ3!H183,CSVデータ4!H183)","v":0},{"$f":"SUM(CSVデータ1!I183,CSVデータ2!I183,CSVデータ3!I183,CSVデータ4!I183)","v":0},{"$f":"SUM(CSVデータ1!J183,CSVデータ2!J183,CSVデータ3!J183,CSVデータ4!J183)","v":0},{"$f":"SUM(CSVデータ1!K183,CSVデータ2!K183,CSVデータ3!K183,CSVデータ4!K183)","v":0},{"$f":"SUM(CSVデータ1!L183,CSVデータ2!L183,CSVデータ3!L183,CSVデータ4!L183)","v":0},{"$f":"SUM(CSVデータ1!M183,CSVデータ2!M183,CSVデータ3!M183,CSVデータ4!M183)","v":0},{"$f":"SUM(CSVデータ1!N183,CSVデータ2!N183,CSVデータ3!N183,CSVデータ4!N183)","v":0},{"$f":"SUM(CSVデータ1!O183,CSVデータ2!O183,CSVデータ3!O183,CSVデータ4!O183)","v":0},{"$f":"SUM(CSVデータ1!P183,CSVデータ2!P183,CSVデータ3!P183,CSVデータ4!P183)","v":0},{"$f":"SUM(CSVデータ1!Q183,CSVデータ2!Q183,CSVデータ3!Q183,CSVデータ4!Q183)","v":0},{"$f":"SUM(CSVデータ1!R183,CSVデータ2!R183,CSVデータ3!R183,CSVデータ4!R183)","v":0},{"$f":"SUM(CSVデータ1!S183,CSVデータ2!S183,CSVデータ3!S183,CSVデータ4!S183)","v":0},{"$f":"SUM(CSVデータ1!T183,CSVデータ2!T183,CSVデータ3!T183,CSVデータ4!T183)","v":0},{"$f":"SUM(CSVデータ1!U183,CSVデータ2!U183,CSVデータ3!U183,CSVデータ4!U183)","v":0},{"$f":"SUM(CSVデータ1!V183,CSVデータ2!V183,CSVデータ3!V183,CSVデータ4!V183)","v":0},{"$f":"SUM(CSVデータ1!W183,CSVデータ2!W183,CSVデータ3!W183,CSVデータ4!W183)","v":0},{"$f":"SUM(CSVデータ1!X183,CSVデータ2!X183,CSVデータ3!X183,CSVデータ4!X183)","v":0},{"$f":"SUM(CSVデータ1!Y183,CSVデータ2!Y183,CSVデータ3!Y183,CSVデータ4!Y183)","v":0},{"$f":"SUM(CSVデータ1!Z183,CSVデータ2!Z183,CSVデータ3!Z183,CSVデータ4!Z183)","v":0},{"$f":"SUM(CSVデータ1!AA183,CSVデータ2!AA183,CSVデータ3!AA183,CSVデータ4!AA183)","v":0},{"$f":"SUM(CSVデータ1!AB183,CSVデータ2!AB183,CSVデータ3!AB183,CSVデータ4!AB183)","v":0},{"$f":"SUM(CSVデータ1!AC183,CSVデータ2!AC183,CSVデータ3!AC183,CSVデータ4!AC183)","v":0},{"$f":"SUM(CSVデータ1!AD183,CSVデータ2!AD183,CSVデータ3!AD183,CSVデータ4!AD183)","v":0},{"$f":"SUM(CSVデータ1!AE183,CSVデータ2!AE183,CSVデータ3!AE183,CSVデータ4!AE183)","v":0},{"$f":"SUM(CSVデータ1!AF183,CSVデータ2!AF183,CSVデータ3!AF183,CSVデータ4!AF183)","v":0},{"$f":"SUM(CSVデータ1!AG183,CSVデータ2!AG183,CSVデータ3!AG183,CSVデータ4!AG183)","v":0}]
[{"$f":"CSVデータ1!A184","v":"明細部"},{"$f":"CSVデータ1!B184","v":"県"},{"$f":"CSVデータ1!C184","v":77},{"$f":"CSVデータ1!D184","v":"女"},{"$f":"SUM(CSVデータ1!E184,CSVデータ2!E184,CSVデータ3!E184,CSVデータ4!E184)","v":0},{"$f":"SUM(CSVデータ1!F184,CSVデータ2!F184,CSVデータ3!F184,CSVデータ4!F184)","v":0},{"$f":"SUM(CSVデータ1!G184,CSVデータ2!G184,CSVデータ3!G184,CSVデータ4!G184)","v":0},{"$f":"SUM(CSVデータ1!H184,CSVデータ2!H184,CSVデータ3!H184,CSVデータ4!H184)","v":0},{"$f":"SUM(CSVデータ1!I184,CSVデータ2!I184,CSVデータ3!I184,CSVデータ4!I184)","v":0},{"$f":"SUM(CSVデータ1!J184,CSVデータ2!J184,CSVデータ3!J184,CSVデータ4!J184)","v":0},{"$f":"SUM(CSVデータ1!K184,CSVデータ2!K184,CSVデータ3!K184,CSVデータ4!K184)","v":0},{"$f":"SUM(CSVデータ1!L184,CSVデータ2!L184,CSVデータ3!L184,CSVデータ4!L184)","v":0},{"$f":"SUM(CSVデータ1!M184,CSVデータ2!M184,CSVデータ3!M184,CSVデータ4!M184)","v":0},{"$f":"SUM(CSVデータ1!N184,CSVデータ2!N184,CSVデータ3!N184,CSVデータ4!N184)","v":0},{"$f":"SUM(CSVデータ1!O184,CSVデータ2!O184,CSVデータ3!O184,CSVデータ4!O184)","v":0},{"$f":"SUM(CSVデータ1!P184,CSVデータ2!P184,CSVデータ3!P184,CSVデータ4!P184)","v":0},{"$f":"SUM(CSVデータ1!Q184,CSVデータ2!Q184,CSVデータ3!Q184,CSVデータ4!Q184)","v":0},{"$f":"SUM(CSVデータ1!R184,CSVデータ2!R184,CSVデータ3!R184,CSVデータ4!R184)","v":0},{"$f":"SUM(CSVデータ1!S184,CSVデータ2!S184,CSVデータ3!S184,CSVデータ4!S184)","v":0},{"$f":"SUM(CSVデータ1!T184,CSVデータ2!T184,CSVデータ3!T184,CSVデータ4!T184)","v":0},{"$f":"SUM(CSVデータ1!U184,CSVデータ2!U184,CSVデータ3!U184,CSVデータ4!U184)","v":0},{"$f":"SUM(CSVデータ1!V184,CSVデータ2!V184,CSVデータ3!V184,CSVデータ4!V184)","v":0},{"$f":"SUM(CSVデータ1!W184,CSVデータ2!W184,CSVデータ3!W184,CSVデータ4!W184)","v":0},{"$f":"SUM(CSVデータ1!X184,CSVデータ2!X184,CSVデータ3!X184,CSVデータ4!X184)","v":0},{"$f":"SUM(CSVデータ1!Y184,CSVデータ2!Y184,CSVデータ3!Y184,CSVデータ4!Y184)","v":0},{"$f":"SUM(CSVデータ1!Z184,CSVデータ2!Z184,CSVデータ3!Z184,CSVデータ4!Z184)","v":0},{"$f":"SUM(CSVデータ1!AA184,CSVデータ2!AA184,CSVデータ3!AA184,CSVデータ4!AA184)","v":0},{"$f":"SUM(CSVデータ1!AB184,CSVデータ2!AB184,CSVデータ3!AB184,CSVデータ4!AB184)","v":0},{"$f":"SUM(CSVデータ1!AC184,CSVデータ2!AC184,CSVデータ3!AC184,CSVデータ4!AC184)","v":0},{"$f":"SUM(CSVデータ1!AD184,CSVデータ2!AD184,CSVデータ3!AD184,CSVデータ4!AD184)","v":0},{"$f":"SUM(CSVデータ1!AE184,CSVデータ2!AE184,CSVデータ3!AE184,CSVデータ4!AE184)","v":0},{"$f":"SUM(CSVデータ1!AF184,CSVデータ2!AF184,CSVデータ3!AF184,CSVデータ4!AF184)","v":0},{"$f":"SUM(CSVデータ1!AG184,CSVデータ2!AG184,CSVデータ3!AG184,CSVデータ4!AG184)","v":0}]
[{"$f":"CSVデータ1!A185","v":"明細部"},{"$f":"CSVデータ1!B185","v":"県"},{"$f":"CSVデータ1!C185","v":78},{"$f":"CSVデータ1!D185","v":"女"},{"$f":"SUM(CSVデータ1!E185,CSVデータ2!E185,CSVデータ3!E185,CSVデータ4!E185)","v":0},{"$f":"SUM(CSVデータ1!F185,CSVデータ2!F185,CSVデータ3!F185,CSVデータ4!F185)","v":0},{"$f":"SUM(CSVデータ1!G185,CSVデータ2!G185,CSVデータ3!G185,CSVデータ4!G185)","v":0},{"$f":"SUM(CSVデータ1!H185,CSVデータ2!H185,CSVデータ3!H185,CSVデータ4!H185)","v":0},{"$f":"SUM(CSVデータ1!I185,CSVデータ2!I185,CSVデータ3!I185,CSVデータ4!I185)","v":0},{"$f":"SUM(CSVデータ1!J185,CSVデータ2!J185,CSVデータ3!J185,CSVデータ4!J185)","v":0},{"$f":"SUM(CSVデータ1!K185,CSVデータ2!K185,CSVデータ3!K185,CSVデータ4!K185)","v":0},{"$f":"SUM(CSVデータ1!L185,CSVデータ2!L185,CSVデータ3!L185,CSVデータ4!L185)","v":0},{"$f":"SUM(CSVデータ1!M185,CSVデータ2!M185,CSVデータ3!M185,CSVデータ4!M185)","v":0},{"$f":"SUM(CSVデータ1!N185,CSVデータ2!N185,CSVデータ3!N185,CSVデータ4!N185)","v":0},{"$f":"SUM(CSVデータ1!O185,CSVデータ2!O185,CSVデータ3!O185,CSVデータ4!O185)","v":0},{"$f":"SUM(CSVデータ1!P185,CSVデータ2!P185,CSVデータ3!P185,CSVデータ4!P185)","v":0},{"$f":"SUM(CSVデータ1!Q185,CSVデータ2!Q185,CSVデータ3!Q185,CSVデータ4!Q185)","v":0},{"$f":"SUM(CSVデータ1!R185,CSVデータ2!R185,CSVデータ3!R185,CSVデータ4!R185)","v":0},{"$f":"SUM(CSVデータ1!S185,CSVデータ2!S185,CSVデータ3!S185,CSVデータ4!S185)","v":0},{"$f":"SUM(CSVデータ1!T185,CSVデータ2!T185,CSVデータ3!T185,CSVデータ4!T185)","v":0},{"$f":"SUM(CSVデータ1!U185,CSVデータ2!U185,CSVデータ3!U185,CSVデータ4!U185)","v":0},{"$f":"SUM(CSVデータ1!V185,CSVデータ2!V185,CSVデータ3!V185,CSVデータ4!V185)","v":0},{"$f":"SUM(CSVデータ1!W185,CSVデータ2!W185,CSVデータ3!W185,CSVデータ4!W185)","v":0},{"$f":"SUM(CSVデータ1!X185,CSVデータ2!X185,CSVデータ3!X185,CSVデータ4!X185)","v":0},{"$f":"SUM(CSVデータ1!Y185,CSVデータ2!Y185,CSVデータ3!Y185,CSVデータ4!Y185)","v":0},{"$f":"SUM(CSVデータ1!Z185,CSVデータ2!Z185,CSVデータ3!Z185,CSVデータ4!Z185)","v":0},{"$f":"SUM(CSVデータ1!AA185,CSVデータ2!AA185,CSVデータ3!AA185,CSVデータ4!AA185)","v":0},{"$f":"SUM(CSVデータ1!AB185,CSVデータ2!AB185,CSVデータ3!AB185,CSVデータ4!AB185)","v":0},{"$f":"SUM(CSVデータ1!AC185,CSVデータ2!AC185,CSVデータ3!AC185,CSVデータ4!AC185)","v":0},{"$f":"SUM(CSVデータ1!AD185,CSVデータ2!AD185,CSVデータ3!AD185,CSVデータ4!AD185)","v":0},{"$f":"SUM(CSVデータ1!AE185,CSVデータ2!AE185,CSVデータ3!AE185,CSVデータ4!AE185)","v":0},{"$f":"SUM(CSVデータ1!AF185,CSVデータ2!AF185,CSVデータ3!AF185,CSVデータ4!AF185)","v":0},{"$f":"SUM(CSVデータ1!AG185,CSVデータ2!AG185,CSVデータ3!AG185,CSVデータ4!AG185)","v":0}]
[{"$f":"CSVデータ1!A186","v":"明細部"},{"$f":"CSVデータ1!B186","v":"県"},{"$f":"CSVデータ1!C186","v":79},{"$f":"CSVデータ1!D186","v":"女"},{"$f":"SUM(CSVデータ1!E186,CSVデータ2!E186,CSVデータ3!E186,CSVデータ4!E186)","v":0},{"$f":"SUM(CSVデータ1!F186,CSVデータ2!F186,CSVデータ3!F186,CSVデータ4!F186)","v":0},{"$f":"SUM(CSVデータ1!G186,CSVデータ2!G186,CSVデータ3!G186,CSVデータ4!G186)","v":0},{"$f":"SUM(CSVデータ1!H186,CSVデータ2!H186,CSVデータ3!H186,CSVデータ4!H186)","v":0},{"$f":"SUM(CSVデータ1!I186,CSVデータ2!I186,CSVデータ3!I186,CSVデータ4!I186)","v":0},{"$f":"SUM(CSVデータ1!J186,CSVデータ2!J186,CSVデータ3!J186,CSVデータ4!J186)","v":0},{"$f":"SUM(CSVデータ1!K186,CSVデータ2!K186,CSVデータ3!K186,CSVデータ4!K186)","v":0},{"$f":"SUM(CSVデータ1!L186,CSVデータ2!L186,CSVデータ3!L186,CSVデータ4!L186)","v":0},{"$f":"SUM(CSVデータ1!M186,CSVデータ2!M186,CSVデータ3!M186,CSVデータ4!M186)","v":0},{"$f":"SUM(CSVデータ1!N186,CSVデータ2!N186,CSVデータ3!N186,CSVデータ4!N186)","v":0},{"$f":"SUM(CSVデータ1!O186,CSVデータ2!O186,CSVデータ3!O186,CSVデータ4!O186)","v":0},{"$f":"SUM(CSVデータ1!P186,CSVデータ2!P186,CSVデータ3!P186,CSVデータ4!P186)","v":0},{"$f":"SUM(CSVデータ1!Q186,CSVデータ2!Q186,CSVデータ3!Q186,CSVデータ4!Q186)","v":0},{"$f":"SUM(CSVデータ1!R186,CSVデータ2!R186,CSVデータ3!R186,CSVデータ4!R186)","v":0},{"$f":"SUM(CSVデータ1!S186,CSVデータ2!S186,CSVデータ3!S186,CSVデータ4!S186)","v":0},{"$f":"SUM(CSVデータ1!T186,CSVデータ2!T186,CSVデータ3!T186,CSVデータ4!T186)","v":0},{"$f":"SUM(CSVデータ1!U186,CSVデータ2!U186,CSVデータ3!U186,CSVデータ4!U186)","v":0},{"$f":"SUM(CSVデータ1!V186,CSVデータ2!V186,CSVデータ3!V186,CSVデータ4!V186)","v":0},{"$f":"SUM(CSVデータ1!W186,CSVデータ2!W186,CSVデータ3!W186,CSVデータ4!W186)","v":0},{"$f":"SUM(CSVデータ1!X186,CSVデータ2!X186,CSVデータ3!X186,CSVデータ4!X186)","v":0},{"$f":"SUM(CSVデータ1!Y186,CSVデータ2!Y186,CSVデータ3!Y186,CSVデータ4!Y186)","v":0},{"$f":"SUM(CSVデータ1!Z186,CSVデータ2!Z186,CSVデータ3!Z186,CSVデータ4!Z186)","v":0},{"$f":"SUM(CSVデータ1!AA186,CSVデータ2!AA186,CSVデータ3!AA186,CSVデータ4!AA186)","v":0},{"$f":"SUM(CSVデータ1!AB186,CSVデータ2!AB186,CSVデータ3!AB186,CSVデータ4!AB186)","v":0},{"$f":"SUM(CSVデータ1!AC186,CSVデータ2!AC186,CSVデータ3!AC186,CSVデータ4!AC186)","v":0},{"$f":"SUM(CSVデータ1!AD186,CSVデータ2!AD186,CSVデータ3!AD186,CSVデータ4!AD186)","v":0},{"$f":"SUM(CSVデータ1!AE186,CSVデータ2!AE186,CSVデータ3!AE186,CSVデータ4!AE186)","v":0},{"$f":"SUM(CSVデータ1!AF186,CSVデータ2!AF186,CSVデータ3!AF186,CSVデータ4!AF186)","v":0},{"$f":"SUM(CSVデータ1!AG186,CSVデータ2!AG186,CSVデータ3!AG186,CSVデータ4!AG186)","v":0}]
[{"$f":"CSVデータ1!A187","v":"明細部"},{"$f":"CSVデータ1!B187","v":"県"},{"$f":"CSVデータ1!C187","v":80},{"$f":"CSVデータ1!D187","v":"女"},{"$f":"SUM(CSVデータ1!E187,CSVデータ2!E187,CSVデータ3!E187,CSVデータ4!E187)","v":0},{"$f":"SUM(CSVデータ1!F187,CSVデータ2!F187,CSVデータ3!F187,CSVデータ4!F187)","v":0},{"$f":"SUM(CSVデータ1!G187,CSVデータ2!G187,CSVデータ3!G187,CSVデータ4!G187)","v":0},{"$f":"SUM(CSVデータ1!H187,CSVデータ2!H187,CSVデータ3!H187,CSVデータ4!H187)","v":0},{"$f":"SUM(CSVデータ1!I187,CSVデータ2!I187,CSVデータ3!I187,CSVデータ4!I187)","v":0},{"$f":"SUM(CSVデータ1!J187,CSVデータ2!J187,CSVデータ3!J187,CSVデータ4!J187)","v":0},{"$f":"SUM(CSVデータ1!K187,CSVデータ2!K187,CSVデータ3!K187,CSVデータ4!K187)","v":0},{"$f":"SUM(CSVデータ1!L187,CSVデータ2!L187,CSVデータ3!L187,CSVデータ4!L187)","v":0},{"$f":"SUM(CSVデータ1!M187,CSVデータ2!M187,CSVデータ3!M187,CSVデータ4!M187)","v":0},{"$f":"SUM(CSVデータ1!N187,CSVデータ2!N187,CSVデータ3!N187,CSVデータ4!N187)","v":0},{"$f":"SUM(CSVデータ1!O187,CSVデータ2!O187,CSVデータ3!O187,CSVデータ4!O187)","v":0},{"$f":"SUM(CSVデータ1!P187,CSVデータ2!P187,CSVデータ3!P187,CSVデータ4!P187)","v":0},{"$f":"SUM(CSVデータ1!Q187,CSVデータ2!Q187,CSVデータ3!Q187,CSVデータ4!Q187)","v":0},{"$f":"SUM(CSVデータ1!R187,CSVデータ2!R187,CSVデータ3!R187,CSVデータ4!R187)","v":0},{"$f":"SUM(CSVデータ1!S187,CSVデータ2!S187,CSVデータ3!S187,CSVデータ4!S187)","v":0},{"$f":"SUM(CSVデータ1!T187,CSVデータ2!T187,CSVデータ3!T187,CSVデータ4!T187)","v":0},{"$f":"SUM(CSVデータ1!U187,CSVデータ2!U187,CSVデータ3!U187,CSVデータ4!U187)","v":0},{"$f":"SUM(CSVデータ1!V187,CSVデータ2!V187,CSVデータ3!V187,CSVデータ4!V187)","v":0},{"$f":"SUM(CSVデータ1!W187,CSVデータ2!W187,CSVデータ3!W187,CSVデータ4!W187)","v":0},{"$f":"SUM(CSVデータ1!X187,CSVデータ2!X187,CSVデータ3!X187,CSVデータ4!X187)","v":0},{"$f":"SUM(CSVデータ1!Y187,CSVデータ2!Y187,CSVデータ3!Y187,CSVデータ4!Y187)","v":0},{"$f":"SUM(CSVデータ1!Z187,CSVデータ2!Z187,CSVデータ3!Z187,CSVデータ4!Z187)","v":0},{"$f":"SUM(CSVデータ1!AA187,CSVデータ2!AA187,CSVデータ3!AA187,CSVデータ4!AA187)","v":0},{"$f":"SUM(CSVデータ1!AB187,CSVデータ2!AB187,CSVデータ3!AB187,CSVデータ4!AB187)","v":0},{"$f":"SUM(CSVデータ1!AC187,CSVデータ2!AC187,CSVデータ3!AC187,CSVデータ4!AC187)","v":0},{"$f":"SUM(CSVデータ1!AD187,CSVデータ2!AD187,CSVデータ3!AD187,CSVデータ4!AD187)","v":0},{"$f":"SUM(CSVデータ1!AE187,CSVデータ2!AE187,CSVデータ3!AE187,CSVデータ4!AE187)","v":0},{"$f":"SUM(CSVデータ1!AF187,CSVデータ2!AF187,CSVデータ3!AF187,CSVデータ4!AF187)","v":0},{"$f":"SUM(CSVデータ1!AG187,CSVデータ2!AG187,CSVデータ3!AG187,CSVデータ4!AG187)","v":0}]
[{"$f":"CSVデータ1!A188","v":"明細部"},{"$f":"CSVデータ1!B188","v":"県"},{"$f":"CSVデータ1!C188","v":81},{"$f":"CSVデータ1!D188","v":"女"},{"$f":"SUM(CSVデータ1!E188,CSVデータ2!E188,CSVデータ3!E188,CSVデータ4!E188)","v":0},{"$f":"SUM(CSVデータ1!F188,CSVデータ2!F188,CSVデータ3!F188,CSVデータ4!F188)","v":0},{"$f":"SUM(CSVデータ1!G188,CSVデータ2!G188,CSVデータ3!G188,CSVデータ4!G188)","v":0},{"$f":"SUM(CSVデータ1!H188,CSVデータ2!H188,CSVデータ3!H188,CSVデータ4!H188)","v":0},{"$f":"SUM(CSVデータ1!I188,CSVデータ2!I188,CSVデータ3!I188,CSVデータ4!I188)","v":0},{"$f":"SUM(CSVデータ1!J188,CSVデータ2!J188,CSVデータ3!J188,CSVデータ4!J188)","v":0},{"$f":"SUM(CSVデータ1!K188,CSVデータ2!K188,CSVデータ3!K188,CSVデータ4!K188)","v":0},{"$f":"SUM(CSVデータ1!L188,CSVデータ2!L188,CSVデータ3!L188,CSVデータ4!L188)","v":0},{"$f":"SUM(CSVデータ1!M188,CSVデータ2!M188,CSVデータ3!M188,CSVデータ4!M188)","v":0},{"$f":"SUM(CSVデータ1!N188,CSVデータ2!N188,CSVデータ3!N188,CSVデータ4!N188)","v":0},{"$f":"SUM(CSVデータ1!O188,CSVデータ2!O188,CSVデータ3!O188,CSVデータ4!O188)","v":0},{"$f":"SUM(CSVデータ1!P188,CSVデータ2!P188,CSVデータ3!P188,CSVデータ4!P188)","v":0},{"$f":"SUM(CSVデータ1!Q188,CSVデータ2!Q188,CSVデータ3!Q188,CSVデータ4!Q188)","v":0},{"$f":"SUM(CSVデータ1!R188,CSVデータ2!R188,CSVデータ3!R188,CSVデータ4!R188)","v":0},{"$f":"SUM(CSVデータ1!S188,CSVデータ2!S188,CSVデータ3!S188,CSVデータ4!S188)","v":0},{"$f":"SUM(CSVデータ1!T188,CSVデータ2!T188,CSVデータ3!T188,CSVデータ4!T188)","v":0},{"$f":"SUM(CSVデータ1!U188,CSVデータ2!U188,CSVデータ3!U188,CSVデータ4!U188)","v":0},{"$f":"SUM(CSVデータ1!V188,CSVデータ2!V188,CSVデータ3!V188,CSVデータ4!V188)","v":0},{"$f":"SUM(CSVデータ1!W188,CSVデータ2!W188,CSVデータ3!W188,CSVデータ4!W188)","v":0},{"$f":"SUM(CSVデータ1!X188,CSVデータ2!X188,CSVデータ3!X188,CSVデータ4!X188)","v":0},{"$f":"SUM(CSVデータ1!Y188,CSVデータ2!Y188,CSVデータ3!Y188,CSVデータ4!Y188)","v":0},{"$f":"SUM(CSVデータ1!Z188,CSVデータ2!Z188,CSVデータ3!Z188,CSVデータ4!Z188)","v":0},{"$f":"SUM(CSVデータ1!AA188,CSVデータ2!AA188,CSVデータ3!AA188,CSVデータ4!AA188)","v":0},{"$f":"SUM(CSVデータ1!AB188,CSVデータ2!AB188,CSVデータ3!AB188,CSVデータ4!AB188)","v":0},{"$f":"SUM(CSVデータ1!AC188,CSVデータ2!AC188,CSVデータ3!AC188,CSVデータ4!AC188)","v":0},{"$f":"SUM(CSVデータ1!AD188,CSVデータ2!AD188,CSVデータ3!AD188,CSVデータ4!AD188)","v":0},{"$f":"SUM(CSVデータ1!AE188,CSVデータ2!AE188,CSVデータ3!AE188,CSVデータ4!AE188)","v":0},{"$f":"SUM(CSVデータ1!AF188,CSVデータ2!AF188,CSVデータ3!AF188,CSVデータ4!AF188)","v":0},{"$f":"SUM(CSVデータ1!AG188,CSVデータ2!AG188,CSVデータ3!AG188,CSVデータ4!AG188)","v":0}]
[{"$f":"CSVデータ1!A189","v":"明細部"},{"$f":"CSVデータ1!B189","v":"県"},{"$f":"CSVデータ1!C189","v":82},{"$f":"CSVデータ1!D189","v":"女"},{"$f":"SUM(CSVデータ1!E189,CSVデータ2!E189,CSVデータ3!E189,CSVデータ4!E189)","v":0},{"$f":"SUM(CSVデータ1!F189,CSVデータ2!F189,CSVデータ3!F189,CSVデータ4!F189)","v":0},{"$f":"SUM(CSVデータ1!G189,CSVデータ2!G189,CSVデータ3!G189,CSVデータ4!G189)","v":0},{"$f":"SUM(CSVデータ1!H189,CSVデータ2!H189,CSVデータ3!H189,CSVデータ4!H189)","v":0},{"$f":"SUM(CSVデータ1!I189,CSVデータ2!I189,CSVデータ3!I189,CSVデータ4!I189)","v":0},{"$f":"SUM(CSVデータ1!J189,CSVデータ2!J189,CSVデータ3!J189,CSVデータ4!J189)","v":0},{"$f":"SUM(CSVデータ1!K189,CSVデータ2!K189,CSVデータ3!K189,CSVデータ4!K189)","v":0},{"$f":"SUM(CSVデータ1!L189,CSVデータ2!L189,CSVデータ3!L189,CSVデータ4!L189)","v":0},{"$f":"SUM(CSVデータ1!M189,CSVデータ2!M189,CSVデータ3!M189,CSVデータ4!M189)","v":0},{"$f":"SUM(CSVデータ1!N189,CSVデータ2!N189,CSVデータ3!N189,CSVデータ4!N189)","v":0},{"$f":"SUM(CSVデータ1!O189,CSVデータ2!O189,CSVデータ3!O189,CSVデータ4!O189)","v":0},{"$f":"SUM(CSVデータ1!P189,CSVデータ2!P189,CSVデータ3!P189,CSVデータ4!P189)","v":0},{"$f":"SUM(CSVデータ1!Q189,CSVデータ2!Q189,CSVデータ3!Q189,CSVデータ4!Q189)","v":0},{"$f":"SUM(CSVデータ1!R189,CSVデータ2!R189,CSVデータ3!R189,CSVデータ4!R189)","v":0},{"$f":"SUM(CSVデータ1!S189,CSVデータ2!S189,CSVデータ3!S189,CSVデータ4!S189)","v":0},{"$f":"SUM(CSVデータ1!T189,CSVデータ2!T189,CSVデータ3!T189,CSVデータ4!T189)","v":0},{"$f":"SUM(CSVデータ1!U189,CSVデータ2!U189,CSVデータ3!U189,CSVデータ4!U189)","v":0},{"$f":"SUM(CSVデータ1!V189,CSVデータ2!V189,CSVデータ3!V189,CSVデータ4!V189)","v":0},{"$f":"SUM(CSVデータ1!W189,CSVデータ2!W189,CSVデータ3!W189,CSVデータ4!W189)","v":0},{"$f":"SUM(CSVデータ1!X189,CSVデータ2!X189,CSVデータ3!X189,CSVデータ4!X189)","v":0},{"$f":"SUM(CSVデータ1!Y189,CSVデータ2!Y189,CSVデータ3!Y189,CSVデータ4!Y189)","v":0},{"$f":"SUM(CSVデータ1!Z189,CSVデータ2!Z189,CSVデータ3!Z189,CSVデータ4!Z189)","v":0},{"$f":"SUM(CSVデータ1!AA189,CSVデータ2!AA189,CSVデータ3!AA189,CSVデータ4!AA189)","v":0},{"$f":"SUM(CSVデータ1!AB189,CSVデータ2!AB189,CSVデータ3!AB189,CSVデータ4!AB189)","v":0},{"$f":"SUM(CSVデータ1!AC189,CSVデータ2!AC189,CSVデータ3!AC189,CSVデータ4!AC189)","v":0},{"$f":"SUM(CSVデータ1!AD189,CSVデータ2!AD189,CSVデータ3!AD189,CSVデータ4!AD189)","v":0},{"$f":"SUM(CSVデータ1!AE189,CSVデータ2!AE189,CSVデータ3!AE189,CSVデータ4!AE189)","v":0},{"$f":"SUM(CSVデータ1!AF189,CSVデータ2!AF189,CSVデータ3!AF189,CSVデータ4!AF189)","v":0},{"$f":"SUM(CSVデータ1!AG189,CSVデータ2!AG189,CSVデータ3!AG189,CSVデータ4!AG189)","v":0}]
[{"$f":"CSVデータ1!A190","v":"明細部"},{"$f":"CSVデータ1!B190","v":"県"},{"$f":"CSVデータ1!C190","v":83},{"$f":"CSVデータ1!D190","v":"女"},{"$f":"SUM(CSVデータ1!E190,CSVデータ2!E190,CSVデータ3!E190,CSVデータ4!E190)","v":0},{"$f":"SUM(CSVデータ1!F190,CSVデータ2!F190,CSVデータ3!F190,CSVデータ4!F190)","v":0},{"$f":"SUM(CSVデータ1!G190,CSVデータ2!G190,CSVデータ3!G190,CSVデータ4!G190)","v":0},{"$f":"SUM(CSVデータ1!H190,CSVデータ2!H190,CSVデータ3!H190,CSVデータ4!H190)","v":0},{"$f":"SUM(CSVデータ1!I190,CSVデータ2!I190,CSVデータ3!I190,CSVデータ4!I190)","v":0},{"$f":"SUM(CSVデータ1!J190,CSVデータ2!J190,CSVデータ3!J190,CSVデータ4!J190)","v":0},{"$f":"SUM(CSVデータ1!K190,CSVデータ2!K190,CSVデータ3!K190,CSVデータ4!K190)","v":0},{"$f":"SUM(CSVデータ1!L190,CSVデータ2!L190,CSVデータ3!L190,CSVデータ4!L190)","v":0},{"$f":"SUM(CSVデータ1!M190,CSVデータ2!M190,CSVデータ3!M190,CSVデータ4!M190)","v":0},{"$f":"SUM(CSVデータ1!N190,CSVデータ2!N190,CSVデータ3!N190,CSVデータ4!N190)","v":0},{"$f":"SUM(CSVデータ1!O190,CSVデータ2!O190,CSVデータ3!O190,CSVデータ4!O190)","v":0},{"$f":"SUM(CSVデータ1!P190,CSVデータ2!P190,CSVデータ3!P190,CSVデータ4!P190)","v":0},{"$f":"SUM(CSVデータ1!Q190,CSVデータ2!Q190,CSVデータ3!Q190,CSVデータ4!Q190)","v":0},{"$f":"SUM(CSVデータ1!R190,CSVデータ2!R190,CSVデータ3!R190,CSVデータ4!R190)","v":0},{"$f":"SUM(CSVデータ1!S190,CSVデータ2!S190,CSVデータ3!S190,CSVデータ4!S190)","v":0},{"$f":"SUM(CSVデータ1!T190,CSVデータ2!T190,CSVデータ3!T190,CSVデータ4!T190)","v":0},{"$f":"SUM(CSVデータ1!U190,CSVデータ2!U190,CSVデータ3!U190,CSVデータ4!U190)","v":0},{"$f":"SUM(CSVデータ1!V190,CSVデータ2!V190,CSVデータ3!V190,CSVデータ4!V190)","v":0},{"$f":"SUM(CSVデータ1!W190,CSVデータ2!W190,CSVデータ3!W190,CSVデータ4!W190)","v":0},{"$f":"SUM(CSVデータ1!X190,CSVデータ2!X190,CSVデータ3!X190,CSVデータ4!X190)","v":0},{"$f":"SUM(CSVデータ1!Y190,CSVデータ2!Y190,CSVデータ3!Y190,CSVデータ4!Y190)","v":0},{"$f":"SUM(CSVデータ1!Z190,CSVデータ2!Z190,CSVデータ3!Z190,CSVデータ4!Z190)","v":0},{"$f":"SUM(CSVデータ1!AA190,CSVデータ2!AA190,CSVデータ3!AA190,CSVデータ4!AA190)","v":0},{"$f":"SUM(CSVデータ1!AB190,CSVデータ2!AB190,CSVデータ3!AB190,CSVデータ4!AB190)","v":0},{"$f":"SUM(CSVデータ1!AC190,CSVデータ2!AC190,CSVデータ3!AC190,CSVデータ4!AC190)","v":0},{"$f":"SUM(CSVデータ1!AD190,CSVデータ2!AD190,CSVデータ3!AD190,CSVデータ4!AD190)","v":0},{"$f":"SUM(CSVデータ1!AE190,CSVデータ2!AE190,CSVデータ3!AE190,CSVデータ4!AE190)","v":0},{"$f":"SUM(CSVデータ1!AF190,CSVデータ2!AF190,CSVデータ3!AF190,CSVデータ4!AF190)","v":0},{"$f":"SUM(CSVデータ1!AG190,CSVデータ2!AG190,CSVデータ3!AG190,CSVデータ4!AG190)","v":0}]
[{"$f":"CSVデータ1!A191","v":"明細部"},{"$f":"CSVデータ1!B191","v":"県"},{"$f":"CSVデータ1!C191","v":84},{"$f":"CSVデータ1!D191","v":"女"},{"$f":"SUM(CSVデータ1!E191,CSVデータ2!E191,CSVデータ3!E191,CSVデータ4!E191)","v":0},{"$f":"SUM(CSVデータ1!F191,CSVデータ2!F191,CSVデータ3!F191,CSVデータ4!F191)","v":0},{"$f":"SUM(CSVデータ1!G191,CSVデータ2!G191,CSVデータ3!G191,CSVデータ4!G191)","v":0},{"$f":"SUM(CSVデータ1!H191,CSVデータ2!H191,CSVデータ3!H191,CSVデータ4!H191)","v":0},{"$f":"SUM(CSVデータ1!I191,CSVデータ2!I191,CSVデータ3!I191,CSVデータ4!I191)","v":0},{"$f":"SUM(CSVデータ1!J191,CSVデータ2!J191,CSVデータ3!J191,CSVデータ4!J191)","v":0},{"$f":"SUM(CSVデータ1!K191,CSVデータ2!K191,CSVデータ3!K191,CSVデータ4!K191)","v":0},{"$f":"SUM(CSVデータ1!L191,CSVデータ2!L191,CSVデータ3!L191,CSVデータ4!L191)","v":0},{"$f":"SUM(CSVデータ1!M191,CSVデータ2!M191,CSVデータ3!M191,CSVデータ4!M191)","v":0},{"$f":"SUM(CSVデータ1!N191,CSVデータ2!N191,CSVデータ3!N191,CSVデータ4!N191)","v":0},{"$f":"SUM(CSVデータ1!O191,CSVデータ2!O191,CSVデータ3!O191,CSVデータ4!O191)","v":0},{"$f":"SUM(CSVデータ1!P191,CSVデータ2!P191,CSVデータ3!P191,CSVデータ4!P191)","v":0},{"$f":"SUM(CSVデータ1!Q191,CSVデータ2!Q191,CSVデータ3!Q191,CSVデータ4!Q191)","v":0},{"$f":"SUM(CSVデータ1!R191,CSVデータ2!R191,CSVデータ3!R191,CSVデータ4!R191)","v":0},{"$f":"SUM(CSVデータ1!S191,CSVデータ2!S191,CSVデータ3!S191,CSVデータ4!S191)","v":0},{"$f":"SUM(CSVデータ1!T191,CSVデータ2!T191,CSVデータ3!T191,CSVデータ4!T191)","v":0},{"$f":"SUM(CSVデータ1!U191,CSVデータ2!U191,CSVデータ3!U191,CSVデータ4!U191)","v":0},{"$f":"SUM(CSVデータ1!V191,CSVデータ2!V191,CSVデータ3!V191,CSVデータ4!V191)","v":0},{"$f":"SUM(CSVデータ1!W191,CSVデータ2!W191,CSVデータ3!W191,CSVデータ4!W191)","v":0},{"$f":"SUM(CSVデータ1!X191,CSVデータ2!X191,CSVデータ3!X191,CSVデータ4!X191)","v":0},{"$f":"SUM(CSVデータ1!Y191,CSVデータ2!Y191,CSVデータ3!Y191,CSVデータ4!Y191)","v":0},{"$f":"SUM(CSVデータ1!Z191,CSVデータ2!Z191,CSVデータ3!Z191,CSVデータ4!Z191)","v":0},{"$f":"SUM(CSVデータ1!AA191,CSVデータ2!AA191,CSVデータ3!AA191,CSVデータ4!AA191)","v":0},{"$f":"SUM(CSVデータ1!AB191,CSVデータ2!AB191,CSVデータ3!AB191,CSVデータ4!AB191)","v":0},{"$f":"SUM(CSVデータ1!AC191,CSVデータ2!AC191,CSVデータ3!AC191,CSVデータ4!AC191)","v":0},{"$f":"SUM(CSVデータ1!AD191,CSVデータ2!AD191,CSVデータ3!AD191,CSVデータ4!AD191)","v":0},{"$f":"SUM(CSVデータ1!AE191,CSVデータ2!AE191,CSVデータ3!AE191,CSVデータ4!AE191)","v":0},{"$f":"SUM(CSVデータ1!AF191,CSVデータ2!AF191,CSVデータ3!AF191,CSVデータ4!AF191)","v":0},{"$f":"SUM(CSVデータ1!AG191,CSVデータ2!AG191,CSVデータ3!AG191,CSVデータ4!AG191)","v":0}]
[{"$f":"CSVデータ1!A192","v":"明細部"},{"$f":"CSVデータ1!B192","v":"県"},{"$f":"CSVデータ1!C192","v":85},{"$f":"CSVデータ1!D192","v":"女"},{"$f":"SUM(CSVデータ1!E192,CSVデータ2!E192,CSVデータ3!E192,CSVデータ4!E192)","v":0},{"$f":"SUM(CSVデータ1!F192,CSVデータ2!F192,CSVデータ3!F192,CSVデータ4!F192)","v":0},{"$f":"SUM(CSVデータ1!G192,CSVデータ2!G192,CSVデータ3!G192,CSVデータ4!G192)","v":0},{"$f":"SUM(CSVデータ1!H192,CSVデータ2!H192,CSVデータ3!H192,CSVデータ4!H192)","v":0},{"$f":"SUM(CSVデータ1!I192,CSVデータ2!I192,CSVデータ3!I192,CSVデータ4!I192)","v":0},{"$f":"SUM(CSVデータ1!J192,CSVデータ2!J192,CSVデータ3!J192,CSVデータ4!J192)","v":0},{"$f":"SUM(CSVデータ1!K192,CSVデータ2!K192,CSVデータ3!K192,CSVデータ4!K192)","v":0},{"$f":"SUM(CSVデータ1!L192,CSVデータ2!L192,CSVデータ3!L192,CSVデータ4!L192)","v":0},{"$f":"SUM(CSVデータ1!M192,CSVデータ2!M192,CSVデータ3!M192,CSVデータ4!M192)","v":0},{"$f":"SUM(CSVデータ1!N192,CSVデータ2!N192,CSVデータ3!N192,CSVデータ4!N192)","v":0},{"$f":"SUM(CSVデータ1!O192,CSVデータ2!O192,CSVデータ3!O192,CSVデータ4!O192)","v":0},{"$f":"SUM(CSVデータ1!P192,CSVデータ2!P192,CSVデータ3!P192,CSVデータ4!P192)","v":0},{"$f":"SUM(CSVデータ1!Q192,CSVデータ2!Q192,CSVデータ3!Q192,CSVデータ4!Q192)","v":0},{"$f":"SUM(CSVデータ1!R192,CSVデータ2!R192,CSVデータ3!R192,CSVデータ4!R192)","v":0},{"$f":"SUM(CSVデータ1!S192,CSVデータ2!S192,CSVデータ3!S192,CSVデータ4!S192)","v":0},{"$f":"SUM(CSVデータ1!T192,CSVデータ2!T192,CSVデータ3!T192,CSVデータ4!T192)","v":0},{"$f":"SUM(CSVデータ1!U192,CSVデータ2!U192,CSVデータ3!U192,CSVデータ4!U192)","v":0},{"$f":"SUM(CSVデータ1!V192,CSVデータ2!V192,CSVデータ3!V192,CSVデータ4!V192)","v":0},{"$f":"SUM(CSVデータ1!W192,CSVデータ2!W192,CSVデータ3!W192,CSVデータ4!W192)","v":0},{"$f":"SUM(CSVデータ1!X192,CSVデータ2!X192,CSVデータ3!X192,CSVデータ4!X192)","v":0},{"$f":"SUM(CSVデータ1!Y192,CSVデータ2!Y192,CSVデータ3!Y192,CSVデータ4!Y192)","v":0},{"$f":"SUM(CSVデータ1!Z192,CSVデータ2!Z192,CSVデータ3!Z192,CSVデータ4!Z192)","v":0},{"$f":"SUM(CSVデータ1!AA192,CSVデータ2!AA192,CSVデータ3!AA192,CSVデータ4!AA192)","v":0},{"$f":"SUM(CSVデータ1!AB192,CSVデータ2!AB192,CSVデータ3!AB192,CSVデータ4!AB192)","v":0},{"$f":"SUM(CSVデータ1!AC192,CSVデータ2!AC192,CSVデータ3!AC192,CSVデータ4!AC192)","v":0},{"$f":"SUM(CSVデータ1!AD192,CSVデータ2!AD192,CSVデータ3!AD192,CSVデータ4!AD192)","v":0},{"$f":"SUM(CSVデータ1!AE192,CSVデータ2!AE192,CSVデータ3!AE192,CSVデータ4!AE192)","v":0},{"$f":"SUM(CSVデータ1!AF192,CSVデータ2!AF192,CSVデータ3!AF192,CSVデータ4!AF192)","v":0},{"$f":"SUM(CSVデータ1!AG192,CSVデータ2!AG192,CSVデータ3!AG192,CSVデータ4!AG192)","v":0}]
[{"$f":"CSVデータ1!A193","v":"明細部"},{"$f":"CSVデータ1!B193","v":"県"},{"$f":"CSVデータ1!C193","v":86},{"$f":"CSVデータ1!D193","v":"女"},{"$f":"SUM(CSVデータ1!E193,CSVデータ2!E193,CSVデータ3!E193,CSVデータ4!E193)","v":0},{"$f":"SUM(CSVデータ1!F193,CSVデータ2!F193,CSVデータ3!F193,CSVデータ4!F193)","v":0},{"$f":"SUM(CSVデータ1!G193,CSVデータ2!G193,CSVデータ3!G193,CSVデータ4!G193)","v":0},{"$f":"SUM(CSVデータ1!H193,CSVデータ2!H193,CSVデータ3!H193,CSVデータ4!H193)","v":0},{"$f":"SUM(CSVデータ1!I193,CSVデータ2!I193,CSVデータ3!I193,CSVデータ4!I193)","v":0},{"$f":"SUM(CSVデータ1!J193,CSVデータ2!J193,CSVデータ3!J193,CSVデータ4!J193)","v":0},{"$f":"SUM(CSVデータ1!K193,CSVデータ2!K193,CSVデータ3!K193,CSVデータ4!K193)","v":0},{"$f":"SUM(CSVデータ1!L193,CSVデータ2!L193,CSVデータ3!L193,CSVデータ4!L193)","v":0},{"$f":"SUM(CSVデータ1!M193,CSVデータ2!M193,CSVデータ3!M193,CSVデータ4!M193)","v":0},{"$f":"SUM(CSVデータ1!N193,CSVデータ2!N193,CSVデータ3!N193,CSVデータ4!N193)","v":0},{"$f":"SUM(CSVデータ1!O193,CSVデータ2!O193,CSVデータ3!O193,CSVデータ4!O193)","v":0},{"$f":"SUM(CSVデータ1!P193,CSVデータ2!P193,CSVデータ3!P193,CSVデータ4!P193)","v":0},{"$f":"SUM(CSVデータ1!Q193,CSVデータ2!Q193,CSVデータ3!Q193,CSVデータ4!Q193)","v":0},{"$f":"SUM(CSVデータ1!R193,CSVデータ2!R193,CSVデータ3!R193,CSVデータ4!R193)","v":0},{"$f":"SUM(CSVデータ1!S193,CSVデータ2!S193,CSVデータ3!S193,CSVデータ4!S193)","v":0},{"$f":"SUM(CSVデータ1!T193,CSVデータ2!T193,CSVデータ3!T193,CSVデータ4!T193)","v":0},{"$f":"SUM(CSVデータ1!U193,CSVデータ2!U193,CSVデータ3!U193,CSVデータ4!U193)","v":0},{"$f":"SUM(CSVデータ1!V193,CSVデータ2!V193,CSVデータ3!V193,CSVデータ4!V193)","v":0},{"$f":"SUM(CSVデータ1!W193,CSVデータ2!W193,CSVデータ3!W193,CSVデータ4!W193)","v":0},{"$f":"SUM(CSVデータ1!X193,CSVデータ2!X193,CSVデータ3!X193,CSVデータ4!X193)","v":0},{"$f":"SUM(CSVデータ1!Y193,CSVデータ2!Y193,CSVデータ3!Y193,CSVデータ4!Y193)","v":0},{"$f":"SUM(CSVデータ1!Z193,CSVデータ2!Z193,CSVデータ3!Z193,CSVデータ4!Z193)","v":0},{"$f":"SUM(CSVデータ1!AA193,CSVデータ2!AA193,CSVデータ3!AA193,CSVデータ4!AA193)","v":0},{"$f":"SUM(CSVデータ1!AB193,CSVデータ2!AB193,CSVデータ3!AB193,CSVデータ4!AB193)","v":0},{"$f":"SUM(CSVデータ1!AC193,CSVデータ2!AC193,CSVデータ3!AC193,CSVデータ4!AC193)","v":0},{"$f":"SUM(CSVデータ1!AD193,CSVデータ2!AD193,CSVデータ3!AD193,CSVデータ4!AD193)","v":0},{"$f":"SUM(CSVデータ1!AE193,CSVデータ2!AE193,CSVデータ3!AE193,CSVデータ4!AE193)","v":0},{"$f":"SUM(CSVデータ1!AF193,CSVデータ2!AF193,CSVデータ3!AF193,CSVデータ4!AF193)","v":0},{"$f":"SUM(CSVデータ1!AG193,CSVデータ2!AG193,CSVデータ3!AG193,CSVデータ4!AG193)","v":0}]
[{"$f":"CSVデータ1!A194","v":"明細部"},{"$f":"CSVデータ1!B194","v":"県"},{"$f":"CSVデータ1!C194","v":87},{"$f":"CSVデータ1!D194","v":"女"},{"$f":"SUM(CSVデータ1!E194,CSVデータ2!E194,CSVデータ3!E194,CSVデータ4!E194)","v":0},{"$f":"SUM(CSVデータ1!F194,CSVデータ2!F194,CSVデータ3!F194,CSVデータ4!F194)","v":0},{"$f":"SUM(CSVデータ1!G194,CSVデータ2!G194,CSVデータ3!G194,CSVデータ4!G194)","v":0},{"$f":"SUM(CSVデータ1!H194,CSVデータ2!H194,CSVデータ3!H194,CSVデータ4!H194)","v":0},{"$f":"SUM(CSVデータ1!I194,CSVデータ2!I194,CSVデータ3!I194,CSVデータ4!I194)","v":0},{"$f":"SUM(CSVデータ1!J194,CSVデータ2!J194,CSVデータ3!J194,CSVデータ4!J194)","v":0},{"$f":"SUM(CSVデータ1!K194,CSVデータ2!K194,CSVデータ3!K194,CSVデータ4!K194)","v":0},{"$f":"SUM(CSVデータ1!L194,CSVデータ2!L194,CSVデータ3!L194,CSVデータ4!L194)","v":0},{"$f":"SUM(CSVデータ1!M194,CSVデータ2!M194,CSVデータ3!M194,CSVデータ4!M194)","v":0},{"$f":"SUM(CSVデータ1!N194,CSVデータ2!N194,CSVデータ3!N194,CSVデータ4!N194)","v":0},{"$f":"SUM(CSVデータ1!O194,CSVデータ2!O194,CSVデータ3!O194,CSVデータ4!O194)","v":0},{"$f":"SUM(CSVデータ1!P194,CSVデータ2!P194,CSVデータ3!P194,CSVデータ4!P194)","v":0},{"$f":"SUM(CSVデータ1!Q194,CSVデータ2!Q194,CSVデータ3!Q194,CSVデータ4!Q194)","v":0},{"$f":"SUM(CSVデータ1!R194,CSVデータ2!R194,CSVデータ3!R194,CSVデータ4!R194)","v":0},{"$f":"SUM(CSVデータ1!S194,CSVデータ2!S194,CSVデータ3!S194,CSVデータ4!S194)","v":0},{"$f":"SUM(CSVデータ1!T194,CSVデータ2!T194,CSVデータ3!T194,CSVデータ4!T194)","v":0},{"$f":"SUM(CSVデータ1!U194,CSVデータ2!U194,CSVデータ3!U194,CSVデータ4!U194)","v":0},{"$f":"SUM(CSVデータ1!V194,CSVデータ2!V194,CSVデータ3!V194,CSVデータ4!V194)","v":0},{"$f":"SUM(CSVデータ1!W194,CSVデータ2!W194,CSVデータ3!W194,CSVデータ4!W194)","v":0},{"$f":"SUM(CSVデータ1!X194,CSVデータ2!X194,CSVデータ3!X194,CSVデータ4!X194)","v":0},{"$f":"SUM(CSVデータ1!Y194,CSVデータ2!Y194,CSVデータ3!Y194,CSVデータ4!Y194)","v":0},{"$f":"SUM(CSVデータ1!Z194,CSVデータ2!Z194,CSVデータ3!Z194,CSVデータ4!Z194)","v":0},{"$f":"SUM(CSVデータ1!AA194,CSVデータ2!AA194,CSVデータ3!AA194,CSVデータ4!AA194)","v":0},{"$f":"SUM(CSVデータ1!AB194,CSVデータ2!AB194,CSVデータ3!AB194,CSVデータ4!AB194)","v":0},{"$f":"SUM(CSVデータ1!AC194,CSVデータ2!AC194,CSVデータ3!AC194,CSVデータ4!AC194)","v":0},{"$f":"SUM(CSVデータ1!AD194,CSVデータ2!AD194,CSVデータ3!AD194,CSVデータ4!AD194)","v":0},{"$f":"SUM(CSVデータ1!AE194,CSVデータ2!AE194,CSVデータ3!AE194,CSVデータ4!AE194)","v":0},{"$f":"SUM(CSVデータ1!AF194,CSVデータ2!AF194,CSVデータ3!AF194,CSVデータ4!AF194)","v":0},{"$f":"SUM(CSVデータ1!AG194,CSVデータ2!AG194,CSVデータ3!AG194,CSVデータ4!AG194)","v":0}]
[{"$f":"CSVデータ1!A195","v":"明細部"},{"$f":"CSVデータ1!B195","v":"県"},{"$f":"CSVデータ1!C195","v":88},{"$f":"CSVデータ1!D195","v":"女"},{"$f":"SUM(CSVデータ1!E195,CSVデータ2!E195,CSVデータ3!E195,CSVデータ4!E195)","v":0},{"$f":"SUM(CSVデータ1!F195,CSVデータ2!F195,CSVデータ3!F195,CSVデータ4!F195)","v":0},{"$f":"SUM(CSVデータ1!G195,CSVデータ2!G195,CSVデータ3!G195,CSVデータ4!G195)","v":0},{"$f":"SUM(CSVデータ1!H195,CSVデータ2!H195,CSVデータ3!H195,CSVデータ4!H195)","v":0},{"$f":"SUM(CSVデータ1!I195,CSVデータ2!I195,CSVデータ3!I195,CSVデータ4!I195)","v":0},{"$f":"SUM(CSVデータ1!J195,CSVデータ2!J195,CSVデータ3!J195,CSVデータ4!J195)","v":0},{"$f":"SUM(CSVデータ1!K195,CSVデータ2!K195,CSVデータ3!K195,CSVデータ4!K195)","v":0},{"$f":"SUM(CSVデータ1!L195,CSVデータ2!L195,CSVデータ3!L195,CSVデータ4!L195)","v":0},{"$f":"SUM(CSVデータ1!M195,CSVデータ2!M195,CSVデータ3!M195,CSVデータ4!M195)","v":0},{"$f":"SUM(CSVデータ1!N195,CSVデータ2!N195,CSVデータ3!N195,CSVデータ4!N195)","v":0},{"$f":"SUM(CSVデータ1!O195,CSVデータ2!O195,CSVデータ3!O195,CSVデータ4!O195)","v":0},{"$f":"SUM(CSVデータ1!P195,CSVデータ2!P195,CSVデータ3!P195,CSVデータ4!P195)","v":0},{"$f":"SUM(CSVデータ1!Q195,CSVデータ2!Q195,CSVデータ3!Q195,CSVデータ4!Q195)","v":0},{"$f":"SUM(CSVデータ1!R195,CSVデータ2!R195,CSVデータ3!R195,CSVデータ4!R195)","v":0},{"$f":"SUM(CSVデータ1!S195,CSVデータ2!S195,CSVデータ3!S195,CSVデータ4!S195)","v":0},{"$f":"SUM(CSVデータ1!T195,CSVデータ2!T195,CSVデータ3!T195,CSVデータ4!T195)","v":0},{"$f":"SUM(CSVデータ1!U195,CSVデータ2!U195,CSVデータ3!U195,CSVデータ4!U195)","v":0},{"$f":"SUM(CSVデータ1!V195,CSVデータ2!V195,CSVデータ3!V195,CSVデータ4!V195)","v":0},{"$f":"SUM(CSVデータ1!W195,CSVデータ2!W195,CSVデータ3!W195,CSVデータ4!W195)","v":0},{"$f":"SUM(CSVデータ1!X195,CSVデータ2!X195,CSVデータ3!X195,CSVデータ4!X195)","v":0},{"$f":"SUM(CSVデータ1!Y195,CSVデータ2!Y195,CSVデータ3!Y195,CSVデータ4!Y195)","v":0},{"$f":"SUM(CSVデータ1!Z195,CSVデータ2!Z195,CSVデータ3!Z195,CSVデータ4!Z195)","v":0},{"$f":"SUM(CSVデータ1!AA195,CSVデータ2!AA195,CSVデータ3!AA195,CSVデータ4!AA195)","v":0},{"$f":"SUM(CSVデータ1!AB195,CSVデータ2!AB195,CSVデータ3!AB195,CSVデータ4!AB195)","v":0},{"$f":"SUM(CSVデータ1!AC195,CSVデータ2!AC195,CSVデータ3!AC195,CSVデータ4!AC195)","v":0},{"$f":"SUM(CSVデータ1!AD195,CSVデータ2!AD195,CSVデータ3!AD195,CSVデータ4!AD195)","v":0},{"$f":"SUM(CSVデータ1!AE195,CSVデータ2!AE195,CSVデータ3!AE195,CSVデータ4!AE195)","v":0},{"$f":"SUM(CSVデータ1!AF195,CSVデータ2!AF195,CSVデータ3!AF195,CSVデータ4!AF195)","v":0},{"$f":"SUM(CSVデータ1!AG195,CSVデータ2!AG195,CSVデータ3!AG195,CSVデータ4!AG195)","v":0}]
[{"$f":"CSVデータ1!A196","v":"明細部"},{"$f":"CSVデータ1!B196","v":"県"},{"$f":"CSVデータ1!C196","v":89},{"$f":"CSVデータ1!D196","v":"女"},{"$f":"SUM(CSVデータ1!E196,CSVデータ2!E196,CSVデータ3!E196,CSVデータ4!E196)","v":0},{"$f":"SUM(CSVデータ1!F196,CSVデータ2!F196,CSVデータ3!F196,CSVデータ4!F196)","v":0},{"$f":"SUM(CSVデータ1!G196,CSVデータ2!G196,CSVデータ3!G196,CSVデータ4!G196)","v":0},{"$f":"SUM(CSVデータ1!H196,CSVデータ2!H196,CSVデータ3!H196,CSVデータ4!H196)","v":0},{"$f":"SUM(CSVデータ1!I196,CSVデータ2!I196,CSVデータ3!I196,CSVデータ4!I196)","v":0},{"$f":"SUM(CSVデータ1!J196,CSVデータ2!J196,CSVデータ3!J196,CSVデータ4!J196)","v":0},{"$f":"SUM(CSVデータ1!K196,CSVデータ2!K196,CSVデータ3!K196,CSVデータ4!K196)","v":0},{"$f":"SUM(CSVデータ1!L196,CSVデータ2!L196,CSVデータ3!L196,CSVデータ4!L196)","v":0},{"$f":"SUM(CSVデータ1!M196,CSVデータ2!M196,CSVデータ3!M196,CSVデータ4!M196)","v":0},{"$f":"SUM(CSVデータ1!N196,CSVデータ2!N196,CSVデータ3!N196,CSVデータ4!N196)","v":0},{"$f":"SUM(CSVデータ1!O196,CSVデータ2!O196,CSVデータ3!O196,CSVデータ4!O196)","v":0},{"$f":"SUM(CSVデータ1!P196,CSVデータ2!P196,CSVデータ3!P196,CSVデータ4!P196)","v":0},{"$f":"SUM(CSVデータ1!Q196,CSVデータ2!Q196,CSVデータ3!Q196,CSVデータ4!Q196)","v":0},{"$f":"SUM(CSVデータ1!R196,CSVデータ2!R196,CSVデータ3!R196,CSVデータ4!R196)","v":0},{"$f":"SUM(CSVデータ1!S196,CSVデータ2!S196,CSVデータ3!S196,CSVデータ4!S196)","v":0},{"$f":"SUM(CSVデータ1!T196,CSVデータ2!T196,CSVデータ3!T196,CSVデータ4!T196)","v":0},{"$f":"SUM(CSVデータ1!U196,CSVデータ2!U196,CSVデータ3!U196,CSVデータ4!U196)","v":0},{"$f":"SUM(CSVデータ1!V196,CSVデータ2!V196,CSVデータ3!V196,CSVデータ4!V196)","v":0},{"$f":"SUM(CSVデータ1!W196,CSVデータ2!W196,CSVデータ3!W196,CSVデータ4!W196)","v":0},{"$f":"SUM(CSVデータ1!X196,CSVデータ2!X196,CSVデータ3!X196,CSVデータ4!X196)","v":0},{"$f":"SUM(CSVデータ1!Y196,CSVデータ2!Y196,CSVデータ3!Y196,CSVデータ4!Y196)","v":0},{"$f":"SUM(CSVデータ1!Z196,CSVデータ2!Z196,CSVデータ3!Z196,CSVデータ4!Z196)","v":0},{"$f":"SUM(CSVデータ1!AA196,CSVデータ2!AA196,CSVデータ3!AA196,CSVデータ4!AA196)","v":0},{"$f":"SUM(CSVデータ1!AB196,CSVデータ2!AB196,CSVデータ3!AB196,CSVデータ4!AB196)","v":0},{"$f":"SUM(CSVデータ1!AC196,CSVデータ2!AC196,CSVデータ3!AC196,CSVデータ4!AC196)","v":0},{"$f":"SUM(CSVデータ1!AD196,CSVデータ2!AD196,CSVデータ3!AD196,CSVデータ4!AD196)","v":0},{"$f":"SUM(CSVデータ1!AE196,CSVデータ2!AE196,CSVデータ3!AE196,CSVデータ4!AE196)","v":0},{"$f":"SUM(CSVデータ1!AF196,CSVデータ2!AF196,CSVデータ3!AF196,CSVデータ4!AF196)","v":0},{"$f":"SUM(CSVデータ1!AG196,CSVデータ2!AG196,CSVデータ3!AG196,CSVデータ4!AG196)","v":0}]
[{"$f":"CSVデータ1!A197","v":"明細部"},{"$f":"CSVデータ1!B197","v":"県"},{"$f":"CSVデータ1!C197","v":90},{"$f":"CSVデータ1!D197","v":"女"},{"$f":"SUM(CSVデータ1!E197,CSVデータ2!E197,CSVデータ3!E197,CSVデータ4!E197)","v":0},{"$f":"SUM(CSVデータ1!F197,CSVデータ2!F197,CSVデータ3!F197,CSVデータ4!F197)","v":0},{"$f":"SUM(CSVデータ1!G197,CSVデータ2!G197,CSVデータ3!G197,CSVデータ4!G197)","v":0},{"$f":"SUM(CSVデータ1!H197,CSVデータ2!H197,CSVデータ3!H197,CSVデータ4!H197)","v":0},{"$f":"SUM(CSVデータ1!I197,CSVデータ2!I197,CSVデータ3!I197,CSVデータ4!I197)","v":0},{"$f":"SUM(CSVデータ1!J197,CSVデータ2!J197,CSVデータ3!J197,CSVデータ4!J197)","v":0},{"$f":"SUM(CSVデータ1!K197,CSVデータ2!K197,CSVデータ3!K197,CSVデータ4!K197)","v":0},{"$f":"SUM(CSVデータ1!L197,CSVデータ2!L197,CSVデータ3!L197,CSVデータ4!L197)","v":0},{"$f":"SUM(CSVデータ1!M197,CSVデータ2!M197,CSVデータ3!M197,CSVデータ4!M197)","v":0},{"$f":"SUM(CSVデータ1!N197,CSVデータ2!N197,CSVデータ3!N197,CSVデータ4!N197)","v":0},{"$f":"SUM(CSVデータ1!O197,CSVデータ2!O197,CSVデータ3!O197,CSVデータ4!O197)","v":0},{"$f":"SUM(CSVデータ1!P197,CSVデータ2!P197,CSVデータ3!P197,CSVデータ4!P197)","v":0},{"$f":"SUM(CSVデータ1!Q197,CSVデータ2!Q197,CSVデータ3!Q197,CSVデータ4!Q197)","v":0},{"$f":"SUM(CSVデータ1!R197,CSVデータ2!R197,CSVデータ3!R197,CSVデータ4!R197)","v":0},{"$f":"SUM(CSVデータ1!S197,CSVデータ2!S197,CSVデータ3!S197,CSVデータ4!S197)","v":0},{"$f":"SUM(CSVデータ1!T197,CSVデータ2!T197,CSVデータ3!T197,CSVデータ4!T197)","v":0},{"$f":"SUM(CSVデータ1!U197,CSVデータ2!U197,CSVデータ3!U197,CSVデータ4!U197)","v":0},{"$f":"SUM(CSVデータ1!V197,CSVデータ2!V197,CSVデータ3!V197,CSVデータ4!V197)","v":0},{"$f":"SUM(CSVデータ1!W197,CSVデータ2!W197,CSVデータ3!W197,CSVデータ4!W197)","v":0},{"$f":"SUM(CSVデータ1!X197,CSVデータ2!X197,CSVデータ3!X197,CSVデータ4!X197)","v":0},{"$f":"SUM(CSVデータ1!Y197,CSVデータ2!Y197,CSVデータ3!Y197,CSVデータ4!Y197)","v":0},{"$f":"SUM(CSVデータ1!Z197,CSVデータ2!Z197,CSVデータ3!Z197,CSVデータ4!Z197)","v":0},{"$f":"SUM(CSVデータ1!AA197,CSVデータ2!AA197,CSVデータ3!AA197,CSVデータ4!AA197)","v":0},{"$f":"SUM(CSVデータ1!AB197,CSVデータ2!AB197,CSVデータ3!AB197,CSVデータ4!AB197)","v":0},{"$f":"SUM(CSVデータ1!AC197,CSVデータ2!AC197,CSVデータ3!AC197,CSVデータ4!AC197)","v":0},{"$f":"SUM(CSVデータ1!AD197,CSVデータ2!AD197,CSVデータ3!AD197,CSVデータ4!AD197)","v":0},{"$f":"SUM(CSVデータ1!AE197,CSVデータ2!AE197,CSVデータ3!AE197,CSVデータ4!AE197)","v":0},{"$f":"SUM(CSVデータ1!AF197,CSVデータ2!AF197,CSVデータ3!AF197,CSVデータ4!AF197)","v":0},{"$f":"SUM(CSVデータ1!AG197,CSVデータ2!AG197,CSVデータ3!AG197,CSVデータ4!AG197)","v":0}]
[{"$f":"CSVデータ1!A198","v":"明細部"},{"$f":"CSVデータ1!B198","v":"県"},{"$f":"CSVデータ1!C198","v":91},{"$f":"CSVデータ1!D198","v":"女"},{"$f":"SUM(CSVデータ1!E198,CSVデータ2!E198,CSVデータ3!E198,CSVデータ4!E198)","v":0},{"$f":"SUM(CSVデータ1!F198,CSVデータ2!F198,CSVデータ3!F198,CSVデータ4!F198)","v":0},{"$f":"SUM(CSVデータ1!G198,CSVデータ2!G198,CSVデータ3!G198,CSVデータ4!G198)","v":0},{"$f":"SUM(CSVデータ1!H198,CSVデータ2!H198,CSVデータ3!H198,CSVデータ4!H198)","v":0},{"$f":"SUM(CSVデータ1!I198,CSVデータ2!I198,CSVデータ3!I198,CSVデータ4!I198)","v":0},{"$f":"SUM(CSVデータ1!J198,CSVデータ2!J198,CSVデータ3!J198,CSVデータ4!J198)","v":0},{"$f":"SUM(CSVデータ1!K198,CSVデータ2!K198,CSVデータ3!K198,CSVデータ4!K198)","v":0},{"$f":"SUM(CSVデータ1!L198,CSVデータ2!L198,CSVデータ3!L198,CSVデータ4!L198)","v":0},{"$f":"SUM(CSVデータ1!M198,CSVデータ2!M198,CSVデータ3!M198,CSVデータ4!M198)","v":0},{"$f":"SUM(CSVデータ1!N198,CSVデータ2!N198,CSVデータ3!N198,CSVデータ4!N198)","v":0},{"$f":"SUM(CSVデータ1!O198,CSVデータ2!O198,CSVデータ3!O198,CSVデータ4!O198)","v":0},{"$f":"SUM(CSVデータ1!P198,CSVデータ2!P198,CSVデータ3!P198,CSVデータ4!P198)","v":0},{"$f":"SUM(CSVデータ1!Q198,CSVデータ2!Q198,CSVデータ3!Q198,CSVデータ4!Q198)","v":0},{"$f":"SUM(CSVデータ1!R198,CSVデータ2!R198,CSVデータ3!R198,CSVデータ4!R198)","v":0},{"$f":"SUM(CSVデータ1!S198,CSVデータ2!S198,CSVデータ3!S198,CSVデータ4!S198)","v":0},{"$f":"SUM(CSVデータ1!T198,CSVデータ2!T198,CSVデータ3!T198,CSVデータ4!T198)","v":0},{"$f":"SUM(CSVデータ1!U198,CSVデータ2!U198,CSVデータ3!U198,CSVデータ4!U198)","v":0},{"$f":"SUM(CSVデータ1!V198,CSVデータ2!V198,CSVデータ3!V198,CSVデータ4!V198)","v":0},{"$f":"SUM(CSVデータ1!W198,CSVデータ2!W198,CSVデータ3!W198,CSVデータ4!W198)","v":0},{"$f":"SUM(CSVデータ1!X198,CSVデータ2!X198,CSVデータ3!X198,CSVデータ4!X198)","v":0},{"$f":"SUM(CSVデータ1!Y198,CSVデータ2!Y198,CSVデータ3!Y198,CSVデータ4!Y198)","v":0},{"$f":"SUM(CSVデータ1!Z198,CSVデータ2!Z198,CSVデータ3!Z198,CSVデータ4!Z198)","v":0},{"$f":"SUM(CSVデータ1!AA198,CSVデータ2!AA198,CSVデータ3!AA198,CSVデータ4!AA198)","v":0},{"$f":"SUM(CSVデータ1!AB198,CSVデータ2!AB198,CSVデータ3!AB198,CSVデータ4!AB198)","v":0},{"$f":"SUM(CSVデータ1!AC198,CSVデータ2!AC198,CSVデータ3!AC198,CSVデータ4!AC198)","v":0},{"$f":"SUM(CSVデータ1!AD198,CSVデータ2!AD198,CSVデータ3!AD198,CSVデータ4!AD198)","v":0},{"$f":"SUM(CSVデータ1!AE198,CSVデータ2!AE198,CSVデータ3!AE198,CSVデータ4!AE198)","v":0},{"$f":"SUM(CSVデータ1!AF198,CSVデータ2!AF198,CSVデータ3!AF198,CSVデータ4!AF198)","v":0},{"$f":"SUM(CSVデータ1!AG198,CSVデータ2!AG198,CSVデータ3!AG198,CSVデータ4!AG198)","v":0}]
[{"$f":"CSVデータ1!A199","v":"明細部"},{"$f":"CSVデータ1!B199","v":"県"},{"$f":"CSVデータ1!C199","v":92},{"$f":"CSVデータ1!D199","v":"女"},{"$f":"SUM(CSVデータ1!E199,CSVデータ2!E199,CSVデータ3!E199,CSVデータ4!E199)","v":0},{"$f":"SUM(CSVデータ1!F199,CSVデータ2!F199,CSVデータ3!F199,CSVデータ4!F199)","v":0},{"$f":"SUM(CSVデータ1!G199,CSVデータ2!G199,CSVデータ3!G199,CSVデータ4!G199)","v":0},{"$f":"SUM(CSVデータ1!H199,CSVデータ2!H199,CSVデータ3!H199,CSVデータ4!H199)","v":0},{"$f":"SUM(CSVデータ1!I199,CSVデータ2!I199,CSVデータ3!I199,CSVデータ4!I199)","v":0},{"$f":"SUM(CSVデータ1!J199,CSVデータ2!J199,CSVデータ3!J199,CSVデータ4!J199)","v":0},{"$f":"SUM(CSVデータ1!K199,CSVデータ2!K199,CSVデータ3!K199,CSVデータ4!K199)","v":0},{"$f":"SUM(CSVデータ1!L199,CSVデータ2!L199,CSVデータ3!L199,CSVデータ4!L199)","v":0},{"$f":"SUM(CSVデータ1!M199,CSVデータ2!M199,CSVデータ3!M199,CSVデータ4!M199)","v":0},{"$f":"SUM(CSVデータ1!N199,CSVデータ2!N199,CSVデータ3!N199,CSVデータ4!N199)","v":0},{"$f":"SUM(CSVデータ1!O199,CSVデータ2!O199,CSVデータ3!O199,CSVデータ4!O199)","v":0},{"$f":"SUM(CSVデータ1!P199,CSVデータ2!P199,CSVデータ3!P199,CSVデータ4!P199)","v":0},{"$f":"SUM(CSVデータ1!Q199,CSVデータ2!Q199,CSVデータ3!Q199,CSVデータ4!Q199)","v":0},{"$f":"SUM(CSVデータ1!R199,CSVデータ2!R199,CSVデータ3!R199,CSVデータ4!R199)","v":0},{"$f":"SUM(CSVデータ1!S199,CSVデータ2!S199,CSVデータ3!S199,CSVデータ4!S199)","v":0},{"$f":"SUM(CSVデータ1!T199,CSVデータ2!T199,CSVデータ3!T199,CSVデータ4!T199)","v":0},{"$f":"SUM(CSVデータ1!U199,CSVデータ2!U199,CSVデータ3!U199,CSVデータ4!U199)","v":0},{"$f":"SUM(CSVデータ1!V199,CSVデータ2!V199,CSVデータ3!V199,CSVデータ4!V199)","v":0},{"$f":"SUM(CSVデータ1!W199,CSVデータ2!W199,CSVデータ3!W199,CSVデータ4!W199)","v":0},{"$f":"SUM(CSVデータ1!X199,CSVデータ2!X199,CSVデータ3!X199,CSVデータ4!X199)","v":0},{"$f":"SUM(CSVデータ1!Y199,CSVデータ2!Y199,CSVデータ3!Y199,CSVデータ4!Y199)","v":0},{"$f":"SUM(CSVデータ1!Z199,CSVデータ2!Z199,CSVデータ3!Z199,CSVデータ4!Z199)","v":0},{"$f":"SUM(CSVデータ1!AA199,CSVデータ2!AA199,CSVデータ3!AA199,CSVデータ4!AA199)","v":0},{"$f":"SUM(CSVデータ1!AB199,CSVデータ2!AB199,CSVデータ3!AB199,CSVデータ4!AB199)","v":0},{"$f":"SUM(CSVデータ1!AC199,CSVデータ2!AC199,CSVデータ3!AC199,CSVデータ4!AC199)","v":0},{"$f":"SUM(CSVデータ1!AD199,CSVデータ2!AD199,CSVデータ3!AD199,CSVデータ4!AD199)","v":0},{"$f":"SUM(CSVデータ1!AE199,CSVデータ2!AE199,CSVデータ3!AE199,CSVデータ4!AE199)","v":0},{"$f":"SUM(CSVデータ1!AF199,CSVデータ2!AF199,CSVデータ3!AF199,CSVデータ4!AF199)","v":0},{"$f":"SUM(CSVデータ1!AG199,CSVデータ2!AG199,CSVデータ3!AG199,CSVデータ4!AG199)","v":0}]
[{"$f":"CSVデータ1!A200","v":"明細部"},{"$f":"CSVデータ1!B200","v":"県"},{"$f":"CSVデータ1!C200","v":93},{"$f":"CSVデータ1!D200","v":"女"},{"$f":"SUM(CSVデータ1!E200,CSVデータ2!E200,CSVデータ3!E200,CSVデータ4!E200)","v":0},{"$f":"SUM(CSVデータ1!F200,CSVデータ2!F200,CSVデータ3!F200,CSVデータ4!F200)","v":0},{"$f":"SUM(CSVデータ1!G200,CSVデータ2!G200,CSVデータ3!G200,CSVデータ4!G200)","v":0},{"$f":"SUM(CSVデータ1!H200,CSVデータ2!H200,CSVデータ3!H200,CSVデータ4!H200)","v":0},{"$f":"SUM(CSVデータ1!I200,CSVデータ2!I200,CSVデータ3!I200,CSVデータ4!I200)","v":0},{"$f":"SUM(CSVデータ1!J200,CSVデータ2!J200,CSVデータ3!J200,CSVデータ4!J200)","v":0},{"$f":"SUM(CSVデータ1!K200,CSVデータ2!K200,CSVデータ3!K200,CSVデータ4!K200)","v":0},{"$f":"SUM(CSVデータ1!L200,CSVデータ2!L200,CSVデータ3!L200,CSVデータ4!L200)","v":0},{"$f":"SUM(CSVデータ1!M200,CSVデータ2!M200,CSVデータ3!M200,CSVデータ4!M200)","v":0},{"$f":"SUM(CSVデータ1!N200,CSVデータ2!N200,CSVデータ3!N200,CSVデータ4!N200)","v":0},{"$f":"SUM(CSVデータ1!O200,CSVデータ2!O200,CSVデータ3!O200,CSVデータ4!O200)","v":0},{"$f":"SUM(CSVデータ1!P200,CSVデータ2!P200,CSVデータ3!P200,CSVデータ4!P200)","v":0},{"$f":"SUM(CSVデータ1!Q200,CSVデータ2!Q200,CSVデータ3!Q200,CSVデータ4!Q200)","v":0},{"$f":"SUM(CSVデータ1!R200,CSVデータ2!R200,CSVデータ3!R200,CSVデータ4!R200)","v":0},{"$f":"SUM(CSVデータ1!S200,CSVデータ2!S200,CSVデータ3!S200,CSVデータ4!S200)","v":0},{"$f":"SUM(CSVデータ1!T200,CSVデータ2!T200,CSVデータ3!T200,CSVデータ4!T200)","v":0},{"$f":"SUM(CSVデータ1!U200,CSVデータ2!U200,CSVデータ3!U200,CSVデータ4!U200)","v":0},{"$f":"SUM(CSVデータ1!V200,CSVデータ2!V200,CSVデータ3!V200,CSVデータ4!V200)","v":0},{"$f":"SUM(CSVデータ1!W200,CSVデータ2!W200,CSVデータ3!W200,CSVデータ4!W200)","v":0},{"$f":"SUM(CSVデータ1!X200,CSVデータ2!X200,CSVデータ3!X200,CSVデータ4!X200)","v":0},{"$f":"SUM(CSVデータ1!Y200,CSVデータ2!Y200,CSVデータ3!Y200,CSVデータ4!Y200)","v":0},{"$f":"SUM(CSVデータ1!Z200,CSVデータ2!Z200,CSVデータ3!Z200,CSVデータ4!Z200)","v":0},{"$f":"SUM(CSVデータ1!AA200,CSVデータ2!AA200,CSVデータ3!AA200,CSVデータ4!AA200)","v":0},{"$f":"SUM(CSVデータ1!AB200,CSVデータ2!AB200,CSVデータ3!AB200,CSVデータ4!AB200)","v":0},{"$f":"SUM(CSVデータ1!AC200,CSVデータ2!AC200,CSVデータ3!AC200,CSVデータ4!AC200)","v":0},{"$f":"SUM(CSVデータ1!AD200,CSVデータ2!AD200,CSVデータ3!AD200,CSVデータ4!AD200)","v":0},{"$f":"SUM(CSVデータ1!AE200,CSVデータ2!AE200,CSVデータ3!AE200,CSVデータ4!AE200)","v":0},{"$f":"SUM(CSVデータ1!AF200,CSVデータ2!AF200,CSVデータ3!AF200,CSVデータ4!AF200)","v":0},{"$f":"SUM(CSVデータ1!AG200,CSVデータ2!AG200,CSVデータ3!AG200,CSVデータ4!AG200)","v":0}]
[{"$f":"CSVデータ1!A201","v":"明細部"},{"$f":"CSVデータ1!B201","v":"県"},{"$f":"CSVデータ1!C201","v":94},{"$f":"CSVデータ1!D201","v":"女"},{"$f":"SUM(CSVデータ1!E201,CSVデータ2!E201,CSVデータ3!E201,CSVデータ4!E201)","v":0},{"$f":"SUM(CSVデータ1!F201,CSVデータ2!F201,CSVデータ3!F201,CSVデータ4!F201)","v":0},{"$f":"SUM(CSVデータ1!G201,CSVデータ2!G201,CSVデータ3!G201,CSVデータ4!G201)","v":0},{"$f":"SUM(CSVデータ1!H201,CSVデータ2!H201,CSVデータ3!H201,CSVデータ4!H201)","v":0},{"$f":"SUM(CSVデータ1!I201,CSVデータ2!I201,CSVデータ3!I201,CSVデータ4!I201)","v":0},{"$f":"SUM(CSVデータ1!J201,CSVデータ2!J201,CSVデータ3!J201,CSVデータ4!J201)","v":0},{"$f":"SUM(CSVデータ1!K201,CSVデータ2!K201,CSVデータ3!K201,CSVデータ4!K201)","v":0},{"$f":"SUM(CSVデータ1!L201,CSVデータ2!L201,CSVデータ3!L201,CSVデータ4!L201)","v":0},{"$f":"SUM(CSVデータ1!M201,CSVデータ2!M201,CSVデータ3!M201,CSVデータ4!M201)","v":0},{"$f":"SUM(CSVデータ1!N201,CSVデータ2!N201,CSVデータ3!N201,CSVデータ4!N201)","v":0},{"$f":"SUM(CSVデータ1!O201,CSVデータ2!O201,CSVデータ3!O201,CSVデータ4!O201)","v":0},{"$f":"SUM(CSVデータ1!P201,CSVデータ2!P201,CSVデータ3!P201,CSVデータ4!P201)","v":0},{"$f":"SUM(CSVデータ1!Q201,CSVデータ2!Q201,CSVデータ3!Q201,CSVデータ4!Q201)","v":0},{"$f":"SUM(CSVデータ1!R201,CSVデータ2!R201,CSVデータ3!R201,CSVデータ4!R201)","v":0},{"$f":"SUM(CSVデータ1!S201,CSVデータ2!S201,CSVデータ3!S201,CSVデータ4!S201)","v":0},{"$f":"SUM(CSVデータ1!T201,CSVデータ2!T201,CSVデータ3!T201,CSVデータ4!T201)","v":0},{"$f":"SUM(CSVデータ1!U201,CSVデータ2!U201,CSVデータ3!U201,CSVデータ4!U201)","v":0},{"$f":"SUM(CSVデータ1!V201,CSVデータ2!V201,CSVデータ3!V201,CSVデータ4!V201)","v":0},{"$f":"SUM(CSVデータ1!W201,CSVデータ2!W201,CSVデータ3!W201,CSVデータ4!W201)","v":0},{"$f":"SUM(CSVデータ1!X201,CSVデータ2!X201,CSVデータ3!X201,CSVデータ4!X201)","v":0},{"$f":"SUM(CSVデータ1!Y201,CSVデータ2!Y201,CSVデータ3!Y201,CSVデータ4!Y201)","v":0},{"$f":"SUM(CSVデータ1!Z201,CSVデータ2!Z201,CSVデータ3!Z201,CSVデータ4!Z201)","v":0},{"$f":"SUM(CSVデータ1!AA201,CSVデータ2!AA201,CSVデータ3!AA201,CSVデータ4!AA201)","v":0},{"$f":"SUM(CSVデータ1!AB201,CSVデータ2!AB201,CSVデータ3!AB201,CSVデータ4!AB201)","v":0},{"$f":"SUM(CSVデータ1!AC201,CSVデータ2!AC201,CSVデータ3!AC201,CSVデータ4!AC201)","v":0},{"$f":"SUM(CSVデータ1!AD201,CSVデータ2!AD201,CSVデータ3!AD201,CSVデータ4!AD201)","v":0},{"$f":"SUM(CSVデータ1!AE201,CSVデータ2!AE201,CSVデータ3!AE201,CSVデータ4!AE201)","v":0},{"$f":"SUM(CSVデータ1!AF201,CSVデータ2!AF201,CSVデータ3!AF201,CSVデータ4!AF201)","v":0},{"$f":"SUM(CSVデータ1!AG201,CSVデータ2!AG201,CSVデータ3!AG201,CSVデータ4!AG201)","v":0}]
[{"$f":"CSVデータ1!A202","v":"明細部"},{"$f":"CSVデータ1!B202","v":"県"},{"$f":"CSVデータ1!C202","v":95},{"$f":"CSVデータ1!D202","v":"女"},{"$f":"SUM(CSVデータ1!E202,CSVデータ2!E202,CSVデータ3!E202,CSVデータ4!E202)","v":0},{"$f":"SUM(CSVデータ1!F202,CSVデータ2!F202,CSVデータ3!F202,CSVデータ4!F202)","v":0},{"$f":"SUM(CSVデータ1!G202,CSVデータ2!G202,CSVデータ3!G202,CSVデータ4!G202)","v":0},{"$f":"SUM(CSVデータ1!H202,CSVデータ2!H202,CSVデータ3!H202,CSVデータ4!H202)","v":0},{"$f":"SUM(CSVデータ1!I202,CSVデータ2!I202,CSVデータ3!I202,CSVデータ4!I202)","v":0},{"$f":"SUM(CSVデータ1!J202,CSVデータ2!J202,CSVデータ3!J202,CSVデータ4!J202)","v":0},{"$f":"SUM(CSVデータ1!K202,CSVデータ2!K202,CSVデータ3!K202,CSVデータ4!K202)","v":0},{"$f":"SUM(CSVデータ1!L202,CSVデータ2!L202,CSVデータ3!L202,CSVデータ4!L202)","v":0},{"$f":"SUM(CSVデータ1!M202,CSVデータ2!M202,CSVデータ3!M202,CSVデータ4!M202)","v":0},{"$f":"SUM(CSVデータ1!N202,CSVデータ2!N202,CSVデータ3!N202,CSVデータ4!N202)","v":0},{"$f":"SUM(CSVデータ1!O202,CSVデータ2!O202,CSVデータ3!O202,CSVデータ4!O202)","v":0},{"$f":"SUM(CSVデータ1!P202,CSVデータ2!P202,CSVデータ3!P202,CSVデータ4!P202)","v":0},{"$f":"SUM(CSVデータ1!Q202,CSVデータ2!Q202,CSVデータ3!Q202,CSVデータ4!Q202)","v":0},{"$f":"SUM(CSVデータ1!R202,CSVデータ2!R202,CSVデータ3!R202,CSVデータ4!R202)","v":0},{"$f":"SUM(CSVデータ1!S202,CSVデータ2!S202,CSVデータ3!S202,CSVデータ4!S202)","v":0},{"$f":"SUM(CSVデータ1!T202,CSVデータ2!T202,CSVデータ3!T202,CSVデータ4!T202)","v":0},{"$f":"SUM(CSVデータ1!U202,CSVデータ2!U202,CSVデータ3!U202,CSVデータ4!U202)","v":0},{"$f":"SUM(CSVデータ1!V202,CSVデータ2!V202,CSVデータ3!V202,CSVデータ4!V202)","v":0},{"$f":"SUM(CSVデータ1!W202,CSVデータ2!W202,CSVデータ3!W202,CSVデータ4!W202)","v":0},{"$f":"SUM(CSVデータ1!X202,CSVデータ2!X202,CSVデータ3!X202,CSVデータ4!X202)","v":0},{"$f":"SUM(CSVデータ1!Y202,CSVデータ2!Y202,CSVデータ3!Y202,CSVデータ4!Y202)","v":0},{"$f":"SUM(CSVデータ1!Z202,CSVデータ2!Z202,CSVデータ3!Z202,CSVデータ4!Z202)","v":0},{"$f":"SUM(CSVデータ1!AA202,CSVデータ2!AA202,CSVデータ3!AA202,CSVデータ4!AA202)","v":0},{"$f":"SUM(CSVデータ1!AB202,CSVデータ2!AB202,CSVデータ3!AB202,CSVデータ4!AB202)","v":0},{"$f":"SUM(CSVデータ1!AC202,CSVデータ2!AC202,CSVデータ3!AC202,CSVデータ4!AC202)","v":0},{"$f":"SUM(CSVデータ1!AD202,CSVデータ2!AD202,CSVデータ3!AD202,CSVデータ4!AD202)","v":0},{"$f":"SUM(CSVデータ1!AE202,CSVデータ2!AE202,CSVデータ3!AE202,CSVデータ4!AE202)","v":0},{"$f":"SUM(CSVデータ1!AF202,CSVデータ2!AF202,CSVデータ3!AF202,CSVデータ4!AF202)","v":0},{"$f":"SUM(CSVデータ1!AG202,CSVデータ2!AG202,CSVデータ3!AG202,CSVデータ4!AG202)","v":0}]
[{"$f":"CSVデータ1!A203","v":"明細部"},{"$f":"CSVデータ1!B203","v":"県"},{"$f":"CSVデータ1!C203","v":96},{"$f":"CSVデータ1!D203","v":"女"},{"$f":"SUM(CSVデータ1!E203,CSVデータ2!E203,CSVデータ3!E203,CSVデータ4!E203)","v":0},{"$f":"SUM(CSVデータ1!F203,CSVデータ2!F203,CSVデータ3!F203,CSVデータ4!F203)","v":0},{"$f":"SUM(CSVデータ1!G203,CSVデータ2!G203,CSVデータ3!G203,CSVデータ4!G203)","v":0},{"$f":"SUM(CSVデータ1!H203,CSVデータ2!H203,CSVデータ3!H203,CSVデータ4!H203)","v":0},{"$f":"SUM(CSVデータ1!I203,CSVデータ2!I203,CSVデータ3!I203,CSVデータ4!I203)","v":0},{"$f":"SUM(CSVデータ1!J203,CSVデータ2!J203,CSVデータ3!J203,CSVデータ4!J203)","v":0},{"$f":"SUM(CSVデータ1!K203,CSVデータ2!K203,CSVデータ3!K203,CSVデータ4!K203)","v":0},{"$f":"SUM(CSVデータ1!L203,CSVデータ2!L203,CSVデータ3!L203,CSVデータ4!L203)","v":0},{"$f":"SUM(CSVデータ1!M203,CSVデータ2!M203,CSVデータ3!M203,CSVデータ4!M203)","v":0},{"$f":"SUM(CSVデータ1!N203,CSVデータ2!N203,CSVデータ3!N203,CSVデータ4!N203)","v":0},{"$f":"SUM(CSVデータ1!O203,CSVデータ2!O203,CSVデータ3!O203,CSVデータ4!O203)","v":0},{"$f":"SUM(CSVデータ1!P203,CSVデータ2!P203,CSVデータ3!P203,CSVデータ4!P203)","v":0},{"$f":"SUM(CSVデータ1!Q203,CSVデータ2!Q203,CSVデータ3!Q203,CSVデータ4!Q203)","v":0},{"$f":"SUM(CSVデータ1!R203,CSVデータ2!R203,CSVデータ3!R203,CSVデータ4!R203)","v":0},{"$f":"SUM(CSVデータ1!S203,CSVデータ2!S203,CSVデータ3!S203,CSVデータ4!S203)","v":0},{"$f":"SUM(CSVデータ1!T203,CSVデータ2!T203,CSVデータ3!T203,CSVデータ4!T203)","v":0},{"$f":"SUM(CSVデータ1!U203,CSVデータ2!U203,CSVデータ3!U203,CSVデータ4!U203)","v":0},{"$f":"SUM(CSVデータ1!V203,CSVデータ2!V203,CSVデータ3!V203,CSVデータ4!V203)","v":0},{"$f":"SUM(CSVデータ1!W203,CSVデータ2!W203,CSVデータ3!W203,CSVデータ4!W203)","v":0},{"$f":"SUM(CSVデータ1!X203,CSVデータ2!X203,CSVデータ3!X203,CSVデータ4!X203)","v":0},{"$f":"SUM(CSVデータ1!Y203,CSVデータ2!Y203,CSVデータ3!Y203,CSVデータ4!Y203)","v":0},{"$f":"SUM(CSVデータ1!Z203,CSVデータ2!Z203,CSVデータ3!Z203,CSVデータ4!Z203)","v":0},{"$f":"SUM(CSVデータ1!AA203,CSVデータ2!AA203,CSVデータ3!AA203,CSVデータ4!AA203)","v":0},{"$f":"SUM(CSVデータ1!AB203,CSVデータ2!AB203,CSVデータ3!AB203,CSVデータ4!AB203)","v":0},{"$f":"SUM(CSVデータ1!AC203,CSVデータ2!AC203,CSVデータ3!AC203,CSVデータ4!AC203)","v":0},{"$f":"SUM(CSVデータ1!AD203,CSVデータ2!AD203,CSVデータ3!AD203,CSVデータ4!AD203)","v":0},{"$f":"SUM(CSVデータ1!AE203,CSVデータ2!AE203,CSVデータ3!AE203,CSVデータ4!AE203)","v":0},{"$f":"SUM(CSVデータ1!AF203,CSVデータ2!AF203,CSVデータ3!AF203,CSVデータ4!AF203)","v":0},{"$f":"SUM(CSVデータ1!AG203,CSVデータ2!AG203,CSVデータ3!AG203,CSVデータ4!AG203)","v":0}]
[{"$f":"CSVデータ1!A204","v":"明細部"},{"$f":"CSVデータ1!B204","v":"県"},{"$f":"CSVデータ1!C204","v":97},{"$f":"CSVデータ1!D204","v":"女"},{"$f":"SUM(CSVデータ1!E204,CSVデータ2!E204,CSVデータ3!E204,CSVデータ4!E204)","v":0},{"$f":"SUM(CSVデータ1!F204,CSVデータ2!F204,CSVデータ3!F204,CSVデータ4!F204)","v":0},{"$f":"SUM(CSVデータ1!G204,CSVデータ2!G204,CSVデータ3!G204,CSVデータ4!G204)","v":0},{"$f":"SUM(CSVデータ1!H204,CSVデータ2!H204,CSVデータ3!H204,CSVデータ4!H204)","v":0},{"$f":"SUM(CSVデータ1!I204,CSVデータ2!I204,CSVデータ3!I204,CSVデータ4!I204)","v":0},{"$f":"SUM(CSVデータ1!J204,CSVデータ2!J204,CSVデータ3!J204,CSVデータ4!J204)","v":0},{"$f":"SUM(CSVデータ1!K204,CSVデータ2!K204,CSVデータ3!K204,CSVデータ4!K204)","v":0},{"$f":"SUM(CSVデータ1!L204,CSVデータ2!L204,CSVデータ3!L204,CSVデータ4!L204)","v":0},{"$f":"SUM(CSVデータ1!M204,CSVデータ2!M204,CSVデータ3!M204,CSVデータ4!M204)","v":0},{"$f":"SUM(CSVデータ1!N204,CSVデータ2!N204,CSVデータ3!N204,CSVデータ4!N204)","v":0},{"$f":"SUM(CSVデータ1!O204,CSVデータ2!O204,CSVデータ3!O204,CSVデータ4!O204)","v":0},{"$f":"SUM(CSVデータ1!P204,CSVデータ2!P204,CSVデータ3!P204,CSVデータ4!P204)","v":0},{"$f":"SUM(CSVデータ1!Q204,CSVデータ2!Q204,CSVデータ3!Q204,CSVデータ4!Q204)","v":0},{"$f":"SUM(CSVデータ1!R204,CSVデータ2!R204,CSVデータ3!R204,CSVデータ4!R204)","v":0},{"$f":"SUM(CSVデータ1!S204,CSVデータ2!S204,CSVデータ3!S204,CSVデータ4!S204)","v":0},{"$f":"SUM(CSVデータ1!T204,CSVデータ2!T204,CSVデータ3!T204,CSVデータ4!T204)","v":0},{"$f":"SUM(CSVデータ1!U204,CSVデータ2!U204,CSVデータ3!U204,CSVデータ4!U204)","v":0},{"$f":"SUM(CSVデータ1!V204,CSVデータ2!V204,CSVデータ3!V204,CSVデータ4!V204)","v":0},{"$f":"SUM(CSVデータ1!W204,CSVデータ2!W204,CSVデータ3!W204,CSVデータ4!W204)","v":0},{"$f":"SUM(CSVデータ1!X204,CSVデータ2!X204,CSVデータ3!X204,CSVデータ4!X204)","v":0},{"$f":"SUM(CSVデータ1!Y204,CSVデータ2!Y204,CSVデータ3!Y204,CSVデータ4!Y204)","v":0},{"$f":"SUM(CSVデータ1!Z204,CSVデータ2!Z204,CSVデータ3!Z204,CSVデータ4!Z204)","v":0},{"$f":"SUM(CSVデータ1!AA204,CSVデータ2!AA204,CSVデータ3!AA204,CSVデータ4!AA204)","v":0},{"$f":"SUM(CSVデータ1!AB204,CSVデータ2!AB204,CSVデータ3!AB204,CSVデータ4!AB204)","v":0},{"$f":"SUM(CSVデータ1!AC204,CSVデータ2!AC204,CSVデータ3!AC204,CSVデータ4!AC204)","v":0},{"$f":"SUM(CSVデータ1!AD204,CSVデータ2!AD204,CSVデータ3!AD204,CSVデータ4!AD204)","v":0},{"$f":"SUM(CSVデータ1!AE204,CSVデータ2!AE204,CSVデータ3!AE204,CSVデータ4!AE204)","v":0},{"$f":"SUM(CSVデータ1!AF204,CSVデータ2!AF204,CSVデータ3!AF204,CSVデータ4!AF204)","v":0},{"$f":"SUM(CSVデータ1!AG204,CSVデータ2!AG204,CSVデータ3!AG204,CSVデータ4!AG204)","v":0}]
[{"$f":"CSVデータ1!A205","v":"明細部"},{"$f":"CSVデータ1!B205","v":"県"},{"$f":"CSVデータ1!C205","v":98},{"$f":"CSVデータ1!D205","v":"女"},{"$f":"SUM(CSVデータ1!E205,CSVデータ2!E205,CSVデータ3!E205,CSVデータ4!E205)","v":0},{"$f":"SUM(CSVデータ1!F205,CSVデータ2!F205,CSVデータ3!F205,CSVデータ4!F205)","v":0},{"$f":"SUM(CSVデータ1!G205,CSVデータ2!G205,CSVデータ3!G205,CSVデータ4!G205)","v":0},{"$f":"SUM(CSVデータ1!H205,CSVデータ2!H205,CSVデータ3!H205,CSVデータ4!H205)","v":0},{"$f":"SUM(CSVデータ1!I205,CSVデータ2!I205,CSVデータ3!I205,CSVデータ4!I205)","v":0},{"$f":"SUM(CSVデータ1!J205,CSVデータ2!J205,CSVデータ3!J205,CSVデータ4!J205)","v":0},{"$f":"SUM(CSVデータ1!K205,CSVデータ2!K205,CSVデータ3!K205,CSVデータ4!K205)","v":0},{"$f":"SUM(CSVデータ1!L205,CSVデータ2!L205,CSVデータ3!L205,CSVデータ4!L205)","v":0},{"$f":"SUM(CSVデータ1!M205,CSVデータ2!M205,CSVデータ3!M205,CSVデータ4!M205)","v":0},{"$f":"SUM(CSVデータ1!N205,CSVデータ2!N205,CSVデータ3!N205,CSVデータ4!N205)","v":0},{"$f":"SUM(CSVデータ1!O205,CSVデータ2!O205,CSVデータ3!O205,CSVデータ4!O205)","v":0},{"$f":"SUM(CSVデータ1!P205,CSVデータ2!P205,CSVデータ3!P205,CSVデータ4!P205)","v":0},{"$f":"SUM(CSVデータ1!Q205,CSVデータ2!Q205,CSVデータ3!Q205,CSVデータ4!Q205)","v":0},{"$f":"SUM(CSVデータ1!R205,CSVデータ2!R205,CSVデータ3!R205,CSVデータ4!R205)","v":0},{"$f":"SUM(CSVデータ1!S205,CSVデータ2!S205,CSVデータ3!S205,CSVデータ4!S205)","v":0},{"$f":"SUM(CSVデータ1!T205,CSVデータ2!T205,CSVデータ3!T205,CSVデータ4!T205)","v":0},{"$f":"SUM(CSVデータ1!U205,CSVデータ2!U205,CSVデータ3!U205,CSVデータ4!U205)","v":0},{"$f":"SUM(CSVデータ1!V205,CSVデータ2!V205,CSVデータ3!V205,CSVデータ4!V205)","v":0},{"$f":"SUM(CSVデータ1!W205,CSVデータ2!W205,CSVデータ3!W205,CSVデータ4!W205)","v":0},{"$f":"SUM(CSVデータ1!X205,CSVデータ2!X205,CSVデータ3!X205,CSVデータ4!X205)","v":0},{"$f":"SUM(CSVデータ1!Y205,CSVデータ2!Y205,CSVデータ3!Y205,CSVデータ4!Y205)","v":0},{"$f":"SUM(CSVデータ1!Z205,CSVデータ2!Z205,CSVデータ3!Z205,CSVデータ4!Z205)","v":0},{"$f":"SUM(CSVデータ1!AA205,CSVデータ2!AA205,CSVデータ3!AA205,CSVデータ4!AA205)","v":0},{"$f":"SUM(CSVデータ1!AB205,CSVデータ2!AB205,CSVデータ3!AB205,CSVデータ4!AB205)","v":0},{"$f":"SUM(CSVデータ1!AC205,CSVデータ2!AC205,CSVデータ3!AC205,CSVデータ4!AC205)","v":0},{"$f":"SUM(CSVデータ1!AD205,CSVデータ2!AD205,CSVデータ3!AD205,CSVデータ4!AD205)","v":0},{"$f":"SUM(CSVデータ1!AE205,CSVデータ2!AE205,CSVデータ3!AE205,CSVデータ4!AE205)","v":0},{"$f":"SUM(CSVデータ1!AF205,CSVデータ2!AF205,CSVデータ3!AF205,CSVデータ4!AF205)","v":0},{"$f":"SUM(CSVデータ1!AG205,CSVデータ2!AG205,CSVデータ3!AG205,CSVデータ4!AG205)","v":0}]
[{"$f":"CSVデータ1!A206","v":"明細部"},{"$f":"CSVデータ1!B206","v":"県"},{"$f":"CSVデータ1!C206","v":99},{"$f":"CSVデータ1!D206","v":"女"},{"$f":"SUM(CSVデータ1!E206,CSVデータ2!E206,CSVデータ3!E206,CSVデータ4!E206)","v":0},{"$f":"SUM(CSVデータ1!F206,CSVデータ2!F206,CSVデータ3!F206,CSVデータ4!F206)","v":0},{"$f":"SUM(CSVデータ1!G206,CSVデータ2!G206,CSVデータ3!G206,CSVデータ4!G206)","v":0},{"$f":"SUM(CSVデータ1!H206,CSVデータ2!H206,CSVデータ3!H206,CSVデータ4!H206)","v":0},{"$f":"SUM(CSVデータ1!I206,CSVデータ2!I206,CSVデータ3!I206,CSVデータ4!I206)","v":0},{"$f":"SUM(CSVデータ1!J206,CSVデータ2!J206,CSVデータ3!J206,CSVデータ4!J206)","v":0},{"$f":"SUM(CSVデータ1!K206,CSVデータ2!K206,CSVデータ3!K206,CSVデータ4!K206)","v":0},{"$f":"SUM(CSVデータ1!L206,CSVデータ2!L206,CSVデータ3!L206,CSVデータ4!L206)","v":0},{"$f":"SUM(CSVデータ1!M206,CSVデータ2!M206,CSVデータ3!M206,CSVデータ4!M206)","v":0},{"$f":"SUM(CSVデータ1!N206,CSVデータ2!N206,CSVデータ3!N206,CSVデータ4!N206)","v":0},{"$f":"SUM(CSVデータ1!O206,CSVデータ2!O206,CSVデータ3!O206,CSVデータ4!O206)","v":0},{"$f":"SUM(CSVデータ1!P206,CSVデータ2!P206,CSVデータ3!P206,CSVデータ4!P206)","v":0},{"$f":"SUM(CSVデータ1!Q206,CSVデータ2!Q206,CSVデータ3!Q206,CSVデータ4!Q206)","v":0},{"$f":"SUM(CSVデータ1!R206,CSVデータ2!R206,CSVデータ3!R206,CSVデータ4!R206)","v":0},{"$f":"SUM(CSVデータ1!S206,CSVデータ2!S206,CSVデータ3!S206,CSVデータ4!S206)","v":0},{"$f":"SUM(CSVデータ1!T206,CSVデータ2!T206,CSVデータ3!T206,CSVデータ4!T206)","v":0},{"$f":"SUM(CSVデータ1!U206,CSVデータ2!U206,CSVデータ3!U206,CSVデータ4!U206)","v":0},{"$f":"SUM(CSVデータ1!V206,CSVデータ2!V206,CSVデータ3!V206,CSVデータ4!V206)","v":0},{"$f":"SUM(CSVデータ1!W206,CSVデータ2!W206,CSVデータ3!W206,CSVデータ4!W206)","v":0},{"$f":"SUM(CSVデータ1!X206,CSVデータ2!X206,CSVデータ3!X206,CSVデータ4!X206)","v":0},{"$f":"SUM(CSVデータ1!Y206,CSVデータ2!Y206,CSVデータ3!Y206,CSVデータ4!Y206)","v":0},{"$f":"SUM(CSVデータ1!Z206,CSVデータ2!Z206,CSVデータ3!Z206,CSVデータ4!Z206)","v":0},{"$f":"SUM(CSVデータ1!AA206,CSVデータ2!AA206,CSVデータ3!AA206,CSVデータ4!AA206)","v":0},{"$f":"SUM(CSVデータ1!AB206,CSVデータ2!AB206,CSVデータ3!AB206,CSVデータ4!AB206)","v":0},{"$f":"SUM(CSVデータ1!AC206,CSVデータ2!AC206,CSVデータ3!AC206,CSVデータ4!AC206)","v":0},{"$f":"SUM(CSVデータ1!AD206,CSVデータ2!AD206,CSVデータ3!AD206,CSVデータ4!AD206)","v":0},{"$f":"SUM(CSVデータ1!AE206,CSVデータ2!AE206,CSVデータ3!AE206,CSVデータ4!AE206)","v":0},{"$f":"SUM(CSVデータ1!AF206,CSVデータ2!AF206,CSVデータ3!AF206,CSVデータ4!AF206)","v":0},{"$f":"SUM(CSVデータ1!AG206,CSVデータ2!AG206,CSVデータ3!AG206,CSVデータ4!AG206)","v":0}]
[{"$f":"CSVデータ1!A207","v":"明細部"},{"$f":"CSVデータ1!B207","v":"県"},{"$f":"CSVデータ1!C207","v":100},{"$f":"CSVデータ1!D207","v":"女"},{"$f":"SUM(CSVデータ1!E207,CSVデータ2!E207,CSVデータ3!E207,CSVデータ4!E207)","v":0},{"$f":"SUM(CSVデータ1!F207,CSVデータ2!F207,CSVデータ3!F207,CSVデータ4!F207)","v":0},{"$f":"SUM(CSVデータ1!G207,CSVデータ2!G207,CSVデータ3!G207,CSVデータ4!G207)","v":0},{"$f":"SUM(CSVデータ1!H207,CSVデータ2!H207,CSVデータ3!H207,CSVデータ4!H207)","v":0},{"$f":"SUM(CSVデータ1!I207,CSVデータ2!I207,CSVデータ3!I207,CSVデータ4!I207)","v":0},{"$f":"SUM(CSVデータ1!J207,CSVデータ2!J207,CSVデータ3!J207,CSVデータ4!J207)","v":0},{"$f":"SUM(CSVデータ1!K207,CSVデータ2!K207,CSVデータ3!K207,CSVデータ4!K207)","v":0},{"$f":"SUM(CSVデータ1!L207,CSVデータ2!L207,CSVデータ3!L207,CSVデータ4!L207)","v":0},{"$f":"SUM(CSVデータ1!M207,CSVデータ2!M207,CSVデータ3!M207,CSVデータ4!M207)","v":0},{"$f":"SUM(CSVデータ1!N207,CSVデータ2!N207,CSVデータ3!N207,CSVデータ4!N207)","v":0},{"$f":"SUM(CSVデータ1!O207,CSVデータ2!O207,CSVデータ3!O207,CSVデータ4!O207)","v":0},{"$f":"SUM(CSVデータ1!P207,CSVデータ2!P207,CSVデータ3!P207,CSVデータ4!P207)","v":0},{"$f":"SUM(CSVデータ1!Q207,CSVデータ2!Q207,CSVデータ3!Q207,CSVデータ4!Q207)","v":0},{"$f":"SUM(CSVデータ1!R207,CSVデータ2!R207,CSVデータ3!R207,CSVデータ4!R207)","v":0},{"$f":"SUM(CSVデータ1!S207,CSVデータ2!S207,CSVデータ3!S207,CSVデータ4!S207)","v":0},{"$f":"SUM(CSVデータ1!T207,CSVデータ2!T207,CSVデータ3!T207,CSVデータ4!T207)","v":0},{"$f":"SUM(CSVデータ1!U207,CSVデータ2!U207,CSVデータ3!U207,CSVデータ4!U207)","v":0},{"$f":"SUM(CSVデータ1!V207,CSVデータ2!V207,CSVデータ3!V207,CSVデータ4!V207)","v":0},{"$f":"SUM(CSVデータ1!W207,CSVデータ2!W207,CSVデータ3!W207,CSVデータ4!W207)","v":0},{"$f":"SUM(CSVデータ1!X207,CSVデータ2!X207,CSVデータ3!X207,CSVデータ4!X207)","v":0},{"$f":"SUM(CSVデータ1!Y207,CSVデータ2!Y207,CSVデータ3!Y207,CSVデータ4!Y207)","v":0},{"$f":"SUM(CSVデータ1!Z207,CSVデータ2!Z207,CSVデータ3!Z207,CSVデータ4!Z207)","v":0},{"$f":"SUM(CSVデータ1!AA207,CSVデータ2!AA207,CSVデータ3!AA207,CSVデータ4!AA207)","v":0},{"$f":"SUM(CSVデータ1!AB207,CSVデータ2!AB207,CSVデータ3!AB207,CSVデータ4!AB207)","v":0},{"$f":"SUM(CSVデータ1!AC207,CSVデータ2!AC207,CSVデータ3!AC207,CSVデータ4!AC207)","v":0},{"$f":"SUM(CSVデータ1!AD207,CSVデータ2!AD207,CSVデータ3!AD207,CSVデータ4!AD207)","v":0},{"$f":"SUM(CSVデータ1!AE207,CSVデータ2!AE207,CSVデータ3!AE207,CSVデータ4!AE207)","v":0},{"$f":"SUM(CSVデータ1!AF207,CSVデータ2!AF207,CSVデータ3!AF207,CSVデータ4!AF207)","v":0},{"$f":"SUM(CSVデータ1!AG207,CSVデータ2!AG207,CSVデータ3!AG207,CSVデータ4!AG207)","v":0}]
[{"$f":"CSVデータ1!A208","v":"明細部"},{"$f":"CSVデータ1!B208","v":"県"},{"$f":"CSVデータ1!C208","v":101},{"$f":"CSVデータ1!D208","v":"女"},{"$f":"SUM(CSVデータ1!E208,CSVデータ2!E208,CSVデータ3!E208,CSVデータ4!E208)","v":0},{"$f":"SUM(CSVデータ1!F208,CSVデータ2!F208,CSVデータ3!F208,CSVデータ4!F208)","v":0},{"$f":"SUM(CSVデータ1!G208,CSVデータ2!G208,CSVデータ3!G208,CSVデータ4!G208)","v":0},{"$f":"SUM(CSVデータ1!H208,CSVデータ2!H208,CSVデータ3!H208,CSVデータ4!H208)","v":0},{"$f":"SUM(CSVデータ1!I208,CSVデータ2!I208,CSVデータ3!I208,CSVデータ4!I208)","v":0},{"$f":"SUM(CSVデータ1!J208,CSVデータ2!J208,CSVデータ3!J208,CSVデータ4!J208)","v":0},{"$f":"SUM(CSVデータ1!K208,CSVデータ2!K208,CSVデータ3!K208,CSVデータ4!K208)","v":0},{"$f":"SUM(CSVデータ1!L208,CSVデータ2!L208,CSVデータ3!L208,CSVデータ4!L208)","v":0},{"$f":"SUM(CSVデータ1!M208,CSVデータ2!M208,CSVデータ3!M208,CSVデータ4!M208)","v":0},{"$f":"SUM(CSVデータ1!N208,CSVデータ2!N208,CSVデータ3!N208,CSVデータ4!N208)","v":0},{"$f":"SUM(CSVデータ1!O208,CSVデータ2!O208,CSVデータ3!O208,CSVデータ4!O208)","v":0},{"$f":"SUM(CSVデータ1!P208,CSVデータ2!P208,CSVデータ3!P208,CSVデータ4!P208)","v":0},{"$f":"SUM(CSVデータ1!Q208,CSVデータ2!Q208,CSVデータ3!Q208,CSVデータ4!Q208)","v":0},{"$f":"SUM(CSVデータ1!R208,CSVデータ2!R208,CSVデータ3!R208,CSVデータ4!R208)","v":0},{"$f":"SUM(CSVデータ1!S208,CSVデータ2!S208,CSVデータ3!S208,CSVデータ4!S208)","v":0},{"$f":"SUM(CSVデータ1!T208,CSVデータ2!T208,CSVデータ3!T208,CSVデータ4!T208)","v":0},{"$f":"SUM(CSVデータ1!U208,CSVデータ2!U208,CSVデータ3!U208,CSVデータ4!U208)","v":0},{"$f":"SUM(CSVデータ1!V208,CSVデータ2!V208,CSVデータ3!V208,CSVデータ4!V208)","v":0},{"$f":"SUM(CSVデータ1!W208,CSVデータ2!W208,CSVデータ3!W208,CSVデータ4!W208)","v":0},{"$f":"SUM(CSVデータ1!X208,CSVデータ2!X208,CSVデータ3!X208,CSVデータ4!X208)","v":0},{"$f":"SUM(CSVデータ1!Y208,CSVデータ2!Y208,CSVデータ3!Y208,CSVデータ4!Y208)","v":0},{"$f":"SUM(CSVデータ1!Z208,CSVデータ2!Z208,CSVデータ3!Z208,CSVデータ4!Z208)","v":0},{"$f":"SUM(CSVデータ1!AA208,CSVデータ2!AA208,CSVデータ3!AA208,CSVデータ4!AA208)","v":0},{"$f":"SUM(CSVデータ1!AB208,CSVデータ2!AB208,CSVデータ3!AB208,CSVデータ4!AB208)","v":0},{"$f":"SUM(CSVデータ1!AC208,CSVデータ2!AC208,CSVデータ3!AC208,CSVデータ4!AC208)","v":0},{"$f":"SUM(CSVデータ1!AD208,CSVデータ2!AD208,CSVデータ3!AD208,CSVデータ4!AD208)","v":0},{"$f":"SUM(CSVデータ1!AE208,CSVデータ2!AE208,CSVデータ3!AE208,CSVデータ4!AE208)","v":0},{"$f":"SUM(CSVデータ1!AF208,CSVデータ2!AF208,CSVデータ3!AF208,CSVデータ4!AF208)","v":0},{"$f":"SUM(CSVデータ1!AG208,CSVデータ2!AG208,CSVデータ3!AG208,CSVデータ4!AG208)","v":0}]
[{"$f":"CSVデータ1!A209","v":"明細部"},{"$f":"CSVデータ1!B209","v":"県"},{"$f":"CSVデータ1!C209","v":102},{"$f":"CSVデータ1!D209","v":"女"},{"$f":"SUM(CSVデータ1!E209,CSVデータ2!E209,CSVデータ3!E209,CSVデータ4!E209)","v":0},{"$f":"SUM(CSVデータ1!F209,CSVデータ2!F209,CSVデータ3!F209,CSVデータ4!F209)","v":0},{"$f":"SUM(CSVデータ1!G209,CSVデータ2!G209,CSVデータ3!G209,CSVデータ4!G209)","v":0},{"$f":"SUM(CSVデータ1!H209,CSVデータ2!H209,CSVデータ3!H209,CSVデータ4!H209)","v":0},{"$f":"SUM(CSVデータ1!I209,CSVデータ2!I209,CSVデータ3!I209,CSVデータ4!I209)","v":0},{"$f":"SUM(CSVデータ1!J209,CSVデータ2!J209,CSVデータ3!J209,CSVデータ4!J209)","v":0},{"$f":"SUM(CSVデータ1!K209,CSVデータ2!K209,CSVデータ3!K209,CSVデータ4!K209)","v":0},{"$f":"SUM(CSVデータ1!L209,CSVデータ2!L209,CSVデータ3!L209,CSVデータ4!L209)","v":0},{"$f":"SUM(CSVデータ1!M209,CSVデータ2!M209,CSVデータ3!M209,CSVデータ4!M209)","v":0},{"$f":"SUM(CSVデータ1!N209,CSVデータ2!N209,CSVデータ3!N209,CSVデータ4!N209)","v":0},{"$f":"SUM(CSVデータ1!O209,CSVデータ2!O209,CSVデータ3!O209,CSVデータ4!O209)","v":0},{"$f":"SUM(CSVデータ1!P209,CSVデータ2!P209,CSVデータ3!P209,CSVデータ4!P209)","v":0},{"$f":"SUM(CSVデータ1!Q209,CSVデータ2!Q209,CSVデータ3!Q209,CSVデータ4!Q209)","v":0},{"$f":"SUM(CSVデータ1!R209,CSVデータ2!R209,CSVデータ3!R209,CSVデータ4!R209)","v":0},{"$f":"SUM(CSVデータ1!S209,CSVデータ2!S209,CSVデータ3!S209,CSVデータ4!S209)","v":0},{"$f":"SUM(CSVデータ1!T209,CSVデータ2!T209,CSVデータ3!T209,CSVデータ4!T209)","v":0},{"$f":"SUM(CSVデータ1!U209,CSVデータ2!U209,CSVデータ3!U209,CSVデータ4!U209)","v":0},{"$f":"SUM(CSVデータ1!V209,CSVデータ2!V209,CSVデータ3!V209,CSVデータ4!V209)","v":0},{"$f":"SUM(CSVデータ1!W209,CSVデータ2!W209,CSVデータ3!W209,CSVデータ4!W209)","v":0},{"$f":"SUM(CSVデータ1!X209,CSVデータ2!X209,CSVデータ3!X209,CSVデータ4!X209)","v":0},{"$f":"SUM(CSVデータ1!Y209,CSVデータ2!Y209,CSVデータ3!Y209,CSVデータ4!Y209)","v":0},{"$f":"SUM(CSVデータ1!Z209,CSVデータ2!Z209,CSVデータ3!Z209,CSVデータ4!Z209)","v":0},{"$f":"SUM(CSVデータ1!AA209,CSVデータ2!AA209,CSVデータ3!AA209,CSVデータ4!AA209)","v":0},{"$f":"SUM(CSVデータ1!AB209,CSVデータ2!AB209,CSVデータ3!AB209,CSVデータ4!AB209)","v":0},{"$f":"SUM(CSVデータ1!AC209,CSVデータ2!AC209,CSVデータ3!AC209,CSVデータ4!AC209)","v":0},{"$f":"SUM(CSVデータ1!AD209,CSVデータ2!AD209,CSVデータ3!AD209,CSVデータ4!AD209)","v":0},{"$f":"SUM(CSVデータ1!AE209,CSVデータ2!AE209,CSVデータ3!AE209,CSVデータ4!AE209)","v":0},{"$f":"SUM(CSVデータ1!AF209,CSVデータ2!AF209,CSVデータ3!AF209,CSVデータ4!AF209)","v":0},{"$f":"SUM(CSVデータ1!AG209,CSVデータ2!AG209,CSVデータ3!AG209,CSVデータ4!AG209)","v":0}]
[{"$f":"CSVデータ1!A210","v":"明細部"},{"$f":"CSVデータ1!B210","v":"県"},{"$f":"CSVデータ1!C210","v":103},{"$f":"CSVデータ1!D210","v":"女"},{"$f":"SUM(CSVデータ1!E210,CSVデータ2!E210,CSVデータ3!E210,CSVデータ4!E210)","v":0},{"$f":"SUM(CSVデータ1!F210,CSVデータ2!F210,CSVデータ3!F210,CSVデータ4!F210)","v":0},{"$f":"SUM(CSVデータ1!G210,CSVデータ2!G210,CSVデータ3!G210,CSVデータ4!G210)","v":0},{"$f":"SUM(CSVデータ1!H210,CSVデータ2!H210,CSVデータ3!H210,CSVデータ4!H210)","v":0},{"$f":"SUM(CSVデータ1!I210,CSVデータ2!I210,CSVデータ3!I210,CSVデータ4!I210)","v":0},{"$f":"SUM(CSVデータ1!J210,CSVデータ2!J210,CSVデータ3!J210,CSVデータ4!J210)","v":0},{"$f":"SUM(CSVデータ1!K210,CSVデータ2!K210,CSVデータ3!K210,CSVデータ4!K210)","v":0},{"$f":"SUM(CSVデータ1!L210,CSVデータ2!L210,CSVデータ3!L210,CSVデータ4!L210)","v":0},{"$f":"SUM(CSVデータ1!M210,CSVデータ2!M210,CSVデータ3!M210,CSVデータ4!M210)","v":0},{"$f":"SUM(CSVデータ1!N210,CSVデータ2!N210,CSVデータ3!N210,CSVデータ4!N210)","v":0},{"$f":"SUM(CSVデータ1!O210,CSVデータ2!O210,CSVデータ3!O210,CSVデータ4!O210)","v":0},{"$f":"SUM(CSVデータ1!P210,CSVデータ2!P210,CSVデータ3!P210,CSVデータ4!P210)","v":0},{"$f":"SUM(CSVデータ1!Q210,CSVデータ2!Q210,CSVデータ3!Q210,CSVデータ4!Q210)","v":0},{"$f":"SUM(CSVデータ1!R210,CSVデータ2!R210,CSVデータ3!R210,CSVデータ4!R210)","v":0},{"$f":"SUM(CSVデータ1!S210,CSVデータ2!S210,CSVデータ3!S210,CSVデータ4!S210)","v":0},{"$f":"SUM(CSVデータ1!T210,CSVデータ2!T210,CSVデータ3!T210,CSVデータ4!T210)","v":0},{"$f":"SUM(CSVデータ1!U210,CSVデータ2!U210,CSVデータ3!U210,CSVデータ4!U210)","v":0},{"$f":"SUM(CSVデータ1!V210,CSVデータ2!V210,CSVデータ3!V210,CSVデータ4!V210)","v":0},{"$f":"SUM(CSVデータ1!W210,CSVデータ2!W210,CSVデータ3!W210,CSVデータ4!W210)","v":0},{"$f":"SUM(CSVデータ1!X210,CSVデータ2!X210,CSVデータ3!X210,CSVデータ4!X210)","v":0},{"$f":"SUM(CSVデータ1!Y210,CSVデータ2!Y210,CSVデータ3!Y210,CSVデータ4!Y210)","v":0},{"$f":"SUM(CSVデータ1!Z210,CSVデータ2!Z210,CSVデータ3!Z210,CSVデータ4!Z210)","v":0},{"$f":"SUM(CSVデータ1!AA210,CSVデータ2!AA210,CSVデータ3!AA210,CSVデータ4!AA210)","v":0},{"$f":"SUM(CSVデータ1!AB210,CSVデータ2!AB210,CSVデータ3!AB210,CSVデータ4!AB210)","v":0},{"$f":"SUM(CSVデータ1!AC210,CSVデータ2!AC210,CSVデータ3!AC210,CSVデータ4!AC210)","v":0},{"$f":"SUM(CSVデータ1!AD210,CSVデータ2!AD210,CSVデータ3!AD210,CSVデータ4!AD210)","v":0},{"$f":"SUM(CSVデータ1!AE210,CSVデータ2!AE210,CSVデータ3!AE210,CSVデータ4!AE210)","v":0},{"$f":"SUM(CSVデータ1!AF210,CSVデータ2!AF210,CSVデータ3!AF210,CSVデータ4!AF210)","v":0},{"$f":"SUM(CSVデータ1!AG210,CSVデータ2!AG210,CSVデータ3!AG210,CSVデータ4!AG210)","v":0}]
[{"$f":"CSVデータ1!A211","v":"明細部"},{"$f":"CSVデータ1!B211","v":"県"},{"$f":"CSVデータ1!C211","v":104},{"$f":"CSVデータ1!D211","v":"女"},{"$f":"SUM(CSVデータ1!E211,CSVデータ2!E211,CSVデータ3!E211,CSVデータ4!E211)","v":0},{"$f":"SUM(CSVデータ1!F211,CSVデータ2!F211,CSVデータ3!F211,CSVデータ4!F211)","v":0},{"$f":"SUM(CSVデータ1!G211,CSVデータ2!G211,CSVデータ3!G211,CSVデータ4!G211)","v":0},{"$f":"SUM(CSVデータ1!H211,CSVデータ2!H211,CSVデータ3!H211,CSVデータ4!H211)","v":0},{"$f":"SUM(CSVデータ1!I211,CSVデータ2!I211,CSVデータ3!I211,CSVデータ4!I211)","v":0},{"$f":"SUM(CSVデータ1!J211,CSVデータ2!J211,CSVデータ3!J211,CSVデータ4!J211)","v":0},{"$f":"SUM(CSVデータ1!K211,CSVデータ2!K211,CSVデータ3!K211,CSVデータ4!K211)","v":0},{"$f":"SUM(CSVデータ1!L211,CSVデータ2!L211,CSVデータ3!L211,CSVデータ4!L211)","v":0},{"$f":"SUM(CSVデータ1!M211,CSVデータ2!M211,CSVデータ3!M211,CSVデータ4!M211)","v":0},{"$f":"SUM(CSVデータ1!N211,CSVデータ2!N211,CSVデータ3!N211,CSVデータ4!N211)","v":0},{"$f":"SUM(CSVデータ1!O211,CSVデータ2!O211,CSVデータ3!O211,CSVデータ4!O211)","v":0},{"$f":"SUM(CSVデータ1!P211,CSVデータ2!P211,CSVデータ3!P211,CSVデータ4!P211)","v":0},{"$f":"SUM(CSVデータ1!Q211,CSVデータ2!Q211,CSVデータ3!Q211,CSVデータ4!Q211)","v":0},{"$f":"SUM(CSVデータ1!R211,CSVデータ2!R211,CSVデータ3!R211,CSVデータ4!R211)","v":0},{"$f":"SUM(CSVデータ1!S211,CSVデータ2!S211,CSVデータ3!S211,CSVデータ4!S211)","v":0},{"$f":"SUM(CSVデータ1!T211,CSVデータ2!T211,CSVデータ3!T211,CSVデータ4!T211)","v":0},{"$f":"SUM(CSVデータ1!U211,CSVデータ2!U211,CSVデータ3!U211,CSVデータ4!U211)","v":0},{"$f":"SUM(CSVデータ1!V211,CSVデータ2!V211,CSVデータ3!V211,CSVデータ4!V211)","v":0},{"$f":"SUM(CSVデータ1!W211,CSVデータ2!W211,CSVデータ3!W211,CSVデータ4!W211)","v":0},{"$f":"SUM(CSVデータ1!X211,CSVデータ2!X211,CSVデータ3!X211,CSVデータ4!X211)","v":0},{"$f":"SUM(CSVデータ1!Y211,CSVデータ2!Y211,CSVデータ3!Y211,CSVデータ4!Y211)","v":0},{"$f":"SUM(CSVデータ1!Z211,CSVデータ2!Z211,CSVデータ3!Z211,CSVデータ4!Z211)","v":0},{"$f":"SUM(CSVデータ1!AA211,CSVデータ2!AA211,CSVデータ3!AA211,CSVデータ4!AA211)","v":0},{"$f":"SUM(CSVデータ1!AB211,CSVデータ2!AB211,CSVデータ3!AB211,CSVデータ4!AB211)","v":0},{"$f":"SUM(CSVデータ1!AC211,CSVデータ2!AC211,CSVデータ3!AC211,CSVデータ4!AC211)","v":0},{"$f":"SUM(CSVデータ1!AD211,CSVデータ2!AD211,CSVデータ3!AD211,CSVデータ4!AD211)","v":0},{"$f":"SUM(CSVデータ1!AE211,CSVデータ2!AE211,CSVデータ3!AE211,CSVデータ4!AE211)","v":0},{"$f":"SUM(CSVデータ1!AF211,CSVデータ2!AF211,CSVデータ3!AF211,CSVデータ4!AF211)","v":0},{"$f":"SUM(CSVデータ1!AG211,CSVデータ2!AG211,CSVデータ3!AG211,CSVデータ4!AG211)","v":0}]
[{"$f":"CSVデータ1!A212","v":"明細部"},{"$f":"CSVデータ1!B212","v":"県"},{"$f":"CSVデータ1!C212","v":105},{"$f":"CSVデータ1!D212","v":"女"},{"$f":"SUM(CSVデータ1!E212,CSVデータ2!E212,CSVデータ3!E212,CSVデータ4!E212)","v":0},{"$f":"SUM(CSVデータ1!F212,CSVデータ2!F212,CSVデータ3!F212,CSVデータ4!F212)","v":0},{"$f":"SUM(CSVデータ1!G212,CSVデータ2!G212,CSVデータ3!G212,CSVデータ4!G212)","v":0},{"$f":"SUM(CSVデータ1!H212,CSVデータ2!H212,CSVデータ3!H212,CSVデータ4!H212)","v":0},{"$f":"SUM(CSVデータ1!I212,CSVデータ2!I212,CSVデータ3!I212,CSVデータ4!I212)","v":0},{"$f":"SUM(CSVデータ1!J212,CSVデータ2!J212,CSVデータ3!J212,CSVデータ4!J212)","v":0},{"$f":"SUM(CSVデータ1!K212,CSVデータ2!K212,CSVデータ3!K212,CSVデータ4!K212)","v":0},{"$f":"SUM(CSVデータ1!L212,CSVデータ2!L212,CSVデータ3!L212,CSVデータ4!L212)","v":0},{"$f":"SUM(CSVデータ1!M212,CSVデータ2!M212,CSVデータ3!M212,CSVデータ4!M212)","v":0},{"$f":"SUM(CSVデータ1!N212,CSVデータ2!N212,CSVデータ3!N212,CSVデータ4!N212)","v":0},{"$f":"SUM(CSVデータ1!O212,CSVデータ2!O212,CSVデータ3!O212,CSVデータ4!O212)","v":0},{"$f":"SUM(CSVデータ1!P212,CSVデータ2!P212,CSVデータ3!P212,CSVデータ4!P212)","v":0},{"$f":"SUM(CSVデータ1!Q212,CSVデータ2!Q212,CSVデータ3!Q212,CSVデータ4!Q212)","v":0},{"$f":"SUM(CSVデータ1!R212,CSVデータ2!R212,CSVデータ3!R212,CSVデータ4!R212)","v":0},{"$f":"SUM(CSVデータ1!S212,CSVデータ2!S212,CSVデータ3!S212,CSVデータ4!S212)","v":0},{"$f":"SUM(CSVデータ1!T212,CSVデータ2!T212,CSVデータ3!T212,CSVデータ4!T212)","v":0},{"$f":"SUM(CSVデータ1!U212,CSVデータ2!U212,CSVデータ3!U212,CSVデータ4!U212)","v":0},{"$f":"SUM(CSVデータ1!V212,CSVデータ2!V212,CSVデータ3!V212,CSVデータ4!V212)","v":0},{"$f":"SUM(CSVデータ1!W212,CSVデータ2!W212,CSVデータ3!W212,CSVデータ4!W212)","v":0},{"$f":"SUM(CSVデータ1!X212,CSVデータ2!X212,CSVデータ3!X212,CSVデータ4!X212)","v":0},{"$f":"SUM(CSVデータ1!Y212,CSVデータ2!Y212,CSVデータ3!Y212,CSVデータ4!Y212)","v":0},{"$f":"SUM(CSVデータ1!Z212,CSVデータ2!Z212,CSVデータ3!Z212,CSVデータ4!Z212)","v":0},{"$f":"SUM(CSVデータ1!AA212,CSVデータ2!AA212,CSVデータ3!AA212,CSVデータ4!AA212)","v":0},{"$f":"SUM(CSVデータ1!AB212,CSVデータ2!AB212,CSVデータ3!AB212,CSVデータ4!AB212)","v":0},{"$f":"SUM(CSVデータ1!AC212,CSVデータ2!AC212,CSVデータ3!AC212,CSVデータ4!AC212)","v":0},{"$f":"SUM(CSVデータ1!AD212,CSVデータ2!AD212,CSVデータ3!AD212,CSVデータ4!AD212)","v":0},{"$f":"SUM(CSVデータ1!AE212,CSVデータ2!AE212,CSVデータ3!AE212,CSVデータ4!AE212)","v":0},{"$f":"SUM(CSVデータ1!AF212,CSVデータ2!AF212,CSVデータ3!AF212,CSVデータ4!AF212)","v":0},{"$f":"SUM(CSVデータ1!AG212,CSVデータ2!AG212,CSVデータ3!AG212,CSVデータ4!AG212)","v":0}]
[{"$f":"CSVデータ1!A213","v":"明細部"},{"$f":"CSVデータ1!B213","v":"県"},{"$f":"CSVデータ1!C213","v":106},{"$f":"CSVデータ1!D213","v":"女"},{"$f":"SUM(CSVデータ1!E213,CSVデータ2!E213,CSVデータ3!E213,CSVデータ4!E213)","v":0},{"$f":"SUM(CSVデータ1!F213,CSVデータ2!F213,CSVデータ3!F213,CSVデータ4!F213)","v":0},{"$f":"SUM(CSVデータ1!G213,CSVデータ2!G213,CSVデータ3!G213,CSVデータ4!G213)","v":0},{"$f":"SUM(CSVデータ1!H213,CSVデータ2!H213,CSVデータ3!H213,CSVデータ4!H213)","v":0},{"$f":"SUM(CSVデータ1!I213,CSVデータ2!I213,CSVデータ3!I213,CSVデータ4!I213)","v":0},{"$f":"SUM(CSVデータ1!J213,CSVデータ2!J213,CSVデータ3!J213,CSVデータ4!J213)","v":0},{"$f":"SUM(CSVデータ1!K213,CSVデータ2!K213,CSVデータ3!K213,CSVデータ4!K213)","v":0},{"$f":"SUM(CSVデータ1!L213,CSVデータ2!L213,CSVデータ3!L213,CSVデータ4!L213)","v":0},{"$f":"SUM(CSVデータ1!M213,CSVデータ2!M213,CSVデータ3!M213,CSVデータ4!M213)","v":0},{"$f":"SUM(CSVデータ1!N213,CSVデータ2!N213,CSVデータ3!N213,CSVデータ4!N213)","v":0},{"$f":"SUM(CSVデータ1!O213,CSVデータ2!O213,CSVデータ3!O213,CSVデータ4!O213)","v":0},{"$f":"SUM(CSVデータ1!P213,CSVデータ2!P213,CSVデータ3!P213,CSVデータ4!P213)","v":0},{"$f":"SUM(CSVデータ1!Q213,CSVデータ2!Q213,CSVデータ3!Q213,CSVデータ4!Q213)","v":0},{"$f":"SUM(CSVデータ1!R213,CSVデータ2!R213,CSVデータ3!R213,CSVデータ4!R213)","v":0},{"$f":"SUM(CSVデータ1!S213,CSVデータ2!S213,CSVデータ3!S213,CSVデータ4!S213)","v":0},{"$f":"SUM(CSVデータ1!T213,CSVデータ2!T213,CSVデータ3!T213,CSVデータ4!T213)","v":0},{"$f":"SUM(CSVデータ1!U213,CSVデータ2!U213,CSVデータ3!U213,CSVデータ4!U213)","v":0},{"$f":"SUM(CSVデータ1!V213,CSVデータ2!V213,CSVデータ3!V213,CSVデータ4!V213)","v":0},{"$f":"SUM(CSVデータ1!W213,CSVデータ2!W213,CSVデータ3!W213,CSVデータ4!W213)","v":0},{"$f":"SUM(CSVデータ1!X213,CSVデータ2!X213,CSVデータ3!X213,CSVデータ4!X213)","v":0},{"$f":"SUM(CSVデータ1!Y213,CSVデータ2!Y213,CSVデータ3!Y213,CSVデータ4!Y213)","v":0},{"$f":"SUM(CSVデータ1!Z213,CSVデータ2!Z213,CSVデータ3!Z213,CSVデータ4!Z213)","v":0},{"$f":"SUM(CSVデータ1!AA213,CSVデータ2!AA213,CSVデータ3!AA213,CSVデータ4!AA213)","v":0},{"$f":"SUM(CSVデータ1!AB213,CSVデータ2!AB213,CSVデータ3!AB213,CSVデータ4!AB213)","v":0},{"$f":"SUM(CSVデータ1!AC213,CSVデータ2!AC213,CSVデータ3!AC213,CSVデータ4!AC213)","v":0},{"$f":"SUM(CSVデータ1!AD213,CSVデータ2!AD213,CSVデータ3!AD213,CSVデータ4!AD213)","v":0},{"$f":"SUM(CSVデータ1!AE213,CSVデータ2!AE213,CSVデータ3!AE213,CSVデータ4!AE213)","v":0},{"$f":"SUM(CSVデータ1!AF213,CSVデータ2!AF213,CSVデータ3!AF213,CSVデータ4!AF213)","v":0},{"$f":"SUM(CSVデータ1!AG213,CSVデータ2!AG213,CSVデータ3!AG213,CSVデータ4!AG213)","v":0}]
[{"$f":"CSVデータ1!A214","v":"明細部"},{"$f":"CSVデータ1!B214","v":"県"},{"$f":"CSVデータ1!C214","v":107},{"$f":"CSVデータ1!D214","v":"女"},{"$f":"SUM(CSVデータ1!E214,CSVデータ2!E214,CSVデータ3!E214,CSVデータ4!E214)","v":0},{"$f":"SUM(CSVデータ1!F214,CSVデータ2!F214,CSVデータ3!F214,CSVデータ4!F214)","v":0},{"$f":"SUM(CSVデータ1!G214,CSVデータ2!G214,CSVデータ3!G214,CSVデータ4!G214)","v":0},{"$f":"SUM(CSVデータ1!H214,CSVデータ2!H214,CSVデータ3!H214,CSVデータ4!H214)","v":0},{"$f":"SUM(CSVデータ1!I214,CSVデータ2!I214,CSVデータ3!I214,CSVデータ4!I214)","v":0},{"$f":"SUM(CSVデータ1!J214,CSVデータ2!J214,CSVデータ3!J214,CSVデータ4!J214)","v":0},{"$f":"SUM(CSVデータ1!K214,CSVデータ2!K214,CSVデータ3!K214,CSVデータ4!K214)","v":0},{"$f":"SUM(CSVデータ1!L214,CSVデータ2!L214,CSVデータ3!L214,CSVデータ4!L214)","v":0},{"$f":"SUM(CSVデータ1!M214,CSVデータ2!M214,CSVデータ3!M214,CSVデータ4!M214)","v":0},{"$f":"SUM(CSVデータ1!N214,CSVデータ2!N214,CSVデータ3!N214,CSVデータ4!N214)","v":0},{"$f":"SUM(CSVデータ1!O214,CSVデータ2!O214,CSVデータ3!O214,CSVデータ4!O214)","v":0},{"$f":"SUM(CSVデータ1!P214,CSVデータ2!P214,CSVデータ3!P214,CSVデータ4!P214)","v":0},{"$f":"SUM(CSVデータ1!Q214,CSVデータ2!Q214,CSVデータ3!Q214,CSVデータ4!Q214)","v":0},{"$f":"SUM(CSVデータ1!R214,CSVデータ2!R214,CSVデータ3!R214,CSVデータ4!R214)","v":0},{"$f":"SUM(CSVデータ1!S214,CSVデータ2!S214,CSVデータ3!S214,CSVデータ4!S214)","v":0},{"$f":"SUM(CSVデータ1!T214,CSVデータ2!T214,CSVデータ3!T214,CSVデータ4!T214)","v":0},{"$f":"SUM(CSVデータ1!U214,CSVデータ2!U214,CSVデータ3!U214,CSVデータ4!U214)","v":0},{"$f":"SUM(CSVデータ1!V214,CSVデータ2!V214,CSVデータ3!V214,CSVデータ4!V214)","v":0},{"$f":"SUM(CSVデータ1!W214,CSVデータ2!W214,CSVデータ3!W214,CSVデータ4!W214)","v":0},{"$f":"SUM(CSVデータ1!X214,CSVデータ2!X214,CSVデータ3!X214,CSVデータ4!X214)","v":0},{"$f":"SUM(CSVデータ1!Y214,CSVデータ2!Y214,CSVデータ3!Y214,CSVデータ4!Y214)","v":0},{"$f":"SUM(CSVデータ1!Z214,CSVデータ2!Z214,CSVデータ3!Z214,CSVデータ4!Z214)","v":0},{"$f":"SUM(CSVデータ1!AA214,CSVデータ2!AA214,CSVデータ3!AA214,CSVデータ4!AA214)","v":0},{"$f":"SUM(CSVデータ1!AB214,CSVデータ2!AB214,CSVデータ3!AB214,CSVデータ4!AB214)","v":0},{"$f":"SUM(CSVデータ1!AC214,CSVデータ2!AC214,CSVデータ3!AC214,CSVデータ4!AC214)","v":0},{"$f":"SUM(CSVデータ1!AD214,CSVデータ2!AD214,CSVデータ3!AD214,CSVデータ4!AD214)","v":0},{"$f":"SUM(CSVデータ1!AE214,CSVデータ2!AE214,CSVデータ3!AE214,CSVデータ4!AE214)","v":0},{"$f":"SUM(CSVデータ1!AF214,CSVデータ2!AF214,CSVデータ3!AF214,CSVデータ4!AF214)","v":0},{"$f":"SUM(CSVデータ1!AG214,CSVデータ2!AG214,CSVデータ3!AG214,CSVデータ4!AG214)","v":0}]
[{"$f":"CSVデータ1!A215","v":"明細部"},{"$f":"CSVデータ1!B215","v":"県"},{"$f":"CSVデータ1!C215","v":108},{"$f":"CSVデータ1!D215","v":"女"},{"$f":"SUM(CSVデータ1!E215,CSVデータ2!E215,CSVデータ3!E215,CSVデータ4!E215)","v":0},{"$f":"SUM(CSVデータ1!F215,CSVデータ2!F215,CSVデータ3!F215,CSVデータ4!F215)","v":0},{"$f":"SUM(CSVデータ1!G215,CSVデータ2!G215,CSVデータ3!G215,CSVデータ4!G215)","v":0},{"$f":"SUM(CSVデータ1!H215,CSVデータ2!H215,CSVデータ3!H215,CSVデータ4!H215)","v":0},{"$f":"SUM(CSVデータ1!I215,CSVデータ2!I215,CSVデータ3!I215,CSVデータ4!I215)","v":0},{"$f":"SUM(CSVデータ1!J215,CSVデータ2!J215,CSVデータ3!J215,CSVデータ4!J215)","v":0},{"$f":"SUM(CSVデータ1!K215,CSVデータ2!K215,CSVデータ3!K215,CSVデータ4!K215)","v":0},{"$f":"SUM(CSVデータ1!L215,CSVデータ2!L215,CSVデータ3!L215,CSVデータ4!L215)","v":0},{"$f":"SUM(CSVデータ1!M215,CSVデータ2!M215,CSVデータ3!M215,CSVデータ4!M215)","v":0},{"$f":"SUM(CSVデータ1!N215,CSVデータ2!N215,CSVデータ3!N215,CSVデータ4!N215)","v":0},{"$f":"SUM(CSVデータ1!O215,CSVデータ2!O215,CSVデータ3!O215,CSVデータ4!O215)","v":0},{"$f":"SUM(CSVデータ1!P215,CSVデータ2!P215,CSVデータ3!P215,CSVデータ4!P215)","v":0},{"$f":"SUM(CSVデータ1!Q215,CSVデータ2!Q215,CSVデータ3!Q215,CSVデータ4!Q215)","v":0},{"$f":"SUM(CSVデータ1!R215,CSVデータ2!R215,CSVデータ3!R215,CSVデータ4!R215)","v":0},{"$f":"SUM(CSVデータ1!S215,CSVデータ2!S215,CSVデータ3!S215,CSVデータ4!S215)","v":0},{"$f":"SUM(CSVデータ1!T215,CSVデータ2!T215,CSVデータ3!T215,CSVデータ4!T215)","v":0},{"$f":"SUM(CSVデータ1!U215,CSVデータ2!U215,CSVデータ3!U215,CSVデータ4!U215)","v":0},{"$f":"SUM(CSVデータ1!V215,CSVデータ2!V215,CSVデータ3!V215,CSVデータ4!V215)","v":0},{"$f":"SUM(CSVデータ1!W215,CSVデータ2!W215,CSVデータ3!W215,CSVデータ4!W215)","v":0},{"$f":"SUM(CSVデータ1!X215,CSVデータ2!X215,CSVデータ3!X215,CSVデータ4!X215)","v":0},{"$f":"SUM(CSVデータ1!Y215,CSVデータ2!Y215,CSVデータ3!Y215,CSVデータ4!Y215)","v":0},{"$f":"SUM(CSVデータ1!Z215,CSVデータ2!Z215,CSVデータ3!Z215,CSVデータ4!Z215)","v":0},{"$f":"SUM(CSVデータ1!AA215,CSVデータ2!AA215,CSVデータ3!AA215,CSVデータ4!AA215)","v":0},{"$f":"SUM(CSVデータ1!AB215,CSVデータ2!AB215,CSVデータ3!AB215,CSVデータ4!AB215)","v":0},{"$f":"SUM(CSVデータ1!AC215,CSVデータ2!AC215,CSVデータ3!AC215,CSVデータ4!AC215)","v":0},{"$f":"SUM(CSVデータ1!AD215,CSVデータ2!AD215,CSVデータ3!AD215,CSVデータ4!AD215)","v":0},{"$f":"SUM(CSVデータ1!AE215,CSVデータ2!AE215,CSVデータ3!AE215,CSVデータ4!AE215)","v":0},{"$f":"SUM(CSVデータ1!AF215,CSVデータ2!AF215,CSVデータ3!AF215,CSVデータ4!AF215)","v":0},{"$f":"SUM(CSVデータ1!AG215,CSVデータ2!AG215,CSVデータ3!AG215,CSVデータ4!AG215)","v":0}]
[{"$f":"CSVデータ1!A216","v":"明細部"},{"$f":"CSVデータ1!B216","v":"県"},{"$f":"CSVデータ1!C216","v":109},{"$f":"CSVデータ1!D216","v":"女"},{"$f":"SUM(CSVデータ1!E216,CSVデータ2!E216,CSVデータ3!E216,CSVデータ4!E216)","v":0},{"$f":"SUM(CSVデータ1!F216,CSVデータ2!F216,CSVデータ3!F216,CSVデータ4!F216)","v":0},{"$f":"SUM(CSVデータ1!G216,CSVデータ2!G216,CSVデータ3!G216,CSVデータ4!G216)","v":0},{"$f":"SUM(CSVデータ1!H216,CSVデータ2!H216,CSVデータ3!H216,CSVデータ4!H216)","v":0},{"$f":"SUM(CSVデータ1!I216,CSVデータ2!I216,CSVデータ3!I216,CSVデータ4!I216)","v":0},{"$f":"SUM(CSVデータ1!J216,CSVデータ2!J216,CSVデータ3!J216,CSVデータ4!J216)","v":0},{"$f":"SUM(CSVデータ1!K216,CSVデータ2!K216,CSVデータ3!K216,CSVデータ4!K216)","v":0},{"$f":"SUM(CSVデータ1!L216,CSVデータ2!L216,CSVデータ3!L216,CSVデータ4!L216)","v":0},{"$f":"SUM(CSVデータ1!M216,CSVデータ2!M216,CSVデータ3!M216,CSVデータ4!M216)","v":0},{"$f":"SUM(CSVデータ1!N216,CSVデータ2!N216,CSVデータ3!N216,CSVデータ4!N216)","v":0},{"$f":"SUM(CSVデータ1!O216,CSVデータ2!O216,CSVデータ3!O216,CSVデータ4!O216)","v":0},{"$f":"SUM(CSVデータ1!P216,CSVデータ2!P216,CSVデータ3!P216,CSVデータ4!P216)","v":0},{"$f":"SUM(CSVデータ1!Q216,CSVデータ2!Q216,CSVデータ3!Q216,CSVデータ4!Q216)","v":0},{"$f":"SUM(CSVデータ1!R216,CSVデータ2!R216,CSVデータ3!R216,CSVデータ4!R216)","v":0},{"$f":"SUM(CSVデータ1!S216,CSVデータ2!S216,CSVデータ3!S216,CSVデータ4!S216)","v":0},{"$f":"SUM(CSVデータ1!T216,CSVデータ2!T216,CSVデータ3!T216,CSVデータ4!T216)","v":0},{"$f":"SUM(CSVデータ1!U216,CSVデータ2!U216,CSVデータ3!U216,CSVデータ4!U216)","v":0},{"$f":"SUM(CSVデータ1!V216,CSVデータ2!V216,CSVデータ3!V216,CSVデータ4!V216)","v":0},{"$f":"SUM(CSVデータ1!W216,CSVデータ2!W216,CSVデータ3!W216,CSVデータ4!W216)","v":0},{"$f":"SUM(CSVデータ1!X216,CSVデータ2!X216,CSVデータ3!X216,CSVデータ4!X216)","v":0},{"$f":"SUM(CSVデータ1!Y216,CSVデータ2!Y216,CSVデータ3!Y216,CSVデータ4!Y216)","v":0},{"$f":"SUM(CSVデータ1!Z216,CSVデータ2!Z216,CSVデータ3!Z216,CSVデータ4!Z216)","v":0},{"$f":"SUM(CSVデータ1!AA216,CSVデータ2!AA216,CSVデータ3!AA216,CSVデータ4!AA216)","v":0},{"$f":"SUM(CSVデータ1!AB216,CSVデータ2!AB216,CSVデータ3!AB216,CSVデータ4!AB216)","v":0},{"$f":"SUM(CSVデータ1!AC216,CSVデータ2!AC216,CSVデータ3!AC216,CSVデータ4!AC216)","v":0},{"$f":"SUM(CSVデータ1!AD216,CSVデータ2!AD216,CSVデータ3!AD216,CSVデータ4!AD216)","v":0},{"$f":"SUM(CSVデータ1!AE216,CSVデータ2!AE216,CSVデータ3!AE216,CSVデータ4!AE216)","v":0},{"$f":"SUM(CSVデータ1!AF216,CSVデータ2!AF216,CSVデータ3!AF216,CSVデータ4!AF216)","v":0},{"$f":"SUM(CSVデータ1!AG216,CSVデータ2!AG216,CSVデータ3!AG216,CSVデータ4!AG216)","v":0}]
[{"$f":"CSVデータ1!A217","v":"明細部"},{"$f":"CSVデータ1!B217","v":"県"},{"$f":"CSVデータ1!C217","v":110},{"$f":"CSVデータ1!D217","v":"女"},{"$f":"SUM(CSVデータ1!E217,CSVデータ2!E217,CSVデータ3!E217,CSVデータ4!E217)","v":0},{"$f":"SUM(CSVデータ1!F217,CSVデータ2!F217,CSVデータ3!F217,CSVデータ4!F217)","v":0},{"$f":"SUM(CSVデータ1!G217,CSVデータ2!G217,CSVデータ3!G217,CSVデータ4!G217)","v":0},{"$f":"SUM(CSVデータ1!H217,CSVデータ2!H217,CSVデータ3!H217,CSVデータ4!H217)","v":0},{"$f":"SUM(CSVデータ1!I217,CSVデータ2!I217,CSVデータ3!I217,CSVデータ4!I217)","v":0},{"$f":"SUM(CSVデータ1!J217,CSVデータ2!J217,CSVデータ3!J217,CSVデータ4!J217)","v":0},{"$f":"SUM(CSVデータ1!K217,CSVデータ2!K217,CSVデータ3!K217,CSVデータ4!K217)","v":0},{"$f":"SUM(CSVデータ1!L217,CSVデータ2!L217,CSVデータ3!L217,CSVデータ4!L217)","v":0},{"$f":"SUM(CSVデータ1!M217,CSVデータ2!M217,CSVデータ3!M217,CSVデータ4!M217)","v":0},{"$f":"SUM(CSVデータ1!N217,CSVデータ2!N217,CSVデータ3!N217,CSVデータ4!N217)","v":0},{"$f":"SUM(CSVデータ1!O217,CSVデータ2!O217,CSVデータ3!O217,CSVデータ4!O217)","v":0},{"$f":"SUM(CSVデータ1!P217,CSVデータ2!P217,CSVデータ3!P217,CSVデータ4!P217)","v":0},{"$f":"SUM(CSVデータ1!Q217,CSVデータ2!Q217,CSVデータ3!Q217,CSVデータ4!Q217)","v":0},{"$f":"SUM(CSVデータ1!R217,CSVデータ2!R217,CSVデータ3!R217,CSVデータ4!R217)","v":0},{"$f":"SUM(CSVデータ1!S217,CSVデータ2!S217,CSVデータ3!S217,CSVデータ4!S217)","v":0},{"$f":"SUM(CSVデータ1!T217,CSVデータ2!T217,CSVデータ3!T217,CSVデータ4!T217)","v":0},{"$f":"SUM(CSVデータ1!U217,CSVデータ2!U217,CSVデータ3!U217,CSVデータ4!U217)","v":0},{"$f":"SUM(CSVデータ1!V217,CSVデータ2!V217,CSVデータ3!V217,CSVデータ4!V217)","v":0},{"$f":"SUM(CSVデータ1!W217,CSVデータ2!W217,CSVデータ3!W217,CSVデータ4!W217)","v":0},{"$f":"SUM(CSVデータ1!X217,CSVデータ2!X217,CSVデータ3!X217,CSVデータ4!X217)","v":0},{"$f":"SUM(CSVデータ1!Y217,CSVデータ2!Y217,CSVデータ3!Y217,CSVデータ4!Y217)","v":0},{"$f":"SUM(CSVデータ1!Z217,CSVデータ2!Z217,CSVデータ3!Z217,CSVデータ4!Z217)","v":0},{"$f":"SUM(CSVデータ1!AA217,CSVデータ2!AA217,CSVデータ3!AA217,CSVデータ4!AA217)","v":0},{"$f":"SUM(CSVデータ1!AB217,CSVデータ2!AB217,CSVデータ3!AB217,CSVデータ4!AB217)","v":0},{"$f":"SUM(CSVデータ1!AC217,CSVデータ2!AC217,CSVデータ3!AC217,CSVデータ4!AC217)","v":0},{"$f":"SUM(CSVデータ1!AD217,CSVデータ2!AD217,CSVデータ3!AD217,CSVデータ4!AD217)","v":0},{"$f":"SUM(CSVデータ1!AE217,CSVデータ2!AE217,CSVデータ3!AE217,CSVデータ4!AE217)","v":0},{"$f":"SUM(CSVデータ1!AF217,CSVデータ2!AF217,CSVデータ3!AF217,CSVデータ4!AF217)","v":0},{"$f":"SUM(CSVデータ1!AG217,CSVデータ2!AG217,CSVデータ3!AG217,CSVデータ4!AG217)","v":0}]
[{"$f":"CSVデータ1!A218","v":"明細部"},{"$f":"CSVデータ1!B218","v":"県"},{"$f":"CSVデータ1!C218","v":111},{"$f":"CSVデータ1!D218","v":"女"},{"$f":"SUM(CSVデータ1!E218,CSVデータ2!E218,CSVデータ3!E218,CSVデータ4!E218)","v":0},{"$f":"SUM(CSVデータ1!F218,CSVデータ2!F218,CSVデータ3!F218,CSVデータ4!F218)","v":0},{"$f":"SUM(CSVデータ1!G218,CSVデータ2!G218,CSVデータ3!G218,CSVデータ4!G218)","v":0},{"$f":"SUM(CSVデータ1!H218,CSVデータ2!H218,CSVデータ3!H218,CSVデータ4!H218)","v":0},{"$f":"SUM(CSVデータ1!I218,CSVデータ2!I218,CSVデータ3!I218,CSVデータ4!I218)","v":0},{"$f":"SUM(CSVデータ1!J218,CSVデータ2!J218,CSVデータ3!J218,CSVデータ4!J218)","v":0},{"$f":"SUM(CSVデータ1!K218,CSVデータ2!K218,CSVデータ3!K218,CSVデータ4!K218)","v":0},{"$f":"SUM(CSVデータ1!L218,CSVデータ2!L218,CSVデータ3!L218,CSVデータ4!L218)","v":0},{"$f":"SUM(CSVデータ1!M218,CSVデータ2!M218,CSVデータ3!M218,CSVデータ4!M218)","v":0},{"$f":"SUM(CSVデータ1!N218,CSVデータ2!N218,CSVデータ3!N218,CSVデータ4!N218)","v":0},{"$f":"SUM(CSVデータ1!O218,CSVデータ2!O218,CSVデータ3!O218,CSVデータ4!O218)","v":0},{"$f":"SUM(CSVデータ1!P218,CSVデータ2!P218,CSVデータ3!P218,CSVデータ4!P218)","v":0},{"$f":"SUM(CSVデータ1!Q218,CSVデータ2!Q218,CSVデータ3!Q218,CSVデータ4!Q218)","v":0},{"$f":"SUM(CSVデータ1!R218,CSVデータ2!R218,CSVデータ3!R218,CSVデータ4!R218)","v":0},{"$f":"SUM(CSVデータ1!S218,CSVデータ2!S218,CSVデータ3!S218,CSVデータ4!S218)","v":0},{"$f":"SUM(CSVデータ1!T218,CSVデータ2!T218,CSVデータ3!T218,CSVデータ4!T218)","v":0},{"$f":"SUM(CSVデータ1!U218,CSVデータ2!U218,CSVデータ3!U218,CSVデータ4!U218)","v":0},{"$f":"SUM(CSVデータ1!V218,CSVデータ2!V218,CSVデータ3!V218,CSVデータ4!V218)","v":0},{"$f":"SUM(CSVデータ1!W218,CSVデータ2!W218,CSVデータ3!W218,CSVデータ4!W218)","v":0},{"$f":"SUM(CSVデータ1!X218,CSVデータ2!X218,CSVデータ3!X218,CSVデータ4!X218)","v":0},{"$f":"SUM(CSVデータ1!Y218,CSVデータ2!Y218,CSVデータ3!Y218,CSVデータ4!Y218)","v":0},{"$f":"SUM(CSVデータ1!Z218,CSVデータ2!Z218,CSVデータ3!Z218,CSVデータ4!Z218)","v":0},{"$f":"SUM(CSVデータ1!AA218,CSVデータ2!AA218,CSVデータ3!AA218,CSVデータ4!AA218)","v":0},{"$f":"SUM(CSVデータ1!AB218,CSVデータ2!AB218,CSVデータ3!AB218,CSVデータ4!AB218)","v":0},{"$f":"SUM(CSVデータ1!AC218,CSVデータ2!AC218,CSVデータ3!AC218,CSVデータ4!AC218)","v":0},{"$f":"SUM(CSVデータ1!AD218,CSVデータ2!AD218,CSVデータ3!AD218,CSVデータ4!AD218)","v":0},{"$f":"SUM(CSVデータ1!AE218,CSVデータ2!AE218,CSVデータ3!AE218,CSVデータ4!AE218)","v":0},{"$f":"SUM(CSVデータ1!AF218,CSVデータ2!AF218,CSVデータ3!AF218,CSVデータ4!AF218)","v":0},{"$f":"SUM(CSVデータ1!AG218,CSVデータ2!AG218,CSVデータ3!AG218,CSVデータ4!AG218)","v":0}]
[{"$f":"CSVデータ1!A219","v":"明細部"},{"$f":"CSVデータ1!B219","v":"県"},{"$f":"CSVデータ1!C219","v":112},{"$f":"CSVデータ1!D219","v":"女"},{"$f":"SUM(CSVデータ1!E219,CSVデータ2!E219,CSVデータ3!E219,CSVデータ4!E219)","v":0},{"$f":"SUM(CSVデータ1!F219,CSVデータ2!F219,CSVデータ3!F219,CSVデータ4!F219)","v":0},{"$f":"SUM(CSVデータ1!G219,CSVデータ2!G219,CSVデータ3!G219,CSVデータ4!G219)","v":0},{"$f":"SUM(CSVデータ1!H219,CSVデータ2!H219,CSVデータ3!H219,CSVデータ4!H219)","v":0},{"$f":"SUM(CSVデータ1!I219,CSVデータ2!I219,CSVデータ3!I219,CSVデータ4!I219)","v":0},{"$f":"SUM(CSVデータ1!J219,CSVデータ2!J219,CSVデータ3!J219,CSVデータ4!J219)","v":0},{"$f":"SUM(CSVデータ1!K219,CSVデータ2!K219,CSVデータ3!K219,CSVデータ4!K219)","v":0},{"$f":"SUM(CSVデータ1!L219,CSVデータ2!L219,CSVデータ3!L219,CSVデータ4!L219)","v":0},{"$f":"SUM(CSVデータ1!M219,CSVデータ2!M219,CSVデータ3!M219,CSVデータ4!M219)","v":0},{"$f":"SUM(CSVデータ1!N219,CSVデータ2!N219,CSVデータ3!N219,CSVデータ4!N219)","v":0},{"$f":"SUM(CSVデータ1!O219,CSVデータ2!O219,CSVデータ3!O219,CSVデータ4!O219)","v":0},{"$f":"SUM(CSVデータ1!P219,CSVデータ2!P219,CSVデータ3!P219,CSVデータ4!P219)","v":0},{"$f":"SUM(CSVデータ1!Q219,CSVデータ2!Q219,CSVデータ3!Q219,CSVデータ4!Q219)","v":0},{"$f":"SUM(CSVデータ1!R219,CSVデータ2!R219,CSVデータ3!R219,CSVデータ4!R219)","v":0},{"$f":"SUM(CSVデータ1!S219,CSVデータ2!S219,CSVデータ3!S219,CSVデータ4!S219)","v":0},{"$f":"SUM(CSVデータ1!T219,CSVデータ2!T219,CSVデータ3!T219,CSVデータ4!T219)","v":0},{"$f":"SUM(CSVデータ1!U219,CSVデータ2!U219,CSVデータ3!U219,CSVデータ4!U219)","v":0},{"$f":"SUM(CSVデータ1!V219,CSVデータ2!V219,CSVデータ3!V219,CSVデータ4!V219)","v":0},{"$f":"SUM(CSVデータ1!W219,CSVデータ2!W219,CSVデータ3!W219,CSVデータ4!W219)","v":0},{"$f":"SUM(CSVデータ1!X219,CSVデータ2!X219,CSVデータ3!X219,CSVデータ4!X219)","v":0},{"$f":"SUM(CSVデータ1!Y219,CSVデータ2!Y219,CSVデータ3!Y219,CSVデータ4!Y219)","v":0},{"$f":"SUM(CSVデータ1!Z219,CSVデータ2!Z219,CSVデータ3!Z219,CSVデータ4!Z219)","v":0},{"$f":"SUM(CSVデータ1!AA219,CSVデータ2!AA219,CSVデータ3!AA219,CSVデータ4!AA219)","v":0},{"$f":"SUM(CSVデータ1!AB219,CSVデータ2!AB219,CSVデータ3!AB219,CSVデータ4!AB219)","v":0},{"$f":"SUM(CSVデータ1!AC219,CSVデータ2!AC219,CSVデータ3!AC219,CSVデータ4!AC219)","v":0},{"$f":"SUM(CSVデータ1!AD219,CSVデータ2!AD219,CSVデータ3!AD219,CSVデータ4!AD219)","v":0},{"$f":"SUM(CSVデータ1!AE219,CSVデータ2!AE219,CSVデータ3!AE219,CSVデータ4!AE219)","v":0},{"$f":"SUM(CSVデータ1!AF219,CSVデータ2!AF219,CSVデータ3!AF219,CSVデータ4!AF219)","v":0},{"$f":"SUM(CSVデータ1!AG219,CSVデータ2!AG219,CSVデータ3!AG219,CSVデータ4!AG219)","v":0}]
[{"$f":"CSVデータ1!A220","v":"明細部"},{"$f":"CSVデータ1!B220","v":"県"},{"$f":"CSVデータ1!C220","v":113},{"$f":"CSVデータ1!D220","v":"女"},{"$f":"SUM(CSVデータ1!E220,CSVデータ2!E220,CSVデータ3!E220,CSVデータ4!E220)","v":0},{"$f":"SUM(CSVデータ1!F220,CSVデータ2!F220,CSVデータ3!F220,CSVデータ4!F220)","v":0},{"$f":"SUM(CSVデータ1!G220,CSVデータ2!G220,CSVデータ3!G220,CSVデータ4!G220)","v":0},{"$f":"SUM(CSVデータ1!H220,CSVデータ2!H220,CSVデータ3!H220,CSVデータ4!H220)","v":0},{"$f":"SUM(CSVデータ1!I220,CSVデータ2!I220,CSVデータ3!I220,CSVデータ4!I220)","v":0},{"$f":"SUM(CSVデータ1!J220,CSVデータ2!J220,CSVデータ3!J220,CSVデータ4!J220)","v":0},{"$f":"SUM(CSVデータ1!K220,CSVデータ2!K220,CSVデータ3!K220,CSVデータ4!K220)","v":0},{"$f":"SUM(CSVデータ1!L220,CSVデータ2!L220,CSVデータ3!L220,CSVデータ4!L220)","v":0},{"$f":"SUM(CSVデータ1!M220,CSVデータ2!M220,CSVデータ3!M220,CSVデータ4!M220)","v":0},{"$f":"SUM(CSVデータ1!N220,CSVデータ2!N220,CSVデータ3!N220,CSVデータ4!N220)","v":0},{"$f":"SUM(CSVデータ1!O220,CSVデータ2!O220,CSVデータ3!O220,CSVデータ4!O220)","v":0},{"$f":"SUM(CSVデータ1!P220,CSVデータ2!P220,CSVデータ3!P220,CSVデータ4!P220)","v":0},{"$f":"SUM(CSVデータ1!Q220,CSVデータ2!Q220,CSVデータ3!Q220,CSVデータ4!Q220)","v":0},{"$f":"SUM(CSVデータ1!R220,CSVデータ2!R220,CSVデータ3!R220,CSVデータ4!R220)","v":0},{"$f":"SUM(CSVデータ1!S220,CSVデータ2!S220,CSVデータ3!S220,CSVデータ4!S220)","v":0},{"$f":"SUM(CSVデータ1!T220,CSVデータ2!T220,CSVデータ3!T220,CSVデータ4!T220)","v":0},{"$f":"SUM(CSVデータ1!U220,CSVデータ2!U220,CSVデータ3!U220,CSVデータ4!U220)","v":0},{"$f":"SUM(CSVデータ1!V220,CSVデータ2!V220,CSVデータ3!V220,CSVデータ4!V220)","v":0},{"$f":"SUM(CSVデータ1!W220,CSVデータ2!W220,CSVデータ3!W220,CSVデータ4!W220)","v":0},{"$f":"SUM(CSVデータ1!X220,CSVデータ2!X220,CSVデータ3!X220,CSVデータ4!X220)","v":0},{"$f":"SUM(CSVデータ1!Y220,CSVデータ2!Y220,CSVデータ3!Y220,CSVデータ4!Y220)","v":0},{"$f":"SUM(CSVデータ1!Z220,CSVデータ2!Z220,CSVデータ3!Z220,CSVデータ4!Z220)","v":0},{"$f":"SUM(CSVデータ1!AA220,CSVデータ2!AA220,CSVデータ3!AA220,CSVデータ4!AA220)","v":0},{"$f":"SUM(CSVデータ1!AB220,CSVデータ2!AB220,CSVデータ3!AB220,CSVデータ4!AB220)","v":0},{"$f":"SUM(CSVデータ1!AC220,CSVデータ2!AC220,CSVデータ3!AC220,CSVデータ4!AC220)","v":0},{"$f":"SUM(CSVデータ1!AD220,CSVデータ2!AD220,CSVデータ3!AD220,CSVデータ4!AD220)","v":0},{"$f":"SUM(CSVデータ1!AE220,CSVデータ2!AE220,CSVデータ3!AE220,CSVデータ4!AE220)","v":0},{"$f":"SUM(CSVデータ1!AF220,CSVデータ2!AF220,CSVデータ3!AF220,CSVデータ4!AF220)","v":0},{"$f":"SUM(CSVデータ1!AG220,CSVデータ2!AG220,CSVデータ3!AG220,CSVデータ4!AG220)","v":0}]
[{"$f":"CSVデータ1!A221","v":"明細部"},{"$f":"CSVデータ1!B221","v":"県"},{"$f":"CSVデータ1!C221","v":114},{"$f":"CSVデータ1!D221","v":"女"},{"$f":"SUM(CSVデータ1!E221,CSVデータ2!E221,CSVデータ3!E221,CSVデータ4!E221)","v":0},{"$f":"SUM(CSVデータ1!F221,CSVデータ2!F221,CSVデータ3!F221,CSVデータ4!F221)","v":0},{"$f":"SUM(CSVデータ1!G221,CSVデータ2!G221,CSVデータ3!G221,CSVデータ4!G221)","v":0},{"$f":"SUM(CSVデータ1!H221,CSVデータ2!H221,CSVデータ3!H221,CSVデータ4!H221)","v":0},{"$f":"SUM(CSVデータ1!I221,CSVデータ2!I221,CSVデータ3!I221,CSVデータ4!I221)","v":0},{"$f":"SUM(CSVデータ1!J221,CSVデータ2!J221,CSVデータ3!J221,CSVデータ4!J221)","v":0},{"$f":"SUM(CSVデータ1!K221,CSVデータ2!K221,CSVデータ3!K221,CSVデータ4!K221)","v":0},{"$f":"SUM(CSVデータ1!L221,CSVデータ2!L221,CSVデータ3!L221,CSVデータ4!L221)","v":0},{"$f":"SUM(CSVデータ1!M221,CSVデータ2!M221,CSVデータ3!M221,CSVデータ4!M221)","v":0},{"$f":"SUM(CSVデータ1!N221,CSVデータ2!N221,CSVデータ3!N221,CSVデータ4!N221)","v":0},{"$f":"SUM(CSVデータ1!O221,CSVデータ2!O221,CSVデータ3!O221,CSVデータ4!O221)","v":0},{"$f":"SUM(CSVデータ1!P221,CSVデータ2!P221,CSVデータ3!P221,CSVデータ4!P221)","v":0},{"$f":"SUM(CSVデータ1!Q221,CSVデータ2!Q221,CSVデータ3!Q221,CSVデータ4!Q221)","v":0},{"$f":"SUM(CSVデータ1!R221,CSVデータ2!R221,CSVデータ3!R221,CSVデータ4!R221)","v":0},{"$f":"SUM(CSVデータ1!S221,CSVデータ2!S221,CSVデータ3!S221,CSVデータ4!S221)","v":0},{"$f":"SUM(CSVデータ1!T221,CSVデータ2!T221,CSVデータ3!T221,CSVデータ4!T221)","v":0},{"$f":"SUM(CSVデータ1!U221,CSVデータ2!U221,CSVデータ3!U221,CSVデータ4!U221)","v":0},{"$f":"SUM(CSVデータ1!V221,CSVデータ2!V221,CSVデータ3!V221,CSVデータ4!V221)","v":0},{"$f":"SUM(CSVデータ1!W221,CSVデータ2!W221,CSVデータ3!W221,CSVデータ4!W221)","v":0},{"$f":"SUM(CSVデータ1!X221,CSVデータ2!X221,CSVデータ3!X221,CSVデータ4!X221)","v":0},{"$f":"SUM(CSVデータ1!Y221,CSVデータ2!Y221,CSVデータ3!Y221,CSVデータ4!Y221)","v":0},{"$f":"SUM(CSVデータ1!Z221,CSVデータ2!Z221,CSVデータ3!Z221,CSVデータ4!Z221)","v":0},{"$f":"SUM(CSVデータ1!AA221,CSVデータ2!AA221,CSVデータ3!AA221,CSVデータ4!AA221)","v":0},{"$f":"SUM(CSVデータ1!AB221,CSVデータ2!AB221,CSVデータ3!AB221,CSVデータ4!AB221)","v":0},{"$f":"SUM(CSVデータ1!AC221,CSVデータ2!AC221,CSVデータ3!AC221,CSVデータ4!AC221)","v":0},{"$f":"SUM(CSVデータ1!AD221,CSVデータ2!AD221,CSVデータ3!AD221,CSVデータ4!AD221)","v":0},{"$f":"SUM(CSVデータ1!AE221,CSVデータ2!AE221,CSVデータ3!AE221,CSVデータ4!AE221)","v":0},{"$f":"SUM(CSVデータ1!AF221,CSVデータ2!AF221,CSVデータ3!AF221,CSVデータ4!AF221)","v":0},{"$f":"SUM(CSVデータ1!AG221,CSVデータ2!AG221,CSVデータ3!AG221,CSVデータ4!AG221)","v":0}]
[{"$f":"CSVデータ1!A222","v":"明細部"},{"$f":"CSVデータ1!B222","v":"県"},{"$f":"CSVデータ1!C222","v":115},{"$f":"CSVデータ1!D222","v":"女"},{"$f":"SUM(CSVデータ1!E222,CSVデータ2!E222,CSVデータ3!E222,CSVデータ4!E222)","v":0},{"$f":"SUM(CSVデータ1!F222,CSVデータ2!F222,CSVデータ3!F222,CSVデータ4!F222)","v":0},{"$f":"SUM(CSVデータ1!G222,CSVデータ2!G222,CSVデータ3!G222,CSVデータ4!G222)","v":0},{"$f":"SUM(CSVデータ1!H222,CSVデータ2!H222,CSVデータ3!H222,CSVデータ4!H222)","v":0},{"$f":"SUM(CSVデータ1!I222,CSVデータ2!I222,CSVデータ3!I222,CSVデータ4!I222)","v":0},{"$f":"SUM(CSVデータ1!J222,CSVデータ2!J222,CSVデータ3!J222,CSVデータ4!J222)","v":0},{"$f":"SUM(CSVデータ1!K222,CSVデータ2!K222,CSVデータ3!K222,CSVデータ4!K222)","v":0},{"$f":"SUM(CSVデータ1!L222,CSVデータ2!L222,CSVデータ3!L222,CSVデータ4!L222)","v":0},{"$f":"SUM(CSVデータ1!M222,CSVデータ2!M222,CSVデータ3!M222,CSVデータ4!M222)","v":0},{"$f":"SUM(CSVデータ1!N222,CSVデータ2!N222,CSVデータ3!N222,CSVデータ4!N222)","v":0},{"$f":"SUM(CSVデータ1!O222,CSVデータ2!O222,CSVデータ3!O222,CSVデータ4!O222)","v":0},{"$f":"SUM(CSVデータ1!P222,CSVデータ2!P222,CSVデータ3!P222,CSVデータ4!P222)","v":0},{"$f":"SUM(CSVデータ1!Q222,CSVデータ2!Q222,CSVデータ3!Q222,CSVデータ4!Q222)","v":0},{"$f":"SUM(CSVデータ1!R222,CSVデータ2!R222,CSVデータ3!R222,CSVデータ4!R222)","v":0},{"$f":"SUM(CSVデータ1!S222,CSVデータ2!S222,CSVデータ3!S222,CSVデータ4!S222)","v":0},{"$f":"SUM(CSVデータ1!T222,CSVデータ2!T222,CSVデータ3!T222,CSVデータ4!T222)","v":0},{"$f":"SUM(CSVデータ1!U222,CSVデータ2!U222,CSVデータ3!U222,CSVデータ4!U222)","v":0},{"$f":"SUM(CSVデータ1!V222,CSVデータ2!V222,CSVデータ3!V222,CSVデータ4!V222)","v":0},{"$f":"SUM(CSVデータ1!W222,CSVデータ2!W222,CSVデータ3!W222,CSVデータ4!W222)","v":0},{"$f":"SUM(CSVデータ1!X222,CSVデータ2!X222,CSVデータ3!X222,CSVデータ4!X222)","v":0},{"$f":"SUM(CSVデータ1!Y222,CSVデータ2!Y222,CSVデータ3!Y222,CSVデータ4!Y222)","v":0},{"$f":"SUM(CSVデータ1!Z222,CSVデータ2!Z222,CSVデータ3!Z222,CSVデータ4!Z222)","v":0},{"$f":"SUM(CSVデータ1!AA222,CSVデータ2!AA222,CSVデータ3!AA222,CSVデータ4!AA222)","v":0},{"$f":"SUM(CSVデータ1!AB222,CSVデータ2!AB222,CSVデータ3!AB222,CSVデータ4!AB222)","v":0},{"$f":"SUM(CSVデータ1!AC222,CSVデータ2!AC222,CSVデータ3!AC222,CSVデータ4!AC222)","v":0},{"$f":"SUM(CSVデータ1!AD222,CSVデータ2!AD222,CSVデータ3!AD222,CSVデータ4!AD222)","v":0},{"$f":"SUM(CSVデータ1!AE222,CSVデータ2!AE222,CSVデータ3!AE222,CSVデータ4!AE222)","v":0},{"$f":"SUM(CSVデータ1!AF222,CSVデータ2!AF222,CSVデータ3!AF222,CSVデータ4!AF222)","v":0},{"$f":"SUM(CSVデータ1!AG222,CSVデータ2!AG222,CSVデータ3!AG222,CSVデータ4!AG222)","v":0}]
[{"$f":"CSVデータ1!A223","v":"明細部"},{"$f":"CSVデータ1!B223","v":"県"},{"$f":"CSVデータ1!C223","v":116},{"$f":"CSVデータ1!D223","v":"女"},{"$f":"SUM(CSVデータ1!E223,CSVデータ2!E223,CSVデータ3!E223,CSVデータ4!E223)","v":0},{"$f":"SUM(CSVデータ1!F223,CSVデータ2!F223,CSVデータ3!F223,CSVデータ4!F223)","v":0},{"$f":"SUM(CSVデータ1!G223,CSVデータ2!G223,CSVデータ3!G223,CSVデータ4!G223)","v":0},{"$f":"SUM(CSVデータ1!H223,CSVデータ2!H223,CSVデータ3!H223,CSVデータ4!H223)","v":0},{"$f":"SUM(CSVデータ1!I223,CSVデータ2!I223,CSVデータ3!I223,CSVデータ4!I223)","v":0},{"$f":"SUM(CSVデータ1!J223,CSVデータ2!J223,CSVデータ3!J223,CSVデータ4!J223)","v":0},{"$f":"SUM(CSVデータ1!K223,CSVデータ2!K223,CSVデータ3!K223,CSVデータ4!K223)","v":0},{"$f":"SUM(CSVデータ1!L223,CSVデータ2!L223,CSVデータ3!L223,CSVデータ4!L223)","v":0},{"$f":"SUM(CSVデータ1!M223,CSVデータ2!M223,CSVデータ3!M223,CSVデータ4!M223)","v":0},{"$f":"SUM(CSVデータ1!N223,CSVデータ2!N223,CSVデータ3!N223,CSVデータ4!N223)","v":0},{"$f":"SUM(CSVデータ1!O223,CSVデータ2!O223,CSVデータ3!O223,CSVデータ4!O223)","v":0},{"$f":"SUM(CSVデータ1!P223,CSVデータ2!P223,CSVデータ3!P223,CSVデータ4!P223)","v":0},{"$f":"SUM(CSVデータ1!Q223,CSVデータ2!Q223,CSVデータ3!Q223,CSVデータ4!Q223)","v":0},{"$f":"SUM(CSVデータ1!R223,CSVデータ2!R223,CSVデータ3!R223,CSVデータ4!R223)","v":0},{"$f":"SUM(CSVデータ1!S223,CSVデータ2!S223,CSVデータ3!S223,CSVデータ4!S223)","v":0},{"$f":"SUM(CSVデータ1!T223,CSVデータ2!T223,CSVデータ3!T223,CSVデータ4!T223)","v":0},{"$f":"SUM(CSVデータ1!U223,CSVデータ2!U223,CSVデータ3!U223,CSVデータ4!U223)","v":0},{"$f":"SUM(CSVデータ1!V223,CSVデータ2!V223,CSVデータ3!V223,CSVデータ4!V223)","v":0},{"$f":"SUM(CSVデータ1!W223,CSVデータ2!W223,CSVデータ3!W223,CSVデータ4!W223)","v":0},{"$f":"SUM(CSVデータ1!X223,CSVデータ2!X223,CSVデータ3!X223,CSVデータ4!X223)","v":0},{"$f":"SUM(CSVデータ1!Y223,CSVデータ2!Y223,CSVデータ3!Y223,CSVデータ4!Y223)","v":0},{"$f":"SUM(CSVデータ1!Z223,CSVデータ2!Z223,CSVデータ3!Z223,CSVデータ4!Z223)","v":0},{"$f":"SUM(CSVデータ1!AA223,CSVデータ2!AA223,CSVデータ3!AA223,CSVデータ4!AA223)","v":0},{"$f":"SUM(CSVデータ1!AB223,CSVデータ2!AB223,CSVデータ3!AB223,CSVデータ4!AB223)","v":0},{"$f":"SUM(CSVデータ1!AC223,CSVデータ2!AC223,CSVデータ3!AC223,CSVデータ4!AC223)","v":0},{"$f":"SUM(CSVデータ1!AD223,CSVデータ2!AD223,CSVデータ3!AD223,CSVデータ4!AD223)","v":0},{"$f":"SUM(CSVデータ1!AE223,CSVデータ2!AE223,CSVデータ3!AE223,CSVデータ4!AE223)","v":0},{"$f":"SUM(CSVデータ1!AF223,CSVデータ2!AF223,CSVデータ3!AF223,CSVデータ4!AF223)","v":0},{"$f":"SUM(CSVデータ1!AG223,CSVデータ2!AG223,CSVデータ3!AG223,CSVデータ4!AG223)","v":0}]
[{"$f":"CSVデータ1!A224","v":"明細部"},{"$f":"CSVデータ1!B224","v":"県"},{"$f":"CSVデータ1!C224","v":117},{"$f":"CSVデータ1!D224","v":"女"},{"$f":"SUM(CSVデータ1!E224,CSVデータ2!E224,CSVデータ3!E224,CSVデータ4!E224)","v":0},{"$f":"SUM(CSVデータ1!F224,CSVデータ2!F224,CSVデータ3!F224,CSVデータ4!F224)","v":0},{"$f":"SUM(CSVデータ1!G224,CSVデータ2!G224,CSVデータ3!G224,CSVデータ4!G224)","v":0},{"$f":"SUM(CSVデータ1!H224,CSVデータ2!H224,CSVデータ3!H224,CSVデータ4!H224)","v":0},{"$f":"SUM(CSVデータ1!I224,CSVデータ2!I224,CSVデータ3!I224,CSVデータ4!I224)","v":0},{"$f":"SUM(CSVデータ1!J224,CSVデータ2!J224,CSVデータ3!J224,CSVデータ4!J224)","v":0},{"$f":"SUM(CSVデータ1!K224,CSVデータ2!K224,CSVデータ3!K224,CSVデータ4!K224)","v":0},{"$f":"SUM(CSVデータ1!L224,CSVデータ2!L224,CSVデータ3!L224,CSVデータ4!L224)","v":0},{"$f":"SUM(CSVデータ1!M224,CSVデータ2!M224,CSVデータ3!M224,CSVデータ4!M224)","v":0},{"$f":"SUM(CSVデータ1!N224,CSVデータ2!N224,CSVデータ3!N224,CSVデータ4!N224)","v":0},{"$f":"SUM(CSVデータ1!O224,CSVデータ2!O224,CSVデータ3!O224,CSVデータ4!O224)","v":0},{"$f":"SUM(CSVデータ1!P224,CSVデータ2!P224,CSVデータ3!P224,CSVデータ4!P224)","v":0},{"$f":"SUM(CSVデータ1!Q224,CSVデータ2!Q224,CSVデータ3!Q224,CSVデータ4!Q224)","v":0},{"$f":"SUM(CSVデータ1!R224,CSVデータ2!R224,CSVデータ3!R224,CSVデータ4!R224)","v":0},{"$f":"SUM(CSVデータ1!S224,CSVデータ2!S224,CSVデータ3!S224,CSVデータ4!S224)","v":0},{"$f":"SUM(CSVデータ1!T224,CSVデータ2!T224,CSVデータ3!T224,CSVデータ4!T224)","v":0},{"$f":"SUM(CSVデータ1!U224,CSVデータ2!U224,CSVデータ3!U224,CSVデータ4!U224)","v":0},{"$f":"SUM(CSVデータ1!V224,CSVデータ2!V224,CSVデータ3!V224,CSVデータ4!V224)","v":0},{"$f":"SUM(CSVデータ1!W224,CSVデータ2!W224,CSVデータ3!W224,CSVデータ4!W224)","v":0},{"$f":"SUM(CSVデータ1!X224,CSVデータ2!X224,CSVデータ3!X224,CSVデータ4!X224)","v":0},{"$f":"SUM(CSVデータ1!Y224,CSVデータ2!Y224,CSVデータ3!Y224,CSVデータ4!Y224)","v":0},{"$f":"SUM(CSVデータ1!Z224,CSVデータ2!Z224,CSVデータ3!Z224,CSVデータ4!Z224)","v":0},{"$f":"SUM(CSVデータ1!AA224,CSVデータ2!AA224,CSVデータ3!AA224,CSVデータ4!AA224)","v":0},{"$f":"SUM(CSVデータ1!AB224,CSVデータ2!AB224,CSVデータ3!AB224,CSVデータ4!AB224)","v":0},{"$f":"SUM(CSVデータ1!AC224,CSVデータ2!AC224,CSVデータ3!AC224,CSVデータ4!AC224)","v":0},{"$f":"SUM(CSVデータ1!AD224,CSVデータ2!AD224,CSVデータ3!AD224,CSVデータ4!AD224)","v":0},{"$f":"SUM(CSVデータ1!AE224,CSVデータ2!AE224,CSVデータ3!AE224,CSVデータ4!AE224)","v":0},{"$f":"SUM(CSVデータ1!AF224,CSVデータ2!AF224,CSVデータ3!AF224,CSVデータ4!AF224)","v":0},{"$f":"SUM(CSVデータ1!AG224,CSVデータ2!AG224,CSVデータ3!AG224,CSVデータ4!AG224)","v":0}]
[{"$f":"CSVデータ1!A225","v":"明細部"},{"$f":"CSVデータ1!B225","v":"県"},{"$f":"CSVデータ1!C225","v":118},{"$f":"CSVデータ1!D225","v":"女"},{"$f":"SUM(CSVデータ1!E225,CSVデータ2!E225,CSVデータ3!E225,CSVデータ4!E225)","v":0},{"$f":"SUM(CSVデータ1!F225,CSVデータ2!F225,CSVデータ3!F225,CSVデータ4!F225)","v":0},{"$f":"SUM(CSVデータ1!G225,CSVデータ2!G225,CSVデータ3!G225,CSVデータ4!G225)","v":0},{"$f":"SUM(CSVデータ1!H225,CSVデータ2!H225,CSVデータ3!H225,CSVデータ4!H225)","v":0},{"$f":"SUM(CSVデータ1!I225,CSVデータ2!I225,CSVデータ3!I225,CSVデータ4!I225)","v":0},{"$f":"SUM(CSVデータ1!J225,CSVデータ2!J225,CSVデータ3!J225,CSVデータ4!J225)","v":0},{"$f":"SUM(CSVデータ1!K225,CSVデータ2!K225,CSVデータ3!K225,CSVデータ4!K225)","v":0},{"$f":"SUM(CSVデータ1!L225,CSVデータ2!L225,CSVデータ3!L225,CSVデータ4!L225)","v":0},{"$f":"SUM(CSVデータ1!M225,CSVデータ2!M225,CSVデータ3!M225,CSVデータ4!M225)","v":0},{"$f":"SUM(CSVデータ1!N225,CSVデータ2!N225,CSVデータ3!N225,CSVデータ4!N225)","v":0},{"$f":"SUM(CSVデータ1!O225,CSVデータ2!O225,CSVデータ3!O225,CSVデータ4!O225)","v":0},{"$f":"SUM(CSVデータ1!P225,CSVデータ2!P225,CSVデータ3!P225,CSVデータ4!P225)","v":0},{"$f":"SUM(CSVデータ1!Q225,CSVデータ2!Q225,CSVデータ3!Q225,CSVデータ4!Q225)","v":0},{"$f":"SUM(CSVデータ1!R225,CSVデータ2!R225,CSVデータ3!R225,CSVデータ4!R225)","v":0},{"$f":"SUM(CSVデータ1!S225,CSVデータ2!S225,CSVデータ3!S225,CSVデータ4!S225)","v":0},{"$f":"SUM(CSVデータ1!T225,CSVデータ2!T225,CSVデータ3!T225,CSVデータ4!T225)","v":0},{"$f":"SUM(CSVデータ1!U225,CSVデータ2!U225,CSVデータ3!U225,CSVデータ4!U225)","v":0},{"$f":"SUM(CSVデータ1!V225,CSVデータ2!V225,CSVデータ3!V225,CSVデータ4!V225)","v":0},{"$f":"SUM(CSVデータ1!W225,CSVデータ2!W225,CSVデータ3!W225,CSVデータ4!W225)","v":0},{"$f":"SUM(CSVデータ1!X225,CSVデータ2!X225,CSVデータ3!X225,CSVデータ4!X225)","v":0},{"$f":"SUM(CSVデータ1!Y225,CSVデータ2!Y225,CSVデータ3!Y225,CSVデータ4!Y225)","v":0},{"$f":"SUM(CSVデータ1!Z225,CSVデータ2!Z225,CSVデータ3!Z225,CSVデータ4!Z225)","v":0},{"$f":"SUM(CSVデータ1!AA225,CSVデータ2!AA225,CSVデータ3!AA225,CSVデータ4!AA225)","v":0},{"$f":"SUM(CSVデータ1!AB225,CSVデータ2!AB225,CSVデータ3!AB225,CSVデータ4!AB225)","v":0},{"$f":"SUM(CSVデータ1!AC225,CSVデータ2!AC225,CSVデータ3!AC225,CSVデータ4!AC225)","v":0},{"$f":"SUM(CSVデータ1!AD225,CSVデータ2!AD225,CSVデータ3!AD225,CSVデータ4!AD225)","v":0},{"$f":"SUM(CSVデータ1!AE225,CSVデータ2!AE225,CSVデータ3!AE225,CSVデータ4!AE225)","v":0},{"$f":"SUM(CSVデータ1!AF225,CSVデータ2!AF225,CSVデータ3!AF225,CSVデータ4!AF225)","v":0},{"$f":"SUM(CSVデータ1!AG225,CSVデータ2!AG225,CSVデータ3!AG225,CSVデータ4!AG225)","v":0}]
[{"$f":"CSVデータ1!A226","v":"明細部"},{"$f":"CSVデータ1!B226","v":"県"},{"$f":"CSVデータ1!C226","v":119},{"$f":"CSVデータ1!D226","v":"女"},{"$f":"SUM(CSVデータ1!E226,CSVデータ2!E226,CSVデータ3!E226,CSVデータ4!E226)","v":0},{"$f":"SUM(CSVデータ1!F226,CSVデータ2!F226,CSVデータ3!F226,CSVデータ4!F226)","v":0},{"$f":"SUM(CSVデータ1!G226,CSVデータ2!G226,CSVデータ3!G226,CSVデータ4!G226)","v":0},{"$f":"SUM(CSVデータ1!H226,CSVデータ2!H226,CSVデータ3!H226,CSVデータ4!H226)","v":0},{"$f":"SUM(CSVデータ1!I226,CSVデータ2!I226,CSVデータ3!I226,CSVデータ4!I226)","v":0},{"$f":"SUM(CSVデータ1!J226,CSVデータ2!J226,CSVデータ3!J226,CSVデータ4!J226)","v":0},{"$f":"SUM(CSVデータ1!K226,CSVデータ2!K226,CSVデータ3!K226,CSVデータ4!K226)","v":0},{"$f":"SUM(CSVデータ1!L226,CSVデータ2!L226,CSVデータ3!L226,CSVデータ4!L226)","v":0},{"$f":"SUM(CSVデータ1!M226,CSVデータ2!M226,CSVデータ3!M226,CSVデータ4!M226)","v":0},{"$f":"SUM(CSVデータ1!N226,CSVデータ2!N226,CSVデータ3!N226,CSVデータ4!N226)","v":0},{"$f":"SUM(CSVデータ1!O226,CSVデータ2!O226,CSVデータ3!O226,CSVデータ4!O226)","v":0},{"$f":"SUM(CSVデータ1!P226,CSVデータ2!P226,CSVデータ3!P226,CSVデータ4!P226)","v":0},{"$f":"SUM(CSVデータ1!Q226,CSVデータ2!Q226,CSVデータ3!Q226,CSVデータ4!Q226)","v":0},{"$f":"SUM(CSVデータ1!R226,CSVデータ2!R226,CSVデータ3!R226,CSVデータ4!R226)","v":0},{"$f":"SUM(CSVデータ1!S226,CSVデータ2!S226,CSVデータ3!S226,CSVデータ4!S226)","v":0},{"$f":"SUM(CSVデータ1!T226,CSVデータ2!T226,CSVデータ3!T226,CSVデータ4!T226)","v":0},{"$f":"SUM(CSVデータ1!U226,CSVデータ2!U226,CSVデータ3!U226,CSVデータ4!U226)","v":0},{"$f":"SUM(CSVデータ1!V226,CSVデータ2!V226,CSVデータ3!V226,CSVデータ4!V226)","v":0},{"$f":"SUM(CSVデータ1!W226,CSVデータ2!W226,CSVデータ3!W226,CSVデータ4!W226)","v":0},{"$f":"SUM(CSVデータ1!X226,CSVデータ2!X226,CSVデータ3!X226,CSVデータ4!X226)","v":0},{"$f":"SUM(CSVデータ1!Y226,CSVデータ2!Y226,CSVデータ3!Y226,CSVデータ4!Y226)","v":0},{"$f":"SUM(CSVデータ1!Z226,CSVデータ2!Z226,CSVデータ3!Z226,CSVデータ4!Z226)","v":0},{"$f":"SUM(CSVデータ1!AA226,CSVデータ2!AA226,CSVデータ3!AA226,CSVデータ4!AA226)","v":0},{"$f":"SUM(CSVデータ1!AB226,CSVデータ2!AB226,CSVデータ3!AB226,CSVデータ4!AB226)","v":0},{"$f":"SUM(CSVデータ1!AC226,CSVデータ2!AC226,CSVデータ3!AC226,CSVデータ4!AC226)","v":0},{"$f":"SUM(CSVデータ1!AD226,CSVデータ2!AD226,CSVデータ3!AD226,CSVデータ4!AD226)","v":0},{"$f":"SUM(CSVデータ1!AE226,CSVデータ2!AE226,CSVデータ3!AE226,CSVデータ4!AE226)","v":0},{"$f":"SUM(CSVデータ1!AF226,CSVデータ2!AF226,CSVデータ3!AF226,CSVデータ4!AF226)","v":0},{"$f":"SUM(CSVデータ1!AG226,CSVデータ2!AG226,CSVデータ3!AG226,CSVデータ4!AG226)","v":0}]
[{"$f":"CSVデータ1!A227","v":"明細部"},{"$f":"CSVデータ1!B227","v":"県"},{"$f":"CSVデータ1!C227","v":120},{"$f":"CSVデータ1!D227","v":"女"},{"$f":"SUM(CSVデータ1!E227,CSVデータ2!E227,CSVデータ3!E227,CSVデータ4!E227)","v":0},{"$f":"SUM(CSVデータ1!F227,CSVデータ2!F227,CSVデータ3!F227,CSVデータ4!F227)","v":0},{"$f":"SUM(CSVデータ1!G227,CSVデータ2!G227,CSVデータ3!G227,CSVデータ4!G227)","v":0},{"$f":"SUM(CSVデータ1!H227,CSVデータ2!H227,CSVデータ3!H227,CSVデータ4!H227)","v":0},{"$f":"SUM(CSVデータ1!I227,CSVデータ2!I227,CSVデータ3!I227,CSVデータ4!I227)","v":0},{"$f":"SUM(CSVデータ1!J227,CSVデータ2!J227,CSVデータ3!J227,CSVデータ4!J227)","v":0},{"$f":"SUM(CSVデータ1!K227,CSVデータ2!K227,CSVデータ3!K227,CSVデータ4!K227)","v":0},{"$f":"SUM(CSVデータ1!L227,CSVデータ2!L227,CSVデータ3!L227,CSVデータ4!L227)","v":0},{"$f":"SUM(CSVデータ1!M227,CSVデータ2!M227,CSVデータ3!M227,CSVデータ4!M227)","v":0},{"$f":"SUM(CSVデータ1!N227,CSVデータ2!N227,CSVデータ3!N227,CSVデータ4!N227)","v":0},{"$f":"SUM(CSVデータ1!O227,CSVデータ2!O227,CSVデータ3!O227,CSVデータ4!O227)","v":0},{"$f":"SUM(CSVデータ1!P227,CSVデータ2!P227,CSVデータ3!P227,CSVデータ4!P227)","v":0},{"$f":"SUM(CSVデータ1!Q227,CSVデータ2!Q227,CSVデータ3!Q227,CSVデータ4!Q227)","v":0},{"$f":"SUM(CSVデータ1!R227,CSVデータ2!R227,CSVデータ3!R227,CSVデータ4!R227)","v":0},{"$f":"SUM(CSVデータ1!S227,CSVデータ2!S227,CSVデータ3!S227,CSVデータ4!S227)","v":0},{"$f":"SUM(CSVデータ1!T227,CSVデータ2!T227,CSVデータ3!T227,CSVデータ4!T227)","v":0},{"$f":"SUM(CSVデータ1!U227,CSVデータ2!U227,CSVデータ3!U227,CSVデータ4!U227)","v":0},{"$f":"SUM(CSVデータ1!V227,CSVデータ2!V227,CSVデータ3!V227,CSVデータ4!V227)","v":0},{"$f":"SUM(CSVデータ1!W227,CSVデータ2!W227,CSVデータ3!W227,CSVデータ4!W227)","v":0},{"$f":"SUM(CSVデータ1!X227,CSVデータ2!X227,CSVデータ3!X227,CSVデータ4!X227)","v":0},{"$f":"SUM(CSVデータ1!Y227,CSVデータ2!Y227,CSVデータ3!Y227,CSVデータ4!Y227)","v":0},{"$f":"SUM(CSVデータ1!Z227,CSVデータ2!Z227,CSVデータ3!Z227,CSVデータ4!Z227)","v":0},{"$f":"SUM(CSVデータ1!AA227,CSVデータ2!AA227,CSVデータ3!AA227,CSVデータ4!AA227)","v":0},{"$f":"SUM(CSVデータ1!AB227,CSVデータ2!AB227,CSVデータ3!AB227,CSVデータ4!AB227)","v":0},{"$f":"SUM(CSVデータ1!AC227,CSVデータ2!AC227,CSVデータ3!AC227,CSVデータ4!AC227)","v":0},{"$f":"SUM(CSVデータ1!AD227,CSVデータ2!AD227,CSVデータ3!AD227,CSVデータ4!AD227)","v":0},{"$f":"SUM(CSVデータ1!AE227,CSVデータ2!AE227,CSVデータ3!AE227,CSVデータ4!AE227)","v":0},{"$f":"SUM(CSVデータ1!AF227,CSVデータ2!AF227,CSVデータ3!AF227,CSVデータ4!AF227)","v":0},{"$f":"SUM(CSVデータ1!AG227,CSVデータ2!AG227,CSVデータ3!AG227,CSVデータ4!AG227)","v":0}]
[{"$f":"CSVデータ1!A228","v":"明細部"},{"$f":"CSVデータ1!B228","v":"保険者（地区）"},{"$f":"CSVデータ1!C228","v":65},{"$f":"CSVデータ1!D228","v":"男"},{"$f":"SUM(CSVデータ1!E228,CSVデータ2!E228,CSVデータ3!E228,CSVデータ4!E228)","v":0},{"$f":"SUM(CSVデータ1!F228,CSVデータ2!F228,CSVデータ3!F228,CSVデータ4!F228)","v":0},{"$f":"SUM(CSVデータ1!G228,CSVデータ2!G228,CSVデータ3!G228,CSVデータ4!G228)","v":0},{"$f":"SUM(CSVデータ1!H228,CSVデータ2!H228,CSVデータ3!H228,CSVデータ4!H228)","v":0},{"$f":"SUM(CSVデータ1!I228,CSVデータ2!I228,CSVデータ3!I228,CSVデータ4!I228)","v":0},{"$f":"SUM(CSVデータ1!J228,CSVデータ2!J228,CSVデータ3!J228,CSVデータ4!J228)","v":0},{"$f":"SUM(CSVデータ1!K228,CSVデータ2!K228,CSVデータ3!K228,CSVデータ4!K228)","v":0},{"$f":"SUM(CSVデータ1!L228,CSVデータ2!L228,CSVデータ3!L228,CSVデータ4!L228)","v":0},{"$f":"SUM(CSVデータ1!M228,CSVデータ2!M228,CSVデータ3!M228,CSVデータ4!M228)","v":0},{"$f":"SUM(CSVデータ1!N228,CSVデータ2!N228,CSVデータ3!N228,CSVデータ4!N228)","v":0},{"$f":"SUM(CSVデータ1!O228,CSVデータ2!O228,CSVデータ3!O228,CSVデータ4!O228)","v":0},{"$f":"SUM(CSVデータ1!P228,CSVデータ2!P228,CSVデータ3!P228,CSVデータ4!P228)","v":0},{"$f":"SUM(CSVデータ1!Q228,CSVデータ2!Q228,CSVデータ3!Q228,CSVデータ4!Q228)","v":0},{"$f":"SUM(CSVデータ1!R228,CSVデータ2!R228,CSVデータ3!R228,CSVデータ4!R228)","v":0},{"$f":"SUM(CSVデータ1!S228,CSVデータ2!S228,CSVデータ3!S228,CSVデータ4!S228)","v":0},{"$f":"SUM(CSVデータ1!T228,CSVデータ2!T228,CSVデータ3!T228,CSVデータ4!T228)","v":0},{"$f":"SUM(CSVデータ1!U228,CSVデータ2!U228,CSVデータ3!U228,CSVデータ4!U228)","v":0},{"$f":"SUM(CSVデータ1!V228,CSVデータ2!V228,CSVデータ3!V228,CSVデータ4!V228)","v":0},{"$f":"SUM(CSVデータ1!W228,CSVデータ2!W228,CSVデータ3!W228,CSVデータ4!W228)","v":0},{"$f":"SUM(CSVデータ1!X228,CSVデータ2!X228,CSVデータ3!X228,CSVデータ4!X228)","v":0},{"$f":"SUM(CSVデータ1!Y228,CSVデータ2!Y228,CSVデータ3!Y228,CSVデータ4!Y228)","v":0},{"$f":"SUM(CSVデータ1!Z228,CSVデータ2!Z228,CSVデータ3!Z228,CSVデータ4!Z228)","v":0},{"$f":"SUM(CSVデータ1!AA228,CSVデータ2!AA228,CSVデータ3!AA228,CSVデータ4!AA228)","v":0},{"$f":"SUM(CSVデータ1!AB228,CSVデータ2!AB228,CSVデータ3!AB228,CSVデータ4!AB228)","v":0},{"$f":"SUM(CSVデータ1!AC228,CSVデータ2!AC228,CSVデータ3!AC228,CSVデータ4!AC228)","v":0},{"$f":"SUM(CSVデータ1!AD228,CSVデータ2!AD228,CSVデータ3!AD228,CSVデータ4!AD228)","v":0},{"$f":"SUM(CSVデータ1!AE228,CSVデータ2!AE228,CSVデータ3!AE228,CSVデータ4!AE228)","v":0},{"$f":"SUM(CSVデータ1!AF228,CSVデータ2!AF228,CSVデータ3!AF228,CSVデータ4!AF228)","v":0},{"$f":"SUM(CSVデータ1!AG228,CSVデータ2!AG228,CSVデータ3!AG228,CSVデータ4!AG228)","v":0}]
[{"$f":"CSVデータ1!A229","v":"明細部"},{"$f":"CSVデータ1!B229","v":"保険者（地区）"},{"$f":"CSVデータ1!C229","v":66},{"$f":"CSVデータ1!D229","v":"男"},{"$f":"SUM(CSVデータ1!E229,CSVデータ2!E229,CSVデータ3!E229,CSVデータ4!E229)","v":0},{"$f":"SUM(CSVデータ1!F229,CSVデータ2!F229,CSVデータ3!F229,CSVデータ4!F229)","v":0},{"$f":"SUM(CSVデータ1!G229,CSVデータ2!G229,CSVデータ3!G229,CSVデータ4!G229)","v":0},{"$f":"SUM(CSVデータ1!H229,CSVデータ2!H229,CSVデータ3!H229,CSVデータ4!H229)","v":0},{"$f":"SUM(CSVデータ1!I229,CSVデータ2!I229,CSVデータ3!I229,CSVデータ4!I229)","v":0},{"$f":"SUM(CSVデータ1!J229,CSVデータ2!J229,CSVデータ3!J229,CSVデータ4!J229)","v":0},{"$f":"SUM(CSVデータ1!K229,CSVデータ2!K229,CSVデータ3!K229,CSVデータ4!K229)","v":0},{"$f":"SUM(CSVデータ1!L229,CSVデータ2!L229,CSVデータ3!L229,CSVデータ4!L229)","v":0},{"$f":"SUM(CSVデータ1!M229,CSVデータ2!M229,CSVデータ3!M229,CSVデータ4!M229)","v":0},{"$f":"SUM(CSVデータ1!N229,CSVデータ2!N229,CSVデータ3!N229,CSVデータ4!N229)","v":0},{"$f":"SUM(CSVデータ1!O229,CSVデータ2!O229,CSVデータ3!O229,CSVデータ4!O229)","v":0},{"$f":"SUM(CSVデータ1!P229,CSVデータ2!P229,CSVデータ3!P229,CSVデータ4!P229)","v":0},{"$f":"SUM(CSVデータ1!Q229,CSVデータ2!Q229,CSVデータ3!Q229,CSVデータ4!Q229)","v":0},{"$f":"SUM(CSVデータ1!R229,CSVデータ2!R229,CSVデータ3!R229,CSVデータ4!R229)","v":0},{"$f":"SUM(CSVデータ1!S229,CSVデータ2!S229,CSVデータ3!S229,CSVデータ4!S229)","v":0},{"$f":"SUM(CSVデータ1!T229,CSVデータ2!T229,CSVデータ3!T229,CSVデータ4!T229)","v":0},{"$f":"SUM(CSVデータ1!U229,CSVデータ2!U229,CSVデータ3!U229,CSVデータ4!U229)","v":0},{"$f":"SUM(CSVデータ1!V229,CSVデータ2!V229,CSVデータ3!V229,CSVデータ4!V229)","v":0},{"$f":"SUM(CSVデータ1!W229,CSVデータ2!W229,CSVデータ3!W229,CSVデータ4!W229)","v":0},{"$f":"SUM(CSVデータ1!X229,CSVデータ2!X229,CSVデータ3!X229,CSVデータ4!X229)","v":0},{"$f":"SUM(CSVデータ1!Y229,CSVデータ2!Y229,CSVデータ3!Y229,CSVデータ4!Y229)","v":0},{"$f":"SUM(CSVデータ1!Z229,CSVデータ2!Z229,CSVデータ3!Z229,CSVデータ4!Z229)","v":0},{"$f":"SUM(CSVデータ1!AA229,CSVデータ2!AA229,CSVデータ3!AA229,CSVデータ4!AA229)","v":0},{"$f":"SUM(CSVデータ1!AB229,CSVデータ2!AB229,CSVデータ3!AB229,CSVデータ4!AB229)","v":0},{"$f":"SUM(CSVデータ1!AC229,CSVデータ2!AC229,CSVデータ3!AC229,CSVデータ4!AC229)","v":0},{"$f":"SUM(CSVデータ1!AD229,CSVデータ2!AD229,CSVデータ3!AD229,CSVデータ4!AD229)","v":0},{"$f":"SUM(CSVデータ1!AE229,CSVデータ2!AE229,CSVデータ3!AE229,CSVデータ4!AE229)","v":0},{"$f":"SUM(CSVデータ1!AF229,CSVデータ2!AF229,CSVデータ3!AF229,CSVデータ4!AF229)","v":0},{"$f":"SUM(CSVデータ1!AG229,CSVデータ2!AG229,CSVデータ3!AG229,CSVデータ4!AG229)","v":0}]
[{"$f":"CSVデータ1!A230","v":"明細部"},{"$f":"CSVデータ1!B230","v":"保険者（地区）"},{"$f":"CSVデータ1!C230","v":67},{"$f":"CSVデータ1!D230","v":"男"},{"$f":"SUM(CSVデータ1!E230,CSVデータ2!E230,CSVデータ3!E230,CSVデータ4!E230)","v":0},{"$f":"SUM(CSVデータ1!F230,CSVデータ2!F230,CSVデータ3!F230,CSVデータ4!F230)","v":0},{"$f":"SUM(CSVデータ1!G230,CSVデータ2!G230,CSVデータ3!G230,CSVデータ4!G230)","v":0},{"$f":"SUM(CSVデータ1!H230,CSVデータ2!H230,CSVデータ3!H230,CSVデータ4!H230)","v":0},{"$f":"SUM(CSVデータ1!I230,CSVデータ2!I230,CSVデータ3!I230,CSVデータ4!I230)","v":0},{"$f":"SUM(CSVデータ1!J230,CSVデータ2!J230,CSVデータ3!J230,CSVデータ4!J230)","v":0},{"$f":"SUM(CSVデータ1!K230,CSVデータ2!K230,CSVデータ3!K230,CSVデータ4!K230)","v":0},{"$f":"SUM(CSVデータ1!L230,CSVデータ2!L230,CSVデータ3!L230,CSVデータ4!L230)","v":0},{"$f":"SUM(CSVデータ1!M230,CSVデータ2!M230,CSVデータ3!M230,CSVデータ4!M230)","v":0},{"$f":"SUM(CSVデータ1!N230,CSVデータ2!N230,CSVデータ3!N230,CSVデータ4!N230)","v":0},{"$f":"SUM(CSVデータ1!O230,CSVデータ2!O230,CSVデータ3!O230,CSVデータ4!O230)","v":0},{"$f":"SUM(CSVデータ1!P230,CSVデータ2!P230,CSVデータ3!P230,CSVデータ4!P230)","v":0},{"$f":"SUM(CSVデータ1!Q230,CSVデータ2!Q230,CSVデータ3!Q230,CSVデータ4!Q230)","v":0},{"$f":"SUM(CSVデータ1!R230,CSVデータ2!R230,CSVデータ3!R230,CSVデータ4!R230)","v":0},{"$f":"SUM(CSVデータ1!S230,CSVデータ2!S230,CSVデータ3!S230,CSVデータ4!S230)","v":0},{"$f":"SUM(CSVデータ1!T230,CSVデータ2!T230,CSVデータ3!T230,CSVデータ4!T230)","v":0},{"$f":"SUM(CSVデータ1!U230,CSVデータ2!U230,CSVデータ3!U230,CSVデータ4!U230)","v":0},{"$f":"SUM(CSVデータ1!V230,CSVデータ2!V230,CSVデータ3!V230,CSVデータ4!V230)","v":0},{"$f":"SUM(CSVデータ1!W230,CSVデータ2!W230,CSVデータ3!W230,CSVデータ4!W230)","v":0},{"$f":"SUM(CSVデータ1!X230,CSVデータ2!X230,CSVデータ3!X230,CSVデータ4!X230)","v":0},{"$f":"SUM(CSVデータ1!Y230,CSVデータ2!Y230,CSVデータ3!Y230,CSVデータ4!Y230)","v":0},{"$f":"SUM(CSVデータ1!Z230,CSVデータ2!Z230,CSVデータ3!Z230,CSVデータ4!Z230)","v":0},{"$f":"SUM(CSVデータ1!AA230,CSVデータ2!AA230,CSVデータ3!AA230,CSVデータ4!AA230)","v":0},{"$f":"SUM(CSVデータ1!AB230,CSVデータ2!AB230,CSVデータ3!AB230,CSVデータ4!AB230)","v":0},{"$f":"SUM(CSVデータ1!AC230,CSVデータ2!AC230,CSVデータ3!AC230,CSVデータ4!AC230)","v":0},{"$f":"SUM(CSVデータ1!AD230,CSVデータ2!AD230,CSVデータ3!AD230,CSVデータ4!AD230)","v":0},{"$f":"SUM(CSVデータ1!AE230,CSVデータ2!AE230,CSVデータ3!AE230,CSVデータ4!AE230)","v":0},{"$f":"SUM(CSVデータ1!AF230,CSVデータ2!AF230,CSVデータ3!AF230,CSVデータ4!AF230)","v":0},{"$f":"SUM(CSVデータ1!AG230,CSVデータ2!AG230,CSVデータ3!AG230,CSVデータ4!AG230)","v":0}]
[{"$f":"CSVデータ1!A231","v":"明細部"},{"$f":"CSVデータ1!B231","v":"保険者（地区）"},{"$f":"CSVデータ1!C231","v":68},{"$f":"CSVデータ1!D231","v":"男"},{"$f":"SUM(CSVデータ1!E231,CSVデータ2!E231,CSVデータ3!E231,CSVデータ4!E231)","v":0},{"$f":"SUM(CSVデータ1!F231,CSVデータ2!F231,CSVデータ3!F231,CSVデータ4!F231)","v":0},{"$f":"SUM(CSVデータ1!G231,CSVデータ2!G231,CSVデータ3!G231,CSVデータ4!G231)","v":0},{"$f":"SUM(CSVデータ1!H231,CSVデータ2!H231,CSVデータ3!H231,CSVデータ4!H231)","v":0},{"$f":"SUM(CSVデータ1!I231,CSVデータ2!I231,CSVデータ3!I231,CSVデータ4!I231)","v":0},{"$f":"SUM(CSVデータ1!J231,CSVデータ2!J231,CSVデータ3!J231,CSVデータ4!J231)","v":0},{"$f":"SUM(CSVデータ1!K231,CSVデータ2!K231,CSVデータ3!K231,CSVデータ4!K231)","v":0},{"$f":"SUM(CSVデータ1!L231,CSVデータ2!L231,CSVデータ3!L231,CSVデータ4!L231)","v":0},{"$f":"SUM(CSVデータ1!M231,CSVデータ2!M231,CSVデータ3!M231,CSVデータ4!M231)","v":0},{"$f":"SUM(CSVデータ1!N231,CSVデータ2!N231,CSVデータ3!N231,CSVデータ4!N231)","v":0},{"$f":"SUM(CSVデータ1!O231,CSVデータ2!O231,CSVデータ3!O231,CSVデータ4!O231)","v":0},{"$f":"SUM(CSVデータ1!P231,CSVデータ2!P231,CSVデータ3!P231,CSVデータ4!P231)","v":0},{"$f":"SUM(CSVデータ1!Q231,CSVデータ2!Q231,CSVデータ3!Q231,CSVデータ4!Q231)","v":0},{"$f":"SUM(CSVデータ1!R231,CSVデータ2!R231,CSVデータ3!R231,CSVデータ4!R231)","v":0},{"$f":"SUM(CSVデータ1!S231,CSVデータ2!S231,CSVデータ3!S231,CSVデータ4!S231)","v":0},{"$f":"SUM(CSVデータ1!T231,CSVデータ2!T231,CSVデータ3!T231,CSVデータ4!T231)","v":0},{"$f":"SUM(CSVデータ1!U231,CSVデータ2!U231,CSVデータ3!U231,CSVデータ4!U231)","v":0},{"$f":"SUM(CSVデータ1!V231,CSVデータ2!V231,CSVデータ3!V231,CSVデータ4!V231)","v":0},{"$f":"SUM(CSVデータ1!W231,CSVデータ2!W231,CSVデータ3!W231,CSVデータ4!W231)","v":0},{"$f":"SUM(CSVデータ1!X231,CSVデータ2!X231,CSVデータ3!X231,CSVデータ4!X231)","v":0},{"$f":"SUM(CSVデータ1!Y231,CSVデータ2!Y231,CSVデータ3!Y231,CSVデータ4!Y231)","v":0},{"$f":"SUM(CSVデータ1!Z231,CSVデータ2!Z231,CSVデータ3!Z231,CSVデータ4!Z231)","v":0},{"$f":"SUM(CSVデータ1!AA231,CSVデータ2!AA231,CSVデータ3!AA231,CSVデータ4!AA231)","v":0},{"$f":"SUM(CSVデータ1!AB231,CSVデータ2!AB231,CSVデータ3!AB231,CSVデータ4!AB231)","v":0},{"$f":"SUM(CSVデータ1!AC231,CSVデータ2!AC231,CSVデータ3!AC231,CSVデータ4!AC231)","v":0},{"$f":"SUM(CSVデータ1!AD231,CSVデータ2!AD231,CSVデータ3!AD231,CSVデータ4!AD231)","v":0},{"$f":"SUM(CSVデータ1!AE231,CSVデータ2!AE231,CSVデータ3!AE231,CSVデータ4!AE231)","v":0},{"$f":"SUM(CSVデータ1!AF231,CSVデータ2!AF231,CSVデータ3!AF231,CSVデータ4!AF231)","v":0},{"$f":"SUM(CSVデータ1!AG231,CSVデータ2!AG231,CSVデータ3!AG231,CSVデータ4!AG231)","v":0}]
[{"$f":"CSVデータ1!A232","v":"明細部"},{"$f":"CSVデータ1!B232","v":"保険者（地区）"},{"$f":"CSVデータ1!C232","v":69},{"$f":"CSVデータ1!D232","v":"男"},{"$f":"SUM(CSVデータ1!E232,CSVデータ2!E232,CSVデータ3!E232,CSVデータ4!E232)","v":0},{"$f":"SUM(CSVデータ1!F232,CSVデータ2!F232,CSVデータ3!F232,CSVデータ4!F232)","v":0},{"$f":"SUM(CSVデータ1!G232,CSVデータ2!G232,CSVデータ3!G232,CSVデータ4!G232)","v":0},{"$f":"SUM(CSVデータ1!H232,CSVデータ2!H232,CSVデータ3!H232,CSVデータ4!H232)","v":0},{"$f":"SUM(CSVデータ1!I232,CSVデータ2!I232,CSVデータ3!I232,CSVデータ4!I232)","v":0},{"$f":"SUM(CSVデータ1!J232,CSVデータ2!J232,CSVデータ3!J232,CSVデータ4!J232)","v":0},{"$f":"SUM(CSVデータ1!K232,CSVデータ2!K232,CSVデータ3!K232,CSVデータ4!K232)","v":0},{"$f":"SUM(CSVデータ1!L232,CSVデータ2!L232,CSVデータ3!L232,CSVデータ4!L232)","v":0},{"$f":"SUM(CSVデータ1!M232,CSVデータ2!M232,CSVデータ3!M232,CSVデータ4!M232)","v":0},{"$f":"SUM(CSVデータ1!N232,CSVデータ2!N232,CSVデータ3!N232,CSVデータ4!N232)","v":0},{"$f":"SUM(CSVデータ1!O232,CSVデータ2!O232,CSVデータ3!O232,CSVデータ4!O232)","v":0},{"$f":"SUM(CSVデータ1!P232,CSVデータ2!P232,CSVデータ3!P232,CSVデータ4!P232)","v":0},{"$f":"SUM(CSVデータ1!Q232,CSVデータ2!Q232,CSVデータ3!Q232,CSVデータ4!Q232)","v":0},{"$f":"SUM(CSVデータ1!R232,CSVデータ2!R232,CSVデータ3!R232,CSVデータ4!R232)","v":0},{"$f":"SUM(CSVデータ1!S232,CSVデータ2!S232,CSVデータ3!S232,CSVデータ4!S232)","v":0},{"$f":"SUM(CSVデータ1!T232,CSVデータ2!T232,CSVデータ3!T232,CSVデータ4!T232)","v":0},{"$f":"SUM(CSVデータ1!U232,CSVデータ2!U232,CSVデータ3!U232,CSVデータ4!U232)","v":0},{"$f":"SUM(CSVデータ1!V232,CSVデータ2!V232,CSVデータ3!V232,CSVデータ4!V232)","v":0},{"$f":"SUM(CSVデータ1!W232,CSVデータ2!W232,CSVデータ3!W232,CSVデータ4!W232)","v":0},{"$f":"SUM(CSVデータ1!X232,CSVデータ2!X232,CSVデータ3!X232,CSVデータ4!X232)","v":0},{"$f":"SUM(CSVデータ1!Y232,CSVデータ2!Y232,CSVデータ3!Y232,CSVデータ4!Y232)","v":0},{"$f":"SUM(CSVデータ1!Z232,CSVデータ2!Z232,CSVデータ3!Z232,CSVデータ4!Z232)","v":0},{"$f":"SUM(CSVデータ1!AA232,CSVデータ2!AA232,CSVデータ3!AA232,CSVデータ4!AA232)","v":0},{"$f":"SUM(CSVデータ1!AB232,CSVデータ2!AB232,CSVデータ3!AB232,CSVデータ4!AB232)","v":0},{"$f":"SUM(CSVデータ1!AC232,CSVデータ2!AC232,CSVデータ3!AC232,CSVデータ4!AC232)","v":0},{"$f":"SUM(CSVデータ1!AD232,CSVデータ2!AD232,CSVデータ3!AD232,CSVデータ4!AD232)","v":0},{"$f":"SUM(CSVデータ1!AE232,CSVデータ2!AE232,CSVデータ3!AE232,CSVデータ4!AE232)","v":0},{"$f":"SUM(CSVデータ1!AF232,CSVデータ2!AF232,CSVデータ3!AF232,CSVデータ4!AF232)","v":0},{"$f":"SUM(CSVデータ1!AG232,CSVデータ2!AG232,CSVデータ3!AG232,CSVデータ4!AG232)","v":0}]
[{"$f":"CSVデータ1!A233","v":"明細部"},{"$f":"CSVデータ1!B233","v":"保険者（地区）"},{"$f":"CSVデータ1!C233","v":70},{"$f":"CSVデータ1!D233","v":"男"},{"$f":"SUM(CSVデータ1!E233,CSVデータ2!E233,CSVデータ3!E233,CSVデータ4!E233)","v":0},{"$f":"SUM(CSVデータ1!F233,CSVデータ2!F233,CSVデータ3!F233,CSVデータ4!F233)","v":0},{"$f":"SUM(CSVデータ1!G233,CSVデータ2!G233,CSVデータ3!G233,CSVデータ4!G233)","v":0},{"$f":"SUM(CSVデータ1!H233,CSVデータ2!H233,CSVデータ3!H233,CSVデータ4!H233)","v":0},{"$f":"SUM(CSVデータ1!I233,CSVデータ2!I233,CSVデータ3!I233,CSVデータ4!I233)","v":0},{"$f":"SUM(CSVデータ1!J233,CSVデータ2!J233,CSVデータ3!J233,CSVデータ4!J233)","v":0},{"$f":"SUM(CSVデータ1!K233,CSVデータ2!K233,CSVデータ3!K233,CSVデータ4!K233)","v":0},{"$f":"SUM(CSVデータ1!L233,CSVデータ2!L233,CSVデータ3!L233,CSVデータ4!L233)","v":0},{"$f":"SUM(CSVデータ1!M233,CSVデータ2!M233,CSVデータ3!M233,CSVデータ4!M233)","v":0},{"$f":"SUM(CSVデータ1!N233,CSVデータ2!N233,CSVデータ3!N233,CSVデータ4!N233)","v":0},{"$f":"SUM(CSVデータ1!O233,CSVデータ2!O233,CSVデータ3!O233,CSVデータ4!O233)","v":0},{"$f":"SUM(CSVデータ1!P233,CSVデータ2!P233,CSVデータ3!P233,CSVデータ4!P233)","v":0},{"$f":"SUM(CSVデータ1!Q233,CSVデータ2!Q233,CSVデータ3!Q233,CSVデータ4!Q233)","v":0},{"$f":"SUM(CSVデータ1!R233,CSVデータ2!R233,CSVデータ3!R233,CSVデータ4!R233)","v":0},{"$f":"SUM(CSVデータ1!S233,CSVデータ2!S233,CSVデータ3!S233,CSVデータ4!S233)","v":0},{"$f":"SUM(CSVデータ1!T233,CSVデータ2!T233,CSVデータ3!T233,CSVデータ4!T233)","v":0},{"$f":"SUM(CSVデータ1!U233,CSVデータ2!U233,CSVデータ3!U233,CSVデータ4!U233)","v":0},{"$f":"SUM(CSVデータ1!V233,CSVデータ2!V233,CSVデータ3!V233,CSVデータ4!V233)","v":0},{"$f":"SUM(CSVデータ1!W233,CSVデータ2!W233,CSVデータ3!W233,CSVデータ4!W233)","v":0},{"$f":"SUM(CSVデータ1!X233,CSVデータ2!X233,CSVデータ3!X233,CSVデータ4!X233)","v":0},{"$f":"SUM(CSVデータ1!Y233,CSVデータ2!Y233,CSVデータ3!Y233,CSVデータ4!Y233)","v":0},{"$f":"SUM(CSVデータ1!Z233,CSVデータ2!Z233,CSVデータ3!Z233,CSVデータ4!Z233)","v":0},{"$f":"SUM(CSVデータ1!AA233,CSVデータ2!AA233,CSVデータ3!AA233,CSVデータ4!AA233)","v":0},{"$f":"SUM(CSVデータ1!AB233,CSVデータ2!AB233,CSVデータ3!AB233,CSVデータ4!AB233)","v":0},{"$f":"SUM(CSVデータ1!AC233,CSVデータ2!AC233,CSVデータ3!AC233,CSVデータ4!AC233)","v":0},{"$f":"SUM(CSVデータ1!AD233,CSVデータ2!AD233,CSVデータ3!AD233,CSVデータ4!AD233)","v":0},{"$f":"SUM(CSVデータ1!AE233,CSVデータ2!AE233,CSVデータ3!AE233,CSVデータ4!AE233)","v":0},{"$f":"SUM(CSVデータ1!AF233,CSVデータ2!AF233,CSVデータ3!AF233,CSVデータ4!AF233)","v":0},{"$f":"SUM(CSVデータ1!AG233,CSVデータ2!AG233,CSVデータ3!AG233,CSVデータ4!AG233)","v":0}]
[{"$f":"CSVデータ1!A234","v":"明細部"},{"$f":"CSVデータ1!B234","v":"保険者（地区）"},{"$f":"CSVデータ1!C234","v":71},{"$f":"CSVデータ1!D234","v":"男"},{"$f":"SUM(CSVデータ1!E234,CSVデータ2!E234,CSVデータ3!E234,CSVデータ4!E234)","v":0},{"$f":"SUM(CSVデータ1!F234,CSVデータ2!F234,CSVデータ3!F234,CSVデータ4!F234)","v":0},{"$f":"SUM(CSVデータ1!G234,CSVデータ2!G234,CSVデータ3!G234,CSVデータ4!G234)","v":0},{"$f":"SUM(CSVデータ1!H234,CSVデータ2!H234,CSVデータ3!H234,CSVデータ4!H234)","v":0},{"$f":"SUM(CSVデータ1!I234,CSVデータ2!I234,CSVデータ3!I234,CSVデータ4!I234)","v":0},{"$f":"SUM(CSVデータ1!J234,CSVデータ2!J234,CSVデータ3!J234,CSVデータ4!J234)","v":0},{"$f":"SUM(CSVデータ1!K234,CSVデータ2!K234,CSVデータ3!K234,CSVデータ4!K234)","v":0},{"$f":"SUM(CSVデータ1!L234,CSVデータ2!L234,CSVデータ3!L234,CSVデータ4!L234)","v":0},{"$f":"SUM(CSVデータ1!M234,CSVデータ2!M234,CSVデータ3!M234,CSVデータ4!M234)","v":0},{"$f":"SUM(CSVデータ1!N234,CSVデータ2!N234,CSVデータ3!N234,CSVデータ4!N234)","v":0},{"$f":"SUM(CSVデータ1!O234,CSVデータ2!O234,CSVデータ3!O234,CSVデータ4!O234)","v":0},{"$f":"SUM(CSVデータ1!P234,CSVデータ2!P234,CSVデータ3!P234,CSVデータ4!P234)","v":0},{"$f":"SUM(CSVデータ1!Q234,CSVデータ2!Q234,CSVデータ3!Q234,CSVデータ4!Q234)","v":0},{"$f":"SUM(CSVデータ1!R234,CSVデータ2!R234,CSVデータ3!R234,CSVデータ4!R234)","v":0},{"$f":"SUM(CSVデータ1!S234,CSVデータ2!S234,CSVデータ3!S234,CSVデータ4!S234)","v":0},{"$f":"SUM(CSVデータ1!T234,CSVデータ2!T234,CSVデータ3!T234,CSVデータ4!T234)","v":0},{"$f":"SUM(CSVデータ1!U234,CSVデータ2!U234,CSVデータ3!U234,CSVデータ4!U234)","v":0},{"$f":"SUM(CSVデータ1!V234,CSVデータ2!V234,CSVデータ3!V234,CSVデータ4!V234)","v":0},{"$f":"SUM(CSVデータ1!W234,CSVデータ2!W234,CSVデータ3!W234,CSVデータ4!W234)","v":0},{"$f":"SUM(CSVデータ1!X234,CSVデータ2!X234,CSVデータ3!X234,CSVデータ4!X234)","v":0},{"$f":"SUM(CSVデータ1!Y234,CSVデータ2!Y234,CSVデータ3!Y234,CSVデータ4!Y234)","v":0},{"$f":"SUM(CSVデータ1!Z234,CSVデータ2!Z234,CSVデータ3!Z234,CSVデータ4!Z234)","v":0},{"$f":"SUM(CSVデータ1!AA234,CSVデータ2!AA234,CSVデータ3!AA234,CSVデータ4!AA234)","v":0},{"$f":"SUM(CSVデータ1!AB234,CSVデータ2!AB234,CSVデータ3!AB234,CSVデータ4!AB234)","v":0},{"$f":"SUM(CSVデータ1!AC234,CSVデータ2!AC234,CSVデータ3!AC234,CSVデータ4!AC234)","v":0},{"$f":"SUM(CSVデータ1!AD234,CSVデータ2!AD234,CSVデータ3!AD234,CSVデータ4!AD234)","v":0},{"$f":"SUM(CSVデータ1!AE234,CSVデータ2!AE234,CSVデータ3!AE234,CSVデータ4!AE234)","v":0},{"$f":"SUM(CSVデータ1!AF234,CSVデータ2!AF234,CSVデータ3!AF234,CSVデータ4!AF234)","v":0},{"$f":"SUM(CSVデータ1!AG234,CSVデータ2!AG234,CSVデータ3!AG234,CSVデータ4!AG234)","v":0}]
[{"$f":"CSVデータ1!A235","v":"明細部"},{"$f":"CSVデータ1!B235","v":"保険者（地区）"},{"$f":"CSVデータ1!C235","v":72},{"$f":"CSVデータ1!D235","v":"男"},{"$f":"SUM(CSVデータ1!E235,CSVデータ2!E235,CSVデータ3!E235,CSVデータ4!E235)","v":0},{"$f":"SUM(CSVデータ1!F235,CSVデータ2!F235,CSVデータ3!F235,CSVデータ4!F235)","v":0},{"$f":"SUM(CSVデータ1!G235,CSVデータ2!G235,CSVデータ3!G235,CSVデータ4!G235)","v":0},{"$f":"SUM(CSVデータ1!H235,CSVデータ2!H235,CSVデータ3!H235,CSVデータ4!H235)","v":0},{"$f":"SUM(CSVデータ1!I235,CSVデータ2!I235,CSVデータ3!I235,CSVデータ4!I235)","v":0},{"$f":"SUM(CSVデータ1!J235,CSVデータ2!J235,CSVデータ3!J235,CSVデータ4!J235)","v":0},{"$f":"SUM(CSVデータ1!K235,CSVデータ2!K235,CSVデータ3!K235,CSVデータ4!K235)","v":0},{"$f":"SUM(CSVデータ1!L235,CSVデータ2!L235,CSVデータ3!L235,CSVデータ4!L235)","v":0},{"$f":"SUM(CSVデータ1!M235,CSVデータ2!M235,CSVデータ3!M235,CSVデータ4!M235)","v":0},{"$f":"SUM(CSVデータ1!N235,CSVデータ2!N235,CSVデータ3!N235,CSVデータ4!N235)","v":0},{"$f":"SUM(CSVデータ1!O235,CSVデータ2!O235,CSVデータ3!O235,CSVデータ4!O235)","v":0},{"$f":"SUM(CSVデータ1!P235,CSVデータ2!P235,CSVデータ3!P235,CSVデータ4!P235)","v":0},{"$f":"SUM(CSVデータ1!Q235,CSVデータ2!Q235,CSVデータ3!Q235,CSVデータ4!Q235)","v":0},{"$f":"SUM(CSVデータ1!R235,CSVデータ2!R235,CSVデータ3!R235,CSVデータ4!R235)","v":0},{"$f":"SUM(CSVデータ1!S235,CSVデータ2!S235,CSVデータ3!S235,CSVデータ4!S235)","v":0},{"$f":"SUM(CSVデータ1!T235,CSVデータ2!T235,CSVデータ3!T235,CSVデータ4!T235)","v":0},{"$f":"SUM(CSVデータ1!U235,CSVデータ2!U235,CSVデータ3!U235,CSVデータ4!U235)","v":0},{"$f":"SUM(CSVデータ1!V235,CSVデータ2!V235,CSVデータ3!V235,CSVデータ4!V235)","v":0},{"$f":"SUM(CSVデータ1!W235,CSVデータ2!W235,CSVデータ3!W235,CSVデータ4!W235)","v":0},{"$f":"SUM(CSVデータ1!X235,CSVデータ2!X235,CSVデータ3!X235,CSVデータ4!X235)","v":0},{"$f":"SUM(CSVデータ1!Y235,CSVデータ2!Y235,CSVデータ3!Y235,CSVデータ4!Y235)","v":0},{"$f":"SUM(CSVデータ1!Z235,CSVデータ2!Z235,CSVデータ3!Z235,CSVデータ4!Z235)","v":0},{"$f":"SUM(CSVデータ1!AA235,CSVデータ2!AA235,CSVデータ3!AA235,CSVデータ4!AA235)","v":0},{"$f":"SUM(CSVデータ1!AB235,CSVデータ2!AB235,CSVデータ3!AB235,CSVデータ4!AB235)","v":0},{"$f":"SUM(CSVデータ1!AC235,CSVデータ2!AC235,CSVデータ3!AC235,CSVデータ4!AC235)","v":0},{"$f":"SUM(CSVデータ1!AD235,CSVデータ2!AD235,CSVデータ3!AD235,CSVデータ4!AD235)","v":0},{"$f":"SUM(CSVデータ1!AE235,CSVデータ2!AE235,CSVデータ3!AE235,CSVデータ4!AE235)","v":0},{"$f":"SUM(CSVデータ1!AF235,CSVデータ2!AF235,CSVデータ3!AF235,CSVデータ4!AF235)","v":0},{"$f":"SUM(CSVデータ1!AG235,CSVデータ2!AG235,CSVデータ3!AG235,CSVデータ4!AG235)","v":0}]
[{"$f":"CSVデータ1!A236","v":"明細部"},{"$f":"CSVデータ1!B236","v":"保険者（地区）"},{"$f":"CSVデータ1!C236","v":73},{"$f":"CSVデータ1!D236","v":"男"},{"$f":"SUM(CSVデータ1!E236,CSVデータ2!E236,CSVデータ3!E236,CSVデータ4!E236)","v":0},{"$f":"SUM(CSVデータ1!F236,CSVデータ2!F236,CSVデータ3!F236,CSVデータ4!F236)","v":0},{"$f":"SUM(CSVデータ1!G236,CSVデータ2!G236,CSVデータ3!G236,CSVデータ4!G236)","v":0},{"$f":"SUM(CSVデータ1!H236,CSVデータ2!H236,CSVデータ3!H236,CSVデータ4!H236)","v":0},{"$f":"SUM(CSVデータ1!I236,CSVデータ2!I236,CSVデータ3!I236,CSVデータ4!I236)","v":0},{"$f":"SUM(CSVデータ1!J236,CSVデータ2!J236,CSVデータ3!J236,CSVデータ4!J236)","v":0},{"$f":"SUM(CSVデータ1!K236,CSVデータ2!K236,CSVデータ3!K236,CSVデータ4!K236)","v":0},{"$f":"SUM(CSVデータ1!L236,CSVデータ2!L236,CSVデータ3!L236,CSVデータ4!L236)","v":0},{"$f":"SUM(CSVデータ1!M236,CSVデータ2!M236,CSVデータ3!M236,CSVデータ4!M236)","v":0},{"$f":"SUM(CSVデータ1!N236,CSVデータ2!N236,CSVデータ3!N236,CSVデータ4!N236)","v":0},{"$f":"SUM(CSVデータ1!O236,CSVデータ2!O236,CSVデータ3!O236,CSVデータ4!O236)","v":0},{"$f":"SUM(CSVデータ1!P236,CSVデータ2!P236,CSVデータ3!P236,CSVデータ4!P236)","v":0},{"$f":"SUM(CSVデータ1!Q236,CSVデータ2!Q236,CSVデータ3!Q236,CSVデータ4!Q236)","v":0},{"$f":"SUM(CSVデータ1!R236,CSVデータ2!R236,CSVデータ3!R236,CSVデータ4!R236)","v":0},{"$f":"SUM(CSVデータ1!S236,CSVデータ2!S236,CSVデータ3!S236,CSVデータ4!S236)","v":0},{"$f":"SUM(CSVデータ1!T236,CSVデータ2!T236,CSVデータ3!T236,CSVデータ4!T236)","v":0},{"$f":"SUM(CSVデータ1!U236,CSVデータ2!U236,CSVデータ3!U236,CSVデータ4!U236)","v":0},{"$f":"SUM(CSVデータ1!V236,CSVデータ2!V236,CSVデータ3!V236,CSVデータ4!V236)","v":0},{"$f":"SUM(CSVデータ1!W236,CSVデータ2!W236,CSVデータ3!W236,CSVデータ4!W236)","v":0},{"$f":"SUM(CSVデータ1!X236,CSVデータ2!X236,CSVデータ3!X236,CSVデータ4!X236)","v":0},{"$f":"SUM(CSVデータ1!Y236,CSVデータ2!Y236,CSVデータ3!Y236,CSVデータ4!Y236)","v":0},{"$f":"SUM(CSVデータ1!Z236,CSVデータ2!Z236,CSVデータ3!Z236,CSVデータ4!Z236)","v":0},{"$f":"SUM(CSVデータ1!AA236,CSVデータ2!AA236,CSVデータ3!AA236,CSVデータ4!AA236)","v":0},{"$f":"SUM(CSVデータ1!AB236,CSVデータ2!AB236,CSVデータ3!AB236,CSVデータ4!AB236)","v":0},{"$f":"SUM(CSVデータ1!AC236,CSVデータ2!AC236,CSVデータ3!AC236,CSVデータ4!AC236)","v":0},{"$f":"SUM(CSVデータ1!AD236,CSVデータ2!AD236,CSVデータ3!AD236,CSVデータ4!AD236)","v":0},{"$f":"SUM(CSVデータ1!AE236,CSVデータ2!AE236,CSVデータ3!AE236,CSVデータ4!AE236)","v":0},{"$f":"SUM(CSVデータ1!AF236,CSVデータ2!AF236,CSVデータ3!AF236,CSVデータ4!AF236)","v":0},{"$f":"SUM(CSVデータ1!AG236,CSVデータ2!AG236,CSVデータ3!AG236,CSVデータ4!AG236)","v":0}]
[{"$f":"CSVデータ1!A237","v":"明細部"},{"$f":"CSVデータ1!B237","v":"保険者（地区）"},{"$f":"CSVデータ1!C237","v":74},{"$f":"CSVデータ1!D237","v":"男"},{"$f":"SUM(CSVデータ1!E237,CSVデータ2!E237,CSVデータ3!E237,CSVデータ4!E237)","v":0},{"$f":"SUM(CSVデータ1!F237,CSVデータ2!F237,CSVデータ3!F237,CSVデータ4!F237)","v":0},{"$f":"SUM(CSVデータ1!G237,CSVデータ2!G237,CSVデータ3!G237,CSVデータ4!G237)","v":0},{"$f":"SUM(CSVデータ1!H237,CSVデータ2!H237,CSVデータ3!H237,CSVデータ4!H237)","v":0},{"$f":"SUM(CSVデータ1!I237,CSVデータ2!I237,CSVデータ3!I237,CSVデータ4!I237)","v":0},{"$f":"SUM(CSVデータ1!J237,CSVデータ2!J237,CSVデータ3!J237,CSVデータ4!J237)","v":0},{"$f":"SUM(CSVデータ1!K237,CSVデータ2!K237,CSVデータ3!K237,CSVデータ4!K237)","v":0},{"$f":"SUM(CSVデータ1!L237,CSVデータ2!L237,CSVデータ3!L237,CSVデータ4!L237)","v":0},{"$f":"SUM(CSVデータ1!M237,CSVデータ2!M237,CSVデータ3!M237,CSVデータ4!M237)","v":0},{"$f":"SUM(CSVデータ1!N237,CSVデータ2!N237,CSVデータ3!N237,CSVデータ4!N237)","v":0},{"$f":"SUM(CSVデータ1!O237,CSVデータ2!O237,CSVデータ3!O237,CSVデータ4!O237)","v":0},{"$f":"SUM(CSVデータ1!P237,CSVデータ2!P237,CSVデータ3!P237,CSVデータ4!P237)","v":0},{"$f":"SUM(CSVデータ1!Q237,CSVデータ2!Q237,CSVデータ3!Q237,CSVデータ4!Q237)","v":0},{"$f":"SUM(CSVデータ1!R237,CSVデータ2!R237,CSVデータ3!R237,CSVデータ4!R237)","v":0},{"$f":"SUM(CSVデータ1!S237,CSVデータ2!S237,CSVデータ3!S237,CSVデータ4!S237)","v":0},{"$f":"SUM(CSVデータ1!T237,CSVデータ2!T237,CSVデータ3!T237,CSVデータ4!T237)","v":0},{"$f":"SUM(CSVデータ1!U237,CSVデータ2!U237,CSVデータ3!U237,CSVデータ4!U237)","v":0},{"$f":"SUM(CSVデータ1!V237,CSVデータ2!V237,CSVデータ3!V237,CSVデータ4!V237)","v":0},{"$f":"SUM(CSVデータ1!W237,CSVデータ2!W237,CSVデータ3!W237,CSVデータ4!W237)","v":0},{"$f":"SUM(CSVデータ1!X237,CSVデータ2!X237,CSVデータ3!X237,CSVデータ4!X237)","v":0},{"$f":"SUM(CSVデータ1!Y237,CSVデータ2!Y237,CSVデータ3!Y237,CSVデータ4!Y237)","v":0},{"$f":"SUM(CSVデータ1!Z237,CSVデータ2!Z237,CSVデータ3!Z237,CSVデータ4!Z237)","v":0},{"$f":"SUM(CSVデータ1!AA237,CSVデータ2!AA237,CSVデータ3!AA237,CSVデータ4!AA237)","v":0},{"$f":"SUM(CSVデータ1!AB237,CSVデータ2!AB237,CSVデータ3!AB237,CSVデータ4!AB237)","v":0},{"$f":"SUM(CSVデータ1!AC237,CSVデータ2!AC237,CSVデータ3!AC237,CSVデータ4!AC237)","v":0},{"$f":"SUM(CSVデータ1!AD237,CSVデータ2!AD237,CSVデータ3!AD237,CSVデータ4!AD237)","v":0},{"$f":"SUM(CSVデータ1!AE237,CSVデータ2!AE237,CSVデータ3!AE237,CSVデータ4!AE237)","v":0},{"$f":"SUM(CSVデータ1!AF237,CSVデータ2!AF237,CSVデータ3!AF237,CSVデータ4!AF237)","v":0},{"$f":"SUM(CSVデータ1!AG237,CSVデータ2!AG237,CSVデータ3!AG237,CSVデータ4!AG237)","v":0}]
[{"$f":"CSVデータ1!A238","v":"明細部"},{"$f":"CSVデータ1!B238","v":"保険者（地区）"},{"$f":"CSVデータ1!C238","v":75},{"$f":"CSVデータ1!D238","v":"男"},{"$f":"SUM(CSVデータ1!E238,CSVデータ2!E238,CSVデータ3!E238,CSVデータ4!E238)","v":0},{"$f":"SUM(CSVデータ1!F238,CSVデータ2!F238,CSVデータ3!F238,CSVデータ4!F238)","v":0},{"$f":"SUM(CSVデータ1!G238,CSVデータ2!G238,CSVデータ3!G238,CSVデータ4!G238)","v":0},{"$f":"SUM(CSVデータ1!H238,CSVデータ2!H238,CSVデータ3!H238,CSVデータ4!H238)","v":0},{"$f":"SUM(CSVデータ1!I238,CSVデータ2!I238,CSVデータ3!I238,CSVデータ4!I238)","v":0},{"$f":"SUM(CSVデータ1!J238,CSVデータ2!J238,CSVデータ3!J238,CSVデータ4!J238)","v":0},{"$f":"SUM(CSVデータ1!K238,CSVデータ2!K238,CSVデータ3!K238,CSVデータ4!K238)","v":0},{"$f":"SUM(CSVデータ1!L238,CSVデータ2!L238,CSVデータ3!L238,CSVデータ4!L238)","v":0},{"$f":"SUM(CSVデータ1!M238,CSVデータ2!M238,CSVデータ3!M238,CSVデータ4!M238)","v":0},{"$f":"SUM(CSVデータ1!N238,CSVデータ2!N238,CSVデータ3!N238,CSVデータ4!N238)","v":0},{"$f":"SUM(CSVデータ1!O238,CSVデータ2!O238,CSVデータ3!O238,CSVデータ4!O238)","v":0},{"$f":"SUM(CSVデータ1!P238,CSVデータ2!P238,CSVデータ3!P238,CSVデータ4!P238)","v":0},{"$f":"SUM(CSVデータ1!Q238,CSVデータ2!Q238,CSVデータ3!Q238,CSVデータ4!Q238)","v":0},{"$f":"SUM(CSVデータ1!R238,CSVデータ2!R238,CSVデータ3!R238,CSVデータ4!R238)","v":0},{"$f":"SUM(CSVデータ1!S238,CSVデータ2!S238,CSVデータ3!S238,CSVデータ4!S238)","v":0},{"$f":"SUM(CSVデータ1!T238,CSVデータ2!T238,CSVデータ3!T238,CSVデータ4!T238)","v":0},{"$f":"SUM(CSVデータ1!U238,CSVデータ2!U238,CSVデータ3!U238,CSVデータ4!U238)","v":0},{"$f":"SUM(CSVデータ1!V238,CSVデータ2!V238,CSVデータ3!V238,CSVデータ4!V238)","v":0},{"$f":"SUM(CSVデータ1!W238,CSVデータ2!W238,CSVデータ3!W238,CSVデータ4!W238)","v":0},{"$f":"SUM(CSVデータ1!X238,CSVデータ2!X238,CSVデータ3!X238,CSVデータ4!X238)","v":0},{"$f":"SUM(CSVデータ1!Y238,CSVデータ2!Y238,CSVデータ3!Y238,CSVデータ4!Y238)","v":0},{"$f":"SUM(CSVデータ1!Z238,CSVデータ2!Z238,CSVデータ3!Z238,CSVデータ4!Z238)","v":0},{"$f":"SUM(CSVデータ1!AA238,CSVデータ2!AA238,CSVデータ3!AA238,CSVデータ4!AA238)","v":0},{"$f":"SUM(CSVデータ1!AB238,CSVデータ2!AB238,CSVデータ3!AB238,CSVデータ4!AB238)","v":0},{"$f":"SUM(CSVデータ1!AC238,CSVデータ2!AC238,CSVデータ3!AC238,CSVデータ4!AC238)","v":0},{"$f":"SUM(CSVデータ1!AD238,CSVデータ2!AD238,CSVデータ3!AD238,CSVデータ4!AD238)","v":0},{"$f":"SUM(CSVデータ1!AE238,CSVデータ2!AE238,CSVデータ3!AE238,CSVデータ4!AE238)","v":0},{"$f":"SUM(CSVデータ1!AF238,CSVデータ2!AF238,CSVデータ3!AF238,CSVデータ4!AF238)","v":0},{"$f":"SUM(CSVデータ1!AG238,CSVデータ2!AG238,CSVデータ3!AG238,CSVデータ4!AG238)","v":0}]
[{"$f":"CSVデータ1!A239","v":"明細部"},{"$f":"CSVデータ1!B239","v":"保険者（地区）"},{"$f":"CSVデータ1!C239","v":76},{"$f":"CSVデータ1!D239","v":"男"},{"$f":"SUM(CSVデータ1!E239,CSVデータ2!E239,CSVデータ3!E239,CSVデータ4!E239)","v":0},{"$f":"SUM(CSVデータ1!F239,CSVデータ2!F239,CSVデータ3!F239,CSVデータ4!F239)","v":0},{"$f":"SUM(CSVデータ1!G239,CSVデータ2!G239,CSVデータ3!G239,CSVデータ4!G239)","v":0},{"$f":"SUM(CSVデータ1!H239,CSVデータ2!H239,CSVデータ3!H239,CSVデータ4!H239)","v":0},{"$f":"SUM(CSVデータ1!I239,CSVデータ2!I239,CSVデータ3!I239,CSVデータ4!I239)","v":0},{"$f":"SUM(CSVデータ1!J239,CSVデータ2!J239,CSVデータ3!J239,CSVデータ4!J239)","v":0},{"$f":"SUM(CSVデータ1!K239,CSVデータ2!K239,CSVデータ3!K239,CSVデータ4!K239)","v":0},{"$f":"SUM(CSVデータ1!L239,CSVデータ2!L239,CSVデータ3!L239,CSVデータ4!L239)","v":0},{"$f":"SUM(CSVデータ1!M239,CSVデータ2!M239,CSVデータ3!M239,CSVデータ4!M239)","v":0},{"$f":"SUM(CSVデータ1!N239,CSVデータ2!N239,CSVデータ3!N239,CSVデータ4!N239)","v":0},{"$f":"SUM(CSVデータ1!O239,CSVデータ2!O239,CSVデータ3!O239,CSVデータ4!O239)","v":0},{"$f":"SUM(CSVデータ1!P239,CSVデータ2!P239,CSVデータ3!P239,CSVデータ4!P239)","v":0},{"$f":"SUM(CSVデータ1!Q239,CSVデータ2!Q239,CSVデータ3!Q239,CSVデータ4!Q239)","v":0},{"$f":"SUM(CSVデータ1!R239,CSVデータ2!R239,CSVデータ3!R239,CSVデータ4!R239)","v":0},{"$f":"SUM(CSVデータ1!S239,CSVデータ2!S239,CSVデータ3!S239,CSVデータ4!S239)","v":0},{"$f":"SUM(CSVデータ1!T239,CSVデータ2!T239,CSVデータ3!T239,CSVデータ4!T239)","v":0},{"$f":"SUM(CSVデータ1!U239,CSVデータ2!U239,CSVデータ3!U239,CSVデータ4!U239)","v":0},{"$f":"SUM(CSVデータ1!V239,CSVデータ2!V239,CSVデータ3!V239,CSVデータ4!V239)","v":0},{"$f":"SUM(CSVデータ1!W239,CSVデータ2!W239,CSVデータ3!W239,CSVデータ4!W239)","v":0},{"$f":"SUM(CSVデータ1!X239,CSVデータ2!X239,CSVデータ3!X239,CSVデータ4!X239)","v":0},{"$f":"SUM(CSVデータ1!Y239,CSVデータ2!Y239,CSVデータ3!Y239,CSVデータ4!Y239)","v":0},{"$f":"SUM(CSVデータ1!Z239,CSVデータ2!Z239,CSVデータ3!Z239,CSVデータ4!Z239)","v":0},{"$f":"SUM(CSVデータ1!AA239,CSVデータ2!AA239,CSVデータ3!AA239,CSVデータ4!AA239)","v":0},{"$f":"SUM(CSVデータ1!AB239,CSVデータ2!AB239,CSVデータ3!AB239,CSVデータ4!AB239)","v":0},{"$f":"SUM(CSVデータ1!AC239,CSVデータ2!AC239,CSVデータ3!AC239,CSVデータ4!AC239)","v":0},{"$f":"SUM(CSVデータ1!AD239,CSVデータ2!AD239,CSVデータ3!AD239,CSVデータ4!AD239)","v":0},{"$f":"SUM(CSVデータ1!AE239,CSVデータ2!AE239,CSVデータ3!AE239,CSVデータ4!AE239)","v":0},{"$f":"SUM(CSVデータ1!AF239,CSVデータ2!AF239,CSVデータ3!AF239,CSVデータ4!AF239)","v":0},{"$f":"SUM(CSVデータ1!AG239,CSVデータ2!AG239,CSVデータ3!AG239,CSVデータ4!AG239)","v":0}]
[{"$f":"CSVデータ1!A240","v":"明細部"},{"$f":"CSVデータ1!B240","v":"保険者（地区）"},{"$f":"CSVデータ1!C240","v":77},{"$f":"CSVデータ1!D240","v":"男"},{"$f":"SUM(CSVデータ1!E240,CSVデータ2!E240,CSVデータ3!E240,CSVデータ4!E240)","v":0},{"$f":"SUM(CSVデータ1!F240,CSVデータ2!F240,CSVデータ3!F240,CSVデータ4!F240)","v":0},{"$f":"SUM(CSVデータ1!G240,CSVデータ2!G240,CSVデータ3!G240,CSVデータ4!G240)","v":0},{"$f":"SUM(CSVデータ1!H240,CSVデータ2!H240,CSVデータ3!H240,CSVデータ4!H240)","v":0},{"$f":"SUM(CSVデータ1!I240,CSVデータ2!I240,CSVデータ3!I240,CSVデータ4!I240)","v":0},{"$f":"SUM(CSVデータ1!J240,CSVデータ2!J240,CSVデータ3!J240,CSVデータ4!J240)","v":0},{"$f":"SUM(CSVデータ1!K240,CSVデータ2!K240,CSVデータ3!K240,CSVデータ4!K240)","v":0},{"$f":"SUM(CSVデータ1!L240,CSVデータ2!L240,CSVデータ3!L240,CSVデータ4!L240)","v":0},{"$f":"SUM(CSVデータ1!M240,CSVデータ2!M240,CSVデータ3!M240,CSVデータ4!M240)","v":0},{"$f":"SUM(CSVデータ1!N240,CSVデータ2!N240,CSVデータ3!N240,CSVデータ4!N240)","v":0},{"$f":"SUM(CSVデータ1!O240,CSVデータ2!O240,CSVデータ3!O240,CSVデータ4!O240)","v":0},{"$f":"SUM(CSVデータ1!P240,CSVデータ2!P240,CSVデータ3!P240,CSVデータ4!P240)","v":0},{"$f":"SUM(CSVデータ1!Q240,CSVデータ2!Q240,CSVデータ3!Q240,CSVデータ4!Q240)","v":0},{"$f":"SUM(CSVデータ1!R240,CSVデータ2!R240,CSVデータ3!R240,CSVデータ4!R240)","v":0},{"$f":"SUM(CSVデータ1!S240,CSVデータ2!S240,CSVデータ3!S240,CSVデータ4!S240)","v":0},{"$f":"SUM(CSVデータ1!T240,CSVデータ2!T240,CSVデータ3!T240,CSVデータ4!T240)","v":0},{"$f":"SUM(CSVデータ1!U240,CSVデータ2!U240,CSVデータ3!U240,CSVデータ4!U240)","v":0},{"$f":"SUM(CSVデータ1!V240,CSVデータ2!V240,CSVデータ3!V240,CSVデータ4!V240)","v":0},{"$f":"SUM(CSVデータ1!W240,CSVデータ2!W240,CSVデータ3!W240,CSVデータ4!W240)","v":0},{"$f":"SUM(CSVデータ1!X240,CSVデータ2!X240,CSVデータ3!X240,CSVデータ4!X240)","v":0},{"$f":"SUM(CSVデータ1!Y240,CSVデータ2!Y240,CSVデータ3!Y240,CSVデータ4!Y240)","v":0},{"$f":"SUM(CSVデータ1!Z240,CSVデータ2!Z240,CSVデータ3!Z240,CSVデータ4!Z240)","v":0},{"$f":"SUM(CSVデータ1!AA240,CSVデータ2!AA240,CSVデータ3!AA240,CSVデータ4!AA240)","v":0},{"$f":"SUM(CSVデータ1!AB240,CSVデータ2!AB240,CSVデータ3!AB240,CSVデータ4!AB240)","v":0},{"$f":"SUM(CSVデータ1!AC240,CSVデータ2!AC240,CSVデータ3!AC240,CSVデータ4!AC240)","v":0},{"$f":"SUM(CSVデータ1!AD240,CSVデータ2!AD240,CSVデータ3!AD240,CSVデータ4!AD240)","v":0},{"$f":"SUM(CSVデータ1!AE240,CSVデータ2!AE240,CSVデータ3!AE240,CSVデータ4!AE240)","v":0},{"$f":"SUM(CSVデータ1!AF240,CSVデータ2!AF240,CSVデータ3!AF240,CSVデータ4!AF240)","v":0},{"$f":"SUM(CSVデータ1!AG240,CSVデータ2!AG240,CSVデータ3!AG240,CSVデータ4!AG240)","v":0}]
[{"$f":"CSVデータ1!A241","v":"明細部"},{"$f":"CSVデータ1!B241","v":"保険者（地区）"},{"$f":"CSVデータ1!C241","v":78},{"$f":"CSVデータ1!D241","v":"男"},{"$f":"SUM(CSVデータ1!E241,CSVデータ2!E241,CSVデータ3!E241,CSVデータ4!E241)","v":0},{"$f":"SUM(CSVデータ1!F241,CSVデータ2!F241,CSVデータ3!F241,CSVデータ4!F241)","v":0},{"$f":"SUM(CSVデータ1!G241,CSVデータ2!G241,CSVデータ3!G241,CSVデータ4!G241)","v":0},{"$f":"SUM(CSVデータ1!H241,CSVデータ2!H241,CSVデータ3!H241,CSVデータ4!H241)","v":0},{"$f":"SUM(CSVデータ1!I241,CSVデータ2!I241,CSVデータ3!I241,CSVデータ4!I241)","v":0},{"$f":"SUM(CSVデータ1!J241,CSVデータ2!J241,CSVデータ3!J241,CSVデータ4!J241)","v":0},{"$f":"SUM(CSVデータ1!K241,CSVデータ2!K241,CSVデータ3!K241,CSVデータ4!K241)","v":0},{"$f":"SUM(CSVデータ1!L241,CSVデータ2!L241,CSVデータ3!L241,CSVデータ4!L241)","v":0},{"$f":"SUM(CSVデータ1!M241,CSVデータ2!M241,CSVデータ3!M241,CSVデータ4!M241)","v":0},{"$f":"SUM(CSVデータ1!N241,CSVデータ2!N241,CSVデータ3!N241,CSVデータ4!N241)","v":0},{"$f":"SUM(CSVデータ1!O241,CSVデータ2!O241,CSVデータ3!O241,CSVデータ4!O241)","v":0},{"$f":"SUM(CSVデータ1!P241,CSVデータ2!P241,CSVデータ3!P241,CSVデータ4!P241)","v":0},{"$f":"SUM(CSVデータ1!Q241,CSVデータ2!Q241,CSVデータ3!Q241,CSVデータ4!Q241)","v":0},{"$f":"SUM(CSVデータ1!R241,CSVデータ2!R241,CSVデータ3!R241,CSVデータ4!R241)","v":0},{"$f":"SUM(CSVデータ1!S241,CSVデータ2!S241,CSVデータ3!S241,CSVデータ4!S241)","v":0},{"$f":"SUM(CSVデータ1!T241,CSVデータ2!T241,CSVデータ3!T241,CSVデータ4!T241)","v":0},{"$f":"SUM(CSVデータ1!U241,CSVデータ2!U241,CSVデータ3!U241,CSVデータ4!U241)","v":0},{"$f":"SUM(CSVデータ1!V241,CSVデータ2!V241,CSVデータ3!V241,CSVデータ4!V241)","v":0},{"$f":"SUM(CSVデータ1!W241,CSVデータ2!W241,CSVデータ3!W241,CSVデータ4!W241)","v":0},{"$f":"SUM(CSVデータ1!X241,CSVデータ2!X241,CSVデータ3!X241,CSVデータ4!X241)","v":0},{"$f":"SUM(CSVデータ1!Y241,CSVデータ2!Y241,CSVデータ3!Y241,CSVデータ4!Y241)","v":0},{"$f":"SUM(CSVデータ1!Z241,CSVデータ2!Z241,CSVデータ3!Z241,CSVデータ4!Z241)","v":0},{"$f":"SUM(CSVデータ1!AA241,CSVデータ2!AA241,CSVデータ3!AA241,CSVデータ4!AA241)","v":0},{"$f":"SUM(CSVデータ1!AB241,CSVデータ2!AB241,CSVデータ3!AB241,CSVデータ4!AB241)","v":0},{"$f":"SUM(CSVデータ1!AC241,CSVデータ2!AC241,CSVデータ3!AC241,CSVデータ4!AC241)","v":0},{"$f":"SUM(CSVデータ1!AD241,CSVデータ2!AD241,CSVデータ3!AD241,CSVデータ4!AD241)","v":0},{"$f":"SUM(CSVデータ1!AE241,CSVデータ2!AE241,CSVデータ3!AE241,CSVデータ4!AE241)","v":0},{"$f":"SUM(CSVデータ1!AF241,CSVデータ2!AF241,CSVデータ3!AF241,CSVデータ4!AF241)","v":0},{"$f":"SUM(CSVデータ1!AG241,CSVデータ2!AG241,CSVデータ3!AG241,CSVデータ4!AG241)","v":0}]
[{"$f":"CSVデータ1!A242","v":"明細部"},{"$f":"CSVデータ1!B242","v":"保険者（地区）"},{"$f":"CSVデータ1!C242","v":79},{"$f":"CSVデータ1!D242","v":"男"},{"$f":"SUM(CSVデータ1!E242,CSVデータ2!E242,CSVデータ3!E242,CSVデータ4!E242)","v":0},{"$f":"SUM(CSVデータ1!F242,CSVデータ2!F242,CSVデータ3!F242,CSVデータ4!F242)","v":0},{"$f":"SUM(CSVデータ1!G242,CSVデータ2!G242,CSVデータ3!G242,CSVデータ4!G242)","v":0},{"$f":"SUM(CSVデータ1!H242,CSVデータ2!H242,CSVデータ3!H242,CSVデータ4!H242)","v":0},{"$f":"SUM(CSVデータ1!I242,CSVデータ2!I242,CSVデータ3!I242,CSVデータ4!I242)","v":0},{"$f":"SUM(CSVデータ1!J242,CSVデータ2!J242,CSVデータ3!J242,CSVデータ4!J242)","v":0},{"$f":"SUM(CSVデータ1!K242,CSVデータ2!K242,CSVデータ3!K242,CSVデータ4!K242)","v":0},{"$f":"SUM(CSVデータ1!L242,CSVデータ2!L242,CSVデータ3!L242,CSVデータ4!L242)","v":0},{"$f":"SUM(CSVデータ1!M242,CSVデータ2!M242,CSVデータ3!M242,CSVデータ4!M242)","v":0},{"$f":"SUM(CSVデータ1!N242,CSVデータ2!N242,CSVデータ3!N242,CSVデータ4!N242)","v":0},{"$f":"SUM(CSVデータ1!O242,CSVデータ2!O242,CSVデータ3!O242,CSVデータ4!O242)","v":0},{"$f":"SUM(CSVデータ1!P242,CSVデータ2!P242,CSVデータ3!P242,CSVデータ4!P242)","v":0},{"$f":"SUM(CSVデータ1!Q242,CSVデータ2!Q242,CSVデータ3!Q242,CSVデータ4!Q242)","v":0},{"$f":"SUM(CSVデータ1!R242,CSVデータ2!R242,CSVデータ3!R242,CSVデータ4!R242)","v":0},{"$f":"SUM(CSVデータ1!S242,CSVデータ2!S242,CSVデータ3!S242,CSVデータ4!S242)","v":0},{"$f":"SUM(CSVデータ1!T242,CSVデータ2!T242,CSVデータ3!T242,CSVデータ4!T242)","v":0},{"$f":"SUM(CSVデータ1!U242,CSVデータ2!U242,CSVデータ3!U242,CSVデータ4!U242)","v":0},{"$f":"SUM(CSVデータ1!V242,CSVデータ2!V242,CSVデータ3!V242,CSVデータ4!V242)","v":0},{"$f":"SUM(CSVデータ1!W242,CSVデータ2!W242,CSVデータ3!W242,CSVデータ4!W242)","v":0},{"$f":"SUM(CSVデータ1!X242,CSVデータ2!X242,CSVデータ3!X242,CSVデータ4!X242)","v":0},{"$f":"SUM(CSVデータ1!Y242,CSVデータ2!Y242,CSVデータ3!Y242,CSVデータ4!Y242)","v":0},{"$f":"SUM(CSVデータ1!Z242,CSVデータ2!Z242,CSVデータ3!Z242,CSVデータ4!Z242)","v":0},{"$f":"SUM(CSVデータ1!AA242,CSVデータ2!AA242,CSVデータ3!AA242,CSVデータ4!AA242)","v":0},{"$f":"SUM(CSVデータ1!AB242,CSVデータ2!AB242,CSVデータ3!AB242,CSVデータ4!AB242)","v":0},{"$f":"SUM(CSVデータ1!AC242,CSVデータ2!AC242,CSVデータ3!AC242,CSVデータ4!AC242)","v":0},{"$f":"SUM(CSVデータ1!AD242,CSVデータ2!AD242,CSVデータ3!AD242,CSVデータ4!AD242)","v":0},{"$f":"SUM(CSVデータ1!AE242,CSVデータ2!AE242,CSVデータ3!AE242,CSVデータ4!AE242)","v":0},{"$f":"SUM(CSVデータ1!AF242,CSVデータ2!AF242,CSVデータ3!AF242,CSVデータ4!AF242)","v":0},{"$f":"SUM(CSVデータ1!AG242,CSVデータ2!AG242,CSVデータ3!AG242,CSVデータ4!AG242)","v":0}]
[{"$f":"CSVデータ1!A243","v":"明細部"},{"$f":"CSVデータ1!B243","v":"保険者（地区）"},{"$f":"CSVデータ1!C243","v":80},{"$f":"CSVデータ1!D243","v":"男"},{"$f":"SUM(CSVデータ1!E243,CSVデータ2!E243,CSVデータ3!E243,CSVデータ4!E243)","v":0},{"$f":"SUM(CSVデータ1!F243,CSVデータ2!F243,CSVデータ3!F243,CSVデータ4!F243)","v":0},{"$f":"SUM(CSVデータ1!G243,CSVデータ2!G243,CSVデータ3!G243,CSVデータ4!G243)","v":0},{"$f":"SUM(CSVデータ1!H243,CSVデータ2!H243,CSVデータ3!H243,CSVデータ4!H243)","v":0},{"$f":"SUM(CSVデータ1!I243,CSVデータ2!I243,CSVデータ3!I243,CSVデータ4!I243)","v":0},{"$f":"SUM(CSVデータ1!J243,CSVデータ2!J243,CSVデータ3!J243,CSVデータ4!J243)","v":0},{"$f":"SUM(CSVデータ1!K243,CSVデータ2!K243,CSVデータ3!K243,CSVデータ4!K243)","v":0},{"$f":"SUM(CSVデータ1!L243,CSVデータ2!L243,CSVデータ3!L243,CSVデータ4!L243)","v":0},{"$f":"SUM(CSVデータ1!M243,CSVデータ2!M243,CSVデータ3!M243,CSVデータ4!M243)","v":0},{"$f":"SUM(CSVデータ1!N243,CSVデータ2!N243,CSVデータ3!N243,CSVデータ4!N243)","v":0},{"$f":"SUM(CSVデータ1!O243,CSVデータ2!O243,CSVデータ3!O243,CSVデータ4!O243)","v":0},{"$f":"SUM(CSVデータ1!P243,CSVデータ2!P243,CSVデータ3!P243,CSVデータ4!P243)","v":0},{"$f":"SUM(CSVデータ1!Q243,CSVデータ2!Q243,CSVデータ3!Q243,CSVデータ4!Q243)","v":0},{"$f":"SUM(CSVデータ1!R243,CSVデータ2!R243,CSVデータ3!R243,CSVデータ4!R243)","v":0},{"$f":"SUM(CSVデータ1!S243,CSVデータ2!S243,CSVデータ3!S243,CSVデータ4!S243)","v":0},{"$f":"SUM(CSVデータ1!T243,CSVデータ2!T243,CSVデータ3!T243,CSVデータ4!T243)","v":0},{"$f":"SUM(CSVデータ1!U243,CSVデータ2!U243,CSVデータ3!U243,CSVデータ4!U243)","v":0},{"$f":"SUM(CSVデータ1!V243,CSVデータ2!V243,CSVデータ3!V243,CSVデータ4!V243)","v":0},{"$f":"SUM(CSVデータ1!W243,CSVデータ2!W243,CSVデータ3!W243,CSVデータ4!W243)","v":0},{"$f":"SUM(CSVデータ1!X243,CSVデータ2!X243,CSVデータ3!X243,CSVデータ4!X243)","v":0},{"$f":"SUM(CSVデータ1!Y243,CSVデータ2!Y243,CSVデータ3!Y243,CSVデータ4!Y243)","v":0},{"$f":"SUM(CSVデータ1!Z243,CSVデータ2!Z243,CSVデータ3!Z243,CSVデータ4!Z243)","v":0},{"$f":"SUM(CSVデータ1!AA243,CSVデータ2!AA243,CSVデータ3!AA243,CSVデータ4!AA243)","v":0},{"$f":"SUM(CSVデータ1!AB243,CSVデータ2!AB243,CSVデータ3!AB243,CSVデータ4!AB243)","v":0},{"$f":"SUM(CSVデータ1!AC243,CSVデータ2!AC243,CSVデータ3!AC243,CSVデータ4!AC243)","v":0},{"$f":"SUM(CSVデータ1!AD243,CSVデータ2!AD243,CSVデータ3!AD243,CSVデータ4!AD243)","v":0},{"$f":"SUM(CSVデータ1!AE243,CSVデータ2!AE243,CSVデータ3!AE243,CSVデータ4!AE243)","v":0},{"$f":"SUM(CSVデータ1!AF243,CSVデータ2!AF243,CSVデータ3!AF243,CSVデータ4!AF243)","v":0},{"$f":"SUM(CSVデータ1!AG243,CSVデータ2!AG243,CSVデータ3!AG243,CSVデータ4!AG243)","v":0}]
[{"$f":"CSVデータ1!A244","v":"明細部"},{"$f":"CSVデータ1!B244","v":"保険者（地区）"},{"$f":"CSVデータ1!C244","v":81},{"$f":"CSVデータ1!D244","v":"男"},{"$f":"SUM(CSVデータ1!E244,CSVデータ2!E244,CSVデータ3!E244,CSVデータ4!E244)","v":0},{"$f":"SUM(CSVデータ1!F244,CSVデータ2!F244,CSVデータ3!F244,CSVデータ4!F244)","v":0},{"$f":"SUM(CSVデータ1!G244,CSVデータ2!G244,CSVデータ3!G244,CSVデータ4!G244)","v":0},{"$f":"SUM(CSVデータ1!H244,CSVデータ2!H244,CSVデータ3!H244,CSVデータ4!H244)","v":0},{"$f":"SUM(CSVデータ1!I244,CSVデータ2!I244,CSVデータ3!I244,CSVデータ4!I244)","v":0},{"$f":"SUM(CSVデータ1!J244,CSVデータ2!J244,CSVデータ3!J244,CSVデータ4!J244)","v":0},{"$f":"SUM(CSVデータ1!K244,CSVデータ2!K244,CSVデータ3!K244,CSVデータ4!K244)","v":0},{"$f":"SUM(CSVデータ1!L244,CSVデータ2!L244,CSVデータ3!L244,CSVデータ4!L244)","v":0},{"$f":"SUM(CSVデータ1!M244,CSVデータ2!M244,CSVデータ3!M244,CSVデータ4!M244)","v":0},{"$f":"SUM(CSVデータ1!N244,CSVデータ2!N244,CSVデータ3!N244,CSVデータ4!N244)","v":0},{"$f":"SUM(CSVデータ1!O244,CSVデータ2!O244,CSVデータ3!O244,CSVデータ4!O244)","v":0},{"$f":"SUM(CSVデータ1!P244,CSVデータ2!P244,CSVデータ3!P244,CSVデータ4!P244)","v":0},{"$f":"SUM(CSVデータ1!Q244,CSVデータ2!Q244,CSVデータ3!Q244,CSVデータ4!Q244)","v":0},{"$f":"SUM(CSVデータ1!R244,CSVデータ2!R244,CSVデータ3!R244,CSVデータ4!R244)","v":0},{"$f":"SUM(CSVデータ1!S244,CSVデータ2!S244,CSVデータ3!S244,CSVデータ4!S244)","v":0},{"$f":"SUM(CSVデータ1!T244,CSVデータ2!T244,CSVデータ3!T244,CSVデータ4!T244)","v":0},{"$f":"SUM(CSVデータ1!U244,CSVデータ2!U244,CSVデータ3!U244,CSVデータ4!U244)","v":0},{"$f":"SUM(CSVデータ1!V244,CSVデータ2!V244,CSVデータ3!V244,CSVデータ4!V244)","v":0},{"$f":"SUM(CSVデータ1!W244,CSVデータ2!W244,CSVデータ3!W244,CSVデータ4!W244)","v":0},{"$f":"SUM(CSVデータ1!X244,CSVデータ2!X244,CSVデータ3!X244,CSVデータ4!X244)","v":0},{"$f":"SUM(CSVデータ1!Y244,CSVデータ2!Y244,CSVデータ3!Y244,CSVデータ4!Y244)","v":0},{"$f":"SUM(CSVデータ1!Z244,CSVデータ2!Z244,CSVデータ3!Z244,CSVデータ4!Z244)","v":0},{"$f":"SUM(CSVデータ1!AA244,CSVデータ2!AA244,CSVデータ3!AA244,CSVデータ4!AA244)","v":0},{"$f":"SUM(CSVデータ1!AB244,CSVデータ2!AB244,CSVデータ3!AB244,CSVデータ4!AB244)","v":0},{"$f":"SUM(CSVデータ1!AC244,CSVデータ2!AC244,CSVデータ3!AC244,CSVデータ4!AC244)","v":0},{"$f":"SUM(CSVデータ1!AD244,CSVデータ2!AD244,CSVデータ3!AD244,CSVデータ4!AD244)","v":0},{"$f":"SUM(CSVデータ1!AE244,CSVデータ2!AE244,CSVデータ3!AE244,CSVデータ4!AE244)","v":0},{"$f":"SUM(CSVデータ1!AF244,CSVデータ2!AF244,CSVデータ3!AF244,CSVデータ4!AF244)","v":0},{"$f":"SUM(CSVデータ1!AG244,CSVデータ2!AG244,CSVデータ3!AG244,CSVデータ4!AG244)","v":0}]
[{"$f":"CSVデータ1!A245","v":"明細部"},{"$f":"CSVデータ1!B245","v":"保険者（地区）"},{"$f":"CSVデータ1!C245","v":82},{"$f":"CSVデータ1!D245","v":"男"},{"$f":"SUM(CSVデータ1!E245,CSVデータ2!E245,CSVデータ3!E245,CSVデータ4!E245)","v":0},{"$f":"SUM(CSVデータ1!F245,CSVデータ2!F245,CSVデータ3!F245,CSVデータ4!F245)","v":0},{"$f":"SUM(CSVデータ1!G245,CSVデータ2!G245,CSVデータ3!G245,CSVデータ4!G245)","v":0},{"$f":"SUM(CSVデータ1!H245,CSVデータ2!H245,CSVデータ3!H245,CSVデータ4!H245)","v":0},{"$f":"SUM(CSVデータ1!I245,CSVデータ2!I245,CSVデータ3!I245,CSVデータ4!I245)","v":0},{"$f":"SUM(CSVデータ1!J245,CSVデータ2!J245,CSVデータ3!J245,CSVデータ4!J245)","v":0},{"$f":"SUM(CSVデータ1!K245,CSVデータ2!K245,CSVデータ3!K245,CSVデータ4!K245)","v":0},{"$f":"SUM(CSVデータ1!L245,CSVデータ2!L245,CSVデータ3!L245,CSVデータ4!L245)","v":0},{"$f":"SUM(CSVデータ1!M245,CSVデータ2!M245,CSVデータ3!M245,CSVデータ4!M245)","v":0},{"$f":"SUM(CSVデータ1!N245,CSVデータ2!N245,CSVデータ3!N245,CSVデータ4!N245)","v":0},{"$f":"SUM(CSVデータ1!O245,CSVデータ2!O245,CSVデータ3!O245,CSVデータ4!O245)","v":0},{"$f":"SUM(CSVデータ1!P245,CSVデータ2!P245,CSVデータ3!P245,CSVデータ4!P245)","v":0},{"$f":"SUM(CSVデータ1!Q245,CSVデータ2!Q245,CSVデータ3!Q245,CSVデータ4!Q245)","v":0},{"$f":"SUM(CSVデータ1!R245,CSVデータ2!R245,CSVデータ3!R245,CSVデータ4!R245)","v":0},{"$f":"SUM(CSVデータ1!S245,CSVデータ2!S245,CSVデータ3!S245,CSVデータ4!S245)","v":0},{"$f":"SUM(CSVデータ1!T245,CSVデータ2!T245,CSVデータ3!T245,CSVデータ4!T245)","v":0},{"$f":"SUM(CSVデータ1!U245,CSVデータ2!U245,CSVデータ3!U245,CSVデータ4!U245)","v":0},{"$f":"SUM(CSVデータ1!V245,CSVデータ2!V245,CSVデータ3!V245,CSVデータ4!V245)","v":0},{"$f":"SUM(CSVデータ1!W245,CSVデータ2!W245,CSVデータ3!W245,CSVデータ4!W245)","v":0},{"$f":"SUM(CSVデータ1!X245,CSVデータ2!X245,CSVデータ3!X245,CSVデータ4!X245)","v":0},{"$f":"SUM(CSVデータ1!Y245,CSVデータ2!Y245,CSVデータ3!Y245,CSVデータ4!Y245)","v":0},{"$f":"SUM(CSVデータ1!Z245,CSVデータ2!Z245,CSVデータ3!Z245,CSVデータ4!Z245)","v":0},{"$f":"SUM(CSVデータ1!AA245,CSVデータ2!AA245,CSVデータ3!AA245,CSVデータ4!AA245)","v":0},{"$f":"SUM(CSVデータ1!AB245,CSVデータ2!AB245,CSVデータ3!AB245,CSVデータ4!AB245)","v":0},{"$f":"SUM(CSVデータ1!AC245,CSVデータ2!AC245,CSVデータ3!AC245,CSVデータ4!AC245)","v":0},{"$f":"SUM(CSVデータ1!AD245,CSVデータ2!AD245,CSVデータ3!AD245,CSVデータ4!AD245)","v":0},{"$f":"SUM(CSVデータ1!AE245,CSVデータ2!AE245,CSVデータ3!AE245,CSVデータ4!AE245)","v":0},{"$f":"SUM(CSVデータ1!AF245,CSVデータ2!AF245,CSVデータ3!AF245,CSVデータ4!AF245)","v":0},{"$f":"SUM(CSVデータ1!AG245,CSVデータ2!AG245,CSVデータ3!AG245,CSVデータ4!AG245)","v":0}]
[{"$f":"CSVデータ1!A246","v":"明細部"},{"$f":"CSVデータ1!B246","v":"保険者（地区）"},{"$f":"CSVデータ1!C246","v":83},{"$f":"CSVデータ1!D246","v":"男"},{"$f":"SUM(CSVデータ1!E246,CSVデータ2!E246,CSVデータ3!E246,CSVデータ4!E246)","v":0},{"$f":"SUM(CSVデータ1!F246,CSVデータ2!F246,CSVデータ3!F246,CSVデータ4!F246)","v":0},{"$f":"SUM(CSVデータ1!G246,CSVデータ2!G246,CSVデータ3!G246,CSVデータ4!G246)","v":0},{"$f":"SUM(CSVデータ1!H246,CSVデータ2!H246,CSVデータ3!H246,CSVデータ4!H246)","v":0},{"$f":"SUM(CSVデータ1!I246,CSVデータ2!I246,CSVデータ3!I246,CSVデータ4!I246)","v":0},{"$f":"SUM(CSVデータ1!J246,CSVデータ2!J246,CSVデータ3!J246,CSVデータ4!J246)","v":0},{"$f":"SUM(CSVデータ1!K246,CSVデータ2!K246,CSVデータ3!K246,CSVデータ4!K246)","v":0},{"$f":"SUM(CSVデータ1!L246,CSVデータ2!L246,CSVデータ3!L246,CSVデータ4!L246)","v":0},{"$f":"SUM(CSVデータ1!M246,CSVデータ2!M246,CSVデータ3!M246,CSVデータ4!M246)","v":0},{"$f":"SUM(CSVデータ1!N246,CSVデータ2!N246,CSVデータ3!N246,CSVデータ4!N246)","v":0},{"$f":"SUM(CSVデータ1!O246,CSVデータ2!O246,CSVデータ3!O246,CSVデータ4!O246)","v":0},{"$f":"SUM(CSVデータ1!P246,CSVデータ2!P246,CSVデータ3!P246,CSVデータ4!P246)","v":0},{"$f":"SUM(CSVデータ1!Q246,CSVデータ2!Q246,CSVデータ3!Q246,CSVデータ4!Q246)","v":0},{"$f":"SUM(CSVデータ1!R246,CSVデータ2!R246,CSVデータ3!R246,CSVデータ4!R246)","v":0},{"$f":"SUM(CSVデータ1!S246,CSVデータ2!S246,CSVデータ3!S246,CSVデータ4!S246)","v":0},{"$f":"SUM(CSVデータ1!T246,CSVデータ2!T246,CSVデータ3!T246,CSVデータ4!T246)","v":0},{"$f":"SUM(CSVデータ1!U246,CSVデータ2!U246,CSVデータ3!U246,CSVデータ4!U246)","v":0},{"$f":"SUM(CSVデータ1!V246,CSVデータ2!V246,CSVデータ3!V246,CSVデータ4!V246)","v":0},{"$f":"SUM(CSVデータ1!W246,CSVデータ2!W246,CSVデータ3!W246,CSVデータ4!W246)","v":0},{"$f":"SUM(CSVデータ1!X246,CSVデータ2!X246,CSVデータ3!X246,CSVデータ4!X246)","v":0},{"$f":"SUM(CSVデータ1!Y246,CSVデータ2!Y246,CSVデータ3!Y246,CSVデータ4!Y246)","v":0},{"$f":"SUM(CSVデータ1!Z246,CSVデータ2!Z246,CSVデータ3!Z246,CSVデータ4!Z246)","v":0},{"$f":"SUM(CSVデータ1!AA246,CSVデータ2!AA246,CSVデータ3!AA246,CSVデータ4!AA246)","v":0},{"$f":"SUM(CSVデータ1!AB246,CSVデータ2!AB246,CSVデータ3!AB246,CSVデータ4!AB246)","v":0},{"$f":"SUM(CSVデータ1!AC246,CSVデータ2!AC246,CSVデータ3!AC246,CSVデータ4!AC246)","v":0},{"$f":"SUM(CSVデータ1!AD246,CSVデータ2!AD246,CSVデータ3!AD246,CSVデータ4!AD246)","v":0},{"$f":"SUM(CSVデータ1!AE246,CSVデータ2!AE246,CSVデータ3!AE246,CSVデータ4!AE246)","v":0},{"$f":"SUM(CSVデータ1!AF246,CSVデータ2!AF246,CSVデータ3!AF246,CSVデータ4!AF246)","v":0},{"$f":"SUM(CSVデータ1!AG246,CSVデータ2!AG246,CSVデータ3!AG246,CSVデータ4!AG246)","v":0}]
[{"$f":"CSVデータ1!A247","v":"明細部"},{"$f":"CSVデータ1!B247","v":"保険者（地区）"},{"$f":"CSVデータ1!C247","v":84},{"$f":"CSVデータ1!D247","v":"男"},{"$f":"SUM(CSVデータ1!E247,CSVデータ2!E247,CSVデータ3!E247,CSVデータ4!E247)","v":0},{"$f":"SUM(CSVデータ1!F247,CSVデータ2!F247,CSVデータ3!F247,CSVデータ4!F247)","v":0},{"$f":"SUM(CSVデータ1!G247,CSVデータ2!G247,CSVデータ3!G247,CSVデータ4!G247)","v":0},{"$f":"SUM(CSVデータ1!H247,CSVデータ2!H247,CSVデータ3!H247,CSVデータ4!H247)","v":0},{"$f":"SUM(CSVデータ1!I247,CSVデータ2!I247,CSVデータ3!I247,CSVデータ4!I247)","v":0},{"$f":"SUM(CSVデータ1!J247,CSVデータ2!J247,CSVデータ3!J247,CSVデータ4!J247)","v":0},{"$f":"SUM(CSVデータ1!K247,CSVデータ2!K247,CSVデータ3!K247,CSVデータ4!K247)","v":0},{"$f":"SUM(CSVデータ1!L247,CSVデータ2!L247,CSVデータ3!L247,CSVデータ4!L247)","v":0},{"$f":"SUM(CSVデータ1!M247,CSVデータ2!M247,CSVデータ3!M247,CSVデータ4!M247)","v":0},{"$f":"SUM(CSVデータ1!N247,CSVデータ2!N247,CSVデータ3!N247,CSVデータ4!N247)","v":0},{"$f":"SUM(CSVデータ1!O247,CSVデータ2!O247,CSVデータ3!O247,CSVデータ4!O247)","v":0},{"$f":"SUM(CSVデータ1!P247,CSVデータ2!P247,CSVデータ3!P247,CSVデータ4!P247)","v":0},{"$f":"SUM(CSVデータ1!Q247,CSVデータ2!Q247,CSVデータ3!Q247,CSVデータ4!Q247)","v":0},{"$f":"SUM(CSVデータ1!R247,CSVデータ2!R247,CSVデータ3!R247,CSVデータ4!R247)","v":0},{"$f":"SUM(CSVデータ1!S247,CSVデータ2!S247,CSVデータ3!S247,CSVデータ4!S247)","v":0},{"$f":"SUM(CSVデータ1!T247,CSVデータ2!T247,CSVデータ3!T247,CSVデータ4!T247)","v":0},{"$f":"SUM(CSVデータ1!U247,CSVデータ2!U247,CSVデータ3!U247,CSVデータ4!U247)","v":0},{"$f":"SUM(CSVデータ1!V247,CSVデータ2!V247,CSVデータ3!V247,CSVデータ4!V247)","v":0},{"$f":"SUM(CSVデータ1!W247,CSVデータ2!W247,CSVデータ3!W247,CSVデータ4!W247)","v":0},{"$f":"SUM(CSVデータ1!X247,CSVデータ2!X247,CSVデータ3!X247,CSVデータ4!X247)","v":0},{"$f":"SUM(CSVデータ1!Y247,CSVデータ2!Y247,CSVデータ3!Y247,CSVデータ4!Y247)","v":0},{"$f":"SUM(CSVデータ1!Z247,CSVデータ2!Z247,CSVデータ3!Z247,CSVデータ4!Z247)","v":0},{"$f":"SUM(CSVデータ1!AA247,CSVデータ2!AA247,CSVデータ3!AA247,CSVデータ4!AA247)","v":0},{"$f":"SUM(CSVデータ1!AB247,CSVデータ2!AB247,CSVデータ3!AB247,CSVデータ4!AB247)","v":0},{"$f":"SUM(CSVデータ1!AC247,CSVデータ2!AC247,CSVデータ3!AC247,CSVデータ4!AC247)","v":0},{"$f":"SUM(CSVデータ1!AD247,CSVデータ2!AD247,CSVデータ3!AD247,CSVデータ4!AD247)","v":0},{"$f":"SUM(CSVデータ1!AE247,CSVデータ2!AE247,CSVデータ3!AE247,CSVデータ4!AE247)","v":0},{"$f":"SUM(CSVデータ1!AF247,CSVデータ2!AF247,CSVデータ3!AF247,CSVデータ4!AF247)","v":0},{"$f":"SUM(CSVデータ1!AG247,CSVデータ2!AG247,CSVデータ3!AG247,CSVデータ4!AG247)","v":0}]
[{"$f":"CSVデータ1!A248","v":"明細部"},{"$f":"CSVデータ1!B248","v":"保険者（地区）"},{"$f":"CSVデータ1!C248","v":85},{"$f":"CSVデータ1!D248","v":"男"},{"$f":"SUM(CSVデータ1!E248,CSVデータ2!E248,CSVデータ3!E248,CSVデータ4!E248)","v":0},{"$f":"SUM(CSVデータ1!F248,CSVデータ2!F248,CSVデータ3!F248,CSVデータ4!F248)","v":0},{"$f":"SUM(CSVデータ1!G248,CSVデータ2!G248,CSVデータ3!G248,CSVデータ4!G248)","v":0},{"$f":"SUM(CSVデータ1!H248,CSVデータ2!H248,CSVデータ3!H248,CSVデータ4!H248)","v":0},{"$f":"SUM(CSVデータ1!I248,CSVデータ2!I248,CSVデータ3!I248,CSVデータ4!I248)","v":0},{"$f":"SUM(CSVデータ1!J248,CSVデータ2!J248,CSVデータ3!J248,CSVデータ4!J248)","v":0},{"$f":"SUM(CSVデータ1!K248,CSVデータ2!K248,CSVデータ3!K248,CSVデータ4!K248)","v":0},{"$f":"SUM(CSVデータ1!L248,CSVデータ2!L248,CSVデータ3!L248,CSVデータ4!L248)","v":0},{"$f":"SUM(CSVデータ1!M248,CSVデータ2!M248,CSVデータ3!M248,CSVデータ4!M248)","v":0},{"$f":"SUM(CSVデータ1!N248,CSVデータ2!N248,CSVデータ3!N248,CSVデータ4!N248)","v":0},{"$f":"SUM(CSVデータ1!O248,CSVデータ2!O248,CSVデータ3!O248,CSVデータ4!O248)","v":0},{"$f":"SUM(CSVデータ1!P248,CSVデータ2!P248,CSVデータ3!P248,CSVデータ4!P248)","v":0},{"$f":"SUM(CSVデータ1!Q248,CSVデータ2!Q248,CSVデータ3!Q248,CSVデータ4!Q248)","v":0},{"$f":"SUM(CSVデータ1!R248,CSVデータ2!R248,CSVデータ3!R248,CSVデータ4!R248)","v":0},{"$f":"SUM(CSVデータ1!S248,CSVデータ2!S248,CSVデータ3!S248,CSVデータ4!S248)","v":0},{"$f":"SUM(CSVデータ1!T248,CSVデータ2!T248,CSVデータ3!T248,CSVデータ4!T248)","v":0},{"$f":"SUM(CSVデータ1!U248,CSVデータ2!U248,CSVデータ3!U248,CSVデータ4!U248)","v":0},{"$f":"SUM(CSVデータ1!V248,CSVデータ2!V248,CSVデータ3!V248,CSVデータ4!V248)","v":0},{"$f":"SUM(CSVデータ1!W248,CSVデータ2!W248,CSVデータ3!W248,CSVデータ4!W248)","v":0},{"$f":"SUM(CSVデータ1!X248,CSVデータ2!X248,CSVデータ3!X248,CSVデータ4!X248)","v":0},{"$f":"SUM(CSVデータ1!Y248,CSVデータ2!Y248,CSVデータ3!Y248,CSVデータ4!Y248)","v":0},{"$f":"SUM(CSVデータ1!Z248,CSVデータ2!Z248,CSVデータ3!Z248,CSVデータ4!Z248)","v":0},{"$f":"SUM(CSVデータ1!AA248,CSVデータ2!AA248,CSVデータ3!AA248,CSVデータ4!AA248)","v":0},{"$f":"SUM(CSVデータ1!AB248,CSVデータ2!AB248,CSVデータ3!AB248,CSVデータ4!AB248)","v":0},{"$f":"SUM(CSVデータ1!AC248,CSVデータ2!AC248,CSVデータ3!AC248,CSVデータ4!AC248)","v":0},{"$f":"SUM(CSVデータ1!AD248,CSVデータ2!AD248,CSVデータ3!AD248,CSVデータ4!AD248)","v":0},{"$f":"SUM(CSVデータ1!AE248,CSVデータ2!AE248,CSVデータ3!AE248,CSVデータ4!AE248)","v":0},{"$f":"SUM(CSVデータ1!AF248,CSVデータ2!AF248,CSVデータ3!AF248,CSVデータ4!AF248)","v":0},{"$f":"SUM(CSVデータ1!AG248,CSVデータ2!AG248,CSVデータ3!AG248,CSVデータ4!AG248)","v":0}]
[{"$f":"CSVデータ1!A249","v":"明細部"},{"$f":"CSVデータ1!B249","v":"保険者（地区）"},{"$f":"CSVデータ1!C249","v":86},{"$f":"CSVデータ1!D249","v":"男"},{"$f":"SUM(CSVデータ1!E249,CSVデータ2!E249,CSVデータ3!E249,CSVデータ4!E249)","v":0},{"$f":"SUM(CSVデータ1!F249,CSVデータ2!F249,CSVデータ3!F249,CSVデータ4!F249)","v":0},{"$f":"SUM(CSVデータ1!G249,CSVデータ2!G249,CSVデータ3!G249,CSVデータ4!G249)","v":0},{"$f":"SUM(CSVデータ1!H249,CSVデータ2!H249,CSVデータ3!H249,CSVデータ4!H249)","v":0},{"$f":"SUM(CSVデータ1!I249,CSVデータ2!I249,CSVデータ3!I249,CSVデータ4!I249)","v":0},{"$f":"SUM(CSVデータ1!J249,CSVデータ2!J249,CSVデータ3!J249,CSVデータ4!J249)","v":0},{"$f":"SUM(CSVデータ1!K249,CSVデータ2!K249,CSVデータ3!K249,CSVデータ4!K249)","v":0},{"$f":"SUM(CSVデータ1!L249,CSVデータ2!L249,CSVデータ3!L249,CSVデータ4!L249)","v":0},{"$f":"SUM(CSVデータ1!M249,CSVデータ2!M249,CSVデータ3!M249,CSVデータ4!M249)","v":0},{"$f":"SUM(CSVデータ1!N249,CSVデータ2!N249,CSVデータ3!N249,CSVデータ4!N249)","v":0},{"$f":"SUM(CSVデータ1!O249,CSVデータ2!O249,CSVデータ3!O249,CSVデータ4!O249)","v":0},{"$f":"SUM(CSVデータ1!P249,CSVデータ2!P249,CSVデータ3!P249,CSVデータ4!P249)","v":0},{"$f":"SUM(CSVデータ1!Q249,CSVデータ2!Q249,CSVデータ3!Q249,CSVデータ4!Q249)","v":0},{"$f":"SUM(CSVデータ1!R249,CSVデータ2!R249,CSVデータ3!R249,CSVデータ4!R249)","v":0},{"$f":"SUM(CSVデータ1!S249,CSVデータ2!S249,CSVデータ3!S249,CSVデータ4!S249)","v":0},{"$f":"SUM(CSVデータ1!T249,CSVデータ2!T249,CSVデータ3!T249,CSVデータ4!T249)","v":0},{"$f":"SUM(CSVデータ1!U249,CSVデータ2!U249,CSVデータ3!U249,CSVデータ4!U249)","v":0},{"$f":"SUM(CSVデータ1!V249,CSVデータ2!V249,CSVデータ3!V249,CSVデータ4!V249)","v":0},{"$f":"SUM(CSVデータ1!W249,CSVデータ2!W249,CSVデータ3!W249,CSVデータ4!W249)","v":0},{"$f":"SUM(CSVデータ1!X249,CSVデータ2!X249,CSVデータ3!X249,CSVデータ4!X249)","v":0},{"$f":"SUM(CSVデータ1!Y249,CSVデータ2!Y249,CSVデータ3!Y249,CSVデータ4!Y249)","v":0},{"$f":"SUM(CSVデータ1!Z249,CSVデータ2!Z249,CSVデータ3!Z249,CSVデータ4!Z249)","v":0},{"$f":"SUM(CSVデータ1!AA249,CSVデータ2!AA249,CSVデータ3!AA249,CSVデータ4!AA249)","v":0},{"$f":"SUM(CSVデータ1!AB249,CSVデータ2!AB249,CSVデータ3!AB249,CSVデータ4!AB249)","v":0},{"$f":"SUM(CSVデータ1!AC249,CSVデータ2!AC249,CSVデータ3!AC249,CSVデータ4!AC249)","v":0},{"$f":"SUM(CSVデータ1!AD249,CSVデータ2!AD249,CSVデータ3!AD249,CSVデータ4!AD249)","v":0},{"$f":"SUM(CSVデータ1!AE249,CSVデータ2!AE249,CSVデータ3!AE249,CSVデータ4!AE249)","v":0},{"$f":"SUM(CSVデータ1!AF249,CSVデータ2!AF249,CSVデータ3!AF249,CSVデータ4!AF249)","v":0},{"$f":"SUM(CSVデータ1!AG249,CSVデータ2!AG249,CSVデータ3!AG249,CSVデータ4!AG249)","v":0}]
[{"$f":"CSVデータ1!A250","v":"明細部"},{"$f":"CSVデータ1!B250","v":"保険者（地区）"},{"$f":"CSVデータ1!C250","v":87},{"$f":"CSVデータ1!D250","v":"男"},{"$f":"SUM(CSVデータ1!E250,CSVデータ2!E250,CSVデータ3!E250,CSVデータ4!E250)","v":0},{"$f":"SUM(CSVデータ1!F250,CSVデータ2!F250,CSVデータ3!F250,CSVデータ4!F250)","v":0},{"$f":"SUM(CSVデータ1!G250,CSVデータ2!G250,CSVデータ3!G250,CSVデータ4!G250)","v":0},{"$f":"SUM(CSVデータ1!H250,CSVデータ2!H250,CSVデータ3!H250,CSVデータ4!H250)","v":0},{"$f":"SUM(CSVデータ1!I250,CSVデータ2!I250,CSVデータ3!I250,CSVデータ4!I250)","v":0},{"$f":"SUM(CSVデータ1!J250,CSVデータ2!J250,CSVデータ3!J250,CSVデータ4!J250)","v":0},{"$f":"SUM(CSVデータ1!K250,CSVデータ2!K250,CSVデータ3!K250,CSVデータ4!K250)","v":0},{"$f":"SUM(CSVデータ1!L250,CSVデータ2!L250,CSVデータ3!L250,CSVデータ4!L250)","v":0},{"$f":"SUM(CSVデータ1!M250,CSVデータ2!M250,CSVデータ3!M250,CSVデータ4!M250)","v":0},{"$f":"SUM(CSVデータ1!N250,CSVデータ2!N250,CSVデータ3!N250,CSVデータ4!N250)","v":0},{"$f":"SUM(CSVデータ1!O250,CSVデータ2!O250,CSVデータ3!O250,CSVデータ4!O250)","v":0},{"$f":"SUM(CSVデータ1!P250,CSVデータ2!P250,CSVデータ3!P250,CSVデータ4!P250)","v":0},{"$f":"SUM(CSVデータ1!Q250,CSVデータ2!Q250,CSVデータ3!Q250,CSVデータ4!Q250)","v":0},{"$f":"SUM(CSVデータ1!R250,CSVデータ2!R250,CSVデータ3!R250,CSVデータ4!R250)","v":0},{"$f":"SUM(CSVデータ1!S250,CSVデータ2!S250,CSVデータ3!S250,CSVデータ4!S250)","v":0},{"$f":"SUM(CSVデータ1!T250,CSVデータ2!T250,CSVデータ3!T250,CSVデータ4!T250)","v":0},{"$f":"SUM(CSVデータ1!U250,CSVデータ2!U250,CSVデータ3!U250,CSVデータ4!U250)","v":0},{"$f":"SUM(CSVデータ1!V250,CSVデータ2!V250,CSVデータ3!V250,CSVデータ4!V250)","v":0},{"$f":"SUM(CSVデータ1!W250,CSVデータ2!W250,CSVデータ3!W250,CSVデータ4!W250)","v":0},{"$f":"SUM(CSVデータ1!X250,CSVデータ2!X250,CSVデータ3!X250,CSVデータ4!X250)","v":0},{"$f":"SUM(CSVデータ1!Y250,CSVデータ2!Y250,CSVデータ3!Y250,CSVデータ4!Y250)","v":0},{"$f":"SUM(CSVデータ1!Z250,CSVデータ2!Z250,CSVデータ3!Z250,CSVデータ4!Z250)","v":0},{"$f":"SUM(CSVデータ1!AA250,CSVデータ2!AA250,CSVデータ3!AA250,CSVデータ4!AA250)","v":0},{"$f":"SUM(CSVデータ1!AB250,CSVデータ2!AB250,CSVデータ3!AB250,CSVデータ4!AB250)","v":0},{"$f":"SUM(CSVデータ1!AC250,CSVデータ2!AC250,CSVデータ3!AC250,CSVデータ4!AC250)","v":0},{"$f":"SUM(CSVデータ1!AD250,CSVデータ2!AD250,CSVデータ3!AD250,CSVデータ4!AD250)","v":0},{"$f":"SUM(CSVデータ1!AE250,CSVデータ2!AE250,CSVデータ3!AE250,CSVデータ4!AE250)","v":0},{"$f":"SUM(CSVデータ1!AF250,CSVデータ2!AF250,CSVデータ3!AF250,CSVデータ4!AF250)","v":0},{"$f":"SUM(CSVデータ1!AG250,CSVデータ2!AG250,CSVデータ3!AG250,CSVデータ4!AG250)","v":0}]
[{"$f":"CSVデータ1!A251","v":"明細部"},{"$f":"CSVデータ1!B251","v":"保険者（地区）"},{"$f":"CSVデータ1!C251","v":88},{"$f":"CSVデータ1!D251","v":"男"},{"$f":"SUM(CSVデータ1!E251,CSVデータ2!E251,CSVデータ3!E251,CSVデータ4!E251)","v":0},{"$f":"SUM(CSVデータ1!F251,CSVデータ2!F251,CSVデータ3!F251,CSVデータ4!F251)","v":0},{"$f":"SUM(CSVデータ1!G251,CSVデータ2!G251,CSVデータ3!G251,CSVデータ4!G251)","v":0},{"$f":"SUM(CSVデータ1!H251,CSVデータ2!H251,CSVデータ3!H251,CSVデータ4!H251)","v":0},{"$f":"SUM(CSVデータ1!I251,CSVデータ2!I251,CSVデータ3!I251,CSVデータ4!I251)","v":0},{"$f":"SUM(CSVデータ1!J251,CSVデータ2!J251,CSVデータ3!J251,CSVデータ4!J251)","v":0},{"$f":"SUM(CSVデータ1!K251,CSVデータ2!K251,CSVデータ3!K251,CSVデータ4!K251)","v":0},{"$f":"SUM(CSVデータ1!L251,CSVデータ2!L251,CSVデータ3!L251,CSVデータ4!L251)","v":0},{"$f":"SUM(CSVデータ1!M251,CSVデータ2!M251,CSVデータ3!M251,CSVデータ4!M251)","v":0},{"$f":"SUM(CSVデータ1!N251,CSVデータ2!N251,CSVデータ3!N251,CSVデータ4!N251)","v":0},{"$f":"SUM(CSVデータ1!O251,CSVデータ2!O251,CSVデータ3!O251,CSVデータ4!O251)","v":0},{"$f":"SUM(CSVデータ1!P251,CSVデータ2!P251,CSVデータ3!P251,CSVデータ4!P251)","v":0},{"$f":"SUM(CSVデータ1!Q251,CSVデータ2!Q251,CSVデータ3!Q251,CSVデータ4!Q251)","v":0},{"$f":"SUM(CSVデータ1!R251,CSVデータ2!R251,CSVデータ3!R251,CSVデータ4!R251)","v":0},{"$f":"SUM(CSVデータ1!S251,CSVデータ2!S251,CSVデータ3!S251,CSVデータ4!S251)","v":0},{"$f":"SUM(CSVデータ1!T251,CSVデータ2!T251,CSVデータ3!T251,CSVデータ4!T251)","v":0},{"$f":"SUM(CSVデータ1!U251,CSVデータ2!U251,CSVデータ3!U251,CSVデータ4!U251)","v":0},{"$f":"SUM(CSVデータ1!V251,CSVデータ2!V251,CSVデータ3!V251,CSVデータ4!V251)","v":0},{"$f":"SUM(CSVデータ1!W251,CSVデータ2!W251,CSVデータ3!W251,CSVデータ4!W251)","v":0},{"$f":"SUM(CSVデータ1!X251,CSVデータ2!X251,CSVデータ3!X251,CSVデータ4!X251)","v":0},{"$f":"SUM(CSVデータ1!Y251,CSVデータ2!Y251,CSVデータ3!Y251,CSVデータ4!Y251)","v":0},{"$f":"SUM(CSVデータ1!Z251,CSVデータ2!Z251,CSVデータ3!Z251,CSVデータ4!Z251)","v":0},{"$f":"SUM(CSVデータ1!AA251,CSVデータ2!AA251,CSVデータ3!AA251,CSVデータ4!AA251)","v":0},{"$f":"SUM(CSVデータ1!AB251,CSVデータ2!AB251,CSVデータ3!AB251,CSVデータ4!AB251)","v":0},{"$f":"SUM(CSVデータ1!AC251,CSVデータ2!AC251,CSVデータ3!AC251,CSVデータ4!AC251)","v":0},{"$f":"SUM(CSVデータ1!AD251,CSVデータ2!AD251,CSVデータ3!AD251,CSVデータ4!AD251)","v":0},{"$f":"SUM(CSVデータ1!AE251,CSVデータ2!AE251,CSVデータ3!AE251,CSVデータ4!AE251)","v":0},{"$f":"SUM(CSVデータ1!AF251,CSVデータ2!AF251,CSVデータ3!AF251,CSVデータ4!AF251)","v":0},{"$f":"SUM(CSVデータ1!AG251,CSVデータ2!AG251,CSVデータ3!AG251,CSVデータ4!AG251)","v":0}]
[{"$f":"CSVデータ1!A252","v":"明細部"},{"$f":"CSVデータ1!B252","v":"保険者（地区）"},{"$f":"CSVデータ1!C252","v":89},{"$f":"CSVデータ1!D252","v":"男"},{"$f":"SUM(CSVデータ1!E252,CSVデータ2!E252,CSVデータ3!E252,CSVデータ4!E252)","v":0},{"$f":"SUM(CSVデータ1!F252,CSVデータ2!F252,CSVデータ3!F252,CSVデータ4!F252)","v":0},{"$f":"SUM(CSVデータ1!G252,CSVデータ2!G252,CSVデータ3!G252,CSVデータ4!G252)","v":0},{"$f":"SUM(CSVデータ1!H252,CSVデータ2!H252,CSVデータ3!H252,CSVデータ4!H252)","v":0},{"$f":"SUM(CSVデータ1!I252,CSVデータ2!I252,CSVデータ3!I252,CSVデータ4!I252)","v":0},{"$f":"SUM(CSVデータ1!J252,CSVデータ2!J252,CSVデータ3!J252,CSVデータ4!J252)","v":0},{"$f":"SUM(CSVデータ1!K252,CSVデータ2!K252,CSVデータ3!K252,CSVデータ4!K252)","v":0},{"$f":"SUM(CSVデータ1!L252,CSVデータ2!L252,CSVデータ3!L252,CSVデータ4!L252)","v":0},{"$f":"SUM(CSVデータ1!M252,CSVデータ2!M252,CSVデータ3!M252,CSVデータ4!M252)","v":0},{"$f":"SUM(CSVデータ1!N252,CSVデータ2!N252,CSVデータ3!N252,CSVデータ4!N252)","v":0},{"$f":"SUM(CSVデータ1!O252,CSVデータ2!O252,CSVデータ3!O252,CSVデータ4!O252)","v":0},{"$f":"SUM(CSVデータ1!P252,CSVデータ2!P252,CSVデータ3!P252,CSVデータ4!P252)","v":0},{"$f":"SUM(CSVデータ1!Q252,CSVデータ2!Q252,CSVデータ3!Q252,CSVデータ4!Q252)","v":0},{"$f":"SUM(CSVデータ1!R252,CSVデータ2!R252,CSVデータ3!R252,CSVデータ4!R252)","v":0},{"$f":"SUM(CSVデータ1!S252,CSVデータ2!S252,CSVデータ3!S252,CSVデータ4!S252)","v":0},{"$f":"SUM(CSVデータ1!T252,CSVデータ2!T252,CSVデータ3!T252,CSVデータ4!T252)","v":0},{"$f":"SUM(CSVデータ1!U252,CSVデータ2!U252,CSVデータ3!U252,CSVデータ4!U252)","v":0},{"$f":"SUM(CSVデータ1!V252,CSVデータ2!V252,CSVデータ3!V252,CSVデータ4!V252)","v":0},{"$f":"SUM(CSVデータ1!W252,CSVデータ2!W252,CSVデータ3!W252,CSVデータ4!W252)","v":0},{"$f":"SUM(CSVデータ1!X252,CSVデータ2!X252,CSVデータ3!X252,CSVデータ4!X252)","v":0},{"$f":"SUM(CSVデータ1!Y252,CSVデータ2!Y252,CSVデータ3!Y252,CSVデータ4!Y252)","v":0},{"$f":"SUM(CSVデータ1!Z252,CSVデータ2!Z252,CSVデータ3!Z252,CSVデータ4!Z252)","v":0},{"$f":"SUM(CSVデータ1!AA252,CSVデータ2!AA252,CSVデータ3!AA252,CSVデータ4!AA252)","v":0},{"$f":"SUM(CSVデータ1!AB252,CSVデータ2!AB252,CSVデータ3!AB252,CSVデータ4!AB252)","v":0},{"$f":"SUM(CSVデータ1!AC252,CSVデータ2!AC252,CSVデータ3!AC252,CSVデータ4!AC252)","v":0},{"$f":"SUM(CSVデータ1!AD252,CSVデータ2!AD252,CSVデータ3!AD252,CSVデータ4!AD252)","v":0},{"$f":"SUM(CSVデータ1!AE252,CSVデータ2!AE252,CSVデータ3!AE252,CSVデータ4!AE252)","v":0},{"$f":"SUM(CSVデータ1!AF252,CSVデータ2!AF252,CSVデータ3!AF252,CSVデータ4!AF252)","v":0},{"$f":"SUM(CSVデータ1!AG252,CSVデータ2!AG252,CSVデータ3!AG252,CSVデータ4!AG252)","v":0}]
[{"$f":"CSVデータ1!A253","v":"明細部"},{"$f":"CSVデータ1!B253","v":"保険者（地区）"},{"$f":"CSVデータ1!C253","v":90},{"$f":"CSVデータ1!D253","v":"男"},{"$f":"SUM(CSVデータ1!E253,CSVデータ2!E253,CSVデータ3!E253,CSVデータ4!E253)","v":0},{"$f":"SUM(CSVデータ1!F253,CSVデータ2!F253,CSVデータ3!F253,CSVデータ4!F253)","v":0},{"$f":"SUM(CSVデータ1!G253,CSVデータ2!G253,CSVデータ3!G253,CSVデータ4!G253)","v":0},{"$f":"SUM(CSVデータ1!H253,CSVデータ2!H253,CSVデータ3!H253,CSVデータ4!H253)","v":0},{"$f":"SUM(CSVデータ1!I253,CSVデータ2!I253,CSVデータ3!I253,CSVデータ4!I253)","v":0},{"$f":"SUM(CSVデータ1!J253,CSVデータ2!J253,CSVデータ3!J253,CSVデータ4!J253)","v":0},{"$f":"SUM(CSVデータ1!K253,CSVデータ2!K253,CSVデータ3!K253,CSVデータ4!K253)","v":0},{"$f":"SUM(CSVデータ1!L253,CSVデータ2!L253,CSVデータ3!L253,CSVデータ4!L253)","v":0},{"$f":"SUM(CSVデータ1!M253,CSVデータ2!M253,CSVデータ3!M253,CSVデータ4!M253)","v":0},{"$f":"SUM(CSVデータ1!N253,CSVデータ2!N253,CSVデータ3!N253,CSVデータ4!N253)","v":0},{"$f":"SUM(CSVデータ1!O253,CSVデータ2!O253,CSVデータ3!O253,CSVデータ4!O253)","v":0},{"$f":"SUM(CSVデータ1!P253,CSVデータ2!P253,CSVデータ3!P253,CSVデータ4!P253)","v":0},{"$f":"SUM(CSVデータ1!Q253,CSVデータ2!Q253,CSVデータ3!Q253,CSVデータ4!Q253)","v":0},{"$f":"SUM(CSVデータ1!R253,CSVデータ2!R253,CSVデータ3!R253,CSVデータ4!R253)","v":0},{"$f":"SUM(CSVデータ1!S253,CSVデータ2!S253,CSVデータ3!S253,CSVデータ4!S253)","v":0},{"$f":"SUM(CSVデータ1!T253,CSVデータ2!T253,CSVデータ3!T253,CSVデータ4!T253)","v":0},{"$f":"SUM(CSVデータ1!U253,CSVデータ2!U253,CSVデータ3!U253,CSVデータ4!U253)","v":0},{"$f":"SUM(CSVデータ1!V253,CSVデータ2!V253,CSVデータ3!V253,CSVデータ4!V253)","v":0},{"$f":"SUM(CSVデータ1!W253,CSVデータ2!W253,CSVデータ3!W253,CSVデータ4!W253)","v":0},{"$f":"SUM(CSVデータ1!X253,CSVデータ2!X253,CSVデータ3!X253,CSVデータ4!X253)","v":0},{"$f":"SUM(CSVデータ1!Y253,CSVデータ2!Y253,CSVデータ3!Y253,CSVデータ4!Y253)","v":0},{"$f":"SUM(CSVデータ1!Z253,CSVデータ2!Z253,CSVデータ3!Z253,CSVデータ4!Z253)","v":0},{"$f":"SUM(CSVデータ1!AA253,CSVデータ2!AA253,CSVデータ3!AA253,CSVデータ4!AA253)","v":0},{"$f":"SUM(CSVデータ1!AB253,CSVデータ2!AB253,CSVデータ3!AB253,CSVデータ4!AB253)","v":0},{"$f":"SUM(CSVデータ1!AC253,CSVデータ2!AC253,CSVデータ3!AC253,CSVデータ4!AC253)","v":0},{"$f":"SUM(CSVデータ1!AD253,CSVデータ2!AD253,CSVデータ3!AD253,CSVデータ4!AD253)","v":0},{"$f":"SUM(CSVデータ1!AE253,CSVデータ2!AE253,CSVデータ3!AE253,CSVデータ4!AE253)","v":0},{"$f":"SUM(CSVデータ1!AF253,CSVデータ2!AF253,CSVデータ3!AF253,CSVデータ4!AF253)","v":0},{"$f":"SUM(CSVデータ1!AG253,CSVデータ2!AG253,CSVデータ3!AG253,CSVデータ4!AG253)","v":0}]
[{"$f":"CSVデータ1!A254","v":"明細部"},{"$f":"CSVデータ1!B254","v":"保険者（地区）"},{"$f":"CSVデータ1!C254","v":91},{"$f":"CSVデータ1!D254","v":"男"},{"$f":"SUM(CSVデータ1!E254,CSVデータ2!E254,CSVデータ3!E254,CSVデータ4!E254)","v":0},{"$f":"SUM(CSVデータ1!F254,CSVデータ2!F254,CSVデータ3!F254,CSVデータ4!F254)","v":0},{"$f":"SUM(CSVデータ1!G254,CSVデータ2!G254,CSVデータ3!G254,CSVデータ4!G254)","v":0},{"$f":"SUM(CSVデータ1!H254,CSVデータ2!H254,CSVデータ3!H254,CSVデータ4!H254)","v":0},{"$f":"SUM(CSVデータ1!I254,CSVデータ2!I254,CSVデータ3!I254,CSVデータ4!I254)","v":0},{"$f":"SUM(CSVデータ1!J254,CSVデータ2!J254,CSVデータ3!J254,CSVデータ4!J254)","v":0},{"$f":"SUM(CSVデータ1!K254,CSVデータ2!K254,CSVデータ3!K254,CSVデータ4!K254)","v":0},{"$f":"SUM(CSVデータ1!L254,CSVデータ2!L254,CSVデータ3!L254,CSVデータ4!L254)","v":0},{"$f":"SUM(CSVデータ1!M254,CSVデータ2!M254,CSVデータ3!M254,CSVデータ4!M254)","v":0},{"$f":"SUM(CSVデータ1!N254,CSVデータ2!N254,CSVデータ3!N254,CSVデータ4!N254)","v":0},{"$f":"SUM(CSVデータ1!O254,CSVデータ2!O254,CSVデータ3!O254,CSVデータ4!O254)","v":0},{"$f":"SUM(CSVデータ1!P254,CSVデータ2!P254,CSVデータ3!P254,CSVデータ4!P254)","v":0},{"$f":"SUM(CSVデータ1!Q254,CSVデータ2!Q254,CSVデータ3!Q254,CSVデータ4!Q254)","v":0},{"$f":"SUM(CSVデータ1!R254,CSVデータ2!R254,CSVデータ3!R254,CSVデータ4!R254)","v":0},{"$f":"SUM(CSVデータ1!S254,CSVデータ2!S254,CSVデータ3!S254,CSVデータ4!S254)","v":0},{"$f":"SUM(CSVデータ1!T254,CSVデータ2!T254,CSVデータ3!T254,CSVデータ4!T254)","v":0},{"$f":"SUM(CSVデータ1!U254,CSVデータ2!U254,CSVデータ3!U254,CSVデータ4!U254)","v":0},{"$f":"SUM(CSVデータ1!V254,CSVデータ2!V254,CSVデータ3!V254,CSVデータ4!V254)","v":0},{"$f":"SUM(CSVデータ1!W254,CSVデータ2!W254,CSVデータ3!W254,CSVデータ4!W254)","v":0},{"$f":"SUM(CSVデータ1!X254,CSVデータ2!X254,CSVデータ3!X254,CSVデータ4!X254)","v":0},{"$f":"SUM(CSVデータ1!Y254,CSVデータ2!Y254,CSVデータ3!Y254,CSVデータ4!Y254)","v":0},{"$f":"SUM(CSVデータ1!Z254,CSVデータ2!Z254,CSVデータ3!Z254,CSVデータ4!Z254)","v":0},{"$f":"SUM(CSVデータ1!AA254,CSVデータ2!AA254,CSVデータ3!AA254,CSVデータ4!AA254)","v":0},{"$f":"SUM(CSVデータ1!AB254,CSVデータ2!AB254,CSVデータ3!AB254,CSVデータ4!AB254)","v":0},{"$f":"SUM(CSVデータ1!AC254,CSVデータ2!AC254,CSVデータ3!AC254,CSVデータ4!AC254)","v":0},{"$f":"SUM(CSVデータ1!AD254,CSVデータ2!AD254,CSVデータ3!AD254,CSVデータ4!AD254)","v":0},{"$f":"SUM(CSVデータ1!AE254,CSVデータ2!AE254,CSVデータ3!AE254,CSVデータ4!AE254)","v":0},{"$f":"SUM(CSVデータ1!AF254,CSVデータ2!AF254,CSVデータ3!AF254,CSVデータ4!AF254)","v":0},{"$f":"SUM(CSVデータ1!AG254,CSVデータ2!AG254,CSVデータ3!AG254,CSVデータ4!AG254)","v":0}]
[{"$f":"CSVデータ1!A255","v":"明細部"},{"$f":"CSVデータ1!B255","v":"保険者（地区）"},{"$f":"CSVデータ1!C255","v":92},{"$f":"CSVデータ1!D255","v":"男"},{"$f":"SUM(CSVデータ1!E255,CSVデータ2!E255,CSVデータ3!E255,CSVデータ4!E255)","v":0},{"$f":"SUM(CSVデータ1!F255,CSVデータ2!F255,CSVデータ3!F255,CSVデータ4!F255)","v":0},{"$f":"SUM(CSVデータ1!G255,CSVデータ2!G255,CSVデータ3!G255,CSVデータ4!G255)","v":0},{"$f":"SUM(CSVデータ1!H255,CSVデータ2!H255,CSVデータ3!H255,CSVデータ4!H255)","v":0},{"$f":"SUM(CSVデータ1!I255,CSVデータ2!I255,CSVデータ3!I255,CSVデータ4!I255)","v":0},{"$f":"SUM(CSVデータ1!J255,CSVデータ2!J255,CSVデータ3!J255,CSVデータ4!J255)","v":0},{"$f":"SUM(CSVデータ1!K255,CSVデータ2!K255,CSVデータ3!K255,CSVデータ4!K255)","v":0},{"$f":"SUM(CSVデータ1!L255,CSVデータ2!L255,CSVデータ3!L255,CSVデータ4!L255)","v":0},{"$f":"SUM(CSVデータ1!M255,CSVデータ2!M255,CSVデータ3!M255,CSVデータ4!M255)","v":0},{"$f":"SUM(CSVデータ1!N255,CSVデータ2!N255,CSVデータ3!N255,CSVデータ4!N255)","v":0},{"$f":"SUM(CSVデータ1!O255,CSVデータ2!O255,CSVデータ3!O255,CSVデータ4!O255)","v":0},{"$f":"SUM(CSVデータ1!P255,CSVデータ2!P255,CSVデータ3!P255,CSVデータ4!P255)","v":0},{"$f":"SUM(CSVデータ1!Q255,CSVデータ2!Q255,CSVデータ3!Q255,CSVデータ4!Q255)","v":0},{"$f":"SUM(CSVデータ1!R255,CSVデータ2!R255,CSVデータ3!R255,CSVデータ4!R255)","v":0},{"$f":"SUM(CSVデータ1!S255,CSVデータ2!S255,CSVデータ3!S255,CSVデータ4!S255)","v":0},{"$f":"SUM(CSVデータ1!T255,CSVデータ2!T255,CSVデータ3!T255,CSVデータ4!T255)","v":0},{"$f":"SUM(CSVデータ1!U255,CSVデータ2!U255,CSVデータ3!U255,CSVデータ4!U255)","v":0},{"$f":"SUM(CSVデータ1!V255,CSVデータ2!V255,CSVデータ3!V255,CSVデータ4!V255)","v":0},{"$f":"SUM(CSVデータ1!W255,CSVデータ2!W255,CSVデータ3!W255,CSVデータ4!W255)","v":0},{"$f":"SUM(CSVデータ1!X255,CSVデータ2!X255,CSVデータ3!X255,CSVデータ4!X255)","v":0},{"$f":"SUM(CSVデータ1!Y255,CSVデータ2!Y255,CSVデータ3!Y255,CSVデータ4!Y255)","v":0},{"$f":"SUM(CSVデータ1!Z255,CSVデータ2!Z255,CSVデータ3!Z255,CSVデータ4!Z255)","v":0},{"$f":"SUM(CSVデータ1!AA255,CSVデータ2!AA255,CSVデータ3!AA255,CSVデータ4!AA255)","v":0},{"$f":"SUM(CSVデータ1!AB255,CSVデータ2!AB255,CSVデータ3!AB255,CSVデータ4!AB255)","v":0},{"$f":"SUM(CSVデータ1!AC255,CSVデータ2!AC255,CSVデータ3!AC255,CSVデータ4!AC255)","v":0},{"$f":"SUM(CSVデータ1!AD255,CSVデータ2!AD255,CSVデータ3!AD255,CSVデータ4!AD255)","v":0},{"$f":"SUM(CSVデータ1!AE255,CSVデータ2!AE255,CSVデータ3!AE255,CSVデータ4!AE255)","v":0},{"$f":"SUM(CSVデータ1!AF255,CSVデータ2!AF255,CSVデータ3!AF255,CSVデータ4!AF255)","v":0},{"$f":"SUM(CSVデータ1!AG255,CSVデータ2!AG255,CSVデータ3!AG255,CSVデータ4!AG255)","v":0}]
[{"$f":"CSVデータ1!A256","v":"明細部"},{"$f":"CSVデータ1!B256","v":"保険者（地区）"},{"$f":"CSVデータ1!C256","v":93},{"$f":"CSVデータ1!D256","v":"男"},{"$f":"SUM(CSVデータ1!E256,CSVデータ2!E256,CSVデータ3!E256,CSVデータ4!E256)","v":0},{"$f":"SUM(CSVデータ1!F256,CSVデータ2!F256,CSVデータ3!F256,CSVデータ4!F256)","v":0},{"$f":"SUM(CSVデータ1!G256,CSVデータ2!G256,CSVデータ3!G256,CSVデータ4!G256)","v":0},{"$f":"SUM(CSVデータ1!H256,CSVデータ2!H256,CSVデータ3!H256,CSVデータ4!H256)","v":0},{"$f":"SUM(CSVデータ1!I256,CSVデータ2!I256,CSVデータ3!I256,CSVデータ4!I256)","v":0},{"$f":"SUM(CSVデータ1!J256,CSVデータ2!J256,CSVデータ3!J256,CSVデータ4!J256)","v":0},{"$f":"SUM(CSVデータ1!K256,CSVデータ2!K256,CSVデータ3!K256,CSVデータ4!K256)","v":0},{"$f":"SUM(CSVデータ1!L256,CSVデータ2!L256,CSVデータ3!L256,CSVデータ4!L256)","v":0},{"$f":"SUM(CSVデータ1!M256,CSVデータ2!M256,CSVデータ3!M256,CSVデータ4!M256)","v":0},{"$f":"SUM(CSVデータ1!N256,CSVデータ2!N256,CSVデータ3!N256,CSVデータ4!N256)","v":0},{"$f":"SUM(CSVデータ1!O256,CSVデータ2!O256,CSVデータ3!O256,CSVデータ4!O256)","v":0},{"$f":"SUM(CSVデータ1!P256,CSVデータ2!P256,CSVデータ3!P256,CSVデータ4!P256)","v":0},{"$f":"SUM(CSVデータ1!Q256,CSVデータ2!Q256,CSVデータ3!Q256,CSVデータ4!Q256)","v":0},{"$f":"SUM(CSVデータ1!R256,CSVデータ2!R256,CSVデータ3!R256,CSVデータ4!R256)","v":0},{"$f":"SUM(CSVデータ1!S256,CSVデータ2!S256,CSVデータ3!S256,CSVデータ4!S256)","v":0},{"$f":"SUM(CSVデータ1!T256,CSVデータ2!T256,CSVデータ3!T256,CSVデータ4!T256)","v":0},{"$f":"SUM(CSVデータ1!U256,CSVデータ2!U256,CSVデータ3!U256,CSVデータ4!U256)","v":0},{"$f":"SUM(CSVデータ1!V256,CSVデータ2!V256,CSVデータ3!V256,CSVデータ4!V256)","v":0},{"$f":"SUM(CSVデータ1!W256,CSVデータ2!W256,CSVデータ3!W256,CSVデータ4!W256)","v":0},{"$f":"SUM(CSVデータ1!X256,CSVデータ2!X256,CSVデータ3!X256,CSVデータ4!X256)","v":0},{"$f":"SUM(CSVデータ1!Y256,CSVデータ2!Y256,CSVデータ3!Y256,CSVデータ4!Y256)","v":0},{"$f":"SUM(CSVデータ1!Z256,CSVデータ2!Z256,CSVデータ3!Z256,CSVデータ4!Z256)","v":0},{"$f":"SUM(CSVデータ1!AA256,CSVデータ2!AA256,CSVデータ3!AA256,CSVデータ4!AA256)","v":0},{"$f":"SUM(CSVデータ1!AB256,CSVデータ2!AB256,CSVデータ3!AB256,CSVデータ4!AB256)","v":0},{"$f":"SUM(CSVデータ1!AC256,CSVデータ2!AC256,CSVデータ3!AC256,CSVデータ4!AC256)","v":0},{"$f":"SUM(CSVデータ1!AD256,CSVデータ2!AD256,CSVデータ3!AD256,CSVデータ4!AD256)","v":0},{"$f":"SUM(CSVデータ1!AE256,CSVデータ2!AE256,CSVデータ3!AE256,CSVデータ4!AE256)","v":0},{"$f":"SUM(CSVデータ1!AF256,CSVデータ2!AF256,CSVデータ3!AF256,CSVデータ4!AF256)","v":0},{"$f":"SUM(CSVデータ1!AG256,CSVデータ2!AG256,CSVデータ3!AG256,CSVデータ4!AG256)","v":0}]
[{"$f":"CSVデータ1!A257","v":"明細部"},{"$f":"CSVデータ1!B257","v":"保険者（地区）"},{"$f":"CSVデータ1!C257","v":94},{"$f":"CSVデータ1!D257","v":"男"},{"$f":"SUM(CSVデータ1!E257,CSVデータ2!E257,CSVデータ3!E257,CSVデータ4!E257)","v":0},{"$f":"SUM(CSVデータ1!F257,CSVデータ2!F257,CSVデータ3!F257,CSVデータ4!F257)","v":0},{"$f":"SUM(CSVデータ1!G257,CSVデータ2!G257,CSVデータ3!G257,CSVデータ4!G257)","v":0},{"$f":"SUM(CSVデータ1!H257,CSVデータ2!H257,CSVデータ3!H257,CSVデータ4!H257)","v":0},{"$f":"SUM(CSVデータ1!I257,CSVデータ2!I257,CSVデータ3!I257,CSVデータ4!I257)","v":0},{"$f":"SUM(CSVデータ1!J257,CSVデータ2!J257,CSVデータ3!J257,CSVデータ4!J257)","v":0},{"$f":"SUM(CSVデータ1!K257,CSVデータ2!K257,CSVデータ3!K257,CSVデータ4!K257)","v":0},{"$f":"SUM(CSVデータ1!L257,CSVデータ2!L257,CSVデータ3!L257,CSVデータ4!L257)","v":0},{"$f":"SUM(CSVデータ1!M257,CSVデータ2!M257,CSVデータ3!M257,CSVデータ4!M257)","v":0},{"$f":"SUM(CSVデータ1!N257,CSVデータ2!N257,CSVデータ3!N257,CSVデータ4!N257)","v":0},{"$f":"SUM(CSVデータ1!O257,CSVデータ2!O257,CSVデータ3!O257,CSVデータ4!O257)","v":0},{"$f":"SUM(CSVデータ1!P257,CSVデータ2!P257,CSVデータ3!P257,CSVデータ4!P257)","v":0},{"$f":"SUM(CSVデータ1!Q257,CSVデータ2!Q257,CSVデータ3!Q257,CSVデータ4!Q257)","v":0},{"$f":"SUM(CSVデータ1!R257,CSVデータ2!R257,CSVデータ3!R257,CSVデータ4!R257)","v":0},{"$f":"SUM(CSVデータ1!S257,CSVデータ2!S257,CSVデータ3!S257,CSVデータ4!S257)","v":0},{"$f":"SUM(CSVデータ1!T257,CSVデータ2!T257,CSVデータ3!T257,CSVデータ4!T257)","v":0},{"$f":"SUM(CSVデータ1!U257,CSVデータ2!U257,CSVデータ3!U257,CSVデータ4!U257)","v":0},{"$f":"SUM(CSVデータ1!V257,CSVデータ2!V257,CSVデータ3!V257,CSVデータ4!V257)","v":0},{"$f":"SUM(CSVデータ1!W257,CSVデータ2!W257,CSVデータ3!W257,CSVデータ4!W257)","v":0},{"$f":"SUM(CSVデータ1!X257,CSVデータ2!X257,CSVデータ3!X257,CSVデータ4!X257)","v":0},{"$f":"SUM(CSVデータ1!Y257,CSVデータ2!Y257,CSVデータ3!Y257,CSVデータ4!Y257)","v":0},{"$f":"SUM(CSVデータ1!Z257,CSVデータ2!Z257,CSVデータ3!Z257,CSVデータ4!Z257)","v":0},{"$f":"SUM(CSVデータ1!AA257,CSVデータ2!AA257,CSVデータ3!AA257,CSVデータ4!AA257)","v":0},{"$f":"SUM(CSVデータ1!AB257,CSVデータ2!AB257,CSVデータ3!AB257,CSVデータ4!AB257)","v":0},{"$f":"SUM(CSVデータ1!AC257,CSVデータ2!AC257,CSVデータ3!AC257,CSVデータ4!AC257)","v":0},{"$f":"SUM(CSVデータ1!AD257,CSVデータ2!AD257,CSVデータ3!AD257,CSVデータ4!AD257)","v":0},{"$f":"SUM(CSVデータ1!AE257,CSVデータ2!AE257,CSVデータ3!AE257,CSVデータ4!AE257)","v":0},{"$f":"SUM(CSVデータ1!AF257,CSVデータ2!AF257,CSVデータ3!AF257,CSVデータ4!AF257)","v":0},{"$f":"SUM(CSVデータ1!AG257,CSVデータ2!AG257,CSVデータ3!AG257,CSVデータ4!AG257)","v":0}]
[{"$f":"CSVデータ1!A258","v":"明細部"},{"$f":"CSVデータ1!B258","v":"保険者（地区）"},{"$f":"CSVデータ1!C258","v":95},{"$f":"CSVデータ1!D258","v":"男"},{"$f":"SUM(CSVデータ1!E258,CSVデータ2!E258,CSVデータ3!E258,CSVデータ4!E258)","v":0},{"$f":"SUM(CSVデータ1!F258,CSVデータ2!F258,CSVデータ3!F258,CSVデータ4!F258)","v":0},{"$f":"SUM(CSVデータ1!G258,CSVデータ2!G258,CSVデータ3!G258,CSVデータ4!G258)","v":0},{"$f":"SUM(CSVデータ1!H258,CSVデータ2!H258,CSVデータ3!H258,CSVデータ4!H258)","v":0},{"$f":"SUM(CSVデータ1!I258,CSVデータ2!I258,CSVデータ3!I258,CSVデータ4!I258)","v":0},{"$f":"SUM(CSVデータ1!J258,CSVデータ2!J258,CSVデータ3!J258,CSVデータ4!J258)","v":0},{"$f":"SUM(CSVデータ1!K258,CSVデータ2!K258,CSVデータ3!K258,CSVデータ4!K258)","v":0},{"$f":"SUM(CSVデータ1!L258,CSVデータ2!L258,CSVデータ3!L258,CSVデータ4!L258)","v":0},{"$f":"SUM(CSVデータ1!M258,CSVデータ2!M258,CSVデータ3!M258,CSVデータ4!M258)","v":0},{"$f":"SUM(CSVデータ1!N258,CSVデータ2!N258,CSVデータ3!N258,CSVデータ4!N258)","v":0},{"$f":"SUM(CSVデータ1!O258,CSVデータ2!O258,CSVデータ3!O258,CSVデータ4!O258)","v":0},{"$f":"SUM(CSVデータ1!P258,CSVデータ2!P258,CSVデータ3!P258,CSVデータ4!P258)","v":0},{"$f":"SUM(CSVデータ1!Q258,CSVデータ2!Q258,CSVデータ3!Q258,CSVデータ4!Q258)","v":0},{"$f":"SUM(CSVデータ1!R258,CSVデータ2!R258,CSVデータ3!R258,CSVデータ4!R258)","v":0},{"$f":"SUM(CSVデータ1!S258,CSVデータ2!S258,CSVデータ3!S258,CSVデータ4!S258)","v":0},{"$f":"SUM(CSVデータ1!T258,CSVデータ2!T258,CSVデータ3!T258,CSVデータ4!T258)","v":0},{"$f":"SUM(CSVデータ1!U258,CSVデータ2!U258,CSVデータ3!U258,CSVデータ4!U258)","v":0},{"$f":"SUM(CSVデータ1!V258,CSVデータ2!V258,CSVデータ3!V258,CSVデータ4!V258)","v":0},{"$f":"SUM(CSVデータ1!W258,CSVデータ2!W258,CSVデータ3!W258,CSVデータ4!W258)","v":0},{"$f":"SUM(CSVデータ1!X258,CSVデータ2!X258,CSVデータ3!X258,CSVデータ4!X258)","v":0},{"$f":"SUM(CSVデータ1!Y258,CSVデータ2!Y258,CSVデータ3!Y258,CSVデータ4!Y258)","v":0},{"$f":"SUM(CSVデータ1!Z258,CSVデータ2!Z258,CSVデータ3!Z258,CSVデータ4!Z258)","v":0},{"$f":"SUM(CSVデータ1!AA258,CSVデータ2!AA258,CSVデータ3!AA258,CSVデータ4!AA258)","v":0},{"$f":"SUM(CSVデータ1!AB258,CSVデータ2!AB258,CSVデータ3!AB258,CSVデータ4!AB258)","v":0},{"$f":"SUM(CSVデータ1!AC258,CSVデータ2!AC258,CSVデータ3!AC258,CSVデータ4!AC258)","v":0},{"$f":"SUM(CSVデータ1!AD258,CSVデータ2!AD258,CSVデータ3!AD258,CSVデータ4!AD258)","v":0},{"$f":"SUM(CSVデータ1!AE258,CSVデータ2!AE258,CSVデータ3!AE258,CSVデータ4!AE258)","v":0},{"$f":"SUM(CSVデータ1!AF258,CSVデータ2!AF258,CSVデータ3!AF258,CSVデータ4!AF258)","v":0},{"$f":"SUM(CSVデータ1!AG258,CSVデータ2!AG258,CSVデータ3!AG258,CSVデータ4!AG258)","v":0}]
[{"$f":"CSVデータ1!A259","v":"明細部"},{"$f":"CSVデータ1!B259","v":"保険者（地区）"},{"$f":"CSVデータ1!C259","v":96},{"$f":"CSVデータ1!D259","v":"男"},{"$f":"SUM(CSVデータ1!E259,CSVデータ2!E259,CSVデータ3!E259,CSVデータ4!E259)","v":0},{"$f":"SUM(CSVデータ1!F259,CSVデータ2!F259,CSVデータ3!F259,CSVデータ4!F259)","v":0},{"$f":"SUM(CSVデータ1!G259,CSVデータ2!G259,CSVデータ3!G259,CSVデータ4!G259)","v":0},{"$f":"SUM(CSVデータ1!H259,CSVデータ2!H259,CSVデータ3!H259,CSVデータ4!H259)","v":0},{"$f":"SUM(CSVデータ1!I259,CSVデータ2!I259,CSVデータ3!I259,CSVデータ4!I259)","v":0},{"$f":"SUM(CSVデータ1!J259,CSVデータ2!J259,CSVデータ3!J259,CSVデータ4!J259)","v":0},{"$f":"SUM(CSVデータ1!K259,CSVデータ2!K259,CSVデータ3!K259,CSVデータ4!K259)","v":0},{"$f":"SUM(CSVデータ1!L259,CSVデータ2!L259,CSVデータ3!L259,CSVデータ4!L259)","v":0},{"$f":"SUM(CSVデータ1!M259,CSVデータ2!M259,CSVデータ3!M259,CSVデータ4!M259)","v":0},{"$f":"SUM(CSVデータ1!N259,CSVデータ2!N259,CSVデータ3!N259,CSVデータ4!N259)","v":0},{"$f":"SUM(CSVデータ1!O259,CSVデータ2!O259,CSVデータ3!O259,CSVデータ4!O259)","v":0},{"$f":"SUM(CSVデータ1!P259,CSVデータ2!P259,CSVデータ3!P259,CSVデータ4!P259)","v":0},{"$f":"SUM(CSVデータ1!Q259,CSVデータ2!Q259,CSVデータ3!Q259,CSVデータ4!Q259)","v":0},{"$f":"SUM(CSVデータ1!R259,CSVデータ2!R259,CSVデータ3!R259,CSVデータ4!R259)","v":0},{"$f":"SUM(CSVデータ1!S259,CSVデータ2!S259,CSVデータ3!S259,CSVデータ4!S259)","v":0},{"$f":"SUM(CSVデータ1!T259,CSVデータ2!T259,CSVデータ3!T259,CSVデータ4!T259)","v":0},{"$f":"SUM(CSVデータ1!U259,CSVデータ2!U259,CSVデータ3!U259,CSVデータ4!U259)","v":0},{"$f":"SUM(CSVデータ1!V259,CSVデータ2!V259,CSVデータ3!V259,CSVデータ4!V259)","v":0},{"$f":"SUM(CSVデータ1!W259,CSVデータ2!W259,CSVデータ3!W259,CSVデータ4!W259)","v":0},{"$f":"SUM(CSVデータ1!X259,CSVデータ2!X259,CSVデータ3!X259,CSVデータ4!X259)","v":0},{"$f":"SUM(CSVデータ1!Y259,CSVデータ2!Y259,CSVデータ3!Y259,CSVデータ4!Y259)","v":0},{"$f":"SUM(CSVデータ1!Z259,CSVデータ2!Z259,CSVデータ3!Z259,CSVデータ4!Z259)","v":0},{"$f":"SUM(CSVデータ1!AA259,CSVデータ2!AA259,CSVデータ3!AA259,CSVデータ4!AA259)","v":0},{"$f":"SUM(CSVデータ1!AB259,CSVデータ2!AB259,CSVデータ3!AB259,CSVデータ4!AB259)","v":0},{"$f":"SUM(CSVデータ1!AC259,CSVデータ2!AC259,CSVデータ3!AC259,CSVデータ4!AC259)","v":0},{"$f":"SUM(CSVデータ1!AD259,CSVデータ2!AD259,CSVデータ3!AD259,CSVデータ4!AD259)","v":0},{"$f":"SUM(CSVデータ1!AE259,CSVデータ2!AE259,CSVデータ3!AE259,CSVデータ4!AE259)","v":0},{"$f":"SUM(CSVデータ1!AF259,CSVデータ2!AF259,CSVデータ3!AF259,CSVデータ4!AF259)","v":0},{"$f":"SUM(CSVデータ1!AG259,CSVデータ2!AG259,CSVデータ3!AG259,CSVデータ4!AG259)","v":0}]
[{"$f":"CSVデータ1!A260","v":"明細部"},{"$f":"CSVデータ1!B260","v":"保険者（地区）"},{"$f":"CSVデータ1!C260","v":97},{"$f":"CSVデータ1!D260","v":"男"},{"$f":"SUM(CSVデータ1!E260,CSVデータ2!E260,CSVデータ3!E260,CSVデータ4!E260)","v":0},{"$f":"SUM(CSVデータ1!F260,CSVデータ2!F260,CSVデータ3!F260,CSVデータ4!F260)","v":0},{"$f":"SUM(CSVデータ1!G260,CSVデータ2!G260,CSVデータ3!G260,CSVデータ4!G260)","v":0},{"$f":"SUM(CSVデータ1!H260,CSVデータ2!H260,CSVデータ3!H260,CSVデータ4!H260)","v":0},{"$f":"SUM(CSVデータ1!I260,CSVデータ2!I260,CSVデータ3!I260,CSVデータ4!I260)","v":0},{"$f":"SUM(CSVデータ1!J260,CSVデータ2!J260,CSVデータ3!J260,CSVデータ4!J260)","v":0},{"$f":"SUM(CSVデータ1!K260,CSVデータ2!K260,CSVデータ3!K260,CSVデータ4!K260)","v":0},{"$f":"SUM(CSVデータ1!L260,CSVデータ2!L260,CSVデータ3!L260,CSVデータ4!L260)","v":0},{"$f":"SUM(CSVデータ1!M260,CSVデータ2!M260,CSVデータ3!M260,CSVデータ4!M260)","v":0},{"$f":"SUM(CSVデータ1!N260,CSVデータ2!N260,CSVデータ3!N260,CSVデータ4!N260)","v":0},{"$f":"SUM(CSVデータ1!O260,CSVデータ2!O260,CSVデータ3!O260,CSVデータ4!O260)","v":0},{"$f":"SUM(CSVデータ1!P260,CSVデータ2!P260,CSVデータ3!P260,CSVデータ4!P260)","v":0},{"$f":"SUM(CSVデータ1!Q260,CSVデータ2!Q260,CSVデータ3!Q260,CSVデータ4!Q260)","v":0},{"$f":"SUM(CSVデータ1!R260,CSVデータ2!R260,CSVデータ3!R260,CSVデータ4!R260)","v":0},{"$f":"SUM(CSVデータ1!S260,CSVデータ2!S260,CSVデータ3!S260,CSVデータ4!S260)","v":0},{"$f":"SUM(CSVデータ1!T260,CSVデータ2!T260,CSVデータ3!T260,CSVデータ4!T260)","v":0},{"$f":"SUM(CSVデータ1!U260,CSVデータ2!U260,CSVデータ3!U260,CSVデータ4!U260)","v":0},{"$f":"SUM(CSVデータ1!V260,CSVデータ2!V260,CSVデータ3!V260,CSVデータ4!V260)","v":0},{"$f":"SUM(CSVデータ1!W260,CSVデータ2!W260,CSVデータ3!W260,CSVデータ4!W260)","v":0},{"$f":"SUM(CSVデータ1!X260,CSVデータ2!X260,CSVデータ3!X260,CSVデータ4!X260)","v":0},{"$f":"SUM(CSVデータ1!Y260,CSVデータ2!Y260,CSVデータ3!Y260,CSVデータ4!Y260)","v":0},{"$f":"SUM(CSVデータ1!Z260,CSVデータ2!Z260,CSVデータ3!Z260,CSVデータ4!Z260)","v":0},{"$f":"SUM(CSVデータ1!AA260,CSVデータ2!AA260,CSVデータ3!AA260,CSVデータ4!AA260)","v":0},{"$f":"SUM(CSVデータ1!AB260,CSVデータ2!AB260,CSVデータ3!AB260,CSVデータ4!AB260)","v":0},{"$f":"SUM(CSVデータ1!AC260,CSVデータ2!AC260,CSVデータ3!AC260,CSVデータ4!AC260)","v":0},{"$f":"SUM(CSVデータ1!AD260,CSVデータ2!AD260,CSVデータ3!AD260,CSVデータ4!AD260)","v":0},{"$f":"SUM(CSVデータ1!AE260,CSVデータ2!AE260,CSVデータ3!AE260,CSVデータ4!AE260)","v":0},{"$f":"SUM(CSVデータ1!AF260,CSVデータ2!AF260,CSVデータ3!AF260,CSVデータ4!AF260)","v":0},{"$f":"SUM(CSVデータ1!AG260,CSVデータ2!AG260,CSVデータ3!AG260,CSVデータ4!AG260)","v":0}]
[{"$f":"CSVデータ1!A261","v":"明細部"},{"$f":"CSVデータ1!B261","v":"保険者（地区）"},{"$f":"CSVデータ1!C261","v":98},{"$f":"CSVデータ1!D261","v":"男"},{"$f":"SUM(CSVデータ1!E261,CSVデータ2!E261,CSVデータ3!E261,CSVデータ4!E261)","v":0},{"$f":"SUM(CSVデータ1!F261,CSVデータ2!F261,CSVデータ3!F261,CSVデータ4!F261)","v":0},{"$f":"SUM(CSVデータ1!G261,CSVデータ2!G261,CSVデータ3!G261,CSVデータ4!G261)","v":0},{"$f":"SUM(CSVデータ1!H261,CSVデータ2!H261,CSVデータ3!H261,CSVデータ4!H261)","v":0},{"$f":"SUM(CSVデータ1!I261,CSVデータ2!I261,CSVデータ3!I261,CSVデータ4!I261)","v":0},{"$f":"SUM(CSVデータ1!J261,CSVデータ2!J261,CSVデータ3!J261,CSVデータ4!J261)","v":0},{"$f":"SUM(CSVデータ1!K261,CSVデータ2!K261,CSVデータ3!K261,CSVデータ4!K261)","v":0},{"$f":"SUM(CSVデータ1!L261,CSVデータ2!L261,CSVデータ3!L261,CSVデータ4!L261)","v":0},{"$f":"SUM(CSVデータ1!M261,CSVデータ2!M261,CSVデータ3!M261,CSVデータ4!M261)","v":0},{"$f":"SUM(CSVデータ1!N261,CSVデータ2!N261,CSVデータ3!N261,CSVデータ4!N261)","v":0},{"$f":"SUM(CSVデータ1!O261,CSVデータ2!O261,CSVデータ3!O261,CSVデータ4!O261)","v":0},{"$f":"SUM(CSVデータ1!P261,CSVデータ2!P261,CSVデータ3!P261,CSVデータ4!P261)","v":0},{"$f":"SUM(CSVデータ1!Q261,CSVデータ2!Q261,CSVデータ3!Q261,CSVデータ4!Q261)","v":0},{"$f":"SUM(CSVデータ1!R261,CSVデータ2!R261,CSVデータ3!R261,CSVデータ4!R261)","v":0},{"$f":"SUM(CSVデータ1!S261,CSVデータ2!S261,CSVデータ3!S261,CSVデータ4!S261)","v":0},{"$f":"SUM(CSVデータ1!T261,CSVデータ2!T261,CSVデータ3!T261,CSVデータ4!T261)","v":0},{"$f":"SUM(CSVデータ1!U261,CSVデータ2!U261,CSVデータ3!U261,CSVデータ4!U261)","v":0},{"$f":"SUM(CSVデータ1!V261,CSVデータ2!V261,CSVデータ3!V261,CSVデータ4!V261)","v":0},{"$f":"SUM(CSVデータ1!W261,CSVデータ2!W261,CSVデータ3!W261,CSVデータ4!W261)","v":0},{"$f":"SUM(CSVデータ1!X261,CSVデータ2!X261,CSVデータ3!X261,CSVデータ4!X261)","v":0},{"$f":"SUM(CSVデータ1!Y261,CSVデータ2!Y261,CSVデータ3!Y261,CSVデータ4!Y261)","v":0},{"$f":"SUM(CSVデータ1!Z261,CSVデータ2!Z261,CSVデータ3!Z261,CSVデータ4!Z261)","v":0},{"$f":"SUM(CSVデータ1!AA261,CSVデータ2!AA261,CSVデータ3!AA261,CSVデータ4!AA261)","v":0},{"$f":"SUM(CSVデータ1!AB261,CSVデータ2!AB261,CSVデータ3!AB261,CSVデータ4!AB261)","v":0},{"$f":"SUM(CSVデータ1!AC261,CSVデータ2!AC261,CSVデータ3!AC261,CSVデータ4!AC261)","v":0},{"$f":"SUM(CSVデータ1!AD261,CSVデータ2!AD261,CSVデータ3!AD261,CSVデータ4!AD261)","v":0},{"$f":"SUM(CSVデータ1!AE261,CSVデータ2!AE261,CSVデータ3!AE261,CSVデータ4!AE261)","v":0},{"$f":"SUM(CSVデータ1!AF261,CSVデータ2!AF261,CSVデータ3!AF261,CSVデータ4!AF261)","v":0},{"$f":"SUM(CSVデータ1!AG261,CSVデータ2!AG261,CSVデータ3!AG261,CSVデータ4!AG261)","v":0}]
[{"$f":"CSVデータ1!A262","v":"明細部"},{"$f":"CSVデータ1!B262","v":"保険者（地区）"},{"$f":"CSVデータ1!C262","v":99},{"$f":"CSVデータ1!D262","v":"男"},{"$f":"SUM(CSVデータ1!E262,CSVデータ2!E262,CSVデータ3!E262,CSVデータ4!E262)","v":0},{"$f":"SUM(CSVデータ1!F262,CSVデータ2!F262,CSVデータ3!F262,CSVデータ4!F262)","v":0},{"$f":"SUM(CSVデータ1!G262,CSVデータ2!G262,CSVデータ3!G262,CSVデータ4!G262)","v":0},{"$f":"SUM(CSVデータ1!H262,CSVデータ2!H262,CSVデータ3!H262,CSVデータ4!H262)","v":0},{"$f":"SUM(CSVデータ1!I262,CSVデータ2!I262,CSVデータ3!I262,CSVデータ4!I262)","v":0},{"$f":"SUM(CSVデータ1!J262,CSVデータ2!J262,CSVデータ3!J262,CSVデータ4!J262)","v":0},{"$f":"SUM(CSVデータ1!K262,CSVデータ2!K262,CSVデータ3!K262,CSVデータ4!K262)","v":0},{"$f":"SUM(CSVデータ1!L262,CSVデータ2!L262,CSVデータ3!L262,CSVデータ4!L262)","v":0},{"$f":"SUM(CSVデータ1!M262,CSVデータ2!M262,CSVデータ3!M262,CSVデータ4!M262)","v":0},{"$f":"SUM(CSVデータ1!N262,CSVデータ2!N262,CSVデータ3!N262,CSVデータ4!N262)","v":0},{"$f":"SUM(CSVデータ1!O262,CSVデータ2!O262,CSVデータ3!O262,CSVデータ4!O262)","v":0},{"$f":"SUM(CSVデータ1!P262,CSVデータ2!P262,CSVデータ3!P262,CSVデータ4!P262)","v":0},{"$f":"SUM(CSVデータ1!Q262,CSVデータ2!Q262,CSVデータ3!Q262,CSVデータ4!Q262)","v":0},{"$f":"SUM(CSVデータ1!R262,CSVデータ2!R262,CSVデータ3!R262,CSVデータ4!R262)","v":0},{"$f":"SUM(CSVデータ1!S262,CSVデータ2!S262,CSVデータ3!S262,CSVデータ4!S262)","v":0},{"$f":"SUM(CSVデータ1!T262,CSVデータ2!T262,CSVデータ3!T262,CSVデータ4!T262)","v":0},{"$f":"SUM(CSVデータ1!U262,CSVデータ2!U262,CSVデータ3!U262,CSVデータ4!U262)","v":0},{"$f":"SUM(CSVデータ1!V262,CSVデータ2!V262,CSVデータ3!V262,CSVデータ4!V262)","v":0},{"$f":"SUM(CSVデータ1!W262,CSVデータ2!W262,CSVデータ3!W262,CSVデータ4!W262)","v":0},{"$f":"SUM(CSVデータ1!X262,CSVデータ2!X262,CSVデータ3!X262,CSVデータ4!X262)","v":0},{"$f":"SUM(CSVデータ1!Y262,CSVデータ2!Y262,CSVデータ3!Y262,CSVデータ4!Y262)","v":0},{"$f":"SUM(CSVデータ1!Z262,CSVデータ2!Z262,CSVデータ3!Z262,CSVデータ4!Z262)","v":0},{"$f":"SUM(CSVデータ1!AA262,CSVデータ2!AA262,CSVデータ3!AA262,CSVデータ4!AA262)","v":0},{"$f":"SUM(CSVデータ1!AB262,CSVデータ2!AB262,CSVデータ3!AB262,CSVデータ4!AB262)","v":0},{"$f":"SUM(CSVデータ1!AC262,CSVデータ2!AC262,CSVデータ3!AC262,CSVデータ4!AC262)","v":0},{"$f":"SUM(CSVデータ1!AD262,CSVデータ2!AD262,CSVデータ3!AD262,CSVデータ4!AD262)","v":0},{"$f":"SUM(CSVデータ1!AE262,CSVデータ2!AE262,CSVデータ3!AE262,CSVデータ4!AE262)","v":0},{"$f":"SUM(CSVデータ1!AF262,CSVデータ2!AF262,CSVデータ3!AF262,CSVデータ4!AF262)","v":0},{"$f":"SUM(CSVデータ1!AG262,CSVデータ2!AG262,CSVデータ3!AG262,CSVデータ4!AG262)","v":0}]
[{"$f":"CSVデータ1!A263","v":"明細部"},{"$f":"CSVデータ1!B263","v":"保険者（地区）"},{"$f":"CSVデータ1!C263","v":100},{"$f":"CSVデータ1!D263","v":"男"},{"$f":"SUM(CSVデータ1!E263,CSVデータ2!E263,CSVデータ3!E263,CSVデータ4!E263)","v":0},{"$f":"SUM(CSVデータ1!F263,CSVデータ2!F263,CSVデータ3!F263,CSVデータ4!F263)","v":0},{"$f":"SUM(CSVデータ1!G263,CSVデータ2!G263,CSVデータ3!G263,CSVデータ4!G263)","v":0},{"$f":"SUM(CSVデータ1!H263,CSVデータ2!H263,CSVデータ3!H263,CSVデータ4!H263)","v":0},{"$f":"SUM(CSVデータ1!I263,CSVデータ2!I263,CSVデータ3!I263,CSVデータ4!I263)","v":0},{"$f":"SUM(CSVデータ1!J263,CSVデータ2!J263,CSVデータ3!J263,CSVデータ4!J263)","v":0},{"$f":"SUM(CSVデータ1!K263,CSVデータ2!K263,CSVデータ3!K263,CSVデータ4!K263)","v":0},{"$f":"SUM(CSVデータ1!L263,CSVデータ2!L263,CSVデータ3!L263,CSVデータ4!L263)","v":0},{"$f":"SUM(CSVデータ1!M263,CSVデータ2!M263,CSVデータ3!M263,CSVデータ4!M263)","v":0},{"$f":"SUM(CSVデータ1!N263,CSVデータ2!N263,CSVデータ3!N263,CSVデータ4!N263)","v":0},{"$f":"SUM(CSVデータ1!O263,CSVデータ2!O263,CSVデータ3!O263,CSVデータ4!O263)","v":0},{"$f":"SUM(CSVデータ1!P263,CSVデータ2!P263,CSVデータ3!P263,CSVデータ4!P263)","v":0},{"$f":"SUM(CSVデータ1!Q263,CSVデータ2!Q263,CSVデータ3!Q263,CSVデータ4!Q263)","v":0},{"$f":"SUM(CSVデータ1!R263,CSVデータ2!R263,CSVデータ3!R263,CSVデータ4!R263)","v":0},{"$f":"SUM(CSVデータ1!S263,CSVデータ2!S263,CSVデータ3!S263,CSVデータ4!S263)","v":0},{"$f":"SUM(CSVデータ1!T263,CSVデータ2!T263,CSVデータ3!T263,CSVデータ4!T263)","v":0},{"$f":"SUM(CSVデータ1!U263,CSVデータ2!U263,CSVデータ3!U263,CSVデータ4!U263)","v":0},{"$f":"SUM(CSVデータ1!V263,CSVデータ2!V263,CSVデータ3!V263,CSVデータ4!V263)","v":0},{"$f":"SUM(CSVデータ1!W263,CSVデータ2!W263,CSVデータ3!W263,CSVデータ4!W263)","v":0},{"$f":"SUM(CSVデータ1!X263,CSVデータ2!X263,CSVデータ3!X263,CSVデータ4!X263)","v":0},{"$f":"SUM(CSVデータ1!Y263,CSVデータ2!Y263,CSVデータ3!Y263,CSVデータ4!Y263)","v":0},{"$f":"SUM(CSVデータ1!Z263,CSVデータ2!Z263,CSVデータ3!Z263,CSVデータ4!Z263)","v":0},{"$f":"SUM(CSVデータ1!AA263,CSVデータ2!AA263,CSVデータ3!AA263,CSVデータ4!AA263)","v":0},{"$f":"SUM(CSVデータ1!AB263,CSVデータ2!AB263,CSVデータ3!AB263,CSVデータ4!AB263)","v":0},{"$f":"SUM(CSVデータ1!AC263,CSVデータ2!AC263,CSVデータ3!AC263,CSVデータ4!AC263)","v":0},{"$f":"SUM(CSVデータ1!AD263,CSVデータ2!AD263,CSVデータ3!AD263,CSVデータ4!AD263)","v":0},{"$f":"SUM(CSVデータ1!AE263,CSVデータ2!AE263,CSVデータ3!AE263,CSVデータ4!AE263)","v":0},{"$f":"SUM(CSVデータ1!AF263,CSVデータ2!AF263,CSVデータ3!AF263,CSVデータ4!AF263)","v":0},{"$f":"SUM(CSVデータ1!AG263,CSVデータ2!AG263,CSVデータ3!AG263,CSVデータ4!AG263)","v":0}]
[{"$f":"CSVデータ1!A264","v":"明細部"},{"$f":"CSVデータ1!B264","v":"保険者（地区）"},{"$f":"CSVデータ1!C264","v":101},{"$f":"CSVデータ1!D264","v":"男"},{"$f":"SUM(CSVデータ1!E264,CSVデータ2!E264,CSVデータ3!E264,CSVデータ4!E264)","v":0},{"$f":"SUM(CSVデータ1!F264,CSVデータ2!F264,CSVデータ3!F264,CSVデータ4!F264)","v":0},{"$f":"SUM(CSVデータ1!G264,CSVデータ2!G264,CSVデータ3!G264,CSVデータ4!G264)","v":0},{"$f":"SUM(CSVデータ1!H264,CSVデータ2!H264,CSVデータ3!H264,CSVデータ4!H264)","v":0},{"$f":"SUM(CSVデータ1!I264,CSVデータ2!I264,CSVデータ3!I264,CSVデータ4!I264)","v":0},{"$f":"SUM(CSVデータ1!J264,CSVデータ2!J264,CSVデータ3!J264,CSVデータ4!J264)","v":0},{"$f":"SUM(CSVデータ1!K264,CSVデータ2!K264,CSVデータ3!K264,CSVデータ4!K264)","v":0},{"$f":"SUM(CSVデータ1!L264,CSVデータ2!L264,CSVデータ3!L264,CSVデータ4!L264)","v":0},{"$f":"SUM(CSVデータ1!M264,CSVデータ2!M264,CSVデータ3!M264,CSVデータ4!M264)","v":0},{"$f":"SUM(CSVデータ1!N264,CSVデータ2!N264,CSVデータ3!N264,CSVデータ4!N264)","v":0},{"$f":"SUM(CSVデータ1!O264,CSVデータ2!O264,CSVデータ3!O264,CSVデータ4!O264)","v":0},{"$f":"SUM(CSVデータ1!P264,CSVデータ2!P264,CSVデータ3!P264,CSVデータ4!P264)","v":0},{"$f":"SUM(CSVデータ1!Q264,CSVデータ2!Q264,CSVデータ3!Q264,CSVデータ4!Q264)","v":0},{"$f":"SUM(CSVデータ1!R264,CSVデータ2!R264,CSVデータ3!R264,CSVデータ4!R264)","v":0},{"$f":"SUM(CSVデータ1!S264,CSVデータ2!S264,CSVデータ3!S264,CSVデータ4!S264)","v":0},{"$f":"SUM(CSVデータ1!T264,CSVデータ2!T264,CSVデータ3!T264,CSVデータ4!T264)","v":0},{"$f":"SUM(CSVデータ1!U264,CSVデータ2!U264,CSVデータ3!U264,CSVデータ4!U264)","v":0},{"$f":"SUM(CSVデータ1!V264,CSVデータ2!V264,CSVデータ3!V264,CSVデータ4!V264)","v":0},{"$f":"SUM(CSVデータ1!W264,CSVデータ2!W264,CSVデータ3!W264,CSVデータ4!W264)","v":0},{"$f":"SUM(CSVデータ1!X264,CSVデータ2!X264,CSVデータ3!X264,CSVデータ4!X264)","v":0},{"$f":"SUM(CSVデータ1!Y264,CSVデータ2!Y264,CSVデータ3!Y264,CSVデータ4!Y264)","v":0},{"$f":"SUM(CSVデータ1!Z264,CSVデータ2!Z264,CSVデータ3!Z264,CSVデータ4!Z264)","v":0},{"$f":"SUM(CSVデータ1!AA264,CSVデータ2!AA264,CSVデータ3!AA264,CSVデータ4!AA264)","v":0},{"$f":"SUM(CSVデータ1!AB264,CSVデータ2!AB264,CSVデータ3!AB264,CSVデータ4!AB264)","v":0},{"$f":"SUM(CSVデータ1!AC264,CSVデータ2!AC264,CSVデータ3!AC264,CSVデータ4!AC264)","v":0},{"$f":"SUM(CSVデータ1!AD264,CSVデータ2!AD264,CSVデータ3!AD264,CSVデータ4!AD264)","v":0},{"$f":"SUM(CSVデータ1!AE264,CSVデータ2!AE264,CSVデータ3!AE264,CSVデータ4!AE264)","v":0},{"$f":"SUM(CSVデータ1!AF264,CSVデータ2!AF264,CSVデータ3!AF264,CSVデータ4!AF264)","v":0},{"$f":"SUM(CSVデータ1!AG264,CSVデータ2!AG264,CSVデータ3!AG264,CSVデータ4!AG264)","v":0}]
[{"$f":"CSVデータ1!A265","v":"明細部"},{"$f":"CSVデータ1!B265","v":"保険者（地区）"},{"$f":"CSVデータ1!C265","v":102},{"$f":"CSVデータ1!D265","v":"男"},{"$f":"SUM(CSVデータ1!E265,CSVデータ2!E265,CSVデータ3!E265,CSVデータ4!E265)","v":0},{"$f":"SUM(CSVデータ1!F265,CSVデータ2!F265,CSVデータ3!F265,CSVデータ4!F265)","v":0},{"$f":"SUM(CSVデータ1!G265,CSVデータ2!G265,CSVデータ3!G265,CSVデータ4!G265)","v":0},{"$f":"SUM(CSVデータ1!H265,CSVデータ2!H265,CSVデータ3!H265,CSVデータ4!H265)","v":0},{"$f":"SUM(CSVデータ1!I265,CSVデータ2!I265,CSVデータ3!I265,CSVデータ4!I265)","v":0},{"$f":"SUM(CSVデータ1!J265,CSVデータ2!J265,CSVデータ3!J265,CSVデータ4!J265)","v":0},{"$f":"SUM(CSVデータ1!K265,CSVデータ2!K265,CSVデータ3!K265,CSVデータ4!K265)","v":0},{"$f":"SUM(CSVデータ1!L265,CSVデータ2!L265,CSVデータ3!L265,CSVデータ4!L265)","v":0},{"$f":"SUM(CSVデータ1!M265,CSVデータ2!M265,CSVデータ3!M265,CSVデータ4!M265)","v":0},{"$f":"SUM(CSVデータ1!N265,CSVデータ2!N265,CSVデータ3!N265,CSVデータ4!N265)","v":0},{"$f":"SUM(CSVデータ1!O265,CSVデータ2!O265,CSVデータ3!O265,CSVデータ4!O265)","v":0},{"$f":"SUM(CSVデータ1!P265,CSVデータ2!P265,CSVデータ3!P265,CSVデータ4!P265)","v":0},{"$f":"SUM(CSVデータ1!Q265,CSVデータ2!Q265,CSVデータ3!Q265,CSVデータ4!Q265)","v":0},{"$f":"SUM(CSVデータ1!R265,CSVデータ2!R265,CSVデータ3!R265,CSVデータ4!R265)","v":0},{"$f":"SUM(CSVデータ1!S265,CSVデータ2!S265,CSVデータ3!S265,CSVデータ4!S265)","v":0},{"$f":"SUM(CSVデータ1!T265,CSVデータ2!T265,CSVデータ3!T265,CSVデータ4!T265)","v":0},{"$f":"SUM(CSVデータ1!U265,CSVデータ2!U265,CSVデータ3!U265,CSVデータ4!U265)","v":0},{"$f":"SUM(CSVデータ1!V265,CSVデータ2!V265,CSVデータ3!V265,CSVデータ4!V265)","v":0},{"$f":"SUM(CSVデータ1!W265,CSVデータ2!W265,CSVデータ3!W265,CSVデータ4!W265)","v":0},{"$f":"SUM(CSVデータ1!X265,CSVデータ2!X265,CSVデータ3!X265,CSVデータ4!X265)","v":0},{"$f":"SUM(CSVデータ1!Y265,CSVデータ2!Y265,CSVデータ3!Y265,CSVデータ4!Y265)","v":0},{"$f":"SUM(CSVデータ1!Z265,CSVデータ2!Z265,CSVデータ3!Z265,CSVデータ4!Z265)","v":0},{"$f":"SUM(CSVデータ1!AA265,CSVデータ2!AA265,CSVデータ3!AA265,CSVデータ4!AA265)","v":0},{"$f":"SUM(CSVデータ1!AB265,CSVデータ2!AB265,CSVデータ3!AB265,CSVデータ4!AB265)","v":0},{"$f":"SUM(CSVデータ1!AC265,CSVデータ2!AC265,CSVデータ3!AC265,CSVデータ4!AC265)","v":0},{"$f":"SUM(CSVデータ1!AD265,CSVデータ2!AD265,CSVデータ3!AD265,CSVデータ4!AD265)","v":0},{"$f":"SUM(CSVデータ1!AE265,CSVデータ2!AE265,CSVデータ3!AE265,CSVデータ4!AE265)","v":0},{"$f":"SUM(CSVデータ1!AF265,CSVデータ2!AF265,CSVデータ3!AF265,CSVデータ4!AF265)","v":0},{"$f":"SUM(CSVデータ1!AG265,CSVデータ2!AG265,CSVデータ3!AG265,CSVデータ4!AG265)","v":0}]
[{"$f":"CSVデータ1!A266","v":"明細部"},{"$f":"CSVデータ1!B266","v":"保険者（地区）"},{"$f":"CSVデータ1!C266","v":103},{"$f":"CSVデータ1!D266","v":"男"},{"$f":"SUM(CSVデータ1!E266,CSVデータ2!E266,CSVデータ3!E266,CSVデータ4!E266)","v":0},{"$f":"SUM(CSVデータ1!F266,CSVデータ2!F266,CSVデータ3!F266,CSVデータ4!F266)","v":0},{"$f":"SUM(CSVデータ1!G266,CSVデータ2!G266,CSVデータ3!G266,CSVデータ4!G266)","v":0},{"$f":"SUM(CSVデータ1!H266,CSVデータ2!H266,CSVデータ3!H266,CSVデータ4!H266)","v":0},{"$f":"SUM(CSVデータ1!I266,CSVデータ2!I266,CSVデータ3!I266,CSVデータ4!I266)","v":0},{"$f":"SUM(CSVデータ1!J266,CSVデータ2!J266,CSVデータ3!J266,CSVデータ4!J266)","v":0},{"$f":"SUM(CSVデータ1!K266,CSVデータ2!K266,CSVデータ3!K266,CSVデータ4!K266)","v":0},{"$f":"SUM(CSVデータ1!L266,CSVデータ2!L266,CSVデータ3!L266,CSVデータ4!L266)","v":0},{"$f":"SUM(CSVデータ1!M266,CSVデータ2!M266,CSVデータ3!M266,CSVデータ4!M266)","v":0},{"$f":"SUM(CSVデータ1!N266,CSVデータ2!N266,CSVデータ3!N266,CSVデータ4!N266)","v":0},{"$f":"SUM(CSVデータ1!O266,CSVデータ2!O266,CSVデータ3!O266,CSVデータ4!O266)","v":0},{"$f":"SUM(CSVデータ1!P266,CSVデータ2!P266,CSVデータ3!P266,CSVデータ4!P266)","v":0},{"$f":"SUM(CSVデータ1!Q266,CSVデータ2!Q266,CSVデータ3!Q266,CSVデータ4!Q266)","v":0},{"$f":"SUM(CSVデータ1!R266,CSVデータ2!R266,CSVデータ3!R266,CSVデータ4!R266)","v":0},{"$f":"SUM(CSVデータ1!S266,CSVデータ2!S266,CSVデータ3!S266,CSVデータ4!S266)","v":0},{"$f":"SUM(CSVデータ1!T266,CSVデータ2!T266,CSVデータ3!T266,CSVデータ4!T266)","v":0},{"$f":"SUM(CSVデータ1!U266,CSVデータ2!U266,CSVデータ3!U266,CSVデータ4!U266)","v":0},{"$f":"SUM(CSVデータ1!V266,CSVデータ2!V266,CSVデータ3!V266,CSVデータ4!V266)","v":0},{"$f":"SUM(CSVデータ1!W266,CSVデータ2!W266,CSVデータ3!W266,CSVデータ4!W266)","v":0},{"$f":"SUM(CSVデータ1!X266,CSVデータ2!X266,CSVデータ3!X266,CSVデータ4!X266)","v":0},{"$f":"SUM(CSVデータ1!Y266,CSVデータ2!Y266,CSVデータ3!Y266,CSVデータ4!Y266)","v":0},{"$f":"SUM(CSVデータ1!Z266,CSVデータ2!Z266,CSVデータ3!Z266,CSVデータ4!Z266)","v":0},{"$f":"SUM(CSVデータ1!AA266,CSVデータ2!AA266,CSVデータ3!AA266,CSVデータ4!AA266)","v":0},{"$f":"SUM(CSVデータ1!AB266,CSVデータ2!AB266,CSVデータ3!AB266,CSVデータ4!AB266)","v":0},{"$f":"SUM(CSVデータ1!AC266,CSVデータ2!AC266,CSVデータ3!AC266,CSVデータ4!AC266)","v":0},{"$f":"SUM(CSVデータ1!AD266,CSVデータ2!AD266,CSVデータ3!AD266,CSVデータ4!AD266)","v":0},{"$f":"SUM(CSVデータ1!AE266,CSVデータ2!AE266,CSVデータ3!AE266,CSVデータ4!AE266)","v":0},{"$f":"SUM(CSVデータ1!AF266,CSVデータ2!AF266,CSVデータ3!AF266,CSVデータ4!AF266)","v":0},{"$f":"SUM(CSVデータ1!AG266,CSVデータ2!AG266,CSVデータ3!AG266,CSVデータ4!AG266)","v":0}]
[{"$f":"CSVデータ1!A267","v":"明細部"},{"$f":"CSVデータ1!B267","v":"保険者（地区）"},{"$f":"CSVデータ1!C267","v":104},{"$f":"CSVデータ1!D267","v":"男"},{"$f":"SUM(CSVデータ1!E267,CSVデータ2!E267,CSVデータ3!E267,CSVデータ4!E267)","v":0},{"$f":"SUM(CSVデータ1!F267,CSVデータ2!F267,CSVデータ3!F267,CSVデータ4!F267)","v":0},{"$f":"SUM(CSVデータ1!G267,CSVデータ2!G267,CSVデータ3!G267,CSVデータ4!G267)","v":0},{"$f":"SUM(CSVデータ1!H267,CSVデータ2!H267,CSVデータ3!H267,CSVデータ4!H267)","v":0},{"$f":"SUM(CSVデータ1!I267,CSVデータ2!I267,CSVデータ3!I267,CSVデータ4!I267)","v":0},{"$f":"SUM(CSVデータ1!J267,CSVデータ2!J267,CSVデータ3!J267,CSVデータ4!J267)","v":0},{"$f":"SUM(CSVデータ1!K267,CSVデータ2!K267,CSVデータ3!K267,CSVデータ4!K267)","v":0},{"$f":"SUM(CSVデータ1!L267,CSVデータ2!L267,CSVデータ3!L267,CSVデータ4!L267)","v":0},{"$f":"SUM(CSVデータ1!M267,CSVデータ2!M267,CSVデータ3!M267,CSVデータ4!M267)","v":0},{"$f":"SUM(CSVデータ1!N267,CSVデータ2!N267,CSVデータ3!N267,CSVデータ4!N267)","v":0},{"$f":"SUM(CSVデータ1!O267,CSVデータ2!O267,CSVデータ3!O267,CSVデータ4!O267)","v":0},{"$f":"SUM(CSVデータ1!P267,CSVデータ2!P267,CSVデータ3!P267,CSVデータ4!P267)","v":0},{"$f":"SUM(CSVデータ1!Q267,CSVデータ2!Q267,CSVデータ3!Q267,CSVデータ4!Q267)","v":0},{"$f":"SUM(CSVデータ1!R267,CSVデータ2!R267,CSVデータ3!R267,CSVデータ4!R267)","v":0},{"$f":"SUM(CSVデータ1!S267,CSVデータ2!S267,CSVデータ3!S267,CSVデータ4!S267)","v":0},{"$f":"SUM(CSVデータ1!T267,CSVデータ2!T267,CSVデータ3!T267,CSVデータ4!T267)","v":0},{"$f":"SUM(CSVデータ1!U267,CSVデータ2!U267,CSVデータ3!U267,CSVデータ4!U267)","v":0},{"$f":"SUM(CSVデータ1!V267,CSVデータ2!V267,CSVデータ3!V267,CSVデータ4!V267)","v":0},{"$f":"SUM(CSVデータ1!W267,CSVデータ2!W267,CSVデータ3!W267,CSVデータ4!W267)","v":0},{"$f":"SUM(CSVデータ1!X267,CSVデータ2!X267,CSVデータ3!X267,CSVデータ4!X267)","v":0},{"$f":"SUM(CSVデータ1!Y267,CSVデータ2!Y267,CSVデータ3!Y267,CSVデータ4!Y267)","v":0},{"$f":"SUM(CSVデータ1!Z267,CSVデータ2!Z267,CSVデータ3!Z267,CSVデータ4!Z267)","v":0},{"$f":"SUM(CSVデータ1!AA267,CSVデータ2!AA267,CSVデータ3!AA267,CSVデータ4!AA267)","v":0},{"$f":"SUM(CSVデータ1!AB267,CSVデータ2!AB267,CSVデータ3!AB267,CSVデータ4!AB267)","v":0},{"$f":"SUM(CSVデータ1!AC267,CSVデータ2!AC267,CSVデータ3!AC267,CSVデータ4!AC267)","v":0},{"$f":"SUM(CSVデータ1!AD267,CSVデータ2!AD267,CSVデータ3!AD267,CSVデータ4!AD267)","v":0},{"$f":"SUM(CSVデータ1!AE267,CSVデータ2!AE267,CSVデータ3!AE267,CSVデータ4!AE267)","v":0},{"$f":"SUM(CSVデータ1!AF267,CSVデータ2!AF267,CSVデータ3!AF267,CSVデータ4!AF267)","v":0},{"$f":"SUM(CSVデータ1!AG267,CSVデータ2!AG267,CSVデータ3!AG267,CSVデータ4!AG267)","v":0}]
[{"$f":"CSVデータ1!A268","v":"明細部"},{"$f":"CSVデータ1!B268","v":"保険者（地区）"},{"$f":"CSVデータ1!C268","v":105},{"$f":"CSVデータ1!D268","v":"男"},{"$f":"SUM(CSVデータ1!E268,CSVデータ2!E268,CSVデータ3!E268,CSVデータ4!E268)","v":0},{"$f":"SUM(CSVデータ1!F268,CSVデータ2!F268,CSVデータ3!F268,CSVデータ4!F268)","v":0},{"$f":"SUM(CSVデータ1!G268,CSVデータ2!G268,CSVデータ3!G268,CSVデータ4!G268)","v":0},{"$f":"SUM(CSVデータ1!H268,CSVデータ2!H268,CSVデータ3!H268,CSVデータ4!H268)","v":0},{"$f":"SUM(CSVデータ1!I268,CSVデータ2!I268,CSVデータ3!I268,CSVデータ4!I268)","v":0},{"$f":"SUM(CSVデータ1!J268,CSVデータ2!J268,CSVデータ3!J268,CSVデータ4!J268)","v":0},{"$f":"SUM(CSVデータ1!K268,CSVデータ2!K268,CSVデータ3!K268,CSVデータ4!K268)","v":0},{"$f":"SUM(CSVデータ1!L268,CSVデータ2!L268,CSVデータ3!L268,CSVデータ4!L268)","v":0},{"$f":"SUM(CSVデータ1!M268,CSVデータ2!M268,CSVデータ3!M268,CSVデータ4!M268)","v":0},{"$f":"SUM(CSVデータ1!N268,CSVデータ2!N268,CSVデータ3!N268,CSVデータ4!N268)","v":0},{"$f":"SUM(CSVデータ1!O268,CSVデータ2!O268,CSVデータ3!O268,CSVデータ4!O268)","v":0},{"$f":"SUM(CSVデータ1!P268,CSVデータ2!P268,CSVデータ3!P268,CSVデータ4!P268)","v":0},{"$f":"SUM(CSVデータ1!Q268,CSVデータ2!Q268,CSVデータ3!Q268,CSVデータ4!Q268)","v":0},{"$f":"SUM(CSVデータ1!R268,CSVデータ2!R268,CSVデータ3!R268,CSVデータ4!R268)","v":0},{"$f":"SUM(CSVデータ1!S268,CSVデータ2!S268,CSVデータ3!S268,CSVデータ4!S268)","v":0},{"$f":"SUM(CSVデータ1!T268,CSVデータ2!T268,CSVデータ3!T268,CSVデータ4!T268)","v":0},{"$f":"SUM(CSVデータ1!U268,CSVデータ2!U268,CSVデータ3!U268,CSVデータ4!U268)","v":0},{"$f":"SUM(CSVデータ1!V268,CSVデータ2!V268,CSVデータ3!V268,CSVデータ4!V268)","v":0},{"$f":"SUM(CSVデータ1!W268,CSVデータ2!W268,CSVデータ3!W268,CSVデータ4!W268)","v":0},{"$f":"SUM(CSVデータ1!X268,CSVデータ2!X268,CSVデータ3!X268,CSVデータ4!X268)","v":0},{"$f":"SUM(CSVデータ1!Y268,CSVデータ2!Y268,CSVデータ3!Y268,CSVデータ4!Y268)","v":0},{"$f":"SUM(CSVデータ1!Z268,CSVデータ2!Z268,CSVデータ3!Z268,CSVデータ4!Z268)","v":0},{"$f":"SUM(CSVデータ1!AA268,CSVデータ2!AA268,CSVデータ3!AA268,CSVデータ4!AA268)","v":0},{"$f":"SUM(CSVデータ1!AB268,CSVデータ2!AB268,CSVデータ3!AB268,CSVデータ4!AB268)","v":0},{"$f":"SUM(CSVデータ1!AC268,CSVデータ2!AC268,CSVデータ3!AC268,CSVデータ4!AC268)","v":0},{"$f":"SUM(CSVデータ1!AD268,CSVデータ2!AD268,CSVデータ3!AD268,CSVデータ4!AD268)","v":0},{"$f":"SUM(CSVデータ1!AE268,CSVデータ2!AE268,CSVデータ3!AE268,CSVデータ4!AE268)","v":0},{"$f":"SUM(CSVデータ1!AF268,CSVデータ2!AF268,CSVデータ3!AF268,CSVデータ4!AF268)","v":0},{"$f":"SUM(CSVデータ1!AG268,CSVデータ2!AG268,CSVデータ3!AG268,CSVデータ4!AG268)","v":0}]
[{"$f":"CSVデータ1!A269","v":"明細部"},{"$f":"CSVデータ1!B269","v":"保険者（地区）"},{"$f":"CSVデータ1!C269","v":106},{"$f":"CSVデータ1!D269","v":"男"},{"$f":"SUM(CSVデータ1!E269,CSVデータ2!E269,CSVデータ3!E269,CSVデータ4!E269)","v":0},{"$f":"SUM(CSVデータ1!F269,CSVデータ2!F269,CSVデータ3!F269,CSVデータ4!F269)","v":0},{"$f":"SUM(CSVデータ1!G269,CSVデータ2!G269,CSVデータ3!G269,CSVデータ4!G269)","v":0},{"$f":"SUM(CSVデータ1!H269,CSVデータ2!H269,CSVデータ3!H269,CSVデータ4!H269)","v":0},{"$f":"SUM(CSVデータ1!I269,CSVデータ2!I269,CSVデータ3!I269,CSVデータ4!I269)","v":0},{"$f":"SUM(CSVデータ1!J269,CSVデータ2!J269,CSVデータ3!J269,CSVデータ4!J269)","v":0},{"$f":"SUM(CSVデータ1!K269,CSVデータ2!K269,CSVデータ3!K269,CSVデータ4!K269)","v":0},{"$f":"SUM(CSVデータ1!L269,CSVデータ2!L269,CSVデータ3!L269,CSVデータ4!L269)","v":0},{"$f":"SUM(CSVデータ1!M269,CSVデータ2!M269,CSVデータ3!M269,CSVデータ4!M269)","v":0},{"$f":"SUM(CSVデータ1!N269,CSVデータ2!N269,CSVデータ3!N269,CSVデータ4!N269)","v":0},{"$f":"SUM(CSVデータ1!O269,CSVデータ2!O269,CSVデータ3!O269,CSVデータ4!O269)","v":0},{"$f":"SUM(CSVデータ1!P269,CSVデータ2!P269,CSVデータ3!P269,CSVデータ4!P269)","v":0},{"$f":"SUM(CSVデータ1!Q269,CSVデータ2!Q269,CSVデータ3!Q269,CSVデータ4!Q269)","v":0},{"$f":"SUM(CSVデータ1!R269,CSVデータ2!R269,CSVデータ3!R269,CSVデータ4!R269)","v":0},{"$f":"SUM(CSVデータ1!S269,CSVデータ2!S269,CSVデータ3!S269,CSVデータ4!S269)","v":0},{"$f":"SUM(CSVデータ1!T269,CSVデータ2!T269,CSVデータ3!T269,CSVデータ4!T269)","v":0},{"$f":"SUM(CSVデータ1!U269,CSVデータ2!U269,CSVデータ3!U269,CSVデータ4!U269)","v":0},{"$f":"SUM(CSVデータ1!V269,CSVデータ2!V269,CSVデータ3!V269,CSVデータ4!V269)","v":0},{"$f":"SUM(CSVデータ1!W269,CSVデータ2!W269,CSVデータ3!W269,CSVデータ4!W269)","v":0},{"$f":"SUM(CSVデータ1!X269,CSVデータ2!X269,CSVデータ3!X269,CSVデータ4!X269)","v":0},{"$f":"SUM(CSVデータ1!Y269,CSVデータ2!Y269,CSVデータ3!Y269,CSVデータ4!Y269)","v":0},{"$f":"SUM(CSVデータ1!Z269,CSVデータ2!Z269,CSVデータ3!Z269,CSVデータ4!Z269)","v":0},{"$f":"SUM(CSVデータ1!AA269,CSVデータ2!AA269,CSVデータ3!AA269,CSVデータ4!AA269)","v":0},{"$f":"SUM(CSVデータ1!AB269,CSVデータ2!AB269,CSVデータ3!AB269,CSVデータ4!AB269)","v":0},{"$f":"SUM(CSVデータ1!AC269,CSVデータ2!AC269,CSVデータ3!AC269,CSVデータ4!AC269)","v":0},{"$f":"SUM(CSVデータ1!AD269,CSVデータ2!AD269,CSVデータ3!AD269,CSVデータ4!AD269)","v":0},{"$f":"SUM(CSVデータ1!AE269,CSVデータ2!AE269,CSVデータ3!AE269,CSVデータ4!AE269)","v":0},{"$f":"SUM(CSVデータ1!AF269,CSVデータ2!AF269,CSVデータ3!AF269,CSVデータ4!AF269)","v":0},{"$f":"SUM(CSVデータ1!AG269,CSVデータ2!AG269,CSVデータ3!AG269,CSVデータ4!AG269)","v":0}]
[{"$f":"CSVデータ1!A270","v":"明細部"},{"$f":"CSVデータ1!B270","v":"保険者（地区）"},{"$f":"CSVデータ1!C270","v":107},{"$f":"CSVデータ1!D270","v":"男"},{"$f":"SUM(CSVデータ1!E270,CSVデータ2!E270,CSVデータ3!E270,CSVデータ4!E270)","v":0},{"$f":"SUM(CSVデータ1!F270,CSVデータ2!F270,CSVデータ3!F270,CSVデータ4!F270)","v":0},{"$f":"SUM(CSVデータ1!G270,CSVデータ2!G270,CSVデータ3!G270,CSVデータ4!G270)","v":0},{"$f":"SUM(CSVデータ1!H270,CSVデータ2!H270,CSVデータ3!H270,CSVデータ4!H270)","v":0},{"$f":"SUM(CSVデータ1!I270,CSVデータ2!I270,CSVデータ3!I270,CSVデータ4!I270)","v":0},{"$f":"SUM(CSVデータ1!J270,CSVデータ2!J270,CSVデータ3!J270,CSVデータ4!J270)","v":0},{"$f":"SUM(CSVデータ1!K270,CSVデータ2!K270,CSVデータ3!K270,CSVデータ4!K270)","v":0},{"$f":"SUM(CSVデータ1!L270,CSVデータ2!L270,CSVデータ3!L270,CSVデータ4!L270)","v":0},{"$f":"SUM(CSVデータ1!M270,CSVデータ2!M270,CSVデータ3!M270,CSVデータ4!M270)","v":0},{"$f":"SUM(CSVデータ1!N270,CSVデータ2!N270,CSVデータ3!N270,CSVデータ4!N270)","v":0},{"$f":"SUM(CSVデータ1!O270,CSVデータ2!O270,CSVデータ3!O270,CSVデータ4!O270)","v":0},{"$f":"SUM(CSVデータ1!P270,CSVデータ2!P270,CSVデータ3!P270,CSVデータ4!P270)","v":0},{"$f":"SUM(CSVデータ1!Q270,CSVデータ2!Q270,CSVデータ3!Q270,CSVデータ4!Q270)","v":0},{"$f":"SUM(CSVデータ1!R270,CSVデータ2!R270,CSVデータ3!R270,CSVデータ4!R270)","v":0},{"$f":"SUM(CSVデータ1!S270,CSVデータ2!S270,CSVデータ3!S270,CSVデータ4!S270)","v":0},{"$f":"SUM(CSVデータ1!T270,CSVデータ2!T270,CSVデータ3!T270,CSVデータ4!T270)","v":0},{"$f":"SUM(CSVデータ1!U270,CSVデータ2!U270,CSVデータ3!U270,CSVデータ4!U270)","v":0},{"$f":"SUM(CSVデータ1!V270,CSVデータ2!V270,CSVデータ3!V270,CSVデータ4!V270)","v":0},{"$f":"SUM(CSVデータ1!W270,CSVデータ2!W270,CSVデータ3!W270,CSVデータ4!W270)","v":0},{"$f":"SUM(CSVデータ1!X270,CSVデータ2!X270,CSVデータ3!X270,CSVデータ4!X270)","v":0},{"$f":"SUM(CSVデータ1!Y270,CSVデータ2!Y270,CSVデータ3!Y270,CSVデータ4!Y270)","v":0},{"$f":"SUM(CSVデータ1!Z270,CSVデータ2!Z270,CSVデータ3!Z270,CSVデータ4!Z270)","v":0},{"$f":"SUM(CSVデータ1!AA270,CSVデータ2!AA270,CSVデータ3!AA270,CSVデータ4!AA270)","v":0},{"$f":"SUM(CSVデータ1!AB270,CSVデータ2!AB270,CSVデータ3!AB270,CSVデータ4!AB270)","v":0},{"$f":"SUM(CSVデータ1!AC270,CSVデータ2!AC270,CSVデータ3!AC270,CSVデータ4!AC270)","v":0},{"$f":"SUM(CSVデータ1!AD270,CSVデータ2!AD270,CSVデータ3!AD270,CSVデータ4!AD270)","v":0},{"$f":"SUM(CSVデータ1!AE270,CSVデータ2!AE270,CSVデータ3!AE270,CSVデータ4!AE270)","v":0},{"$f":"SUM(CSVデータ1!AF270,CSVデータ2!AF270,CSVデータ3!AF270,CSVデータ4!AF270)","v":0},{"$f":"SUM(CSVデータ1!AG270,CSVデータ2!AG270,CSVデータ3!AG270,CSVデータ4!AG270)","v":0}]
[{"$f":"CSVデータ1!A271","v":"明細部"},{"$f":"CSVデータ1!B271","v":"保険者（地区）"},{"$f":"CSVデータ1!C271","v":108},{"$f":"CSVデータ1!D271","v":"男"},{"$f":"SUM(CSVデータ1!E271,CSVデータ2!E271,CSVデータ3!E271,CSVデータ4!E271)","v":0},{"$f":"SUM(CSVデータ1!F271,CSVデータ2!F271,CSVデータ3!F271,CSVデータ4!F271)","v":0},{"$f":"SUM(CSVデータ1!G271,CSVデータ2!G271,CSVデータ3!G271,CSVデータ4!G271)","v":0},{"$f":"SUM(CSVデータ1!H271,CSVデータ2!H271,CSVデータ3!H271,CSVデータ4!H271)","v":0},{"$f":"SUM(CSVデータ1!I271,CSVデータ2!I271,CSVデータ3!I271,CSVデータ4!I271)","v":0},{"$f":"SUM(CSVデータ1!J271,CSVデータ2!J271,CSVデータ3!J271,CSVデータ4!J271)","v":0},{"$f":"SUM(CSVデータ1!K271,CSVデータ2!K271,CSVデータ3!K271,CSVデータ4!K271)","v":0},{"$f":"SUM(CSVデータ1!L271,CSVデータ2!L271,CSVデータ3!L271,CSVデータ4!L271)","v":0},{"$f":"SUM(CSVデータ1!M271,CSVデータ2!M271,CSVデータ3!M271,CSVデータ4!M271)","v":0},{"$f":"SUM(CSVデータ1!N271,CSVデータ2!N271,CSVデータ3!N271,CSVデータ4!N271)","v":0},{"$f":"SUM(CSVデータ1!O271,CSVデータ2!O271,CSVデータ3!O271,CSVデータ4!O271)","v":0},{"$f":"SUM(CSVデータ1!P271,CSVデータ2!P271,CSVデータ3!P271,CSVデータ4!P271)","v":0},{"$f":"SUM(CSVデータ1!Q271,CSVデータ2!Q271,CSVデータ3!Q271,CSVデータ4!Q271)","v":0},{"$f":"SUM(CSVデータ1!R271,CSVデータ2!R271,CSVデータ3!R271,CSVデータ4!R271)","v":0},{"$f":"SUM(CSVデータ1!S271,CSVデータ2!S271,CSVデータ3!S271,CSVデータ4!S271)","v":0},{"$f":"SUM(CSVデータ1!T271,CSVデータ2!T271,CSVデータ3!T271,CSVデータ4!T271)","v":0},{"$f":"SUM(CSVデータ1!U271,CSVデータ2!U271,CSVデータ3!U271,CSVデータ4!U271)","v":0},{"$f":"SUM(CSVデータ1!V271,CSVデータ2!V271,CSVデータ3!V271,CSVデータ4!V271)","v":0},{"$f":"SUM(CSVデータ1!W271,CSVデータ2!W271,CSVデータ3!W271,CSVデータ4!W271)","v":0},{"$f":"SUM(CSVデータ1!X271,CSVデータ2!X271,CSVデータ3!X271,CSVデータ4!X271)","v":0},{"$f":"SUM(CSVデータ1!Y271,CSVデータ2!Y271,CSVデータ3!Y271,CSVデータ4!Y271)","v":0},{"$f":"SUM(CSVデータ1!Z271,CSVデータ2!Z271,CSVデータ3!Z271,CSVデータ4!Z271)","v":0},{"$f":"SUM(CSVデータ1!AA271,CSVデータ2!AA271,CSVデータ3!AA271,CSVデータ4!AA271)","v":0},{"$f":"SUM(CSVデータ1!AB271,CSVデータ2!AB271,CSVデータ3!AB271,CSVデータ4!AB271)","v":0},{"$f":"SUM(CSVデータ1!AC271,CSVデータ2!AC271,CSVデータ3!AC271,CSVデータ4!AC271)","v":0},{"$f":"SUM(CSVデータ1!AD271,CSVデータ2!AD271,CSVデータ3!AD271,CSVデータ4!AD271)","v":0},{"$f":"SUM(CSVデータ1!AE271,CSVデータ2!AE271,CSVデータ3!AE271,CSVデータ4!AE271)","v":0},{"$f":"SUM(CSVデータ1!AF271,CSVデータ2!AF271,CSVデータ3!AF271,CSVデータ4!AF271)","v":0},{"$f":"SUM(CSVデータ1!AG271,CSVデータ2!AG271,CSVデータ3!AG271,CSVデータ4!AG271)","v":0}]
[{"$f":"CSVデータ1!A272","v":"明細部"},{"$f":"CSVデータ1!B272","v":"保険者（地区）"},{"$f":"CSVデータ1!C272","v":109},{"$f":"CSVデータ1!D272","v":"男"},{"$f":"SUM(CSVデータ1!E272,CSVデータ2!E272,CSVデータ3!E272,CSVデータ4!E272)","v":0},{"$f":"SUM(CSVデータ1!F272,CSVデータ2!F272,CSVデータ3!F272,CSVデータ4!F272)","v":0},{"$f":"SUM(CSVデータ1!G272,CSVデータ2!G272,CSVデータ3!G272,CSVデータ4!G272)","v":0},{"$f":"SUM(CSVデータ1!H272,CSVデータ2!H272,CSVデータ3!H272,CSVデータ4!H272)","v":0},{"$f":"SUM(CSVデータ1!I272,CSVデータ2!I272,CSVデータ3!I272,CSVデータ4!I272)","v":0},{"$f":"SUM(CSVデータ1!J272,CSVデータ2!J272,CSVデータ3!J272,CSVデータ4!J272)","v":0},{"$f":"SUM(CSVデータ1!K272,CSVデータ2!K272,CSVデータ3!K272,CSVデータ4!K272)","v":0},{"$f":"SUM(CSVデータ1!L272,CSVデータ2!L272,CSVデータ3!L272,CSVデータ4!L272)","v":0},{"$f":"SUM(CSVデータ1!M272,CSVデータ2!M272,CSVデータ3!M272,CSVデータ4!M272)","v":0},{"$f":"SUM(CSVデータ1!N272,CSVデータ2!N272,CSVデータ3!N272,CSVデータ4!N272)","v":0},{"$f":"SUM(CSVデータ1!O272,CSVデータ2!O272,CSVデータ3!O272,CSVデータ4!O272)","v":0},{"$f":"SUM(CSVデータ1!P272,CSVデータ2!P272,CSVデータ3!P272,CSVデータ4!P272)","v":0},{"$f":"SUM(CSVデータ1!Q272,CSVデータ2!Q272,CSVデータ3!Q272,CSVデータ4!Q272)","v":0},{"$f":"SUM(CSVデータ1!R272,CSVデータ2!R272,CSVデータ3!R272,CSVデータ4!R272)","v":0},{"$f":"SUM(CSVデータ1!S272,CSVデータ2!S272,CSVデータ3!S272,CSVデータ4!S272)","v":0},{"$f":"SUM(CSVデータ1!T272,CSVデータ2!T272,CSVデータ3!T272,CSVデータ4!T272)","v":0},{"$f":"SUM(CSVデータ1!U272,CSVデータ2!U272,CSVデータ3!U272,CSVデータ4!U272)","v":0},{"$f":"SUM(CSVデータ1!V272,CSVデータ2!V272,CSVデータ3!V272,CSVデータ4!V272)","v":0},{"$f":"SUM(CSVデータ1!W272,CSVデータ2!W272,CSVデータ3!W272,CSVデータ4!W272)","v":0},{"$f":"SUM(CSVデータ1!X272,CSVデータ2!X272,CSVデータ3!X272,CSVデータ4!X272)","v":0},{"$f":"SUM(CSVデータ1!Y272,CSVデータ2!Y272,CSVデータ3!Y272,CSVデータ4!Y272)","v":0},{"$f":"SUM(CSVデータ1!Z272,CSVデータ2!Z272,CSVデータ3!Z272,CSVデータ4!Z272)","v":0},{"$f":"SUM(CSVデータ1!AA272,CSVデータ2!AA272,CSVデータ3!AA272,CSVデータ4!AA272)","v":0},{"$f":"SUM(CSVデータ1!AB272,CSVデータ2!AB272,CSVデータ3!AB272,CSVデータ4!AB272)","v":0},{"$f":"SUM(CSVデータ1!AC272,CSVデータ2!AC272,CSVデータ3!AC272,CSVデータ4!AC272)","v":0},{"$f":"SUM(CSVデータ1!AD272,CSVデータ2!AD272,CSVデータ3!AD272,CSVデータ4!AD272)","v":0},{"$f":"SUM(CSVデータ1!AE272,CSVデータ2!AE272,CSVデータ3!AE272,CSVデータ4!AE272)","v":0},{"$f":"SUM(CSVデータ1!AF272,CSVデータ2!AF272,CSVデータ3!AF272,CSVデータ4!AF272)","v":0},{"$f":"SUM(CSVデータ1!AG272,CSVデータ2!AG272,CSVデータ3!AG272,CSVデータ4!AG272)","v":0}]
[{"$f":"CSVデータ1!A273","v":"明細部"},{"$f":"CSVデータ1!B273","v":"保険者（地区）"},{"$f":"CSVデータ1!C273","v":110},{"$f":"CSVデータ1!D273","v":"男"},{"$f":"SUM(CSVデータ1!E273,CSVデータ2!E273,CSVデータ3!E273,CSVデータ4!E273)","v":0},{"$f":"SUM(CSVデータ1!F273,CSVデータ2!F273,CSVデータ3!F273,CSVデータ4!F273)","v":0},{"$f":"SUM(CSVデータ1!G273,CSVデータ2!G273,CSVデータ3!G273,CSVデータ4!G273)","v":0},{"$f":"SUM(CSVデータ1!H273,CSVデータ2!H273,CSVデータ3!H273,CSVデータ4!H273)","v":0},{"$f":"SUM(CSVデータ1!I273,CSVデータ2!I273,CSVデータ3!I273,CSVデータ4!I273)","v":0},{"$f":"SUM(CSVデータ1!J273,CSVデータ2!J273,CSVデータ3!J273,CSVデータ4!J273)","v":0},{"$f":"SUM(CSVデータ1!K273,CSVデータ2!K273,CSVデータ3!K273,CSVデータ4!K273)","v":0},{"$f":"SUM(CSVデータ1!L273,CSVデータ2!L273,CSVデータ3!L273,CSVデータ4!L273)","v":0},{"$f":"SUM(CSVデータ1!M273,CSVデータ2!M273,CSVデータ3!M273,CSVデータ4!M273)","v":0},{"$f":"SUM(CSVデータ1!N273,CSVデータ2!N273,CSVデータ3!N273,CSVデータ4!N273)","v":0},{"$f":"SUM(CSVデータ1!O273,CSVデータ2!O273,CSVデータ3!O273,CSVデータ4!O273)","v":0},{"$f":"SUM(CSVデータ1!P273,CSVデータ2!P273,CSVデータ3!P273,CSVデータ4!P273)","v":0},{"$f":"SUM(CSVデータ1!Q273,CSVデータ2!Q273,CSVデータ3!Q273,CSVデータ4!Q273)","v":0},{"$f":"SUM(CSVデータ1!R273,CSVデータ2!R273,CSVデータ3!R273,CSVデータ4!R273)","v":0},{"$f":"SUM(CSVデータ1!S273,CSVデータ2!S273,CSVデータ3!S273,CSVデータ4!S273)","v":0},{"$f":"SUM(CSVデータ1!T273,CSVデータ2!T273,CSVデータ3!T273,CSVデータ4!T273)","v":0},{"$f":"SUM(CSVデータ1!U273,CSVデータ2!U273,CSVデータ3!U273,CSVデータ4!U273)","v":0},{"$f":"SUM(CSVデータ1!V273,CSVデータ2!V273,CSVデータ3!V273,CSVデータ4!V273)","v":0},{"$f":"SUM(CSVデータ1!W273,CSVデータ2!W273,CSVデータ3!W273,CSVデータ4!W273)","v":0},{"$f":"SUM(CSVデータ1!X273,CSVデータ2!X273,CSVデータ3!X273,CSVデータ4!X273)","v":0},{"$f":"SUM(CSVデータ1!Y273,CSVデータ2!Y273,CSVデータ3!Y273,CSVデータ4!Y273)","v":0},{"$f":"SUM(CSVデータ1!Z273,CSVデータ2!Z273,CSVデータ3!Z273,CSVデータ4!Z273)","v":0},{"$f":"SUM(CSVデータ1!AA273,CSVデータ2!AA273,CSVデータ3!AA273,CSVデータ4!AA273)","v":0},{"$f":"SUM(CSVデータ1!AB273,CSVデータ2!AB273,CSVデータ3!AB273,CSVデータ4!AB273)","v":0},{"$f":"SUM(CSVデータ1!AC273,CSVデータ2!AC273,CSVデータ3!AC273,CSVデータ4!AC273)","v":0},{"$f":"SUM(CSVデータ1!AD273,CSVデータ2!AD273,CSVデータ3!AD273,CSVデータ4!AD273)","v":0},{"$f":"SUM(CSVデータ1!AE273,CSVデータ2!AE273,CSVデータ3!AE273,CSVデータ4!AE273)","v":0},{"$f":"SUM(CSVデータ1!AF273,CSVデータ2!AF273,CSVデータ3!AF273,CSVデータ4!AF273)","v":0},{"$f":"SUM(CSVデータ1!AG273,CSVデータ2!AG273,CSVデータ3!AG273,CSVデータ4!AG273)","v":0}]
[{"$f":"CSVデータ1!A274","v":"明細部"},{"$f":"CSVデータ1!B274","v":"保険者（地区）"},{"$f":"CSVデータ1!C274","v":111},{"$f":"CSVデータ1!D274","v":"男"},{"$f":"SUM(CSVデータ1!E274,CSVデータ2!E274,CSVデータ3!E274,CSVデータ4!E274)","v":0},{"$f":"SUM(CSVデータ1!F274,CSVデータ2!F274,CSVデータ3!F274,CSVデータ4!F274)","v":0},{"$f":"SUM(CSVデータ1!G274,CSVデータ2!G274,CSVデータ3!G274,CSVデータ4!G274)","v":0},{"$f":"SUM(CSVデータ1!H274,CSVデータ2!H274,CSVデータ3!H274,CSVデータ4!H274)","v":0},{"$f":"SUM(CSVデータ1!I274,CSVデータ2!I274,CSVデータ3!I274,CSVデータ4!I274)","v":0},{"$f":"SUM(CSVデータ1!J274,CSVデータ2!J274,CSVデータ3!J274,CSVデータ4!J274)","v":0},{"$f":"SUM(CSVデータ1!K274,CSVデータ2!K274,CSVデータ3!K274,CSVデータ4!K274)","v":0},{"$f":"SUM(CSVデータ1!L274,CSVデータ2!L274,CSVデータ3!L274,CSVデータ4!L274)","v":0},{"$f":"SUM(CSVデータ1!M274,CSVデータ2!M274,CSVデータ3!M274,CSVデータ4!M274)","v":0},{"$f":"SUM(CSVデータ1!N274,CSVデータ2!N274,CSVデータ3!N274,CSVデータ4!N274)","v":0},{"$f":"SUM(CSVデータ1!O274,CSVデータ2!O274,CSVデータ3!O274,CSVデータ4!O274)","v":0},{"$f":"SUM(CSVデータ1!P274,CSVデータ2!P274,CSVデータ3!P274,CSVデータ4!P274)","v":0},{"$f":"SUM(CSVデータ1!Q274,CSVデータ2!Q274,CSVデータ3!Q274,CSVデータ4!Q274)","v":0},{"$f":"SUM(CSVデータ1!R274,CSVデータ2!R274,CSVデータ3!R274,CSVデータ4!R274)","v":0},{"$f":"SUM(CSVデータ1!S274,CSVデータ2!S274,CSVデータ3!S274,CSVデータ4!S274)","v":0},{"$f":"SUM(CSVデータ1!T274,CSVデータ2!T274,CSVデータ3!T274,CSVデータ4!T274)","v":0},{"$f":"SUM(CSVデータ1!U274,CSVデータ2!U274,CSVデータ3!U274,CSVデータ4!U274)","v":0},{"$f":"SUM(CSVデータ1!V274,CSVデータ2!V274,CSVデータ3!V274,CSVデータ4!V274)","v":0},{"$f":"SUM(CSVデータ1!W274,CSVデータ2!W274,CSVデータ3!W274,CSVデータ4!W274)","v":0},{"$f":"SUM(CSVデータ1!X274,CSVデータ2!X274,CSVデータ3!X274,CSVデータ4!X274)","v":0},{"$f":"SUM(CSVデータ1!Y274,CSVデータ2!Y274,CSVデータ3!Y274,CSVデータ4!Y274)","v":0},{"$f":"SUM(CSVデータ1!Z274,CSVデータ2!Z274,CSVデータ3!Z274,CSVデータ4!Z274)","v":0},{"$f":"SUM(CSVデータ1!AA274,CSVデータ2!AA274,CSVデータ3!AA274,CSVデータ4!AA274)","v":0},{"$f":"SUM(CSVデータ1!AB274,CSVデータ2!AB274,CSVデータ3!AB274,CSVデータ4!AB274)","v":0},{"$f":"SUM(CSVデータ1!AC274,CSVデータ2!AC274,CSVデータ3!AC274,CSVデータ4!AC274)","v":0},{"$f":"SUM(CSVデータ1!AD274,CSVデータ2!AD274,CSVデータ3!AD274,CSVデータ4!AD274)","v":0},{"$f":"SUM(CSVデータ1!AE274,CSVデータ2!AE274,CSVデータ3!AE274,CSVデータ4!AE274)","v":0},{"$f":"SUM(CSVデータ1!AF274,CSVデータ2!AF274,CSVデータ3!AF274,CSVデータ4!AF274)","v":0},{"$f":"SUM(CSVデータ1!AG274,CSVデータ2!AG274,CSVデータ3!AG274,CSVデータ4!AG274)","v":0}]
[{"$f":"CSVデータ1!A275","v":"明細部"},{"$f":"CSVデータ1!B275","v":"保険者（地区）"},{"$f":"CSVデータ1!C275","v":112},{"$f":"CSVデータ1!D275","v":"男"},{"$f":"SUM(CSVデータ1!E275,CSVデータ2!E275,CSVデータ3!E275,CSVデータ4!E275)","v":0},{"$f":"SUM(CSVデータ1!F275,CSVデータ2!F275,CSVデータ3!F275,CSVデータ4!F275)","v":0},{"$f":"SUM(CSVデータ1!G275,CSVデータ2!G275,CSVデータ3!G275,CSVデータ4!G275)","v":0},{"$f":"SUM(CSVデータ1!H275,CSVデータ2!H275,CSVデータ3!H275,CSVデータ4!H275)","v":0},{"$f":"SUM(CSVデータ1!I275,CSVデータ2!I275,CSVデータ3!I275,CSVデータ4!I275)","v":0},{"$f":"SUM(CSVデータ1!J275,CSVデータ2!J275,CSVデータ3!J275,CSVデータ4!J275)","v":0},{"$f":"SUM(CSVデータ1!K275,CSVデータ2!K275,CSVデータ3!K275,CSVデータ4!K275)","v":0},{"$f":"SUM(CSVデータ1!L275,CSVデータ2!L275,CSVデータ3!L275,CSVデータ4!L275)","v":0},{"$f":"SUM(CSVデータ1!M275,CSVデータ2!M275,CSVデータ3!M275,CSVデータ4!M275)","v":0},{"$f":"SUM(CSVデータ1!N275,CSVデータ2!N275,CSVデータ3!N275,CSVデータ4!N275)","v":0},{"$f":"SUM(CSVデータ1!O275,CSVデータ2!O275,CSVデータ3!O275,CSVデータ4!O275)","v":0},{"$f":"SUM(CSVデータ1!P275,CSVデータ2!P275,CSVデータ3!P275,CSVデータ4!P275)","v":0},{"$f":"SUM(CSVデータ1!Q275,CSVデータ2!Q275,CSVデータ3!Q275,CSVデータ4!Q275)","v":0},{"$f":"SUM(CSVデータ1!R275,CSVデータ2!R275,CSVデータ3!R275,CSVデータ4!R275)","v":0},{"$f":"SUM(CSVデータ1!S275,CSVデータ2!S275,CSVデータ3!S275,CSVデータ4!S275)","v":0},{"$f":"SUM(CSVデータ1!T275,CSVデータ2!T275,CSVデータ3!T275,CSVデータ4!T275)","v":0},{"$f":"SUM(CSVデータ1!U275,CSVデータ2!U275,CSVデータ3!U275,CSVデータ4!U275)","v":0},{"$f":"SUM(CSVデータ1!V275,CSVデータ2!V275,CSVデータ3!V275,CSVデータ4!V275)","v":0},{"$f":"SUM(CSVデータ1!W275,CSVデータ2!W275,CSVデータ3!W275,CSVデータ4!W275)","v":0},{"$f":"SUM(CSVデータ1!X275,CSVデータ2!X275,CSVデータ3!X275,CSVデータ4!X275)","v":0},{"$f":"SUM(CSVデータ1!Y275,CSVデータ2!Y275,CSVデータ3!Y275,CSVデータ4!Y275)","v":0},{"$f":"SUM(CSVデータ1!Z275,CSVデータ2!Z275,CSVデータ3!Z275,CSVデータ4!Z275)","v":0},{"$f":"SUM(CSVデータ1!AA275,CSVデータ2!AA275,CSVデータ3!AA275,CSVデータ4!AA275)","v":0},{"$f":"SUM(CSVデータ1!AB275,CSVデータ2!AB275,CSVデータ3!AB275,CSVデータ4!AB275)","v":0},{"$f":"SUM(CSVデータ1!AC275,CSVデータ2!AC275,CSVデータ3!AC275,CSVデータ4!AC275)","v":0},{"$f":"SUM(CSVデータ1!AD275,CSVデータ2!AD275,CSVデータ3!AD275,CSVデータ4!AD275)","v":0},{"$f":"SUM(CSVデータ1!AE275,CSVデータ2!AE275,CSVデータ3!AE275,CSVデータ4!AE275)","v":0},{"$f":"SUM(CSVデータ1!AF275,CSVデータ2!AF275,CSVデータ3!AF275,CSVデータ4!AF275)","v":0},{"$f":"SUM(CSVデータ1!AG275,CSVデータ2!AG275,CSVデータ3!AG275,CSVデータ4!AG275)","v":0}]
[{"$f":"CSVデータ1!A276","v":"明細部"},{"$f":"CSVデータ1!B276","v":"保険者（地区）"},{"$f":"CSVデータ1!C276","v":113},{"$f":"CSVデータ1!D276","v":"男"},{"$f":"SUM(CSVデータ1!E276,CSVデータ2!E276,CSVデータ3!E276,CSVデータ4!E276)","v":0},{"$f":"SUM(CSVデータ1!F276,CSVデータ2!F276,CSVデータ3!F276,CSVデータ4!F276)","v":0},{"$f":"SUM(CSVデータ1!G276,CSVデータ2!G276,CSVデータ3!G276,CSVデータ4!G276)","v":0},{"$f":"SUM(CSVデータ1!H276,CSVデータ2!H276,CSVデータ3!H276,CSVデータ4!H276)","v":0},{"$f":"SUM(CSVデータ1!I276,CSVデータ2!I276,CSVデータ3!I276,CSVデータ4!I276)","v":0},{"$f":"SUM(CSVデータ1!J276,CSVデータ2!J276,CSVデータ3!J276,CSVデータ4!J276)","v":0},{"$f":"SUM(CSVデータ1!K276,CSVデータ2!K276,CSVデータ3!K276,CSVデータ4!K276)","v":0},{"$f":"SUM(CSVデータ1!L276,CSVデータ2!L276,CSVデータ3!L276,CSVデータ4!L276)","v":0},{"$f":"SUM(CSVデータ1!M276,CSVデータ2!M276,CSVデータ3!M276,CSVデータ4!M276)","v":0},{"$f":"SUM(CSVデータ1!N276,CSVデータ2!N276,CSVデータ3!N276,CSVデータ4!N276)","v":0},{"$f":"SUM(CSVデータ1!O276,CSVデータ2!O276,CSVデータ3!O276,CSVデータ4!O276)","v":0},{"$f":"SUM(CSVデータ1!P276,CSVデータ2!P276,CSVデータ3!P276,CSVデータ4!P276)","v":0},{"$f":"SUM(CSVデータ1!Q276,CSVデータ2!Q276,CSVデータ3!Q276,CSVデータ4!Q276)","v":0},{"$f":"SUM(CSVデータ1!R276,CSVデータ2!R276,CSVデータ3!R276,CSVデータ4!R276)","v":0},{"$f":"SUM(CSVデータ1!S276,CSVデータ2!S276,CSVデータ3!S276,CSVデータ4!S276)","v":0},{"$f":"SUM(CSVデータ1!T276,CSVデータ2!T276,CSVデータ3!T276,CSVデータ4!T276)","v":0},{"$f":"SUM(CSVデータ1!U276,CSVデータ2!U276,CSVデータ3!U276,CSVデータ4!U276)","v":0},{"$f":"SUM(CSVデータ1!V276,CSVデータ2!V276,CSVデータ3!V276,CSVデータ4!V276)","v":0},{"$f":"SUM(CSVデータ1!W276,CSVデータ2!W276,CSVデータ3!W276,CSVデータ4!W276)","v":0},{"$f":"SUM(CSVデータ1!X276,CSVデータ2!X276,CSVデータ3!X276,CSVデータ4!X276)","v":0},{"$f":"SUM(CSVデータ1!Y276,CSVデータ2!Y276,CSVデータ3!Y276,CSVデータ4!Y276)","v":0},{"$f":"SUM(CSVデータ1!Z276,CSVデータ2!Z276,CSVデータ3!Z276,CSVデータ4!Z276)","v":0},{"$f":"SUM(CSVデータ1!AA276,CSVデータ2!AA276,CSVデータ3!AA276,CSVデータ4!AA276)","v":0},{"$f":"SUM(CSVデータ1!AB276,CSVデータ2!AB276,CSVデータ3!AB276,CSVデータ4!AB276)","v":0},{"$f":"SUM(CSVデータ1!AC276,CSVデータ2!AC276,CSVデータ3!AC276,CSVデータ4!AC276)","v":0},{"$f":"SUM(CSVデータ1!AD276,CSVデータ2!AD276,CSVデータ3!AD276,CSVデータ4!AD276)","v":0},{"$f":"SUM(CSVデータ1!AE276,CSVデータ2!AE276,CSVデータ3!AE276,CSVデータ4!AE276)","v":0},{"$f":"SUM(CSVデータ1!AF276,CSVデータ2!AF276,CSVデータ3!AF276,CSVデータ4!AF276)","v":0},{"$f":"SUM(CSVデータ1!AG276,CSVデータ2!AG276,CSVデータ3!AG276,CSVデータ4!AG276)","v":0}]
[{"$f":"CSVデータ1!A277","v":"明細部"},{"$f":"CSVデータ1!B277","v":"保険者（地区）"},{"$f":"CSVデータ1!C277","v":114},{"$f":"CSVデータ1!D277","v":"男"},{"$f":"SUM(CSVデータ1!E277,CSVデータ2!E277,CSVデータ3!E277,CSVデータ4!E277)","v":0},{"$f":"SUM(CSVデータ1!F277,CSVデータ2!F277,CSVデータ3!F277,CSVデータ4!F277)","v":0},{"$f":"SUM(CSVデータ1!G277,CSVデータ2!G277,CSVデータ3!G277,CSVデータ4!G277)","v":0},{"$f":"SUM(CSVデータ1!H277,CSVデータ2!H277,CSVデータ3!H277,CSVデータ4!H277)","v":0},{"$f":"SUM(CSVデータ1!I277,CSVデータ2!I277,CSVデータ3!I277,CSVデータ4!I277)","v":0},{"$f":"SUM(CSVデータ1!J277,CSVデータ2!J277,CSVデータ3!J277,CSVデータ4!J277)","v":0},{"$f":"SUM(CSVデータ1!K277,CSVデータ2!K277,CSVデータ3!K277,CSVデータ4!K277)","v":0},{"$f":"SUM(CSVデータ1!L277,CSVデータ2!L277,CSVデータ3!L277,CSVデータ4!L277)","v":0},{"$f":"SUM(CSVデータ1!M277,CSVデータ2!M277,CSVデータ3!M277,CSVデータ4!M277)","v":0},{"$f":"SUM(CSVデータ1!N277,CSVデータ2!N277,CSVデータ3!N277,CSVデータ4!N277)","v":0},{"$f":"SUM(CSVデータ1!O277,CSVデータ2!O277,CSVデータ3!O277,CSVデータ4!O277)","v":0},{"$f":"SUM(CSVデータ1!P277,CSVデータ2!P277,CSVデータ3!P277,CSVデータ4!P277)","v":0},{"$f":"SUM(CSVデータ1!Q277,CSVデータ2!Q277,CSVデータ3!Q277,CSVデータ4!Q277)","v":0},{"$f":"SUM(CSVデータ1!R277,CSVデータ2!R277,CSVデータ3!R277,CSVデータ4!R277)","v":0},{"$f":"SUM(CSVデータ1!S277,CSVデータ2!S277,CSVデータ3!S277,CSVデータ4!S277)","v":0},{"$f":"SUM(CSVデータ1!T277,CSVデータ2!T277,CSVデータ3!T277,CSVデータ4!T277)","v":0},{"$f":"SUM(CSVデータ1!U277,CSVデータ2!U277,CSVデータ3!U277,CSVデータ4!U277)","v":0},{"$f":"SUM(CSVデータ1!V277,CSVデータ2!V277,CSVデータ3!V277,CSVデータ4!V277)","v":0},{"$f":"SUM(CSVデータ1!W277,CSVデータ2!W277,CSVデータ3!W277,CSVデータ4!W277)","v":0},{"$f":"SUM(CSVデータ1!X277,CSVデータ2!X277,CSVデータ3!X277,CSVデータ4!X277)","v":0},{"$f":"SUM(CSVデータ1!Y277,CSVデータ2!Y277,CSVデータ3!Y277,CSVデータ4!Y277)","v":0},{"$f":"SUM(CSVデータ1!Z277,CSVデータ2!Z277,CSVデータ3!Z277,CSVデータ4!Z277)","v":0},{"$f":"SUM(CSVデータ1!AA277,CSVデータ2!AA277,CSVデータ3!AA277,CSVデータ4!AA277)","v":0},{"$f":"SUM(CSVデータ1!AB277,CSVデータ2!AB277,CSVデータ3!AB277,CSVデータ4!AB277)","v":0},{"$f":"SUM(CSVデータ1!AC277,CSVデータ2!AC277,CSVデータ3!AC277,CSVデータ4!AC277)","v":0},{"$f":"SUM(CSVデータ1!AD277,CSVデータ2!AD277,CSVデータ3!AD277,CSVデータ4!AD277)","v":0},{"$f":"SUM(CSVデータ1!AE277,CSVデータ2!AE277,CSVデータ3!AE277,CSVデータ4!AE277)","v":0},{"$f":"SUM(CSVデータ1!AF277,CSVデータ2!AF277,CSVデータ3!AF277,CSVデータ4!AF277)","v":0},{"$f":"SUM(CSVデータ1!AG277,CSVデータ2!AG277,CSVデータ3!AG277,CSVデータ4!AG277)","v":0}]
[{"$f":"CSVデータ1!A278","v":"明細部"},{"$f":"CSVデータ1!B278","v":"保険者（地区）"},{"$f":"CSVデータ1!C278","v":115},{"$f":"CSVデータ1!D278","v":"男"},{"$f":"SUM(CSVデータ1!E278,CSVデータ2!E278,CSVデータ3!E278,CSVデータ4!E278)","v":0},{"$f":"SUM(CSVデータ1!F278,CSVデータ2!F278,CSVデータ3!F278,CSVデータ4!F278)","v":0},{"$f":"SUM(CSVデータ1!G278,CSVデータ2!G278,CSVデータ3!G278,CSVデータ4!G278)","v":0},{"$f":"SUM(CSVデータ1!H278,CSVデータ2!H278,CSVデータ3!H278,CSVデータ4!H278)","v":0},{"$f":"SUM(CSVデータ1!I278,CSVデータ2!I278,CSVデータ3!I278,CSVデータ4!I278)","v":0},{"$f":"SUM(CSVデータ1!J278,CSVデータ2!J278,CSVデータ3!J278,CSVデータ4!J278)","v":0},{"$f":"SUM(CSVデータ1!K278,CSVデータ2!K278,CSVデータ3!K278,CSVデータ4!K278)","v":0},{"$f":"SUM(CSVデータ1!L278,CSVデータ2!L278,CSVデータ3!L278,CSVデータ4!L278)","v":0},{"$f":"SUM(CSVデータ1!M278,CSVデータ2!M278,CSVデータ3!M278,CSVデータ4!M278)","v":0},{"$f":"SUM(CSVデータ1!N278,CSVデータ2!N278,CSVデータ3!N278,CSVデータ4!N278)","v":0},{"$f":"SUM(CSVデータ1!O278,CSVデータ2!O278,CSVデータ3!O278,CSVデータ4!O278)","v":0},{"$f":"SUM(CSVデータ1!P278,CSVデータ2!P278,CSVデータ3!P278,CSVデータ4!P278)","v":0},{"$f":"SUM(CSVデータ1!Q278,CSVデータ2!Q278,CSVデータ3!Q278,CSVデータ4!Q278)","v":0},{"$f":"SUM(CSVデータ1!R278,CSVデータ2!R278,CSVデータ3!R278,CSVデータ4!R278)","v":0},{"$f":"SUM(CSVデータ1!S278,CSVデータ2!S278,CSVデータ3!S278,CSVデータ4!S278)","v":0},{"$f":"SUM(CSVデータ1!T278,CSVデータ2!T278,CSVデータ3!T278,CSVデータ4!T278)","v":0},{"$f":"SUM(CSVデータ1!U278,CSVデータ2!U278,CSVデータ3!U278,CSVデータ4!U278)","v":0},{"$f":"SUM(CSVデータ1!V278,CSVデータ2!V278,CSVデータ3!V278,CSVデータ4!V278)","v":0},{"$f":"SUM(CSVデータ1!W278,CSVデータ2!W278,CSVデータ3!W278,CSVデータ4!W278)","v":0},{"$f":"SUM(CSVデータ1!X278,CSVデータ2!X278,CSVデータ3!X278,CSVデータ4!X278)","v":0},{"$f":"SUM(CSVデータ1!Y278,CSVデータ2!Y278,CSVデータ3!Y278,CSVデータ4!Y278)","v":0},{"$f":"SUM(CSVデータ1!Z278,CSVデータ2!Z278,CSVデータ3!Z278,CSVデータ4!Z278)","v":0},{"$f":"SUM(CSVデータ1!AA278,CSVデータ2!AA278,CSVデータ3!AA278,CSVデータ4!AA278)","v":0},{"$f":"SUM(CSVデータ1!AB278,CSVデータ2!AB278,CSVデータ3!AB278,CSVデータ4!AB278)","v":0},{"$f":"SUM(CSVデータ1!AC278,CSVデータ2!AC278,CSVデータ3!AC278,CSVデータ4!AC278)","v":0},{"$f":"SUM(CSVデータ1!AD278,CSVデータ2!AD278,CSVデータ3!AD278,CSVデータ4!AD278)","v":0},{"$f":"SUM(CSVデータ1!AE278,CSVデータ2!AE278,CSVデータ3!AE278,CSVデータ4!AE278)","v":0},{"$f":"SUM(CSVデータ1!AF278,CSVデータ2!AF278,CSVデータ3!AF278,CSVデータ4!AF278)","v":0},{"$f":"SUM(CSVデータ1!AG278,CSVデータ2!AG278,CSVデータ3!AG278,CSVデータ4!AG278)","v":0}]
[{"$f":"CSVデータ1!A279","v":"明細部"},{"$f":"CSVデータ1!B279","v":"保険者（地区）"},{"$f":"CSVデータ1!C279","v":116},{"$f":"CSVデータ1!D279","v":"男"},{"$f":"SUM(CSVデータ1!E279,CSVデータ2!E279,CSVデータ3!E279,CSVデータ4!E279)","v":0},{"$f":"SUM(CSVデータ1!F279,CSVデータ2!F279,CSVデータ3!F279,CSVデータ4!F279)","v":0},{"$f":"SUM(CSVデータ1!G279,CSVデータ2!G279,CSVデータ3!G279,CSVデータ4!G279)","v":0},{"$f":"SUM(CSVデータ1!H279,CSVデータ2!H279,CSVデータ3!H279,CSVデータ4!H279)","v":0},{"$f":"SUM(CSVデータ1!I279,CSVデータ2!I279,CSVデータ3!I279,CSVデータ4!I279)","v":0},{"$f":"SUM(CSVデータ1!J279,CSVデータ2!J279,CSVデータ3!J279,CSVデータ4!J279)","v":0},{"$f":"SUM(CSVデータ1!K279,CSVデータ2!K279,CSVデータ3!K279,CSVデータ4!K279)","v":0},{"$f":"SUM(CSVデータ1!L279,CSVデータ2!L279,CSVデータ3!L279,CSVデータ4!L279)","v":0},{"$f":"SUM(CSVデータ1!M279,CSVデータ2!M279,CSVデータ3!M279,CSVデータ4!M279)","v":0},{"$f":"SUM(CSVデータ1!N279,CSVデータ2!N279,CSVデータ3!N279,CSVデータ4!N279)","v":0},{"$f":"SUM(CSVデータ1!O279,CSVデータ2!O279,CSVデータ3!O279,CSVデータ4!O279)","v":0},{"$f":"SUM(CSVデータ1!P279,CSVデータ2!P279,CSVデータ3!P279,CSVデータ4!P279)","v":0},{"$f":"SUM(CSVデータ1!Q279,CSVデータ2!Q279,CSVデータ3!Q279,CSVデータ4!Q279)","v":0},{"$f":"SUM(CSVデータ1!R279,CSVデータ2!R279,CSVデータ3!R279,CSVデータ4!R279)","v":0},{"$f":"SUM(CSVデータ1!S279,CSVデータ2!S279,CSVデータ3!S279,CSVデータ4!S279)","v":0},{"$f":"SUM(CSVデータ1!T279,CSVデータ2!T279,CSVデータ3!T279,CSVデータ4!T279)","v":0},{"$f":"SUM(CSVデータ1!U279,CSVデータ2!U279,CSVデータ3!U279,CSVデータ4!U279)","v":0},{"$f":"SUM(CSVデータ1!V279,CSVデータ2!V279,CSVデータ3!V279,CSVデータ4!V279)","v":0},{"$f":"SUM(CSVデータ1!W279,CSVデータ2!W279,CSVデータ3!W279,CSVデータ4!W279)","v":0},{"$f":"SUM(CSVデータ1!X279,CSVデータ2!X279,CSVデータ3!X279,CSVデータ4!X279)","v":0},{"$f":"SUM(CSVデータ1!Y279,CSVデータ2!Y279,CSVデータ3!Y279,CSVデータ4!Y279)","v":0},{"$f":"SUM(CSVデータ1!Z279,CSVデータ2!Z279,CSVデータ3!Z279,CSVデータ4!Z279)","v":0},{"$f":"SUM(CSVデータ1!AA279,CSVデータ2!AA279,CSVデータ3!AA279,CSVデータ4!AA279)","v":0},{"$f":"SUM(CSVデータ1!AB279,CSVデータ2!AB279,CSVデータ3!AB279,CSVデータ4!AB279)","v":0},{"$f":"SUM(CSVデータ1!AC279,CSVデータ2!AC279,CSVデータ3!AC279,CSVデータ4!AC279)","v":0},{"$f":"SUM(CSVデータ1!AD279,CSVデータ2!AD279,CSVデータ3!AD279,CSVデータ4!AD279)","v":0},{"$f":"SUM(CSVデータ1!AE279,CSVデータ2!AE279,CSVデータ3!AE279,CSVデータ4!AE279)","v":0},{"$f":"SUM(CSVデータ1!AF279,CSVデータ2!AF279,CSVデータ3!AF279,CSVデータ4!AF279)","v":0},{"$f":"SUM(CSVデータ1!AG279,CSVデータ2!AG279,CSVデータ3!AG279,CSVデータ4!AG279)","v":0}]
[{"$f":"CSVデータ1!A280","v":"明細部"},{"$f":"CSVデータ1!B280","v":"保険者（地区）"},{"$f":"CSVデータ1!C280","v":117},{"$f":"CSVデータ1!D280","v":"男"},{"$f":"SUM(CSVデータ1!E280,CSVデータ2!E280,CSVデータ3!E280,CSVデータ4!E280)","v":0},{"$f":"SUM(CSVデータ1!F280,CSVデータ2!F280,CSVデータ3!F280,CSVデータ4!F280)","v":0},{"$f":"SUM(CSVデータ1!G280,CSVデータ2!G280,CSVデータ3!G280,CSVデータ4!G280)","v":0},{"$f":"SUM(CSVデータ1!H280,CSVデータ2!H280,CSVデータ3!H280,CSVデータ4!H280)","v":0},{"$f":"SUM(CSVデータ1!I280,CSVデータ2!I280,CSVデータ3!I280,CSVデータ4!I280)","v":0},{"$f":"SUM(CSVデータ1!J280,CSVデータ2!J280,CSVデータ3!J280,CSVデータ4!J280)","v":0},{"$f":"SUM(CSVデータ1!K280,CSVデータ2!K280,CSVデータ3!K280,CSVデータ4!K280)","v":0},{"$f":"SUM(CSVデータ1!L280,CSVデータ2!L280,CSVデータ3!L280,CSVデータ4!L280)","v":0},{"$f":"SUM(CSVデータ1!M280,CSVデータ2!M280,CSVデータ3!M280,CSVデータ4!M280)","v":0},{"$f":"SUM(CSVデータ1!N280,CSVデータ2!N280,CSVデータ3!N280,CSVデータ4!N280)","v":0},{"$f":"SUM(CSVデータ1!O280,CSVデータ2!O280,CSVデータ3!O280,CSVデータ4!O280)","v":0},{"$f":"SUM(CSVデータ1!P280,CSVデータ2!P280,CSVデータ3!P280,CSVデータ4!P280)","v":0},{"$f":"SUM(CSVデータ1!Q280,CSVデータ2!Q280,CSVデータ3!Q280,CSVデータ4!Q280)","v":0},{"$f":"SUM(CSVデータ1!R280,CSVデータ2!R280,CSVデータ3!R280,CSVデータ4!R280)","v":0},{"$f":"SUM(CSVデータ1!S280,CSVデータ2!S280,CSVデータ3!S280,CSVデータ4!S280)","v":0},{"$f":"SUM(CSVデータ1!T280,CSVデータ2!T280,CSVデータ3!T280,CSVデータ4!T280)","v":0},{"$f":"SUM(CSVデータ1!U280,CSVデータ2!U280,CSVデータ3!U280,CSVデータ4!U280)","v":0},{"$f":"SUM(CSVデータ1!V280,CSVデータ2!V280,CSVデータ3!V280,CSVデータ4!V280)","v":0},{"$f":"SUM(CSVデータ1!W280,CSVデータ2!W280,CSVデータ3!W280,CSVデータ4!W280)","v":0},{"$f":"SUM(CSVデータ1!X280,CSVデータ2!X280,CSVデータ3!X280,CSVデータ4!X280)","v":0},{"$f":"SUM(CSVデータ1!Y280,CSVデータ2!Y280,CSVデータ3!Y280,CSVデータ4!Y280)","v":0},{"$f":"SUM(CSVデータ1!Z280,CSVデータ2!Z280,CSVデータ3!Z280,CSVデータ4!Z280)","v":0},{"$f":"SUM(CSVデータ1!AA280,CSVデータ2!AA280,CSVデータ3!AA280,CSVデータ4!AA280)","v":0},{"$f":"SUM(CSVデータ1!AB280,CSVデータ2!AB280,CSVデータ3!AB280,CSVデータ4!AB280)","v":0},{"$f":"SUM(CSVデータ1!AC280,CSVデータ2!AC280,CSVデータ3!AC280,CSVデータ4!AC280)","v":0},{"$f":"SUM(CSVデータ1!AD280,CSVデータ2!AD280,CSVデータ3!AD280,CSVデータ4!AD280)","v":0},{"$f":"SUM(CSVデータ1!AE280,CSVデータ2!AE280,CSVデータ3!AE280,CSVデータ4!AE280)","v":0},{"$f":"SUM(CSVデータ1!AF280,CSVデータ2!AF280,CSVデータ3!AF280,CSVデータ4!AF280)","v":0},{"$f":"SUM(CSVデータ1!AG280,CSVデータ2!AG280,CSVデータ3!AG280,CSVデータ4!AG280)","v":0}]
[{"$f":"CSVデータ1!A281","v":"明細部"},{"$f":"CSVデータ1!B281","v":"保険者（地区）"},{"$f":"CSVデータ1!C281","v":118},{"$f":"CSVデータ1!D281","v":"男"},{"$f":"SUM(CSVデータ1!E281,CSVデータ2!E281,CSVデータ3!E281,CSVデータ4!E281)","v":0},{"$f":"SUM(CSVデータ1!F281,CSVデータ2!F281,CSVデータ3!F281,CSVデータ4!F281)","v":0},{"$f":"SUM(CSVデータ1!G281,CSVデータ2!G281,CSVデータ3!G281,CSVデータ4!G281)","v":0},{"$f":"SUM(CSVデータ1!H281,CSVデータ2!H281,CSVデータ3!H281,CSVデータ4!H281)","v":0},{"$f":"SUM(CSVデータ1!I281,CSVデータ2!I281,CSVデータ3!I281,CSVデータ4!I281)","v":0},{"$f":"SUM(CSVデータ1!J281,CSVデータ2!J281,CSVデータ3!J281,CSVデータ4!J281)","v":0},{"$f":"SUM(CSVデータ1!K281,CSVデータ2!K281,CSVデータ3!K281,CSVデータ4!K281)","v":0},{"$f":"SUM(CSVデータ1!L281,CSVデータ2!L281,CSVデータ3!L281,CSVデータ4!L281)","v":0},{"$f":"SUM(CSVデータ1!M281,CSVデータ2!M281,CSVデータ3!M281,CSVデータ4!M281)","v":0},{"$f":"SUM(CSVデータ1!N281,CSVデータ2!N281,CSVデータ3!N281,CSVデータ4!N281)","v":0},{"$f":"SUM(CSVデータ1!O281,CSVデータ2!O281,CSVデータ3!O281,CSVデータ4!O281)","v":0},{"$f":"SUM(CSVデータ1!P281,CSVデータ2!P281,CSVデータ3!P281,CSVデータ4!P281)","v":0},{"$f":"SUM(CSVデータ1!Q281,CSVデータ2!Q281,CSVデータ3!Q281,CSVデータ4!Q281)","v":0},{"$f":"SUM(CSVデータ1!R281,CSVデータ2!R281,CSVデータ3!R281,CSVデータ4!R281)","v":0},{"$f":"SUM(CSVデータ1!S281,CSVデータ2!S281,CSVデータ3!S281,CSVデータ4!S281)","v":0},{"$f":"SUM(CSVデータ1!T281,CSVデータ2!T281,CSVデータ3!T281,CSVデータ4!T281)","v":0},{"$f":"SUM(CSVデータ1!U281,CSVデータ2!U281,CSVデータ3!U281,CSVデータ4!U281)","v":0},{"$f":"SUM(CSVデータ1!V281,CSVデータ2!V281,CSVデータ3!V281,CSVデータ4!V281)","v":0},{"$f":"SUM(CSVデータ1!W281,CSVデータ2!W281,CSVデータ3!W281,CSVデータ4!W281)","v":0},{"$f":"SUM(CSVデータ1!X281,CSVデータ2!X281,CSVデータ3!X281,CSVデータ4!X281)","v":0},{"$f":"SUM(CSVデータ1!Y281,CSVデータ2!Y281,CSVデータ3!Y281,CSVデータ4!Y281)","v":0},{"$f":"SUM(CSVデータ1!Z281,CSVデータ2!Z281,CSVデータ3!Z281,CSVデータ4!Z281)","v":0},{"$f":"SUM(CSVデータ1!AA281,CSVデータ2!AA281,CSVデータ3!AA281,CSVデータ4!AA281)","v":0},{"$f":"SUM(CSVデータ1!AB281,CSVデータ2!AB281,CSVデータ3!AB281,CSVデータ4!AB281)","v":0},{"$f":"SUM(CSVデータ1!AC281,CSVデータ2!AC281,CSVデータ3!AC281,CSVデータ4!AC281)","v":0},{"$f":"SUM(CSVデータ1!AD281,CSVデータ2!AD281,CSVデータ3!AD281,CSVデータ4!AD281)","v":0},{"$f":"SUM(CSVデータ1!AE281,CSVデータ2!AE281,CSVデータ3!AE281,CSVデータ4!AE281)","v":0},{"$f":"SUM(CSVデータ1!AF281,CSVデータ2!AF281,CSVデータ3!AF281,CSVデータ4!AF281)","v":0},{"$f":"SUM(CSVデータ1!AG281,CSVデータ2!AG281,CSVデータ3!AG281,CSVデータ4!AG281)","v":0}]
[{"$f":"CSVデータ1!A282","v":"明細部"},{"$f":"CSVデータ1!B282","v":"保険者（地区）"},{"$f":"CSVデータ1!C282","v":119},{"$f":"CSVデータ1!D282","v":"男"},{"$f":"SUM(CSVデータ1!E282,CSVデータ2!E282,CSVデータ3!E282,CSVデータ4!E282)","v":0},{"$f":"SUM(CSVデータ1!F282,CSVデータ2!F282,CSVデータ3!F282,CSVデータ4!F282)","v":0},{"$f":"SUM(CSVデータ1!G282,CSVデータ2!G282,CSVデータ3!G282,CSVデータ4!G282)","v":0},{"$f":"SUM(CSVデータ1!H282,CSVデータ2!H282,CSVデータ3!H282,CSVデータ4!H282)","v":0},{"$f":"SUM(CSVデータ1!I282,CSVデータ2!I282,CSVデータ3!I282,CSVデータ4!I282)","v":0},{"$f":"SUM(CSVデータ1!J282,CSVデータ2!J282,CSVデータ3!J282,CSVデータ4!J282)","v":0},{"$f":"SUM(CSVデータ1!K282,CSVデータ2!K282,CSVデータ3!K282,CSVデータ4!K282)","v":0},{"$f":"SUM(CSVデータ1!L282,CSVデータ2!L282,CSVデータ3!L282,CSVデータ4!L282)","v":0},{"$f":"SUM(CSVデータ1!M282,CSVデータ2!M282,CSVデータ3!M282,CSVデータ4!M282)","v":0},{"$f":"SUM(CSVデータ1!N282,CSVデータ2!N282,CSVデータ3!N282,CSVデータ4!N282)","v":0},{"$f":"SUM(CSVデータ1!O282,CSVデータ2!O282,CSVデータ3!O282,CSVデータ4!O282)","v":0},{"$f":"SUM(CSVデータ1!P282,CSVデータ2!P282,CSVデータ3!P282,CSVデータ4!P282)","v":0},{"$f":"SUM(CSVデータ1!Q282,CSVデータ2!Q282,CSVデータ3!Q282,CSVデータ4!Q282)","v":0},{"$f":"SUM(CSVデータ1!R282,CSVデータ2!R282,CSVデータ3!R282,CSVデータ4!R282)","v":0},{"$f":"SUM(CSVデータ1!S282,CSVデータ2!S282,CSVデータ3!S282,CSVデータ4!S282)","v":0},{"$f":"SUM(CSVデータ1!T282,CSVデータ2!T282,CSVデータ3!T282,CSVデータ4!T282)","v":0},{"$f":"SUM(CSVデータ1!U282,CSVデータ2!U282,CSVデータ3!U282,CSVデータ4!U282)","v":0},{"$f":"SUM(CSVデータ1!V282,CSVデータ2!V282,CSVデータ3!V282,CSVデータ4!V282)","v":0},{"$f":"SUM(CSVデータ1!W282,CSVデータ2!W282,CSVデータ3!W282,CSVデータ4!W282)","v":0},{"$f":"SUM(CSVデータ1!X282,CSVデータ2!X282,CSVデータ3!X282,CSVデータ4!X282)","v":0},{"$f":"SUM(CSVデータ1!Y282,CSVデータ2!Y282,CSVデータ3!Y282,CSVデータ4!Y282)","v":0},{"$f":"SUM(CSVデータ1!Z282,CSVデータ2!Z282,CSVデータ3!Z282,CSVデータ4!Z282)","v":0},{"$f":"SUM(CSVデータ1!AA282,CSVデータ2!AA282,CSVデータ3!AA282,CSVデータ4!AA282)","v":0},{"$f":"SUM(CSVデータ1!AB282,CSVデータ2!AB282,CSVデータ3!AB282,CSVデータ4!AB282)","v":0},{"$f":"SUM(CSVデータ1!AC282,CSVデータ2!AC282,CSVデータ3!AC282,CSVデータ4!AC282)","v":0},{"$f":"SUM(CSVデータ1!AD282,CSVデータ2!AD282,CSVデータ3!AD282,CSVデータ4!AD282)","v":0},{"$f":"SUM(CSVデータ1!AE282,CSVデータ2!AE282,CSVデータ3!AE282,CSVデータ4!AE282)","v":0},{"$f":"SUM(CSVデータ1!AF282,CSVデータ2!AF282,CSVデータ3!AF282,CSVデータ4!AF282)","v":0},{"$f":"SUM(CSVデータ1!AG282,CSVデータ2!AG282,CSVデータ3!AG282,CSVデータ4!AG282)","v":0}]
[{"$f":"CSVデータ1!A283","v":"明細部"},{"$f":"CSVデータ1!B283","v":"保険者（地区）"},{"$f":"CSVデータ1!C283","v":120},{"$f":"CSVデータ1!D283","v":"男"},{"$f":"SUM(CSVデータ1!E283,CSVデータ2!E283,CSVデータ3!E283,CSVデータ4!E283)","v":0},{"$f":"SUM(CSVデータ1!F283,CSVデータ2!F283,CSVデータ3!F283,CSVデータ4!F283)","v":0},{"$f":"SUM(CSVデータ1!G283,CSVデータ2!G283,CSVデータ3!G283,CSVデータ4!G283)","v":0},{"$f":"SUM(CSVデータ1!H283,CSVデータ2!H283,CSVデータ3!H283,CSVデータ4!H283)","v":0},{"$f":"SUM(CSVデータ1!I283,CSVデータ2!I283,CSVデータ3!I283,CSVデータ4!I283)","v":0},{"$f":"SUM(CSVデータ1!J283,CSVデータ2!J283,CSVデータ3!J283,CSVデータ4!J283)","v":0},{"$f":"SUM(CSVデータ1!K283,CSVデータ2!K283,CSVデータ3!K283,CSVデータ4!K283)","v":0},{"$f":"SUM(CSVデータ1!L283,CSVデータ2!L283,CSVデータ3!L283,CSVデータ4!L283)","v":0},{"$f":"SUM(CSVデータ1!M283,CSVデータ2!M283,CSVデータ3!M283,CSVデータ4!M283)","v":0},{"$f":"SUM(CSVデータ1!N283,CSVデータ2!N283,CSVデータ3!N283,CSVデータ4!N283)","v":0},{"$f":"SUM(CSVデータ1!O283,CSVデータ2!O283,CSVデータ3!O283,CSVデータ4!O283)","v":0},{"$f":"SUM(CSVデータ1!P283,CSVデータ2!P283,CSVデータ3!P283,CSVデータ4!P283)","v":0},{"$f":"SUM(CSVデータ1!Q283,CSVデータ2!Q283,CSVデータ3!Q283,CSVデータ4!Q283)","v":0},{"$f":"SUM(CSVデータ1!R283,CSVデータ2!R283,CSVデータ3!R283,CSVデータ4!R283)","v":0},{"$f":"SUM(CSVデータ1!S283,CSVデータ2!S283,CSVデータ3!S283,CSVデータ4!S283)","v":0},{"$f":"SUM(CSVデータ1!T283,CSVデータ2!T283,CSVデータ3!T283,CSVデータ4!T283)","v":0},{"$f":"SUM(CSVデータ1!U283,CSVデータ2!U283,CSVデータ3!U283,CSVデータ4!U283)","v":0},{"$f":"SUM(CSVデータ1!V283,CSVデータ2!V283,CSVデータ3!V283,CSVデータ4!V283)","v":0},{"$f":"SUM(CSVデータ1!W283,CSVデータ2!W283,CSVデータ3!W283,CSVデータ4!W283)","v":0},{"$f":"SUM(CSVデータ1!X283,CSVデータ2!X283,CSVデータ3!X283,CSVデータ4!X283)","v":0},{"$f":"SUM(CSVデータ1!Y283,CSVデータ2!Y283,CSVデータ3!Y283,CSVデータ4!Y283)","v":0},{"$f":"SUM(CSVデータ1!Z283,CSVデータ2!Z283,CSVデータ3!Z283,CSVデータ4!Z283)","v":0},{"$f":"SUM(CSVデータ1!AA283,CSVデータ2!AA283,CSVデータ3!AA283,CSVデータ4!AA283)","v":0},{"$f":"SUM(CSVデータ1!AB283,CSVデータ2!AB283,CSVデータ3!AB283,CSVデータ4!AB283)","v":0},{"$f":"SUM(CSVデータ1!AC283,CSVデータ2!AC283,CSVデータ3!AC283,CSVデータ4!AC283)","v":0},{"$f":"SUM(CSVデータ1!AD283,CSVデータ2!AD283,CSVデータ3!AD283,CSVデータ4!AD283)","v":0},{"$f":"SUM(CSVデータ1!AE283,CSVデータ2!AE283,CSVデータ3!AE283,CSVデータ4!AE283)","v":0},{"$f":"SUM(CSVデータ1!AF283,CSVデータ2!AF283,CSVデータ3!AF283,CSVデータ4!AF283)","v":0},{"$f":"SUM(CSVデータ1!AG283,CSVデータ2!AG283,CSVデータ3!AG283,CSVデータ4!AG283)","v":0}]
[{"$f":"CSVデータ1!A284","v":"明細部"},{"$f":"CSVデータ1!B284","v":"保険者（地区）"},{"$f":"CSVデータ1!C284","v":65},{"$f":"CSVデータ1!D284","v":"女"},{"$f":"SUM(CSVデータ1!E284,CSVデータ2!E284,CSVデータ3!E284,CSVデータ4!E284)","v":0},{"$f":"SUM(CSVデータ1!F284,CSVデータ2!F284,CSVデータ3!F284,CSVデータ4!F284)","v":0},{"$f":"SUM(CSVデータ1!G284,CSVデータ2!G284,CSVデータ3!G284,CSVデータ4!G284)","v":0},{"$f":"SUM(CSVデータ1!H284,CSVデータ2!H284,CSVデータ3!H284,CSVデータ4!H284)","v":0},{"$f":"SUM(CSVデータ1!I284,CSVデータ2!I284,CSVデータ3!I284,CSVデータ4!I284)","v":0},{"$f":"SUM(CSVデータ1!J284,CSVデータ2!J284,CSVデータ3!J284,CSVデータ4!J284)","v":0},{"$f":"SUM(CSVデータ1!K284,CSVデータ2!K284,CSVデータ3!K284,CSVデータ4!K284)","v":0},{"$f":"SUM(CSVデータ1!L284,CSVデータ2!L284,CSVデータ3!L284,CSVデータ4!L284)","v":0},{"$f":"SUM(CSVデータ1!M284,CSVデータ2!M284,CSVデータ3!M284,CSVデータ4!M284)","v":0},{"$f":"SUM(CSVデータ1!N284,CSVデータ2!N284,CSVデータ3!N284,CSVデータ4!N284)","v":0},{"$f":"SUM(CSVデータ1!O284,CSVデータ2!O284,CSVデータ3!O284,CSVデータ4!O284)","v":0},{"$f":"SUM(CSVデータ1!P284,CSVデータ2!P284,CSVデータ3!P284,CSVデータ4!P284)","v":0},{"$f":"SUM(CSVデータ1!Q284,CSVデータ2!Q284,CSVデータ3!Q284,CSVデータ4!Q284)","v":0},{"$f":"SUM(CSVデータ1!R284,CSVデータ2!R284,CSVデータ3!R284,CSVデータ4!R284)","v":0},{"$f":"SUM(CSVデータ1!S284,CSVデータ2!S284,CSVデータ3!S284,CSVデータ4!S284)","v":0},{"$f":"SUM(CSVデータ1!T284,CSVデータ2!T284,CSVデータ3!T284,CSVデータ4!T284)","v":0},{"$f":"SUM(CSVデータ1!U284,CSVデータ2!U284,CSVデータ3!U284,CSVデータ4!U284)","v":0},{"$f":"SUM(CSVデータ1!V284,CSVデータ2!V284,CSVデータ3!V284,CSVデータ4!V284)","v":0},{"$f":"SUM(CSVデータ1!W284,CSVデータ2!W284,CSVデータ3!W284,CSVデータ4!W284)","v":0},{"$f":"SUM(CSVデータ1!X284,CSVデータ2!X284,CSVデータ3!X284,CSVデータ4!X284)","v":0},{"$f":"SUM(CSVデータ1!Y284,CSVデータ2!Y284,CSVデータ3!Y284,CSVデータ4!Y284)","v":0},{"$f":"SUM(CSVデータ1!Z284,CSVデータ2!Z284,CSVデータ3!Z284,CSVデータ4!Z284)","v":0},{"$f":"SUM(CSVデータ1!AA284,CSVデータ2!AA284,CSVデータ3!AA284,CSVデータ4!AA284)","v":0},{"$f":"SUM(CSVデータ1!AB284,CSVデータ2!AB284,CSVデータ3!AB284,CSVデータ4!AB284)","v":0},{"$f":"SUM(CSVデータ1!AC284,CSVデータ2!AC284,CSVデータ3!AC284,CSVデータ4!AC284)","v":0},{"$f":"SUM(CSVデータ1!AD284,CSVデータ2!AD284,CSVデータ3!AD284,CSVデータ4!AD284)","v":0},{"$f":"SUM(CSVデータ1!AE284,CSVデータ2!AE284,CSVデータ3!AE284,CSVデータ4!AE284)","v":0},{"$f":"SUM(CSVデータ1!AF284,CSVデータ2!AF284,CSVデータ3!AF284,CSVデータ4!AF284)","v":0},{"$f":"SUM(CSVデータ1!AG284,CSVデータ2!AG284,CSVデータ3!AG284,CSVデータ4!AG284)","v":0}]
[{"$f":"CSVデータ1!A285","v":"明細部"},{"$f":"CSVデータ1!B285","v":"保険者（地区）"},{"$f":"CSVデータ1!C285","v":66},{"$f":"CSVデータ1!D285","v":"女"},{"$f":"SUM(CSVデータ1!E285,CSVデータ2!E285,CSVデータ3!E285,CSVデータ4!E285)","v":0},{"$f":"SUM(CSVデータ1!F285,CSVデータ2!F285,CSVデータ3!F285,CSVデータ4!F285)","v":0},{"$f":"SUM(CSVデータ1!G285,CSVデータ2!G285,CSVデータ3!G285,CSVデータ4!G285)","v":0},{"$f":"SUM(CSVデータ1!H285,CSVデータ2!H285,CSVデータ3!H285,CSVデータ4!H285)","v":0},{"$f":"SUM(CSVデータ1!I285,CSVデータ2!I285,CSVデータ3!I285,CSVデータ4!I285)","v":0},{"$f":"SUM(CSVデータ1!J285,CSVデータ2!J285,CSVデータ3!J285,CSVデータ4!J285)","v":0},{"$f":"SUM(CSVデータ1!K285,CSVデータ2!K285,CSVデータ3!K285,CSVデータ4!K285)","v":0},{"$f":"SUM(CSVデータ1!L285,CSVデータ2!L285,CSVデータ3!L285,CSVデータ4!L285)","v":0},{"$f":"SUM(CSVデータ1!M285,CSVデータ2!M285,CSVデータ3!M285,CSVデータ4!M285)","v":0},{"$f":"SUM(CSVデータ1!N285,CSVデータ2!N285,CSVデータ3!N285,CSVデータ4!N285)","v":0},{"$f":"SUM(CSVデータ1!O285,CSVデータ2!O285,CSVデータ3!O285,CSVデータ4!O285)","v":0},{"$f":"SUM(CSVデータ1!P285,CSVデータ2!P285,CSVデータ3!P285,CSVデータ4!P285)","v":0},{"$f":"SUM(CSVデータ1!Q285,CSVデータ2!Q285,CSVデータ3!Q285,CSVデータ4!Q285)","v":0},{"$f":"SUM(CSVデータ1!R285,CSVデータ2!R285,CSVデータ3!R285,CSVデータ4!R285)","v":0},{"$f":"SUM(CSVデータ1!S285,CSVデータ2!S285,CSVデータ3!S285,CSVデータ4!S285)","v":0},{"$f":"SUM(CSVデータ1!T285,CSVデータ2!T285,CSVデータ3!T285,CSVデータ4!T285)","v":0},{"$f":"SUM(CSVデータ1!U285,CSVデータ2!U285,CSVデータ3!U285,CSVデータ4!U285)","v":0},{"$f":"SUM(CSVデータ1!V285,CSVデータ2!V285,CSVデータ3!V285,CSVデータ4!V285)","v":0},{"$f":"SUM(CSVデータ1!W285,CSVデータ2!W285,CSVデータ3!W285,CSVデータ4!W285)","v":0},{"$f":"SUM(CSVデータ1!X285,CSVデータ2!X285,CSVデータ3!X285,CSVデータ4!X285)","v":0},{"$f":"SUM(CSVデータ1!Y285,CSVデータ2!Y285,CSVデータ3!Y285,CSVデータ4!Y285)","v":0},{"$f":"SUM(CSVデータ1!Z285,CSVデータ2!Z285,CSVデータ3!Z285,CSVデータ4!Z285)","v":0},{"$f":"SUM(CSVデータ1!AA285,CSVデータ2!AA285,CSVデータ3!AA285,CSVデータ4!AA285)","v":0},{"$f":"SUM(CSVデータ1!AB285,CSVデータ2!AB285,CSVデータ3!AB285,CSVデータ4!AB285)","v":0},{"$f":"SUM(CSVデータ1!AC285,CSVデータ2!AC285,CSVデータ3!AC285,CSVデータ4!AC285)","v":0},{"$f":"SUM(CSVデータ1!AD285,CSVデータ2!AD285,CSVデータ3!AD285,CSVデータ4!AD285)","v":0},{"$f":"SUM(CSVデータ1!AE285,CSVデータ2!AE285,CSVデータ3!AE285,CSVデータ4!AE285)","v":0},{"$f":"SUM(CSVデータ1!AF285,CSVデータ2!AF285,CSVデータ3!AF285,CSVデータ4!AF285)","v":0},{"$f":"SUM(CSVデータ1!AG285,CSVデータ2!AG285,CSVデータ3!AG285,CSVデータ4!AG285)","v":0}]
[{"$f":"CSVデータ1!A286","v":"明細部"},{"$f":"CSVデータ1!B286","v":"保険者（地区）"},{"$f":"CSVデータ1!C286","v":67},{"$f":"CSVデータ1!D286","v":"女"},{"$f":"SUM(CSVデータ1!E286,CSVデータ2!E286,CSVデータ3!E286,CSVデータ4!E286)","v":0},{"$f":"SUM(CSVデータ1!F286,CSVデータ2!F286,CSVデータ3!F286,CSVデータ4!F286)","v":0},{"$f":"SUM(CSVデータ1!G286,CSVデータ2!G286,CSVデータ3!G286,CSVデータ4!G286)","v":0},{"$f":"SUM(CSVデータ1!H286,CSVデータ2!H286,CSVデータ3!H286,CSVデータ4!H286)","v":0},{"$f":"SUM(CSVデータ1!I286,CSVデータ2!I286,CSVデータ3!I286,CSVデータ4!I286)","v":0},{"$f":"SUM(CSVデータ1!J286,CSVデータ2!J286,CSVデータ3!J286,CSVデータ4!J286)","v":0},{"$f":"SUM(CSVデータ1!K286,CSVデータ2!K286,CSVデータ3!K286,CSVデータ4!K286)","v":0},{"$f":"SUM(CSVデータ1!L286,CSVデータ2!L286,CSVデータ3!L286,CSVデータ4!L286)","v":0},{"$f":"SUM(CSVデータ1!M286,CSVデータ2!M286,CSVデータ3!M286,CSVデータ4!M286)","v":0},{"$f":"SUM(CSVデータ1!N286,CSVデータ2!N286,CSVデータ3!N286,CSVデータ4!N286)","v":0},{"$f":"SUM(CSVデータ1!O286,CSVデータ2!O286,CSVデータ3!O286,CSVデータ4!O286)","v":0},{"$f":"SUM(CSVデータ1!P286,CSVデータ2!P286,CSVデータ3!P286,CSVデータ4!P286)","v":0},{"$f":"SUM(CSVデータ1!Q286,CSVデータ2!Q286,CSVデータ3!Q286,CSVデータ4!Q286)","v":0},{"$f":"SUM(CSVデータ1!R286,CSVデータ2!R286,CSVデータ3!R286,CSVデータ4!R286)","v":0},{"$f":"SUM(CSVデータ1!S286,CSVデータ2!S286,CSVデータ3!S286,CSVデータ4!S286)","v":0},{"$f":"SUM(CSVデータ1!T286,CSVデータ2!T286,CSVデータ3!T286,CSVデータ4!T286)","v":0},{"$f":"SUM(CSVデータ1!U286,CSVデータ2!U286,CSVデータ3!U286,CSVデータ4!U286)","v":0},{"$f":"SUM(CSVデータ1!V286,CSVデータ2!V286,CSVデータ3!V286,CSVデータ4!V286)","v":0},{"$f":"SUM(CSVデータ1!W286,CSVデータ2!W286,CSVデータ3!W286,CSVデータ4!W286)","v":0},{"$f":"SUM(CSVデータ1!X286,CSVデータ2!X286,CSVデータ3!X286,CSVデータ4!X286)","v":0},{"$f":"SUM(CSVデータ1!Y286,CSVデータ2!Y286,CSVデータ3!Y286,CSVデータ4!Y286)","v":0},{"$f":"SUM(CSVデータ1!Z286,CSVデータ2!Z286,CSVデータ3!Z286,CSVデータ4!Z286)","v":0},{"$f":"SUM(CSVデータ1!AA286,CSVデータ2!AA286,CSVデータ3!AA286,CSVデータ4!AA286)","v":0},{"$f":"SUM(CSVデータ1!AB286,CSVデータ2!AB286,CSVデータ3!AB286,CSVデータ4!AB286)","v":0},{"$f":"SUM(CSVデータ1!AC286,CSVデータ2!AC286,CSVデータ3!AC286,CSVデータ4!AC286)","v":0},{"$f":"SUM(CSVデータ1!AD286,CSVデータ2!AD286,CSVデータ3!AD286,CSVデータ4!AD286)","v":0},{"$f":"SUM(CSVデータ1!AE286,CSVデータ2!AE286,CSVデータ3!AE286,CSVデータ4!AE286)","v":0},{"$f":"SUM(CSVデータ1!AF286,CSVデータ2!AF286,CSVデータ3!AF286,CSVデータ4!AF286)","v":0},{"$f":"SUM(CSVデータ1!AG286,CSVデータ2!AG286,CSVデータ3!AG286,CSVデータ4!AG286)","v":0}]
[{"$f":"CSVデータ1!A287","v":"明細部"},{"$f":"CSVデータ1!B287","v":"保険者（地区）"},{"$f":"CSVデータ1!C287","v":68},{"$f":"CSVデータ1!D287","v":"女"},{"$f":"SUM(CSVデータ1!E287,CSVデータ2!E287,CSVデータ3!E287,CSVデータ4!E287)","v":0},{"$f":"SUM(CSVデータ1!F287,CSVデータ2!F287,CSVデータ3!F287,CSVデータ4!F287)","v":0},{"$f":"SUM(CSVデータ1!G287,CSVデータ2!G287,CSVデータ3!G287,CSVデータ4!G287)","v":0},{"$f":"SUM(CSVデータ1!H287,CSVデータ2!H287,CSVデータ3!H287,CSVデータ4!H287)","v":0},{"$f":"SUM(CSVデータ1!I287,CSVデータ2!I287,CSVデータ3!I287,CSVデータ4!I287)","v":0},{"$f":"SUM(CSVデータ1!J287,CSVデータ2!J287,CSVデータ3!J287,CSVデータ4!J287)","v":0},{"$f":"SUM(CSVデータ1!K287,CSVデータ2!K287,CSVデータ3!K287,CSVデータ4!K287)","v":0},{"$f":"SUM(CSVデータ1!L287,CSVデータ2!L287,CSVデータ3!L287,CSVデータ4!L287)","v":0},{"$f":"SUM(CSVデータ1!M287,CSVデータ2!M287,CSVデータ3!M287,CSVデータ4!M287)","v":0},{"$f":"SUM(CSVデータ1!N287,CSVデータ2!N287,CSVデータ3!N287,CSVデータ4!N287)","v":0},{"$f":"SUM(CSVデータ1!O287,CSVデータ2!O287,CSVデータ3!O287,CSVデータ4!O287)","v":0},{"$f":"SUM(CSVデータ1!P287,CSVデータ2!P287,CSVデータ3!P287,CSVデータ4!P287)","v":0},{"$f":"SUM(CSVデータ1!Q287,CSVデータ2!Q287,CSVデータ3!Q287,CSVデータ4!Q287)","v":0},{"$f":"SUM(CSVデータ1!R287,CSVデータ2!R287,CSVデータ3!R287,CSVデータ4!R287)","v":0},{"$f":"SUM(CSVデータ1!S287,CSVデータ2!S287,CSVデータ3!S287,CSVデータ4!S287)","v":0},{"$f":"SUM(CSVデータ1!T287,CSVデータ2!T287,CSVデータ3!T287,CSVデータ4!T287)","v":0},{"$f":"SUM(CSVデータ1!U287,CSVデータ2!U287,CSVデータ3!U287,CSVデータ4!U287)","v":0},{"$f":"SUM(CSVデータ1!V287,CSVデータ2!V287,CSVデータ3!V287,CSVデータ4!V287)","v":0},{"$f":"SUM(CSVデータ1!W287,CSVデータ2!W287,CSVデータ3!W287,CSVデータ4!W287)","v":0},{"$f":"SUM(CSVデータ1!X287,CSVデータ2!X287,CSVデータ3!X287,CSVデータ4!X287)","v":0},{"$f":"SUM(CSVデータ1!Y287,CSVデータ2!Y287,CSVデータ3!Y287,CSVデータ4!Y287)","v":0},{"$f":"SUM(CSVデータ1!Z287,CSVデータ2!Z287,CSVデータ3!Z287,CSVデータ4!Z287)","v":0},{"$f":"SUM(CSVデータ1!AA287,CSVデータ2!AA287,CSVデータ3!AA287,CSVデータ4!AA287)","v":0},{"$f":"SUM(CSVデータ1!AB287,CSVデータ2!AB287,CSVデータ3!AB287,CSVデータ4!AB287)","v":0},{"$f":"SUM(CSVデータ1!AC287,CSVデータ2!AC287,CSVデータ3!AC287,CSVデータ4!AC287)","v":0},{"$f":"SUM(CSVデータ1!AD287,CSVデータ2!AD287,CSVデータ3!AD287,CSVデータ4!AD287)","v":0},{"$f":"SUM(CSVデータ1!AE287,CSVデータ2!AE287,CSVデータ3!AE287,CSVデータ4!AE287)","v":0},{"$f":"SUM(CSVデータ1!AF287,CSVデータ2!AF287,CSVデータ3!AF287,CSVデータ4!AF287)","v":0},{"$f":"SUM(CSVデータ1!AG287,CSVデータ2!AG287,CSVデータ3!AG287,CSVデータ4!AG287)","v":0}]
[{"$f":"CSVデータ1!A288","v":"明細部"},{"$f":"CSVデータ1!B288","v":"保険者（地区）"},{"$f":"CSVデータ1!C288","v":69},{"$f":"CSVデータ1!D288","v":"女"},{"$f":"SUM(CSVデータ1!E288,CSVデータ2!E288,CSVデータ3!E288,CSVデータ4!E288)","v":0},{"$f":"SUM(CSVデータ1!F288,CSVデータ2!F288,CSVデータ3!F288,CSVデータ4!F288)","v":0},{"$f":"SUM(CSVデータ1!G288,CSVデータ2!G288,CSVデータ3!G288,CSVデータ4!G288)","v":0},{"$f":"SUM(CSVデータ1!H288,CSVデータ2!H288,CSVデータ3!H288,CSVデータ4!H288)","v":0},{"$f":"SUM(CSVデータ1!I288,CSVデータ2!I288,CSVデータ3!I288,CSVデータ4!I288)","v":0},{"$f":"SUM(CSVデータ1!J288,CSVデータ2!J288,CSVデータ3!J288,CSVデータ4!J288)","v":0},{"$f":"SUM(CSVデータ1!K288,CSVデータ2!K288,CSVデータ3!K288,CSVデータ4!K288)","v":0},{"$f":"SUM(CSVデータ1!L288,CSVデータ2!L288,CSVデータ3!L288,CSVデータ4!L288)","v":0},{"$f":"SUM(CSVデータ1!M288,CSVデータ2!M288,CSVデータ3!M288,CSVデータ4!M288)","v":0},{"$f":"SUM(CSVデータ1!N288,CSVデータ2!N288,CSVデータ3!N288,CSVデータ4!N288)","v":0},{"$f":"SUM(CSVデータ1!O288,CSVデータ2!O288,CSVデータ3!O288,CSVデータ4!O288)","v":0},{"$f":"SUM(CSVデータ1!P288,CSVデータ2!P288,CSVデータ3!P288,CSVデータ4!P288)","v":0},{"$f":"SUM(CSVデータ1!Q288,CSVデータ2!Q288,CSVデータ3!Q288,CSVデータ4!Q288)","v":0},{"$f":"SUM(CSVデータ1!R288,CSVデータ2!R288,CSVデータ3!R288,CSVデータ4!R288)","v":0},{"$f":"SUM(CSVデータ1!S288,CSVデータ2!S288,CSVデータ3!S288,CSVデータ4!S288)","v":0},{"$f":"SUM(CSVデータ1!T288,CSVデータ2!T288,CSVデータ3!T288,CSVデータ4!T288)","v":0},{"$f":"SUM(CSVデータ1!U288,CSVデータ2!U288,CSVデータ3!U288,CSVデータ4!U288)","v":0},{"$f":"SUM(CSVデータ1!V288,CSVデータ2!V288,CSVデータ3!V288,CSVデータ4!V288)","v":0},{"$f":"SUM(CSVデータ1!W288,CSVデータ2!W288,CSVデータ3!W288,CSVデータ4!W288)","v":0},{"$f":"SUM(CSVデータ1!X288,CSVデータ2!X288,CSVデータ3!X288,CSVデータ4!X288)","v":0},{"$f":"SUM(CSVデータ1!Y288,CSVデータ2!Y288,CSVデータ3!Y288,CSVデータ4!Y288)","v":0},{"$f":"SUM(CSVデータ1!Z288,CSVデータ2!Z288,CSVデータ3!Z288,CSVデータ4!Z288)","v":0},{"$f":"SUM(CSVデータ1!AA288,CSVデータ2!AA288,CSVデータ3!AA288,CSVデータ4!AA288)","v":0},{"$f":"SUM(CSVデータ1!AB288,CSVデータ2!AB288,CSVデータ3!AB288,CSVデータ4!AB288)","v":0},{"$f":"SUM(CSVデータ1!AC288,CSVデータ2!AC288,CSVデータ3!AC288,CSVデータ4!AC288)","v":0},{"$f":"SUM(CSVデータ1!AD288,CSVデータ2!AD288,CSVデータ3!AD288,CSVデータ4!AD288)","v":0},{"$f":"SUM(CSVデータ1!AE288,CSVデータ2!AE288,CSVデータ3!AE288,CSVデータ4!AE288)","v":0},{"$f":"SUM(CSVデータ1!AF288,CSVデータ2!AF288,CSVデータ3!AF288,CSVデータ4!AF288)","v":0},{"$f":"SUM(CSVデータ1!AG288,CSVデータ2!AG288,CSVデータ3!AG288,CSVデータ4!AG288)","v":0}]
[{"$f":"CSVデータ1!A289","v":"明細部"},{"$f":"CSVデータ1!B289","v":"保険者（地区）"},{"$f":"CSVデータ1!C289","v":70},{"$f":"CSVデータ1!D289","v":"女"},{"$f":"SUM(CSVデータ1!E289,CSVデータ2!E289,CSVデータ3!E289,CSVデータ4!E289)","v":0},{"$f":"SUM(CSVデータ1!F289,CSVデータ2!F289,CSVデータ3!F289,CSVデータ4!F289)","v":0},{"$f":"SUM(CSVデータ1!G289,CSVデータ2!G289,CSVデータ3!G289,CSVデータ4!G289)","v":0},{"$f":"SUM(CSVデータ1!H289,CSVデータ2!H289,CSVデータ3!H289,CSVデータ4!H289)","v":0},{"$f":"SUM(CSVデータ1!I289,CSVデータ2!I289,CSVデータ3!I289,CSVデータ4!I289)","v":0},{"$f":"SUM(CSVデータ1!J289,CSVデータ2!J289,CSVデータ3!J289,CSVデータ4!J289)","v":0},{"$f":"SUM(CSVデータ1!K289,CSVデータ2!K289,CSVデータ3!K289,CSVデータ4!K289)","v":0},{"$f":"SUM(CSVデータ1!L289,CSVデータ2!L289,CSVデータ3!L289,CSVデータ4!L289)","v":0},{"$f":"SUM(CSVデータ1!M289,CSVデータ2!M289,CSVデータ3!M289,CSVデータ4!M289)","v":0},{"$f":"SUM(CSVデータ1!N289,CSVデータ2!N289,CSVデータ3!N289,CSVデータ4!N289)","v":0},{"$f":"SUM(CSVデータ1!O289,CSVデータ2!O289,CSVデータ3!O289,CSVデータ4!O289)","v":0},{"$f":"SUM(CSVデータ1!P289,CSVデータ2!P289,CSVデータ3!P289,CSVデータ4!P289)","v":0},{"$f":"SUM(CSVデータ1!Q289,CSVデータ2!Q289,CSVデータ3!Q289,CSVデータ4!Q289)","v":0},{"$f":"SUM(CSVデータ1!R289,CSVデータ2!R289,CSVデータ3!R289,CSVデータ4!R289)","v":0},{"$f":"SUM(CSVデータ1!S289,CSVデータ2!S289,CSVデータ3!S289,CSVデータ4!S289)","v":0},{"$f":"SUM(CSVデータ1!T289,CSVデータ2!T289,CSVデータ3!T289,CSVデータ4!T289)","v":0},{"$f":"SUM(CSVデータ1!U289,CSVデータ2!U289,CSVデータ3!U289,CSVデータ4!U289)","v":0},{"$f":"SUM(CSVデータ1!V289,CSVデータ2!V289,CSVデータ3!V289,CSVデータ4!V289)","v":0},{"$f":"SUM(CSVデータ1!W289,CSVデータ2!W289,CSVデータ3!W289,CSVデータ4!W289)","v":0},{"$f":"SUM(CSVデータ1!X289,CSVデータ2!X289,CSVデータ3!X289,CSVデータ4!X289)","v":0},{"$f":"SUM(CSVデータ1!Y289,CSVデータ2!Y289,CSVデータ3!Y289,CSVデータ4!Y289)","v":0},{"$f":"SUM(CSVデータ1!Z289,CSVデータ2!Z289,CSVデータ3!Z289,CSVデータ4!Z289)","v":0},{"$f":"SUM(CSVデータ1!AA289,CSVデータ2!AA289,CSVデータ3!AA289,CSVデータ4!AA289)","v":0},{"$f":"SUM(CSVデータ1!AB289,CSVデータ2!AB289,CSVデータ3!AB289,CSVデータ4!AB289)","v":0},{"$f":"SUM(CSVデータ1!AC289,CSVデータ2!AC289,CSVデータ3!AC289,CSVデータ4!AC289)","v":0},{"$f":"SUM(CSVデータ1!AD289,CSVデータ2!AD289,CSVデータ3!AD289,CSVデータ4!AD289)","v":0},{"$f":"SUM(CSVデータ1!AE289,CSVデータ2!AE289,CSVデータ3!AE289,CSVデータ4!AE289)","v":0},{"$f":"SUM(CSVデータ1!AF289,CSVデータ2!AF289,CSVデータ3!AF289,CSVデータ4!AF289)","v":0},{"$f":"SUM(CSVデータ1!AG289,CSVデータ2!AG289,CSVデータ3!AG289,CSVデータ4!AG289)","v":0}]
[{"$f":"CSVデータ1!A290","v":"明細部"},{"$f":"CSVデータ1!B290","v":"保険者（地区）"},{"$f":"CSVデータ1!C290","v":71},{"$f":"CSVデータ1!D290","v":"女"},{"$f":"SUM(CSVデータ1!E290,CSVデータ2!E290,CSVデータ3!E290,CSVデータ4!E290)","v":0},{"$f":"SUM(CSVデータ1!F290,CSVデータ2!F290,CSVデータ3!F290,CSVデータ4!F290)","v":0},{"$f":"SUM(CSVデータ1!G290,CSVデータ2!G290,CSVデータ3!G290,CSVデータ4!G290)","v":0},{"$f":"SUM(CSVデータ1!H290,CSVデータ2!H290,CSVデータ3!H290,CSVデータ4!H290)","v":0},{"$f":"SUM(CSVデータ1!I290,CSVデータ2!I290,CSVデータ3!I290,CSVデータ4!I290)","v":0},{"$f":"SUM(CSVデータ1!J290,CSVデータ2!J290,CSVデータ3!J290,CSVデータ4!J290)","v":0},{"$f":"SUM(CSVデータ1!K290,CSVデータ2!K290,CSVデータ3!K290,CSVデータ4!K290)","v":0},{"$f":"SUM(CSVデータ1!L290,CSVデータ2!L290,CSVデータ3!L290,CSVデータ4!L290)","v":0},{"$f":"SUM(CSVデータ1!M290,CSVデータ2!M290,CSVデータ3!M290,CSVデータ4!M290)","v":0},{"$f":"SUM(CSVデータ1!N290,CSVデータ2!N290,CSVデータ3!N290,CSVデータ4!N290)","v":0},{"$f":"SUM(CSVデータ1!O290,CSVデータ2!O290,CSVデータ3!O290,CSVデータ4!O290)","v":0},{"$f":"SUM(CSVデータ1!P290,CSVデータ2!P290,CSVデータ3!P290,CSVデータ4!P290)","v":0},{"$f":"SUM(CSVデータ1!Q290,CSVデータ2!Q290,CSVデータ3!Q290,CSVデータ4!Q290)","v":0},{"$f":"SUM(CSVデータ1!R290,CSVデータ2!R290,CSVデータ3!R290,CSVデータ4!R290)","v":0},{"$f":"SUM(CSVデータ1!S290,CSVデータ2!S290,CSVデータ3!S290,CSVデータ4!S290)","v":0},{"$f":"SUM(CSVデータ1!T290,CSVデータ2!T290,CSVデータ3!T290,CSVデータ4!T290)","v":0},{"$f":"SUM(CSVデータ1!U290,CSVデータ2!U290,CSVデータ3!U290,CSVデータ4!U290)","v":0},{"$f":"SUM(CSVデータ1!V290,CSVデータ2!V290,CSVデータ3!V290,CSVデータ4!V290)","v":0},{"$f":"SUM(CSVデータ1!W290,CSVデータ2!W290,CSVデータ3!W290,CSVデータ4!W290)","v":0},{"$f":"SUM(CSVデータ1!X290,CSVデータ2!X290,CSVデータ3!X290,CSVデータ4!X290)","v":0},{"$f":"SUM(CSVデータ1!Y290,CSVデータ2!Y290,CSVデータ3!Y290,CSVデータ4!Y290)","v":0},{"$f":"SUM(CSVデータ1!Z290,CSVデータ2!Z290,CSVデータ3!Z290,CSVデータ4!Z290)","v":0},{"$f":"SUM(CSVデータ1!AA290,CSVデータ2!AA290,CSVデータ3!AA290,CSVデータ4!AA290)","v":0},{"$f":"SUM(CSVデータ1!AB290,CSVデータ2!AB290,CSVデータ3!AB290,CSVデータ4!AB290)","v":0},{"$f":"SUM(CSVデータ1!AC290,CSVデータ2!AC290,CSVデータ3!AC290,CSVデータ4!AC290)","v":0},{"$f":"SUM(CSVデータ1!AD290,CSVデータ2!AD290,CSVデータ3!AD290,CSVデータ4!AD290)","v":0},{"$f":"SUM(CSVデータ1!AE290,CSVデータ2!AE290,CSVデータ3!AE290,CSVデータ4!AE290)","v":0},{"$f":"SUM(CSVデータ1!AF290,CSVデータ2!AF290,CSVデータ3!AF290,CSVデータ4!AF290)","v":0},{"$f":"SUM(CSVデータ1!AG290,CSVデータ2!AG290,CSVデータ3!AG290,CSVデータ4!AG290)","v":0}]
[{"$f":"CSVデータ1!A291","v":"明細部"},{"$f":"CSVデータ1!B291","v":"保険者（地区）"},{"$f":"CSVデータ1!C291","v":72},{"$f":"CSVデータ1!D291","v":"女"},{"$f":"SUM(CSVデータ1!E291,CSVデータ2!E291,CSVデータ3!E291,CSVデータ4!E291)","v":0},{"$f":"SUM(CSVデータ1!F291,CSVデータ2!F291,CSVデータ3!F291,CSVデータ4!F291)","v":0},{"$f":"SUM(CSVデータ1!G291,CSVデータ2!G291,CSVデータ3!G291,CSVデータ4!G291)","v":0},{"$f":"SUM(CSVデータ1!H291,CSVデータ2!H291,CSVデータ3!H291,CSVデータ4!H291)","v":0},{"$f":"SUM(CSVデータ1!I291,CSVデータ2!I291,CSVデータ3!I291,CSVデータ4!I291)","v":0},{"$f":"SUM(CSVデータ1!J291,CSVデータ2!J291,CSVデータ3!J291,CSVデータ4!J291)","v":0},{"$f":"SUM(CSVデータ1!K291,CSVデータ2!K291,CSVデータ3!K291,CSVデータ4!K291)","v":0},{"$f":"SUM(CSVデータ1!L291,CSVデータ2!L291,CSVデータ3!L291,CSVデータ4!L291)","v":0},{"$f":"SUM(CSVデータ1!M291,CSVデータ2!M291,CSVデータ3!M291,CSVデータ4!M291)","v":0},{"$f":"SUM(CSVデータ1!N291,CSVデータ2!N291,CSVデータ3!N291,CSVデータ4!N291)","v":0},{"$f":"SUM(CSVデータ1!O291,CSVデータ2!O291,CSVデータ3!O291,CSVデータ4!O291)","v":0},{"$f":"SUM(CSVデータ1!P291,CSVデータ2!P291,CSVデータ3!P291,CSVデータ4!P291)","v":0},{"$f":"SUM(CSVデータ1!Q291,CSVデータ2!Q291,CSVデータ3!Q291,CSVデータ4!Q291)","v":0},{"$f":"SUM(CSVデータ1!R291,CSVデータ2!R291,CSVデータ3!R291,CSVデータ4!R291)","v":0},{"$f":"SUM(CSVデータ1!S291,CSVデータ2!S291,CSVデータ3!S291,CSVデータ4!S291)","v":0},{"$f":"SUM(CSVデータ1!T291,CSVデータ2!T291,CSVデータ3!T291,CSVデータ4!T291)","v":0},{"$f":"SUM(CSVデータ1!U291,CSVデータ2!U291,CSVデータ3!U291,CSVデータ4!U291)","v":0},{"$f":"SUM(CSVデータ1!V291,CSVデータ2!V291,CSVデータ3!V291,CSVデータ4!V291)","v":0},{"$f":"SUM(CSVデータ1!W291,CSVデータ2!W291,CSVデータ3!W291,CSVデータ4!W291)","v":0},{"$f":"SUM(CSVデータ1!X291,CSVデータ2!X291,CSVデータ3!X291,CSVデータ4!X291)","v":0},{"$f":"SUM(CSVデータ1!Y291,CSVデータ2!Y291,CSVデータ3!Y291,CSVデータ4!Y291)","v":0},{"$f":"SUM(CSVデータ1!Z291,CSVデータ2!Z291,CSVデータ3!Z291,CSVデータ4!Z291)","v":0},{"$f":"SUM(CSVデータ1!AA291,CSVデータ2!AA291,CSVデータ3!AA291,CSVデータ4!AA291)","v":0},{"$f":"SUM(CSVデータ1!AB291,CSVデータ2!AB291,CSVデータ3!AB291,CSVデータ4!AB291)","v":0},{"$f":"SUM(CSVデータ1!AC291,CSVデータ2!AC291,CSVデータ3!AC291,CSVデータ4!AC291)","v":0},{"$f":"SUM(CSVデータ1!AD291,CSVデータ2!AD291,CSVデータ3!AD291,CSVデータ4!AD291)","v":0},{"$f":"SUM(CSVデータ1!AE291,CSVデータ2!AE291,CSVデータ3!AE291,CSVデータ4!AE291)","v":0},{"$f":"SUM(CSVデータ1!AF291,CSVデータ2!AF291,CSVデータ3!AF291,CSVデータ4!AF291)","v":0},{"$f":"SUM(CSVデータ1!AG291,CSVデータ2!AG291,CSVデータ3!AG291,CSVデータ4!AG291)","v":0}]
[{"$f":"CSVデータ1!A292","v":"明細部"},{"$f":"CSVデータ1!B292","v":"保険者（地区）"},{"$f":"CSVデータ1!C292","v":73},{"$f":"CSVデータ1!D292","v":"女"},{"$f":"SUM(CSVデータ1!E292,CSVデータ2!E292,CSVデータ3!E292,CSVデータ4!E292)","v":0},{"$f":"SUM(CSVデータ1!F292,CSVデータ2!F292,CSVデータ3!F292,CSVデータ4!F292)","v":0},{"$f":"SUM(CSVデータ1!G292,CSVデータ2!G292,CSVデータ3!G292,CSVデータ4!G292)","v":0},{"$f":"SUM(CSVデータ1!H292,CSVデータ2!H292,CSVデータ3!H292,CSVデータ4!H292)","v":0},{"$f":"SUM(CSVデータ1!I292,CSVデータ2!I292,CSVデータ3!I292,CSVデータ4!I292)","v":0},{"$f":"SUM(CSVデータ1!J292,CSVデータ2!J292,CSVデータ3!J292,CSVデータ4!J292)","v":0},{"$f":"SUM(CSVデータ1!K292,CSVデータ2!K292,CSVデータ3!K292,CSVデータ4!K292)","v":0},{"$f":"SUM(CSVデータ1!L292,CSVデータ2!L292,CSVデータ3!L292,CSVデータ4!L292)","v":0},{"$f":"SUM(CSVデータ1!M292,CSVデータ2!M292,CSVデータ3!M292,CSVデータ4!M292)","v":0},{"$f":"SUM(CSVデータ1!N292,CSVデータ2!N292,CSVデータ3!N292,CSVデータ4!N292)","v":0},{"$f":"SUM(CSVデータ1!O292,CSVデータ2!O292,CSVデータ3!O292,CSVデータ4!O292)","v":0},{"$f":"SUM(CSVデータ1!P292,CSVデータ2!P292,CSVデータ3!P292,CSVデータ4!P292)","v":0},{"$f":"SUM(CSVデータ1!Q292,CSVデータ2!Q292,CSVデータ3!Q292,CSVデータ4!Q292)","v":0},{"$f":"SUM(CSVデータ1!R292,CSVデータ2!R292,CSVデータ3!R292,CSVデータ4!R292)","v":0},{"$f":"SUM(CSVデータ1!S292,CSVデータ2!S292,CSVデータ3!S292,CSVデータ4!S292)","v":0},{"$f":"SUM(CSVデータ1!T292,CSVデータ2!T292,CSVデータ3!T292,CSVデータ4!T292)","v":0},{"$f":"SUM(CSVデータ1!U292,CSVデータ2!U292,CSVデータ3!U292,CSVデータ4!U292)","v":0},{"$f":"SUM(CSVデータ1!V292,CSVデータ2!V292,CSVデータ3!V292,CSVデータ4!V292)","v":0},{"$f":"SUM(CSVデータ1!W292,CSVデータ2!W292,CSVデータ3!W292,CSVデータ4!W292)","v":0},{"$f":"SUM(CSVデータ1!X292,CSVデータ2!X292,CSVデータ3!X292,CSVデータ4!X292)","v":0},{"$f":"SUM(CSVデータ1!Y292,CSVデータ2!Y292,CSVデータ3!Y292,CSVデータ4!Y292)","v":0},{"$f":"SUM(CSVデータ1!Z292,CSVデータ2!Z292,CSVデータ3!Z292,CSVデータ4!Z292)","v":0},{"$f":"SUM(CSVデータ1!AA292,CSVデータ2!AA292,CSVデータ3!AA292,CSVデータ4!AA292)","v":0},{"$f":"SUM(CSVデータ1!AB292,CSVデータ2!AB292,CSVデータ3!AB292,CSVデータ4!AB292)","v":0},{"$f":"SUM(CSVデータ1!AC292,CSVデータ2!AC292,CSVデータ3!AC292,CSVデータ4!AC292)","v":0},{"$f":"SUM(CSVデータ1!AD292,CSVデータ2!AD292,CSVデータ3!AD292,CSVデータ4!AD292)","v":0},{"$f":"SUM(CSVデータ1!AE292,CSVデータ2!AE292,CSVデータ3!AE292,CSVデータ4!AE292)","v":0},{"$f":"SUM(CSVデータ1!AF292,CSVデータ2!AF292,CSVデータ3!AF292,CSVデータ4!AF292)","v":0},{"$f":"SUM(CSVデータ1!AG292,CSVデータ2!AG292,CSVデータ3!AG292,CSVデータ4!AG292)","v":0}]
[{"$f":"CSVデータ1!A293","v":"明細部"},{"$f":"CSVデータ1!B293","v":"保険者（地区）"},{"$f":"CSVデータ1!C293","v":74},{"$f":"CSVデータ1!D293","v":"女"},{"$f":"SUM(CSVデータ1!E293,CSVデータ2!E293,CSVデータ3!E293,CSVデータ4!E293)","v":0},{"$f":"SUM(CSVデータ1!F293,CSVデータ2!F293,CSVデータ3!F293,CSVデータ4!F293)","v":0},{"$f":"SUM(CSVデータ1!G293,CSVデータ2!G293,CSVデータ3!G293,CSVデータ4!G293)","v":0},{"$f":"SUM(CSVデータ1!H293,CSVデータ2!H293,CSVデータ3!H293,CSVデータ4!H293)","v":0},{"$f":"SUM(CSVデータ1!I293,CSVデータ2!I293,CSVデータ3!I293,CSVデータ4!I293)","v":0},{"$f":"SUM(CSVデータ1!J293,CSVデータ2!J293,CSVデータ3!J293,CSVデータ4!J293)","v":0},{"$f":"SUM(CSVデータ1!K293,CSVデータ2!K293,CSVデータ3!K293,CSVデータ4!K293)","v":0},{"$f":"SUM(CSVデータ1!L293,CSVデータ2!L293,CSVデータ3!L293,CSVデータ4!L293)","v":0},{"$f":"SUM(CSVデータ1!M293,CSVデータ2!M293,CSVデータ3!M293,CSVデータ4!M293)","v":0},{"$f":"SUM(CSVデータ1!N293,CSVデータ2!N293,CSVデータ3!N293,CSVデータ4!N293)","v":0},{"$f":"SUM(CSVデータ1!O293,CSVデータ2!O293,CSVデータ3!O293,CSVデータ4!O293)","v":0},{"$f":"SUM(CSVデータ1!P293,CSVデータ2!P293,CSVデータ3!P293,CSVデータ4!P293)","v":0},{"$f":"SUM(CSVデータ1!Q293,CSVデータ2!Q293,CSVデータ3!Q293,CSVデータ4!Q293)","v":0},{"$f":"SUM(CSVデータ1!R293,CSVデータ2!R293,CSVデータ3!R293,CSVデータ4!R293)","v":0},{"$f":"SUM(CSVデータ1!S293,CSVデータ2!S293,CSVデータ3!S293,CSVデータ4!S293)","v":0},{"$f":"SUM(CSVデータ1!T293,CSVデータ2!T293,CSVデータ3!T293,CSVデータ4!T293)","v":0},{"$f":"SUM(CSVデータ1!U293,CSVデータ2!U293,CSVデータ3!U293,CSVデータ4!U293)","v":0},{"$f":"SUM(CSVデータ1!V293,CSVデータ2!V293,CSVデータ3!V293,CSVデータ4!V293)","v":0},{"$f":"SUM(CSVデータ1!W293,CSVデータ2!W293,CSVデータ3!W293,CSVデータ4!W293)","v":0},{"$f":"SUM(CSVデータ1!X293,CSVデータ2!X293,CSVデータ3!X293,CSVデータ4!X293)","v":0},{"$f":"SUM(CSVデータ1!Y293,CSVデータ2!Y293,CSVデータ3!Y293,CSVデータ4!Y293)","v":0},{"$f":"SUM(CSVデータ1!Z293,CSVデータ2!Z293,CSVデータ3!Z293,CSVデータ4!Z293)","v":0},{"$f":"SUM(CSVデータ1!AA293,CSVデータ2!AA293,CSVデータ3!AA293,CSVデータ4!AA293)","v":0},{"$f":"SUM(CSVデータ1!AB293,CSVデータ2!AB293,CSVデータ3!AB293,CSVデータ4!AB293)","v":0},{"$f":"SUM(CSVデータ1!AC293,CSVデータ2!AC293,CSVデータ3!AC293,CSVデータ4!AC293)","v":0},{"$f":"SUM(CSVデータ1!AD293,CSVデータ2!AD293,CSVデータ3!AD293,CSVデータ4!AD293)","v":0},{"$f":"SUM(CSVデータ1!AE293,CSVデータ2!AE293,CSVデータ3!AE293,CSVデータ4!AE293)","v":0},{"$f":"SUM(CSVデータ1!AF293,CSVデータ2!AF293,CSVデータ3!AF293,CSVデータ4!AF293)","v":0},{"$f":"SUM(CSVデータ1!AG293,CSVデータ2!AG293,CSVデータ3!AG293,CSVデータ4!AG293)","v":0}]
[{"$f":"CSVデータ1!A294","v":"明細部"},{"$f":"CSVデータ1!B294","v":"保険者（地区）"},{"$f":"CSVデータ1!C294","v":75},{"$f":"CSVデータ1!D294","v":"女"},{"$f":"SUM(CSVデータ1!E294,CSVデータ2!E294,CSVデータ3!E294,CSVデータ4!E294)","v":0},{"$f":"SUM(CSVデータ1!F294,CSVデータ2!F294,CSVデータ3!F294,CSVデータ4!F294)","v":0},{"$f":"SUM(CSVデータ1!G294,CSVデータ2!G294,CSVデータ3!G294,CSVデータ4!G294)","v":0},{"$f":"SUM(CSVデータ1!H294,CSVデータ2!H294,CSVデータ3!H294,CSVデータ4!H294)","v":0},{"$f":"SUM(CSVデータ1!I294,CSVデータ2!I294,CSVデータ3!I294,CSVデータ4!I294)","v":0},{"$f":"SUM(CSVデータ1!J294,CSVデータ2!J294,CSVデータ3!J294,CSVデータ4!J294)","v":0},{"$f":"SUM(CSVデータ1!K294,CSVデータ2!K294,CSVデータ3!K294,CSVデータ4!K294)","v":0},{"$f":"SUM(CSVデータ1!L294,CSVデータ2!L294,CSVデータ3!L294,CSVデータ4!L294)","v":0},{"$f":"SUM(CSVデータ1!M294,CSVデータ2!M294,CSVデータ3!M294,CSVデータ4!M294)","v":0},{"$f":"SUM(CSVデータ1!N294,CSVデータ2!N294,CSVデータ3!N294,CSVデータ4!N294)","v":0},{"$f":"SUM(CSVデータ1!O294,CSVデータ2!O294,CSVデータ3!O294,CSVデータ4!O294)","v":0},{"$f":"SUM(CSVデータ1!P294,CSVデータ2!P294,CSVデータ3!P294,CSVデータ4!P294)","v":0},{"$f":"SUM(CSVデータ1!Q294,CSVデータ2!Q294,CSVデータ3!Q294,CSVデータ4!Q294)","v":0},{"$f":"SUM(CSVデータ1!R294,CSVデータ2!R294,CSVデータ3!R294,CSVデータ4!R294)","v":0},{"$f":"SUM(CSVデータ1!S294,CSVデータ2!S294,CSVデータ3!S294,CSVデータ4!S294)","v":0},{"$f":"SUM(CSVデータ1!T294,CSVデータ2!T294,CSVデータ3!T294,CSVデータ4!T294)","v":0},{"$f":"SUM(CSVデータ1!U294,CSVデータ2!U294,CSVデータ3!U294,CSVデータ4!U294)","v":0},{"$f":"SUM(CSVデータ1!V294,CSVデータ2!V294,CSVデータ3!V294,CSVデータ4!V294)","v":0},{"$f":"SUM(CSVデータ1!W294,CSVデータ2!W294,CSVデータ3!W294,CSVデータ4!W294)","v":0},{"$f":"SUM(CSVデータ1!X294,CSVデータ2!X294,CSVデータ3!X294,CSVデータ4!X294)","v":0},{"$f":"SUM(CSVデータ1!Y294,CSVデータ2!Y294,CSVデータ3!Y294,CSVデータ4!Y294)","v":0},{"$f":"SUM(CSVデータ1!Z294,CSVデータ2!Z294,CSVデータ3!Z294,CSVデータ4!Z294)","v":0},{"$f":"SUM(CSVデータ1!AA294,CSVデータ2!AA294,CSVデータ3!AA294,CSVデータ4!AA294)","v":0},{"$f":"SUM(CSVデータ1!AB294,CSVデータ2!AB294,CSVデータ3!AB294,CSVデータ4!AB294)","v":0},{"$f":"SUM(CSVデータ1!AC294,CSVデータ2!AC294,CSVデータ3!AC294,CSVデータ4!AC294)","v":0},{"$f":"SUM(CSVデータ1!AD294,CSVデータ2!AD294,CSVデータ3!AD294,CSVデータ4!AD294)","v":0},{"$f":"SUM(CSVデータ1!AE294,CSVデータ2!AE294,CSVデータ3!AE294,CSVデータ4!AE294)","v":0},{"$f":"SUM(CSVデータ1!AF294,CSVデータ2!AF294,CSVデータ3!AF294,CSVデータ4!AF294)","v":0},{"$f":"SUM(CSVデータ1!AG294,CSVデータ2!AG294,CSVデータ3!AG294,CSVデータ4!AG294)","v":0}]
[{"$f":"CSVデータ1!A295","v":"明細部"},{"$f":"CSVデータ1!B295","v":"保険者（地区）"},{"$f":"CSVデータ1!C295","v":76},{"$f":"CSVデータ1!D295","v":"女"},{"$f":"SUM(CSVデータ1!E295,CSVデータ2!E295,CSVデータ3!E295,CSVデータ4!E295)","v":0},{"$f":"SUM(CSVデータ1!F295,CSVデータ2!F295,CSVデータ3!F295,CSVデータ4!F295)","v":0},{"$f":"SUM(CSVデータ1!G295,CSVデータ2!G295,CSVデータ3!G295,CSVデータ4!G295)","v":0},{"$f":"SUM(CSVデータ1!H295,CSVデータ2!H295,CSVデータ3!H295,CSVデータ4!H295)","v":0},{"$f":"SUM(CSVデータ1!I295,CSVデータ2!I295,CSVデータ3!I295,CSVデータ4!I295)","v":0},{"$f":"SUM(CSVデータ1!J295,CSVデータ2!J295,CSVデータ3!J295,CSVデータ4!J295)","v":0},{"$f":"SUM(CSVデータ1!K295,CSVデータ2!K295,CSVデータ3!K295,CSVデータ4!K295)","v":0},{"$f":"SUM(CSVデータ1!L295,CSVデータ2!L295,CSVデータ3!L295,CSVデータ4!L295)","v":0},{"$f":"SUM(CSVデータ1!M295,CSVデータ2!M295,CSVデータ3!M295,CSVデータ4!M295)","v":0},{"$f":"SUM(CSVデータ1!N295,CSVデータ2!N295,CSVデータ3!N295,CSVデータ4!N295)","v":0},{"$f":"SUM(CSVデータ1!O295,CSVデータ2!O295,CSVデータ3!O295,CSVデータ4!O295)","v":0},{"$f":"SUM(CSVデータ1!P295,CSVデータ2!P295,CSVデータ3!P295,CSVデータ4!P295)","v":0},{"$f":"SUM(CSVデータ1!Q295,CSVデータ2!Q295,CSVデータ3!Q295,CSVデータ4!Q295)","v":0},{"$f":"SUM(CSVデータ1!R295,CSVデータ2!R295,CSVデータ3!R295,CSVデータ4!R295)","v":0},{"$f":"SUM(CSVデータ1!S295,CSVデータ2!S295,CSVデータ3!S295,CSVデータ4!S295)","v":0},{"$f":"SUM(CSVデータ1!T295,CSVデータ2!T295,CSVデータ3!T295,CSVデータ4!T295)","v":0},{"$f":"SUM(CSVデータ1!U295,CSVデータ2!U295,CSVデータ3!U295,CSVデータ4!U295)","v":0},{"$f":"SUM(CSVデータ1!V295,CSVデータ2!V295,CSVデータ3!V295,CSVデータ4!V295)","v":0},{"$f":"SUM(CSVデータ1!W295,CSVデータ2!W295,CSVデータ3!W295,CSVデータ4!W295)","v":0},{"$f":"SUM(CSVデータ1!X295,CSVデータ2!X295,CSVデータ3!X295,CSVデータ4!X295)","v":0},{"$f":"SUM(CSVデータ1!Y295,CSVデータ2!Y295,CSVデータ3!Y295,CSVデータ4!Y295)","v":0},{"$f":"SUM(CSVデータ1!Z295,CSVデータ2!Z295,CSVデータ3!Z295,CSVデータ4!Z295)","v":0},{"$f":"SUM(CSVデータ1!AA295,CSVデータ2!AA295,CSVデータ3!AA295,CSVデータ4!AA295)","v":0},{"$f":"SUM(CSVデータ1!AB295,CSVデータ2!AB295,CSVデータ3!AB295,CSVデータ4!AB295)","v":0},{"$f":"SUM(CSVデータ1!AC295,CSVデータ2!AC295,CSVデータ3!AC295,CSVデータ4!AC295)","v":0},{"$f":"SUM(CSVデータ1!AD295,CSVデータ2!AD295,CSVデータ3!AD295,CSVデータ4!AD295)","v":0},{"$f":"SUM(CSVデータ1!AE295,CSVデータ2!AE295,CSVデータ3!AE295,CSVデータ4!AE295)","v":0},{"$f":"SUM(CSVデータ1!AF295,CSVデータ2!AF295,CSVデータ3!AF295,CSVデータ4!AF295)","v":0},{"$f":"SUM(CSVデータ1!AG295,CSVデータ2!AG295,CSVデータ3!AG295,CSVデータ4!AG295)","v":0}]
[{"$f":"CSVデータ1!A296","v":"明細部"},{"$f":"CSVデータ1!B296","v":"保険者（地区）"},{"$f":"CSVデータ1!C296","v":77},{"$f":"CSVデータ1!D296","v":"女"},{"$f":"SUM(CSVデータ1!E296,CSVデータ2!E296,CSVデータ3!E296,CSVデータ4!E296)","v":0},{"$f":"SUM(CSVデータ1!F296,CSVデータ2!F296,CSVデータ3!F296,CSVデータ4!F296)","v":0},{"$f":"SUM(CSVデータ1!G296,CSVデータ2!G296,CSVデータ3!G296,CSVデータ4!G296)","v":0},{"$f":"SUM(CSVデータ1!H296,CSVデータ2!H296,CSVデータ3!H296,CSVデータ4!H296)","v":0},{"$f":"SUM(CSVデータ1!I296,CSVデータ2!I296,CSVデータ3!I296,CSVデータ4!I296)","v":0},{"$f":"SUM(CSVデータ1!J296,CSVデータ2!J296,CSVデータ3!J296,CSVデータ4!J296)","v":0},{"$f":"SUM(CSVデータ1!K296,CSVデータ2!K296,CSVデータ3!K296,CSVデータ4!K296)","v":0},{"$f":"SUM(CSVデータ1!L296,CSVデータ2!L296,CSVデータ3!L296,CSVデータ4!L296)","v":0},{"$f":"SUM(CSVデータ1!M296,CSVデータ2!M296,CSVデータ3!M296,CSVデータ4!M296)","v":0},{"$f":"SUM(CSVデータ1!N296,CSVデータ2!N296,CSVデータ3!N296,CSVデータ4!N296)","v":0},{"$f":"SUM(CSVデータ1!O296,CSVデータ2!O296,CSVデータ3!O296,CSVデータ4!O296)","v":0},{"$f":"SUM(CSVデータ1!P296,CSVデータ2!P296,CSVデータ3!P296,CSVデータ4!P296)","v":0},{"$f":"SUM(CSVデータ1!Q296,CSVデータ2!Q296,CSVデータ3!Q296,CSVデータ4!Q296)","v":0},{"$f":"SUM(CSVデータ1!R296,CSVデータ2!R296,CSVデータ3!R296,CSVデータ4!R296)","v":0},{"$f":"SUM(CSVデータ1!S296,CSVデータ2!S296,CSVデータ3!S296,CSVデータ4!S296)","v":0},{"$f":"SUM(CSVデータ1!T296,CSVデータ2!T296,CSVデータ3!T296,CSVデータ4!T296)","v":0},{"$f":"SUM(CSVデータ1!U296,CSVデータ2!U296,CSVデータ3!U296,CSVデータ4!U296)","v":0},{"$f":"SUM(CSVデータ1!V296,CSVデータ2!V296,CSVデータ3!V296,CSVデータ4!V296)","v":0},{"$f":"SUM(CSVデータ1!W296,CSVデータ2!W296,CSVデータ3!W296,CSVデータ4!W296)","v":0},{"$f":"SUM(CSVデータ1!X296,CSVデータ2!X296,CSVデータ3!X296,CSVデータ4!X296)","v":0},{"$f":"SUM(CSVデータ1!Y296,CSVデータ2!Y296,CSVデータ3!Y296,CSVデータ4!Y296)","v":0},{"$f":"SUM(CSVデータ1!Z296,CSVデータ2!Z296,CSVデータ3!Z296,CSVデータ4!Z296)","v":0},{"$f":"SUM(CSVデータ1!AA296,CSVデータ2!AA296,CSVデータ3!AA296,CSVデータ4!AA296)","v":0},{"$f":"SUM(CSVデータ1!AB296,CSVデータ2!AB296,CSVデータ3!AB296,CSVデータ4!AB296)","v":0},{"$f":"SUM(CSVデータ1!AC296,CSVデータ2!AC296,CSVデータ3!AC296,CSVデータ4!AC296)","v":0},{"$f":"SUM(CSVデータ1!AD296,CSVデータ2!AD296,CSVデータ3!AD296,CSVデータ4!AD296)","v":0},{"$f":"SUM(CSVデータ1!AE296,CSVデータ2!AE296,CSVデータ3!AE296,CSVデータ4!AE296)","v":0},{"$f":"SUM(CSVデータ1!AF296,CSVデータ2!AF296,CSVデータ3!AF296,CSVデータ4!AF296)","v":0},{"$f":"SUM(CSVデータ1!AG296,CSVデータ2!AG296,CSVデータ3!AG296,CSVデータ4!AG296)","v":0}]
[{"$f":"CSVデータ1!A297","v":"明細部"},{"$f":"CSVデータ1!B297","v":"保険者（地区）"},{"$f":"CSVデータ1!C297","v":78},{"$f":"CSVデータ1!D297","v":"女"},{"$f":"SUM(CSVデータ1!E297,CSVデータ2!E297,CSVデータ3!E297,CSVデータ4!E297)","v":0},{"$f":"SUM(CSVデータ1!F297,CSVデータ2!F297,CSVデータ3!F297,CSVデータ4!F297)","v":0},{"$f":"SUM(CSVデータ1!G297,CSVデータ2!G297,CSVデータ3!G297,CSVデータ4!G297)","v":0},{"$f":"SUM(CSVデータ1!H297,CSVデータ2!H297,CSVデータ3!H297,CSVデータ4!H297)","v":0},{"$f":"SUM(CSVデータ1!I297,CSVデータ2!I297,CSVデータ3!I297,CSVデータ4!I297)","v":0},{"$f":"SUM(CSVデータ1!J297,CSVデータ2!J297,CSVデータ3!J297,CSVデータ4!J297)","v":0},{"$f":"SUM(CSVデータ1!K297,CSVデータ2!K297,CSVデータ3!K297,CSVデータ4!K297)","v":0},{"$f":"SUM(CSVデータ1!L297,CSVデータ2!L297,CSVデータ3!L297,CSVデータ4!L297)","v":0},{"$f":"SUM(CSVデータ1!M297,CSVデータ2!M297,CSVデータ3!M297,CSVデータ4!M297)","v":0},{"$f":"SUM(CSVデータ1!N297,CSVデータ2!N297,CSVデータ3!N297,CSVデータ4!N297)","v":0},{"$f":"SUM(CSVデータ1!O297,CSVデータ2!O297,CSVデータ3!O297,CSVデータ4!O297)","v":0},{"$f":"SUM(CSVデータ1!P297,CSVデータ2!P297,CSVデータ3!P297,CSVデータ4!P297)","v":0},{"$f":"SUM(CSVデータ1!Q297,CSVデータ2!Q297,CSVデータ3!Q297,CSVデータ4!Q297)","v":0},{"$f":"SUM(CSVデータ1!R297,CSVデータ2!R297,CSVデータ3!R297,CSVデータ4!R297)","v":0},{"$f":"SUM(CSVデータ1!S297,CSVデータ2!S297,CSVデータ3!S297,CSVデータ4!S297)","v":0},{"$f":"SUM(CSVデータ1!T297,CSVデータ2!T297,CSVデータ3!T297,CSVデータ4!T297)","v":0},{"$f":"SUM(CSVデータ1!U297,CSVデータ2!U297,CSVデータ3!U297,CSVデータ4!U297)","v":0},{"$f":"SUM(CSVデータ1!V297,CSVデータ2!V297,CSVデータ3!V297,CSVデータ4!V297)","v":0},{"$f":"SUM(CSVデータ1!W297,CSVデータ2!W297,CSVデータ3!W297,CSVデータ4!W297)","v":0},{"$f":"SUM(CSVデータ1!X297,CSVデータ2!X297,CSVデータ3!X297,CSVデータ4!X297)","v":0},{"$f":"SUM(CSVデータ1!Y297,CSVデータ2!Y297,CSVデータ3!Y297,CSVデータ4!Y297)","v":0},{"$f":"SUM(CSVデータ1!Z297,CSVデータ2!Z297,CSVデータ3!Z297,CSVデータ4!Z297)","v":0},{"$f":"SUM(CSVデータ1!AA297,CSVデータ2!AA297,CSVデータ3!AA297,CSVデータ4!AA297)","v":0},{"$f":"SUM(CSVデータ1!AB297,CSVデータ2!AB297,CSVデータ3!AB297,CSVデータ4!AB297)","v":0},{"$f":"SUM(CSVデータ1!AC297,CSVデータ2!AC297,CSVデータ3!AC297,CSVデータ4!AC297)","v":0},{"$f":"SUM(CSVデータ1!AD297,CSVデータ2!AD297,CSVデータ3!AD297,CSVデータ4!AD297)","v":0},{"$f":"SUM(CSVデータ1!AE297,CSVデータ2!AE297,CSVデータ3!AE297,CSVデータ4!AE297)","v":0},{"$f":"SUM(CSVデータ1!AF297,CSVデータ2!AF297,CSVデータ3!AF297,CSVデータ4!AF297)","v":0},{"$f":"SUM(CSVデータ1!AG297,CSVデータ2!AG297,CSVデータ3!AG297,CSVデータ4!AG297)","v":0}]
[{"$f":"CSVデータ1!A298","v":"明細部"},{"$f":"CSVデータ1!B298","v":"保険者（地区）"},{"$f":"CSVデータ1!C298","v":79},{"$f":"CSVデータ1!D298","v":"女"},{"$f":"SUM(CSVデータ1!E298,CSVデータ2!E298,CSVデータ3!E298,CSVデータ4!E298)","v":0},{"$f":"SUM(CSVデータ1!F298,CSVデータ2!F298,CSVデータ3!F298,CSVデータ4!F298)","v":0},{"$f":"SUM(CSVデータ1!G298,CSVデータ2!G298,CSVデータ3!G298,CSVデータ4!G298)","v":0},{"$f":"SUM(CSVデータ1!H298,CSVデータ2!H298,CSVデータ3!H298,CSVデータ4!H298)","v":0},{"$f":"SUM(CSVデータ1!I298,CSVデータ2!I298,CSVデータ3!I298,CSVデータ4!I298)","v":0},{"$f":"SUM(CSVデータ1!J298,CSVデータ2!J298,CSVデータ3!J298,CSVデータ4!J298)","v":0},{"$f":"SUM(CSVデータ1!K298,CSVデータ2!K298,CSVデータ3!K298,CSVデータ4!K298)","v":0},{"$f":"SUM(CSVデータ1!L298,CSVデータ2!L298,CSVデータ3!L298,CSVデータ4!L298)","v":0},{"$f":"SUM(CSVデータ1!M298,CSVデータ2!M298,CSVデータ3!M298,CSVデータ4!M298)","v":0},{"$f":"SUM(CSVデータ1!N298,CSVデータ2!N298,CSVデータ3!N298,CSVデータ4!N298)","v":0},{"$f":"SUM(CSVデータ1!O298,CSVデータ2!O298,CSVデータ3!O298,CSVデータ4!O298)","v":0},{"$f":"SUM(CSVデータ1!P298,CSVデータ2!P298,CSVデータ3!P298,CSVデータ4!P298)","v":0},{"$f":"SUM(CSVデータ1!Q298,CSVデータ2!Q298,CSVデータ3!Q298,CSVデータ4!Q298)","v":0},{"$f":"SUM(CSVデータ1!R298,CSVデータ2!R298,CSVデータ3!R298,CSVデータ4!R298)","v":0},{"$f":"SUM(CSVデータ1!S298,CSVデータ2!S298,CSVデータ3!S298,CSVデータ4!S298)","v":0},{"$f":"SUM(CSVデータ1!T298,CSVデータ2!T298,CSVデータ3!T298,CSVデータ4!T298)","v":0},{"$f":"SUM(CSVデータ1!U298,CSVデータ2!U298,CSVデータ3!U298,CSVデータ4!U298)","v":0},{"$f":"SUM(CSVデータ1!V298,CSVデータ2!V298,CSVデータ3!V298,CSVデータ4!V298)","v":0},{"$f":"SUM(CSVデータ1!W298,CSVデータ2!W298,CSVデータ3!W298,CSVデータ4!W298)","v":0},{"$f":"SUM(CSVデータ1!X298,CSVデータ2!X298,CSVデータ3!X298,CSVデータ4!X298)","v":0},{"$f":"SUM(CSVデータ1!Y298,CSVデータ2!Y298,CSVデータ3!Y298,CSVデータ4!Y298)","v":0},{"$f":"SUM(CSVデータ1!Z298,CSVデータ2!Z298,CSVデータ3!Z298,CSVデータ4!Z298)","v":0},{"$f":"SUM(CSVデータ1!AA298,CSVデータ2!AA298,CSVデータ3!AA298,CSVデータ4!AA298)","v":0},{"$f":"SUM(CSVデータ1!AB298,CSVデータ2!AB298,CSVデータ3!AB298,CSVデータ4!AB298)","v":0},{"$f":"SUM(CSVデータ1!AC298,CSVデータ2!AC298,CSVデータ3!AC298,CSVデータ4!AC298)","v":0},{"$f":"SUM(CSVデータ1!AD298,CSVデータ2!AD298,CSVデータ3!AD298,CSVデータ4!AD298)","v":0},{"$f":"SUM(CSVデータ1!AE298,CSVデータ2!AE298,CSVデータ3!AE298,CSVデータ4!AE298)","v":0},{"$f":"SUM(CSVデータ1!AF298,CSVデータ2!AF298,CSVデータ3!AF298,CSVデータ4!AF298)","v":0},{"$f":"SUM(CSVデータ1!AG298,CSVデータ2!AG298,CSVデータ3!AG298,CSVデータ4!AG298)","v":0}]
[{"$f":"CSVデータ1!A299","v":"明細部"},{"$f":"CSVデータ1!B299","v":"保険者（地区）"},{"$f":"CSVデータ1!C299","v":80},{"$f":"CSVデータ1!D299","v":"女"},{"$f":"SUM(CSVデータ1!E299,CSVデータ2!E299,CSVデータ3!E299,CSVデータ4!E299)","v":0},{"$f":"SUM(CSVデータ1!F299,CSVデータ2!F299,CSVデータ3!F299,CSVデータ4!F299)","v":0},{"$f":"SUM(CSVデータ1!G299,CSVデータ2!G299,CSVデータ3!G299,CSVデータ4!G299)","v":0},{"$f":"SUM(CSVデータ1!H299,CSVデータ2!H299,CSVデータ3!H299,CSVデータ4!H299)","v":0},{"$f":"SUM(CSVデータ1!I299,CSVデータ2!I299,CSVデータ3!I299,CSVデータ4!I299)","v":0},{"$f":"SUM(CSVデータ1!J299,CSVデータ2!J299,CSVデータ3!J299,CSVデータ4!J299)","v":0},{"$f":"SUM(CSVデータ1!K299,CSVデータ2!K299,CSVデータ3!K299,CSVデータ4!K299)","v":0},{"$f":"SUM(CSVデータ1!L299,CSVデータ2!L299,CSVデータ3!L299,CSVデータ4!L299)","v":0},{"$f":"SUM(CSVデータ1!M299,CSVデータ2!M299,CSVデータ3!M299,CSVデータ4!M299)","v":0},{"$f":"SUM(CSVデータ1!N299,CSVデータ2!N299,CSVデータ3!N299,CSVデータ4!N299)","v":0},{"$f":"SUM(CSVデータ1!O299,CSVデータ2!O299,CSVデータ3!O299,CSVデータ4!O299)","v":0},{"$f":"SUM(CSVデータ1!P299,CSVデータ2!P299,CSVデータ3!P299,CSVデータ4!P299)","v":0},{"$f":"SUM(CSVデータ1!Q299,CSVデータ2!Q299,CSVデータ3!Q299,CSVデータ4!Q299)","v":0},{"$f":"SUM(CSVデータ1!R299,CSVデータ2!R299,CSVデータ3!R299,CSVデータ4!R299)","v":0},{"$f":"SUM(CSVデータ1!S299,CSVデータ2!S299,CSVデータ3!S299,CSVデータ4!S299)","v":0},{"$f":"SUM(CSVデータ1!T299,CSVデータ2!T299,CSVデータ3!T299,CSVデータ4!T299)","v":0},{"$f":"SUM(CSVデータ1!U299,CSVデータ2!U299,CSVデータ3!U299,CSVデータ4!U299)","v":0},{"$f":"SUM(CSVデータ1!V299,CSVデータ2!V299,CSVデータ3!V299,CSVデータ4!V299)","v":0},{"$f":"SUM(CSVデータ1!W299,CSVデータ2!W299,CSVデータ3!W299,CSVデータ4!W299)","v":0},{"$f":"SUM(CSVデータ1!X299,CSVデータ2!X299,CSVデータ3!X299,CSVデータ4!X299)","v":0},{"$f":"SUM(CSVデータ1!Y299,CSVデータ2!Y299,CSVデータ3!Y299,CSVデータ4!Y299)","v":0},{"$f":"SUM(CSVデータ1!Z299,CSVデータ2!Z299,CSVデータ3!Z299,CSVデータ4!Z299)","v":0},{"$f":"SUM(CSVデータ1!AA299,CSVデータ2!AA299,CSVデータ3!AA299,CSVデータ4!AA299)","v":0},{"$f":"SUM(CSVデータ1!AB299,CSVデータ2!AB299,CSVデータ3!AB299,CSVデータ4!AB299)","v":0},{"$f":"SUM(CSVデータ1!AC299,CSVデータ2!AC299,CSVデータ3!AC299,CSVデータ4!AC299)","v":0},{"$f":"SUM(CSVデータ1!AD299,CSVデータ2!AD299,CSVデータ3!AD299,CSVデータ4!AD299)","v":0},{"$f":"SUM(CSVデータ1!AE299,CSVデータ2!AE299,CSVデータ3!AE299,CSVデータ4!AE299)","v":0},{"$f":"SUM(CSVデータ1!AF299,CSVデータ2!AF299,CSVデータ3!AF299,CSVデータ4!AF299)","v":0},{"$f":"SUM(CSVデータ1!AG299,CSVデータ2!AG299,CSVデータ3!AG299,CSVデータ4!AG299)","v":0}]
[{"$f":"CSVデータ1!A300","v":"明細部"},{"$f":"CSVデータ1!B300","v":"保険者（地区）"},{"$f":"CSVデータ1!C300","v":81},{"$f":"CSVデータ1!D300","v":"女"},{"$f":"SUM(CSVデータ1!E300,CSVデータ2!E300,CSVデータ3!E300,CSVデータ4!E300)","v":0},{"$f":"SUM(CSVデータ1!F300,CSVデータ2!F300,CSVデータ3!F300,CSVデータ4!F300)","v":0},{"$f":"SUM(CSVデータ1!G300,CSVデータ2!G300,CSVデータ3!G300,CSVデータ4!G300)","v":0},{"$f":"SUM(CSVデータ1!H300,CSVデータ2!H300,CSVデータ3!H300,CSVデータ4!H300)","v":0},{"$f":"SUM(CSVデータ1!I300,CSVデータ2!I300,CSVデータ3!I300,CSVデータ4!I300)","v":0},{"$f":"SUM(CSVデータ1!J300,CSVデータ2!J300,CSVデータ3!J300,CSVデータ4!J300)","v":0},{"$f":"SUM(CSVデータ1!K300,CSVデータ2!K300,CSVデータ3!K300,CSVデータ4!K300)","v":0},{"$f":"SUM(CSVデータ1!L300,CSVデータ2!L300,CSVデータ3!L300,CSVデータ4!L300)","v":0},{"$f":"SUM(CSVデータ1!M300,CSVデータ2!M300,CSVデータ3!M300,CSVデータ4!M300)","v":0},{"$f":"SUM(CSVデータ1!N300,CSVデータ2!N300,CSVデータ3!N300,CSVデータ4!N300)","v":0},{"$f":"SUM(CSVデータ1!O300,CSVデータ2!O300,CSVデータ3!O300,CSVデータ4!O300)","v":0},{"$f":"SUM(CSVデータ1!P300,CSVデータ2!P300,CSVデータ3!P300,CSVデータ4!P300)","v":0},{"$f":"SUM(CSVデータ1!Q300,CSVデータ2!Q300,CSVデータ3!Q300,CSVデータ4!Q300)","v":0},{"$f":"SUM(CSVデータ1!R300,CSVデータ2!R300,CSVデータ3!R300,CSVデータ4!R300)","v":0},{"$f":"SUM(CSVデータ1!S300,CSVデータ2!S300,CSVデータ3!S300,CSVデータ4!S300)","v":0},{"$f":"SUM(CSVデータ1!T300,CSVデータ2!T300,CSVデータ3!T300,CSVデータ4!T300)","v":0},{"$f":"SUM(CSVデータ1!U300,CSVデータ2!U300,CSVデータ3!U300,CSVデータ4!U300)","v":0},{"$f":"SUM(CSVデータ1!V300,CSVデータ2!V300,CSVデータ3!V300,CSVデータ4!V300)","v":0},{"$f":"SUM(CSVデータ1!W300,CSVデータ2!W300,CSVデータ3!W300,CSVデータ4!W300)","v":0},{"$f":"SUM(CSVデータ1!X300,CSVデータ2!X300,CSVデータ3!X300,CSVデータ4!X300)","v":0},{"$f":"SUM(CSVデータ1!Y300,CSVデータ2!Y300,CSVデータ3!Y300,CSVデータ4!Y300)","v":0},{"$f":"SUM(CSVデータ1!Z300,CSVデータ2!Z300,CSVデータ3!Z300,CSVデータ4!Z300)","v":0},{"$f":"SUM(CSVデータ1!AA300,CSVデータ2!AA300,CSVデータ3!AA300,CSVデータ4!AA300)","v":0},{"$f":"SUM(CSVデータ1!AB300,CSVデータ2!AB300,CSVデータ3!AB300,CSVデータ4!AB300)","v":0},{"$f":"SUM(CSVデータ1!AC300,CSVデータ2!AC300,CSVデータ3!AC300,CSVデータ4!AC300)","v":0},{"$f":"SUM(CSVデータ1!AD300,CSVデータ2!AD300,CSVデータ3!AD300,CSVデータ4!AD300)","v":0},{"$f":"SUM(CSVデータ1!AE300,CSVデータ2!AE300,CSVデータ3!AE300,CSVデータ4!AE300)","v":0},{"$f":"SUM(CSVデータ1!AF300,CSVデータ2!AF300,CSVデータ3!AF300,CSVデータ4!AF300)","v":0},{"$f":"SUM(CSVデータ1!AG300,CSVデータ2!AG300,CSVデータ3!AG300,CSVデータ4!AG300)","v":0}]
[{"$f":"CSVデータ1!A301","v":"明細部"},{"$f":"CSVデータ1!B301","v":"保険者（地区）"},{"$f":"CSVデータ1!C301","v":82},{"$f":"CSVデータ1!D301","v":"女"},{"$f":"SUM(CSVデータ1!E301,CSVデータ2!E301,CSVデータ3!E301,CSVデータ4!E301)","v":0},{"$f":"SUM(CSVデータ1!F301,CSVデータ2!F301,CSVデータ3!F301,CSVデータ4!F301)","v":0},{"$f":"SUM(CSVデータ1!G301,CSVデータ2!G301,CSVデータ3!G301,CSVデータ4!G301)","v":0},{"$f":"SUM(CSVデータ1!H301,CSVデータ2!H301,CSVデータ3!H301,CSVデータ4!H301)","v":0},{"$f":"SUM(CSVデータ1!I301,CSVデータ2!I301,CSVデータ3!I301,CSVデータ4!I301)","v":0},{"$f":"SUM(CSVデータ1!J301,CSVデータ2!J301,CSVデータ3!J301,CSVデータ4!J301)","v":0},{"$f":"SUM(CSVデータ1!K301,CSVデータ2!K301,CSVデータ3!K301,CSVデータ4!K301)","v":0},{"$f":"SUM(CSVデータ1!L301,CSVデータ2!L301,CSVデータ3!L301,CSVデータ4!L301)","v":0},{"$f":"SUM(CSVデータ1!M301,CSVデータ2!M301,CSVデータ3!M301,CSVデータ4!M301)","v":0},{"$f":"SUM(CSVデータ1!N301,CSVデータ2!N301,CSVデータ3!N301,CSVデータ4!N301)","v":0},{"$f":"SUM(CSVデータ1!O301,CSVデータ2!O301,CSVデータ3!O301,CSVデータ4!O301)","v":0},{"$f":"SUM(CSVデータ1!P301,CSVデータ2!P301,CSVデータ3!P301,CSVデータ4!P301)","v":0},{"$f":"SUM(CSVデータ1!Q301,CSVデータ2!Q301,CSVデータ3!Q301,CSVデータ4!Q301)","v":0},{"$f":"SUM(CSVデータ1!R301,CSVデータ2!R301,CSVデータ3!R301,CSVデータ4!R301)","v":0},{"$f":"SUM(CSVデータ1!S301,CSVデータ2!S301,CSVデータ3!S301,CSVデータ4!S301)","v":0},{"$f":"SUM(CSVデータ1!T301,CSVデータ2!T301,CSVデータ3!T301,CSVデータ4!T301)","v":0},{"$f":"SUM(CSVデータ1!U301,CSVデータ2!U301,CSVデータ3!U301,CSVデータ4!U301)","v":0},{"$f":"SUM(CSVデータ1!V301,CSVデータ2!V301,CSVデータ3!V301,CSVデータ4!V301)","v":0},{"$f":"SUM(CSVデータ1!W301,CSVデータ2!W301,CSVデータ3!W301,CSVデータ4!W301)","v":0},{"$f":"SUM(CSVデータ1!X301,CSVデータ2!X301,CSVデータ3!X301,CSVデータ4!X301)","v":0},{"$f":"SUM(CSVデータ1!Y301,CSVデータ2!Y301,CSVデータ3!Y301,CSVデータ4!Y301)","v":0},{"$f":"SUM(CSVデータ1!Z301,CSVデータ2!Z301,CSVデータ3!Z301,CSVデータ4!Z301)","v":0},{"$f":"SUM(CSVデータ1!AA301,CSVデータ2!AA301,CSVデータ3!AA301,CSVデータ4!AA301)","v":0},{"$f":"SUM(CSVデータ1!AB301,CSVデータ2!AB301,CSVデータ3!AB301,CSVデータ4!AB301)","v":0},{"$f":"SUM(CSVデータ1!AC301,CSVデータ2!AC301,CSVデータ3!AC301,CSVデータ4!AC301)","v":0},{"$f":"SUM(CSVデータ1!AD301,CSVデータ2!AD301,CSVデータ3!AD301,CSVデータ4!AD301)","v":0},{"$f":"SUM(CSVデータ1!AE301,CSVデータ2!AE301,CSVデータ3!AE301,CSVデータ4!AE301)","v":0},{"$f":"SUM(CSVデータ1!AF301,CSVデータ2!AF301,CSVデータ3!AF301,CSVデータ4!AF301)","v":0},{"$f":"SUM(CSVデータ1!AG301,CSVデータ2!AG301,CSVデータ3!AG301,CSVデータ4!AG301)","v":0}]
[{"$f":"CSVデータ1!A302","v":"明細部"},{"$f":"CSVデータ1!B302","v":"保険者（地区）"},{"$f":"CSVデータ1!C302","v":83},{"$f":"CSVデータ1!D302","v":"女"},{"$f":"SUM(CSVデータ1!E302,CSVデータ2!E302,CSVデータ3!E302,CSVデータ4!E302)","v":0},{"$f":"SUM(CSVデータ1!F302,CSVデータ2!F302,CSVデータ3!F302,CSVデータ4!F302)","v":0},{"$f":"SUM(CSVデータ1!G302,CSVデータ2!G302,CSVデータ3!G302,CSVデータ4!G302)","v":0},{"$f":"SUM(CSVデータ1!H302,CSVデータ2!H302,CSVデータ3!H302,CSVデータ4!H302)","v":0},{"$f":"SUM(CSVデータ1!I302,CSVデータ2!I302,CSVデータ3!I302,CSVデータ4!I302)","v":0},{"$f":"SUM(CSVデータ1!J302,CSVデータ2!J302,CSVデータ3!J302,CSVデータ4!J302)","v":0},{"$f":"SUM(CSVデータ1!K302,CSVデータ2!K302,CSVデータ3!K302,CSVデータ4!K302)","v":0},{"$f":"SUM(CSVデータ1!L302,CSVデータ2!L302,CSVデータ3!L302,CSVデータ4!L302)","v":0},{"$f":"SUM(CSVデータ1!M302,CSVデータ2!M302,CSVデータ3!M302,CSVデータ4!M302)","v":0},{"$f":"SUM(CSVデータ1!N302,CSVデータ2!N302,CSVデータ3!N302,CSVデータ4!N302)","v":0},{"$f":"SUM(CSVデータ1!O302,CSVデータ2!O302,CSVデータ3!O302,CSVデータ4!O302)","v":0},{"$f":"SUM(CSVデータ1!P302,CSVデータ2!P302,CSVデータ3!P302,CSVデータ4!P302)","v":0},{"$f":"SUM(CSVデータ1!Q302,CSVデータ2!Q302,CSVデータ3!Q302,CSVデータ4!Q302)","v":0},{"$f":"SUM(CSVデータ1!R302,CSVデータ2!R302,CSVデータ3!R302,CSVデータ4!R302)","v":0},{"$f":"SUM(CSVデータ1!S302,CSVデータ2!S302,CSVデータ3!S302,CSVデータ4!S302)","v":0},{"$f":"SUM(CSVデータ1!T302,CSVデータ2!T302,CSVデータ3!T302,CSVデータ4!T302)","v":0},{"$f":"SUM(CSVデータ1!U302,CSVデータ2!U302,CSVデータ3!U302,CSVデータ4!U302)","v":0},{"$f":"SUM(CSVデータ1!V302,CSVデータ2!V302,CSVデータ3!V302,CSVデータ4!V302)","v":0},{"$f":"SUM(CSVデータ1!W302,CSVデータ2!W302,CSVデータ3!W302,CSVデータ4!W302)","v":0},{"$f":"SUM(CSVデータ1!X302,CSVデータ2!X302,CSVデータ3!X302,CSVデータ4!X302)","v":0},{"$f":"SUM(CSVデータ1!Y302,CSVデータ2!Y302,CSVデータ3!Y302,CSVデータ4!Y302)","v":0},{"$f":"SUM(CSVデータ1!Z302,CSVデータ2!Z302,CSVデータ3!Z302,CSVデータ4!Z302)","v":0},{"$f":"SUM(CSVデータ1!AA302,CSVデータ2!AA302,CSVデータ3!AA302,CSVデータ4!AA302)","v":0},{"$f":"SUM(CSVデータ1!AB302,CSVデータ2!AB302,CSVデータ3!AB302,CSVデータ4!AB302)","v":0},{"$f":"SUM(CSVデータ1!AC302,CSVデータ2!AC302,CSVデータ3!AC302,CSVデータ4!AC302)","v":0},{"$f":"SUM(CSVデータ1!AD302,CSVデータ2!AD302,CSVデータ3!AD302,CSVデータ4!AD302)","v":0},{"$f":"SUM(CSVデータ1!AE302,CSVデータ2!AE302,CSVデータ3!AE302,CSVデータ4!AE302)","v":0},{"$f":"SUM(CSVデータ1!AF302,CSVデータ2!AF302,CSVデータ3!AF302,CSVデータ4!AF302)","v":0},{"$f":"SUM(CSVデータ1!AG302,CSVデータ2!AG302,CSVデータ3!AG302,CSVデータ4!AG302)","v":0}]
[{"$f":"CSVデータ1!A303","v":"明細部"},{"$f":"CSVデータ1!B303","v":"保険者（地区）"},{"$f":"CSVデータ1!C303","v":84},{"$f":"CSVデータ1!D303","v":"女"},{"$f":"SUM(CSVデータ1!E303,CSVデータ2!E303,CSVデータ3!E303,CSVデータ4!E303)","v":0},{"$f":"SUM(CSVデータ1!F303,CSVデータ2!F303,CSVデータ3!F303,CSVデータ4!F303)","v":0},{"$f":"SUM(CSVデータ1!G303,CSVデータ2!G303,CSVデータ3!G303,CSVデータ4!G303)","v":0},{"$f":"SUM(CSVデータ1!H303,CSVデータ2!H303,CSVデータ3!H303,CSVデータ4!H303)","v":0},{"$f":"SUM(CSVデータ1!I303,CSVデータ2!I303,CSVデータ3!I303,CSVデータ4!I303)","v":0},{"$f":"SUM(CSVデータ1!J303,CSVデータ2!J303,CSVデータ3!J303,CSVデータ4!J303)","v":0},{"$f":"SUM(CSVデータ1!K303,CSVデータ2!K303,CSVデータ3!K303,CSVデータ4!K303)","v":0},{"$f":"SUM(CSVデータ1!L303,CSVデータ2!L303,CSVデータ3!L303,CSVデータ4!L303)","v":0},{"$f":"SUM(CSVデータ1!M303,CSVデータ2!M303,CSVデータ3!M303,CSVデータ4!M303)","v":0},{"$f":"SUM(CSVデータ1!N303,CSVデータ2!N303,CSVデータ3!N303,CSVデータ4!N303)","v":0},{"$f":"SUM(CSVデータ1!O303,CSVデータ2!O303,CSVデータ3!O303,CSVデータ4!O303)","v":0},{"$f":"SUM(CSVデータ1!P303,CSVデータ2!P303,CSVデータ3!P303,CSVデータ4!P303)","v":0},{"$f":"SUM(CSVデータ1!Q303,CSVデータ2!Q303,CSVデータ3!Q303,CSVデータ4!Q303)","v":0},{"$f":"SUM(CSVデータ1!R303,CSVデータ2!R303,CSVデータ3!R303,CSVデータ4!R303)","v":0},{"$f":"SUM(CSVデータ1!S303,CSVデータ2!S303,CSVデータ3!S303,CSVデータ4!S303)","v":0},{"$f":"SUM(CSVデータ1!T303,CSVデータ2!T303,CSVデータ3!T303,CSVデータ4!T303)","v":0},{"$f":"SUM(CSVデータ1!U303,CSVデータ2!U303,CSVデータ3!U303,CSVデータ4!U303)","v":0},{"$f":"SUM(CSVデータ1!V303,CSVデータ2!V303,CSVデータ3!V303,CSVデータ4!V303)","v":0},{"$f":"SUM(CSVデータ1!W303,CSVデータ2!W303,CSVデータ3!W303,CSVデータ4!W303)","v":0},{"$f":"SUM(CSVデータ1!X303,CSVデータ2!X303,CSVデータ3!X303,CSVデータ4!X303)","v":0},{"$f":"SUM(CSVデータ1!Y303,CSVデータ2!Y303,CSVデータ3!Y303,CSVデータ4!Y303)","v":0},{"$f":"SUM(CSVデータ1!Z303,CSVデータ2!Z303,CSVデータ3!Z303,CSVデータ4!Z303)","v":0},{"$f":"SUM(CSVデータ1!AA303,CSVデータ2!AA303,CSVデータ3!AA303,CSVデータ4!AA303)","v":0},{"$f":"SUM(CSVデータ1!AB303,CSVデータ2!AB303,CSVデータ3!AB303,CSVデータ4!AB303)","v":0},{"$f":"SUM(CSVデータ1!AC303,CSVデータ2!AC303,CSVデータ3!AC303,CSVデータ4!AC303)","v":0},{"$f":"SUM(CSVデータ1!AD303,CSVデータ2!AD303,CSVデータ3!AD303,CSVデータ4!AD303)","v":0},{"$f":"SUM(CSVデータ1!AE303,CSVデータ2!AE303,CSVデータ3!AE303,CSVデータ4!AE303)","v":0},{"$f":"SUM(CSVデータ1!AF303,CSVデータ2!AF303,CSVデータ3!AF303,CSVデータ4!AF303)","v":0},{"$f":"SUM(CSVデータ1!AG303,CSVデータ2!AG303,CSVデータ3!AG303,CSVデータ4!AG303)","v":0}]
[{"$f":"CSVデータ1!A304","v":"明細部"},{"$f":"CSVデータ1!B304","v":"保険者（地区）"},{"$f":"CSVデータ1!C304","v":85},{"$f":"CSVデータ1!D304","v":"女"},{"$f":"SUM(CSVデータ1!E304,CSVデータ2!E304,CSVデータ3!E304,CSVデータ4!E304)","v":0},{"$f":"SUM(CSVデータ1!F304,CSVデータ2!F304,CSVデータ3!F304,CSVデータ4!F304)","v":0},{"$f":"SUM(CSVデータ1!G304,CSVデータ2!G304,CSVデータ3!G304,CSVデータ4!G304)","v":0},{"$f":"SUM(CSVデータ1!H304,CSVデータ2!H304,CSVデータ3!H304,CSVデータ4!H304)","v":0},{"$f":"SUM(CSVデータ1!I304,CSVデータ2!I304,CSVデータ3!I304,CSVデータ4!I304)","v":0},{"$f":"SUM(CSVデータ1!J304,CSVデータ2!J304,CSVデータ3!J304,CSVデータ4!J304)","v":0},{"$f":"SUM(CSVデータ1!K304,CSVデータ2!K304,CSVデータ3!K304,CSVデータ4!K304)","v":0},{"$f":"SUM(CSVデータ1!L304,CSVデータ2!L304,CSVデータ3!L304,CSVデータ4!L304)","v":0},{"$f":"SUM(CSVデータ1!M304,CSVデータ2!M304,CSVデータ3!M304,CSVデータ4!M304)","v":0},{"$f":"SUM(CSVデータ1!N304,CSVデータ2!N304,CSVデータ3!N304,CSVデータ4!N304)","v":0},{"$f":"SUM(CSVデータ1!O304,CSVデータ2!O304,CSVデータ3!O304,CSVデータ4!O304)","v":0},{"$f":"SUM(CSVデータ1!P304,CSVデータ2!P304,CSVデータ3!P304,CSVデータ4!P304)","v":0},{"$f":"SUM(CSVデータ1!Q304,CSVデータ2!Q304,CSVデータ3!Q304,CSVデータ4!Q304)","v":0},{"$f":"SUM(CSVデータ1!R304,CSVデータ2!R304,CSVデータ3!R304,CSVデータ4!R304)","v":0},{"$f":"SUM(CSVデータ1!S304,CSVデータ2!S304,CSVデータ3!S304,CSVデータ4!S304)","v":0},{"$f":"SUM(CSVデータ1!T304,CSVデータ2!T304,CSVデータ3!T304,CSVデータ4!T304)","v":0},{"$f":"SUM(CSVデータ1!U304,CSVデータ2!U304,CSVデータ3!U304,CSVデータ4!U304)","v":0},{"$f":"SUM(CSVデータ1!V304,CSVデータ2!V304,CSVデータ3!V304,CSVデータ4!V304)","v":0},{"$f":"SUM(CSVデータ1!W304,CSVデータ2!W304,CSVデータ3!W304,CSVデータ4!W304)","v":0},{"$f":"SUM(CSVデータ1!X304,CSVデータ2!X304,CSVデータ3!X304,CSVデータ4!X304)","v":0},{"$f":"SUM(CSVデータ1!Y304,CSVデータ2!Y304,CSVデータ3!Y304,CSVデータ4!Y304)","v":0},{"$f":"SUM(CSVデータ1!Z304,CSVデータ2!Z304,CSVデータ3!Z304,CSVデータ4!Z304)","v":0},{"$f":"SUM(CSVデータ1!AA304,CSVデータ2!AA304,CSVデータ3!AA304,CSVデータ4!AA304)","v":0},{"$f":"SUM(CSVデータ1!AB304,CSVデータ2!AB304,CSVデータ3!AB304,CSVデータ4!AB304)","v":0},{"$f":"SUM(CSVデータ1!AC304,CSVデータ2!AC304,CSVデータ3!AC304,CSVデータ4!AC304)","v":0},{"$f":"SUM(CSVデータ1!AD304,CSVデータ2!AD304,CSVデータ3!AD304,CSVデータ4!AD304)","v":0},{"$f":"SUM(CSVデータ1!AE304,CSVデータ2!AE304,CSVデータ3!AE304,CSVデータ4!AE304)","v":0},{"$f":"SUM(CSVデータ1!AF304,CSVデータ2!AF304,CSVデータ3!AF304,CSVデータ4!AF304)","v":0},{"$f":"SUM(CSVデータ1!AG304,CSVデータ2!AG304,CSVデータ3!AG304,CSVデータ4!AG304)","v":0}]
[{"$f":"CSVデータ1!A305","v":"明細部"},{"$f":"CSVデータ1!B305","v":"保険者（地区）"},{"$f":"CSVデータ1!C305","v":86},{"$f":"CSVデータ1!D305","v":"女"},{"$f":"SUM(CSVデータ1!E305,CSVデータ2!E305,CSVデータ3!E305,CSVデータ4!E305)","v":0},{"$f":"SUM(CSVデータ1!F305,CSVデータ2!F305,CSVデータ3!F305,CSVデータ4!F305)","v":0},{"$f":"SUM(CSVデータ1!G305,CSVデータ2!G305,CSVデータ3!G305,CSVデータ4!G305)","v":0},{"$f":"SUM(CSVデータ1!H305,CSVデータ2!H305,CSVデータ3!H305,CSVデータ4!H305)","v":0},{"$f":"SUM(CSVデータ1!I305,CSVデータ2!I305,CSVデータ3!I305,CSVデータ4!I305)","v":0},{"$f":"SUM(CSVデータ1!J305,CSVデータ2!J305,CSVデータ3!J305,CSVデータ4!J305)","v":0},{"$f":"SUM(CSVデータ1!K305,CSVデータ2!K305,CSVデータ3!K305,CSVデータ4!K305)","v":0},{"$f":"SUM(CSVデータ1!L305,CSVデータ2!L305,CSVデータ3!L305,CSVデータ4!L305)","v":0},{"$f":"SUM(CSVデータ1!M305,CSVデータ2!M305,CSVデータ3!M305,CSVデータ4!M305)","v":0},{"$f":"SUM(CSVデータ1!N305,CSVデータ2!N305,CSVデータ3!N305,CSVデータ4!N305)","v":0},{"$f":"SUM(CSVデータ1!O305,CSVデータ2!O305,CSVデータ3!O305,CSVデータ4!O305)","v":0},{"$f":"SUM(CSVデータ1!P305,CSVデータ2!P305,CSVデータ3!P305,CSVデータ4!P305)","v":0},{"$f":"SUM(CSVデータ1!Q305,CSVデータ2!Q305,CSVデータ3!Q305,CSVデータ4!Q305)","v":0},{"$f":"SUM(CSVデータ1!R305,CSVデータ2!R305,CSVデータ3!R305,CSVデータ4!R305)","v":0},{"$f":"SUM(CSVデータ1!S305,CSVデータ2!S305,CSVデータ3!S305,CSVデータ4!S305)","v":0},{"$f":"SUM(CSVデータ1!T305,CSVデータ2!T305,CSVデータ3!T305,CSVデータ4!T305)","v":0},{"$f":"SUM(CSVデータ1!U305,CSVデータ2!U305,CSVデータ3!U305,CSVデータ4!U305)","v":0},{"$f":"SUM(CSVデータ1!V305,CSVデータ2!V305,CSVデータ3!V305,CSVデータ4!V305)","v":0},{"$f":"SUM(CSVデータ1!W305,CSVデータ2!W305,CSVデータ3!W305,CSVデータ4!W305)","v":0},{"$f":"SUM(CSVデータ1!X305,CSVデータ2!X305,CSVデータ3!X305,CSVデータ4!X305)","v":0},{"$f":"SUM(CSVデータ1!Y305,CSVデータ2!Y305,CSVデータ3!Y305,CSVデータ4!Y305)","v":0},{"$f":"SUM(CSVデータ1!Z305,CSVデータ2!Z305,CSVデータ3!Z305,CSVデータ4!Z305)","v":0},{"$f":"SUM(CSVデータ1!AA305,CSVデータ2!AA305,CSVデータ3!AA305,CSVデータ4!AA305)","v":0},{"$f":"SUM(CSVデータ1!AB305,CSVデータ2!AB305,CSVデータ3!AB305,CSVデータ4!AB305)","v":0},{"$f":"SUM(CSVデータ1!AC305,CSVデータ2!AC305,CSVデータ3!AC305,CSVデータ4!AC305)","v":0},{"$f":"SUM(CSVデータ1!AD305,CSVデータ2!AD305,CSVデータ3!AD305,CSVデータ4!AD305)","v":0},{"$f":"SUM(CSVデータ1!AE305,CSVデータ2!AE305,CSVデータ3!AE305,CSVデータ4!AE305)","v":0},{"$f":"SUM(CSVデータ1!AF305,CSVデータ2!AF305,CSVデータ3!AF305,CSVデータ4!AF305)","v":0},{"$f":"SUM(CSVデータ1!AG305,CSVデータ2!AG305,CSVデータ3!AG305,CSVデータ4!AG305)","v":0}]
[{"$f":"CSVデータ1!A306","v":"明細部"},{"$f":"CSVデータ1!B306","v":"保険者（地区）"},{"$f":"CSVデータ1!C306","v":87},{"$f":"CSVデータ1!D306","v":"女"},{"$f":"SUM(CSVデータ1!E306,CSVデータ2!E306,CSVデータ3!E306,CSVデータ4!E306)","v":0},{"$f":"SUM(CSVデータ1!F306,CSVデータ2!F306,CSVデータ3!F306,CSVデータ4!F306)","v":0},{"$f":"SUM(CSVデータ1!G306,CSVデータ2!G306,CSVデータ3!G306,CSVデータ4!G306)","v":0},{"$f":"SUM(CSVデータ1!H306,CSVデータ2!H306,CSVデータ3!H306,CSVデータ4!H306)","v":0},{"$f":"SUM(CSVデータ1!I306,CSVデータ2!I306,CSVデータ3!I306,CSVデータ4!I306)","v":0},{"$f":"SUM(CSVデータ1!J306,CSVデータ2!J306,CSVデータ3!J306,CSVデータ4!J306)","v":0},{"$f":"SUM(CSVデータ1!K306,CSVデータ2!K306,CSVデータ3!K306,CSVデータ4!K306)","v":0},{"$f":"SUM(CSVデータ1!L306,CSVデータ2!L306,CSVデータ3!L306,CSVデータ4!L306)","v":0},{"$f":"SUM(CSVデータ1!M306,CSVデータ2!M306,CSVデータ3!M306,CSVデータ4!M306)","v":0},{"$f":"SUM(CSVデータ1!N306,CSVデータ2!N306,CSVデータ3!N306,CSVデータ4!N306)","v":0},{"$f":"SUM(CSVデータ1!O306,CSVデータ2!O306,CSVデータ3!O306,CSVデータ4!O306)","v":0},{"$f":"SUM(CSVデータ1!P306,CSVデータ2!P306,CSVデータ3!P306,CSVデータ4!P306)","v":0},{"$f":"SUM(CSVデータ1!Q306,CSVデータ2!Q306,CSVデータ3!Q306,CSVデータ4!Q306)","v":0},{"$f":"SUM(CSVデータ1!R306,CSVデータ2!R306,CSVデータ3!R306,CSVデータ4!R306)","v":0},{"$f":"SUM(CSVデータ1!S306,CSVデータ2!S306,CSVデータ3!S306,CSVデータ4!S306)","v":0},{"$f":"SUM(CSVデータ1!T306,CSVデータ2!T306,CSVデータ3!T306,CSVデータ4!T306)","v":0},{"$f":"SUM(CSVデータ1!U306,CSVデータ2!U306,CSVデータ3!U306,CSVデータ4!U306)","v":0},{"$f":"SUM(CSVデータ1!V306,CSVデータ2!V306,CSVデータ3!V306,CSVデータ4!V306)","v":0},{"$f":"SUM(CSVデータ1!W306,CSVデータ2!W306,CSVデータ3!W306,CSVデータ4!W306)","v":0},{"$f":"SUM(CSVデータ1!X306,CSVデータ2!X306,CSVデータ3!X306,CSVデータ4!X306)","v":0},{"$f":"SUM(CSVデータ1!Y306,CSVデータ2!Y306,CSVデータ3!Y306,CSVデータ4!Y306)","v":0},{"$f":"SUM(CSVデータ1!Z306,CSVデータ2!Z306,CSVデータ3!Z306,CSVデータ4!Z306)","v":0},{"$f":"SUM(CSVデータ1!AA306,CSVデータ2!AA306,CSVデータ3!AA306,CSVデータ4!AA306)","v":0},{"$f":"SUM(CSVデータ1!AB306,CSVデータ2!AB306,CSVデータ3!AB306,CSVデータ4!AB306)","v":0},{"$f":"SUM(CSVデータ1!AC306,CSVデータ2!AC306,CSVデータ3!AC306,CSVデータ4!AC306)","v":0},{"$f":"SUM(CSVデータ1!AD306,CSVデータ2!AD306,CSVデータ3!AD306,CSVデータ4!AD306)","v":0},{"$f":"SUM(CSVデータ1!AE306,CSVデータ2!AE306,CSVデータ3!AE306,CSVデータ4!AE306)","v":0},{"$f":"SUM(CSVデータ1!AF306,CSVデータ2!AF306,CSVデータ3!AF306,CSVデータ4!AF306)","v":0},{"$f":"SUM(CSVデータ1!AG306,CSVデータ2!AG306,CSVデータ3!AG306,CSVデータ4!AG306)","v":0}]
[{"$f":"CSVデータ1!A307","v":"明細部"},{"$f":"CSVデータ1!B307","v":"保険者（地区）"},{"$f":"CSVデータ1!C307","v":88},{"$f":"CSVデータ1!D307","v":"女"},{"$f":"SUM(CSVデータ1!E307,CSVデータ2!E307,CSVデータ3!E307,CSVデータ4!E307)","v":0},{"$f":"SUM(CSVデータ1!F307,CSVデータ2!F307,CSVデータ3!F307,CSVデータ4!F307)","v":0},{"$f":"SUM(CSVデータ1!G307,CSVデータ2!G307,CSVデータ3!G307,CSVデータ4!G307)","v":0},{"$f":"SUM(CSVデータ1!H307,CSVデータ2!H307,CSVデータ3!H307,CSVデータ4!H307)","v":0},{"$f":"SUM(CSVデータ1!I307,CSVデータ2!I307,CSVデータ3!I307,CSVデータ4!I307)","v":0},{"$f":"SUM(CSVデータ1!J307,CSVデータ2!J307,CSVデータ3!J307,CSVデータ4!J307)","v":0},{"$f":"SUM(CSVデータ1!K307,CSVデータ2!K307,CSVデータ3!K307,CSVデータ4!K307)","v":0},{"$f":"SUM(CSVデータ1!L307,CSVデータ2!L307,CSVデータ3!L307,CSVデータ4!L307)","v":0},{"$f":"SUM(CSVデータ1!M307,CSVデータ2!M307,CSVデータ3!M307,CSVデータ4!M307)","v":0},{"$f":"SUM(CSVデータ1!N307,CSVデータ2!N307,CSVデータ3!N307,CSVデータ4!N307)","v":0},{"$f":"SUM(CSVデータ1!O307,CSVデータ2!O307,CSVデータ3!O307,CSVデータ4!O307)","v":0},{"$f":"SUM(CSVデータ1!P307,CSVデータ2!P307,CSVデータ3!P307,CSVデータ4!P307)","v":0},{"$f":"SUM(CSVデータ1!Q307,CSVデータ2!Q307,CSVデータ3!Q307,CSVデータ4!Q307)","v":0},{"$f":"SUM(CSVデータ1!R307,CSVデータ2!R307,CSVデータ3!R307,CSVデータ4!R307)","v":0},{"$f":"SUM(CSVデータ1!S307,CSVデータ2!S307,CSVデータ3!S307,CSVデータ4!S307)","v":0},{"$f":"SUM(CSVデータ1!T307,CSVデータ2!T307,CSVデータ3!T307,CSVデータ4!T307)","v":0},{"$f":"SUM(CSVデータ1!U307,CSVデータ2!U307,CSVデータ3!U307,CSVデータ4!U307)","v":0},{"$f":"SUM(CSVデータ1!V307,CSVデータ2!V307,CSVデータ3!V307,CSVデータ4!V307)","v":0},{"$f":"SUM(CSVデータ1!W307,CSVデータ2!W307,CSVデータ3!W307,CSVデータ4!W307)","v":0},{"$f":"SUM(CSVデータ1!X307,CSVデータ2!X307,CSVデータ3!X307,CSVデータ4!X307)","v":0},{"$f":"SUM(CSVデータ1!Y307,CSVデータ2!Y307,CSVデータ3!Y307,CSVデータ4!Y307)","v":0},{"$f":"SUM(CSVデータ1!Z307,CSVデータ2!Z307,CSVデータ3!Z307,CSVデータ4!Z307)","v":0},{"$f":"SUM(CSVデータ1!AA307,CSVデータ2!AA307,CSVデータ3!AA307,CSVデータ4!AA307)","v":0},{"$f":"SUM(CSVデータ1!AB307,CSVデータ2!AB307,CSVデータ3!AB307,CSVデータ4!AB307)","v":0},{"$f":"SUM(CSVデータ1!AC307,CSVデータ2!AC307,CSVデータ3!AC307,CSVデータ4!AC307)","v":0},{"$f":"SUM(CSVデータ1!AD307,CSVデータ2!AD307,CSVデータ3!AD307,CSVデータ4!AD307)","v":0},{"$f":"SUM(CSVデータ1!AE307,CSVデータ2!AE307,CSVデータ3!AE307,CSVデータ4!AE307)","v":0},{"$f":"SUM(CSVデータ1!AF307,CSVデータ2!AF307,CSVデータ3!AF307,CSVデータ4!AF307)","v":0},{"$f":"SUM(CSVデータ1!AG307,CSVデータ2!AG307,CSVデータ3!AG307,CSVデータ4!AG307)","v":0}]
[{"$f":"CSVデータ1!A308","v":"明細部"},{"$f":"CSVデータ1!B308","v":"保険者（地区）"},{"$f":"CSVデータ1!C308","v":89},{"$f":"CSVデータ1!D308","v":"女"},{"$f":"SUM(CSVデータ1!E308,CSVデータ2!E308,CSVデータ3!E308,CSVデータ4!E308)","v":0},{"$f":"SUM(CSVデータ1!F308,CSVデータ2!F308,CSVデータ3!F308,CSVデータ4!F308)","v":0},{"$f":"SUM(CSVデータ1!G308,CSVデータ2!G308,CSVデータ3!G308,CSVデータ4!G308)","v":0},{"$f":"SUM(CSVデータ1!H308,CSVデータ2!H308,CSVデータ3!H308,CSVデータ4!H308)","v":0},{"$f":"SUM(CSVデータ1!I308,CSVデータ2!I308,CSVデータ3!I308,CSVデータ4!I308)","v":0},{"$f":"SUM(CSVデータ1!J308,CSVデータ2!J308,CSVデータ3!J308,CSVデータ4!J308)","v":0},{"$f":"SUM(CSVデータ1!K308,CSVデータ2!K308,CSVデータ3!K308,CSVデータ4!K308)","v":0},{"$f":"SUM(CSVデータ1!L308,CSVデータ2!L308,CSVデータ3!L308,CSVデータ4!L308)","v":0},{"$f":"SUM(CSVデータ1!M308,CSVデータ2!M308,CSVデータ3!M308,CSVデータ4!M308)","v":0},{"$f":"SUM(CSVデータ1!N308,CSVデータ2!N308,CSVデータ3!N308,CSVデータ4!N308)","v":0},{"$f":"SUM(CSVデータ1!O308,CSVデータ2!O308,CSVデータ3!O308,CSVデータ4!O308)","v":0},{"$f":"SUM(CSVデータ1!P308,CSVデータ2!P308,CSVデータ3!P308,CSVデータ4!P308)","v":0},{"$f":"SUM(CSVデータ1!Q308,CSVデータ2!Q308,CSVデータ3!Q308,CSVデータ4!Q308)","v":0},{"$f":"SUM(CSVデータ1!R308,CSVデータ2!R308,CSVデータ3!R308,CSVデータ4!R308)","v":0},{"$f":"SUM(CSVデータ1!S308,CSVデータ2!S308,CSVデータ3!S308,CSVデータ4!S308)","v":0},{"$f":"SUM(CSVデータ1!T308,CSVデータ2!T308,CSVデータ3!T308,CSVデータ4!T308)","v":0},{"$f":"SUM(CSVデータ1!U308,CSVデータ2!U308,CSVデータ3!U308,CSVデータ4!U308)","v":0},{"$f":"SUM(CSVデータ1!V308,CSVデータ2!V308,CSVデータ3!V308,CSVデータ4!V308)","v":0},{"$f":"SUM(CSVデータ1!W308,CSVデータ2!W308,CSVデータ3!W308,CSVデータ4!W308)","v":0},{"$f":"SUM(CSVデータ1!X308,CSVデータ2!X308,CSVデータ3!X308,CSVデータ4!X308)","v":0},{"$f":"SUM(CSVデータ1!Y308,CSVデータ2!Y308,CSVデータ3!Y308,CSVデータ4!Y308)","v":0},{"$f":"SUM(CSVデータ1!Z308,CSVデータ2!Z308,CSVデータ3!Z308,CSVデータ4!Z308)","v":0},{"$f":"SUM(CSVデータ1!AA308,CSVデータ2!AA308,CSVデータ3!AA308,CSVデータ4!AA308)","v":0},{"$f":"SUM(CSVデータ1!AB308,CSVデータ2!AB308,CSVデータ3!AB308,CSVデータ4!AB308)","v":0},{"$f":"SUM(CSVデータ1!AC308,CSVデータ2!AC308,CSVデータ3!AC308,CSVデータ4!AC308)","v":0},{"$f":"SUM(CSVデータ1!AD308,CSVデータ2!AD308,CSVデータ3!AD308,CSVデータ4!AD308)","v":0},{"$f":"SUM(CSVデータ1!AE308,CSVデータ2!AE308,CSVデータ3!AE308,CSVデータ4!AE308)","v":0},{"$f":"SUM(CSVデータ1!AF308,CSVデータ2!AF308,CSVデータ3!AF308,CSVデータ4!AF308)","v":0},{"$f":"SUM(CSVデータ1!AG308,CSVデータ2!AG308,CSVデータ3!AG308,CSVデータ4!AG308)","v":0}]
[{"$f":"CSVデータ1!A309","v":"明細部"},{"$f":"CSVデータ1!B309","v":"保険者（地区）"},{"$f":"CSVデータ1!C309","v":90},{"$f":"CSVデータ1!D309","v":"女"},{"$f":"SUM(CSVデータ1!E309,CSVデータ2!E309,CSVデータ3!E309,CSVデータ4!E309)","v":0},{"$f":"SUM(CSVデータ1!F309,CSVデータ2!F309,CSVデータ3!F309,CSVデータ4!F309)","v":0},{"$f":"SUM(CSVデータ1!G309,CSVデータ2!G309,CSVデータ3!G309,CSVデータ4!G309)","v":0},{"$f":"SUM(CSVデータ1!H309,CSVデータ2!H309,CSVデータ3!H309,CSVデータ4!H309)","v":0},{"$f":"SUM(CSVデータ1!I309,CSVデータ2!I309,CSVデータ3!I309,CSVデータ4!I309)","v":0},{"$f":"SUM(CSVデータ1!J309,CSVデータ2!J309,CSVデータ3!J309,CSVデータ4!J309)","v":0},{"$f":"SUM(CSVデータ1!K309,CSVデータ2!K309,CSVデータ3!K309,CSVデータ4!K309)","v":0},{"$f":"SUM(CSVデータ1!L309,CSVデータ2!L309,CSVデータ3!L309,CSVデータ4!L309)","v":0},{"$f":"SUM(CSVデータ1!M309,CSVデータ2!M309,CSVデータ3!M309,CSVデータ4!M309)","v":0},{"$f":"SUM(CSVデータ1!N309,CSVデータ2!N309,CSVデータ3!N309,CSVデータ4!N309)","v":0},{"$f":"SUM(CSVデータ1!O309,CSVデータ2!O309,CSVデータ3!O309,CSVデータ4!O309)","v":0},{"$f":"SUM(CSVデータ1!P309,CSVデータ2!P309,CSVデータ3!P309,CSVデータ4!P309)","v":0},{"$f":"SUM(CSVデータ1!Q309,CSVデータ2!Q309,CSVデータ3!Q309,CSVデータ4!Q309)","v":0},{"$f":"SUM(CSVデータ1!R309,CSVデータ2!R309,CSVデータ3!R309,CSVデータ4!R309)","v":0},{"$f":"SUM(CSVデータ1!S309,CSVデータ2!S309,CSVデータ3!S309,CSVデータ4!S309)","v":0},{"$f":"SUM(CSVデータ1!T309,CSVデータ2!T309,CSVデータ3!T309,CSVデータ4!T309)","v":0},{"$f":"SUM(CSVデータ1!U309,CSVデータ2!U309,CSVデータ3!U309,CSVデータ4!U309)","v":0},{"$f":"SUM(CSVデータ1!V309,CSVデータ2!V309,CSVデータ3!V309,CSVデータ4!V309)","v":0},{"$f":"SUM(CSVデータ1!W309,CSVデータ2!W309,CSVデータ3!W309,CSVデータ4!W309)","v":0},{"$f":"SUM(CSVデータ1!X309,CSVデータ2!X309,CSVデータ3!X309,CSVデータ4!X309)","v":0},{"$f":"SUM(CSVデータ1!Y309,CSVデータ2!Y309,CSVデータ3!Y309,CSVデータ4!Y309)","v":0},{"$f":"SUM(CSVデータ1!Z309,CSVデータ2!Z309,CSVデータ3!Z309,CSVデータ4!Z309)","v":0},{"$f":"SUM(CSVデータ1!AA309,CSVデータ2!AA309,CSVデータ3!AA309,CSVデータ4!AA309)","v":0},{"$f":"SUM(CSVデータ1!AB309,CSVデータ2!AB309,CSVデータ3!AB309,CSVデータ4!AB309)","v":0},{"$f":"SUM(CSVデータ1!AC309,CSVデータ2!AC309,CSVデータ3!AC309,CSVデータ4!AC309)","v":0},{"$f":"SUM(CSVデータ1!AD309,CSVデータ2!AD309,CSVデータ3!AD309,CSVデータ4!AD309)","v":0},{"$f":"SUM(CSVデータ1!AE309,CSVデータ2!AE309,CSVデータ3!AE309,CSVデータ4!AE309)","v":0},{"$f":"SUM(CSVデータ1!AF309,CSVデータ2!AF309,CSVデータ3!AF309,CSVデータ4!AF309)","v":0},{"$f":"SUM(CSVデータ1!AG309,CSVデータ2!AG309,CSVデータ3!AG309,CSVデータ4!AG309)","v":0}]
[{"$f":"CSVデータ1!A310","v":"明細部"},{"$f":"CSVデータ1!B310","v":"保険者（地区）"},{"$f":"CSVデータ1!C310","v":91},{"$f":"CSVデータ1!D310","v":"女"},{"$f":"SUM(CSVデータ1!E310,CSVデータ2!E310,CSVデータ3!E310,CSVデータ4!E310)","v":0},{"$f":"SUM(CSVデータ1!F310,CSVデータ2!F310,CSVデータ3!F310,CSVデータ4!F310)","v":0},{"$f":"SUM(CSVデータ1!G310,CSVデータ2!G310,CSVデータ3!G310,CSVデータ4!G310)","v":0},{"$f":"SUM(CSVデータ1!H310,CSVデータ2!H310,CSVデータ3!H310,CSVデータ4!H310)","v":0},{"$f":"SUM(CSVデータ1!I310,CSVデータ2!I310,CSVデータ3!I310,CSVデータ4!I310)","v":0},{"$f":"SUM(CSVデータ1!J310,CSVデータ2!J310,CSVデータ3!J310,CSVデータ4!J310)","v":0},{"$f":"SUM(CSVデータ1!K310,CSVデータ2!K310,CSVデータ3!K310,CSVデータ4!K310)","v":0},{"$f":"SUM(CSVデータ1!L310,CSVデータ2!L310,CSVデータ3!L310,CSVデータ4!L310)","v":0},{"$f":"SUM(CSVデータ1!M310,CSVデータ2!M310,CSVデータ3!M310,CSVデータ4!M310)","v":0},{"$f":"SUM(CSVデータ1!N310,CSVデータ2!N310,CSVデータ3!N310,CSVデータ4!N310)","v":0},{"$f":"SUM(CSVデータ1!O310,CSVデータ2!O310,CSVデータ3!O310,CSVデータ4!O310)","v":0},{"$f":"SUM(CSVデータ1!P310,CSVデータ2!P310,CSVデータ3!P310,CSVデータ4!P310)","v":0},{"$f":"SUM(CSVデータ1!Q310,CSVデータ2!Q310,CSVデータ3!Q310,CSVデータ4!Q310)","v":0},{"$f":"SUM(CSVデータ1!R310,CSVデータ2!R310,CSVデータ3!R310,CSVデータ4!R310)","v":0},{"$f":"SUM(CSVデータ1!S310,CSVデータ2!S310,CSVデータ3!S310,CSVデータ4!S310)","v":0},{"$f":"SUM(CSVデータ1!T310,CSVデータ2!T310,CSVデータ3!T310,CSVデータ4!T310)","v":0},{"$f":"SUM(CSVデータ1!U310,CSVデータ2!U310,CSVデータ3!U310,CSVデータ4!U310)","v":0},{"$f":"SUM(CSVデータ1!V310,CSVデータ2!V310,CSVデータ3!V310,CSVデータ4!V310)","v":0},{"$f":"SUM(CSVデータ1!W310,CSVデータ2!W310,CSVデータ3!W310,CSVデータ4!W310)","v":0},{"$f":"SUM(CSVデータ1!X310,CSVデータ2!X310,CSVデータ3!X310,CSVデータ4!X310)","v":0},{"$f":"SUM(CSVデータ1!Y310,CSVデータ2!Y310,CSVデータ3!Y310,CSVデータ4!Y310)","v":0},{"$f":"SUM(CSVデータ1!Z310,CSVデータ2!Z310,CSVデータ3!Z310,CSVデータ4!Z310)","v":0},{"$f":"SUM(CSVデータ1!AA310,CSVデータ2!AA310,CSVデータ3!AA310,CSVデータ4!AA310)","v":0},{"$f":"SUM(CSVデータ1!AB310,CSVデータ2!AB310,CSVデータ3!AB310,CSVデータ4!AB310)","v":0},{"$f":"SUM(CSVデータ1!AC310,CSVデータ2!AC310,CSVデータ3!AC310,CSVデータ4!AC310)","v":0},{"$f":"SUM(CSVデータ1!AD310,CSVデータ2!AD310,CSVデータ3!AD310,CSVデータ4!AD310)","v":0},{"$f":"SUM(CSVデータ1!AE310,CSVデータ2!AE310,CSVデータ3!AE310,CSVデータ4!AE310)","v":0},{"$f":"SUM(CSVデータ1!AF310,CSVデータ2!AF310,CSVデータ3!AF310,CSVデータ4!AF310)","v":0},{"$f":"SUM(CSVデータ1!AG310,CSVデータ2!AG310,CSVデータ3!AG310,CSVデータ4!AG310)","v":0}]
[{"$f":"CSVデータ1!A311","v":"明細部"},{"$f":"CSVデータ1!B311","v":"保険者（地区）"},{"$f":"CSVデータ1!C311","v":92},{"$f":"CSVデータ1!D311","v":"女"},{"$f":"SUM(CSVデータ1!E311,CSVデータ2!E311,CSVデータ3!E311,CSVデータ4!E311)","v":0},{"$f":"SUM(CSVデータ1!F311,CSVデータ2!F311,CSVデータ3!F311,CSVデータ4!F311)","v":0},{"$f":"SUM(CSVデータ1!G311,CSVデータ2!G311,CSVデータ3!G311,CSVデータ4!G311)","v":0},{"$f":"SUM(CSVデータ1!H311,CSVデータ2!H311,CSVデータ3!H311,CSVデータ4!H311)","v":0},{"$f":"SUM(CSVデータ1!I311,CSVデータ2!I311,CSVデータ3!I311,CSVデータ4!I311)","v":0},{"$f":"SUM(CSVデータ1!J311,CSVデータ2!J311,CSVデータ3!J311,CSVデータ4!J311)","v":0},{"$f":"SUM(CSVデータ1!K311,CSVデータ2!K311,CSVデータ3!K311,CSVデータ4!K311)","v":0},{"$f":"SUM(CSVデータ1!L311,CSVデータ2!L311,CSVデータ3!L311,CSVデータ4!L311)","v":0},{"$f":"SUM(CSVデータ1!M311,CSVデータ2!M311,CSVデータ3!M311,CSVデータ4!M311)","v":0},{"$f":"SUM(CSVデータ1!N311,CSVデータ2!N311,CSVデータ3!N311,CSVデータ4!N311)","v":0},{"$f":"SUM(CSVデータ1!O311,CSVデータ2!O311,CSVデータ3!O311,CSVデータ4!O311)","v":0},{"$f":"SUM(CSVデータ1!P311,CSVデータ2!P311,CSVデータ3!P311,CSVデータ4!P311)","v":0},{"$f":"SUM(CSVデータ1!Q311,CSVデータ2!Q311,CSVデータ3!Q311,CSVデータ4!Q311)","v":0},{"$f":"SUM(CSVデータ1!R311,CSVデータ2!R311,CSVデータ3!R311,CSVデータ4!R311)","v":0},{"$f":"SUM(CSVデータ1!S311,CSVデータ2!S311,CSVデータ3!S311,CSVデータ4!S311)","v":0},{"$f":"SUM(CSVデータ1!T311,CSVデータ2!T311,CSVデータ3!T311,CSVデータ4!T311)","v":0},{"$f":"SUM(CSVデータ1!U311,CSVデータ2!U311,CSVデータ3!U311,CSVデータ4!U311)","v":0},{"$f":"SUM(CSVデータ1!V311,CSVデータ2!V311,CSVデータ3!V311,CSVデータ4!V311)","v":0},{"$f":"SUM(CSVデータ1!W311,CSVデータ2!W311,CSVデータ3!W311,CSVデータ4!W311)","v":0},{"$f":"SUM(CSVデータ1!X311,CSVデータ2!X311,CSVデータ3!X311,CSVデータ4!X311)","v":0},{"$f":"SUM(CSVデータ1!Y311,CSVデータ2!Y311,CSVデータ3!Y311,CSVデータ4!Y311)","v":0},{"$f":"SUM(CSVデータ1!Z311,CSVデータ2!Z311,CSVデータ3!Z311,CSVデータ4!Z311)","v":0},{"$f":"SUM(CSVデータ1!AA311,CSVデータ2!AA311,CSVデータ3!AA311,CSVデータ4!AA311)","v":0},{"$f":"SUM(CSVデータ1!AB311,CSVデータ2!AB311,CSVデータ3!AB311,CSVデータ4!AB311)","v":0},{"$f":"SUM(CSVデータ1!AC311,CSVデータ2!AC311,CSVデータ3!AC311,CSVデータ4!AC311)","v":0},{"$f":"SUM(CSVデータ1!AD311,CSVデータ2!AD311,CSVデータ3!AD311,CSVデータ4!AD311)","v":0},{"$f":"SUM(CSVデータ1!AE311,CSVデータ2!AE311,CSVデータ3!AE311,CSVデータ4!AE311)","v":0},{"$f":"SUM(CSVデータ1!AF311,CSVデータ2!AF311,CSVデータ3!AF311,CSVデータ4!AF311)","v":0},{"$f":"SUM(CSVデータ1!AG311,CSVデータ2!AG311,CSVデータ3!AG311,CSVデータ4!AG311)","v":0}]
[{"$f":"CSVデータ1!A312","v":"明細部"},{"$f":"CSVデータ1!B312","v":"保険者（地区）"},{"$f":"CSVデータ1!C312","v":93},{"$f":"CSVデータ1!D312","v":"女"},{"$f":"SUM(CSVデータ1!E312,CSVデータ2!E312,CSVデータ3!E312,CSVデータ4!E312)","v":0},{"$f":"SUM(CSVデータ1!F312,CSVデータ2!F312,CSVデータ3!F312,CSVデータ4!F312)","v":0},{"$f":"SUM(CSVデータ1!G312,CSVデータ2!G312,CSVデータ3!G312,CSVデータ4!G312)","v":0},{"$f":"SUM(CSVデータ1!H312,CSVデータ2!H312,CSVデータ3!H312,CSVデータ4!H312)","v":0},{"$f":"SUM(CSVデータ1!I312,CSVデータ2!I312,CSVデータ3!I312,CSVデータ4!I312)","v":0},{"$f":"SUM(CSVデータ1!J312,CSVデータ2!J312,CSVデータ3!J312,CSVデータ4!J312)","v":0},{"$f":"SUM(CSVデータ1!K312,CSVデータ2!K312,CSVデータ3!K312,CSVデータ4!K312)","v":0},{"$f":"SUM(CSVデータ1!L312,CSVデータ2!L312,CSVデータ3!L312,CSVデータ4!L312)","v":0},{"$f":"SUM(CSVデータ1!M312,CSVデータ2!M312,CSVデータ3!M312,CSVデータ4!M312)","v":0},{"$f":"SUM(CSVデータ1!N312,CSVデータ2!N312,CSVデータ3!N312,CSVデータ4!N312)","v":0},{"$f":"SUM(CSVデータ1!O312,CSVデータ2!O312,CSVデータ3!O312,CSVデータ4!O312)","v":0},{"$f":"SUM(CSVデータ1!P312,CSVデータ2!P312,CSVデータ3!P312,CSVデータ4!P312)","v":0},{"$f":"SUM(CSVデータ1!Q312,CSVデータ2!Q312,CSVデータ3!Q312,CSVデータ4!Q312)","v":0},{"$f":"SUM(CSVデータ1!R312,CSVデータ2!R312,CSVデータ3!R312,CSVデータ4!R312)","v":0},{"$f":"SUM(CSVデータ1!S312,CSVデータ2!S312,CSVデータ3!S312,CSVデータ4!S312)","v":0},{"$f":"SUM(CSVデータ1!T312,CSVデータ2!T312,CSVデータ3!T312,CSVデータ4!T312)","v":0},{"$f":"SUM(CSVデータ1!U312,CSVデータ2!U312,CSVデータ3!U312,CSVデータ4!U312)","v":0},{"$f":"SUM(CSVデータ1!V312,CSVデータ2!V312,CSVデータ3!V312,CSVデータ4!V312)","v":0},{"$f":"SUM(CSVデータ1!W312,CSVデータ2!W312,CSVデータ3!W312,CSVデータ4!W312)","v":0},{"$f":"SUM(CSVデータ1!X312,CSVデータ2!X312,CSVデータ3!X312,CSVデータ4!X312)","v":0},{"$f":"SUM(CSVデータ1!Y312,CSVデータ2!Y312,CSVデータ3!Y312,CSVデータ4!Y312)","v":0},{"$f":"SUM(CSVデータ1!Z312,CSVデータ2!Z312,CSVデータ3!Z312,CSVデータ4!Z312)","v":0},{"$f":"SUM(CSVデータ1!AA312,CSVデータ2!AA312,CSVデータ3!AA312,CSVデータ4!AA312)","v":0},{"$f":"SUM(CSVデータ1!AB312,CSVデータ2!AB312,CSVデータ3!AB312,CSVデータ4!AB312)","v":0},{"$f":"SUM(CSVデータ1!AC312,CSVデータ2!AC312,CSVデータ3!AC312,CSVデータ4!AC312)","v":0},{"$f":"SUM(CSVデータ1!AD312,CSVデータ2!AD312,CSVデータ3!AD312,CSVデータ4!AD312)","v":0},{"$f":"SUM(CSVデータ1!AE312,CSVデータ2!AE312,CSVデータ3!AE312,CSVデータ4!AE312)","v":0},{"$f":"SUM(CSVデータ1!AF312,CSVデータ2!AF312,CSVデータ3!AF312,CSVデータ4!AF312)","v":0},{"$f":"SUM(CSVデータ1!AG312,CSVデータ2!AG312,CSVデータ3!AG312,CSVデータ4!AG312)","v":0}]
[{"$f":"CSVデータ1!A313","v":"明細部"},{"$f":"CSVデータ1!B313","v":"保険者（地区）"},{"$f":"CSVデータ1!C313","v":94},{"$f":"CSVデータ1!D313","v":"女"},{"$f":"SUM(CSVデータ1!E313,CSVデータ2!E313,CSVデータ3!E313,CSVデータ4!E313)","v":0},{"$f":"SUM(CSVデータ1!F313,CSVデータ2!F313,CSVデータ3!F313,CSVデータ4!F313)","v":0},{"$f":"SUM(CSVデータ1!G313,CSVデータ2!G313,CSVデータ3!G313,CSVデータ4!G313)","v":0},{"$f":"SUM(CSVデータ1!H313,CSVデータ2!H313,CSVデータ3!H313,CSVデータ4!H313)","v":0},{"$f":"SUM(CSVデータ1!I313,CSVデータ2!I313,CSVデータ3!I313,CSVデータ4!I313)","v":0},{"$f":"SUM(CSVデータ1!J313,CSVデータ2!J313,CSVデータ3!J313,CSVデータ4!J313)","v":0},{"$f":"SUM(CSVデータ1!K313,CSVデータ2!K313,CSVデータ3!K313,CSVデータ4!K313)","v":0},{"$f":"SUM(CSVデータ1!L313,CSVデータ2!L313,CSVデータ3!L313,CSVデータ4!L313)","v":0},{"$f":"SUM(CSVデータ1!M313,CSVデータ2!M313,CSVデータ3!M313,CSVデータ4!M313)","v":0},{"$f":"SUM(CSVデータ1!N313,CSVデータ2!N313,CSVデータ3!N313,CSVデータ4!N313)","v":0},{"$f":"SUM(CSVデータ1!O313,CSVデータ2!O313,CSVデータ3!O313,CSVデータ4!O313)","v":0},{"$f":"SUM(CSVデータ1!P313,CSVデータ2!P313,CSVデータ3!P313,CSVデータ4!P313)","v":0},{"$f":"SUM(CSVデータ1!Q313,CSVデータ2!Q313,CSVデータ3!Q313,CSVデータ4!Q313)","v":0},{"$f":"SUM(CSVデータ1!R313,CSVデータ2!R313,CSVデータ3!R313,CSVデータ4!R313)","v":0},{"$f":"SUM(CSVデータ1!S313,CSVデータ2!S313,CSVデータ3!S313,CSVデータ4!S313)","v":0},{"$f":"SUM(CSVデータ1!T313,CSVデータ2!T313,CSVデータ3!T313,CSVデータ4!T313)","v":0},{"$f":"SUM(CSVデータ1!U313,CSVデータ2!U313,CSVデータ3!U313,CSVデータ4!U313)","v":0},{"$f":"SUM(CSVデータ1!V313,CSVデータ2!V313,CSVデータ3!V313,CSVデータ4!V313)","v":0},{"$f":"SUM(CSVデータ1!W313,CSVデータ2!W313,CSVデータ3!W313,CSVデータ4!W313)","v":0},{"$f":"SUM(CSVデータ1!X313,CSVデータ2!X313,CSVデータ3!X313,CSVデータ4!X313)","v":0},{"$f":"SUM(CSVデータ1!Y313,CSVデータ2!Y313,CSVデータ3!Y313,CSVデータ4!Y313)","v":0},{"$f":"SUM(CSVデータ1!Z313,CSVデータ2!Z313,CSVデータ3!Z313,CSVデータ4!Z313)","v":0},{"$f":"SUM(CSVデータ1!AA313,CSVデータ2!AA313,CSVデータ3!AA313,CSVデータ4!AA313)","v":0},{"$f":"SUM(CSVデータ1!AB313,CSVデータ2!AB313,CSVデータ3!AB313,CSVデータ4!AB313)","v":0},{"$f":"SUM(CSVデータ1!AC313,CSVデータ2!AC313,CSVデータ3!AC313,CSVデータ4!AC313)","v":0},{"$f":"SUM(CSVデータ1!AD313,CSVデータ2!AD313,CSVデータ3!AD313,CSVデータ4!AD313)","v":0},{"$f":"SUM(CSVデータ1!AE313,CSVデータ2!AE313,CSVデータ3!AE313,CSVデータ4!AE313)","v":0},{"$f":"SUM(CSVデータ1!AF313,CSVデータ2!AF313,CSVデータ3!AF313,CSVデータ4!AF313)","v":0},{"$f":"SUM(CSVデータ1!AG313,CSVデータ2!AG313,CSVデータ3!AG313,CSVデータ4!AG313)","v":0}]
[{"$f":"CSVデータ1!A314","v":"明細部"},{"$f":"CSVデータ1!B314","v":"保険者（地区）"},{"$f":"CSVデータ1!C314","v":95},{"$f":"CSVデータ1!D314","v":"女"},{"$f":"SUM(CSVデータ1!E314,CSVデータ2!E314,CSVデータ3!E314,CSVデータ4!E314)","v":0},{"$f":"SUM(CSVデータ1!F314,CSVデータ2!F314,CSVデータ3!F314,CSVデータ4!F314)","v":0},{"$f":"SUM(CSVデータ1!G314,CSVデータ2!G314,CSVデータ3!G314,CSVデータ4!G314)","v":0},{"$f":"SUM(CSVデータ1!H314,CSVデータ2!H314,CSVデータ3!H314,CSVデータ4!H314)","v":0},{"$f":"SUM(CSVデータ1!I314,CSVデータ2!I314,CSVデータ3!I314,CSVデータ4!I314)","v":0},{"$f":"SUM(CSVデータ1!J314,CSVデータ2!J314,CSVデータ3!J314,CSVデータ4!J314)","v":0},{"$f":"SUM(CSVデータ1!K314,CSVデータ2!K314,CSVデータ3!K314,CSVデータ4!K314)","v":0},{"$f":"SUM(CSVデータ1!L314,CSVデータ2!L314,CSVデータ3!L314,CSVデータ4!L314)","v":0},{"$f":"SUM(CSVデータ1!M314,CSVデータ2!M314,CSVデータ3!M314,CSVデータ4!M314)","v":0},{"$f":"SUM(CSVデータ1!N314,CSVデータ2!N314,CSVデータ3!N314,CSVデータ4!N314)","v":0},{"$f":"SUM(CSVデータ1!O314,CSVデータ2!O314,CSVデータ3!O314,CSVデータ4!O314)","v":0},{"$f":"SUM(CSVデータ1!P314,CSVデータ2!P314,CSVデータ3!P314,CSVデータ4!P314)","v":0},{"$f":"SUM(CSVデータ1!Q314,CSVデータ2!Q314,CSVデータ3!Q314,CSVデータ4!Q314)","v":0},{"$f":"SUM(CSVデータ1!R314,CSVデータ2!R314,CSVデータ3!R314,CSVデータ4!R314)","v":0},{"$f":"SUM(CSVデータ1!S314,CSVデータ2!S314,CSVデータ3!S314,CSVデータ4!S314)","v":0},{"$f":"SUM(CSVデータ1!T314,CSVデータ2!T314,CSVデータ3!T314,CSVデータ4!T314)","v":0},{"$f":"SUM(CSVデータ1!U314,CSVデータ2!U314,CSVデータ3!U314,CSVデータ4!U314)","v":0},{"$f":"SUM(CSVデータ1!V314,CSVデータ2!V314,CSVデータ3!V314,CSVデータ4!V314)","v":0},{"$f":"SUM(CSVデータ1!W314,CSVデータ2!W314,CSVデータ3!W314,CSVデータ4!W314)","v":0},{"$f":"SUM(CSVデータ1!X314,CSVデータ2!X314,CSVデータ3!X314,CSVデータ4!X314)","v":0},{"$f":"SUM(CSVデータ1!Y314,CSVデータ2!Y314,CSVデータ3!Y314,CSVデータ4!Y314)","v":0},{"$f":"SUM(CSVデータ1!Z314,CSVデータ2!Z314,CSVデータ3!Z314,CSVデータ4!Z314)","v":0},{"$f":"SUM(CSVデータ1!AA314,CSVデータ2!AA314,CSVデータ3!AA314,CSVデータ4!AA314)","v":0},{"$f":"SUM(CSVデータ1!AB314,CSVデータ2!AB314,CSVデータ3!AB314,CSVデータ4!AB314)","v":0},{"$f":"SUM(CSVデータ1!AC314,CSVデータ2!AC314,CSVデータ3!AC314,CSVデータ4!AC314)","v":0},{"$f":"SUM(CSVデータ1!AD314,CSVデータ2!AD314,CSVデータ3!AD314,CSVデータ4!AD314)","v":0},{"$f":"SUM(CSVデータ1!AE314,CSVデータ2!AE314,CSVデータ3!AE314,CSVデータ4!AE314)","v":0},{"$f":"SUM(CSVデータ1!AF314,CSVデータ2!AF314,CSVデータ3!AF314,CSVデータ4!AF314)","v":0},{"$f":"SUM(CSVデータ1!AG314,CSVデータ2!AG314,CSVデータ3!AG314,CSVデータ4!AG314)","v":0}]
[{"$f":"CSVデータ1!A315","v":"明細部"},{"$f":"CSVデータ1!B315","v":"保険者（地区）"},{"$f":"CSVデータ1!C315","v":96},{"$f":"CSVデータ1!D315","v":"女"},{"$f":"SUM(CSVデータ1!E315,CSVデータ2!E315,CSVデータ3!E315,CSVデータ4!E315)","v":0},{"$f":"SUM(CSVデータ1!F315,CSVデータ2!F315,CSVデータ3!F315,CSVデータ4!F315)","v":0},{"$f":"SUM(CSVデータ1!G315,CSVデータ2!G315,CSVデータ3!G315,CSVデータ4!G315)","v":0},{"$f":"SUM(CSVデータ1!H315,CSVデータ2!H315,CSVデータ3!H315,CSVデータ4!H315)","v":0},{"$f":"SUM(CSVデータ1!I315,CSVデータ2!I315,CSVデータ3!I315,CSVデータ4!I315)","v":0},{"$f":"SUM(CSVデータ1!J315,CSVデータ2!J315,CSVデータ3!J315,CSVデータ4!J315)","v":0},{"$f":"SUM(CSVデータ1!K315,CSVデータ2!K315,CSVデータ3!K315,CSVデータ4!K315)","v":0},{"$f":"SUM(CSVデータ1!L315,CSVデータ2!L315,CSVデータ3!L315,CSVデータ4!L315)","v":0},{"$f":"SUM(CSVデータ1!M315,CSVデータ2!M315,CSVデータ3!M315,CSVデータ4!M315)","v":0},{"$f":"SUM(CSVデータ1!N315,CSVデータ2!N315,CSVデータ3!N315,CSVデータ4!N315)","v":0},{"$f":"SUM(CSVデータ1!O315,CSVデータ2!O315,CSVデータ3!O315,CSVデータ4!O315)","v":0},{"$f":"SUM(CSVデータ1!P315,CSVデータ2!P315,CSVデータ3!P315,CSVデータ4!P315)","v":0},{"$f":"SUM(CSVデータ1!Q315,CSVデータ2!Q315,CSVデータ3!Q315,CSVデータ4!Q315)","v":0},{"$f":"SUM(CSVデータ1!R315,CSVデータ2!R315,CSVデータ3!R315,CSVデータ4!R315)","v":0},{"$f":"SUM(CSVデータ1!S315,CSVデータ2!S315,CSVデータ3!S315,CSVデータ4!S315)","v":0},{"$f":"SUM(CSVデータ1!T315,CSVデータ2!T315,CSVデータ3!T315,CSVデータ4!T315)","v":0},{"$f":"SUM(CSVデータ1!U315,CSVデータ2!U315,CSVデータ3!U315,CSVデータ4!U315)","v":0},{"$f":"SUM(CSVデータ1!V315,CSVデータ2!V315,CSVデータ3!V315,CSVデータ4!V315)","v":0},{"$f":"SUM(CSVデータ1!W315,CSVデータ2!W315,CSVデータ3!W315,CSVデータ4!W315)","v":0},{"$f":"SUM(CSVデータ1!X315,CSVデータ2!X315,CSVデータ3!X315,CSVデータ4!X315)","v":0},{"$f":"SUM(CSVデータ1!Y315,CSVデータ2!Y315,CSVデータ3!Y315,CSVデータ4!Y315)","v":0},{"$f":"SUM(CSVデータ1!Z315,CSVデータ2!Z315,CSVデータ3!Z315,CSVデータ4!Z315)","v":0},{"$f":"SUM(CSVデータ1!AA315,CSVデータ2!AA315,CSVデータ3!AA315,CSVデータ4!AA315)","v":0},{"$f":"SUM(CSVデータ1!AB315,CSVデータ2!AB315,CSVデータ3!AB315,CSVデータ4!AB315)","v":0},{"$f":"SUM(CSVデータ1!AC315,CSVデータ2!AC315,CSVデータ3!AC315,CSVデータ4!AC315)","v":0},{"$f":"SUM(CSVデータ1!AD315,CSVデータ2!AD315,CSVデータ3!AD315,CSVデータ4!AD315)","v":0},{"$f":"SUM(CSVデータ1!AE315,CSVデータ2!AE315,CSVデータ3!AE315,CSVデータ4!AE315)","v":0},{"$f":"SUM(CSVデータ1!AF315,CSVデータ2!AF315,CSVデータ3!AF315,CSVデータ4!AF315)","v":0},{"$f":"SUM(CSVデータ1!AG315,CSVデータ2!AG315,CSVデータ3!AG315,CSVデータ4!AG315)","v":0}]
[{"$f":"CSVデータ1!A316","v":"明細部"},{"$f":"CSVデータ1!B316","v":"保険者（地区）"},{"$f":"CSVデータ1!C316","v":97},{"$f":"CSVデータ1!D316","v":"女"},{"$f":"SUM(CSVデータ1!E316,CSVデータ2!E316,CSVデータ3!E316,CSVデータ4!E316)","v":0},{"$f":"SUM(CSVデータ1!F316,CSVデータ2!F316,CSVデータ3!F316,CSVデータ4!F316)","v":0},{"$f":"SUM(CSVデータ1!G316,CSVデータ2!G316,CSVデータ3!G316,CSVデータ4!G316)","v":0},{"$f":"SUM(CSVデータ1!H316,CSVデータ2!H316,CSVデータ3!H316,CSVデータ4!H316)","v":0},{"$f":"SUM(CSVデータ1!I316,CSVデータ2!I316,CSVデータ3!I316,CSVデータ4!I316)","v":0},{"$f":"SUM(CSVデータ1!J316,CSVデータ2!J316,CSVデータ3!J316,CSVデータ4!J316)","v":0},{"$f":"SUM(CSVデータ1!K316,CSVデータ2!K316,CSVデータ3!K316,CSVデータ4!K316)","v":0},{"$f":"SUM(CSVデータ1!L316,CSVデータ2!L316,CSVデータ3!L316,CSVデータ4!L316)","v":0},{"$f":"SUM(CSVデータ1!M316,CSVデータ2!M316,CSVデータ3!M316,CSVデータ4!M316)","v":0},{"$f":"SUM(CSVデータ1!N316,CSVデータ2!N316,CSVデータ3!N316,CSVデータ4!N316)","v":0},{"$f":"SUM(CSVデータ1!O316,CSVデータ2!O316,CSVデータ3!O316,CSVデータ4!O316)","v":0},{"$f":"SUM(CSVデータ1!P316,CSVデータ2!P316,CSVデータ3!P316,CSVデータ4!P316)","v":0},{"$f":"SUM(CSVデータ1!Q316,CSVデータ2!Q316,CSVデータ3!Q316,CSVデータ4!Q316)","v":0},{"$f":"SUM(CSVデータ1!R316,CSVデータ2!R316,CSVデータ3!R316,CSVデータ4!R316)","v":0},{"$f":"SUM(CSVデータ1!S316,CSVデータ2!S316,CSVデータ3!S316,CSVデータ4!S316)","v":0},{"$f":"SUM(CSVデータ1!T316,CSVデータ2!T316,CSVデータ3!T316,CSVデータ4!T316)","v":0},{"$f":"SUM(CSVデータ1!U316,CSVデータ2!U316,CSVデータ3!U316,CSVデータ4!U316)","v":0},{"$f":"SUM(CSVデータ1!V316,CSVデータ2!V316,CSVデータ3!V316,CSVデータ4!V316)","v":0},{"$f":"SUM(CSVデータ1!W316,CSVデータ2!W316,CSVデータ3!W316,CSVデータ4!W316)","v":0},{"$f":"SUM(CSVデータ1!X316,CSVデータ2!X316,CSVデータ3!X316,CSVデータ4!X316)","v":0},{"$f":"SUM(CSVデータ1!Y316,CSVデータ2!Y316,CSVデータ3!Y316,CSVデータ4!Y316)","v":0},{"$f":"SUM(CSVデータ1!Z316,CSVデータ2!Z316,CSVデータ3!Z316,CSVデータ4!Z316)","v":0},{"$f":"SUM(CSVデータ1!AA316,CSVデータ2!AA316,CSVデータ3!AA316,CSVデータ4!AA316)","v":0},{"$f":"SUM(CSVデータ1!AB316,CSVデータ2!AB316,CSVデータ3!AB316,CSVデータ4!AB316)","v":0},{"$f":"SUM(CSVデータ1!AC316,CSVデータ2!AC316,CSVデータ3!AC316,CSVデータ4!AC316)","v":0},{"$f":"SUM(CSVデータ1!AD316,CSVデータ2!AD316,CSVデータ3!AD316,CSVデータ4!AD316)","v":0},{"$f":"SUM(CSVデータ1!AE316,CSVデータ2!AE316,CSVデータ3!AE316,CSVデータ4!AE316)","v":0},{"$f":"SUM(CSVデータ1!AF316,CSVデータ2!AF316,CSVデータ3!AF316,CSVデータ4!AF316)","v":0},{"$f":"SUM(CSVデータ1!AG316,CSVデータ2!AG316,CSVデータ3!AG316,CSVデータ4!AG316)","v":0}]
[{"$f":"CSVデータ1!A317","v":"明細部"},{"$f":"CSVデータ1!B317","v":"保険者（地区）"},{"$f":"CSVデータ1!C317","v":98},{"$f":"CSVデータ1!D317","v":"女"},{"$f":"SUM(CSVデータ1!E317,CSVデータ2!E317,CSVデータ3!E317,CSVデータ4!E317)","v":0},{"$f":"SUM(CSVデータ1!F317,CSVデータ2!F317,CSVデータ3!F317,CSVデータ4!F317)","v":0},{"$f":"SUM(CSVデータ1!G317,CSVデータ2!G317,CSVデータ3!G317,CSVデータ4!G317)","v":0},{"$f":"SUM(CSVデータ1!H317,CSVデータ2!H317,CSVデータ3!H317,CSVデータ4!H317)","v":0},{"$f":"SUM(CSVデータ1!I317,CSVデータ2!I317,CSVデータ3!I317,CSVデータ4!I317)","v":0},{"$f":"SUM(CSVデータ1!J317,CSVデータ2!J317,CSVデータ3!J317,CSVデータ4!J317)","v":0},{"$f":"SUM(CSVデータ1!K317,CSVデータ2!K317,CSVデータ3!K317,CSVデータ4!K317)","v":0},{"$f":"SUM(CSVデータ1!L317,CSVデータ2!L317,CSVデータ3!L317,CSVデータ4!L317)","v":0},{"$f":"SUM(CSVデータ1!M317,CSVデータ2!M317,CSVデータ3!M317,CSVデータ4!M317)","v":0},{"$f":"SUM(CSVデータ1!N317,CSVデータ2!N317,CSVデータ3!N317,CSVデータ4!N317)","v":0},{"$f":"SUM(CSVデータ1!O317,CSVデータ2!O317,CSVデータ3!O317,CSVデータ4!O317)","v":0},{"$f":"SUM(CSVデータ1!P317,CSVデータ2!P317,CSVデータ3!P317,CSVデータ4!P317)","v":0},{"$f":"SUM(CSVデータ1!Q317,CSVデータ2!Q317,CSVデータ3!Q317,CSVデータ4!Q317)","v":0},{"$f":"SUM(CSVデータ1!R317,CSVデータ2!R317,CSVデータ3!R317,CSVデータ4!R317)","v":0},{"$f":"SUM(CSVデータ1!S317,CSVデータ2!S317,CSVデータ3!S317,CSVデータ4!S317)","v":0},{"$f":"SUM(CSVデータ1!T317,CSVデータ2!T317,CSVデータ3!T317,CSVデータ4!T317)","v":0},{"$f":"SUM(CSVデータ1!U317,CSVデータ2!U317,CSVデータ3!U317,CSVデータ4!U317)","v":0},{"$f":"SUM(CSVデータ1!V317,CSVデータ2!V317,CSVデータ3!V317,CSVデータ4!V317)","v":0},{"$f":"SUM(CSVデータ1!W317,CSVデータ2!W317,CSVデータ3!W317,CSVデータ4!W317)","v":0},{"$f":"SUM(CSVデータ1!X317,CSVデータ2!X317,CSVデータ3!X317,CSVデータ4!X317)","v":0},{"$f":"SUM(CSVデータ1!Y317,CSVデータ2!Y317,CSVデータ3!Y317,CSVデータ4!Y317)","v":0},{"$f":"SUM(CSVデータ1!Z317,CSVデータ2!Z317,CSVデータ3!Z317,CSVデータ4!Z317)","v":0},{"$f":"SUM(CSVデータ1!AA317,CSVデータ2!AA317,CSVデータ3!AA317,CSVデータ4!AA317)","v":0},{"$f":"SUM(CSVデータ1!AB317,CSVデータ2!AB317,CSVデータ3!AB317,CSVデータ4!AB317)","v":0},{"$f":"SUM(CSVデータ1!AC317,CSVデータ2!AC317,CSVデータ3!AC317,CSVデータ4!AC317)","v":0},{"$f":"SUM(CSVデータ1!AD317,CSVデータ2!AD317,CSVデータ3!AD317,CSVデータ4!AD317)","v":0},{"$f":"SUM(CSVデータ1!AE317,CSVデータ2!AE317,CSVデータ3!AE317,CSVデータ4!AE317)","v":0},{"$f":"SUM(CSVデータ1!AF317,CSVデータ2!AF317,CSVデータ3!AF317,CSVデータ4!AF317)","v":0},{"$f":"SUM(CSVデータ1!AG317,CSVデータ2!AG317,CSVデータ3!AG317,CSVデータ4!AG317)","v":0}]
[{"$f":"CSVデータ1!A318","v":"明細部"},{"$f":"CSVデータ1!B318","v":"保険者（地区）"},{"$f":"CSVデータ1!C318","v":99},{"$f":"CSVデータ1!D318","v":"女"},{"$f":"SUM(CSVデータ1!E318,CSVデータ2!E318,CSVデータ3!E318,CSVデータ4!E318)","v":0},{"$f":"SUM(CSVデータ1!F318,CSVデータ2!F318,CSVデータ3!F318,CSVデータ4!F318)","v":0},{"$f":"SUM(CSVデータ1!G318,CSVデータ2!G318,CSVデータ3!G318,CSVデータ4!G318)","v":0},{"$f":"SUM(CSVデータ1!H318,CSVデータ2!H318,CSVデータ3!H318,CSVデータ4!H318)","v":0},{"$f":"SUM(CSVデータ1!I318,CSVデータ2!I318,CSVデータ3!I318,CSVデータ4!I318)","v":0},{"$f":"SUM(CSVデータ1!J318,CSVデータ2!J318,CSVデータ3!J318,CSVデータ4!J318)","v":0},{"$f":"SUM(CSVデータ1!K318,CSVデータ2!K318,CSVデータ3!K318,CSVデータ4!K318)","v":0},{"$f":"SUM(CSVデータ1!L318,CSVデータ2!L318,CSVデータ3!L318,CSVデータ4!L318)","v":0},{"$f":"SUM(CSVデータ1!M318,CSVデータ2!M318,CSVデータ3!M318,CSVデータ4!M318)","v":0},{"$f":"SUM(CSVデータ1!N318,CSVデータ2!N318,CSVデータ3!N318,CSVデータ4!N318)","v":0},{"$f":"SUM(CSVデータ1!O318,CSVデータ2!O318,CSVデータ3!O318,CSVデータ4!O318)","v":0},{"$f":"SUM(CSVデータ1!P318,CSVデータ2!P318,CSVデータ3!P318,CSVデータ4!P318)","v":0},{"$f":"SUM(CSVデータ1!Q318,CSVデータ2!Q318,CSVデータ3!Q318,CSVデータ4!Q318)","v":0},{"$f":"SUM(CSVデータ1!R318,CSVデータ2!R318,CSVデータ3!R318,CSVデータ4!R318)","v":0},{"$f":"SUM(CSVデータ1!S318,CSVデータ2!S318,CSVデータ3!S318,CSVデータ4!S318)","v":0},{"$f":"SUM(CSVデータ1!T318,CSVデータ2!T318,CSVデータ3!T318,CSVデータ4!T318)","v":0},{"$f":"SUM(CSVデータ1!U318,CSVデータ2!U318,CSVデータ3!U318,CSVデータ4!U318)","v":0},{"$f":"SUM(CSVデータ1!V318,CSVデータ2!V318,CSVデータ3!V318,CSVデータ4!V318)","v":0},{"$f":"SUM(CSVデータ1!W318,CSVデータ2!W318,CSVデータ3!W318,CSVデータ4!W318)","v":0},{"$f":"SUM(CSVデータ1!X318,CSVデータ2!X318,CSVデータ3!X318,CSVデータ4!X318)","v":0},{"$f":"SUM(CSVデータ1!Y318,CSVデータ2!Y318,CSVデータ3!Y318,CSVデータ4!Y318)","v":0},{"$f":"SUM(CSVデータ1!Z318,CSVデータ2!Z318,CSVデータ3!Z318,CSVデータ4!Z318)","v":0},{"$f":"SUM(CSVデータ1!AA318,CSVデータ2!AA318,CSVデータ3!AA318,CSVデータ4!AA318)","v":0},{"$f":"SUM(CSVデータ1!AB318,CSVデータ2!AB318,CSVデータ3!AB318,CSVデータ4!AB318)","v":0},{"$f":"SUM(CSVデータ1!AC318,CSVデータ2!AC318,CSVデータ3!AC318,CSVデータ4!AC318)","v":0},{"$f":"SUM(CSVデータ1!AD318,CSVデータ2!AD318,CSVデータ3!AD318,CSVデータ4!AD318)","v":0},{"$f":"SUM(CSVデータ1!AE318,CSVデータ2!AE318,CSVデータ3!AE318,CSVデータ4!AE318)","v":0},{"$f":"SUM(CSVデータ1!AF318,CSVデータ2!AF318,CSVデータ3!AF318,CSVデータ4!AF318)","v":0},{"$f":"SUM(CSVデータ1!AG318,CSVデータ2!AG318,CSVデータ3!AG318,CSVデータ4!AG318)","v":0}]
[{"$f":"CSVデータ1!A319","v":"明細部"},{"$f":"CSVデータ1!B319","v":"保険者（地区）"},{"$f":"CSVデータ1!C319","v":100},{"$f":"CSVデータ1!D319","v":"女"},{"$f":"SUM(CSVデータ1!E319,CSVデータ2!E319,CSVデータ3!E319,CSVデータ4!E319)","v":0},{"$f":"SUM(CSVデータ1!F319,CSVデータ2!F319,CSVデータ3!F319,CSVデータ4!F319)","v":0},{"$f":"SUM(CSVデータ1!G319,CSVデータ2!G319,CSVデータ3!G319,CSVデータ4!G319)","v":0},{"$f":"SUM(CSVデータ1!H319,CSVデータ2!H319,CSVデータ3!H319,CSVデータ4!H319)","v":0},{"$f":"SUM(CSVデータ1!I319,CSVデータ2!I319,CSVデータ3!I319,CSVデータ4!I319)","v":0},{"$f":"SUM(CSVデータ1!J319,CSVデータ2!J319,CSVデータ3!J319,CSVデータ4!J319)","v":0},{"$f":"SUM(CSVデータ1!K319,CSVデータ2!K319,CSVデータ3!K319,CSVデータ4!K319)","v":0},{"$f":"SUM(CSVデータ1!L319,CSVデータ2!L319,CSVデータ3!L319,CSVデータ4!L319)","v":0},{"$f":"SUM(CSVデータ1!M319,CSVデータ2!M319,CSVデータ3!M319,CSVデータ4!M319)","v":0},{"$f":"SUM(CSVデータ1!N319,CSVデータ2!N319,CSVデータ3!N319,CSVデータ4!N319)","v":0},{"$f":"SUM(CSVデータ1!O319,CSVデータ2!O319,CSVデータ3!O319,CSVデータ4!O319)","v":0},{"$f":"SUM(CSVデータ1!P319,CSVデータ2!P319,CSVデータ3!P319,CSVデータ4!P319)","v":0},{"$f":"SUM(CSVデータ1!Q319,CSVデータ2!Q319,CSVデータ3!Q319,CSVデータ4!Q319)","v":0},{"$f":"SUM(CSVデータ1!R319,CSVデータ2!R319,CSVデータ3!R319,CSVデータ4!R319)","v":0},{"$f":"SUM(CSVデータ1!S319,CSVデータ2!S319,CSVデータ3!S319,CSVデータ4!S319)","v":0},{"$f":"SUM(CSVデータ1!T319,CSVデータ2!T319,CSVデータ3!T319,CSVデータ4!T319)","v":0},{"$f":"SUM(CSVデータ1!U319,CSVデータ2!U319,CSVデータ3!U319,CSVデータ4!U319)","v":0},{"$f":"SUM(CSVデータ1!V319,CSVデータ2!V319,CSVデータ3!V319,CSVデータ4!V319)","v":0},{"$f":"SUM(CSVデータ1!W319,CSVデータ2!W319,CSVデータ3!W319,CSVデータ4!W319)","v":0},{"$f":"SUM(CSVデータ1!X319,CSVデータ2!X319,CSVデータ3!X319,CSVデータ4!X319)","v":0},{"$f":"SUM(CSVデータ1!Y319,CSVデータ2!Y319,CSVデータ3!Y319,CSVデータ4!Y319)","v":0},{"$f":"SUM(CSVデータ1!Z319,CSVデータ2!Z319,CSVデータ3!Z319,CSVデータ4!Z319)","v":0},{"$f":"SUM(CSVデータ1!AA319,CSVデータ2!AA319,CSVデータ3!AA319,CSVデータ4!AA319)","v":0},{"$f":"SUM(CSVデータ1!AB319,CSVデータ2!AB319,CSVデータ3!AB319,CSVデータ4!AB319)","v":0},{"$f":"SUM(CSVデータ1!AC319,CSVデータ2!AC319,CSVデータ3!AC319,CSVデータ4!AC319)","v":0},{"$f":"SUM(CSVデータ1!AD319,CSVデータ2!AD319,CSVデータ3!AD319,CSVデータ4!AD319)","v":0},{"$f":"SUM(CSVデータ1!AE319,CSVデータ2!AE319,CSVデータ3!AE319,CSVデータ4!AE319)","v":0},{"$f":"SUM(CSVデータ1!AF319,CSVデータ2!AF319,CSVデータ3!AF319,CSVデータ4!AF319)","v":0},{"$f":"SUM(CSVデータ1!AG319,CSVデータ2!AG319,CSVデータ3!AG319,CSVデータ4!AG319)","v":0}]
[{"$f":"CSVデータ1!A320","v":"明細部"},{"$f":"CSVデータ1!B320","v":"保険者（地区）"},{"$f":"CSVデータ1!C320","v":101},{"$f":"CSVデータ1!D320","v":"女"},{"$f":"SUM(CSVデータ1!E320,CSVデータ2!E320,CSVデータ3!E320,CSVデータ4!E320)","v":0},{"$f":"SUM(CSVデータ1!F320,CSVデータ2!F320,CSVデータ3!F320,CSVデータ4!F320)","v":0},{"$f":"SUM(CSVデータ1!G320,CSVデータ2!G320,CSVデータ3!G320,CSVデータ4!G320)","v":0},{"$f":"SUM(CSVデータ1!H320,CSVデータ2!H320,CSVデータ3!H320,CSVデータ4!H320)","v":0},{"$f":"SUM(CSVデータ1!I320,CSVデータ2!I320,CSVデータ3!I320,CSVデータ4!I320)","v":0},{"$f":"SUM(CSVデータ1!J320,CSVデータ2!J320,CSVデータ3!J320,CSVデータ4!J320)","v":0},{"$f":"SUM(CSVデータ1!K320,CSVデータ2!K320,CSVデータ3!K320,CSVデータ4!K320)","v":0},{"$f":"SUM(CSVデータ1!L320,CSVデータ2!L320,CSVデータ3!L320,CSVデータ4!L320)","v":0},{"$f":"SUM(CSVデータ1!M320,CSVデータ2!M320,CSVデータ3!M320,CSVデータ4!M320)","v":0},{"$f":"SUM(CSVデータ1!N320,CSVデータ2!N320,CSVデータ3!N320,CSVデータ4!N320)","v":0},{"$f":"SUM(CSVデータ1!O320,CSVデータ2!O320,CSVデータ3!O320,CSVデータ4!O320)","v":0},{"$f":"SUM(CSVデータ1!P320,CSVデータ2!P320,CSVデータ3!P320,CSVデータ4!P320)","v":0},{"$f":"SUM(CSVデータ1!Q320,CSVデータ2!Q320,CSVデータ3!Q320,CSVデータ4!Q320)","v":0},{"$f":"SUM(CSVデータ1!R320,CSVデータ2!R320,CSVデータ3!R320,CSVデータ4!R320)","v":0},{"$f":"SUM(CSVデータ1!S320,CSVデータ2!S320,CSVデータ3!S320,CSVデータ4!S320)","v":0},{"$f":"SUM(CSVデータ1!T320,CSVデータ2!T320,CSVデータ3!T320,CSVデータ4!T320)","v":0},{"$f":"SUM(CSVデータ1!U320,CSVデータ2!U320,CSVデータ3!U320,CSVデータ4!U320)","v":0},{"$f":"SUM(CSVデータ1!V320,CSVデータ2!V320,CSVデータ3!V320,CSVデータ4!V320)","v":0},{"$f":"SUM(CSVデータ1!W320,CSVデータ2!W320,CSVデータ3!W320,CSVデータ4!W320)","v":0},{"$f":"SUM(CSVデータ1!X320,CSVデータ2!X320,CSVデータ3!X320,CSVデータ4!X320)","v":0},{"$f":"SUM(CSVデータ1!Y320,CSVデータ2!Y320,CSVデータ3!Y320,CSVデータ4!Y320)","v":0},{"$f":"SUM(CSVデータ1!Z320,CSVデータ2!Z320,CSVデータ3!Z320,CSVデータ4!Z320)","v":0},{"$f":"SUM(CSVデータ1!AA320,CSVデータ2!AA320,CSVデータ3!AA320,CSVデータ4!AA320)","v":0},{"$f":"SUM(CSVデータ1!AB320,CSVデータ2!AB320,CSVデータ3!AB320,CSVデータ4!AB320)","v":0},{"$f":"SUM(CSVデータ1!AC320,CSVデータ2!AC320,CSVデータ3!AC320,CSVデータ4!AC320)","v":0},{"$f":"SUM(CSVデータ1!AD320,CSVデータ2!AD320,CSVデータ3!AD320,CSVデータ4!AD320)","v":0},{"$f":"SUM(CSVデータ1!AE320,CSVデータ2!AE320,CSVデータ3!AE320,CSVデータ4!AE320)","v":0},{"$f":"SUM(CSVデータ1!AF320,CSVデータ2!AF320,CSVデータ3!AF320,CSVデータ4!AF320)","v":0},{"$f":"SUM(CSVデータ1!AG320,CSVデータ2!AG320,CSVデータ3!AG320,CSVデータ4!AG320)","v":0}]
[{"$f":"CSVデータ1!A321","v":"明細部"},{"$f":"CSVデータ1!B321","v":"保険者（地区）"},{"$f":"CSVデータ1!C321","v":102},{"$f":"CSVデータ1!D321","v":"女"},{"$f":"SUM(CSVデータ1!E321,CSVデータ2!E321,CSVデータ3!E321,CSVデータ4!E321)","v":0},{"$f":"SUM(CSVデータ1!F321,CSVデータ2!F321,CSVデータ3!F321,CSVデータ4!F321)","v":0},{"$f":"SUM(CSVデータ1!G321,CSVデータ2!G321,CSVデータ3!G321,CSVデータ4!G321)","v":0},{"$f":"SUM(CSVデータ1!H321,CSVデータ2!H321,CSVデータ3!H321,CSVデータ4!H321)","v":0},{"$f":"SUM(CSVデータ1!I321,CSVデータ2!I321,CSVデータ3!I321,CSVデータ4!I321)","v":0},{"$f":"SUM(CSVデータ1!J321,CSVデータ2!J321,CSVデータ3!J321,CSVデータ4!J321)","v":0},{"$f":"SUM(CSVデータ1!K321,CSVデータ2!K321,CSVデータ3!K321,CSVデータ4!K321)","v":0},{"$f":"SUM(CSVデータ1!L321,CSVデータ2!L321,CSVデータ3!L321,CSVデータ4!L321)","v":0},{"$f":"SUM(CSVデータ1!M321,CSVデータ2!M321,CSVデータ3!M321,CSVデータ4!M321)","v":0},{"$f":"SUM(CSVデータ1!N321,CSVデータ2!N321,CSVデータ3!N321,CSVデータ4!N321)","v":0},{"$f":"SUM(CSVデータ1!O321,CSVデータ2!O321,CSVデータ3!O321,CSVデータ4!O321)","v":0},{"$f":"SUM(CSVデータ1!P321,CSVデータ2!P321,CSVデータ3!P321,CSVデータ4!P321)","v":0},{"$f":"SUM(CSVデータ1!Q321,CSVデータ2!Q321,CSVデータ3!Q321,CSVデータ4!Q321)","v":0},{"$f":"SUM(CSVデータ1!R321,CSVデータ2!R321,CSVデータ3!R321,CSVデータ4!R321)","v":0},{"$f":"SUM(CSVデータ1!S321,CSVデータ2!S321,CSVデータ3!S321,CSVデータ4!S321)","v":0},{"$f":"SUM(CSVデータ1!T321,CSVデータ2!T321,CSVデータ3!T321,CSVデータ4!T321)","v":0},{"$f":"SUM(CSVデータ1!U321,CSVデータ2!U321,CSVデータ3!U321,CSVデータ4!U321)","v":0},{"$f":"SUM(CSVデータ1!V321,CSVデータ2!V321,CSVデータ3!V321,CSVデータ4!V321)","v":0},{"$f":"SUM(CSVデータ1!W321,CSVデータ2!W321,CSVデータ3!W321,CSVデータ4!W321)","v":0},{"$f":"SUM(CSVデータ1!X321,CSVデータ2!X321,CSVデータ3!X321,CSVデータ4!X321)","v":0},{"$f":"SUM(CSVデータ1!Y321,CSVデータ2!Y321,CSVデータ3!Y321,CSVデータ4!Y321)","v":0},{"$f":"SUM(CSVデータ1!Z321,CSVデータ2!Z321,CSVデータ3!Z321,CSVデータ4!Z321)","v":0},{"$f":"SUM(CSVデータ1!AA321,CSVデータ2!AA321,CSVデータ3!AA321,CSVデータ4!AA321)","v":0},{"$f":"SUM(CSVデータ1!AB321,CSVデータ2!AB321,CSVデータ3!AB321,CSVデータ4!AB321)","v":0},{"$f":"SUM(CSVデータ1!AC321,CSVデータ2!AC321,CSVデータ3!AC321,CSVデータ4!AC321)","v":0},{"$f":"SUM(CSVデータ1!AD321,CSVデータ2!AD321,CSVデータ3!AD321,CSVデータ4!AD321)","v":0},{"$f":"SUM(CSVデータ1!AE321,CSVデータ2!AE321,CSVデータ3!AE321,CSVデータ4!AE321)","v":0},{"$f":"SUM(CSVデータ1!AF321,CSVデータ2!AF321,CSVデータ3!AF321,CSVデータ4!AF321)","v":0},{"$f":"SUM(CSVデータ1!AG321,CSVデータ2!AG321,CSVデータ3!AG321,CSVデータ4!AG321)","v":0}]
[{"$f":"CSVデータ1!A322","v":"明細部"},{"$f":"CSVデータ1!B322","v":"保険者（地区）"},{"$f":"CSVデータ1!C322","v":103},{"$f":"CSVデータ1!D322","v":"女"},{"$f":"SUM(CSVデータ1!E322,CSVデータ2!E322,CSVデータ3!E322,CSVデータ4!E322)","v":0},{"$f":"SUM(CSVデータ1!F322,CSVデータ2!F322,CSVデータ3!F322,CSVデータ4!F322)","v":0},{"$f":"SUM(CSVデータ1!G322,CSVデータ2!G322,CSVデータ3!G322,CSVデータ4!G322)","v":0},{"$f":"SUM(CSVデータ1!H322,CSVデータ2!H322,CSVデータ3!H322,CSVデータ4!H322)","v":0},{"$f":"SUM(CSVデータ1!I322,CSVデータ2!I322,CSVデータ3!I322,CSVデータ4!I322)","v":0},{"$f":"SUM(CSVデータ1!J322,CSVデータ2!J322,CSVデータ3!J322,CSVデータ4!J322)","v":0},{"$f":"SUM(CSVデータ1!K322,CSVデータ2!K322,CSVデータ3!K322,CSVデータ4!K322)","v":0},{"$f":"SUM(CSVデータ1!L322,CSVデータ2!L322,CSVデータ3!L322,CSVデータ4!L322)","v":0},{"$f":"SUM(CSVデータ1!M322,CSVデータ2!M322,CSVデータ3!M322,CSVデータ4!M322)","v":0},{"$f":"SUM(CSVデータ1!N322,CSVデータ2!N322,CSVデータ3!N322,CSVデータ4!N322)","v":0},{"$f":"SUM(CSVデータ1!O322,CSVデータ2!O322,CSVデータ3!O322,CSVデータ4!O322)","v":0},{"$f":"SUM(CSVデータ1!P322,CSVデータ2!P322,CSVデータ3!P322,CSVデータ4!P322)","v":0},{"$f":"SUM(CSVデータ1!Q322,CSVデータ2!Q322,CSVデータ3!Q322,CSVデータ4!Q322)","v":0},{"$f":"SUM(CSVデータ1!R322,CSVデータ2!R322,CSVデータ3!R322,CSVデータ4!R322)","v":0},{"$f":"SUM(CSVデータ1!S322,CSVデータ2!S322,CSVデータ3!S322,CSVデータ4!S322)","v":0},{"$f":"SUM(CSVデータ1!T322,CSVデータ2!T322,CSVデータ3!T322,CSVデータ4!T322)","v":0},{"$f":"SUM(CSVデータ1!U322,CSVデータ2!U322,CSVデータ3!U322,CSVデータ4!U322)","v":0},{"$f":"SUM(CSVデータ1!V322,CSVデータ2!V322,CSVデータ3!V322,CSVデータ4!V322)","v":0},{"$f":"SUM(CSVデータ1!W322,CSVデータ2!W322,CSVデータ3!W322,CSVデータ4!W322)","v":0},{"$f":"SUM(CSVデータ1!X322,CSVデータ2!X322,CSVデータ3!X322,CSVデータ4!X322)","v":0},{"$f":"SUM(CSVデータ1!Y322,CSVデータ2!Y322,CSVデータ3!Y322,CSVデータ4!Y322)","v":0},{"$f":"SUM(CSVデータ1!Z322,CSVデータ2!Z322,CSVデータ3!Z322,CSVデータ4!Z322)","v":0},{"$f":"SUM(CSVデータ1!AA322,CSVデータ2!AA322,CSVデータ3!AA322,CSVデータ4!AA322)","v":0},{"$f":"SUM(CSVデータ1!AB322,CSVデータ2!AB322,CSVデータ3!AB322,CSVデータ4!AB322)","v":0},{"$f":"SUM(CSVデータ1!AC322,CSVデータ2!AC322,CSVデータ3!AC322,CSVデータ4!AC322)","v":0},{"$f":"SUM(CSVデータ1!AD322,CSVデータ2!AD322,CSVデータ3!AD322,CSVデータ4!AD322)","v":0},{"$f":"SUM(CSVデータ1!AE322,CSVデータ2!AE322,CSVデータ3!AE322,CSVデータ4!AE322)","v":0},{"$f":"SUM(CSVデータ1!AF322,CSVデータ2!AF322,CSVデータ3!AF322,CSVデータ4!AF322)","v":0},{"$f":"SUM(CSVデータ1!AG322,CSVデータ2!AG322,CSVデータ3!AG322,CSVデータ4!AG322)","v":0}]
[{"$f":"CSVデータ1!A323","v":"明細部"},{"$f":"CSVデータ1!B323","v":"保険者（地区）"},{"$f":"CSVデータ1!C323","v":104},{"$f":"CSVデータ1!D323","v":"女"},{"$f":"SUM(CSVデータ1!E323,CSVデータ2!E323,CSVデータ3!E323,CSVデータ4!E323)","v":0},{"$f":"SUM(CSVデータ1!F323,CSVデータ2!F323,CSVデータ3!F323,CSVデータ4!F323)","v":0},{"$f":"SUM(CSVデータ1!G323,CSVデータ2!G323,CSVデータ3!G323,CSVデータ4!G323)","v":0},{"$f":"SUM(CSVデータ1!H323,CSVデータ2!H323,CSVデータ3!H323,CSVデータ4!H323)","v":0},{"$f":"SUM(CSVデータ1!I323,CSVデータ2!I323,CSVデータ3!I323,CSVデータ4!I323)","v":0},{"$f":"SUM(CSVデータ1!J323,CSVデータ2!J323,CSVデータ3!J323,CSVデータ4!J323)","v":0},{"$f":"SUM(CSVデータ1!K323,CSVデータ2!K323,CSVデータ3!K323,CSVデータ4!K323)","v":0},{"$f":"SUM(CSVデータ1!L323,CSVデータ2!L323,CSVデータ3!L323,CSVデータ4!L323)","v":0},{"$f":"SUM(CSVデータ1!M323,CSVデータ2!M323,CSVデータ3!M323,CSVデータ4!M323)","v":0},{"$f":"SUM(CSVデータ1!N323,CSVデータ2!N323,CSVデータ3!N323,CSVデータ4!N323)","v":0},{"$f":"SUM(CSVデータ1!O323,CSVデータ2!O323,CSVデータ3!O323,CSVデータ4!O323)","v":0},{"$f":"SUM(CSVデータ1!P323,CSVデータ2!P323,CSVデータ3!P323,CSVデータ4!P323)","v":0},{"$f":"SUM(CSVデータ1!Q323,CSVデータ2!Q323,CSVデータ3!Q323,CSVデータ4!Q323)","v":0},{"$f":"SUM(CSVデータ1!R323,CSVデータ2!R323,CSVデータ3!R323,CSVデータ4!R323)","v":0},{"$f":"SUM(CSVデータ1!S323,CSVデータ2!S323,CSVデータ3!S323,CSVデータ4!S323)","v":0},{"$f":"SUM(CSVデータ1!T323,CSVデータ2!T323,CSVデータ3!T323,CSVデータ4!T323)","v":0},{"$f":"SUM(CSVデータ1!U323,CSVデータ2!U323,CSVデータ3!U323,CSVデータ4!U323)","v":0},{"$f":"SUM(CSVデータ1!V323,CSVデータ2!V323,CSVデータ3!V323,CSVデータ4!V323)","v":0},{"$f":"SUM(CSVデータ1!W323,CSVデータ2!W323,CSVデータ3!W323,CSVデータ4!W323)","v":0},{"$f":"SUM(CSVデータ1!X323,CSVデータ2!X323,CSVデータ3!X323,CSVデータ4!X323)","v":0},{"$f":"SUM(CSVデータ1!Y323,CSVデータ2!Y323,CSVデータ3!Y323,CSVデータ4!Y323)","v":0},{"$f":"SUM(CSVデータ1!Z323,CSVデータ2!Z323,CSVデータ3!Z323,CSVデータ4!Z323)","v":0},{"$f":"SUM(CSVデータ1!AA323,CSVデータ2!AA323,CSVデータ3!AA323,CSVデータ4!AA323)","v":0},{"$f":"SUM(CSVデータ1!AB323,CSVデータ2!AB323,CSVデータ3!AB323,CSVデータ4!AB323)","v":0},{"$f":"SUM(CSVデータ1!AC323,CSVデータ2!AC323,CSVデータ3!AC323,CSVデータ4!AC323)","v":0},{"$f":"SUM(CSVデータ1!AD323,CSVデータ2!AD323,CSVデータ3!AD323,CSVデータ4!AD323)","v":0},{"$f":"SUM(CSVデータ1!AE323,CSVデータ2!AE323,CSVデータ3!AE323,CSVデータ4!AE323)","v":0},{"$f":"SUM(CSVデータ1!AF323,CSVデータ2!AF323,CSVデータ3!AF323,CSVデータ4!AF323)","v":0},{"$f":"SUM(CSVデータ1!AG323,CSVデータ2!AG323,CSVデータ3!AG323,CSVデータ4!AG323)","v":0}]
[{"$f":"CSVデータ1!A324","v":"明細部"},{"$f":"CSVデータ1!B324","v":"保険者（地区）"},{"$f":"CSVデータ1!C324","v":105},{"$f":"CSVデータ1!D324","v":"女"},{"$f":"SUM(CSVデータ1!E324,CSVデータ2!E324,CSVデータ3!E324,CSVデータ4!E324)","v":0},{"$f":"SUM(CSVデータ1!F324,CSVデータ2!F324,CSVデータ3!F324,CSVデータ4!F324)","v":0},{"$f":"SUM(CSVデータ1!G324,CSVデータ2!G324,CSVデータ3!G324,CSVデータ4!G324)","v":0},{"$f":"SUM(CSVデータ1!H324,CSVデータ2!H324,CSVデータ3!H324,CSVデータ4!H324)","v":0},{"$f":"SUM(CSVデータ1!I324,CSVデータ2!I324,CSVデータ3!I324,CSVデータ4!I324)","v":0},{"$f":"SUM(CSVデータ1!J324,CSVデータ2!J324,CSVデータ3!J324,CSVデータ4!J324)","v":0},{"$f":"SUM(CSVデータ1!K324,CSVデータ2!K324,CSVデータ3!K324,CSVデータ4!K324)","v":0},{"$f":"SUM(CSVデータ1!L324,CSVデータ2!L324,CSVデータ3!L324,CSVデータ4!L324)","v":0},{"$f":"SUM(CSVデータ1!M324,CSVデータ2!M324,CSVデータ3!M324,CSVデータ4!M324)","v":0},{"$f":"SUM(CSVデータ1!N324,CSVデータ2!N324,CSVデータ3!N324,CSVデータ4!N324)","v":0},{"$f":"SUM(CSVデータ1!O324,CSVデータ2!O324,CSVデータ3!O324,CSVデータ4!O324)","v":0},{"$f":"SUM(CSVデータ1!P324,CSVデータ2!P324,CSVデータ3!P324,CSVデータ4!P324)","v":0},{"$f":"SUM(CSVデータ1!Q324,CSVデータ2!Q324,CSVデータ3!Q324,CSVデータ4!Q324)","v":0},{"$f":"SUM(CSVデータ1!R324,CSVデータ2!R324,CSVデータ3!R324,CSVデータ4!R324)","v":0},{"$f":"SUM(CSVデータ1!S324,CSVデータ2!S324,CSVデータ3!S324,CSVデータ4!S324)","v":0},{"$f":"SUM(CSVデータ1!T324,CSVデータ2!T324,CSVデータ3!T324,CSVデータ4!T324)","v":0},{"$f":"SUM(CSVデータ1!U324,CSVデータ2!U324,CSVデータ3!U324,CSVデータ4!U324)","v":0},{"$f":"SUM(CSVデータ1!V324,CSVデータ2!V324,CSVデータ3!V324,CSVデータ4!V324)","v":0},{"$f":"SUM(CSVデータ1!W324,CSVデータ2!W324,CSVデータ3!W324,CSVデータ4!W324)","v":0},{"$f":"SUM(CSVデータ1!X324,CSVデータ2!X324,CSVデータ3!X324,CSVデータ4!X324)","v":0},{"$f":"SUM(CSVデータ1!Y324,CSVデータ2!Y324,CSVデータ3!Y324,CSVデータ4!Y324)","v":0},{"$f":"SUM(CSVデータ1!Z324,CSVデータ2!Z324,CSVデータ3!Z324,CSVデータ4!Z324)","v":0},{"$f":"SUM(CSVデータ1!AA324,CSVデータ2!AA324,CSVデータ3!AA324,CSVデータ4!AA324)","v":0},{"$f":"SUM(CSVデータ1!AB324,CSVデータ2!AB324,CSVデータ3!AB324,CSVデータ4!AB324)","v":0},{"$f":"SUM(CSVデータ1!AC324,CSVデータ2!AC324,CSVデータ3!AC324,CSVデータ4!AC324)","v":0},{"$f":"SUM(CSVデータ1!AD324,CSVデータ2!AD324,CSVデータ3!AD324,CSVデータ4!AD324)","v":0},{"$f":"SUM(CSVデータ1!AE324,CSVデータ2!AE324,CSVデータ3!AE324,CSVデータ4!AE324)","v":0},{"$f":"SUM(CSVデータ1!AF324,CSVデータ2!AF324,CSVデータ3!AF324,CSVデータ4!AF324)","v":0},{"$f":"SUM(CSVデータ1!AG324,CSVデータ2!AG324,CSVデータ3!AG324,CSVデータ4!AG324)","v":0}]
[{"$f":"CSVデータ1!A325","v":"明細部"},{"$f":"CSVデータ1!B325","v":"保険者（地区）"},{"$f":"CSVデータ1!C325","v":106},{"$f":"CSVデータ1!D325","v":"女"},{"$f":"SUM(CSVデータ1!E325,CSVデータ2!E325,CSVデータ3!E325,CSVデータ4!E325)","v":0},{"$f":"SUM(CSVデータ1!F325,CSVデータ2!F325,CSVデータ3!F325,CSVデータ4!F325)","v":0},{"$f":"SUM(CSVデータ1!G325,CSVデータ2!G325,CSVデータ3!G325,CSVデータ4!G325)","v":0},{"$f":"SUM(CSVデータ1!H325,CSVデータ2!H325,CSVデータ3!H325,CSVデータ4!H325)","v":0},{"$f":"SUM(CSVデータ1!I325,CSVデータ2!I325,CSVデータ3!I325,CSVデータ4!I325)","v":0},{"$f":"SUM(CSVデータ1!J325,CSVデータ2!J325,CSVデータ3!J325,CSVデータ4!J325)","v":0},{"$f":"SUM(CSVデータ1!K325,CSVデータ2!K325,CSVデータ3!K325,CSVデータ4!K325)","v":0},{"$f":"SUM(CSVデータ1!L325,CSVデータ2!L325,CSVデータ3!L325,CSVデータ4!L325)","v":0},{"$f":"SUM(CSVデータ1!M325,CSVデータ2!M325,CSVデータ3!M325,CSVデータ4!M325)","v":0},{"$f":"SUM(CSVデータ1!N325,CSVデータ2!N325,CSVデータ3!N325,CSVデータ4!N325)","v":0},{"$f":"SUM(CSVデータ1!O325,CSVデータ2!O325,CSVデータ3!O325,CSVデータ4!O325)","v":0},{"$f":"SUM(CSVデータ1!P325,CSVデータ2!P325,CSVデータ3!P325,CSVデータ4!P325)","v":0},{"$f":"SUM(CSVデータ1!Q325,CSVデータ2!Q325,CSVデータ3!Q325,CSVデータ4!Q325)","v":0},{"$f":"SUM(CSVデータ1!R325,CSVデータ2!R325,CSVデータ3!R325,CSVデータ4!R325)","v":0},{"$f":"SUM(CSVデータ1!S325,CSVデータ2!S325,CSVデータ3!S325,CSVデータ4!S325)","v":0},{"$f":"SUM(CSVデータ1!T325,CSVデータ2!T325,CSVデータ3!T325,CSVデータ4!T325)","v":0},{"$f":"SUM(CSVデータ1!U325,CSVデータ2!U325,CSVデータ3!U325,CSVデータ4!U325)","v":0},{"$f":"SUM(CSVデータ1!V325,CSVデータ2!V325,CSVデータ3!V325,CSVデータ4!V325)","v":0},{"$f":"SUM(CSVデータ1!W325,CSVデータ2!W325,CSVデータ3!W325,CSVデータ4!W325)","v":0},{"$f":"SUM(CSVデータ1!X325,CSVデータ2!X325,CSVデータ3!X325,CSVデータ4!X325)","v":0},{"$f":"SUM(CSVデータ1!Y325,CSVデータ2!Y325,CSVデータ3!Y325,CSVデータ4!Y325)","v":0},{"$f":"SUM(CSVデータ1!Z325,CSVデータ2!Z325,CSVデータ3!Z325,CSVデータ4!Z325)","v":0},{"$f":"SUM(CSVデータ1!AA325,CSVデータ2!AA325,CSVデータ3!AA325,CSVデータ4!AA325)","v":0},{"$f":"SUM(CSVデータ1!AB325,CSVデータ2!AB325,CSVデータ3!AB325,CSVデータ4!AB325)","v":0},{"$f":"SUM(CSVデータ1!AC325,CSVデータ2!AC325,CSVデータ3!AC325,CSVデータ4!AC325)","v":0},{"$f":"SUM(CSVデータ1!AD325,CSVデータ2!AD325,CSVデータ3!AD325,CSVデータ4!AD325)","v":0},{"$f":"SUM(CSVデータ1!AE325,CSVデータ2!AE325,CSVデータ3!AE325,CSVデータ4!AE325)","v":0},{"$f":"SUM(CSVデータ1!AF325,CSVデータ2!AF325,CSVデータ3!AF325,CSVデータ4!AF325)","v":0},{"$f":"SUM(CSVデータ1!AG325,CSVデータ2!AG325,CSVデータ3!AG325,CSVデータ4!AG325)","v":0}]
[{"$f":"CSVデータ1!A326","v":"明細部"},{"$f":"CSVデータ1!B326","v":"保険者（地区）"},{"$f":"CSVデータ1!C326","v":107},{"$f":"CSVデータ1!D326","v":"女"},{"$f":"SUM(CSVデータ1!E326,CSVデータ2!E326,CSVデータ3!E326,CSVデータ4!E326)","v":0},{"$f":"SUM(CSVデータ1!F326,CSVデータ2!F326,CSVデータ3!F326,CSVデータ4!F326)","v":0},{"$f":"SUM(CSVデータ1!G326,CSVデータ2!G326,CSVデータ3!G326,CSVデータ4!G326)","v":0},{"$f":"SUM(CSVデータ1!H326,CSVデータ2!H326,CSVデータ3!H326,CSVデータ4!H326)","v":0},{"$f":"SUM(CSVデータ1!I326,CSVデータ2!I326,CSVデータ3!I326,CSVデータ4!I326)","v":0},{"$f":"SUM(CSVデータ1!J326,CSVデータ2!J326,CSVデータ3!J326,CSVデータ4!J326)","v":0},{"$f":"SUM(CSVデータ1!K326,CSVデータ2!K326,CSVデータ3!K326,CSVデータ4!K326)","v":0},{"$f":"SUM(CSVデータ1!L326,CSVデータ2!L326,CSVデータ3!L326,CSVデータ4!L326)","v":0},{"$f":"SUM(CSVデータ1!M326,CSVデータ2!M326,CSVデータ3!M326,CSVデータ4!M326)","v":0},{"$f":"SUM(CSVデータ1!N326,CSVデータ2!N326,CSVデータ3!N326,CSVデータ4!N326)","v":0},{"$f":"SUM(CSVデータ1!O326,CSVデータ2!O326,CSVデータ3!O326,CSVデータ4!O326)","v":0},{"$f":"SUM(CSVデータ1!P326,CSVデータ2!P326,CSVデータ3!P326,CSVデータ4!P326)","v":0},{"$f":"SUM(CSVデータ1!Q326,CSVデータ2!Q326,CSVデータ3!Q326,CSVデータ4!Q326)","v":0},{"$f":"SUM(CSVデータ1!R326,CSVデータ2!R326,CSVデータ3!R326,CSVデータ4!R326)","v":0},{"$f":"SUM(CSVデータ1!S326,CSVデータ2!S326,CSVデータ3!S326,CSVデータ4!S326)","v":0},{"$f":"SUM(CSVデータ1!T326,CSVデータ2!T326,CSVデータ3!T326,CSVデータ4!T326)","v":0},{"$f":"SUM(CSVデータ1!U326,CSVデータ2!U326,CSVデータ3!U326,CSVデータ4!U326)","v":0},{"$f":"SUM(CSVデータ1!V326,CSVデータ2!V326,CSVデータ3!V326,CSVデータ4!V326)","v":0},{"$f":"SUM(CSVデータ1!W326,CSVデータ2!W326,CSVデータ3!W326,CSVデータ4!W326)","v":0},{"$f":"SUM(CSVデータ1!X326,CSVデータ2!X326,CSVデータ3!X326,CSVデータ4!X326)","v":0},{"$f":"SUM(CSVデータ1!Y326,CSVデータ2!Y326,CSVデータ3!Y326,CSVデータ4!Y326)","v":0},{"$f":"SUM(CSVデータ1!Z326,CSVデータ2!Z326,CSVデータ3!Z326,CSVデータ4!Z326)","v":0},{"$f":"SUM(CSVデータ1!AA326,CSVデータ2!AA326,CSVデータ3!AA326,CSVデータ4!AA326)","v":0},{"$f":"SUM(CSVデータ1!AB326,CSVデータ2!AB326,CSVデータ3!AB326,CSVデータ4!AB326)","v":0},{"$f":"SUM(CSVデータ1!AC326,CSVデータ2!AC326,CSVデータ3!AC326,CSVデータ4!AC326)","v":0},{"$f":"SUM(CSVデータ1!AD326,CSVデータ2!AD326,CSVデータ3!AD326,CSVデータ4!AD326)","v":0},{"$f":"SUM(CSVデータ1!AE326,CSVデータ2!AE326,CSVデータ3!AE326,CSVデータ4!AE326)","v":0},{"$f":"SUM(CSVデータ1!AF326,CSVデータ2!AF326,CSVデータ3!AF326,CSVデータ4!AF326)","v":0},{"$f":"SUM(CSVデータ1!AG326,CSVデータ2!AG326,CSVデータ3!AG326,CSVデータ4!AG326)","v":0}]
[{"$f":"CSVデータ1!A327","v":"明細部"},{"$f":"CSVデータ1!B327","v":"保険者（地区）"},{"$f":"CSVデータ1!C327","v":108},{"$f":"CSVデータ1!D327","v":"女"},{"$f":"SUM(CSVデータ1!E327,CSVデータ2!E327,CSVデータ3!E327,CSVデータ4!E327)","v":0},{"$f":"SUM(CSVデータ1!F327,CSVデータ2!F327,CSVデータ3!F327,CSVデータ4!F327)","v":0},{"$f":"SUM(CSVデータ1!G327,CSVデータ2!G327,CSVデータ3!G327,CSVデータ4!G327)","v":0},{"$f":"SUM(CSVデータ1!H327,CSVデータ2!H327,CSVデータ3!H327,CSVデータ4!H327)","v":0},{"$f":"SUM(CSVデータ1!I327,CSVデータ2!I327,CSVデータ3!I327,CSVデータ4!I327)","v":0},{"$f":"SUM(CSVデータ1!J327,CSVデータ2!J327,CSVデータ3!J327,CSVデータ4!J327)","v":0},{"$f":"SUM(CSVデータ1!K327,CSVデータ2!K327,CSVデータ3!K327,CSVデータ4!K327)","v":0},{"$f":"SUM(CSVデータ1!L327,CSVデータ2!L327,CSVデータ3!L327,CSVデータ4!L327)","v":0},{"$f":"SUM(CSVデータ1!M327,CSVデータ2!M327,CSVデータ3!M327,CSVデータ4!M327)","v":0},{"$f":"SUM(CSVデータ1!N327,CSVデータ2!N327,CSVデータ3!N327,CSVデータ4!N327)","v":0},{"$f":"SUM(CSVデータ1!O327,CSVデータ2!O327,CSVデータ3!O327,CSVデータ4!O327)","v":0},{"$f":"SUM(CSVデータ1!P327,CSVデータ2!P327,CSVデータ3!P327,CSVデータ4!P327)","v":0},{"$f":"SUM(CSVデータ1!Q327,CSVデータ2!Q327,CSVデータ3!Q327,CSVデータ4!Q327)","v":0},{"$f":"SUM(CSVデータ1!R327,CSVデータ2!R327,CSVデータ3!R327,CSVデータ4!R327)","v":0},{"$f":"SUM(CSVデータ1!S327,CSVデータ2!S327,CSVデータ3!S327,CSVデータ4!S327)","v":0},{"$f":"SUM(CSVデータ1!T327,CSVデータ2!T327,CSVデータ3!T327,CSVデータ4!T327)","v":0},{"$f":"SUM(CSVデータ1!U327,CSVデータ2!U327,CSVデータ3!U327,CSVデータ4!U327)","v":0},{"$f":"SUM(CSVデータ1!V327,CSVデータ2!V327,CSVデータ3!V327,CSVデータ4!V327)","v":0},{"$f":"SUM(CSVデータ1!W327,CSVデータ2!W327,CSVデータ3!W327,CSVデータ4!W327)","v":0},{"$f":"SUM(CSVデータ1!X327,CSVデータ2!X327,CSVデータ3!X327,CSVデータ4!X327)","v":0},{"$f":"SUM(CSVデータ1!Y327,CSVデータ2!Y327,CSVデータ3!Y327,CSVデータ4!Y327)","v":0},{"$f":"SUM(CSVデータ1!Z327,CSVデータ2!Z327,CSVデータ3!Z327,CSVデータ4!Z327)","v":0},{"$f":"SUM(CSVデータ1!AA327,CSVデータ2!AA327,CSVデータ3!AA327,CSVデータ4!AA327)","v":0},{"$f":"SUM(CSVデータ1!AB327,CSVデータ2!AB327,CSVデータ3!AB327,CSVデータ4!AB327)","v":0},{"$f":"SUM(CSVデータ1!AC327,CSVデータ2!AC327,CSVデータ3!AC327,CSVデータ4!AC327)","v":0},{"$f":"SUM(CSVデータ1!AD327,CSVデータ2!AD327,CSVデータ3!AD327,CSVデータ4!AD327)","v":0},{"$f":"SUM(CSVデータ1!AE327,CSVデータ2!AE327,CSVデータ3!AE327,CSVデータ4!AE327)","v":0},{"$f":"SUM(CSVデータ1!AF327,CSVデータ2!AF327,CSVデータ3!AF327,CSVデータ4!AF327)","v":0},{"$f":"SUM(CSVデータ1!AG327,CSVデータ2!AG327,CSVデータ3!AG327,CSVデータ4!AG327)","v":0}]
[{"$f":"CSVデータ1!A328","v":"明細部"},{"$f":"CSVデータ1!B328","v":"保険者（地区）"},{"$f":"CSVデータ1!C328","v":109},{"$f":"CSVデータ1!D328","v":"女"},{"$f":"SUM(CSVデータ1!E328,CSVデータ2!E328,CSVデータ3!E328,CSVデータ4!E328)","v":0},{"$f":"SUM(CSVデータ1!F328,CSVデータ2!F328,CSVデータ3!F328,CSVデータ4!F328)","v":0},{"$f":"SUM(CSVデータ1!G328,CSVデータ2!G328,CSVデータ3!G328,CSVデータ4!G328)","v":0},{"$f":"SUM(CSVデータ1!H328,CSVデータ2!H328,CSVデータ3!H328,CSVデータ4!H328)","v":0},{"$f":"SUM(CSVデータ1!I328,CSVデータ2!I328,CSVデータ3!I328,CSVデータ4!I328)","v":0},{"$f":"SUM(CSVデータ1!J328,CSVデータ2!J328,CSVデータ3!J328,CSVデータ4!J328)","v":0},{"$f":"SUM(CSVデータ1!K328,CSVデータ2!K328,CSVデータ3!K328,CSVデータ4!K328)","v":0},{"$f":"SUM(CSVデータ1!L328,CSVデータ2!L328,CSVデータ3!L328,CSVデータ4!L328)","v":0},{"$f":"SUM(CSVデータ1!M328,CSVデータ2!M328,CSVデータ3!M328,CSVデータ4!M328)","v":0},{"$f":"SUM(CSVデータ1!N328,CSVデータ2!N328,CSVデータ3!N328,CSVデータ4!N328)","v":0},{"$f":"SUM(CSVデータ1!O328,CSVデータ2!O328,CSVデータ3!O328,CSVデータ4!O328)","v":0},{"$f":"SUM(CSVデータ1!P328,CSVデータ2!P328,CSVデータ3!P328,CSVデータ4!P328)","v":0},{"$f":"SUM(CSVデータ1!Q328,CSVデータ2!Q328,CSVデータ3!Q328,CSVデータ4!Q328)","v":0},{"$f":"SUM(CSVデータ1!R328,CSVデータ2!R328,CSVデータ3!R328,CSVデータ4!R328)","v":0},{"$f":"SUM(CSVデータ1!S328,CSVデータ2!S328,CSVデータ3!S328,CSVデータ4!S328)","v":0},{"$f":"SUM(CSVデータ1!T328,CSVデータ2!T328,CSVデータ3!T328,CSVデータ4!T328)","v":0},{"$f":"SUM(CSVデータ1!U328,CSVデータ2!U328,CSVデータ3!U328,CSVデータ4!U328)","v":0},{"$f":"SUM(CSVデータ1!V328,CSVデータ2!V328,CSVデータ3!V328,CSVデータ4!V328)","v":0},{"$f":"SUM(CSVデータ1!W328,CSVデータ2!W328,CSVデータ3!W328,CSVデータ4!W328)","v":0},{"$f":"SUM(CSVデータ1!X328,CSVデータ2!X328,CSVデータ3!X328,CSVデータ4!X328)","v":0},{"$f":"SUM(CSVデータ1!Y328,CSVデータ2!Y328,CSVデータ3!Y328,CSVデータ4!Y328)","v":0},{"$f":"SUM(CSVデータ1!Z328,CSVデータ2!Z328,CSVデータ3!Z328,CSVデータ4!Z328)","v":0},{"$f":"SUM(CSVデータ1!AA328,CSVデータ2!AA328,CSVデータ3!AA328,CSVデータ4!AA328)","v":0},{"$f":"SUM(CSVデータ1!AB328,CSVデータ2!AB328,CSVデータ3!AB328,CSVデータ4!AB328)","v":0},{"$f":"SUM(CSVデータ1!AC328,CSVデータ2!AC328,CSVデータ3!AC328,CSVデータ4!AC328)","v":0},{"$f":"SUM(CSVデータ1!AD328,CSVデータ2!AD328,CSVデータ3!AD328,CSVデータ4!AD328)","v":0},{"$f":"SUM(CSVデータ1!AE328,CSVデータ2!AE328,CSVデータ3!AE328,CSVデータ4!AE328)","v":0},{"$f":"SUM(CSVデータ1!AF328,CSVデータ2!AF328,CSVデータ3!AF328,CSVデータ4!AF328)","v":0},{"$f":"SUM(CSVデータ1!AG328,CSVデータ2!AG328,CSVデータ3!AG328,CSVデータ4!AG328)","v":0}]
[{"$f":"CSVデータ1!A329","v":"明細部"},{"$f":"CSVデータ1!B329","v":"保険者（地区）"},{"$f":"CSVデータ1!C329","v":110},{"$f":"CSVデータ1!D329","v":"女"},{"$f":"SUM(CSVデータ1!E329,CSVデータ2!E329,CSVデータ3!E329,CSVデータ4!E329)","v":0},{"$f":"SUM(CSVデータ1!F329,CSVデータ2!F329,CSVデータ3!F329,CSVデータ4!F329)","v":0},{"$f":"SUM(CSVデータ1!G329,CSVデータ2!G329,CSVデータ3!G329,CSVデータ4!G329)","v":0},{"$f":"SUM(CSVデータ1!H329,CSVデータ2!H329,CSVデータ3!H329,CSVデータ4!H329)","v":0},{"$f":"SUM(CSVデータ1!I329,CSVデータ2!I329,CSVデータ3!I329,CSVデータ4!I329)","v":0},{"$f":"SUM(CSVデータ1!J329,CSVデータ2!J329,CSVデータ3!J329,CSVデータ4!J329)","v":0},{"$f":"SUM(CSVデータ1!K329,CSVデータ2!K329,CSVデータ3!K329,CSVデータ4!K329)","v":0},{"$f":"SUM(CSVデータ1!L329,CSVデータ2!L329,CSVデータ3!L329,CSVデータ4!L329)","v":0},{"$f":"SUM(CSVデータ1!M329,CSVデータ2!M329,CSVデータ3!M329,CSVデータ4!M329)","v":0},{"$f":"SUM(CSVデータ1!N329,CSVデータ2!N329,CSVデータ3!N329,CSVデータ4!N329)","v":0},{"$f":"SUM(CSVデータ1!O329,CSVデータ2!O329,CSVデータ3!O329,CSVデータ4!O329)","v":0},{"$f":"SUM(CSVデータ1!P329,CSVデータ2!P329,CSVデータ3!P329,CSVデータ4!P329)","v":0},{"$f":"SUM(CSVデータ1!Q329,CSVデータ2!Q329,CSVデータ3!Q329,CSVデータ4!Q329)","v":0},{"$f":"SUM(CSVデータ1!R329,CSVデータ2!R329,CSVデータ3!R329,CSVデータ4!R329)","v":0},{"$f":"SUM(CSVデータ1!S329,CSVデータ2!S329,CSVデータ3!S329,CSVデータ4!S329)","v":0},{"$f":"SUM(CSVデータ1!T329,CSVデータ2!T329,CSVデータ3!T329,CSVデータ4!T329)","v":0},{"$f":"SUM(CSVデータ1!U329,CSVデータ2!U329,CSVデータ3!U329,CSVデータ4!U329)","v":0},{"$f":"SUM(CSVデータ1!V329,CSVデータ2!V329,CSVデータ3!V329,CSVデータ4!V329)","v":0},{"$f":"SUM(CSVデータ1!W329,CSVデータ2!W329,CSVデータ3!W329,CSVデータ4!W329)","v":0},{"$f":"SUM(CSVデータ1!X329,CSVデータ2!X329,CSVデータ3!X329,CSVデータ4!X329)","v":0},{"$f":"SUM(CSVデータ1!Y329,CSVデータ2!Y329,CSVデータ3!Y329,CSVデータ4!Y329)","v":0},{"$f":"SUM(CSVデータ1!Z329,CSVデータ2!Z329,CSVデータ3!Z329,CSVデータ4!Z329)","v":0},{"$f":"SUM(CSVデータ1!AA329,CSVデータ2!AA329,CSVデータ3!AA329,CSVデータ4!AA329)","v":0},{"$f":"SUM(CSVデータ1!AB329,CSVデータ2!AB329,CSVデータ3!AB329,CSVデータ4!AB329)","v":0},{"$f":"SUM(CSVデータ1!AC329,CSVデータ2!AC329,CSVデータ3!AC329,CSVデータ4!AC329)","v":0},{"$f":"SUM(CSVデータ1!AD329,CSVデータ2!AD329,CSVデータ3!AD329,CSVデータ4!AD329)","v":0},{"$f":"SUM(CSVデータ1!AE329,CSVデータ2!AE329,CSVデータ3!AE329,CSVデータ4!AE329)","v":0},{"$f":"SUM(CSVデータ1!AF329,CSVデータ2!AF329,CSVデータ3!AF329,CSVデータ4!AF329)","v":0},{"$f":"SUM(CSVデータ1!AG329,CSVデータ2!AG329,CSVデータ3!AG329,CSVデータ4!AG329)","v":0}]
[{"$f":"CSVデータ1!A330","v":"明細部"},{"$f":"CSVデータ1!B330","v":"保険者（地区）"},{"$f":"CSVデータ1!C330","v":111},{"$f":"CSVデータ1!D330","v":"女"},{"$f":"SUM(CSVデータ1!E330,CSVデータ2!E330,CSVデータ3!E330,CSVデータ4!E330)","v":0},{"$f":"SUM(CSVデータ1!F330,CSVデータ2!F330,CSVデータ3!F330,CSVデータ4!F330)","v":0},{"$f":"SUM(CSVデータ1!G330,CSVデータ2!G330,CSVデータ3!G330,CSVデータ4!G330)","v":0},{"$f":"SUM(CSVデータ1!H330,CSVデータ2!H330,CSVデータ3!H330,CSVデータ4!H330)","v":0},{"$f":"SUM(CSVデータ1!I330,CSVデータ2!I330,CSVデータ3!I330,CSVデータ4!I330)","v":0},{"$f":"SUM(CSVデータ1!J330,CSVデータ2!J330,CSVデータ3!J330,CSVデータ4!J330)","v":0},{"$f":"SUM(CSVデータ1!K330,CSVデータ2!K330,CSVデータ3!K330,CSVデータ4!K330)","v":0},{"$f":"SUM(CSVデータ1!L330,CSVデータ2!L330,CSVデータ3!L330,CSVデータ4!L330)","v":0},{"$f":"SUM(CSVデータ1!M330,CSVデータ2!M330,CSVデータ3!M330,CSVデータ4!M330)","v":0},{"$f":"SUM(CSVデータ1!N330,CSVデータ2!N330,CSVデータ3!N330,CSVデータ4!N330)","v":0},{"$f":"SUM(CSVデータ1!O330,CSVデータ2!O330,CSVデータ3!O330,CSVデータ4!O330)","v":0},{"$f":"SUM(CSVデータ1!P330,CSVデータ2!P330,CSVデータ3!P330,CSVデータ4!P330)","v":0},{"$f":"SUM(CSVデータ1!Q330,CSVデータ2!Q330,CSVデータ3!Q330,CSVデータ4!Q330)","v":0},{"$f":"SUM(CSVデータ1!R330,CSVデータ2!R330,CSVデータ3!R330,CSVデータ4!R330)","v":0},{"$f":"SUM(CSVデータ1!S330,CSVデータ2!S330,CSVデータ3!S330,CSVデータ4!S330)","v":0},{"$f":"SUM(CSVデータ1!T330,CSVデータ2!T330,CSVデータ3!T330,CSVデータ4!T330)","v":0},{"$f":"SUM(CSVデータ1!U330,CSVデータ2!U330,CSVデータ3!U330,CSVデータ4!U330)","v":0},{"$f":"SUM(CSVデータ1!V330,CSVデータ2!V330,CSVデータ3!V330,CSVデータ4!V330)","v":0},{"$f":"SUM(CSVデータ1!W330,CSVデータ2!W330,CSVデータ3!W330,CSVデータ4!W330)","v":0},{"$f":"SUM(CSVデータ1!X330,CSVデータ2!X330,CSVデータ3!X330,CSVデータ4!X330)","v":0},{"$f":"SUM(CSVデータ1!Y330,CSVデータ2!Y330,CSVデータ3!Y330,CSVデータ4!Y330)","v":0},{"$f":"SUM(CSVデータ1!Z330,CSVデータ2!Z330,CSVデータ3!Z330,CSVデータ4!Z330)","v":0},{"$f":"SUM(CSVデータ1!AA330,CSVデータ2!AA330,CSVデータ3!AA330,CSVデータ4!AA330)","v":0},{"$f":"SUM(CSVデータ1!AB330,CSVデータ2!AB330,CSVデータ3!AB330,CSVデータ4!AB330)","v":0},{"$f":"SUM(CSVデータ1!AC330,CSVデータ2!AC330,CSVデータ3!AC330,CSVデータ4!AC330)","v":0},{"$f":"SUM(CSVデータ1!AD330,CSVデータ2!AD330,CSVデータ3!AD330,CSVデータ4!AD330)","v":0},{"$f":"SUM(CSVデータ1!AE330,CSVデータ2!AE330,CSVデータ3!AE330,CSVデータ4!AE330)","v":0},{"$f":"SUM(CSVデータ1!AF330,CSVデータ2!AF330,CSVデータ3!AF330,CSVデータ4!AF330)","v":0},{"$f":"SUM(CSVデータ1!AG330,CSVデータ2!AG330,CSVデータ3!AG330,CSVデータ4!AG330)","v":0}]
[{"$f":"CSVデータ1!A331","v":"明細部"},{"$f":"CSVデータ1!B331","v":"保険者（地区）"},{"$f":"CSVデータ1!C331","v":112},{"$f":"CSVデータ1!D331","v":"女"},{"$f":"SUM(CSVデータ1!E331,CSVデータ2!E331,CSVデータ3!E331,CSVデータ4!E331)","v":0},{"$f":"SUM(CSVデータ1!F331,CSVデータ2!F331,CSVデータ3!F331,CSVデータ4!F331)","v":0},{"$f":"SUM(CSVデータ1!G331,CSVデータ2!G331,CSVデータ3!G331,CSVデータ4!G331)","v":0},{"$f":"SUM(CSVデータ1!H331,CSVデータ2!H331,CSVデータ3!H331,CSVデータ4!H331)","v":0},{"$f":"SUM(CSVデータ1!I331,CSVデータ2!I331,CSVデータ3!I331,CSVデータ4!I331)","v":0},{"$f":"SUM(CSVデータ1!J331,CSVデータ2!J331,CSVデータ3!J331,CSVデータ4!J331)","v":0},{"$f":"SUM(CSVデータ1!K331,CSVデータ2!K331,CSVデータ3!K331,CSVデータ4!K331)","v":0},{"$f":"SUM(CSVデータ1!L331,CSVデータ2!L331,CSVデータ3!L331,CSVデータ4!L331)","v":0},{"$f":"SUM(CSVデータ1!M331,CSVデータ2!M331,CSVデータ3!M331,CSVデータ4!M331)","v":0},{"$f":"SUM(CSVデータ1!N331,CSVデータ2!N331,CSVデータ3!N331,CSVデータ4!N331)","v":0},{"$f":"SUM(CSVデータ1!O331,CSVデータ2!O331,CSVデータ3!O331,CSVデータ4!O331)","v":0},{"$f":"SUM(CSVデータ1!P331,CSVデータ2!P331,CSVデータ3!P331,CSVデータ4!P331)","v":0},{"$f":"SUM(CSVデータ1!Q331,CSVデータ2!Q331,CSVデータ3!Q331,CSVデータ4!Q331)","v":0},{"$f":"SUM(CSVデータ1!R331,CSVデータ2!R331,CSVデータ3!R331,CSVデータ4!R331)","v":0},{"$f":"SUM(CSVデータ1!S331,CSVデータ2!S331,CSVデータ3!S331,CSVデータ4!S331)","v":0},{"$f":"SUM(CSVデータ1!T331,CSVデータ2!T331,CSVデータ3!T331,CSVデータ4!T331)","v":0},{"$f":"SUM(CSVデータ1!U331,CSVデータ2!U331,CSVデータ3!U331,CSVデータ4!U331)","v":0},{"$f":"SUM(CSVデータ1!V331,CSVデータ2!V331,CSVデータ3!V331,CSVデータ4!V331)","v":0},{"$f":"SUM(CSVデータ1!W331,CSVデータ2!W331,CSVデータ3!W331,CSVデータ4!W331)","v":0},{"$f":"SUM(CSVデータ1!X331,CSVデータ2!X331,CSVデータ3!X331,CSVデータ4!X331)","v":0},{"$f":"SUM(CSVデータ1!Y331,CSVデータ2!Y331,CSVデータ3!Y331,CSVデータ4!Y331)","v":0},{"$f":"SUM(CSVデータ1!Z331,CSVデータ2!Z331,CSVデータ3!Z331,CSVデータ4!Z331)","v":0},{"$f":"SUM(CSVデータ1!AA331,CSVデータ2!AA331,CSVデータ3!AA331,CSVデータ4!AA331)","v":0},{"$f":"SUM(CSVデータ1!AB331,CSVデータ2!AB331,CSVデータ3!AB331,CSVデータ4!AB331)","v":0},{"$f":"SUM(CSVデータ1!AC331,CSVデータ2!AC331,CSVデータ3!AC331,CSVデータ4!AC331)","v":0},{"$f":"SUM(CSVデータ1!AD331,CSVデータ2!AD331,CSVデータ3!AD331,CSVデータ4!AD331)","v":0},{"$f":"SUM(CSVデータ1!AE331,CSVデータ2!AE331,CSVデータ3!AE331,CSVデータ4!AE331)","v":0},{"$f":"SUM(CSVデータ1!AF331,CSVデータ2!AF331,CSVデータ3!AF331,CSVデータ4!AF331)","v":0},{"$f":"SUM(CSVデータ1!AG331,CSVデータ2!AG331,CSVデータ3!AG331,CSVデータ4!AG331)","v":0}]
[{"$f":"CSVデータ1!A332","v":"明細部"},{"$f":"CSVデータ1!B332","v":"保険者（地区）"},{"$f":"CSVデータ1!C332","v":113},{"$f":"CSVデータ1!D332","v":"女"},{"$f":"SUM(CSVデータ1!E332,CSVデータ2!E332,CSVデータ3!E332,CSVデータ4!E332)","v":0},{"$f":"SUM(CSVデータ1!F332,CSVデータ2!F332,CSVデータ3!F332,CSVデータ4!F332)","v":0},{"$f":"SUM(CSVデータ1!G332,CSVデータ2!G332,CSVデータ3!G332,CSVデータ4!G332)","v":0},{"$f":"SUM(CSVデータ1!H332,CSVデータ2!H332,CSVデータ3!H332,CSVデータ4!H332)","v":0},{"$f":"SUM(CSVデータ1!I332,CSVデータ2!I332,CSVデータ3!I332,CSVデータ4!I332)","v":0},{"$f":"SUM(CSVデータ1!J332,CSVデータ2!J332,CSVデータ3!J332,CSVデータ4!J332)","v":0},{"$f":"SUM(CSVデータ1!K332,CSVデータ2!K332,CSVデータ3!K332,CSVデータ4!K332)","v":0},{"$f":"SUM(CSVデータ1!L332,CSVデータ2!L332,CSVデータ3!L332,CSVデータ4!L332)","v":0},{"$f":"SUM(CSVデータ1!M332,CSVデータ2!M332,CSVデータ3!M332,CSVデータ4!M332)","v":0},{"$f":"SUM(CSVデータ1!N332,CSVデータ2!N332,CSVデータ3!N332,CSVデータ4!N332)","v":0},{"$f":"SUM(CSVデータ1!O332,CSVデータ2!O332,CSVデータ3!O332,CSVデータ4!O332)","v":0},{"$f":"SUM(CSVデータ1!P332,CSVデータ2!P332,CSVデータ3!P332,CSVデータ4!P332)","v":0},{"$f":"SUM(CSVデータ1!Q332,CSVデータ2!Q332,CSVデータ3!Q332,CSVデータ4!Q332)","v":0},{"$f":"SUM(CSVデータ1!R332,CSVデータ2!R332,CSVデータ3!R332,CSVデータ4!R332)","v":0},{"$f":"SUM(CSVデータ1!S332,CSVデータ2!S332,CSVデータ3!S332,CSVデータ4!S332)","v":0},{"$f":"SUM(CSVデータ1!T332,CSVデータ2!T332,CSVデータ3!T332,CSVデータ4!T332)","v":0},{"$f":"SUM(CSVデータ1!U332,CSVデータ2!U332,CSVデータ3!U332,CSVデータ4!U332)","v":0},{"$f":"SUM(CSVデータ1!V332,CSVデータ2!V332,CSVデータ3!V332,CSVデータ4!V332)","v":0},{"$f":"SUM(CSVデータ1!W332,CSVデータ2!W332,CSVデータ3!W332,CSVデータ4!W332)","v":0},{"$f":"SUM(CSVデータ1!X332,CSVデータ2!X332,CSVデータ3!X332,CSVデータ4!X332)","v":0},{"$f":"SUM(CSVデータ1!Y332,CSVデータ2!Y332,CSVデータ3!Y332,CSVデータ4!Y332)","v":0},{"$f":"SUM(CSVデータ1!Z332,CSVデータ2!Z332,CSVデータ3!Z332,CSVデータ4!Z332)","v":0},{"$f":"SUM(CSVデータ1!AA332,CSVデータ2!AA332,CSVデータ3!AA332,CSVデータ4!AA332)","v":0},{"$f":"SUM(CSVデータ1!AB332,CSVデータ2!AB332,CSVデータ3!AB332,CSVデータ4!AB332)","v":0},{"$f":"SUM(CSVデータ1!AC332,CSVデータ2!AC332,CSVデータ3!AC332,CSVデータ4!AC332)","v":0},{"$f":"SUM(CSVデータ1!AD332,CSVデータ2!AD332,CSVデータ3!AD332,CSVデータ4!AD332)","v":0},{"$f":"SUM(CSVデータ1!AE332,CSVデータ2!AE332,CSVデータ3!AE332,CSVデータ4!AE332)","v":0},{"$f":"SUM(CSVデータ1!AF332,CSVデータ2!AF332,CSVデータ3!AF332,CSVデータ4!AF332)","v":0},{"$f":"SUM(CSVデータ1!AG332,CSVデータ2!AG332,CSVデータ3!AG332,CSVデータ4!AG332)","v":0}]
[{"$f":"CSVデータ1!A333","v":"明細部"},{"$f":"CSVデータ1!B333","v":"保険者（地区）"},{"$f":"CSVデータ1!C333","v":114},{"$f":"CSVデータ1!D333","v":"女"},{"$f":"SUM(CSVデータ1!E333,CSVデータ2!E333,CSVデータ3!E333,CSVデータ4!E333)","v":0},{"$f":"SUM(CSVデータ1!F333,CSVデータ2!F333,CSVデータ3!F333,CSVデータ4!F333)","v":0},{"$f":"SUM(CSVデータ1!G333,CSVデータ2!G333,CSVデータ3!G333,CSVデータ4!G333)","v":0},{"$f":"SUM(CSVデータ1!H333,CSVデータ2!H333,CSVデータ3!H333,CSVデータ4!H333)","v":0},{"$f":"SUM(CSVデータ1!I333,CSVデータ2!I333,CSVデータ3!I333,CSVデータ4!I333)","v":0},{"$f":"SUM(CSVデータ1!J333,CSVデータ2!J333,CSVデータ3!J333,CSVデータ4!J333)","v":0},{"$f":"SUM(CSVデータ1!K333,CSVデータ2!K333,CSVデータ3!K333,CSVデータ4!K333)","v":0},{"$f":"SUM(CSVデータ1!L333,CSVデータ2!L333,CSVデータ3!L333,CSVデータ4!L333)","v":0},{"$f":"SUM(CSVデータ1!M333,CSVデータ2!M333,CSVデータ3!M333,CSVデータ4!M333)","v":0},{"$f":"SUM(CSVデータ1!N333,CSVデータ2!N333,CSVデータ3!N333,CSVデータ4!N333)","v":0},{"$f":"SUM(CSVデータ1!O333,CSVデータ2!O333,CSVデータ3!O333,CSVデータ4!O333)","v":0},{"$f":"SUM(CSVデータ1!P333,CSVデータ2!P333,CSVデータ3!P333,CSVデータ4!P333)","v":0},{"$f":"SUM(CSVデータ1!Q333,CSVデータ2!Q333,CSVデータ3!Q333,CSVデータ4!Q333)","v":0},{"$f":"SUM(CSVデータ1!R333,CSVデータ2!R333,CSVデータ3!R333,CSVデータ4!R333)","v":0},{"$f":"SUM(CSVデータ1!S333,CSVデータ2!S333,CSVデータ3!S333,CSVデータ4!S333)","v":0},{"$f":"SUM(CSVデータ1!T333,CSVデータ2!T333,CSVデータ3!T333,CSVデータ4!T333)","v":0},{"$f":"SUM(CSVデータ1!U333,CSVデータ2!U333,CSVデータ3!U333,CSVデータ4!U333)","v":0},{"$f":"SUM(CSVデータ1!V333,CSVデータ2!V333,CSVデータ3!V333,CSVデータ4!V333)","v":0},{"$f":"SUM(CSVデータ1!W333,CSVデータ2!W333,CSVデータ3!W333,CSVデータ4!W333)","v":0},{"$f":"SUM(CSVデータ1!X333,CSVデータ2!X333,CSVデータ3!X333,CSVデータ4!X333)","v":0},{"$f":"SUM(CSVデータ1!Y333,CSVデータ2!Y333,CSVデータ3!Y333,CSVデータ4!Y333)","v":0},{"$f":"SUM(CSVデータ1!Z333,CSVデータ2!Z333,CSVデータ3!Z333,CSVデータ4!Z333)","v":0},{"$f":"SUM(CSVデータ1!AA333,CSVデータ2!AA333,CSVデータ3!AA333,CSVデータ4!AA333)","v":0},{"$f":"SUM(CSVデータ1!AB333,CSVデータ2!AB333,CSVデータ3!AB333,CSVデータ4!AB333)","v":0},{"$f":"SUM(CSVデータ1!AC333,CSVデータ2!AC333,CSVデータ3!AC333,CSVデータ4!AC333)","v":0},{"$f":"SUM(CSVデータ1!AD333,CSVデータ2!AD333,CSVデータ3!AD333,CSVデータ4!AD333)","v":0},{"$f":"SUM(CSVデータ1!AE333,CSVデータ2!AE333,CSVデータ3!AE333,CSVデータ4!AE333)","v":0},{"$f":"SUM(CSVデータ1!AF333,CSVデータ2!AF333,CSVデータ3!AF333,CSVデータ4!AF333)","v":0},{"$f":"SUM(CSVデータ1!AG333,CSVデータ2!AG333,CSVデータ3!AG333,CSVデータ4!AG333)","v":0}]
[{"$f":"CSVデータ1!A334","v":"明細部"},{"$f":"CSVデータ1!B334","v":"保険者（地区）"},{"$f":"CSVデータ1!C334","v":115},{"$f":"CSVデータ1!D334","v":"女"},{"$f":"SUM(CSVデータ1!E334,CSVデータ2!E334,CSVデータ3!E334,CSVデータ4!E334)","v":0},{"$f":"SUM(CSVデータ1!F334,CSVデータ2!F334,CSVデータ3!F334,CSVデータ4!F334)","v":0},{"$f":"SUM(CSVデータ1!G334,CSVデータ2!G334,CSVデータ3!G334,CSVデータ4!G334)","v":0},{"$f":"SUM(CSVデータ1!H334,CSVデータ2!H334,CSVデータ3!H334,CSVデータ4!H334)","v":0},{"$f":"SUM(CSVデータ1!I334,CSVデータ2!I334,CSVデータ3!I334,CSVデータ4!I334)","v":0},{"$f":"SUM(CSVデータ1!J334,CSVデータ2!J334,CSVデータ3!J334,CSVデータ4!J334)","v":0},{"$f":"SUM(CSVデータ1!K334,CSVデータ2!K334,CSVデータ3!K334,CSVデータ4!K334)","v":0},{"$f":"SUM(CSVデータ1!L334,CSVデータ2!L334,CSVデータ3!L334,CSVデータ4!L334)","v":0},{"$f":"SUM(CSVデータ1!M334,CSVデータ2!M334,CSVデータ3!M334,CSVデータ4!M334)","v":0},{"$f":"SUM(CSVデータ1!N334,CSVデータ2!N334,CSVデータ3!N334,CSVデータ4!N334)","v":0},{"$f":"SUM(CSVデータ1!O334,CSVデータ2!O334,CSVデータ3!O334,CSVデータ4!O334)","v":0},{"$f":"SUM(CSVデータ1!P334,CSVデータ2!P334,CSVデータ3!P334,CSVデータ4!P334)","v":0},{"$f":"SUM(CSVデータ1!Q334,CSVデータ2!Q334,CSVデータ3!Q334,CSVデータ4!Q334)","v":0},{"$f":"SUM(CSVデータ1!R334,CSVデータ2!R334,CSVデータ3!R334,CSVデータ4!R334)","v":0},{"$f":"SUM(CSVデータ1!S334,CSVデータ2!S334,CSVデータ3!S334,CSVデータ4!S334)","v":0},{"$f":"SUM(CSVデータ1!T334,CSVデータ2!T334,CSVデータ3!T334,CSVデータ4!T334)","v":0},{"$f":"SUM(CSVデータ1!U334,CSVデータ2!U334,CSVデータ3!U334,CSVデータ4!U334)","v":0},{"$f":"SUM(CSVデータ1!V334,CSVデータ2!V334,CSVデータ3!V334,CSVデータ4!V334)","v":0},{"$f":"SUM(CSVデータ1!W334,CSVデータ2!W334,CSVデータ3!W334,CSVデータ4!W334)","v":0},{"$f":"SUM(CSVデータ1!X334,CSVデータ2!X334,CSVデータ3!X334,CSVデータ4!X334)","v":0},{"$f":"SUM(CSVデータ1!Y334,CSVデータ2!Y334,CSVデータ3!Y334,CSVデータ4!Y334)","v":0},{"$f":"SUM(CSVデータ1!Z334,CSVデータ2!Z334,CSVデータ3!Z334,CSVデータ4!Z334)","v":0},{"$f":"SUM(CSVデータ1!AA334,CSVデータ2!AA334,CSVデータ3!AA334,CSVデータ4!AA334)","v":0},{"$f":"SUM(CSVデータ1!AB334,CSVデータ2!AB334,CSVデータ3!AB334,CSVデータ4!AB334)","v":0},{"$f":"SUM(CSVデータ1!AC334,CSVデータ2!AC334,CSVデータ3!AC334,CSVデータ4!AC334)","v":0},{"$f":"SUM(CSVデータ1!AD334,CSVデータ2!AD334,CSVデータ3!AD334,CSVデータ4!AD334)","v":0},{"$f":"SUM(CSVデータ1!AE334,CSVデータ2!AE334,CSVデータ3!AE334,CSVデータ4!AE334)","v":0},{"$f":"SUM(CSVデータ1!AF334,CSVデータ2!AF334,CSVデータ3!AF334,CSVデータ4!AF334)","v":0},{"$f":"SUM(CSVデータ1!AG334,CSVデータ2!AG334,CSVデータ3!AG334,CSVデータ4!AG334)","v":0}]
[{"$f":"CSVデータ1!A335","v":"明細部"},{"$f":"CSVデータ1!B335","v":"保険者（地区）"},{"$f":"CSVデータ1!C335","v":116},{"$f":"CSVデータ1!D335","v":"女"},{"$f":"SUM(CSVデータ1!E335,CSVデータ2!E335,CSVデータ3!E335,CSVデータ4!E335)","v":0},{"$f":"SUM(CSVデータ1!F335,CSVデータ2!F335,CSVデータ3!F335,CSVデータ4!F335)","v":0},{"$f":"SUM(CSVデータ1!G335,CSVデータ2!G335,CSVデータ3!G335,CSVデータ4!G335)","v":0},{"$f":"SUM(CSVデータ1!H335,CSVデータ2!H335,CSVデータ3!H335,CSVデータ4!H335)","v":0},{"$f":"SUM(CSVデータ1!I335,CSVデータ2!I335,CSVデータ3!I335,CSVデータ4!I335)","v":0},{"$f":"SUM(CSVデータ1!J335,CSVデータ2!J335,CSVデータ3!J335,CSVデータ4!J335)","v":0},{"$f":"SUM(CSVデータ1!K335,CSVデータ2!K335,CSVデータ3!K335,CSVデータ4!K335)","v":0},{"$f":"SUM(CSVデータ1!L335,CSVデータ2!L335,CSVデータ3!L335,CSVデータ4!L335)","v":0},{"$f":"SUM(CSVデータ1!M335,CSVデータ2!M335,CSVデータ3!M335,CSVデータ4!M335)","v":0},{"$f":"SUM(CSVデータ1!N335,CSVデータ2!N335,CSVデータ3!N335,CSVデータ4!N335)","v":0},{"$f":"SUM(CSVデータ1!O335,CSVデータ2!O335,CSVデータ3!O335,CSVデータ4!O335)","v":0},{"$f":"SUM(CSVデータ1!P335,CSVデータ2!P335,CSVデータ3!P335,CSVデータ4!P335)","v":0},{"$f":"SUM(CSVデータ1!Q335,CSVデータ2!Q335,CSVデータ3!Q335,CSVデータ4!Q335)","v":0},{"$f":"SUM(CSVデータ1!R335,CSVデータ2!R335,CSVデータ3!R335,CSVデータ4!R335)","v":0},{"$f":"SUM(CSVデータ1!S335,CSVデータ2!S335,CSVデータ3!S335,CSVデータ4!S335)","v":0},{"$f":"SUM(CSVデータ1!T335,CSVデータ2!T335,CSVデータ3!T335,CSVデータ4!T335)","v":0},{"$f":"SUM(CSVデータ1!U335,CSVデータ2!U335,CSVデータ3!U335,CSVデータ4!U335)","v":0},{"$f":"SUM(CSVデータ1!V335,CSVデータ2!V335,CSVデータ3!V335,CSVデータ4!V335)","v":0},{"$f":"SUM(CSVデータ1!W335,CSVデータ2!W335,CSVデータ3!W335,CSVデータ4!W335)","v":0},{"$f":"SUM(CSVデータ1!X335,CSVデータ2!X335,CSVデータ3!X335,CSVデータ4!X335)","v":0},{"$f":"SUM(CSVデータ1!Y335,CSVデータ2!Y335,CSVデータ3!Y335,CSVデータ4!Y335)","v":0},{"$f":"SUM(CSVデータ1!Z335,CSVデータ2!Z335,CSVデータ3!Z335,CSVデータ4!Z335)","v":0},{"$f":"SUM(CSVデータ1!AA335,CSVデータ2!AA335,CSVデータ3!AA335,CSVデータ4!AA335)","v":0},{"$f":"SUM(CSVデータ1!AB335,CSVデータ2!AB335,CSVデータ3!AB335,CSVデータ4!AB335)","v":0},{"$f":"SUM(CSVデータ1!AC335,CSVデータ2!AC335,CSVデータ3!AC335,CSVデータ4!AC335)","v":0},{"$f":"SUM(CSVデータ1!AD335,CSVデータ2!AD335,CSVデータ3!AD335,CSVデータ4!AD335)","v":0},{"$f":"SUM(CSVデータ1!AE335,CSVデータ2!AE335,CSVデータ3!AE335,CSVデータ4!AE335)","v":0},{"$f":"SUM(CSVデータ1!AF335,CSVデータ2!AF335,CSVデータ3!AF335,CSVデータ4!AF335)","v":0},{"$f":"SUM(CSVデータ1!AG335,CSVデータ2!AG335,CSVデータ3!AG335,CSVデータ4!AG335)","v":0}]
[{"$f":"CSVデータ1!A336","v":"明細部"},{"$f":"CSVデータ1!B336","v":"保険者（地区）"},{"$f":"CSVデータ1!C336","v":117},{"$f":"CSVデータ1!D336","v":"女"},{"$f":"SUM(CSVデータ1!E336,CSVデータ2!E336,CSVデータ3!E336,CSVデータ4!E336)","v":0},{"$f":"SUM(CSVデータ1!F336,CSVデータ2!F336,CSVデータ3!F336,CSVデータ4!F336)","v":0},{"$f":"SUM(CSVデータ1!G336,CSVデータ2!G336,CSVデータ3!G336,CSVデータ4!G336)","v":0},{"$f":"SUM(CSVデータ1!H336,CSVデータ2!H336,CSVデータ3!H336,CSVデータ4!H336)","v":0},{"$f":"SUM(CSVデータ1!I336,CSVデータ2!I336,CSVデータ3!I336,CSVデータ4!I336)","v":0},{"$f":"SUM(CSVデータ1!J336,CSVデータ2!J336,CSVデータ3!J336,CSVデータ4!J336)","v":0},{"$f":"SUM(CSVデータ1!K336,CSVデータ2!K336,CSVデータ3!K336,CSVデータ4!K336)","v":0},{"$f":"SUM(CSVデータ1!L336,CSVデータ2!L336,CSVデータ3!L336,CSVデータ4!L336)","v":0},{"$f":"SUM(CSVデータ1!M336,CSVデータ2!M336,CSVデータ3!M336,CSVデータ4!M336)","v":0},{"$f":"SUM(CSVデータ1!N336,CSVデータ2!N336,CSVデータ3!N336,CSVデータ4!N336)","v":0},{"$f":"SUM(CSVデータ1!O336,CSVデータ2!O336,CSVデータ3!O336,CSVデータ4!O336)","v":0},{"$f":"SUM(CSVデータ1!P336,CSVデータ2!P336,CSVデータ3!P336,CSVデータ4!P336)","v":0},{"$f":"SUM(CSVデータ1!Q336,CSVデータ2!Q336,CSVデータ3!Q336,CSVデータ4!Q336)","v":0},{"$f":"SUM(CSVデータ1!R336,CSVデータ2!R336,CSVデータ3!R336,CSVデータ4!R336)","v":0},{"$f":"SUM(CSVデータ1!S336,CSVデータ2!S336,CSVデータ3!S336,CSVデータ4!S336)","v":0},{"$f":"SUM(CSVデータ1!T336,CSVデータ2!T336,CSVデータ3!T336,CSVデータ4!T336)","v":0},{"$f":"SUM(CSVデータ1!U336,CSVデータ2!U336,CSVデータ3!U336,CSVデータ4!U336)","v":0},{"$f":"SUM(CSVデータ1!V336,CSVデータ2!V336,CSVデータ3!V336,CSVデータ4!V336)","v":0},{"$f":"SUM(CSVデータ1!W336,CSVデータ2!W336,CSVデータ3!W336,CSVデータ4!W336)","v":0},{"$f":"SUM(CSVデータ1!X336,CSVデータ2!X336,CSVデータ3!X336,CSVデータ4!X336)","v":0},{"$f":"SUM(CSVデータ1!Y336,CSVデータ2!Y336,CSVデータ3!Y336,CSVデータ4!Y336)","v":0},{"$f":"SUM(CSVデータ1!Z336,CSVデータ2!Z336,CSVデータ3!Z336,CSVデータ4!Z336)","v":0},{"$f":"SUM(CSVデータ1!AA336,CSVデータ2!AA336,CSVデータ3!AA336,CSVデータ4!AA336)","v":0},{"$f":"SUM(CSVデータ1!AB336,CSVデータ2!AB336,CSVデータ3!AB336,CSVデータ4!AB336)","v":0},{"$f":"SUM(CSVデータ1!AC336,CSVデータ2!AC336,CSVデータ3!AC336,CSVデータ4!AC336)","v":0},{"$f":"SUM(CSVデータ1!AD336,CSVデータ2!AD336,CSVデータ3!AD336,CSVデータ4!AD336)","v":0},{"$f":"SUM(CSVデータ1!AE336,CSVデータ2!AE336,CSVデータ3!AE336,CSVデータ4!AE336)","v":0},{"$f":"SUM(CSVデータ1!AF336,CSVデータ2!AF336,CSVデータ3!AF336,CSVデータ4!AF336)","v":0},{"$f":"SUM(CSVデータ1!AG336,CSVデータ2!AG336,CSVデータ3!AG336,CSVデータ4!AG336)","v":0}]
[{"$f":"CSVデータ1!A337","v":"明細部"},{"$f":"CSVデータ1!B337","v":"保険者（地区）"},{"$f":"CSVデータ1!C337","v":118},{"$f":"CSVデータ1!D337","v":"女"},{"$f":"SUM(CSVデータ1!E337,CSVデータ2!E337,CSVデータ3!E337,CSVデータ4!E337)","v":0},{"$f":"SUM(CSVデータ1!F337,CSVデータ2!F337,CSVデータ3!F337,CSVデータ4!F337)","v":0},{"$f":"SUM(CSVデータ1!G337,CSVデータ2!G337,CSVデータ3!G337,CSVデータ4!G337)","v":0},{"$f":"SUM(CSVデータ1!H337,CSVデータ2!H337,CSVデータ3!H337,CSVデータ4!H337)","v":0},{"$f":"SUM(CSVデータ1!I337,CSVデータ2!I337,CSVデータ3!I337,CSVデータ4!I337)","v":0},{"$f":"SUM(CSVデータ1!J337,CSVデータ2!J337,CSVデータ3!J337,CSVデータ4!J337)","v":0},{"$f":"SUM(CSVデータ1!K337,CSVデータ2!K337,CSVデータ3!K337,CSVデータ4!K337)","v":0},{"$f":"SUM(CSVデータ1!L337,CSVデータ2!L337,CSVデータ3!L337,CSVデータ4!L337)","v":0},{"$f":"SUM(CSVデータ1!M337,CSVデータ2!M337,CSVデータ3!M337,CSVデータ4!M337)","v":0},{"$f":"SUM(CSVデータ1!N337,CSVデータ2!N337,CSVデータ3!N337,CSVデータ4!N337)","v":0},{"$f":"SUM(CSVデータ1!O337,CSVデータ2!O337,CSVデータ3!O337,CSVデータ4!O337)","v":0},{"$f":"SUM(CSVデータ1!P337,CSVデータ2!P337,CSVデータ3!P337,CSVデータ4!P337)","v":0},{"$f":"SUM(CSVデータ1!Q337,CSVデータ2!Q337,CSVデータ3!Q337,CSVデータ4!Q337)","v":0},{"$f":"SUM(CSVデータ1!R337,CSVデータ2!R337,CSVデータ3!R337,CSVデータ4!R337)","v":0},{"$f":"SUM(CSVデータ1!S337,CSVデータ2!S337,CSVデータ3!S337,CSVデータ4!S337)","v":0},{"$f":"SUM(CSVデータ1!T337,CSVデータ2!T337,CSVデータ3!T337,CSVデータ4!T337)","v":0},{"$f":"SUM(CSVデータ1!U337,CSVデータ2!U337,CSVデータ3!U337,CSVデータ4!U337)","v":0},{"$f":"SUM(CSVデータ1!V337,CSVデータ2!V337,CSVデータ3!V337,CSVデータ4!V337)","v":0},{"$f":"SUM(CSVデータ1!W337,CSVデータ2!W337,CSVデータ3!W337,CSVデータ4!W337)","v":0},{"$f":"SUM(CSVデータ1!X337,CSVデータ2!X337,CSVデータ3!X337,CSVデータ4!X337)","v":0},{"$f":"SUM(CSVデータ1!Y337,CSVデータ2!Y337,CSVデータ3!Y337,CSVデータ4!Y337)","v":0},{"$f":"SUM(CSVデータ1!Z337,CSVデータ2!Z337,CSVデータ3!Z337,CSVデータ4!Z337)","v":0},{"$f":"SUM(CSVデータ1!AA337,CSVデータ2!AA337,CSVデータ3!AA337,CSVデータ4!AA337)","v":0},{"$f":"SUM(CSVデータ1!AB337,CSVデータ2!AB337,CSVデータ3!AB337,CSVデータ4!AB337)","v":0},{"$f":"SUM(CSVデータ1!AC337,CSVデータ2!AC337,CSVデータ3!AC337,CSVデータ4!AC337)","v":0},{"$f":"SUM(CSVデータ1!AD337,CSVデータ2!AD337,CSVデータ3!AD337,CSVデータ4!AD337)","v":0},{"$f":"SUM(CSVデータ1!AE337,CSVデータ2!AE337,CSVデータ3!AE337,CSVデータ4!AE337)","v":0},{"$f":"SUM(CSVデータ1!AF337,CSVデータ2!AF337,CSVデータ3!AF337,CSVデータ4!AF337)","v":0},{"$f":"SUM(CSVデータ1!AG337,CSVデータ2!AG337,CSVデータ3!AG337,CSVデータ4!AG337)","v":0}]
[{"$f":"CSVデータ1!A338","v":"明細部"},{"$f":"CSVデータ1!B338","v":"保険者（地区）"},{"$f":"CSVデータ1!C338","v":119},{"$f":"CSVデータ1!D338","v":"女"},{"$f":"SUM(CSVデータ1!E338,CSVデータ2!E338,CSVデータ3!E338,CSVデータ4!E338)","v":0},{"$f":"SUM(CSVデータ1!F338,CSVデータ2!F338,CSVデータ3!F338,CSVデータ4!F338)","v":0},{"$f":"SUM(CSVデータ1!G338,CSVデータ2!G338,CSVデータ3!G338,CSVデータ4!G338)","v":0},{"$f":"SUM(CSVデータ1!H338,CSVデータ2!H338,CSVデータ3!H338,CSVデータ4!H338)","v":0},{"$f":"SUM(CSVデータ1!I338,CSVデータ2!I338,CSVデータ3!I338,CSVデータ4!I338)","v":0},{"$f":"SUM(CSVデータ1!J338,CSVデータ2!J338,CSVデータ3!J338,CSVデータ4!J338)","v":0},{"$f":"SUM(CSVデータ1!K338,CSVデータ2!K338,CSVデータ3!K338,CSVデータ4!K338)","v":0},{"$f":"SUM(CSVデータ1!L338,CSVデータ2!L338,CSVデータ3!L338,CSVデータ4!L338)","v":0},{"$f":"SUM(CSVデータ1!M338,CSVデータ2!M338,CSVデータ3!M338,CSVデータ4!M338)","v":0},{"$f":"SUM(CSVデータ1!N338,CSVデータ2!N338,CSVデータ3!N338,CSVデータ4!N338)","v":0},{"$f":"SUM(CSVデータ1!O338,CSVデータ2!O338,CSVデータ3!O338,CSVデータ4!O338)","v":0},{"$f":"SUM(CSVデータ1!P338,CSVデータ2!P338,CSVデータ3!P338,CSVデータ4!P338)","v":0},{"$f":"SUM(CSVデータ1!Q338,CSVデータ2!Q338,CSVデータ3!Q338,CSVデータ4!Q338)","v":0},{"$f":"SUM(CSVデータ1!R338,CSVデータ2!R338,CSVデータ3!R338,CSVデータ4!R338)","v":0},{"$f":"SUM(CSVデータ1!S338,CSVデータ2!S338,CSVデータ3!S338,CSVデータ4!S338)","v":0},{"$f":"SUM(CSVデータ1!T338,CSVデータ2!T338,CSVデータ3!T338,CSVデータ4!T338)","v":0},{"$f":"SUM(CSVデータ1!U338,CSVデータ2!U338,CSVデータ3!U338,CSVデータ4!U338)","v":0},{"$f":"SUM(CSVデータ1!V338,CSVデータ2!V338,CSVデータ3!V338,CSVデータ4!V338)","v":0},{"$f":"SUM(CSVデータ1!W338,CSVデータ2!W338,CSVデータ3!W338,CSVデータ4!W338)","v":0},{"$f":"SUM(CSVデータ1!X338,CSVデータ2!X338,CSVデータ3!X338,CSVデータ4!X338)","v":0},{"$f":"SUM(CSVデータ1!Y338,CSVデータ2!Y338,CSVデータ3!Y338,CSVデータ4!Y338)","v":0},{"$f":"SUM(CSVデータ1!Z338,CSVデータ2!Z338,CSVデータ3!Z338,CSVデータ4!Z338)","v":0},{"$f":"SUM(CSVデータ1!AA338,CSVデータ2!AA338,CSVデータ3!AA338,CSVデータ4!AA338)","v":0},{"$f":"SUM(CSVデータ1!AB338,CSVデータ2!AB338,CSVデータ3!AB338,CSVデータ4!AB338)","v":0},{"$f":"SUM(CSVデータ1!AC338,CSVデータ2!AC338,CSVデータ3!AC338,CSVデータ4!AC338)","v":0},{"$f":"SUM(CSVデータ1!AD338,CSVデータ2!AD338,CSVデータ3!AD338,CSVデータ4!AD338)","v":0},{"$f":"SUM(CSVデータ1!AE338,CSVデータ2!AE338,CSVデータ3!AE338,CSVデータ4!AE338)","v":0},{"$f":"SUM(CSVデータ1!AF338,CSVデータ2!AF338,CSVデータ3!AF338,CSVデータ4!AF338)","v":0},{"$f":"SUM(CSVデータ1!AG338,CSVデータ2!AG338,CSVデータ3!AG338,CSVデータ4!AG338)","v":0}]
[{"$f":"CSVデータ1!A339","v":"明細部"},{"$f":"CSVデータ1!B339","v":"保険者（地区）"},{"$f":"CSVデータ1!C339","v":120},{"$f":"CSVデータ1!D339","v":"女"},{"$f":"SUM(CSVデータ1!E339,CSVデータ2!E339,CSVデータ3!E339,CSVデータ4!E339)","v":0},{"$f":"SUM(CSVデータ1!F339,CSVデータ2!F339,CSVデータ3!F339,CSVデータ4!F339)","v":0},{"$f":"SUM(CSVデータ1!G339,CSVデータ2!G339,CSVデータ3!G339,CSVデータ4!G339)","v":0},{"$f":"SUM(CSVデータ1!H339,CSVデータ2!H339,CSVデータ3!H339,CSVデータ4!H339)","v":0},{"$f":"SUM(CSVデータ1!I339,CSVデータ2!I339,CSVデータ3!I339,CSVデータ4!I339)","v":0},{"$f":"SUM(CSVデータ1!J339,CSVデータ2!J339,CSVデータ3!J339,CSVデータ4!J339)","v":0},{"$f":"SUM(CSVデータ1!K339,CSVデータ2!K339,CSVデータ3!K339,CSVデータ4!K339)","v":0},{"$f":"SUM(CSVデータ1!L339,CSVデータ2!L339,CSVデータ3!L339,CSVデータ4!L339)","v":0},{"$f":"SUM(CSVデータ1!M339,CSVデータ2!M339,CSVデータ3!M339,CSVデータ4!M339)","v":0},{"$f":"SUM(CSVデータ1!N339,CSVデータ2!N339,CSVデータ3!N339,CSVデータ4!N339)","v":0},{"$f":"SUM(CSVデータ1!O339,CSVデータ2!O339,CSVデータ3!O339,CSVデータ4!O339)","v":0},{"$f":"SUM(CSVデータ1!P339,CSVデータ2!P339,CSVデータ3!P339,CSVデータ4!P339)","v":0},{"$f":"SUM(CSVデータ1!Q339,CSVデータ2!Q339,CSVデータ3!Q339,CSVデータ4!Q339)","v":0},{"$f":"SUM(CSVデータ1!R339,CSVデータ2!R339,CSVデータ3!R339,CSVデータ4!R339)","v":0},{"$f":"SUM(CSVデータ1!S339,CSVデータ2!S339,CSVデータ3!S339,CSVデータ4!S339)","v":0},{"$f":"SUM(CSVデータ1!T339,CSVデータ2!T339,CSVデータ3!T339,CSVデータ4!T339)","v":0},{"$f":"SUM(CSVデータ1!U339,CSVデータ2!U339,CSVデータ3!U339,CSVデータ4!U339)","v":0},{"$f":"SUM(CSVデータ1!V339,CSVデータ2!V339,CSVデータ3!V339,CSVデータ4!V339)","v":0},{"$f":"SUM(CSVデータ1!W339,CSVデータ2!W339,CSVデータ3!W339,CSVデータ4!W339)","v":0},{"$f":"SUM(CSVデータ1!X339,CSVデータ2!X339,CSVデータ3!X339,CSVデータ4!X339)","v":0},{"$f":"SUM(CSVデータ1!Y339,CSVデータ2!Y339,CSVデータ3!Y339,CSVデータ4!Y339)","v":0},{"$f":"SUM(CSVデータ1!Z339,CSVデータ2!Z339,CSVデータ3!Z339,CSVデータ4!Z339)","v":0},{"$f":"SUM(CSVデータ1!AA339,CSVデータ2!AA339,CSVデータ3!AA339,CSVデータ4!AA339)","v":0},{"$f":"SUM(CSVデータ1!AB339,CSVデータ2!AB339,CSVデータ3!AB339,CSVデータ4!AB339)","v":0},{"$f":"SUM(CSVデータ1!AC339,CSVデータ2!AC339,CSVデータ3!AC339,CSVデータ4!AC339)","v":0},{"$f":"SUM(CSVデータ1!AD339,CSVデータ2!AD339,CSVデータ3!AD339,CSVデータ4!AD339)","v":0},{"$f":"SUM(CSVデータ1!AE339,CSVデータ2!AE339,CSVデータ3!AE339,CSVデータ4!AE339)","v":0},{"$f":"SUM(CSVデータ1!AF339,CSVデータ2!AF339,CSVデータ3!AF339,CSVデータ4!AF339)","v":0},{"$f":"SUM(CSVデータ1!AG339,CSVデータ2!AG339,CSVデータ3!AG339,CSVデータ4!AG339)","v":0}]

{"sheet":"出力票","index":6,"n_rows":123,"n_cols":28,"rows_kept":123,"cut":false,"hidden":false,"merged":[[122,0,122,27],[42,0,42,27],[108,0,110,0],[111,0,113,0],[114,0,116,0],[99,0,101,0],[105,0,107,1],[93,0,95,0],[96,0,98,0],[90,0,92,1],[90,2,92,2],[87,0,87,1],[87,24,87,25],[87,26,87,27],[88,0,88,1],[88,24,88,25],[106,3,106,7],[106,8,106,12],[82,0,82,27],[88,26,88,27],[91,18,91,22],[106,13,106,17],[106,18,106,22],[90,8,90,22],[105,8,105,22],[53,0,55,0],[56,0,58,0],[59,0,61,0],[65,0,67,1],[65,2,67,2],[86,0,86,1],[105,2,107,2],[68,0,70,0],[71,0,73,0],[74,0,76,0],[105,3,105,7],[91,3,91,7],[91,8,91,12],[91,13,91,17],[90,3,90,7],[66,3,66,7],[66,8,66,12],[66,13,66,17],[66,18,66,22],[86,22,86,23],[46,0,46,1],[47,0,47,1],[47,24,47,25],[47,26,47,27],[47,22,47,23],[48,0,48,1],[48,24,48,25],[48,26,48,27],[50,0,52,1],[50,2,52,2],[50,3,50,27],[51,3,51,7],[51,8,51,12],[51,13,51,17],[51,18,51,22],[51,23,51,27],[48,22,48,23],[28,0,30,0],[31,0,33,0],[34,0,36,0],[6,0,6,1],[7,0,7,1],[8,0,8,1],[25,0,27,1],[13,0,15,0],[16,0,18,0],[19,0,21,0],[10,0,12,1],[10,2,12,2],[11,13,11,17],[11,18,11,22],[25,2,27,2],[25,3,25,27],[26,3,26,7],[26,8,26,12],[26,13,26,17],[26,18,26,22],[26,23,26,27],[86,24,86,27],[87,22,87,23],[88,22,88,23],[6,22,6,23],[6,24,6,27],[7,22,7,23],[8,22,8,23],[46,22,46,23],[46,24,46,27],[10,3,10,27],[11,23,11,27],[11,3,11,7],[11,8,11,12],[7,26,7,27],[8,26,8,27],[7,24,7,25],[8,24,8,25],[65,3,65,27],[66,23,66,27]]}
[null,null,"集計対象年齢（最大範囲65～120歳）"]
[null,null,"群１下限（A歳）",null,65,"必ず「計算開始」をクリックしてから結果をご覧ください。"]
[null,null,"群１上限（B歳）",null,74,"　A歳～B歳、B+1歳～C歳の２群に分けて（およびA～C歳全体について）集計します。"]
[null,null,"群２上限（C歳）",null,120]
[null,null,null,null,null,null,null,null,null,null,null,null,null,"厚生労働省様式（様式５－２）【補足】"]
[null,null,null,null,null,null,null,null,null,null,null,null,null,"健診有所見者状況（男女別・年齢調整）"]
["保険者番号：",null,{"$f":"CSVデータ!B2","v":999999},null,null,null,null,null,null,null,null,null,null,null,null,null,null,null,null,null,null,null,"作成年月 ：",null,{"$f":"CSVデータ!E$2","v":""}]
["保険者名 ：",null,{"$f":"CSVデータ!C2","v":"○○市"},null,null,null,null,null,null,null,null,null,null,null,null,null,null,null,null,null,null,null,"印刷日 ：",null,{"$f":"TODAY()","v":"2020-01-20"}]
["地区 ：",null,{"$f":"IF(CSVデータ!D2=\"\",\"\",CSVデータ!D2)","v":0},null,null,null,null,null,null,null,null,null,null,null,null,null,null,null,null,null,null,null,"ページ ：",null,"1/3"]
[null,null,null,null,null,null,null,null,null,null,null,null,null,"検査していない人は基準値に非該当とみなされるので、未検者がいる項目は解釈できません"]
["男性",null,{"$f":"\"受診者\"&IF(CSVデータ2!E$2<>\"\",CHAR(10)&\"延べ人数\",\"\")","v":"受診者"},"摂取エネルギーの過剰"]
[null,null,null,"BMI",null,null,null,null,"腹囲",null,null,null,null,"中性脂肪",null,null,null,null,"ALT(GPT)",null,null,null,null,"HDLコレステロール"]
[null,null,null,"25以上","割合(%)","年齢\n調整(%)","標準化\n比(全国)","標準化\n比(県)","85以上","割合(%)","年齢\n調整(%)","標準化\n比(全国)","標準化\n比(県)","300以上","割合(%)","年齢\n調整(%)","標準化\n比(全国)","標準化\n比(県)","51以上","割合(%)","年齢\n調整(%)","標準化\n比(全国)","標準化\n比(県)","35未満","割合(%)","年齢\n調整(%)","標準化\n比(全国)","標準化\n比(県)"]
[{"$f":"E2&\"～\"&E3&\"歳\"","v":"65～74歳"},"全国",0,0,0,0,"100(基準)","-",0,0,0,"100(基準)","-",0,0,0,"100(基準)","-",0,0,0,"100(基準)","-",0,0,0,"100(基準)","-"]
[null,"県",0,0,0,0,0,"100(基準)",0,0,0,0,"100(基準)",0,0,0,0,"100(基準)",0,0,0,0,"100(基準)",0,0,0,0,"100(基準)"]
[null,"地域（地区）",0,0,0,0,0,0,0,0,0,0,0,0,0,0,0,0,0,0,0,0,0,0,0,0,0,0]
[{"$f":"E3+1&\"～\"&E4&\"歳\"","v":"75～120歳"},"全国",0,0,0,0,"100(基準)","-",0,0,0,"100(基準)","-",0,0,0,"100(基準)","-",0,0,0,"100(基準)","-",0,0,0,"100(基準)","-"]
[null,"県",0,0,0,0,0,"100(基準)",0,0,0,0,"100(基準)",0,0,0,0,"100(基準)",0,0,0,0,"100(基準)",0,0,0,0,"100(基準)"]
[null,"地域（地区）",0,0,0,0,0,0,0,0,0,0,0,0,0,0,0,0,0,0,0,0,0,0,0,0,0,0]
["総\n数","全国",0,0,0,0,"100(基準)","-",0,0,0,"100(基準)","-",0,0,0,"100(基準)","-",0,0,0,"100(基準)","-",0,0,0,"100(基準)","-"]
[null,"県",0,0,0,0,0,"100(基準)",0,0,0,0,"100(基準)",0,0,0,0,"100(基準)",0,0,0,0,"100(基準)",0,0,0,0,"100(基準)"]
[null,"地域（地区）",0,0,0,0,0,0,0,0,0,0,0,0,0,0,0,0,0,0,0,0,0,0,0,0,0,0]
[null,null,null,null,null,1]
[]
[null,null,null,null,null,null,null,null,null,null,null,null,null,"検査していない人は基準値に非該当とみなされるので、未検者がいる項目は解釈できません"]
["女性",null,{"$f":"\"受診者\"&IF(CSVデータ2!E$2<>\"\",CHAR(10)&\"延べ人数\",\"\")","v":"受診者"},"摂取エネルギーの過剰"]
[null,null,null,"BMI",null,null,null,null,"腹囲",null,null,null,null,"中性脂肪",null,null,null,null,"ALT(GPT)",null,null,null,null,"HDLコレステロール"]
[null,null,null,"25以上","割合(%)","年齢\n調整(%)","標準化\n比(全国)","標準化\n比(県)","90以上","割合(%)","年齢\n調整(%)","標準化\n比(全国)","標準化\n比(県)","300以上","割合(%)","年齢\n調整(%)","標準化\n比(全国)","標準化\n比(県)","51以上","割合(%)","年齢\n調整(%)","標準化\n比(全国)","標準化\n比(県)","35未満","割合(%)","年齢\n調整(%)","標準化\n比(全国)","標準化\n比(県)"]
[{"$f":"+A14","v":"65～74歳"},"全国",0,0,0,0,"100(基準)","-",0,0,0,"100(基準)","-",0,0,0,"100(基準)","-",0,0,0,"100(基準)","-",0,0,0,"100(基準)","-"]
[null,"県",0,0,0,0,0,"100(基準)",0,0,0,0,"100(基準)",0,0,0,0,"100(基準)",0,0,0,0,"100(基準)",0,0,0,0,"100(基準)"]
[null,"地域（地区）",0,0,0,0,0,0,0,0,0,0,0,0,0,0,0,0,0,0,0,0,0,0,0,0,0,0]
[{"$f":"+A17","v":"75～120歳"},"全国",0,0,0,0,"100(基準)","-",0,0,0,"100(基準)","-",0,0,0,"100(基準)","-",0,0,0,"100(基準)","-",0,0,0,"100(基準)","-"]
[null,"県",0,0,0,0,0,"100(基準)",0,0,0,0,"100(基準)",0,0,0,0,"100(基準)",0,0,0,0,"100(基準)",0,0,0,0,"100(基準)"]
[null,"地域（地区）",0,0,0,0,0,0,0,0,0,0,0,0,0,0,0,0,0,0,0,0,0,0,0,0,0,0]
["総\n数","全国",0,0,0,0,"100(基準)","-",0,0,0,"100(基準)","-",0,0,0,"100(基準)","-",0,0,0,"100(基準)","-",0,0,0,"100(基準)","-"]
[null,"県",0,0,0,0,0,"100(基準)",0,0,0,0,"100(基準)",0,0,0,0,"100(基準)",0,0,0,0,"100(基準)",0,0,0,0,"100(基準)"]
[null,"地域（地区）",0,0,0,0,0,0,0,0,0,0,0,0,0,0,0,0,0,0,0,0,0,0,0,0,0,0]
[]
["国保データベース（KDB）のCSVファイル（厚生労働省様式（様式６－２～７） 健診有所見者状況（男女別・年代別））より計算。"]
["年齢調整(%)は全国受診者数（男女別）を基準人口とした直接法による。従って、厳密な男女比較はできない。受診者が少ない地域では、年齢調整(%)がエラーまたは異常な値となることがあるため、標準化比で評価することが望ましい。"]
["標準化比は全国または県を基準とした間接法による。標準化比に*が付記されたものは、基準に比べて有意な差(p<0.05)があること意味する。"]
[]
["Ver. 1.6 (2019.12.5) 厚生労働科学研究費補助金（循環器疾患・糖尿病等生活習慣病対策総合研究事業）健診・医療・介護等データベースの活用による地区診断と保健事業の立案を含む生活習慣病対策事業を担う地域保健人材の育成に関する研究（H25－循環器等（生習）- 一般-014）（研究代表：横山徹爾）"]
[]
[null,null,null,null,null,null,null,null,null,null,null,null,null,"厚生労働省様式（様式５－２）【補足】"]
[null,null,null,null,null,null,null,null,null,null,null,null,null,"健診有所見者状況（男女別・年齢調整）"]
["保険者番号：",null,{"$f":"CSVデータ!B2","v":999999},null,null,null,null,null,null,null,null,null,null,null,null,null,null,null,null,null,null,null,"作成年月 ：",null,{"$f":"CSVデータ!E$2","v":""}]
["保険者名 ：",null,{"$f":"CSVデータ!C2","v":"○○市"},null,null,null,null,null,null,null,null,null,null,null,null,null,null,null,null,null,null,null,"印刷日 ：",null,{"$f":"TODAY()","v":"2020-01-20"}]
["地区 ：",null,{"$f":"IF(CSVデータ!D2=\"\",\"\",CSVデータ!D2)","v":0},null,null,null,null,null,null,null,null,null,null,null,null,null,null,null,null,null,null,null,"ページ ：",null,"2/3"]
[null,null,null,null,null,null,null,null,null,null,null,null,null,"検査していない人は基準値に非該当とみなされるので、未検者がいる項目は解釈できません"]
["男性",null,{"$f":"\"受診者\"&IF(CSVデータ2!E$2<>\"\",CHAR(10)&\"延べ人数\",\"\")","v":"受診者"},"血管を傷つける"]
[null,null,null,"血糖",null,null,null,null,"HbA1c",null,null,null,null,"尿酸",null,null,null,null,"収縮期血圧",null,null,null,null,"拡張期血圧"]
[null,null,null,"126以上","割合(%)","年齢\n調整(%)","標準化\n比(全国)","標準化\n比(県)","6.5以上*","割合(%)","年齢\n調整(%)","標準化\n比(全国)","標準化\n比(県)","8.0以上","割合(%)","年齢\n調整(%)","標準化\n比(全国)","標準化\n比(県)","140以上","割合(%)","年齢\n調整(%)","標準化\n比(全国)","標準化\n比(県)","90以上","割合(%)","年齢\n調整(%)","標準化\n比(全国)","標準化\n比(県)"]
[{"$f":"+A14","v":"65～74歳"},"全国",0,0,0,0,"100(基準)","-",0,0,0,"100(基準)","-",0,0,0,"100(基準)","-",0,0,0,"100(基準)","-",0,0,0,"100(基準)","-"]
[null,"県",0,0,0,0,0,"100(基準)",0,0,0,0,"100(基準)",0,0,0,0,"100(基準)",0,0,0,0,"100(基準)",0,0,0,0,"100(基準)"]
[null,"地域（地区）",0,0,0,0,0,0,0,0,0,0,0,0,0,0,0,0,0,0,0,0,0,0,0,0,0,0]
[{"$f":"+A17","v":"75～120歳"},"全国",0,0,0,0,"100(基準)","-",0,0,0,"100(基準)","-",0,0,0,"100(基準)","-",0,0,0,"100(基準)","-",0,0,0,"100(基準)","-"]
[null,"県",0,0,0,0,0,"100(基準)",0,0,0,0,"100(基準)",0,0,0,0,"100(基準)",0,0,0,0,"100(基準)",0,0,0,0,"100(基準)"]
[null,"地域（地区）",0,0,0,0,0,0,0,0,0,0,0,0,0,0,0,0,0,0,0,0,0,0,0,0,0,0]
["総\n数","全国",0,0,0,0,"100(基準)","-",0,0,0,"100(基準)","-",0,0,0,"100(基準)","-",0,0,0,"100(基準)","-",0,0,0,"100(基準)","-"]
[null,"県",0,0,0,0,0,"100(基準)",0,0,0,0,"100(基準)",0,0,0,0,"100(基準)",0,0,0,0,"100(基準)",0,0,0,0,"100(基準)"]
[null,"地域（地区）",0,0,0,0,0,0,0,0,0,0,0,0,0,0,0,0,0,0,0,0,0,0,0,0,0,0]
[null,null,null,null,null,1]
[]
[null,null,null,null,null,null,null,null,null,null,null,null,null,"検査していない人は基準値に非該当とみなされるので、未検者がいる項目は解釈できません"]
["女性",null,{"$f":"\"受診者\"&IF(CSVデータ2!E$2<>\"\",CHAR(10)&\"延べ人数\",\"\")","v":"受診者"},"血管を傷つける"]
[null,null,null,"血糖",null,null,null,null,"HbA1c",null,null,null,null,"尿酸",null,null,null,null,"収縮期血圧",null,null,null,null,"拡張期血圧"]
[null,null,null,"126以上","割合(%)","年齢\n調整(%)","標準化\n比(全国)","標準化\n比(県)","6.5以上*","割合(%)","年齢\n調整(%)","標準化\n比(全国)","標準化\n比(県)","8.0以上","割合(%)","年齢\n調整(%)","標準化\n比(全国)","標準化\n比(県)","140以上","割合(%)","年齢\n調整(%)","標準化\n比(全国)","標準化\n比(県)","90以上","割合(%)","年齢\n調整(%)","標準化\n比(全国)","標準化\n比(県)"]
[{"$f":"+A14","v":"65～74歳"},"全国",0,0,0,0,"100(基準)","-",0,0,0,"100(基準)","-",0,0,0,"100(基準)","-",0,0,0,"100(基準)","-",0,0,0,"100(基準)","-"]
[null,"県",0,0,0,0,0,"100(基準)",0,0,0,0,"100(基準)",0,0,0,0,"100(基準)",0,0,0,0,"100(基準)",0,0,0,0,"100(基準)"]
[null,"地域（地区）",0,0,0,0,0,0,0,0,0,0,0,0,0,0,0,0,0,0,0,0,0,0,0,0,0,0]
[{"$f":"+A17","v":"75～120歳"},"全国",0,0,0,0,"100(基準)","-",0,0,0,"100(基準)","-",0,0,0,"100(基準)","-",0,0,0,"100(基準)","-",0,0,0,"100(基準)","-"]
[null,"県",0,0,0,0,0,"100(基準)",0,0,0,0,"100(基準)",0,0,0,0,"100(基準)",0,0,0,0,"100(基準)",0,0,0,0,"100(基準)"]
[null,"地域（地区）",0,0,0,0,0,0,0,0,0,0,0,0,0,0,0,0,0,0,0,0,0,0,0,0,0,0]
["総\n数","全国",0,0,0,0,"100(基準)","-",0,0,0,"100(基準)","-",0,0,0,"100(基準)","-",0,0,0,"100(基準)","-",0,0,0,"100(基準)","-"]
[null,"県",0,0,0,0,0,"100(基準)",0,0,0,0,"100(基準)",0,0,0,0,"100(基準)",0,0,0,0,"100(基準)",0,0,0,0,"100(基準)"]
[null,"地域（地区）",0,0,0,0,0,0,0,0,0,0,0,0,0,0,0,0,0,0,0,0,0,0,0,0,0,0]
[]
["国保データベース（KDB）のCSVファイル（厚生労働省様式（様式６－２～７） 健診有所見者状況（男女別・年代別））より計算。"]
["年齢調整(%)は全国受診者数（男女別）を基準人口とした直接法による。従って、厳密な男女比較はできない。受診者が少ない地域では、年齢調整(%)がエラーまたは異常な値となることがあるため、標準化比で評価することが望ましい。"]
["標準化比は全国または県を基準とした間接法による。標準化比に*が付記されたものは、基準に比べて有意な差(p<0.05)があること意味する。"]
["* HbA1cの基準値は、平成24年度は6.1以上(JDS)、25年度以降は6.5以上(NGSP)。"]
[{"$f":"+A43","v":"Ver. 1.6 (2019.12.5) 厚生労働科学研究費補助金（循環器疾患・糖尿病等生活習慣病対策総合研究事業）健診・医療・介護等データベースの活用による地区診断と保健事業の立案を含む生活習慣病対策事業を担う地域保健人材の育成に関する研究（H25－循環器等（生習）- 一般-014）（研究代表：横山徹爾）"}]
[]
[null,null,null,null,null,null,null,null,null,null,null,null,null,"厚生労働省様式（様式５－２）【補足】"]
[null,null,null,null,null,null,null,null,null,null,null,null,null,"健診有所見者状況（男女別・年齢調整）"]
["保険者番号：",null,{"$f":"CSVデータ!B2","v":999999},null,null,null,null,null,null,null,null,null,null,null,null,null,null,null,null,null,null,null,"作成年月 ：",null,{"$f":"CSVデータ!E$2","v":""}]
["保険者名 ：",null,{"$f":"CSVデータ!C2","v":"○○市"},null,null,null,null,null,null,null,null,null,null,null,null,null,null,null,null,null,null,null,"印刷日 ：",null,{"$f":"TODAY()","v":"2020-01-20"}]
["地区 ：",null,{"$f":"IF(CSVデータ!D2=\"\",\"\",CSVデータ!D2)","v":0},null,null,null,null,null,null,null,null,null,null,null,null,null,null,null,null,null,null,null,"ページ ：",null,"3/3"]
[null,null,null,null,null,null,null,null,null,null,null,null,"検査していない人は基準値に非該当とみなされるので、未検者がいる項目は解釈できません"]
["男性",null,{"$f":"\"受診者\"&IF(CSVデータ2!E$2<>\"\",CHAR(10)&\"延べ人数\",\"\")","v":"受診者"},"内臓脂肪症候群以外の動脈硬化要因",null,null,null,null,"臓器障害（※は詳細検査を実施した人数等であり、所見がある人数等ではありません）"]
[null,null,null,"LDLコレステロール",null,null,null,null,"クレアチニン",null,null,null,null,"心電図※",null,null,null,null,"眼底検査※"]
[null,null,null,"140以上","割合(%)","年齢\n調整(%)","標準化\n比(全国)","標準化\n比(県)","1.3以上","割合(%)","年齢\n調整(%)","標準化\n比(全国)","標準化\n比(県)","検査実施","割合(%)","年齢\n調整(%)","標準化\n比(全国)","標準化\n比(県)","検査実施","割合(%)","年齢\n調整(%)","標準化\n比(全国)","標準化\n比(県)"]
[{"$f":"+A14","v":"65～74歳"},"全国",0,0,0,0,"100(基準)","-",0,0,0,"100(基準)","-",0,0,0,"100(基準)","-",0,0,0,"100(基準)","-"]
[null,"県",0,0,0,0,0,"100(基準)",0,0,0,0,"100(基準)",0,0,0,0,"100(基準)",0,0,0,0,"100(基準)"]
[null,"地域（地区）",0,0,0,0,0,0,0,0,0,0,0,0,0,0,0,0,0,0,0,0,0]
[{"$f":"+A17","v":"75～120歳"},"全国",0,0,0,0,"100(基準)","-",0,0,0,"100(基準)","-",0,0,0,"100(基準)","-",0,0,0,"100(基準)","-"]
[null,"県",0,0,0,0,0,"100(基準)",0,0,0,0,"100(基準)",0,0,0,0,"100(基準)",0,0,0,0,"100(基準)"]
[null,"地域（地区）",0,0,0,0,0,0,0,0,0,0,0,0,0,0,0,0,0,0,0,0,0]
["総\n数","全国",0,0,0,0,"100(基準)","-",0,0,0,"100(基準)","-",0,0,0,"100(基準)","-",0,0,0,"100(基準)","-"]
[null,"県",0,0,0,0,0,"100(基準)",0,0,0,0,"100(基準)",0,0,0,0,"100(基準)",0,0,0,0,"100(基準)"]
[null,"地域（地区）",0,0,0,0,0,0,0,0,0,0,0,0,0,0,0,0,0,0,0,0,0]
[null,null,null,null,null,1]
[]
[null,null,null,null,null,null,null,null,null,null,null,null,"検査していない人は基準値に非該当とみなされるので、未検者がいる項目は解釈できません"]
["女性",null,{"$f":"\"受診者\"&IF(CSVデータ2!E$2<>\"\",CHAR(10)&\"延べ人数\",\"\")","v":"受診者"},"内臓脂肪症候群以外の動脈硬化要因",null,null,null,null,"臓器障害（※は詳細検査ありの人数等であり、所見ありの人数等ではありません）"]
[null,null,null,"LDLコレステロール",null,null,null,null,"クレアチニン",null,null,null,null,"心電図※",null,null,null,null,"眼底検査※"]
[null,null,null,"140以上","割合(%)","年齢\n調整(%)","標準化\n比(全国)","標準化\n比(県)","1.3以上","割合(%)","年齢\n調整(%)","標準化\n比(全国)","標準化\n比(県)","検査実施","割合(%)","年齢\n調整(%)","標準化\n比(全国)","標準化\n比(県)","検査実施","割合(%)","年齢\n調整(%)","標準化\n比(全国)","標準化\n比(県)"]
[{"$f":"+A14","v":"65～74歳"},"全国",0,0,0,0,"100(基準)","-",0,0,0,"100(基準)","-",0,0,0,"100(基準)","-",0,0,0,"100(基準)","-"]
[null,"県",0,0,0,0,0,"100(基準)",0,0,0,0,"100(基準)",0,0,0,0,"100(基準)",0,0,0,0,"100(基準)"]
[null,"地域（地区）",0,0,0,0,0,0,0,0,0,0,0,0,0,0,0,0,0,0,0,0,0]
[{"$f":"+A17","v":"75～120歳"},"全国",0,0,0,0,"100(基準)","-",0,0,0,"100(基準)","-",0,0,0,"100(基準)","-",0,0,0,"100(基準)","-"]
[null,"県",0,0,0,0,0,"100(基準)",0,0,0,0,"100(基準)",0,0,0,0,"100(基準)",0,0,0,0,"100(基準)"]
[null,"地域（地区）",0,0,0,0,0,0,0,0,0,0,0,0,0,0,0,0,0,0,0,0,0]
["総\n数","全国",0,0,0,0,"100(基準)","-",0,0,0,"100(基準)","-",0,0,0,"100(基準)","-",0,0,0,"100(基準)","-"]
[null,"県",0,0,0,0,0,"100(基準)",0,0,0,0,"100(基準)",0,0,0,0,"100(基準)",0,0,0,0,"100(基準)"]
[null,"地域（地区）",0,0,0,0,0,0,0,0,0,0,0,0,0,0,0,0,0,0,0,0,0]
[]
["国保データベース（KDB）のCSVファイル（厚生労働省様式（様式６－２～７） 健診有所見者状況（男女別・年代別））より計算。"]
["年齢調整(%)は全国受診者数（男女別）を基準人口とした直接法による。従って、厳密な男女比較はできない。受診者が少ない地域では、年齢調整(%)がエラーまたは異常な値となることがあるため、標準化比で評価することが望ましい。"]
["標準化比は全国または県を基準とした間接法による。標準化比に*が付記されたものは、基準に比べて有意な差(p<0.05)があること意味する。"]
[]
[{"$f":"+A43","v":"Ver. 1.6 (2019.12.5) 厚生労働科学研究費補助金（循環器疾患・糖尿病等生活習慣病対策総合研究事業）健診・医療・介護等データベースの活用による地区診断と保健事業の立案を含む生活習慣病対策事業を担う地域保健人材の育成に関する研究（H25－循環器等（生習）- 一般-014）（研究代表：横山徹爾）"}]

{"sheet":"temp","index":7,"n_rows":0,"n_cols":0,"rows_kept":0,"cut":false,"hidden":true,"merged":[]}