{"text_format":"1","workbook":"xlsx","n_sheets":8,"sheets":["使い方","CSVデータ1","CSVデータ2","CSVデータ3","CSVデータ4","CSVデータ","出力票","temp"],"not_rendered":{"charts":0,"images":0,"macros":1,"external_links":0,"defined_names":1,"comments":0,"pivot_tables":0},"unopened":[],"bounds":{"document_bytes":16777216,"sheet_cells":100000,"rows_first":2000,"rows_last":500,"rows_between":2000,"halvings":0,"cell_chars":16384,"cell_head_chars":4096},"cells_cut":0,"cells_raw":0,"read":"whole","date_system":"1900"}

{"sheet":"使い方","index":0,"n_rows":21,"n_cols":1,"rows_kept":21,"cut":false,"hidden":false,"merged":[[13,0,13,8]]}
["年齢調整・厚生労働省様式（様式５－２）ツールの使い方(Version 1.6)"]
["（１）ＫＤＢの厚生労働省様式（様式５－２）の画面から、ＣＳＶファイルを出力・保存する。"]
["（２）（１）のCSVファイルをエクセルで開く。"]
["（３）（２）で開いたCSVファイルの内容（データのある範囲だけ※）を、このツールの「CSVデータ1」シートにコピー＆ペーストする。"]
["（４）人数が少ない等の理由で複数年を合算して計算したい場合は、同様に「CSVデータ2」～「CSVデータ4」シートに他の年度をコピー＆ペーストする。"]
["　　（単年度だけで分析する場合には（４）は不要です。）"]
["（５）「出力票」シートの左上にある「計算開始」をクリックすると、計算結果が表示されるので、印刷する。※※"]
[]
["※A1～AG213"]
["※※「集計対象年齢」の範囲を指定することも出来ます。（通常は変える必要はありません）"]
["見本データは全て仮想値です。"]
[]
[]
["このエクセルファイルは、マクロを使っています。\nセキュリティの警告でマクロが無効にされた場合は、コンテンツの有効化を行って下さい。"]
[]
[]
["履歴"]
["Ver.1.6  2019/12/2　複数年度を合算（プール）して計算できるようにしました。"]
["Ver.1.5  2019/6/19　様式番号（旧様式6-2～7）を変更。集計対象年齢を指定できるようにしました。"]
["Ver.1.3  2016/9/20　ALT(GOT)→ALT(GPT)に修正しました。"]
["Ver.1.2  2014/11/20　公開"]

{"sheet":"CSVデータ1","index":1,"n_rows":213,"n_cols":33,"rows_kept":213,"cut":false,"hidden":false,"merged":[]}
["レコード種別","保険者番号","保険者名","地区名","作成年月","県計・国計"]
["共通部",999999,"○○市"]
["レコード種別","集計単位","年齢","性別","受診者","ＢＭＩ人数","ＢＭＩ割合","腹囲人数","腹囲割合","中性脂肪人数","中性脂肪割合","ＡＬＴ（ＧＰＴ）人数","ＡＬＴ（ＧＰＴ）割合","ＨＤＬコレステロール人数","ＨＤＬコレステロール割合","空腹時血糖人数","空腹時血糖割合","ＨｂＡ１ｃ人数","ＨｂＡ１ｃ割合","尿酸人数","尿酸割合","収縮期血圧人数","収縮期血圧割合","拡張期血圧人数","拡張期血圧割合","ＬＤＬコレステロール人数","ＬＤＬコレステロール割合","血清クレアチニン人数","血清クレアチニン割合","心電図人数","心電図割合","眼底検査人数","眼底検査割合"]
["明細部","国",40,"男"]
["明細部","国",41,"男"]
["明細部","国",42,"男"]
["明細部","国",43,"男"]
["明細部","国",44,"男"]
["明細部","国",45,"男"]
["明細部","国",46,"男"]
["明細部","国",47,"男"]
["明細部","国",48,"男"]
["明細部","国",49,"男"]
["明細部","国",50,"男"]
["明細部","国",51,"男"]
["明細部","国",52,"男"]
["明細部","国",53,"男"]
["明細部","国",54,"男"]
["明細部","国",55,"男"]
["明細部","国",56,"男"]
["明細部","国",57,"男"]
["明細部","国",58,"男"]
["明細部","国",59,"男"]
["明細部","国",60,"男"]
["明細部","国",61,"男"]
["明細部","国",62,"男"]
["明細部","国",63,"男"]
["明細部","国",64,"男"]
["明細部","国",65,"男"]
["明細部","国",66,"男"]
["明細部","国",67,"男"]
["明細部","国",68,"男"]
["明細部","国",69,"男"]
["明細部","国",70,"男"]
["明細部","国",71,"男"]
["明細部","国",72,"男"]
["明細部","国",73,"男"]
["明細部","国",74,"男"]
["明細部","国",40,"女"]
["明細部","国",41,"女"]
["明細部","国",42,"女"]
["明細部","国",43,"女"]
["明細部","国",44,"女"]
["明細部","国",45,"女"]
["明細部","国",46,"女"]
["明細部","国",47,"女"]
["明細部","国",48,"女"]
["明細部","国",49,"女"]
["明細部","国",50,"女"]
["明細部","国",51,"女"]
["明細部","国",52,"女"]
["明細部","国",53,"女"]
["明細部","国",54,"女"]
["明細部","国",55,"女"]
["明細部","国",56,"女"]
["明細部","国",57,"女"]
["明細部","国",58,"女"]
["明細部","国",59,"女"]
["明細部","国",60,"女"]
["明細部","国",61,"女"]
["明細部","国",62,"女"]
["明細部","国",63,"女"]
["明細部","国",64,"女"]
["明細部","国",65,"女"]
["明細部","国",66,"女"]
["明細部","国",67,"女"]
["明細部","国",68,"女"]
["明細部","国",69,"女"]
["明細部","国",70,"女"]
["明細部","国",71,"女"]
["明細部","国",72,"女"]
["明細部","国",73,"女"]
["明細部","国",74,"女"]
["明細部","県",40,"男"]
["明細部","県",41,"男"]
["明細部","県",42,"男"]
["明細部","県",43,"男"]
["明細部","県",44,"男"]
["明細部","県",45,"男"]
["明細部","県",46,"男"]
["明細部","県",47,"男"]
["明細部","県",48,"男"]
["明細部","県",49,"男"]
["明細部","県",50,"男"]
["明細部","県",51,"男"]
["明細部","県",52,"男"]
["明細部","県",53,"男"]
["明細部","県",54,"男"]
["明細部","県",55,"男"]
["明細部","県",56,"男"]
["明細部","県",57,"男"]
["明細部","県",58,"男"]
["明細部","県",59,"男"]
["明細部","県",60,"男"]
["明細部","県",61,"男"]
["明細部","県",62,"男"]
["明細部","県",63,"男"]
["明細部","県",64,"男"]
["明細部","県",65,"男"]
["明細部","県",66,"男"]
["明細部","県",67,"男"]
["明細部","県",68,"男"]
["明細部","県",69,"男"]
["明細部","県",70,"男"]
["明細部","県",71,"男"]
["明細部","県",72,"男"]
["明細部","県",73,"男"]
["明細部","県",74,"男"]
["明細部","県",40,"女"]
["明細部","県",41,"女"]
["明細部","県",42,"女"]
["明細部","県",43,"女"]
["明細部","県",44,"女"]
["明細部","県",45,"女"]
["明細部","県",46,"女"]
["明細部","県",47,"女"]
["明細部","県",48,"女"]
["明細部","県",49,"女"]
["明細部","県",50,"女"]
["明細部","県",51,"女"]
["明細部","県",52,"女"]
["明細部","県",53,"女"]
["明細部","県",54,"女"]
["明細部","県",55,"女"]
["明細部","県",56,"女"]
["明細部","県",57,"女"]
["明細部","県",58,"女"]
["明細部","県",59,"女"]
["明細部","県",60,"女"]
["明細部","県",61,"女"]
["明細部","県",62,"女"]
["明細部","県",63,"女"]
["明細部","県",64,"女"]
["明細部","県",65,"女"]
["明細部","県",66,"女"]
["明細部","県",67,"女"]
["明細部","県",68,"女"]
["明細部","県",69,"女"]
["明細部","県",70,"女"]
["明細部","県",71,"女"]
["明細部","県",72,"女"]
["明細部","県",73,"女"]
["明細部","県",74,"女"]
["明細部","保険者（地区）",40,"男"]
["明細部","保険者（地区）",41,"男"]
["明細部","保険者（地区）",42,"男"]
["明細部","保険者（地区）",43,"男"]
["明細部","保険者（地区）",44,"男"]
["明細部","保険者（地区）",45,"男"]
["明細部","保険者（地区）",46,"男"]
["明細部","保険者（地区）",47,"男"]
["明細部","保険者（地区）",48,"男"]
["明細部","保険者（地区）",49,"男"]
["明細部","保険者（地区）",50,"男"]
["明細部","保険者（地区）",51,"男"]
["明細部","保険者（地区）",52,"男"]
["明細部","保険者（地区）",53,"男"]
["明細部","保険者（地区）",54,"男"]
["明細部","保険者（地区）",55,"男"]
["明細部","保険者（地区）",56,"男"]
["明細部","保険者（地区）",57,"男"]
["明細部","保険者（地区）",58,"男"]
["明細部","保険者（地区）",59,"男"]
["明細部","保険者（地区）",60,"男"]
["明細部","保険者（地区）",61,"男"]
["明細部","保険者（地区）",62,"男"]
["明細部","保険者（地区）",63,"男"]
["明細部","保険者（地区）",64,"男"]
["明細部","保険者（地区）",65,"男"]
["明細部","保険者（地区）",66,"男"]
["明細部","保険者（地区）",67,"男"]
["明細部","保険者（地区）",68,"男"]
["明細部","保険者（地区）",69,"男"]
["明細部","保険者（地区）",70,"男"]
["明細部","保険者（地区）",71,"男"]
["明細部","保険者（地区）",72,"男"]
["明細部","保険者（地区）",73,"男"]
["明細部","保険者（地区）",74,"男"]
["明細部","保険者（地区）",40,"女"]
["明細部","保険者（地区）",41,"女"]
["明細部","保険者（地区）",42,"女"]
["明細部","保険者（地区）",43,"女"]
["明細部","保険者（地区）",44,"女"]
["明細部","保険者（地区）",45,"女"]
["明細部","保険者（地区）",46,"女"]
["明細部","保険者（地区）",47,"女"]
["明細部","保険者（地区）",48,"女"]
["明細部","保険者（地区）",49,"女"]
["明細部","保険者（地区）",50,"女"]
["明細部","保険者（地区）",51,"女"]
["明細部","保険者（地区）",52,"女"]
["明細部","保険者（地区）",53,"女"]
["明細部","保険者（地区）",54,"女"]
["明細部","保険者（地区）",55,"女"]
["明細部","保険者（地区）",56,"女"]
["明細部","保険者（地区）",57,"女"]
["明細部","保険者（地区）",58,"女"]
["明細部","保険者（地区）",59,"女"]
["明細部","保険者（地区）",60,"女"]
["明細部","保険者（地区）",61,"女"]
["明細部","保険者（地区）",62,"女"]
["明細部","保険者（地区）",63,"女"]
["明細部","保険者（地区）",64,"女"]
["明細部","保険者（地区）",65,"女"]
["明細部","保険者（地区）",66,"女"]
["明細部","保険者（地区）",67,"女"]
["明細部","保険者（地区）",68,"女"]
["明細部","保険者（地区）",69,"女"]
["明細部","保険者（地区）",70,"女"]
["明細部","保険者（地区）",71,"女"]
["明細部","保険者（地区）",72,"女"]
["明細部","保険者（地区）",73,"女"]
["明細部","保険者（地区）",74,"女"]

{"sheet":"CSVデータ2","index":2,"n_rows":213,"n_cols":33,"rows_kept":213,"cut":false,"hidden":false,"merged":[]}
["レコード種別","保険者番号","保険者名","地区名","作成年月","県計・国計"]
["共通部"]
["レコード種別","集計単位","年齢","性別","受診者","ＢＭＩ人数","ＢＭＩ割合","腹囲人数","腹囲割合","中性脂肪人数","中性脂肪割合","ＡＬＴ（ＧＰＴ）人数","ＡＬＴ（ＧＰＴ）割合","ＨＤＬコレステロール人数","ＨＤＬコレステロール割合","空腹時血糖人数","空腹時血糖割合","ＨｂＡ１ｃ人数","ＨｂＡ１ｃ割合","尿酸人数","尿酸割合","収縮期血圧人数","収縮期血圧割合","拡張期血圧人数","拡張期血圧割合","ＬＤＬコレステロール人数","ＬＤＬコレステロール割合","血清クレアチニン人数","血清クレアチニン割合","心電図人数","心電図割合","眼底検査人数","眼底検査割合"]
["明細部","国",40,"男"]
["明細部","国",41,"男"]
["明細部","国",42,"男"]
["明細部","国",43,"男"]
["明細部","国",44,"男"]
["明細部","国",45,"男"]
["明細部","国",46,"男"]
["明細部","国",47,"男"]
["明細部","国",48,"男"]
["明細部","国",49,"男"]
["明細部","国",50,"男"]
["明細部","国",51,"男"]
["明細部","国",52,"男"]
["明細部","国",53,"男"]
["明細部","国",54,"男"]
["明細部","国",55,"男"]
["明細部","国",56,"男"]
["明細部","国",57,"男"]
["明細部","国",58,"男"]
["明細部","国",59,"男"]
["明細部","国",60,"男"]
["明細部","国",61,"男"]
["明細部","国",62,"男"]
["明細部","国",63,"男"]
["明細部","国",64,"男"]
["明細部","国",65,"男"]
["明細部","国",66,"男"]
["明細部","国",67,"男"]
["明細部","国",68,"男"]
["明細部","国",69,"男"]
["明細部","国",70,"男"]
["明細部","国",71,"男"]
["明細部","国",72,"男"]
["明細部","国",73,"男"]
["明細部","国",74,"男"]
["明細部","国",40,"女"]
["明細部","国",41,"女"]
["明細部","国",42,"女"]
["明細部","国",43,"女"]
["明細部","国",44,"女"]
["明細部","国",45,"女"]
["明細部","国",46,"女"]
["明細部","国",47,"女"]
["明細部","国",48,"女"]
["明細部","国",49,"女"]
["明細部","国",50,"女"]
["明細部","国",51,"女"]
["明細部","国",52,"女"]
["明細部","国",53,"女"]
["明細部","国",54,"女"]
["明細部","国",55,"女"]
["明細部","国",56,"女"]
["明細部","国",57,"女"]
["明細部","国",58,"女"]
["明細部","国",59,"女"]
["明細部","国",60,"女"]
["明細部","国",61,"女"]
["明細部","国",62,"女"]
["明細部","国",63,"女"]
["明細部","国",64,"女"]
["明細部","国",65,"女"]
["明細部","国",66,"女"]
["明細部","国",67,"女"]
["明細部","国",68,"女"]
["明細部","国",69,"女"]
["明細部","国",70,"女"]
["明細部","国",71,"女"]
["明細部","国",72,"女"]
["明細部","国",73,"女"]
["明細部","国",74,"女"]
["明細部","県",40,"男"]
["明細部","県",41,"男"]
["明細部","県",42,"男"]
["明細部","県",43,"男"]
["明細部","県",44,"男"]
["明細部","県",45,"男"]
["明細部","県",46,"男"]
["明細部","県",47,"男"]
["明細部","県",48,"男"]
["明細部","県",49,"男"]
["明細部","県",50,"男"]
["明細部","県",51,"男"]
["明細部","県",52,"男"]
["明細部","県",53,"男"]
["明細部","県",54,"男"]
["明細部","県",55,"男"]
["明細部","県",56,"男"]
["明細部","県",57,"男"]
["明細部","県",58,"男"]
["明細部","県",59,"男"]
["明細部","県",60,"男"]
["明細部","県",61,"男"]
["明細部","県",62,"男"]
["明細部","県",63,"男"]
["明細部","県",64,"男"]
["明細部","県",65,"男"]
["明細部","県",66,"男"]
["明細部","県",67,"男"]
["明細部","県",68,"男"]
["明細部","県",69,"男"]
["明細部","県",70,"男"]
["明細部","県",71,"男"]
["明細部","県",72,"男"]
["明細部","県",73,"男"]
["明細部","県",74,"男"]
["明細部","県",40,"女"]
["明細部","県",41,"女"]
["明細部","県",42,"女"]
["明細部","県",43,"女"]
["明細部","県",44,"女"]
["明細部","県",45,"女"]
["明細部","県",46,"女"]
["明細部","県",47,"女"]
["明細部","県",48,"女"]
["明細部","県",49,"女"]
["明細部","県",50,"女"]
["明細部","県",51,"女"]
["明細部","県",52,"女"]
["明細部","県",53,"女"]
["明細部","県",54,"女"]
["明細部","県",55,"女"]
["明細部","県",56,"女"]
["明細部","県",57,"女"]
["明細部","県",58,"女"]
["明細部","県",59,"女"]
["明細部","県",60,"女"]
["明細部","県",61,"女"]
["明細部","県",62,"女"]
["明細部","県",63,"女"]
["明細部","県",64,"女"]
["明細部","県",65,"女"]
["明細部","県",66,"女"]
["明細部","県",67,"女"]
["明細部","県",68,"女"]
["明細部","県",69,"女"]
["明細部","県",70,"女"]
["明細部","県",71,"女"]
["明細部","県",72,"女"]
["明細部","県",73,"女"]
["明細部","県",74,"女"]
["明細部","保険者（地区）",40,"男"]
["明細部","保険者（地区）",41,"男"]
["明細部","保険者（地区）",42,"男"]
["明細部","保険者（地区）",43,"男"]
["明細部","保険者（地区）",44,"男"]
["明細部","保険者（地区）",45,"男"]
["明細部","保険者（地区）",46,"男"]
["明細部","保険者（地区）",47,"男"]
["明細部","保険者（地区）",48,"男"]
["明細部","保険者（地区）",49,"男"]
["明細部","保険者（地区）",50,"男"]
["明細部","保険者（地区）",51,"男"]
["明細部","保険者（地区）",52,"男"]
["明細部","保険者（地区）",53,"男"]
["明細部","保険者（地区）",54,"男"]
["明細部","保険者（地区）",55,"男"]
["明細部","保険者（地区）",56,"男"]
["明細部","保険者（地区）",57,"男"]
["明細部","保険者（地区）",58,"男"]
["明細部","保険者（地区）",59,"男"]
["明細部","保険者（地区）",60,"男"]
["明細部","保険者（地区）",61,"男"]
["明細部","保険者（地区）",62,"男"]
["明細部","保険者（地区）",63,"男"]
["明細部","保険者（地区）",64,"男"]
["明細部","保険者（地区）",65,"男"]
["明細部","保険者（地区）",66,"男"]
["明細部","保険者（地区）",67,"男"]
["明細部","保険者（地区）",68,"男"]
["明細部","保険者（地区）",69,"男"]
["明細部","保険者（地区）",70,"男"]
["明細部","保険者（地区）",71,"男"]
["明細部","保険者（地区）",72,"男"]
["明細部","保険者（地区）",73,"男"]
["明細部","保険者（地区）",74,"男"]
["明細部","保険者（地区）",40,"女"]
["明細部","保険者（地区）",41,"女"]
["明細部","保険者（地区）",42,"女"]
["明細部","保険者（地区）",43,"女"]
["明細部","保険者（地区）",44,"女"]
["明細部","保険者（地区）",45,"女"]
["明細部","保険者（地区）",46,"女"]
["明細部","保険者（地区）",47,"女"]
["明細部","保険者（地区）",48,"女"]
["明細部","保険者（地区）",49,"女"]
["明細部","保険者（地区）",50,"女"]
["明細部","保険者（地区）",51,"女"]
["明細部","保険者（地区）",52,"女"]
["明細部","保険者（地区）",53,"女"]
["明細部","保険者（地区）",54,"女"]
["明細部","保険者（地区）",55,"女"]
["明細部","保険者（地区）",56,"女"]
["明細部","保険者（地区）",57,"女"]
["明細部","保険者（地区）",58,"女"]
["明細部","保険者（地区）",59,"女"]
["明細部","保険者（地区）",60,"女"]
["明細部","保険者（地区）",61,"女"]
["明細部","保険者（地区）",62,"女"]
["明細部","保険者（地区）",63,"女"]
["明細部","保険者（地区）",64,"女"]
["明細部","保険者（地区）",65,"女"]
["明細部","保険者（地区）",66,"女"]
["明細部","保険者（地区）",67,"女"]
["明細部","保険者（地区）",68,"女"]
["明細部","保険者（地区）",69,"女"]
["明細部","保険者（地区）",70,"女"]
["明細部","保険者（地区）",71,"女"]
["明細部","保険者（地区）",72,"女"]
["明細部","保険者（地区）",73,"女"]
["明細部","保険者（地区）",74,"女"]

{"sheet":"CSVデータ3","index":3,"n_rows":213,"n_cols":33,"rows_kept":213,"cut":false,"hidden":false,"merged":[]}
["レコード種別","保険者番号","保険者名","地区名","作成年月","県計・国計"]
["共通部"]
["レコード種別","集計単位","年齢","性別","受診者","ＢＭＩ人数","ＢＭＩ割合","腹囲人数","腹囲割合","中性脂肪人数","中性脂肪割合","ＡＬＴ（ＧＰＴ）人数","ＡＬＴ（ＧＰＴ）割合","ＨＤＬコレステロール人数","ＨＤＬコレステロール割合","空腹時血糖人数","空腹時血糖割合","ＨｂＡ１ｃ人数","ＨｂＡ１ｃ割合","尿酸人数","尿酸割合","収縮期血圧人数","収縮期血圧割合","拡張期血圧人数","拡張期血圧割合","ＬＤＬコレステロール人数","ＬＤＬコレステロール割合","血清クレアチニン人数","血清クレアチニン割合","心電図人数","心電図割合","眼底検査人数","眼底検査割合"]
["明細部","国",40,"男"]
["明細部","国",41,"男"]
["明細部","国",42,"男"]
["明細部","国",43,"男"]
["明細部","国",44,"男"]
["明細部","国",45,"男"]
["明細部","国",46,"男"]
["明細部","国",47,"男"]
["明細部","国",48,"男"]
["明細部","国",49,"男"]
["明細部","国",50,"男"]
["明細部","国",51,"男"]
["明細部","国",52,"男"]
["明細部","国",53,"男"]
["明細部","国",54,"男"]
["明細部","国",55,"男"]
["明細部","国",56,"男"]
["明細部","国",57,"男"]
["明細部","国",58,"男"]
["明細部","国",59,"男"]
["明細部","国",60,"男"]
["明細部","国",61,"男"]
["明細部","国",62,"男"]
["明細部","国",63,"男"]
["明細部","国",64,"男"]
["明細部","国",65,"男"]
["明細部","国",66,"男"]
["明細部","国",67,"男"]
["明細部","国",68,"男"]
["明細部","国",69,"男"]
["明細部","国",70,"男"]
["明細部","国",71,"男"]
["明細部","国",72,"男"]
["明細部","国",73,"男"]
["明細部","国",74,"男"]
["明細部","国",40,"女"]
["明細部","国",41,"女"]
["明細部","国",42,"女"]
["明細部","国",43,"女"]
["明細部","国",44,"女"]
["明細部","国",45,"女"]
["明細部","国",46,"女"]
["明細部","国",47,"女"]
["明細部","国",48,"女"]
["明細部","国",49,"女"]
["明細部","国",50,"女"]
["明細部","国",51,"女"]
["明細部","国",52,"女"]
["明細部","国",53,"女"]
["明細部","国",54,"女"]
["明細部","国",55,"女"]
["明細部","国",56,"女"]
["明細部","国",57,"女"]
["明細部","国",58,"女"]
["明細部","国",59,"女"]
["明細部","国",60,"女"]
["明細部","国",61,"女"]
["明細部","国",62,"女"]
["明細部","国",63,"女"]
["明細部","国",64,"女"]
["明細部","国",65,"女"]
["明細部","国",66,"女"]
["明細部","国",67,"女"]
["明細部","国",68,"女"]
["明細部","国",69,"女"]
["明細部","国",70,"女"]
["明細部","国",71,"女"]
["明細部","国",72,"女"]
["明細部","国",73,"女"]
["明細部","国",74,"女"]
["明細部","県",40,"男"]
["明細部","県",41,"男"]
["明細部","県",42,"男"]
["明細部","県",43,"男"]
["明細部","県",44,"男"]
["明細部","県",45,"男"]
["明細部","県",46,"男"]
["明細部","県",47,"男"]
["明細部","県",48,"男"]
["明細部","県",49,"男"]
["明細部","県",50,"男"]
["明細部","県",51,"男"]
["明細部","県",52,"男"]
["明細部","県",53,"男"]
["明細部","県",54,"男"]
["明細部","県",55,"男"]
["明細部","県",56,"男"]
["明細部","県",57,"男"]
["明細部","県",58,"男"]
["明細部","県",59,"男"]
["明細部","県",60,"男"]
["明細部","県",61,"男"]
["明細部","県",62,"男"]
["明細部","県",63,"男"]
["明細部","県",64,"男"]
["明細部","県",65,"男"]
["明細部","県",66,"男"]
["明細部","県",67,"男"]
["明細部","県",68,"男"]
["明細部","県",69,"男"]
["明細部","県",70,"男"]
["明細部","県",71,"男"]
["明細部","県",72,"男"]
["明細部","県",73,"男"]
["明細部","県",74,"男"]
["明細部","県",40,"女"]
["明細部","県",41,"女"]
["明細部","県",42,"女"]
["明細部","県",43,"女"]
["明細部","県",44,"女"]
["明細部","県",45,"女"]
["明細部","県",46,"女"]
["明細部","県",47,"女"]
["明細部","県",48,"女"]
["明細部","県",49,"女"]
["明細部","県",50,"女"]
["明細部","県",51,"女"]
["明細部","県",52,"女"]
["明細部","県",53,"女"]
["明細部","県",54,"女"]
["明細部","県",55,"女"]
["明細部","県",56,"女"]
["明細部","県",57,"女"]
["明細部","県",58,"女"]
["明細部","県",59,"女"]
["明細部","県",60,"女"]
["明細部","県",61,"女"]
["明細部","県",62,"女"]
["明細部","県",63,"女"]
["明細部","県",64,"女"]
["明細部","県",65,"女"]
["明細部","県",66,"女"]
["明細部","県",67,"女"]
["明細部","県",68,"女"]
["明細部","県",69,"女"]
["明細部","県",70,"女"]
["明細部","県",71,"女"]
["明細部","県",72,"女"]
["明細部","県",73,"女"]
["明細部","県",74,"女"]
["明細部","保険者（地区）",40,"男"]
["明細部","保険者（地区）",41,"男"]
["明細部","保険者（地区）",42,"男"]
["明細部","保険者（地区）",43,"男"]
["明細部","保険者（地区）",44,"男"]
["明細部","保険者（地区）",45,"男"]
["明細部","保険者（地区）",46,"男"]
["明細部","保険者（地区）",47,"男"]
["明細部","保険者（地区）",48,"男"]
["明細部","保険者（地区）",49,"男"]
["明細部","保険者（地区）",50,"男"]
["明細部","保険者（地区）",51,"男"]
["明細部","保険者（地区）",52,"男"]
["明細部","保険者（地区）",53,"男"]
["明細部","保険者（地区）",54,"男"]
["明細部","保険者（地区）",55,"男"]
["明細部","保険者（地区）",56,"男"]
["明細部","保険者（地区）",57,"男"]
["明細部","保険者（地区）",58,"男"]
["明細部","保険者（地区）",59,"男"]
["明細部","保険者（地区）",60,"男"]
["明細部","保険者（地区）",61,"男"]
["明細部","保険者（地区）",62,"男"]
["明細部","保険者（地区）",63,"男"]
["明細部","保険者（地区）",64,"男"]
["明細部","保険者（地区）",65,"男"]
["明細部","保険者（地区）",66,"男"]
["明細部","保険者（地区）",67,"男"]
["明細部","保険者（地区）",68,"男"]
["明細部","保険者（地区）",69,"男"]
["明細部","保険者（地区）",70,"男"]
["明細部","保険者（地区）",71,"男"]
["明細部","保険者（地区）",72,"男"]
["明細部","保険者（地区）",73,"男"]
["明細部","保険者（地区）",74,"男"]
["明細部","保険者（地区）",40,"女"]
["明細部","保険者（地区）",41,"女"]
["明細部","保険者（地区）",42,"女"]
["明細部","保険者（地区）",43,"女"]
["明細部","保険者（地区）",44,"女"]
["明細部","保険者（地区）",45,"女"]
["明細部","保険者（地区）",46,"女"]
["明細部","保険者（地区）",47,"女"]
["明細部","保険者（地区）",48,"女"]
["明細部","保険者（地区）",49,"女"]
["明細部","保険者（地区）",50,"女"]
["明細部","保険者（地区）",51,"女"]
["明細部","保険者（地区）",52,"女"]
["明細部","保険者（地区）",53,"女"]
["明細部","保険者（地区）",54,"女"]
["明細部","保険者（地区）",55,"女"]
["明細部","保険者（地区）",56,"女"]
["明細部","保険者（地区）",57,"女"]
["明細部","保険者（地区）",58,"女"]
["明細部","保険者（地区）",59,"女"]
["明細部","保険者（地区）",60,"女"]
["明細部","保険者（地区）",61,"女"]
["明細部","保険者（地区）",62,"女"]
["明細部","保険者（地区）",63,"女"]
["明細部","保険者（地区）",64,"女"]
["明細部","保険者（地区）",65,"女"]
["明細部","保険者（地区）",66,"女"]
["明細部","保険者（地区）",67,"女"]
["明細部","保険者（地区）",68,"女"]
["明細部","保険者（地区）",69,"女"]
["明細部","保険者（地区）",70,"女"]
["明細部","保険者（地区）",71,"女"]
["明細部","保険者（地区）",72,"女"]
["明細部","保険者（地区）",73,"女"]
["明細部","保険者（地区）",74,"女"]

{"sheet":"CSVデータ4","index":4,"n_rows":213,"n_cols":33,"rows_kept":213,"cut":false,"hidden":false,"merged":[]}
["レコード種別","保険者番号","保険者名","地区名","作成年月","県計・国計"]
["共通部"]
["レコード種別","集計単位","年齢","性別","受診者","ＢＭＩ人数","ＢＭＩ割合","腹囲人数","腹囲割合","中性脂肪人数","中性脂肪割合","ＡＬＴ（ＧＰＴ）人数","ＡＬＴ（ＧＰＴ）割合","ＨＤＬコレステロール人数","ＨＤＬコレステロール割合","空腹時血糖人数","空腹時血糖割合","ＨｂＡ１ｃ人数","ＨｂＡ１ｃ割合","尿酸人数","尿酸割合","収縮期血圧人数","収縮期血圧割合","拡張期血圧人数","拡張期血圧割合","ＬＤＬコレステロール人数","ＬＤＬコレステロール割合","血清クレアチニン人数","血清クレアチニン割合","心電図人数","心電図割合","眼底検査人数","眼底検査割合"]
["明細部","国",40,"男"]
["明細部","国",41,"男"]
["明細部","国",42,"男"]
["明細部","国",43,"男"]
["明細部","国",44,"男"]
["明細部","国",45,"男"]
["明細部","国",46,"男"]
["明細部","国",47,"男"]
["明細部","国",48,"男"]
["明細部","国",49,"男"]
["明細部","国",50,"男"]
["明細部","国",51,"男"]
["明細部","国",52,"男"]
["明細部","国",53,"男"]
["明細部","国",54,"男"]
["明細部","国",55,"男"]
["明細部","国",56,"男"]
["明細部","国",57,"男"]
["明細部","国",58,"男"]
["明細部","国",59,"男"]
["明細部","国",60,"男"]
["明細部","国",61,"男"]
["明細部","国",62,"男"]
["明細部","国",63,"男"]
["明細部","国",64,"男"]
["明細部","国",65,"男"]
["明細部","国",66,"男"]
["明細部","国",67,"男"]
["明細部","国",68,"男"]
["明細部","国",69,"男"]
["明細部","国",70,"男"]
["明細部","国",71,"男"]
["明細部","国",72,"男"]
["明細部","国",73,"男"]
["明細部","国",74,"男"]
["明細部","国",40,"女"]
["明細部","国",41,"女"]
["明細部","国",42,"女"]
["明細部","国",43,"女"]
["明細部","国",44,"女"]
["明細部","国",45,"女"]
["明細部","国",46,"女"]
["明細部","国",47,"女"]
["明細部","国",48,"女"]
["明細部","国",49,"女"]
["明細部","国",50,"女"]
["明細部","国",51,"女"]
["明細部","国",52,"女"]
["明細部","国",53,"女"]
["明細部","国",54,"女"]
["明細部","国",55,"女"]
["明細部","国",56,"女"]
["明細部","国",57,"女"]
["明細部","国",58,"女"]
["明細部","国",59,"女"]
["明細部","国",60,"女"]
["明細部","国",61,"女"]
["明細部","国",62,"女"]
["明細部","国",63,"女"]
["明細部","国",64,"女"]
["明細部","国",65,"女"]
["明細部","国",66,"女"]
["明細部","国",67,"女"]
["明細部","国",68,"女"]
["明細部","国",69,"女"]
["明細部","国",70,"女"]
["明細部","国",71,"女"]
["明細部","国",72,"女"]
["明細部","国",73,"女"]
["明細部","国",74,"女"]
["明細部","県",40,"男"]
["明細部","県",41,"男"]
["明細部","県",42,"男"]
["明細部","県",43,"男"]
["明細部","県",44,"男"]
["明細部","県",45,"男"]
["明細部","県",46,"男"]
["明細部","県",47,"男"]
["明細部","県",48,"男"]
["明細部","県",49,"男"]
["明細部","県",50,"男"]
["明細部","県",51,"男"]
["明細部","県",52,"男"]
["明細部","県",53,"男"]
["明細部","県",54,"男"]
["明細部","県",55,"男"]
["明細部","県",56,"男"]
["明細部","県",57,"男"]
["明細部","県",58,"男"]
["明細部","県",59,"男"]
["明細部","県",60,"男"]
["明細部","県",61,"男"]
["明細部","県",62,"男"]
["明細部","県",63,"男"]
["明細部","県",64,"男"]
["明細部","県",65,"男"]
["明細部","県",66,"男"]
["明細部","県",67,"男"]
["明細部","県",68,"男"]
["明細部","県",69,"男"]
["明細部","県",70,"男"]
["明細部","県",71,"男"]
["明細部","県",72,"男"]
["明細部","県",73,"男"]
["明細部","県",74,"男"]
["明細部","県",40,"女"]
["明細部","県",41,"女"]
["明細部","県",42,"女"]
["明細部","県",43,"女"]
["明細部","県",44,"女"]
["明細部","県",45,"女"]
["明細部","県",46,"女"]
["明細部","県",47,"女"]
["明細部","県",48,"女"]
["明細部","県",49,"女"]
["明細部","県",50,"女"]
["明細部","県",51,"女"]
["明細部","県",52,"女"]
["明細部","県",53,"女"]
["明細部","県",54,"女"]
["明細部","県",55,"女"]
["明細部","県",56,"女"]
["明細部","県",57,"女"]
["明細部","県",58,"女"]
["明細部","県",59,"女"]
["明細部","県",60,"女"]
["明細部","県",61,"女"]
["明細部","県",62,"女"]
["明細部","県",63,"女"]
["明細部","県",64,"女"]
["明細部","県",65,"女"]
["明細部","県",66,"女"]
["明細部","県",67,"女"]
["明細部","県",68,"女"]
["明細部","県",69,"女"]
["明細部","県",70,"女"]
["明細部","県",71,"女"]
["明細部","県",72,"女"]
["明細部","県",73,"女"]
["明細部","県",74,"女"]
["明細部","保険者（地区）",40,"男"]
["明細部","保険者（地区）",41,"男"]
["明細部","保険者（地区）",42,"男"]
["明細部","保険者（地区）",43,"男"]
["明細部","保険者（地区）",44,"男"]
["明細部","保険者（地区）",45,"男"]
["明細部","保険者（地区）",46,"男"]
["明細部","保険者（地区）",47,"男"]
["明細部","保険者（地区）",48,"男"]
["明細部","保険者（地区）",49,"男"]
["明細部","保険者（地区）",50,"男"]
["明細部","保険者（地区）",51,"男"]
["明細部","保険者（地区）",52,"男"]
["明細部","保険者（地区）",53,"男"]
["明細部","保険者（地区）",54,"男"]
["明細部","保険者（地区）",55,"男"]
["明細部","保険者（地区）",56,"男"]
["明細部","保険者（地区）",57,"男"]
["明細部","保険者（地区）",58,"男"]
["明細部","保険者（地区）",59,"男"]
["明細部","保険者（地区）",60,"男"]
["明細部","保険者（地区）",61,"男"]
["明細部","保険者（地区）",62,"男"]
["明細部","保険者（地区）",63,"男"]
["明細部","保険者（地区）",64,"男"]
["明細部","保険者（地区）",65,"男"]
["明細部","保険者（地区）",66,"男"]
["明細部","保険者（地区）",67,"男"]
["明細部","保険者（地区）",68,"男"]
["明細部","保険者（地区）",69,"男"]
["明細部","保険者（地区）",70,"男"]
["明細部","保険者（地区）",71,"男"]
["明細部","保険者（地区）",72,"男"]
["明細部","保険者（地区）",73,"男"]
["明細部","保険者（地区）",74,"男"]
["明細部","保険者（地区）",40,"女"]
["明細部","保険者（地区）",41,"女"]
["明細部","保険者（地区）",42,"女"]
["明細部","保険者（地区）",43,"女"]
["明細部","保険者（地区）",44,"女"]
["明細部","保険者（地区）",45,"女"]
["明細部","保険者（地区）",46,"女"]
["明細部","保険者（地区）",47,"女"]
["明細部","保険者（地区）",48,"女"]
["明細部","保険者（地区）",49,"女"]
["明細部","保険者（地区）",50,"女"]
["明細部","保険者（地区）",51,"女"]
["明細部","保険者（地区）",52,"女"]
["明細部","保険者（地区）",53,"女"]
["明細部","保険者（地区）",54,"女"]
["明細部","保険者（地区）",55,"女"]
["明細部","保険者（地区）",56,"女"]
["明細部","保険者（地区）",57,"女"]
["明細部","保険者（地区）",58,"女"]
["明細部","保険者（地区）",59,"女"]
["明細部","保険者（地区）",60,"女"]
["明細部","保険者（地区）",61,"女"]
["明細部","保険者（地区）",62,"女"]
["明細部","保険者（地区）",63,"女"]
["明細部","保険者（地区）",64,"女"]
["明細部","保険者（地区）",65,"女"]
["明細部","保険者（地区）",66,"女"]
["明細部","保険者（地区）",67,"女"]
["明細部","保険者（地区）",68,"女"]
["明細部","保険者（地区）",69,"女"]
["明細部","保険者（地区）",70,"女"]
["明細部","保険者（地区）",71,"女"]
["明細部","保険者（地区）",72,"女"]
["明細部","保険者（地区）",73,"女"]
["明細部","保険者（地区）",74,"女"]

{"sheet":"CSVデータ","index":5,"n_rows":213,"n_cols":33,"rows_kept":213,"cut":false,"hidden":true,"merged":[]}
[{"$f":"CSVデータ1!A1","v":"レコード種別"},{"$f":"CSVデータ1!B1","v":"保険者番号"},{"$f":"CSVデータ1!C1","v":"保険者名"},{"$f":"CSVデータ1!D1","v":"地区名"},{"$f":"CSVデータ1!E1","v":"作成年月"}]
[{"$f":"CSVデータ1!A2","v":"共通部"},{"$f":"CSVデータ1!B2","v":999999},{"$f":"CSVデータ1!C2","v":"○○市"},{"$f":"CSVデータ1!D2","v":0},{"$f":"CSVデータ1!E2&CSVデータ2!E2&CSVデータ3!E2&CSVデータ4!E2","v":""}]
[{"$f":"CSVデータ1!A3","v":"レコード種別"},{"$f":"CSVデータ1!B3","v":"集計単位"},{"$f":"CSVデータ1!C3","v":"年齢"},{"$f":"CSVデータ1!D3","v":"性別"},{"$f":"CSVデータ1!E3","v":"受診者"},{"$f":"CSVデータ1!F3","v":"ＢＭＩ人数"},{"$f":"CSVデータ1!G3","v":"ＢＭＩ割合"},{"$f":"CSVデータ1!H3","v":"腹囲人数"},{"$f":"CSVデータ1!I3","v":"腹囲割合"},{"$f":"CSVデータ1!J3","v":"中性脂肪人数"},{"$f":"CSVデータ1!K3","v":"中性脂肪割合"},{"$f":"CSVデータ1!L3","v":"ＡＬＴ（ＧＰＴ）人数"},{"$f":"CSVデータ1!M3","v":"ＡＬＴ（ＧＰＴ）割合"},{"$f":"CSVデータ1!N3","v":"ＨＤＬコレステロール人数"},{"$f":"CSVデータ1!O3","v":"ＨＤＬコレステロール割合"},{"$f":"CSVデータ1!P3","v":"空腹時血糖人数"},{"$f":"CSVデータ1!Q3","v":"空腹時血糖割合"},{"$f":"CSVデータ1!R3","v":"ＨｂＡ１ｃ人数"},{"$f":"CSVデータ1!S3","v":"ＨｂＡ１ｃ割合"},{"$f":"CSVデータ1!T3","v":"尿酸人数"},{"$f":"CSVデータ1!U3","v":"尿酸割合"},{"$f":"CSVデータ1!V3","v":"収縮期血圧人数"},{"$f":"CSVデータ1!W3","v":"収縮期血圧割合"},{"$f":"CSVデータ1!X3","v":"拡張期血圧人数"},{"$f":"CSVデータ1!Y3","v":"拡張期血圧割合"},{"$f":"CSVデータ1!Z3","v":"ＬＤＬコレステロール人数"},{"$f":"CSVデータ1!AA3","v":"ＬＤＬコレステロール割合"},{"$f":"CSVデータ1!AB3","v":"血清クレアチニン人数"},{"$f":"CSVデータ1!AC3","v":"血清クレアチニン割合"},{"$f":"CSVデータ1!AD3","v":"心電図人数"},{"$f":"CSVデータ1!AE3","v":"心電図割合"},{"$f":"CSVデータ1!AF3","v":"眼底検査人数"},{"$f":"CSVデータ1!AG3","v":"眼底検査割合"}]
[{"$f":"CSVデータ1!A4","v":"明細部"},{"$f":"CSVデータ1!B4","v":"国"},{"$f":"CSVデータ1!C4","v":40},{"$f":"CSVデータ1!D4","v":"男"},{"$f":"CSVデータ1!E4+CSVデータ2!E4+CSVデータ3!E4+CSVデータ4!E4","v":0},{"$f":"CSVデータ1!F4+CSVデータ2!F4+CSVデータ3!F4+CSVデータ4!F4","v":0},null,{"$f":"CSVデータ1!H4+CSVデータ2!H4+CSVデータ3!H4+CSVデータ4!H4","v":0},null,{"$f":"CSVデータ1!J4+CSVデータ2!J4+CSVデータ3!J4+CSVデータ4!J4","v":0},null,{"$f":"CSVデータ1!L4+CSVデータ2!L4+CSVデータ3!L4+CSVデータ4!L4","v":0},null,{"$f":"CSVデータ1!N4+CSVデータ2!N4+CSVデータ3!N4+CSVデータ4!N4","v":0},null,{"$f":"CSVデータ1!P4+CSVデータ2!P4+CSVデータ3!P4+CSVデータ4!P4","v":0},null,{"$f":"CSVデータ1!R4+CSVデータ2!R4+CSVデータ3!R4+CSVデータ4!R4","v":0},null,{"$f":"CSVデータ1!T4+CSVデータ2!T4+CSVデータ3!T4+CSVデータ4!T4","v":0},null,{"$f":"CSVデータ1!V4+CSVデータ2!V4+CSVデータ3!V4+CSVデータ4!V4","v":0},null,{"$f":"CSVデータ1!X4+CSVデータ2!X4+CSVデータ3!X4+CSVデータ4!X4","v":0},null,{"$f":"CSVデータ1!Z4+CSVデータ2!Z4+CSVデータ3!Z4+CSVデータ4!Z4","v":0},null,{"$f":"CSVデータ1!AB4+CSVデータ2!AB4+CSVデータ3!AB4+CSVデータ4!AB4","v":0},null,{"$f":"CSVデータ1!AD4+CSVデータ2!AD4+CSVデータ3!AD4+CSVデータ4!AD4","v":0},null,{"$f":"CSVデータ1!AF4+CSVデータ2!AF4+CSVデータ3!AF4+CSVデータ4!AF4","v":0}]
[{"$f":"CSVデータ1!A5","v":"明細部"},{"$f":"CSVデータ1!B5","v":"国"},{"$f":"CSVデータ1!C5","v":41},{"$f":"CSVデータ1!D5","v":"男"},{"$f":"CSVデータ1!E5+CSVデータ2!E5+CSVデータ3!E5+CSVデータ4!E5","v":0},{"$f":"CSVデータ1!F5+CSVデータ2!F5+CSVデータ3!F5+CSVデータ4!F5","v":0},null,{"$f":"CSVデータ1!H5+CSVデータ2!H5+CSVデータ3!H5+CSVデータ4!H5","v":0},null,{"$f":"CSVデータ1!J5+CSVデータ2!J5+CSVデータ3!J5+CSVデータ4!J5","v":0},null,{"$f":"CSVデータ1!L5+CSVデータ2!L5+CSVデータ3!L5+CSVデータ4!L5","v":0},null,{"$f":"CSVデータ1!N5+CSVデータ2!N5+CSVデータ3!N5+CSVデータ4!N5","v":0},null,{"$f":"CSVデータ1!P5+CSVデータ2!P5+CSVデータ3!P5+CSVデータ4!P5","v":0},null,{"$f":"CSVデータ1!R5+CSVデータ2!R5+CSVデータ3!R5+CSVデータ4!R5","v":0},null,{"$f":"CSVデータ1!T5+CSVデータ2!T5+CSVデータ3!T5+CSVデータ4!T5","v":0},null,{"$f":"CSVデータ1!V5+CSVデータ2!V5+CSVデータ3!V5+CSVデータ4!V5","v":0},null,{"$f":"CSVデータ1!X5+CSVデータ2!X5+CSVデータ3!X5+CSVデータ4!X5","v":0},null,{"$f":"CSVデータ1!Z5+CSVデータ2!Z5+CSVデータ3!Z5+CSVデータ4!Z5","v":0},null,{"$f":"CSVデータ1!AB5+CSVデータ2!AB5+CSVデータ3!AB5+CSVデータ4!AB5","v":0},null,{"$f":"CSVデータ1!AD5+CSVデータ2!AD5+CSVデータ3!AD5+CSVデータ4!AD5","v":0},null,{"$f":"CSVデータ1!AF5+CSVデータ2!AF5+CSVデータ3!AF5+CSVデータ4!AF5","v":0}]
[{"$f":"CSVデータ1!A6","v":"明細部"},{"$f":"CSVデータ1!B6","v":"国"},{"$f":"CSVデータ1!C6","v":42},{"$f":"CSVデータ1!D6","v":"男"},{"$f":"CSVデータ1!E6+CSVデータ2!E6+CSVデータ3!E6+CSVデータ4!E6","v":0},{"$f":"CSVデータ1!F6+CSVデータ2!F6+CSVデータ3!F6+CSVデータ4!F6","v":0},null,{"$f":"CSVデータ1!H6+CSVデータ2!H6+CSVデータ3!H6+CSVデータ4!H6","v":0},null,{"$f":"CSVデータ1!J6+CSVデータ2!J6+CSVデータ3!J6+CSVデータ4!J6","v":0},null,{"$f":"CSVデータ1!L6+CSVデータ2!L6+CSVデータ3!L6+CSVデータ4!L6","v":0},null,{"$f":"CSVデータ1!N6+CSVデータ2!N6+CSVデータ3!N6+CSVデータ4!N6","v":0},null,{"$f":"CSVデータ1!P6+CSVデータ2!P6+CSVデータ3!P6+CSVデータ4!P6","v":0},null,{"$f":"CSVデータ1!R6+CSVデータ2!R6+CSVデータ3!R6+CSVデータ4!R6","v":0},null,{"$f":"CSVデータ1!T6+CSVデータ2!T6+CSVデータ3!T6+CSVデータ4!T6","v":0},null,{"$f":"CSVデータ1!V6+CSVデータ2!V6+CSVデータ3!V6+CSVデータ4!V6","v":0},null,{"$f":"CSVデータ1!X6+CSVデータ2!X6+CSVデータ3!X6+CSVデータ4!X6","v":0},null,{"$f":"CSVデータ1!Z6+CSVデータ2!Z6+CSVデータ3!Z6+CSVデータ4!Z6","v":0},null,{"$f":"CSVデータ1!AB6+CSVデータ2!AB6+CSVデータ3!AB6+CSVデータ4!AB6","v":0},null,{"$f":"CSVデータ1!AD6+CSVデータ2!AD6+CSVデータ3!AD6+CSVデータ4!AD6","v":0},null,{"$f":"CSVデータ1!AF6+CSVデータ2!AF6+CSVデータ3!AF6+CSVデータ4!AF6","v":0}]
[{"$f":"CSVデータ1!A7","v":"明細部"},{"$f":"CSVデータ1!B7","v":"国"},{"$f":"CSVデータ1!C7","v":43},{"$f":"CSVデータ1!D7","v":"男"},{"$f":"CSVデータ1!E7+CSVデータ2!E7+CSVデータ3!E7+CSVデータ4!E7","v":0},{"$f":"CSVデータ1!F7+CSVデータ2!F7+CSVデータ3!F7+CSVデータ4!F7","v":0},null,{"$f":"CSVデータ1!H7+CSVデータ2!H7+CSVデータ3!H7+CSVデータ4!H7","v":0},null,{"$f":"CSVデータ1!J7+CSVデータ2!J7+CSVデータ3!J7+CSVデータ4!J7","v":0},null,{"$f":"CSVデータ1!L7+CSVデータ2!L7+CSVデータ3!L7+CSVデータ4!L7","v":0},null,{"$f":"CSVデータ1!N7+CSVデータ2!N7+CSVデータ3!N7+CSVデータ4!N7","v":0},null,{"$f":"CSVデータ1!P7+CSVデータ2!P7+CSVデータ3!P7+CSVデータ4!P7","v":0},null,{"$f":"CSVデータ1!R7+CSVデータ2!R7+CSVデータ3!R7+CSVデータ4!R7","v":0},null,{"$f":"CSVデータ1!T7+CSVデータ2!T7+CSVデータ3!T7+CSVデータ4!T7","v":0},null,{"$f":"CSVデータ1!V7+CSVデータ2!V7+CSVデータ3!V7+CSVデータ4!V7","v":0},null,{"$f":"CSVデータ1!X7+CSVデータ2!X7+CSVデータ3!X7+CSVデータ4!X7","v":0},null,{"$f":"CSVデータ1!Z7+CSVデータ2!Z7+CSVデータ3!Z7+CSVデータ4!Z7","v":0},null,{"$f":"CSVデータ1!AB7+CSVデータ2!AB7+CSVデータ3!AB7+CSVデータ4!AB7","v":0},null,{"$f":"CSVデータ1!AD7+CSVデータ2!AD7+CSVデータ3!AD7+CSVデータ4!AD7","v":0},null,{"$f":"CSVデータ1!AF7+CSVデータ2!AF7+CSVデータ3!AF7+CSVデータ4!AF7","v":0}]
[{"$f":"CSVデータ1!A8","v":"明細部"},{"$f":"CSVデータ1!B8","v":"国"},{"$f":"CSVデータ1!C8","v":44},{"$f":"CSVデータ1!D8","v":"男"},{"$f":"CSVデータ1!E8+CSVデータ2!E8+CSVデータ3!E8+CSVデータ4!E8","v":0},{"$f":"CSVデータ1!F8+CSVデータ2!F8+CSVデータ3!F8+CSVデータ4!F8","v":0},null,{"$f":"CSVデータ1!H8+CSVデータ2!H8+CSVデータ3!H8+CSVデータ4!H8","v":0},null,{"$f":"CSVデータ1!J8+CSVデータ2!J8+CSVデータ3!J8+CSVデータ4!J8","v":0},null,{"$f":"CSVデータ1!L8+CSVデータ2!L8+CSVデータ3!L8+CSVデータ4!L8","v":0},null,{"$f":"CSVデータ1!N8+CSVデータ2!N8+CSVデータ3!N8+CSVデータ4!N8","v":0},null,{"$f":"CSVデータ1!P8+CSVデータ2!P8+CSVデータ3!P8+CSVデータ4!P8","v":0},null,{"$f":"CSVデータ1!R8+CSVデータ2!R8+CSVデータ3!R8+CSVデータ4!R8","v":0},null,{"$f":"CSVデータ1!T8+CSVデータ2!T8+CSVデータ3!T8+CSVデータ4!T8","v":0},null,{"$f":"CSVデータ1!V8+CSVデータ2!V8+CSVデータ3!V8+CSVデータ4!V8","v":0},null,{"$f":"CSVデータ1!X8+CSVデータ2!X8+CSVデータ3!X8+CSVデータ4!X8","v":0},null,{"$f":"CSVデータ1!Z8+CSVデータ2!Z8+CSVデータ3!Z8+CSVデータ4!Z8","v":0},null,{"$f":"CSVデータ1!AB8+CSVデータ2!AB8+CSVデータ3!AB8+CSVデータ4!AB8","v":0},null,{"$f":"CSVデータ1!AD8+CSVデータ2!AD8+CSVデータ3!AD8+CSVデータ4!AD8","v":0},null,{"$f":"CSVデータ1!AF8+CSVデータ2!AF8+CSVデータ3!AF8+CSVデータ4!AF8","v":0}]
[{"$f":"CSVデータ1!A9","v":"明細部"},{"$f":"CSVデータ1!B9","v":"国"},{"$f":"CSVデータ1!C9","v":45},{"$f":"CSVデータ1!D9","v":"男"},{"$f":"CSVデータ1!E9+CSVデータ2!E9+CSVデータ3!E9+CSVデータ4!E9","v":0},{"$f":"CSVデータ1!F9+CSVデータ2!F9+CSVデータ3!F9+CSVデータ4!F9","v":0},null,{"$f":"CSVデータ1!H9+CSVデータ2!H9+CSVデータ3!H9+CSVデータ4!H9","v":0},null,{"$f":"CSVデータ1!J9+CSVデータ2!J9+CSVデータ3!J9+CSVデータ4!J9","v":0},null,{"$f":"CSVデータ1!L9+CSVデータ2!L9+CSVデータ3!L9+CSVデータ4!L9","v":0},null,{"$f":"CSVデータ1!N9+CSVデータ2!N9+CSVデータ3!N9+CSVデータ4!N9","v":0},null,{"$f":"CSVデータ1!P9+CSVデータ2!P9+CSVデータ3!P9+CSVデータ4!P9","v":0},null,{"$f":"CSVデータ1!R9+CSVデータ2!R9+CSVデータ3!R9+CSVデータ4!R9","v":0},null,{"$f":"CSVデータ1!T9+CSVデータ2!T9+CSVデータ3!T9+CSVデータ4!T9","v":0},null,{"$f":"CSVデータ1!V9+CSVデータ2!V9+CSVデータ3!V9+CSVデータ4!V9","v":0},null,{"$f":"CSVデータ1!X9+CSVデータ2!X9+CSVデータ3!X9+CSVデータ4!X9","v":0},null,{"$f":"CSVデータ1!Z9+CSVデータ2!Z9+CSVデータ3!Z9+CSVデータ4!Z9","v":0},null,{"$f":"CSVデータ1!AB9+CSVデータ2!AB9+CSVデータ3!AB9+CSVデータ4!AB9","v":0},null,{"$f":"CSVデータ1!AD9+CSVデータ2!AD9+CSVデータ3!AD9+CSVデータ4!AD9","v":0},null,{"$f":"CSVデータ1!AF9+CSVデータ2!AF9+CSVデータ3!AF9+CSVデータ4!AF9","v":0}]
[{"$f":"CSVデータ1!A10","v":"明細部"},{"$f":"CSVデータ1!B10","v":"国"},{"$f":"CSVデータ1!C10","v":46},{"$f":"CSVデータ1!D10","v":"男"},{"$f":"CSVデータ1!E10+CSVデータ2!E10+CSVデータ3!E10+CSVデータ4!E10","v":0},{"$f":"CSVデータ1!F10+CSVデータ2!F10+CSVデータ3!F10+CSVデータ4!F10","v":0},null,{"$f":"CSVデータ1!H10+CSVデータ2!H10+CSVデータ3!H10+CSVデータ4!H10","v":0},null,{"$f":"CSVデータ1!J10+CSVデータ2!J10+CSVデータ3!J10+CSVデータ4!J10","v":0},null,{"$f":"CSVデータ1!L10+CSVデータ2!L10+CSVデータ3!L10+CSVデータ4!L10","v":0},null,{"$f":"CSVデータ1!N10+CSVデータ2!N10+CSVデータ3!N10+CSVデータ4!N10","v":0},null,{"$f":"CSVデータ1!P10+CSVデータ2!P10+CSVデータ3!P10+CSVデータ4!P10","v":0},null,{"$f":"CSVデータ1!R10+CSVデータ2!R10+CSVデータ3!R10+CSVデータ4!R10","v":0},null,{"$f":"CSVデータ1!T10+CSVデータ2!T10+CSVデータ3!T10+CSVデータ4!T10","v":0},null,{"$f":"CSVデータ1!V10+CSVデータ2!V10+CSVデータ3!V10+CSVデータ4!V10","v":0},null,{"$f":"CSVデータ1!X10+CSVデータ2!X10+CSVデータ3!X10+CSVデータ4!X10","v":0},null,{"$f":"CSVデータ1!Z10+CSVデータ2!Z10+CSVデータ3!Z10+CSVデータ4!Z10","v":0},null,{"$f":"CSVデータ1!AB10+CSVデータ2!AB10+CSVデータ3!AB10+CSVデータ4!AB10","v":0},null,{"$f":"CSVデータ1!AD10+CSVデータ2!AD10+CSVデータ3!AD10+CSVデータ4!AD10","v":0},null,{"$f":"CSVデータ1!AF10+CSVデータ2!AF10+CSVデータ3!AF10+CSVデータ4!AF10","v":0}]
[{"$f":"CSVデータ1!A11","v":"明細部"},{"$f":"CSVデータ1!B11","v":"国"},{"$f":"CSVデータ1!C11","v":47},{"$f":"CSVデータ1!D11","v":"男"},{"$f":"CSVデータ1!E11+CSVデータ2!E11+CSVデータ3!E11+CSVデータ4!E11","v":0},{"$f":"CSVデータ1!F11+CSVデータ2!F11+CSVデータ3!F11+CSVデータ4!F11","v":0},null,{"$f":"CSVデータ1!H11+CSVデータ2!H11+CSVデータ3!H11+CSVデータ4!H11","v":0},null,{"$f":"CSVデータ1!J11+CSVデータ2!J11+CSVデータ3!J11+CSVデータ4!J11","v":0},null,{"$f":"CSVデータ1!L11+CSVデータ2!L11+CSVデータ3!L11+CSVデータ4!L11","v":0},null,{"$f":"CSVデータ1!N11+CSVデータ2!N11+CSVデータ3!N11+CSVデータ4!N11","v":0},null,{"$f":"CSVデータ1!P11+CSVデータ2!P11+CSVデータ3!P11+CSVデータ4!P11","v":0},null,{"$f":"CSVデータ1!R11+CSVデータ2!R11+CSVデータ3!R11+CSVデータ4!R11","v":0},null,{"$f":"CSVデータ1!T11+CSVデータ2!T11+CSVデータ3!T11+CSVデータ4!T11","v":0},null,{"$f":"CSVデータ1!V11+CSVデータ2!V11+CSVデータ3!V11+CSVデータ4!V11","v":0},null,{"$f":"CSVデータ1!X11+CSVデータ2!X11+CSVデータ3!X11+CSVデータ4!X11","v":0},null,{"$f":"CSVデータ1!Z11+CSVデータ2!Z11+CSVデータ3!Z11+CSVデータ4!Z11","v":0},null,{"$f":"CSVデータ1!AB11+CSVデータ2!AB11+CSVデータ3!AB11+CSVデータ4!AB11","v":0},null,{"$f":"CSVデータ1!AD11+CSVデータ2!AD11+CSVデータ3!AD11+CSVデータ4!AD11","v":0},null,{"$f":"CSVデータ1!AF11+CSVデータ2!AF11+CSVデータ3!AF11+CSVデータ4!AF11","v":0}]
[{"$f":"CSVデータ1!A12","v":"明細部"},{"$f":"CSVデータ1!B12","v":"国"},{"$f":"CSVデータ1!C12","v":48},{"$f":"CSVデータ1!D12","v":"男"},{"$f":"CSVデータ1!E12+CSVデータ2!E12+CSVデータ3!E12+CSVデータ4!E12","v":0},{"$f":"CSVデータ1!F12+CSVデータ2!F12+CSVデータ3!F12+CSVデータ4!F12","v":0},null,{"$f":"CSVデータ1!H12+CSVデータ2!H12+CSVデータ3!H12+CSVデータ4!H12","v":0},null,{"$f":"CSVデータ1!J12+CSVデータ2!J12+CSVデータ3!J12+CSVデータ4!J12","v":0},null,{"$f":"CSVデータ1!L12+CSVデータ2!L12+CSVデータ3!L12+CSVデータ4!L12","v":0},null,{"$f":"CSVデータ1!N12+CSVデータ2!N12+CSVデータ3!N12+CSVデータ4!N12","v":0},null,{"$f":"CSVデータ1!P12+CSVデータ2!P12+CSVデータ3!P12+CSVデータ4!P12","v":0},null,{"$f":"CSVデータ1!R12+CSVデータ2!R12+CSVデータ3!R12+CSVデータ4!R12","v":0},null,{"$f":"CSVデータ1!T12+CSVデータ2!T12+CSVデータ3!T12+CSVデータ4!T12","v":0},null,{"$f":"CSVデータ1!V12+CSVデータ2!V12+CSVデータ3!V12+CSVデータ4!V12","v":0},null,{"$f":"CSVデータ1!X12+CSVデータ2!X12+CSVデータ3!X12+CSVデータ4!X12","v":0},null,{"$f":"CSVデータ1!Z12+CSVデータ2!Z12+CSVデータ3!Z12+CSVデータ4!Z12","v":0},null,{"$f":"CSVデータ1!AB12+CSVデータ2!AB12+CSVデータ3!AB12+CSVデータ4!AB12","v":0},null,{"$f":"CSVデータ1!AD12+CSVデータ2!AD12+CSVデータ3!AD12+CSVデータ4!AD12","v":0},null,{"$f":"CSVデータ1!AF12+CSVデータ2!AF12+CSVデータ3!AF12+CSVデータ4!AF12","v":0}]
[{"$f":"CSVデータ1!A13","v":"明細部"},{"$f":"CSVデータ1!B13","v":"国"},{"$f":"CSVデータ1!C13","v":49},{"$f":"CSVデータ1!D13","v":"男"},{"$f":"CSVデータ1!E13+CSVデータ2!E13+CSVデータ3!E13+CSVデータ4!E13","v":0},{"$f":"CSVデータ1!F13+CSVデータ2!F13+CSVデータ3!F13+CSVデータ4!F13","v":0},null,{"$f":"CSVデータ1!H13+CSVデータ2!H13+CSVデータ3!H13+CSVデータ4!H13","v":0},null,{"$f":"CSVデータ1!J13+CSVデータ2!J13+CSVデータ3!J13+CSVデータ4!J13","v":0},null,{"$f":"CSVデータ1!L13+CSVデータ2!L13+CSVデータ3!L13+CSVデータ4!L13","v":0},null,{"$f":"CSVデータ1!N13+CSVデータ2!N13+CSVデータ3!N13+CSVデータ4!N13","v":0},null,{"$f":"CSVデータ1!P13+CSVデータ2!P13+CSVデータ3!P13+CSVデータ4!P13","v":0},null,{"$f":"CSVデータ1!R13+CSVデータ2!R13+CSVデータ3!R13+CSVデータ4!R13","v":0},null,{"$f":"CSVデータ1!T13+CSVデータ2!T13+CSVデータ3!T13+CSVデータ4!T13","v":0},null,{"$f":"CSVデータ1!V13+CSVデータ2!V13+CSVデータ3!V13+CSVデータ4!V13","v":0},null,{"$f":"CSVデータ1!X13+CSVデータ2!X13+CSVデータ3!X13+CSVデータ4!X13","v":0},null,{"$f":"CSVデータ1!Z13+CSVデータ2!Z13+CSVデータ3!Z13+CSVデータ4!Z13","v":0},null,{"$f":"CSVデータ1!AB13+CSVデータ2!AB13+CSVデータ3!AB13+CSVデータ4!AB13","v":0},null,{"$f":"CSVデータ1!AD13+CSVデータ2!AD13+CSVデータ3!AD13+CSVデータ4!AD13","v":0},null,{"$f":"CSVデータ1!AF13+CSVデータ2!AF13+CSVデータ3!AF13+CSVデータ4!AF13","v":0}]
[{"$f":"CSVデータ1!A14","v":"明細部"},{"$f":"CSVデータ1!B14","v":"国"},{"$f":"CSVデータ1!C14","v":50},{"$f":"CSVデータ1!D14","v":"男"},{"$f":"CSVデータ1!E14+CSVデータ2!E14+CSVデータ3!E14+CSVデータ4!E14","v":0},{"$f":"CSVデータ1!F14+CSVデータ2!F14+CSVデータ3!F14+CSVデータ4!F14","v":0},null,{"$f":"CSVデータ1!H14+CSVデータ2!H14+CSVデータ3!H14+CSVデータ4!H14","v":0},null,{"$f":"CSVデータ1!J14+CSVデータ2!J14+CSVデータ3!J14+CSVデータ4!J14","v":0},null,{"$f":"CSVデータ1!L14+CSVデータ2!L14+CSVデータ3!L14+CSVデータ4!L14","v":0},null,{"$f":"CSVデータ1!N14+CSVデータ2!N14+CSVデータ3!N14+CSVデータ4!N14","v":0},null,{"$f":"CSVデータ1!P14+CSVデータ2!P14+CSVデータ3!P14+CSVデータ4!P14","v":0},null,{"$f":"CSVデータ1!R14+CSVデータ2!R14+CSVデータ3!R14+CSVデータ4!R14","v":0},null,{"$f":"CSVデータ1!T14+CSVデータ2!T14+CSVデータ3!T14+CSVデータ4!T14","v":0},null,{"$f":"CSVデータ1!V14+CSVデータ2!V14+CSVデータ3!V14+CSVデータ4!V14","v":0},null,{"$f":"CSVデータ1!X14+CSVデータ2!X14+CSVデータ3!X14+CSVデータ4!X14","v":0},null,{"$f":"CSVデータ1!Z14+CSVデータ2!Z14+CSVデータ3!Z14+CSVデータ4!Z14","v":0},null,{"$f":"CSVデータ1!AB14+CSVデータ2!AB14+CSVデータ3!AB14+CSVデータ4!AB14","v":0},null,{"$f":"CSVデータ1!AD14+CSVデータ2!AD14+CSVデータ3!AD14+CSVデータ4!AD14","v":0},null,{"$f":"CSVデータ1!AF14+CSVデータ2!AF14+CSVデータ3!AF14+CSVデータ4!AF14","v":0}]
[{"$f":"CSVデータ1!A15","v":"明細部"},{"$f":"CSVデータ1!B15","v":"国"},{"$f":"CSVデータ1!C15","v":51},{"$f":"CSVデータ1!D15","v":"男"},{"$f":"CSVデータ1!E15+CSVデータ2!E15+CSVデータ3!E15+CSVデータ4!E15","v":0},{"$f":"CSVデータ1!F15+CSVデータ2!F15+CSVデータ3!F15+CSVデータ4!F15","v":0},null,{"$f":"CSVデータ1!H15+CSVデータ2!H15+CSVデータ3!H15+CSVデータ4!H15","v":0},null,{"$f":"CSVデータ1!J15+CSVデータ2!J15+CSVデータ3!J15+CSVデータ4!J15","v":0},null,{"$f":"CSVデータ1!L15+CSVデータ2!L15+CSVデータ3!L15+CSVデータ4!L15","v":0},null,{"$f":"CSVデータ1!N15+CSVデータ2!N15+CSVデータ3!N15+CSVデータ4!N15","v":0},null,{"$f":"CSVデータ1!P15+CSVデータ2!P15+CSVデータ3!P15+CSVデータ4!P15","v":0},null,{"$f":"CSVデータ1!R15+CSVデータ2!R15+CSVデータ3!R15+CSVデータ4!R15","v":0},null,{"$f":"CSVデータ1!T15+CSVデータ2!T15+CSVデータ3!T15+CSVデータ4!T15","v":0},null,{"$f":"CSVデータ1!V15+CSVデータ2!V15+CSVデータ3!V15+CSVデータ4!V15","v":0},null,{"$f":"CSVデータ1!X15+CSVデータ2!X15+CSVデータ3!X15+CSVデータ4!X15","v":0},null,{"$f":"CSVデータ1!Z15+CSVデータ2!Z15+CSVデータ3!Z15+CSVデータ4!Z15","v":0},null,{"$f":"CSVデータ1!AB15+CSVデータ2!AB15+CSVデータ3!AB15+CSVデータ4!AB15","v":0},null,{"$f":"CSVデータ1!AD15+CSVデータ2!AD15+CSVデータ3!AD15+CSVデータ4!AD15","v":0},null,{"$f":"CSVデータ1!AF15+CSVデータ2!AF15+CSVデータ3!AF15+CSVデータ4!AF15","v":0}]
[{"$f":"CSVデータ1!A16","v":"明細部"},{"$f":"CSVデータ1!B16","v":"国"},{"$f":"CSVデータ1!C16","v":52},{"$f":"CSVデータ1!D16","v":"男"},{"$f":"CSVデータ1!E16+CSVデータ2!E16+CSVデータ3!E16+CSVデータ4!E16","v":0},{"$f":"CSVデータ1!F16+CSVデータ2!F16+CSVデータ3!F16+CSVデータ4!F16","v":0},null,{"$f":"CSVデータ1!H16+CSVデータ2!H16+CSVデータ3!H16+CSVデータ4!H16","v":0},null,{"$f":"CSVデータ1!J16+CSVデータ2!J16+CSVデータ3!J16+CSVデータ4!J16","v":0},null,{"$f":"CSVデータ1!L16+CSVデータ2!L16+CSVデータ3!L16+CSVデータ4!L16","v":0},null,{"$f":"CSVデータ1!N16+CSVデータ2!N16+CSVデータ3!N16+CSVデータ4!N16","v":0},null,{"$f":"CSVデータ1!P16+CSVデータ2!P16+CSVデータ3!P16+CSVデータ4!P16","v":0},null,{"$f":"CSVデータ1!R16+CSVデータ2!R16+CSVデータ3!R16+CSVデータ4!R16","v":0},null,{"$f":"CSVデータ1!T16+CSVデータ2!T16+CSVデータ3!T16+CSVデータ4!T16","v":0},null,{"$f":"CSVデータ1!V16+CSVデータ2!V16+CSVデータ3!V16+CSVデータ4!V16","v":0},null,{"$f":"CSVデータ1!X16+CSVデータ2!X16+CSVデータ3!X16+CSVデータ4!X16","v":0},null,{"$f":"CSVデータ1!Z16+CSVデータ2!Z16+CSVデータ3!Z16+CSVデータ4!Z16","v":0},null,{"$f":"CSVデータ1!AB16+CSVデータ2!AB16+CSVデータ3!AB16+CSVデータ4!AB16","v":0},null,{"$f":"CSVデータ1!AD16+CSVデータ2!AD16+CSVデータ3!AD16+CSVデータ4!AD16","v":0},null,{"$f":"CSVデータ1!AF16+CSVデータ2!AF16+CSVデータ3!AF16+CSVデータ4!AF16","v":0}]
[{"$f":"CSVデータ1!A17","v":"明細部"},{"$f":"CSVデータ1!B17","v":"国"},{"$f":"CSVデータ1!C17","v":53},{"$f":"CSVデータ1!D17","v":"男"},{"$f":"CSVデータ1!E17+CSVデータ2!E17+CSVデータ3!E17+CSVデータ4!E17","v":0},{"$f":"CSVデータ1!F17+CSVデータ2!F17+CSVデータ3!F17+CSVデータ4!F17","v":0},null,{"$f":"CSVデータ1!H17+CSVデータ2!H17+CSVデータ3!H17+CSVデータ4!H17","v":0},null,{"$f":"CSVデータ1!J17+CSVデータ2!J17+CSVデータ3!J17+CSVデータ4!J17","v":0},null,{"$f":"CSVデータ1!L17+CSVデータ2!L17+CSVデータ3!L17+CSVデータ4!L17","v":0},null,{"$f":"CSVデータ1!N17+CSVデータ2!N17+CSVデータ3!N17+CSVデータ4!N17","v":0},null,{"$f":"CSVデータ1!P17+CSVデータ2!P17+CSVデータ3!P17+CSVデータ4!P17","v":0},null,{"$f":"CSVデータ1!R17+CSVデータ2!R17+CSVデータ3!R17+CSVデータ4!R17","v":0},null,{"$f":"CSVデータ1!T17+CSVデータ2!T17+CSVデータ3!T17+CSVデータ4!T17","v":0},null,{"$f":"CSVデータ1!V17+CSVデータ2!V17+CSVデータ3!V17+CSVデータ4!V17","v":0},null,{"$f":"CSVデータ1!X17+CSVデータ2!X17+CSVデータ3!X17+CSVデータ4!X17","v":0},null,{"$f":"CSVデータ1!Z17+CSVデータ2!Z17+CSVデータ3!Z17+CSVデータ4!Z17","v":0},null,{"$f":"CSVデータ1!AB17+CSVデータ2!AB17+CSVデータ3!AB17+CSVデータ4!AB17","v":0},null,{"$f":"CSVデータ1!AD17+CSVデータ2!AD17+CSVデータ3!AD17+CSVデータ4!AD17","v":0},null,{"$f":"CSVデータ1!AF17+CSVデータ2!AF17+CSVデータ3!AF17+CSVデータ4!AF17","v":0}]
[{"$f":"CSVデータ1!A18","v":"明細部"},{"$f":"CSVデータ1!B18","v":"国"},{"$f":"CSVデータ1!C18","v":54},{"$f":"CSVデータ1!D18","v":"男"},{"$f":"CSVデータ1!E18+CSVデータ2!E18+CSVデータ3!E18+CSVデータ4!E18","v":0},{"$f":"CSVデータ1!F18+CSVデータ2!F18+CSVデータ3!F18+CSVデータ4!F18","v":0},null,{"$f":"CSVデータ1!H18+CSVデータ2!H18+CSVデータ3!H18+CSVデータ4!H18","v":0},null,{"$f":"CSVデータ1!J18+CSVデータ2!J18+CSVデータ3!J18+CSVデータ4!J18","v":0},null,{"$f":"CSVデータ1!L18+CSVデータ2!L18+CSVデータ3!L18+CSVデータ4!L18","v":0},null,{"$f":"CSVデータ1!N18+CSVデータ2!N18+CSVデータ3!N18+CSVデータ4!N18","v":0},null,{"$f":"CSVデータ1!P18+CSVデータ2!P18+CSVデータ3!P18+CSVデータ4!P18","v":0},null,{"$f":"CSVデータ1!R18+CSVデータ2!R18+CSVデータ3!R18+CSVデータ4!R18","v":0},null,{"$f":"CSVデータ1!T18+CSVデータ2!T18+CSVデータ3!T18+CSVデータ4!T18","v":0},null,{"$f":"CSVデータ1!V18+CSVデータ2!V18+CSVデータ3!V18+CSVデータ4!V18","v":0},null,{"$f":"CSVデータ1!X18+CSVデータ2!X18+CSVデータ3!X18+CSVデータ4!X18","v":0},null,{"$f":"CSVデータ1!Z18+CSVデータ2!Z18+CSVデータ3!Z18+CSVデータ4!Z18","v":0},null,{"$f":"CSVデータ1!AB18+CSVデータ2!AB18+CSVデータ3!AB18+CSVデータ4!AB18","v":0},null,{"$f":"CSVデータ1!AD18+CSVデータ2!AD18+CSVデータ3!AD18+CSVデータ4!AD18","v":0},null,{"$f":"CSVデータ1!AF18+CSVデータ2!AF18+CSVデータ3!AF18+CSVデータ4!AF18","v":0}]
[{"$f":"CSVデータ1!A19","v":"明細部"},{"$f":"CSVデータ1!B19","v":"国"},{"$f":"CSVデータ1!C19","v":55},{"$f":"CSVデータ1!D19","v":"男"},{"$f":"CSVデータ1!E19+CSVデータ2!E19+CSVデータ3!E19+CSVデータ4!E19","v":0},{"$f":"CSVデータ1!F19+CSVデータ2!F19+CSVデータ3!F19+CSVデータ4!F19","v":0},null,{"$f":"CSVデータ1!H19+CSVデータ2!H19+CSVデータ3!H19+CSVデータ4!H19","v":0},null,{"$f":"CSVデータ1!J19+CSVデータ2!J19+CSVデータ3!J19+CSVデータ4!J19","v":0},null,{"$f":"CSVデータ1!L19+CSVデータ2!L19+CSVデータ3!L19+CSVデータ4!L19","v":0},null,{"$f":"CSVデータ1!N19+CSVデータ2!N19+CSVデータ3!N19+CSVデータ4!N19","v":0},null,{"$f":"CSVデータ1!P19+CSVデータ2!P19+CSVデータ3!P19+CSVデータ4!P19","v":0},null,{"$f":"CSVデータ1!R19+CSVデータ2!R19+CSVデータ3!R19+CSVデータ4!R19","v":0},null,{"$f":"CSVデータ1!T19+CSVデータ2!T19+CSVデータ3!T19+CSVデータ4!T19","v":0},null,{"$f":"CSVデータ1!V19+CSVデータ2!V19+CSVデータ3!V19+CSVデータ4!V19","v":0},null,{"$f":"CSVデータ1!X19+CSVデータ2!X19+CSVデータ3!X19+CSVデータ4!X19","v":0},null,{"$f":"CSVデータ1!Z19+CSVデータ2!Z19+CSVデータ3!Z19+CSVデータ4!Z19","v":0},null,{"$f":"CSVデータ1!AB19+CSVデータ2!AB19+CSVデータ3!AB19+CSVデータ4!AB19","v":0},null,{"$f":"CSVデータ1!AD19+CSVデータ2!AD19+CSVデータ3!AD19+CSVデータ4!AD19","v":0},null,{"$f":"CSVデータ1!AF19+CSVデータ2!AF19+CSVデータ3!AF19+CSVデータ4!AF19","v":0}]
[{"$f":"CSVデータ1!A20","v":"明細部"},{"$f":"CSVデータ1!B20","v":"国"},{"$f":"CSVデータ1!C20","v":56},{"$f":"CSVデータ1!D20","v":"男"},{"$f":"CSVデータ1!E20+CSVデータ2!E20+CSVデータ3!E20+CSVデータ4!E20","v":0},{"$f":"CSVデータ1!F20+CSVデータ2!F20+CSVデータ3!F20+CSVデータ4!F20","v":0},null,{"$f":"CSVデータ1!H20+CSVデータ2!H20+CSVデータ3!H20+CSVデータ4!H20","v":0},null,{"$f":"CSVデータ1!J20+CSVデータ2!J20+CSVデータ3!J20+CSVデータ4!J20","v":0},null,{"$f":"CSVデータ1!L20+CSVデータ2!L20+CSVデータ3!L20+CSVデータ4!L20","v":0},null,{"$f":"CSVデータ1!N20+CSVデータ2!N20+CSVデータ3!N20+CSVデータ4!N20","v":0},null,{"$f":"CSVデータ1!P20+CSVデータ2!P20+CSVデータ3!P20+CSVデータ4!P20","v":0},null,{"$f":"CSVデータ1!R20+CSVデータ2!R20+CSVデータ3!R20+CSVデータ4!R20","v":0},null,{"$f":"CSVデータ1!T20+CSVデータ2!T20+CSVデータ3!T20+CSVデータ4!T20","v":0},null,{"$f":"CSVデータ1!V20+CSVデータ2!V20+CSVデータ3!V20+CSVデータ4!V20","v":0},null,{"$f":"CSVデータ1!X20+CSVデータ2!X20+CSVデータ3!X20+CSVデータ4!X20","v":0},null,{"$f":"CSVデータ1!Z20+CSVデータ2!Z20+CSVデータ3!Z20+CSVデータ4!Z20","v":0},null,{"$f":"CSVデータ1!AB20+CSVデータ2!AB20+CSVデータ3!AB20+CSVデータ4!AB20","v":0},null,{"$f":"CSVデータ1!AD20+CSVデータ2!AD20+CSVデータ3!AD20+CSVデータ4!AD20","v":0},null,{"$f":"CSVデータ1!AF20+CSVデータ2!AF20+CSVデータ3!AF20+CSVデータ4!AF20","v":0}]
[{"$f":"CSVデータ1!A21","v":"明細部"},{"$f":"CSVデータ1!B21","v":"国"},{"$f":"CSVデータ1!C21","v":57},{"$f":"CSVデータ1!D21","v":"男"},{"$f":"CSVデータ1!E21+CSVデータ2!E21+CSVデータ3!E21+CSVデータ4!E21","v":0},{"$f":"CSVデータ1!F21+CSVデータ2!F21+CSVデータ3!F21+CSVデータ4!F21","v":0},null,{"$f":"CSVデータ1!H21+CSVデータ2!H21+CSVデータ3!H21+CSVデータ4!H21","v":0},null,{"$f":"CSVデータ1!J21+CSVデータ2!J21+CSVデータ3!J21+CSVデータ4!J21","v":0},null,{"$f":"CSVデータ1!L21+CSVデータ2!L21+CSVデータ3!L21+CSVデータ4!L21","v":0},null,{"$f":"CSVデータ1!N21+CSVデータ2!N21+CSVデータ3!N21+CSVデータ4!N21","v":0},null,{"$f":"CSVデータ1!P21+CSVデータ2!P21+CSVデータ3!P21+CSVデータ4!P21","v":0},null,{"$f":"CSVデータ1!R21+CSVデータ2!R21+CSVデータ3!R21+CSVデータ4!R21","v":0},null,{"$f":"CSVデータ1!T21+CSVデータ2!T21+CSVデータ3!T21+CSVデータ4!T21","v":0},null,{"$f":"CSVデータ1!V21+CSVデータ2!V21+CSVデータ3!V21+CSVデータ4!V21","v":0},null,{"$f":"CSVデータ1!X21+CSVデータ2!X21+CSVデータ3!X21+CSVデータ4!X21","v":0},null,{"$f":"CSVデータ1!Z21+CSVデータ2!Z21+CSVデータ3!Z21+CSVデータ4!Z21","v":0},null,{"$f":"CSVデータ1!AB21+CSVデータ2!AB21+CSVデータ3!AB21+CSVデータ4!AB21","v":0},null,{"$f":"CSVデータ1!AD21+CSVデータ2!AD21+CSVデータ3!AD21+CSVデータ4!AD21","v":0},null,{"$f":"CSVデータ1!AF21+CSVデータ2!AF21+CSVデータ3!AF21+CSVデータ4!AF21","v":0}]
[{"$f":"CSVデータ1!A22","v":"明細部"},{"$f":"CSVデータ1!B22","v":"国"},{"$f":"CSVデータ1!C22","v":58},{"$f":"CSVデータ1!D22","v":"男"},{"$f":"CSVデータ1!E22+CSVデータ2!E22+CSVデータ3!E22+CSVデータ4!E22","v":0},{"$f":"CSVデータ1!F22+CSVデータ2!F22+CSVデータ3!F22+CSVデータ4!F22","v":0},null,{"$f":"CSVデータ1!H22+CSVデータ2!H22+CSVデータ3!H22+CSVデータ4!H22","v":0},null,{"$f":"CSVデータ1!J22+CSVデータ2!J22+CSVデータ3!J22+CSVデータ4!J22","v":0},null,{"$f":"CSVデータ1!L22+CSVデータ2!L22+CSVデータ3!L22+CSVデータ4!L22","v":0},null,{"$f":"CSVデータ1!N22+CSVデータ2!N22+CSVデータ3!N22+CSVデータ4!N22","v":0},null,{"$f":"CSVデータ1!P22+CSVデータ2!P22+CSVデータ3!P22+CSVデータ4!P22","v":0},null,{"$f":"CSVデータ1!R22+CSVデータ2!R22+CSVデータ3!R22+CSVデータ4!R22","v":0},null,{"$f":"CSVデータ1!T22+CSVデータ2!T22+CSVデータ3!T22+CSVデータ4!T22","v":0},null,{"$f":"CSVデータ1!V22+CSVデータ2!V22+CSVデータ3!V22+CSVデータ4!V22","v":0},null,{"$f":"CSVデータ1!X22+CSVデータ2!X22+CSVデータ3!X22+CSVデータ4!X22","v":0},null,{"$f":"CSVデータ1!Z22+CSVデータ2!Z22+CSVデータ3!Z22+CSVデータ4!Z22","v":0},null,{"$f":"CSVデータ1!AB22+CSVデータ2!AB22+CSVデータ3!AB22+CSVデータ4!AB22","v":0},null,{"$f":"CSVデータ1!AD22+CSVデータ2!AD22+CSVデータ3!AD22+CSVデータ4!AD22","v":0},null,{"$f":"CSVデータ1!AF22+CSVデータ2!AF22+CSVデータ3!AF22+CSVデータ4!AF22","v":0}]
[{"$f":"CSVデータ1!A23","v":"明細部"},{"$f":"CSVデータ1!B23","v":"国"},{"$f":"CSVデータ1!C23","v":59},{"$f":"CSVデータ1!D23","v":"男"},{"$f":"CSVデータ1!E23+CSVデータ2!E23+CSVデータ3!E23+CSVデータ4!E23","v":0},{"$f":"CSVデータ1!F23+CSVデータ2!F23+CSVデータ3!F23+CSVデータ4!F23","v":0},null,{"$f":"CSVデータ1!H23+CSVデータ2!H23+CSVデータ3!H23+CSVデータ4!H23","v":0},null,{"$f":"CSVデータ1!J23+CSVデータ2!J23+CSVデータ3!J23+CSVデータ4!J23","v":0},null,{"$f":"CSVデータ1!L23+CSVデータ2!L23+CSVデータ3!L23+CSVデータ4!L23","v":0},null,{"$f":"CSVデータ1!N23+CSVデータ2!N23+CSVデータ3!N23+CSVデータ4!N23","v":0},null,{"$f":"CSVデータ1!P23+CSVデータ2!P23+CSVデータ3!P23+CSVデータ4!P23","v":0},null,{"$f":"CSVデータ1!R23+CSVデータ2!R23+CSVデータ3!R23+CSVデータ4!R23","v":0},null,{"$f":"CSVデータ1!T23+CSVデータ2!T23+CSVデータ3!T23+CSVデータ4!T23","v":0},null,{"$f":"CSVデータ1!V23+CSVデータ2!V23+CSVデータ3!V23+CSVデータ4!V23","v":0},null,{"$f":"CSVデータ1!X23+CSVデータ2!X23+CSVデータ3!X23+CSVデータ4!X23","v":0},null,{"$f":"CSVデータ1!Z23+CSVデータ2!Z23+CSVデータ3!Z23+CSVデータ4!Z23","v":0},null,{"$f":"CSVデータ1!AB23+CSVデータ2!AB23+CSVデータ3!AB23+CSVデータ4!AB23","v":0},null,{"$f":"CSVデータ1!AD23+CSVデータ2!AD23+CSVデータ3!AD23+CSVデータ4!AD23","v":0},null,{"$f":"CSVデータ1!AF23+CSVデータ2!AF23+CSVデータ3!AF23+CSVデータ4!AF23","v":0}]
[{"$f":"CSVデータ1!A24","v":"明細部"},{"$f":"CSVデータ1!B24","v":"国"},{"$f":"CSVデータ1!C24","v":60},{"$f":"CSVデータ1!D24","v":"男"},{"$f":"CSVデータ1!E24+CSVデータ2!E24+CSVデータ3!E24+CSVデータ4!E24","v":0},{"$f":"CSVデータ1!F24+CSVデータ2!F24+CSVデータ3!F24+CSVデータ4!F24","v":0},null,{"$f":"CSVデータ1!H24+CSVデータ2!H24+CSVデータ3!H24+CSVデータ4!H24","v":0},null,{"$f":"CSVデータ1!J24+CSVデータ2!J24+CSVデータ3!J24+CSVデータ4!J24","v":0},null,{"$f":"CSVデータ1!L24+CSVデータ2!L24+CSVデータ3!L24+CSVデータ4!L24","v":0},null,{"$f":"CSVデータ1!N24+CSVデータ2!N24+CSVデータ3!N24+CSVデータ4!N24","v":0},null,{"$f":"CSVデータ1!P24+CSVデータ2!P24+CSVデータ3!P24+CSVデータ4!P24","v":0},null,{"$f":"CSVデータ1!R24+CSVデータ2!R24+CSVデータ3!R24+CSVデータ4!R24","v":0},null,{"$f":"CSVデータ1!T24+CSVデータ2!T24+CSVデータ3!T24+CSVデータ4!T24","v":0},null,{"$f":"CSVデータ1!V24+CSVデータ2!V24+CSVデータ3!V24+CSVデータ4!V24","v":0},null,{"$f":"CSVデータ1!X24+CSVデータ2!X24+CSVデータ3!X24+CSVデータ4!X24","v":0},null,{"$f":"CSVデータ1!Z24+CSVデータ2!Z24+CSVデータ3!Z24+CSVデータ4!Z24","v":0},null,{"$f":"CSVデータ1!AB24+CSVデータ2!AB24+CSVデータ3!AB24+CSVデータ4!AB24","v":0},null,{"$f":"CSVデータ1!AD24+CSVデータ2!AD24+CSVデータ3!AD24+CSVデータ4!AD24","v":0},null,{"$f":"CSVデータ1!AF24+CSVデータ2!AF24+CSVデータ3!AF24+CSVデータ4!AF24","v":0}]
[{"$f":"CSVデータ1!A25","v":"明細部"},{"$f":"CSVデータ1!B25","v":"国"},{"$f":"CSVデータ1!C25","v":61},{"$f":"CSVデータ1!D25","v":"男"},{"$f":"CSVデータ1!E25+CSVデータ2!E25+CSVデータ3!E25+CSVデータ4!E25","v":0},{"$f":"CSVデータ1!F25+CSVデータ2!F25+CSVデータ3!F25+CSVデータ4!F25","v":0},null,{"$f":"CSVデータ1!H25+CSVデータ2!H25+CSVデータ3!H25+CSVデータ4!H25","v":0},null,{"$f":"CSVデータ1!J25+CSVデータ2!J25+CSVデータ3!J25+CSVデータ4!J25","v":0},null,{"$f":"CSVデータ1!L25+CSVデータ2!L25+CSVデータ3!L25+CSVデータ4!L25","v":0},null,{"$f":"CSVデータ1!N25+CSVデータ2!N25+CSVデータ3!N25+CSVデータ4!N25","v":0},null,{"$f":"CSVデータ1!P25+CSVデータ2!P25+CSVデータ3!P25+CSVデータ4!P25","v":0},null,{"$f":"CSVデータ1!R25+CSVデータ2!R25+CSVデータ3!R25+CSVデータ4!R25","v":0},null,{"$f":"CSVデータ1!T25+CSVデータ2!T25+CSVデータ3!T25+CSVデータ4!T25","v":0},null,{"$f":"CSVデータ1!V25+CSVデータ2!V25+CSVデータ3!V25+CSVデータ4!V25","v":0},null,{"$f":"CSVデータ1!X25+CSVデータ2!X25+CSVデータ3!X25+CSVデータ4!X25","v":0},null,{"$f":"CSVデータ1!Z25+CSVデータ2!Z25+CSVデータ3!Z25+CSVデータ4!Z25","v":0},null,{"$f":"CSVデータ1!AB25+CSVデータ2!AB25+CSVデータ3!AB25+CSVデータ4!AB25","v":0},null,{"$f":"CSVデータ1!AD25+CSVデータ2!AD25+CSVデータ3!AD25+CSVデータ4!AD25","v":0},null,{"$f":"CSVデータ1!AF25+CSVデータ2!AF25+CSVデータ3!AF25+CSVデータ4!AF25","v":0}]
[{"$f":"CSVデータ1!A26","v":"明細部"},{"$f":"CSVデータ1!B26","v":"国"},{"$f":"CSVデータ1!C26","v":62},{"$f":"CSVデータ1!D26","v":"男"},{"$f":"CSVデータ1!E26+CSVデータ2!E26+CSVデータ3!E26+CSVデータ4!E26","v":0},{"$f":"CSVデータ1!F26+CSVデータ2!F26+CSVデータ3!F26+CSVデータ4!F26","v":0},null,{"$f":"CSVデータ1!H26+CSVデータ2!H26+CSVデータ3!H26+CSVデータ4!H26","v":0},null,{"$f":"CSVデータ1!J26+CSVデータ2!J26+CSVデータ3!J26+CSVデータ4!J26","v":0},null,{"$f":"CSVデータ1!L26+CSVデータ2!L26+CSVデータ3!L26+CSVデータ4!L26","v":0},null,{"$f":"CSVデータ1!N26+CSVデータ2!N26+CSVデータ3!N26+CSVデータ4!N26","v":0},null,{"$f":"CSVデータ1!P26+CSVデータ2!P26+CSVデータ3!P26+CSVデータ4!P26","v":0},null,{"$f":"CSVデータ1!R26+CSVデータ2!R26+CSVデータ3!R26+CSVデータ4!R26","v":0},null,{"$f":"CSVデータ1!T26+CSVデータ2!T26+CSVデータ3!T26+CSVデータ4!T26","v":0},null,{"$f":"CSVデータ1!V26+CSVデータ2!V26+CSVデータ3!V26+CSVデータ4!V26","v":0},null,{"$f":"CSVデータ1!X26+CSVデータ2!X26+CSVデータ3!X26+CSVデータ4!X26","v":0},null,{"$f":"CSVデータ1!Z26+CSVデータ2!Z26+CSVデータ3!Z26+CSVデータ4!Z26","v":0},null,{"$f":"CSVデータ1!AB26+CSVデータ2!AB26+CSVデータ3!AB26+CSVデータ4!AB26","v":0},null,{"$f":"CSVデータ1!AD26+CSVデータ2!AD26+CSVデータ3!AD26+CSVデータ4!AD26","v":0},null,{"$f":"CSVデータ1!AF26+CSVデータ2!AF26+CSVデータ3!AF26+CSVデータ4!AF26","v":0}]
[{"$f":"CSVデータ1!A27","v":"明細部"},{"$f":"CSVデータ1!B27","v":"国"},{"$f":"CSVデータ1!C27","v":63},{"$f":"CSVデータ1!D27","v":"男"},{"$f":"CSVデータ1!E27+CSVデータ2!E27+CSVデータ3!E27+CSVデータ4!E27","v":0},{"$f":"CSVデータ1!F27+CSVデータ2!F27+CSVデータ3!F27+CSVデータ4!F27","v":0},null,{"$f":"CSVデータ1!H27+CSVデータ2!H27+CSVデータ3!H27+CSVデータ4!H27","v":0},null,{"$f":"CSVデータ1!J27+CSVデータ2!J27+CSVデータ3!J27+CSVデータ4!J27","v":0},null,{"$f":"CSVデータ1!L27+CSVデータ2!L27+CSVデータ3!L27+CSVデータ4!L27","v":0},null,{"$f":"CSVデータ1!N27+CSVデータ2!N27+CSVデータ3!N27+CSVデータ4!N27","v":0},null,{"$f":"CSVデータ1!P27+CSVデータ2!P27+CSVデータ3!P27+CSVデータ4!P27","v":0},null,{"$f":"CSVデータ1!R27+CSVデータ2!R27+CSVデータ3!R27+CSVデータ4!R27","v":0},null,{"$f":"CSVデータ1!T27+CSVデータ2!T27+CSVデータ3!T27+CSVデータ4!T27","v":0},null,{"$f":"CSVデータ1!V27+CSVデータ2!V27+CSVデータ3!V27+CSVデータ4!V27","v":0},null,{"$f":"CSVデータ1!X27+CSVデータ2!X27+CSVデータ3!X27+CSVデータ4!X27","v":0},null,{"$f":"CSVデータ1!Z27+CSVデータ2!Z27+CSVデータ3!Z27+CSVデータ4!Z27","v":0},null,{"$f":"CSVデータ1!AB27+CSVデータ2!AB27+CSVデータ3!AB27+CSVデータ4!AB27","v":0},null,{"$f":"CSVデータ1!AD27+CSVデータ2!AD27+CSVデータ3!AD27+CSVデータ4!AD27","v":0},null,{"$f":"CSVデータ1!AF27+CSVデータ2!AF27+CSVデータ3!AF27+CSVデータ4!AF27","v":0}]
[{"$f":"CSVデータ1!A28","v":"明細部"},{"$f":"CSVデータ1!B28","v":"国"},{"$f":"CSVデータ1!C28","v":64},{"$f":"CSVデータ1!D28","v":"男"},{"$f":"CSVデータ1!E28+CSVデータ2!E28+CSVデータ3!E28+CSVデータ4!E28","v":0},{"$f":"CSVデータ1!F28+CSVデータ2!F28+CSVデータ3!F28+CSVデータ4!F28","v":0},null,{"$f":"CSVデータ1!H28+CSVデータ2!H28+CSVデータ3!H28+CSVデータ4!H28","v":0},null,{"$f":"CSVデータ1!J28+CSVデータ2!J28+CSVデータ3!J28+CSVデータ4!J28","v":0},null,{"$f":"CSVデータ1!L28+CSVデータ2!L28+CSVデータ3!L28+CSVデータ4!L28","v":0},null,{"$f":"CSVデータ1!N28+CSVデータ2!N28+CSVデータ3!N28+CSVデータ4!N28","v":0},null,{"$f":"CSVデータ1!P28+CSVデータ2!P28+CSVデータ3!P28+CSVデータ4!P28","v":0},null,{"$f":"CSVデータ1!R28+CSVデータ2!R28+CSVデータ3!R28+CSVデータ4!R28","v":0},null,{"$f":"CSVデータ1!T28+CSVデータ2!T28+CSVデータ3!T28+CSVデータ4!T28","v":0},null,{"$f":"CSVデータ1!V28+CSVデータ2!V28+CSVデータ3!V28+CSVデータ4!V28","v":0},null,{"$f":"CSVデータ1!X28+CSVデータ2!X28+CSVデータ3!X28+CSVデータ4!X28","v":0},null,{"$f":"CSVデータ1!Z28+CSVデータ2!Z28+CSVデータ3!Z28+CSVデータ4!Z28","v":0},null,{"$f":"CSVデータ1!AB28+CSVデータ2!AB28+CSVデータ3!AB28+CSVデータ4!AB28","v":0},null,{"$f":"CSVデータ1!AD28+CSVデータ2!AD28+CSVデータ3!AD28+CSVデータ4!AD28","v":0},null,{"$f":"CSVデータ1!AF28+CSVデータ2!AF28+CSVデータ3!AF28+CSVデータ4!AF28","v":0}]
[{"$f":"CSVデータ1!A29","v":"明細部"},{"$f":"CSVデータ1!B29","v":"国"},{"$f":"CSVデータ1!C29","v":65},{"$f":"CSVデータ1!D29","v":"男"},{"$f":"CSVデータ1!E29+CSVデータ2!E29+CSVデータ3!E29+CSVデータ4!E29","v":0},{"$f":"CSVデータ1!F29+CSVデータ2!F29+CSVデータ3!F29+CSVデータ4!F29","v":0},null,{"$f":"CSVデータ1!H29+CSVデータ2!H29+CSVデータ3!H29+CSVデータ4!H29","v":0},null,{"$f":"CSVデータ1!J29+CSVデータ2!J29+CSVデータ3!J29+CSVデータ4!J29","v":0},null,{"$f":"CSVデータ1!L29+CSVデータ2!L29+CSVデータ3!L29+CSVデータ4!L29","v":0},null,{"$f":"CSVデータ1!N29+CSVデータ2!N29+CSVデータ3!N29+CSVデータ4!N29","v":0},null,{"$f":"CSVデータ1!P29+CSVデータ2!P29+CSVデータ3!P29+CSVデータ4!P29","v":0},null,{"$f":"CSVデータ1!R29+CSVデータ2!R29+CSVデータ3!R29+CSVデータ4!R29","v":0},null,{"$f":"CSVデータ1!T29+CSVデータ2!T29+CSVデータ3!T29+CSVデータ4!T29","v":0},null,{"$f":"CSVデータ1!V29+CSVデータ2!V29+CSVデータ3!V29+CSVデータ4!V29","v":0},null,{"$f":"CSVデータ1!X29+CSVデータ2!X29+CSVデータ3!X29+CSVデータ4!X29","v":0},null,{"$f":"CSVデータ1!Z29+CSVデータ2!Z29+CSVデータ3!Z29+CSVデータ4!Z29","v":0},null,{"$f":"CSVデータ1!AB29+CSVデータ2!AB29+CSVデータ3!AB29+CSVデータ4!AB29","v":0},null,{"$f":"CSVデータ1!AD29+CSVデータ2!AD29+CSVデータ3!AD29+CSVデータ4!AD29","v":0},null,{"$f":"CSVデータ1!AF29+CSVデータ2!AF29+CSVデータ3!AF29+CSVデータ4!AF29","v":0}]
[{"$f":"CSVデータ1!A30","v":"明細部"},{"$f":"CSVデータ1!B30","v":"国"},{"$f":"CSVデータ1!C30","v":66},{"$f":"CSVデータ1!D30","v":"男"},{"$f":"CSVデータ1!E30+CSVデータ2!E30+CSVデータ3!E30+CSVデータ4!E30","v":0},{"$f":"CSVデータ1!F30+CSVデータ2!F30+CSVデータ3!F30+CSVデータ4!F30","v":0},null,{"$f":"CSVデータ1!H30+CSVデータ2!H30+CSVデータ3!H30+CSVデータ4!H30","v":0},null,{"$f":"CSVデータ1!J30+CSVデータ2!J30+CSVデータ3!J30+CSVデータ4!J30","v":0},null,{"$f":"CSVデータ1!L30+CSVデータ2!L30+CSVデータ3!L30+CSVデータ4!L30","v":0},null,{"$f":"CSVデータ1!N30+CSVデータ2!N30+CSVデータ3!N30+CSVデータ4!N30","v":0},null,{"$f":"CSVデータ1!P30+CSVデータ2!P30+CSVデータ3!P30+CSVデータ4!P30","v":0},null,{"$f":"CSVデータ1!R30+CSVデータ2!R30+CSVデータ3!R30+CSVデータ4!R30","v":0},null,{"$f":"CSVデータ1!T30+CSVデータ2!T30+CSVデータ3!T30+CSVデータ4!T30","v":0},null,{"$f":"CSVデータ1!V30+CSVデータ2!V30+CSVデータ3!V30+CSVデータ4!V30","v":0},null,{"$f":"CSVデータ1!X30+CSVデータ2!X30+CSVデータ3!X30+CSVデータ4!X30","v":0},null,{"$f":"CSVデータ1!Z30+CSVデータ2!Z30+CSVデータ3!Z30+CSVデータ4!Z30","v":0},null,{"$f":"CSVデータ1!AB30+CSVデータ2!AB30+CSVデータ3!AB30+CSVデータ4!AB30","v":0},null,{"$f":"CSVデータ1!AD30+CSVデータ2!AD30+CSVデータ3!AD30+CSVデータ4!AD30","v":0},null,{"$f":"CSVデータ1!AF30+CSVデータ2!AF30+CSVデータ3!AF30+CSVデータ4!AF30","v":0}]
[{"$f":"CSVデータ1!A31","v":"明細部"},{"$f":"CSVデータ1!B31","v":"国"},{"$f":"CSVデータ1!C31","v":67},{"$f":"CSVデータ1!D31","v":"男"},{"$f":"CSVデータ1!E31+CSVデータ2!E31+CSVデータ3!E31+CSVデータ4!E31","v":0},{"$f":"CSVデータ1!F31+CSVデータ2!F31+CSVデータ3!F31+CSVデータ4!F31","v":0},null,{"$f":"CSVデータ1!H31+CSVデータ2!H31+CSVデータ3!H31+CSVデータ4!H31","v":0},null,{"$f":"CSVデータ1!J31+CSVデータ2!J31+CSVデータ3!J31+CSVデータ4!J31","v":0},null,{"$f":"CSVデータ1!L31+CSVデータ2!L31+CSVデータ3!L31+CSVデータ4!L31","v":0},null,{"$f":"CSVデータ1!N31+CSVデータ2!N31+CSVデータ3!N31+CSVデータ4!N31","v":0},null,{"$f":"CSVデータ1!P31+CSVデータ2!P31+CSVデータ3!P31+CSVデータ4!P31","v":0},null,{"$f":"CSVデータ1!R31+CSVデータ2!R31+CSVデータ3!R31+CSVデータ4!R31","v":0},null,{"$f":"CSVデータ1!T31+CSVデータ2!T31+CSVデータ3!T31+CSVデータ4!T31","v":0},null,{"$f":"CSVデータ1!V31+CSVデータ2!V31+CSVデータ3!V31+CSVデータ4!V31","v":0},null,{"$f":"CSVデータ1!X31+CSVデータ2!X31+CSVデータ3!X31+CSVデータ4!X31","v":0},null,{"$f":"CSVデータ1!Z31+CSVデータ2!Z31+CSVデータ3!Z31+CSVデータ4!Z31","v":0},null,{"$f":"CSVデータ1!AB31+CSVデータ2!AB31+CSVデータ3!AB31+CSVデータ4!AB31","v":0},null,{"$f":"CSVデータ1!AD31+CSVデータ2!AD31+CSVデータ3!AD31+CSVデータ4!AD31","v":0},null,{"$f":"CSVデータ1!AF31+CSVデータ2!AF31+CSVデータ3!AF31+CSVデータ4!AF31","v":0}]
[{"$f":"CSVデータ1!A32","v":"明細部"},{"$f":"CSVデータ1!B32","v":"国"},{"$f":"CSVデータ1!C32","v":68},{"$f":"CSVデータ1!D32","v":"男"},{"$f":"CSVデータ1!E32+CSVデータ2!E32+CSVデータ3!E32+CSVデータ4!E32","v":0},{"$f":"CSVデータ1!F32+CSVデータ2!F32+CSVデータ3!F32+CSVデータ4!F32","v":0},null,{"$f":"CSVデータ1!H32+CSVデータ2!H32+CSVデータ3!H32+CSVデータ4!H32","v":0},null,{"$f":"CSVデータ1!J32+CSVデータ2!J32+CSVデータ3!J32+CSVデータ4!J32","v":0},null,{"$f":"CSVデータ1!L32+CSVデータ2!L32+CSVデータ3!L32+CSVデータ4!L32","v":0},null,{"$f":"CSVデータ1!N32+CSVデータ2!N32+CSVデータ3!N32+CSVデータ4!N32","v":0},null,{"$f":"CSVデータ1!P32+CSVデータ2!P32+CSVデータ3!P32+CSVデータ4!P32","v":0},null,{"$f":"CSVデータ1!R32+CSVデータ2!R32+CSVデータ3!R32+CSVデータ4!R32","v":0},null,{"$f":"CSVデータ1!T32+CSVデータ2!T32+CSVデータ3!T32+CSVデータ4!T32","v":0},null,{"$f":"CSVデータ1!V32+CSVデータ2!V32+CSVデータ3!V32+CSVデータ4!V32","v":0},null,{"$f":"CSVデータ1!X32+CSVデータ2!X32+CSVデータ3!X32+CSVデータ4!X32","v":0},null,{"$f":"CSVデータ1!Z32+CSVデータ2!Z32+CSVデータ3!Z32+CSVデータ4!Z32","v":0},null,{"$f":"CSVデータ1!AB32+CSVデータ2!AB32+CSVデータ3!AB32+CSVデータ4!AB32","v":0},null,{"$f":"CSVデータ1!AD32+CSVデータ2!AD32+CSVデータ3!AD32+CSVデータ4!AD32","v":0},null,{"$f":"CSVデータ1!AF32+CSVデータ2!AF32+CSVデータ3!AF32+CSVデータ4!AF32","v":0}]
[{"$f":"CSVデータ1!A33","v":"明細部"},{"$f":"CSVデータ1!B33","v":"国"},{"$f":"CSVデータ1!C33","v":69},{"$f":"CSVデータ1!D33","v":"男"},{"$f":"CSVデータ1!E33+CSVデータ2!E33+CSVデータ3!E33+CSVデータ4!E33","v":0},{"$f":"CSVデータ1!F33+CSVデータ2!F33+CSVデータ3!F33+CSVデータ4!F33","v":0},null,{"$f":"CSVデータ1!H33+CSVデータ2!H33+CSVデータ3!H33+CSVデータ4!H33","v":0},null,{"$f":"CSVデータ1!J33+CSVデータ2!J33+CSVデータ3!J33+CSVデータ4!J33","v":0},null,{"$f":"CSVデータ1!L33+CSVデータ2!L33+CSVデータ3!L33+CSVデータ4!L33","v":0},null,{"$f":"CSVデータ1!N33+CSVデータ2!N33+CSVデータ3!N33+CSVデータ4!N33","v":0},null,{"$f":"CSVデータ1!P33+CSVデータ2!P33+CSVデータ3!P33+CSVデータ4!P33","v":0},null,{"$f":"CSVデータ1!R33+CSVデータ2!R33+CSVデータ3!R33+CSVデータ4!R33","v":0},null,{"$f":"CSVデータ1!T33+CSVデータ2!T33+CSVデータ3!T33+CSVデータ4!T33","v":0},null,{"$f":"CSVデータ1!V33+CSVデータ2!V33+CSVデータ3!V33+CSVデータ4!V33","v":0},null,{"$f":"CSVデータ1!X33+CSVデータ2!X33+CSVデータ3!X33+CSVデータ4!X33","v":0},null,{"$f":"CSVデータ1!Z33+CSVデータ2!Z33+CSVデータ3!Z33+CSVデータ4!Z33","v":0},null,{"$f":"CSVデータ1!AB33+CSVデータ2!AB33+CSVデータ3!AB33+CSVデータ4!AB33","v":0},null,{"$f":"CSVデータ1!AD33+CSVデータ2!AD33+CSVデータ3!AD33+CSVデータ4!AD33","v":0},null,{"$f":"CSVデータ1!AF33+CSVデータ2!AF33+CSVデータ3!AF33+CSVデータ4!AF33","v":0}]
[{"$f":"CSVデータ1!A34","v":"明細部"},{"$f":"CSVデータ1!B34","v":"国"},{"$f":"CSVデータ1!C34","v":70},{"$f":"CSVデータ1!D34","v":"男"},{"$f":"CSVデータ1!E34+CSVデータ2!E34+CSVデータ3!E34+CSVデータ4!E34","v":0},{"$f":"CSVデータ1!F34+CSVデータ2!F34+CSVデータ3!F34+CSVデータ4!F34","v":0},null,{"$f":"CSVデータ1!H34+CSVデータ2!H34+CSVデータ3!H34+CSVデータ4!H34","v":0},null,{"$f":"CSVデータ1!J34+CSVデータ2!J34+CSVデータ3!J34+CSVデータ4!J34","v":0},null,{"$f":"CSVデータ1!L34+CSVデータ2!L34+CSVデータ3!L34+CSVデータ4!L34","v":0},null,{"$f":"CSVデータ1!N34+CSVデータ2!N34+CSVデータ3!N34+CSVデータ4!N34","v":0},null,{"$f":"CSVデータ1!P34+CSVデータ2!P34+CSVデータ3!P34+CSVデータ4!P34","v":0},null,{"$f":"CSVデータ1!R34+CSVデータ2!R34+CSVデータ3!R34+CSVデータ4!R34","v":0},null,{"$f":"CSVデータ1!T34+CSVデータ2!T34+CSVデータ3!T34+CSVデータ4!T34","v":0},null,{"$f":"CSVデータ1!V34+CSVデータ2!V34+CSVデータ3!V34+CSVデータ4!V34","v":0},null,{"$f":"CSVデータ1!X34+CSVデータ2!X34+CSVデータ3!X34+CSVデータ4!X34","v":0},null,{"$f":"CSVデータ1!Z34+CSVデータ2!Z34+CSVデータ3!Z34+CSVデータ4!Z34","v":0},null,{"$f":"CSVデータ1!AB34+CSVデータ2!AB34+CSVデータ3!AB34+CSVデータ4!AB34","v":0},null,{"$f":"CSVデータ1!AD34+CSVデータ2!AD34+CSVデータ3!AD34+CSVデータ4!AD34","v":0},null,{"$f":"CSVデータ1!AF34+CSVデータ2!AF34+CSVデータ3!AF34+CSVデータ4!AF34","v":0}]
[{"$f":"CSVデータ1!A35","v":"明細部"},{"$f":"CSVデータ1!B35","v":"国"},{"$f":"CSVデータ1!C35","v":71},{"$f":"CSVデータ1!D35","v":"男"},{"$f":"CSVデータ1!E35+CSVデータ2!E35+CSVデータ3!E35+CSVデータ4!E35","v":0},{"$f":"CSVデータ1!F35+CSVデータ2!F35+CSVデータ3!F35+CSVデータ4!F35","v":0},null,{"$f":"CSVデータ1!H35+CSVデータ2!H35+CSVデータ3!H35+CSVデータ4!H35","v":0},null,{"$f":"CSVデータ1!J35+CSVデータ2!J35+CSVデータ3!J35+CSVデータ4!J35","v":0},null,{"$f":"CSVデータ1!L35+CSVデータ2!L35+CSVデータ3!L35+CSVデータ4!L35","v":0},null,{"$f":"CSVデータ1!N35+CSVデータ2!N35+CSVデータ3!N35+CSVデータ4!N35","v":0},null,{"$f":"CSVデータ1!P35+CSVデータ2!P35+CSVデータ3!P35+CSVデータ4!P35","v":0},null,{"$f":"CSVデータ1!R35+CSVデータ2!R35+CSVデータ3!R35+CSVデータ4!R35","v":0},null,{"$f":"CSVデータ1!T35+CSVデータ2!T35+CSVデータ3!T35+CSVデータ4!T35","v":0},null,{"$f":"CSVデータ1!V35+CSVデータ2!V35+CSVデータ3!V35+CSVデータ4!V35","v":0},null,{"$f":"CSVデータ1!X35+CSVデータ2!X35+CSVデータ3!X35+CSVデータ4!X35","v":0},null,{"$f":"CSVデータ1!Z35+CSVデータ2!Z35+CSVデータ3!Z35+CSVデータ4!Z35","v":0},null,{"$f":"CSVデータ1!AB35+CSVデータ2!AB35+CSVデータ3!AB35+CSVデータ4!AB35","v":0},null,{"$f":"CSVデータ1!AD35+CSVデータ2!AD35+CSVデータ3!AD35+CSVデータ4!AD35","v":0},null,{"$f":"CSVデータ1!AF35+CSVデータ2!AF35+CSVデータ3!AF35+CSVデータ4!AF35","v":0}]
[{"$f":"CSVデータ1!A36","v":"明細部"},{"$f":"CSVデータ1!B36","v":"国"},{"$f":"CSVデータ1!C36","v":72},{"$f":"CSVデータ1!D36","v":"男"},{"$f":"CSVデータ1!E36+CSVデータ2!E36+CSVデータ3!E36+CSVデータ4!E36","v":0},{"$f":"CSVデータ1!F36+CSVデータ2!F36+CSVデータ3!F36+CSVデータ4!F36","v":0},null,{"$f":"CSVデータ1!H36+CSVデータ2!H36+CSVデータ3!H36+CSVデータ4!H36","v":0},null,{"$f":"CSVデータ1!J36+CSVデータ2!J36+CSVデータ3!J36+CSVデータ4!J36","v":0},null,{"$f":"CSVデータ1!L36+CSVデータ2!L36+CSVデータ3!L36+CSVデータ4!L36","v":0},null,{"$f":"CSVデータ1!N36+CSVデータ2!N36+CSVデータ3!N36+CSVデータ4!N36","v":0},null,{"$f":"CSVデータ1!P36+CSVデータ2!P36+CSVデータ3!P36+CSVデータ4!P36","v":0},null,{"$f":"CSVデータ1!R36+CSVデータ2!R36+CSVデータ3!R36+CSVデータ4!R36","v":0},null,{"$f":"CSVデータ1!T36+CSVデータ2!T36+CSVデータ3!T36+CSVデータ4!T36","v":0},null,{"$f":"CSVデータ1!V36+CSVデータ2!V36+CSVデータ3!V36+CSVデータ4!V36","v":0},null,{"$f":"CSVデータ1!X36+CSVデータ2!X36+CSVデータ3!X36+CSVデータ4!X36","v":0},null,{"$f":"CSVデータ1!Z36+CSVデータ2!Z36+CSVデータ3!Z36+CSVデータ4!Z36","v":0},null,{"$f":"CSVデータ1!AB36+CSVデータ2!AB36+CSVデータ3!AB36+CSVデータ4!AB36","v":0},null,{"$f":"CSVデータ1!AD36+CSVデータ2!AD36+CSVデータ3!AD36+CSVデータ4!AD36","v":0},null,{"$f":"CSVデータ1!AF36+CSVデータ2!AF36+CSVデータ3!AF36+CSVデータ4!AF36","v":0}]
[{"$f":"CSVデータ1!A37","v":"明細部"},{"$f":"CSVデータ1!B37","v":"国"},{"$f":"CSVデータ1!C37","v":73},{"$f":"CSVデータ1!D37","v":"男"},{"$f":"CSVデータ1!E37+CSVデータ2!E37+CSVデータ3!E37+CSVデータ4!E37","v":0},{"$f":"CSVデータ1!F37+CSVデータ2!F37+CSVデータ3!F37+CSVデータ4!F37","v":0},null,{"$f":"CSVデータ1!H37+CSVデータ2!H37+CSVデータ3!H37+CSVデータ4!H37","v":0},null,{"$f":"CSVデータ1!J37+CSVデータ2!J37+CSVデータ3!J37+CSVデータ4!J37","v":0},null,{"$f":"CSVデータ1!L37+CSVデータ2!L37+CSVデータ3!L37+CSVデータ4!L37","v":0},null,{"$f":"CSVデータ1!N37+CSVデータ2!N37+CSVデータ3!N37+CSVデータ4!N37","v":0},null,{"$f":"CSVデータ1!P37+CSVデータ2!P37+CSVデータ3!P37+CSVデータ4!P37","v":0},null,{"$f":"CSVデータ1!R37+CSVデータ2!R37+CSVデータ3!R37+CSVデータ4!R37","v":0},null,{"$f":"CSVデータ1!T37+CSVデータ2!T37+CSVデータ3!T37+CSVデータ4!T37","v":0},null,{"$f":"CSVデータ1!V37+CSVデータ2!V37+CSVデータ3!V37+CSVデータ4!V37","v":0},null,{"$f":"CSVデータ1!X37+CSVデータ2!X37+CSVデータ3!X37+CSVデータ4!X37","v":0},null,{"$f":"CSVデータ1!Z37+CSVデータ2!Z37+CSVデータ3!Z37+CSVデータ4!Z37","v":0},null,{"$f":"CSVデータ1!AB37+CSVデータ2!AB37+CSVデータ3!AB37+CSVデータ4!AB37","v":0},null,{"$f":"CSVデータ1!AD37+CSVデータ2!AD37+CSVデータ3!AD37+CSVデータ4!AD37","v":0},null,{"$f":"CSVデータ1!AF37+CSVデータ2!AF37+CSVデータ3!AF37+CSVデータ4!AF37","v":0}]
[{"$f":"CSVデータ1!A38","v":"明細部"},{"$f":"CSVデータ1!B38","v":"国"},{"$f":"CSVデータ1!C38","v":74},{"$f":"CSVデータ1!D38","v":"男"},{"$f":"CSVデータ1!E38+CSVデータ2!E38+CSVデータ3!E38+CSVデータ4!E38","v":0},{"$f":"CSVデータ1!F38+CSVデータ2!F38+CSVデータ3!F38+CSVデータ4!F38","v":0},null,{"$f":"CSVデータ1!H38+CSVデータ2!H38+CSVデータ3!H38+CSVデータ4!H38","v":0},null,{"$f":"CSVデータ1!J38+CSVデータ2!J38+CSVデータ3!J38+CSVデータ4!J38","v":0},null,{"$f":"CSVデータ1!L38+CSVデータ2!L38+CSVデータ3!L38+CSVデータ4!L38","v":0},null,{"$f":"CSVデータ1!N38+CSVデータ2!N38+CSVデータ3!N38+CSVデータ4!N38","v":0},null,{"$f":"CSVデータ1!P38+CSVデータ2!P38+CSVデータ3!P38+CSVデータ4!P38","v":0},null,{"$f":"CSVデータ1!R38+CSVデータ2!R38+CSVデータ3!R38+CSVデータ4!R38","v":0},null,{"$f":"CSVデータ1!T38+CSVデータ2!T38+CSVデータ3!T38+CSVデータ4!T38","v":0},null,{"$f":"CSVデータ1!V38+CSVデータ2!V38+CSVデータ3!V38+CSVデータ4!V38","v":0},null,{"$f":"CSVデータ1!X38+CSVデータ2!X38+CSVデータ3!X38+CSVデータ4!X38","v":0},null,{"$f":"CSVデータ1!Z38+CSVデータ2!Z38+CSVデータ3!Z38+CSVデータ4!Z38","v":0},null,{"$f":"CSVデータ1!AB38+CSVデータ2!AB38+CSVデータ3!AB38+CSVデータ4!AB38","v":0},null,{"$f":"CSVデータ1!AD38+CSVデータ2!AD38+CSVデータ3!AD38+CSVデータ4!AD38","v":0},null,{"$f":"CSVデータ1!AF38+CSVデータ2!AF38+CSVデータ3!AF38+CSVデータ4!AF38","v":0}]
[{"$f":"CSVデータ1!A39","v":"明細部"},{"$f":"CSVデータ1!B39","v":"国"},{"$f":"CSVデータ1!C39","v":40},{"$f":"CSVデータ1!D39","v":"女"},{"$f":"CSVデータ1!E39+CSVデータ2!E39+CSVデータ3!E39+CSVデータ4!E39","v":0},{"$f":"CSVデータ1!F39+CSVデータ2!F39+CSVデータ3!F39+CSVデータ4!F39","v":0},null,{"$f":"CSVデータ1!H39+CSVデータ2!H39+CSVデータ3!H39+CSVデータ4!H39","v":0},null,{"$f":"CSVデータ1!J39+CSVデータ2!J39+CSVデータ3!J39+CSVデータ4!J39","v":0},null,{"$f":"CSVデータ1!L39+CSVデータ2!L39+CSVデータ3!L39+CSVデータ4!L39","v":0},null,{"$f":"CSVデータ1!N39+CSVデータ2!N39+CSVデータ3!N39+CSVデータ4!N39","v":0},null,{"$f":"CSVデータ1!P39+CSVデータ2!P39+CSVデータ3!P39+CSVデータ4!P39","v":0},null,{"$f":"CSVデータ1!R39+CSVデータ2!R39+CSVデータ3!R39+CSVデータ4!R39","v":0},null,{"$f":"CSVデータ1!T39+CSVデータ2!T39+CSVデータ3!T39+CSVデータ4!T39","v":0},null,{"$f":"CSVデータ1!V39+CSVデータ2!V39+CSVデータ3!V39+CSVデータ4!V39","v":0},null,{"$f":"CSVデータ1!X39+CSVデータ2!X39+CSVデータ3!X39+CSVデータ4!X39","v":0},null,{"$f":"CSVデータ1!Z39+CSVデータ2!Z39+CSVデータ3!Z39+CSVデータ4!Z39","v":0},null,{"$f":"CSVデータ1!AB39+CSVデータ2!AB39+CSVデータ3!AB39+CSVデータ4!AB39","v":0},null,{"$f":"CSVデータ1!AD39+CSVデータ2!AD39+CSVデータ3!AD39+CSVデータ4!AD39","v":0},null,{"$f":"CSVデータ1!AF39+CSVデータ2!AF39+CSVデータ3!AF39+CSVデータ4!AF39","v":0}]
[{"$f":"CSVデータ1!A40","v":"明細部"},{"$f":"CSVデータ1!B40","v":"国"},{"$f":"CSVデータ1!C40","v":41},{"$f":"CSVデータ1!D40","v":"女"},{"$f":"CSVデータ1!E40+CSVデータ2!E40+CSVデータ3!E40+CSVデータ4!E40","v":0},{"$f":"CSVデータ1!F40+CSVデータ2!F40+CSVデータ3!F40+CSVデータ4!F40","v":0},null,{"$f":"CSVデータ1!H40+CSVデータ2!H40+CSVデータ3!H40+CSVデータ4!H40","v":0},null,{"$f":"CSVデータ1!J40+CSVデータ2!J40+CSVデータ3!J40+CSVデータ4!J40","v":0},null,{"$f":"CSVデータ1!L40+CSVデータ2!L40+CSVデータ3!L40+CSVデータ4!L40","v":0},null,{"$f":"CSVデータ1!N40+CSVデータ2!N40+CSVデータ3!N40+CSVデータ4!N40","v":0},null,{"$f":"CSVデータ1!P40+CSVデータ2!P40+CSVデータ3!P40+CSVデータ4!P40","v":0},null,{"$f":"CSVデータ1!R40+CSVデータ2!R40+CSVデータ3!R40+CSVデータ4!R40","v":0},null,{"$f":"CSVデータ1!T40+CSVデータ2!T40+CSVデータ3!T40+CSVデータ4!T40","v":0},null,{"$f":"CSVデータ1!V40+CSVデータ2!V40+CSVデータ3!V40+CSVデータ4!V40","v":0},null,{"$f":"CSVデータ1!X40+CSVデータ2!X40+CSVデータ3!X40+CSVデータ4!X40","v":0},null,{"$f":"CSVデータ1!Z40+CSVデータ2!Z40+CSVデータ3!Z40+CSVデータ4!Z40","v":0},null,{"$f":"CSVデータ1!AB40+CSVデータ2!AB40+CSVデータ3!AB40+CSVデータ4!AB40","v":0},null,{"$f":"CSVデータ1!AD40+CSVデータ2!AD40+CSVデータ3!AD40+CSVデータ4!AD40","v":0},null,{"$f":"CSVデータ1!AF40+CSVデータ2!AF40+CSVデータ3!AF40+CSVデータ4!AF40","v":0}]
[{"$f":"CSVデータ1!A41","v":"明細部"},{"$f":"CSVデータ1!B41","v":"国"},{"$f":"CSVデータ1!C41","v":42},{"$f":"CSVデータ1!D41","v":"女"},{"$f":"CSVデータ1!E41+CSVデータ2!E41+CSVデータ3!E41+CSVデータ4!E41","v":0},{"$f":"CSVデータ1!F41+CSVデータ2!F41+CSVデータ3!F41+CSVデータ4!F41","v":0},null,{"$f":"CSVデータ1!H41+CSVデータ2!H41+CSVデータ3!H41+CSVデータ4!H41","v":0},null,{"$f":"CSVデータ1!J41+CSVデータ2!J41+CSVデータ3!J41+CSVデータ4!J41","v":0},null,{"$f":"CSVデータ1!L41+CSVデータ2!L41+CSVデータ3!L41+CSVデータ4!L41","v":0},null,{"$f":"CSVデータ1!N41+CSVデータ2!N41+CSVデータ3!N41+CSVデータ4!N41","v":0},null,{"$f":"CSVデータ1!P41+CSVデータ2!P41+CSVデータ3!P41+CSVデータ4!P41","v":0},null,{"$f":"CSVデータ1!R41+CSVデータ2!R41+CSVデータ3!R41+CSVデータ4!R41","v":0},null,{"$f":"CSVデータ1!T41+CSVデータ2!T41+CSVデータ3!T41+CSVデータ4!T41","v":0},null,{"$f":"CSVデータ1!V41+CSVデータ2!V41+CSVデータ3!V41+CSVデータ4!V41","v":0},null,{"$f":"CSVデータ1!X41+CSVデータ2!X41+CSVデータ3!X41+CSVデータ4!X41","v":0},null,{"$f":"CSVデータ1!Z41+CSVデータ2!Z41+CSVデータ3!Z41+CSVデータ4!Z41","v":0},null,{"$f":"CSVデータ1!AB41+CSVデータ2!AB41+CSVデータ3!AB41+CSVデータ4!AB41","v":0},null,{"$f":"CSVデータ1!AD41+CSVデータ2!AD41+CSVデータ3!AD41+CSVデータ4!AD41","v":0},null,{"$f":"CSVデータ1!AF41+CSVデータ2!AF41+CSVデータ3!AF41+CSVデータ4!AF41","v":0}]
[{"$f":"CSVデータ1!A42","v":"明細部"},{"$f":"CSVデータ1!B42","v":"国"},{"$f":"CSVデータ1!C42","v":43},{"$f":"CSVデータ1!D42","v":"女"},{"$f":"CSVデータ1!E42+CSVデータ2!E42+CSVデータ3!E42+CSVデータ4!E42","v":0},{"$f":"CSVデータ1!F42+CSVデータ2!F42+CSVデータ3!F42+CSVデータ4!F42","v":0},null,{"$f":"CSVデータ1!H42+CSVデータ2!H42+CSVデータ3!H42+CSVデータ4!H42","v":0},null,{"$f":"CSVデータ1!J42+CSVデータ2!J42+CSVデータ3!J42+CSVデータ4!J42","v":0},null,{"$f":"CSVデータ1!L42+CSVデータ2!L42+CSVデータ3!L42+CSVデータ4!L42","v":0},null,{"$f":"CSVデータ1!N42+CSVデータ2!N42+CSVデータ3!N42+CSVデータ4!N42","v":0},null,{"$f":"CSVデータ1!P42+CSVデータ2!P42+CSVデータ3!P42+CSVデータ4!P42","v":0},null,{"$f":"CSVデータ1!R42+CSVデータ2!R42+CSVデータ3!R42+CSVデータ4!R42","v":0},null,{"$f":"CSVデータ1!T42+CSVデータ2!T42+CSVデータ3!T42+CSVデータ4!T42","v":0},null,{"$f":"CSVデータ1!V42+CSVデータ2!V42+CSVデータ3!V42+CSVデータ4!V42","v":0},null,{"$f":"CSVデータ1!X42+CSVデータ2!X42+CSVデータ3!X42+CSVデータ4!X42","v":0},null,{"$f":"CSVデータ1!Z42+CSVデータ2!Z42+CSVデータ3!Z42+CSVデータ4!Z42","v":0},null,{"$f":"CSVデータ1!AB42+CSVデータ2!AB42+CSVデータ3!AB42+CSVデータ4!AB42","v":0},null,{"$f":"CSVデータ1!AD42+CSVデータ2!AD42+CSVデータ3!AD42+CSVデータ4!AD42","v":0},null,{"$f":"CSVデータ1!AF42+CSVデータ2!AF42+CSVデータ3!AF42+CSVデータ4!AF42","v":0}]
[{"$f":"CSVデータ1!A43","v":"明細部"},{"$f":"CSVデータ1!B43","v":"国"},{"$f":"CSVデータ1!C43","v":44},{"$f":"CSVデータ1!D43","v":"女"},{"$f":"CSVデータ1!E43+CSVデータ2!E43+CSVデータ3!E43+CSVデータ4!E43","v":0},{"$f":"CSVデータ1!F43+CSVデータ2!F43+CSVデータ3!F43+CSVデータ4!F43","v":0},null,{"$f":"CSVデータ1!H43+CSVデータ2!H43+CSVデータ3!H43+CSVデータ4!H43","v":0},null,{"$f":"CSVデータ1!J43+CSVデータ2!J43+CSVデータ3!J43+CSVデータ4!J43","v":0},null,{"$f":"CSVデータ1!L43+CSVデータ2!L43+CSVデータ3!L43+CSVデータ4!L43","v":0},null,{"$f":"CSVデータ1!N43+CSVデータ2!N43+CSVデータ3!N43+CSVデータ4!N43","v":0},null,{"$f":"CSVデータ1!P43+CSVデータ2!P43+CSVデータ3!P43+CSVデータ4!P43","v":0},null,{"$f":"CSVデータ1!R43+CSVデータ2!R43+CSVデータ3!R43+CSVデータ4!R43","v":0},null,{"$f":"CSVデータ1!T43+CSVデータ2!T43+CSVデータ3!T43+CSVデータ4!T43","v":0},null,{"$f":"CSVデータ1!V43+CSVデータ2!V43+CSVデータ3!V43+CSVデータ4!V43","v":0},null,{"$f":"CSVデータ1!X43+CSVデータ2!X43+CSVデータ3!X43+CSVデータ4!X43","v":0},null,{"$f":"CSVデータ1!Z43+CSVデータ2!Z43+CSVデータ3!Z43+CSVデータ4!Z43","v":0},null,{"$f":"CSVデータ1!AB43+CSVデータ2!AB43+CSVデータ3!AB43+CSVデータ4!AB43","v":0},null,{"$f":"CSVデータ1!AD43+CSVデータ2!AD43+CSVデータ3!AD43+CSVデータ4!AD43","v":0},null,{"$f":"CSVデータ1!AF43+CSVデータ2!AF43+CSVデータ3!AF43+CSVデータ4!AF43","v":0}]
[{"$f":"CSVデータ1!A44","v":"明細部"},{"$f":"CSVデータ1!B44","v":"国"},{"$f":"CSVデータ1!C44","v":45},{"$f":"CSVデータ1!D44","v":"女"},{"$f":"CSVデータ1!E44+CSVデータ2!E44+CSVデータ3!E44+CSVデータ4!E44","v":0},{"$f":"CSVデータ1!F44+CSVデータ2!F44+CSVデータ3!F44+CSVデータ4!F44","v":0},null,{"$f":"CSVデータ1!H44+CSVデータ2!H44+CSVデータ3!H44+CSVデータ4!H44","v":0},null,{"$f":"CSVデータ1!J44+CSVデータ2!J44+CSVデータ3!J44+CSVデータ4!J44","v":0},null,{"$f":"CSVデータ1!L44+CSVデータ2!L44+CSVデータ3!L44+CSVデータ4!L44","v":0},null,{"$f":"CSVデータ1!N44+CSVデータ2!N44+CSVデータ3!N44+CSVデータ4!N44","v":0},null,{"$f":"CSVデータ1!P44+CSVデータ2!P44+CSVデータ3!P44+CSVデータ4!P44","v":0},null,{"$f":"CSVデータ1!R44+CSVデータ2!R44+CSVデータ3!R44+CSVデータ4!R44","v":0},null,{"$f":"CSVデータ1!T44+CSVデータ2!T44+CSVデータ3!T44+CSVデータ4!T44","v":0},null,{"$f":"CSVデータ1!V44+CSVデータ2!V44+CSVデータ3!V44+CSVデータ4!V44","v":0},null,{"$f":"CSVデータ1!X44+CSVデータ2!X44+CSVデータ3!X44+CSVデータ4!X44","v":0},null,{"$f":"CSVデータ1!Z44+CSVデータ2!Z44+CSVデータ3!Z44+CSVデータ4!Z44","v":0},null,{"$f":"CSVデータ1!AB44+CSVデータ2!AB44+CSVデータ3!AB44+CSVデータ4!AB44","v":0},null,{"$f":"CSVデータ1!AD44+CSVデータ2!AD44+CSVデータ3!AD44+CSVデータ4!AD44","v":0},null,{"$f":"CSVデータ1!AF44+CSVデータ2!AF44+CSVデータ3!AF44+CSVデータ4!AF44","v":0}]
[{"$f":"CSVデータ1!A45","v":"明細部"},{"$f":"CSVデータ1!B45","v":"国"},{"$f":"CSVデータ1!C45","v":46},{"$f":"CSVデータ1!D45","v":"女"},{"$f":"CSVデータ1!E45+CSVデータ2!E45+CSVデータ3!E45+CSVデータ4!E45","v":0},{"$f":"CSVデータ1!F45+CSVデータ2!F45+CSVデータ3!F45+CSVデータ4!F45","v":0},null,{"$f":"CSVデータ1!H45+CSVデータ2!H45+CSVデータ3!H45+CSVデータ4!H45","v":0},null,{"$f":"CSVデータ1!J45+CSVデータ2!J45+CSVデータ3!J45+CSVデータ4!J45","v":0},null,{"$f":"CSVデータ1!L45+CSVデータ2!L45+CSVデータ3!L45+CSVデータ4!L45","v":0},null,{"$f":"CSVデータ1!N45+CSVデータ2!N45+CSVデータ3!N45+CSVデータ4!N45","v":0},null,{"$f":"CSVデータ1!P45+CSVデータ2!P45+CSVデータ3!P45+CSVデータ4!P45","v":0},null,{"$f":"CSVデータ1!R45+CSVデータ2!R45+CSVデータ3!R45+CSVデータ4!R45","v":0},null,{"$f":"CSVデータ1!T45+CSVデータ2!T45+CSVデータ3!T45+CSVデータ4!T45","v":0},null,{"$f":"CSVデータ1!V45+CSVデータ2!V45+CSVデータ3!V45+CSVデータ4!V45","v":0},null,{"$f":"CSVデータ1!X45+CSVデータ2!X45+CSVデータ3!X45+CSVデータ4!X45","v":0},null,{"$f":"CSVデータ1!Z45+CSVデータ2!Z45+CSVデータ3!Z45+CSVデータ4!Z45","v":0},null,{"$f":"CSVデータ1!AB45+CSVデータ2!AB45+CSVデータ3!AB45+CSVデータ4!AB45","v":0},null,{"$f":"CSVデータ1!AD45+CSVデータ2!AD45+CSVデータ3!AD45+CSVデータ4!AD45","v":0},null,{"$f":"CSVデータ1!AF45+CSVデータ2!AF45+CSVデータ3!AF45+CSVデータ4!AF45","v":0}]
[{"$f":"CSVデータ1!A46","v":"明細部"},{"$f":"CSVデータ1!B46","v":"国"},{"$f":"CSVデータ1!C46","v":47},{"$f":"CSVデータ1!D46","v":"女"},{"$f":"CSVデータ1!E46+CSVデータ2!E46+CSVデータ3!E46+CSVデータ4!E46","v":0},{"$f":"CSVデータ1!F46+CSVデータ2!F46+CSVデータ3!F46+CSVデータ4!F46","v":0},null,{"$f":"CSVデータ1!H46+CSVデータ2!H46+CSVデータ3!H46+CSVデータ4!H46","v":0},null,{"$f":"CSVデータ1!J46+CSVデータ2!J46+CSVデータ3!J46+CSVデータ4!J46","v":0},null,{"$f":"CSVデータ1!L46+CSVデータ2!L46+CSVデータ3!L46+CSVデータ4!L46","v":0},null,{"$f":"CSVデータ1!N46+CSVデータ2!N46+CSVデータ3!N46+CSVデータ4!N46","v":0},null,{"$f":"CSVデータ1!P46+CSVデータ2!P46+CSVデータ3!P46+CSVデータ4!P46","v":0},null,{"$f":"CSVデータ1!R46+CSVデータ2!R46+CSVデータ3!R46+CSVデータ4!R46","v":0},null,{"$f":"CSVデータ1!T46+CSVデータ2!T46+CSVデータ3!T46+CSVデータ4!T46","v":0},null,{"$f":"CSVデータ1!V46+CSVデータ2!V46+CSVデータ3!V46+CSVデータ4!V46","v":0},null,{"$f":"CSVデータ1!X46+CSVデータ2!X46+CSVデータ3!X46+CSVデータ4!X46","v":0},null,{"$f":"CSVデータ1!Z46+CSVデータ2!Z46+CSVデータ3!Z46+CSVデータ4!Z46","v":0},null,{"$f":"CSVデータ1!AB46+CSVデータ2!AB46+CSVデータ3!AB46+CSVデータ4!AB46","v":0},null,{"$f":"CSVデータ1!AD46+CSVデータ2!AD46+CSVデータ3!AD46+CSVデータ4!AD46","v":0},null,{"$f":"CSVデータ1!AF46+CSVデータ2!AF46+CSVデータ3!AF46+CSVデータ4!AF46","v":0}]
[{"$f":"CSVデータ1!A47","v":"明細部"},{"$f":"CSVデータ1!B47","v":"国"},{"$f":"CSVデータ1!C47","v":48},{"$f":"CSVデータ1!D47","v":"女"},{"$f":"CSVデータ1!E47+CSVデータ2!E47+CSVデータ3!E47+CSVデータ4!E47","v":0},{"$f":"CSVデータ1!F47+CSVデータ2!F47+CSVデータ3!F47+CSVデータ4!F47","v":0},null,{"$f":"CSVデータ1!H47+CSVデータ2!H47+CSVデータ3!H47+CSVデータ4!H47","v":0},null,{"$f":"CSVデータ1!J47+CSVデータ2!J47+CSVデータ3!J47+CSVデータ4!J47","v":0},null,{"$f":"CSVデータ1!L47+CSVデータ2!L47+CSVデータ3!L47+CSVデータ4!L47","v":0},null,{"$f":"CSVデータ1!N47+CSVデータ2!N47+CSVデータ3!N47+CSVデータ4!N47","v":0},null,{"$f":"CSVデータ1!P47+CSVデータ2!P47+CSVデータ3!P47+CSVデータ4!P47","v":0},null,{"$f":"CSVデータ1!R47+CSVデータ2!R47+CSVデータ3!R47+CSVデータ4!R47","v":0},null,{"$f":"CSVデータ1!T47+CSVデータ2!T47+CSVデータ3!T47+CSVデータ4!T47","v":0},null,{"$f":"CSVデータ1!V47+CSVデータ2!V47+CSVデータ3!V47+CSVデータ4!V47","v":0},null,{"$f":"CSVデータ1!X47+CSVデータ2!X47+CSVデータ3!X47+CSVデータ4!X47","v":0},null,{"$f":"CSVデータ1!Z47+CSVデータ2!Z47+CSVデータ3!Z47+CSVデータ4!Z47","v":0},null,{"$f":"CSVデータ1!AB47+CSVデータ2!AB47+CSVデータ3!AB47+CSVデータ4!AB47","v":0},null,{"$f":"CSVデータ1!AD47+CSVデータ2!AD47+CSVデータ3!AD47+CSVデータ4!AD47","v":0},null,{"$f":"CSVデータ1!AF47+CSVデータ2!AF47+CSVデータ3!AF47+CSVデータ4!AF47","v":0}]
[{"$f":"CSVデータ1!A48","v":"明細部"},{"$f":"CSVデータ1!B48","v":"国"},{"$f":"CSVデータ1!C48","v":49},{"$f":"CSVデータ1!D48","v":"女"},{"$f":"CSVデータ1!E48+CSVデータ2!E48+CSVデータ3!E48+CSVデータ4!E48","v":0},{"$f":"CSVデータ1!F48+CSVデータ2!F48+CSVデータ3!F48+CSVデータ4!F48","v":0},null,{"$f":"CSVデータ1!H48+CSVデータ2!H48+CSVデータ3!H48+CSVデータ4!H48","v":0},null,{"$f":"CSVデータ1!J48+CSVデータ2!J48+CSVデータ3!J48+CSVデータ4!J48","v":0},null,{"$f":"CSVデータ1!L48+CSVデータ2!L48+CSVデータ3!L48+CSVデータ4!L48","v":0},null,{"$f":"CSVデータ1!N48+CSVデータ2!N48+CSVデータ3!N48+CSVデータ4!N48","v":0},null,{"$f":"CSVデータ1!P48+CSVデータ2!P48+CSVデータ3!P48+CSVデータ4!P48","v":0},null,{"$f":"CSVデータ1!R48+CSVデータ2!R48+CSVデータ3!R48+CSVデータ4!R48","v":0},null,{"$f":"CSVデータ1!T48+CSVデータ2!T48+CSVデータ3!T48+CSVデータ4!T48","v":0},null,{"$f":"CSVデータ1!V48+CSVデータ2!V48+CSVデータ3!V48+CSVデータ4!V48","v":0},null,{"$f":"CSVデータ1!X48+CSVデータ2!X48+CSVデータ3!X48+CSVデータ4!X48","v":0},null,{"$f":"CSVデータ1!Z48+CSVデータ2!Z48+CSVデータ3!Z48+CSVデータ4!Z48","v":0},null,{"$f":"CSVデータ1!AB48+CSVデータ2!AB48+CSVデータ3!AB48+CSVデータ4!AB48","v":0},null,{"$f":"CSVデータ1!AD48+CSVデータ2!AD48+CSVデータ3!AD48+CSVデータ4!AD48","v":0},null,{"$f":"CSVデータ1!AF48+CSVデータ2!AF48+CSVデータ3!AF48+CSVデータ4!AF48","v":0}]
[{"$f":"CSVデータ1!A49","v":"明細部"},{"$f":"CSVデータ1!B49","v":"国"},{"$f":"CSVデータ1!C49","v":50},{"$f":"CSVデータ1!D49","v":"女"},{"$f":"CSVデータ1!E49+CSVデータ2!E49+CSVデータ3!E49+CSVデータ4!E49","v":0},{"$f":"CSVデータ1!F49+CSVデータ2!F49+CSVデータ3!F49+CSVデータ4!F49","v":0},null,{"$f":"CSVデータ1!H49+CSVデータ2!H49+CSVデータ3!H49+CSVデータ4!H49","v":0},null,{"$f":"CSVデータ1!J49+CSVデータ2!J49+CSVデータ3!J49+CSVデータ4!J49","v":0},null,{"$f":"CSVデータ1!L49+CSVデータ2!L49+CSVデータ3!L49+CSVデータ4!L49","v":0},null,{"$f":"CSVデータ1!N49+CSVデータ2!N49+CSVデータ3!N49+CSVデータ4!N49","v":0},null,{"$f":"CSVデータ1!P49+CSVデータ2!P49+CSVデータ3!P49+CSVデータ4!P49","v":0},null,{"$f":"CSVデータ1!R49+CSVデータ2!R49+CSVデータ3!R49+CSVデータ4!R49","v":0},null,{"$f":"CSVデータ1!T49+CSVデータ2!T49+CSVデータ3!T49+CSVデータ4!T49","v":0},null,{"$f":"CSVデータ1!V49+CSVデータ2!V49+CSVデータ3!V49+CSVデータ4!V49","v":0},null,{"$f":"CSVデータ1!X49+CSVデータ2!X49+CSVデータ3!X49+CSVデータ4!X49","v":0},null,{"$f":"CSVデータ1!Z49+CSVデータ2!Z49+CSVデータ3!Z49+CSVデータ4!Z49","v":0},null,{"$f":"CSVデータ1!AB49+CSVデータ2!AB49+CSVデータ3!AB49+CSVデータ4!AB49","v":0},null,{"$f":"CSVデータ1!AD49+CSVデータ2!AD49+CSVデータ3!AD49+CSVデータ4!AD49","v":0},null,{"$f":"CSVデータ1!AF49+CSVデータ2!AF49+CSVデータ3!AF49+CSVデータ4!AF49","v":0}]
[{"$f":"CSVデータ1!A50","v":"明細部"},{"$f":"CSVデータ1!B50","v":"国"},{"$f":"CSVデータ1!C50","v":51},{"$f":"CSVデータ1!D50","v":"女"},{"$f":"CSVデータ1!E50+CSVデータ2!E50+CSVデータ3!E50+CSVデータ4!E50","v":0},{"$f":"CSVデータ1!F50+CSVデータ2!F50+CSVデータ3!F50+CSVデータ4!F50","v":0},null,{"$f":"CSVデータ1!H50+CSVデータ2!H50+CSVデータ3!H50+CSVデータ4!H50","v":0},null,{"$f":"CSVデータ1!J50+CSVデータ2!J50+CSVデータ3!J50+CSVデータ4!J50","v":0},null,{"$f":"CSVデータ1!L50+CSVデータ2!L50+CSVデータ3!L50+CSVデータ4!L50","v":0},null,{"$f":"CSVデータ1!N50+CSVデータ2!N50+CSVデータ3!N50+CSVデータ4!N50","v":0},null,{"$f":"CSVデータ1!P50+CSVデータ2!P50+CSVデータ3!P50+CSVデータ4!P50","v":0},null,{"$f":"CSVデータ1!R50+CSVデータ2!R50+CSVデータ3!R50+CSVデータ4!R50","v":0},null,{"$f":"CSVデータ1!T50+CSVデータ2!T50+CSVデータ3!T50+CSVデータ4!T50","v":0},null,{"$f":"CSVデータ1!V50+CSVデータ2!V50+CSVデータ3!V50+CSVデータ4!V50","v":0},null,{"$f":"CSVデータ1!X50+CSVデータ2!X50+CSVデータ3!X50+CSVデータ4!X50","v":0},null,{"$f":"CSVデータ1!Z50+CSVデータ2!Z50+CSVデータ3!Z50+CSVデータ4!Z50","v":0},null,{"$f":"CSVデータ1!AB50+CSVデータ2!AB50+CSVデータ3!AB50+CSVデータ4!AB50","v":0},null,{"$f":"CSVデータ1!AD50+CSVデータ2!AD50+CSVデータ3!AD50+CSVデータ4!AD50","v":0},null,{"$f":"CSVデータ1!AF50+CSVデータ2!AF50+CSVデータ3!AF50+CSVデータ4!AF50","v":0}]
[{"$f":"CSVデータ1!A51","v":"明細部"},{"$f":"CSVデータ1!B51","v":"国"},{"$f":"CSVデータ1!C51","v":52},{"$f":"CSVデータ1!D51","v":"女"},{"$f":"CSVデータ1!E51+CSVデータ2!E51+CSVデータ3!E51+CSVデータ4!E51","v":0},{"$f":"CSVデータ1!F51+CSVデータ2!F51+CSVデータ3!F51+CSVデータ4!F51","v":0},null,{"$f":"CSVデータ1!H51+CSVデータ2!H51+CSVデータ3!H51+CSVデータ4!H51","v":0},null,{"$f":"CSVデータ1!J51+CSVデータ2!J51+CSVデータ3!J51+CSVデータ4!J51","v":0},null,{"$f":"CSVデータ1!L51+CSVデータ2!L51+CSVデータ3!L51+CSVデータ4!L51","v":0},null,{"$f":"CSVデータ1!N51+CSVデータ2!N51+CSVデータ3!N51+CSVデータ4!N51","v":0},null,{"$f":"CSVデータ1!P51+CSVデータ2!P51+CSVデータ3!P51+CSVデータ4!P51","v":0},null,{"$f":"CSVデータ1!R51+CSVデータ2!R51+CSVデータ3!R51+CSVデータ4!R51","v":0},null,{"$f":"CSVデータ1!T51+CSVデータ2!T51+CSVデータ3!T51+CSVデータ4!T51","v":0},null,{"$f":"CSVデータ1!V51+CSVデータ2!V51+CSVデータ3!V51+CSVデータ4!V51","v":0},null,{"$f":"CSVデータ1!X51+CSVデータ2!X51+CSVデータ3!X51+CSVデータ4!X51","v":0},null,{"$f":"CSVデータ1!Z51+CSVデータ2!Z51+CSVデータ3!Z51+CSVデータ4!Z51","v":0},null,{"$f":"CSVデータ1!AB51+CSVデータ2!AB51+CSVデータ3!AB51+CSVデータ4!AB51","v":0},null,{"$f":"CSVデータ1!AD51+CSVデータ2!AD51+CSVデータ3!AD51+CSVデータ4!AD51","v":0},null,{"$f":"CSVデータ1!AF51+CSVデータ2!AF51+CSVデータ3!AF51+CSVデータ4!AF51","v":0}]
[{"$f":"CSVデータ1!A52","v":"明細部"},{"$f":"CSVデータ1!B52","v":"国"},{"$f":"CSVデータ1!C52","v":53},{"$f":"CSVデータ1!D52","v":"女"},{"$f":"CSVデータ1!E52+CSVデータ2!E52+CSVデータ3!E52+CSVデータ4!E52","v":0},{"$f":"CSVデータ1!F52+CSVデータ2!F52+CSVデータ3!F52+CSVデータ4!F52","v":0},null,{"$f":"CSVデータ1!H52+CSVデータ2!H52+CSVデータ3!H52+CSVデータ4!H52","v":0},null,{"$f":"CSVデータ1!J52+CSVデータ2!J52+CSVデータ3!J52+CSVデータ4!J52","v":0},null,{"$f":"CSVデータ1!L52+CSVデータ2!L52+CSVデータ3!L52+CSVデータ4!L52","v":0},null,{"$f":"CSVデータ1!N52+CSVデータ2!N52+CSVデータ3!N52+CSVデータ4!N52","v":0},null,{"$f":"CSVデータ1!P52+CSVデータ2!P52+CSVデータ3!P52+CSVデータ4!P52","v":0},null,{"$f":"CSVデータ1!R52+CSVデータ2!R52+CSVデータ3!R52+CSVデータ4!R52","v":0},null,{"$f":"CSVデータ1!T52+CSVデータ2!T52+CSVデータ3!T52+CSVデータ4!T52","v":0},null,{"$f":"CSVデータ1!V52+CSVデータ2!V52+CSVデータ3!V52+CSVデータ4!V52","v":0},null,{"$f":"CSVデータ1!X52+CSVデータ2!X52+CSVデータ3!X52+CSVデータ4!X52","v":0},null,{"$f":"CSVデータ1!Z52+CSVデータ2!Z52+CSVデータ3!Z52+CSVデータ4!Z52","v":0},null,{"$f":"CSVデータ1!AB52+CSVデータ2!AB52+CSVデータ3!AB52+CSVデータ4!AB52","v":0},null,{"$f":"CSVデータ1!AD52+CSVデータ2!AD52+CSVデータ3!AD52+CSVデータ4!AD52","v":0},null,{"$f":"CSVデータ1!AF52+CSVデータ2!AF52+CSVデータ3!AF52+CSVデータ4!AF52","v":0}]
[{"$f":"CSVデータ1!A53","v":"明細部"},{"$f":"CSVデータ1!B53","v":"国"},{"$f":"CSVデータ1!C53","v":54},{"$f":"CSVデータ1!D53","v":"女"},{"$f":"CSVデータ1!E53+CSVデータ2!E53+CSVデータ3!E53+CSVデータ4!E53","v":0},{"$f":"CSVデータ1!F53+CSVデータ2!F53+CSVデータ3!F53+CSVデータ4!F53","v":0},null,{"$f":"CSVデータ1!H53+CSVデータ2!H53+CSVデータ3!H53+CSVデータ4!H53","v":0},null,{"$f":"CSVデータ1!J53+CSVデータ2!J53+CSVデータ3!J53+CSVデータ4!J53","v":0},null,{"$f":"CSVデータ1!L53+CSVデータ2!L53+CSVデータ3!L53+CSVデータ4!L53","v":0},null,{"$f":"CSVデータ1!N53+CSVデータ2!N53+CSVデータ3!N53+CSVデータ4!N53","v":0},null,{"$f":"CSVデータ1!P53+CSVデータ2!P53+CSVデータ3!P53+CSVデータ4!P53","v":0},null,{"$f":"CSVデータ1!R53+CSVデータ2!R53+CSVデータ3!R53+CSVデータ4!R53","v":0},null,{"$f":"CSVデータ1!T53+CSVデータ2!T53+CSVデータ3!T53+CSVデータ4!T53","v":0},null,{"$f":"CSVデータ1!V53+CSVデータ2!V53+CSVデータ3!V53+CSVデータ4!V53","v":0},null,{"$f":"CSVデータ1!X53+CSVデータ2!X53+CSVデータ3!X53+CSVデータ4!X53","v":0},null,{"$f":"CSVデータ1!Z53+CSVデータ2!Z53+CSVデータ3!Z53+CSVデータ4!Z53","v":0},null,{"$f":"CSVデータ1!AB53+CSVデータ2!AB53+CSVデータ3!AB53+CSVデータ4!AB53","v":0},null,{"$f":"CSVデータ1!AD53+CSVデータ2!AD53+CSVデータ3!AD53+CSVデータ4!AD53","v":0},null,{"$f":"CSVデータ1!AF53+CSVデータ2!AF53+CSVデータ3!AF53+CSVデータ4!AF53","v":0}]
[{"$f":"CSVデータ1!A54","v":"明細部"},{"$f":"CSVデータ1!B54","v":"国"},{"$f":"CSVデータ1!C54","v":55},{"$f":"CSVデータ1!D54","v":"女"},{"$f":"CSVデータ1!E54+CSVデータ2!E54+CSVデータ3!E54+CSVデータ4!E54","v":0},{"$f":"CSVデータ1!F54+CSVデータ2!F54+CSVデータ3!F54+CSVデータ4!F54","v":0},null,{"$f":"CSVデータ1!H54+CSVデータ2!H54+CSVデータ3!H54+CSVデータ4!H54","v":0},null,{"$f":"CSVデータ1!J54+CSVデータ2!J54+CSVデータ3!J54+CSVデータ4!J54","v":0},null,{"$f":"CSVデータ1!L54+CSVデータ2!L54+CSVデータ3!L54+CSVデータ4!L54","v":0},null,{"$f":"CSVデータ1!N54+CSVデータ2!N54+CSVデータ3!N54+CSVデータ4!N54","v":0},null,{"$f":"CSVデータ1!P54+CSVデータ2!P54+CSVデータ3!P54+CSVデータ4!P54","v":0},null,{"$f":"CSVデータ1!R54+CSVデータ2!R54+CSVデータ3!R54+CSVデータ4!R54","v":0},null,{"$f":"CSVデータ1!T54+CSVデータ2!T54+CSVデータ3!T54+CSVデータ4!T54","v":0},null,{"$f":"CSVデータ1!V54+CSVデータ2!V54+CSVデータ3!V54+CSVデータ4!V54","v":0},null,{"$f":"CSVデータ1!X54+CSVデータ2!X54+CSVデータ3!X54+CSVデータ4!X54","v":0},null,{"$f":"CSVデータ1!Z54+CSVデータ2!Z54+CSVデータ3!Z54+CSVデータ4!Z54","v":0},null,{"$f":"CSVデータ1!AB54+CSVデータ2!AB54+CSVデータ3!AB54+CSVデータ4!AB54","v":0},null,{"$f":"CSVデータ1!AD54+CSVデータ2!AD54+CSVデータ3!AD54+CSVデータ4!AD54","v":0},null,{"$f":"CSVデータ1!AF54+CSVデータ2!AF54+CSVデータ3!AF54+CSVデータ4!AF54","v":0}]
[{"$f":"CSVデータ1!A55","v":"明細部"},{"$f":"CSVデータ1!B55","v":"国"},{"$f":"CSVデータ1!C55","v":56},{"$f":"CSVデータ1!D55","v":"女"},{"$f":"CSVデータ1!E55+CSVデータ2!E55+CSVデータ3!E55+CSVデータ4!E55","v":0},{"$f":"CSVデータ1!F55+CSVデータ2!F55+CSVデータ3!F55+CSVデータ4!F55","v":0},null,{"$f":"CSVデータ1!H55+CSVデータ2!H55+CSVデータ3!H55+CSVデータ4!H55","v":0},null,{"$f":"CSVデータ1!J55+CSVデータ2!J55+CSVデータ3!J55+CSVデータ4!J55","v":0},null,{"$f":"CSVデータ1!L55+CSVデータ2!L55+CSVデータ3!L55+CSVデータ4!L55","v":0},null,{"$f":"CSVデータ1!N55+CSVデータ2!N55+CSVデータ3!N55+CSVデータ4!N55","v":0},null,{"$f":"CSVデータ1!P55+CSVデータ2!P55+CSVデータ3!P55+CSVデータ4!P55","v":0},null,{"$f":"CSVデータ1!R55+CSVデータ2!R55+CSVデータ3!R55+CSVデータ4!R55","v":0},null,{"$f":"CSVデータ1!T55+CSVデータ2!T55+CSVデータ3!T55+CSVデータ4!T55","v":0},null,{"$f":"CSVデータ1!V55+CSVデータ2!V55+CSVデータ3!V55+CSVデータ4!V55","v":0},null,{"$f":"CSVデータ1!X55+CSVデータ2!X55+CSVデータ3!X55+CSVデータ4!X55","v":0},null,{"$f":"CSVデータ1!Z55+CSVデータ2!Z55+CSVデータ3!Z55+CSVデータ4!Z55","v":0},null,{"$f":"CSVデータ1!AB55+CSVデータ2!AB55+CSVデータ3!AB55+CSVデータ4!AB55","v":0},null,{"$f":"CSVデータ1!AD55+CSVデータ2!AD55+CSVデータ3!AD55+CSVデータ4!AD55","v":0},null,{"$f":"CSVデータ1!AF55+CSVデータ2!AF55+CSVデータ3!AF55+CSVデータ4!AF55","v":0}]
[{"$f":"CSVデータ1!A56","v":"明細部"},{"$f":"CSVデータ1!B56","v":"国"},{"$f":"CSVデータ1!C56","v":57},{"$f":"CSVデータ1!D56","v":"女"},{"$f":"CSVデータ1!E56+CSVデータ2!E56+CSVデータ3!E56+CSVデータ4!E56","v":0},{"$f":"CSVデータ1!F56+CSVデータ2!F56+CSVデータ3!F56+CSVデータ4!F56","v":0},null,{"$f":"CSVデータ1!H56+CSVデータ2!H56+CSVデータ3!H56+CSVデータ4!H56","v":0},null,{"$f":"CSVデータ1!J56+CSVデータ2!J56+CSVデータ3!J56+CSVデータ4!J56","v":0},null,{"$f":"CSVデータ1!L56+CSVデータ2!L56+CSVデータ3!L56+CSVデータ4!L56","v":0},null,{"$f":"CSVデータ1!N56+CSVデータ2!N56+CSVデータ3!N56+CSVデータ4!N56","v":0},null,{"$f":"CSVデータ1!P56+CSVデータ2!P56+CSVデータ3!P56+CSVデータ4!P56","v":0},null,{"$f":"CSVデータ1!R56+CSVデータ2!R56+CSVデータ3!R56+CSVデータ4!R56","v":0},null,{"$f":"CSVデータ1!T56+CSVデータ2!T56+CSVデータ3!T56+CSVデータ4!T56","v":0},null,{"$f":"CSVデータ1!V56+CSVデータ2!V56+CSVデータ3!V56+CSVデータ4!V56","v":0},null,{"$f":"CSVデータ1!X56+CSVデータ2!X56+CSVデータ3!X56+CSVデータ4!X56","v":0},null,{"$f":"CSVデータ1!Z56+CSVデータ2!Z56+CSVデータ3!Z56+CSVデータ4!Z56","v":0},null,{"$f":"CSVデータ1!AB56+CSVデータ2!AB56+CSVデータ3!AB56+CSVデータ4!AB56","v":0},null,{"$f":"CSVデータ1!AD56+CSVデータ2!AD56+CSVデータ3!AD56+CSVデータ4!AD56","v":0},null,{"$f":"CSVデータ1!AF56+CSVデータ2!AF56+CSVデータ3!AF56+CSVデータ4!AF56","v":0}]
[{"$f":"CSVデータ1!A57","v":"明細部"},{"$f":"CSVデータ1!B57","v":"国"},{"$f":"CSVデータ1!C57","v":58},{"$f":"CSVデータ1!D57","v":"女"},{"$f":"CSVデータ1!E57+CSVデータ2!E57+CSVデータ3!E57+CSVデータ4!E57","v":0},{"$f":"CSVデータ1!F57+CSVデータ2!F57+CSVデータ3!F57+CSVデータ4!F57","v":0},null,{"$f":"CSVデータ1!H57+CSVデータ2!H57+CSVデータ3!H57+CSVデータ4!H57","v":0},null,{"$f":"CSVデータ1!J57+CSVデータ2!J57+CSVデータ3!J57+CSVデータ4!J57","v":0},null,{"$f":"CSVデータ1!L57+CSVデータ2!L57+CSVデータ3!L57+CSVデータ4!L57","v":0},null,{"$f":"CSVデータ1!N57+CSVデータ2!N57+CSVデータ3!N57+CSVデータ4!N57","v":0},null,{"$f":"CSVデータ1!P57+CSVデータ2!P57+CSVデータ3!P57+CSVデータ4!P57","v":0},null,{"$f":"CSVデータ1!R57+CSVデータ2!R57+CSVデータ3!R57+CSVデータ4!R57","v":0},null,{"$f":"CSVデータ1!T57+CSVデータ2!T57+CSVデータ3!T57+CSVデータ4!T57","v":0},null,{"$f":"CSVデータ1!V57+CSVデータ2!V57+CSVデータ3!V57+CSVデータ4!V57","v":0},null,{"$f":"CSVデータ1!X57+CSVデータ2!X57+CSVデータ3!X57+CSVデータ4!X57","v":0},null,{"$f":"CSVデータ1!Z57+CSVデータ2!Z57+CSVデータ3!Z57+CSVデータ4!Z57","v":0},null,{"$f":"CSVデータ1!AB57+CSVデータ2!AB57+CSVデータ3!AB57+CSVデータ4!AB57","v":0},null,{"$f":"CSVデータ1!AD57+CSVデータ2!AD57+CSVデータ3!AD57+CSVデータ4!AD57","v":0},null,{"$f":"CSVデータ1!AF57+CSVデータ2!AF57+CSVデータ3!AF57+CSVデータ4!AF57","v":0}]
[{"$f":"CSVデータ1!A58","v":"明細部"},{"$f":"CSVデータ1!B58","v":"国"},{"$f":"CSVデータ1!C58","v":59},{"$f":"CSVデータ1!D58","v":"女"},{"$f":"CSVデータ1!E58+CSVデータ2!E58+CSVデータ3!E58+CSVデータ4!E58","v":0},{"$f":"CSVデータ1!F58+CSVデータ2!F58+CSVデータ3!F58+CSVデータ4!F58","v":0},null,{"$f":"CSVデータ1!H58+CSVデータ2!H58+CSVデータ3!H58+CSVデータ4!H58","v":0},null,{"$f":"CSVデータ1!J58+CSVデータ2!J58+CSVデータ3!J58+CSVデータ4!J58","v":0},null,{"$f":"CSVデータ1!L58+CSVデータ2!L58+CSVデータ3!L58+CSVデータ4!L58","v":0},null,{"$f":"CSVデータ1!N58+CSVデータ2!N58+CSVデータ3!N58+CSVデータ4!N58","v":0},null,{"$f":"CSVデータ1!P58+CSVデータ2!P58+CSVデータ3!P58+CSVデータ4!P58","v":0},null,{"$f":"CSVデータ1!R58+CSVデータ2!R58+CSVデータ3!R58+CSVデータ4!R58","v":0},null,{"$f":"CSVデータ1!T58+CSVデータ2!T58+CSVデータ3!T58+CSVデータ4!T58","v":0},null,{"$f":"CSVデータ1!V58+CSVデータ2!V58+CSVデータ3!V58+CSVデータ4!V58","v":0},null,{"$f":"CSVデータ1!X58+CSVデータ2!X58+CSVデータ3!X58+CSVデータ4!X58","v":0},null,{"$f":"CSVデータ1!Z58+CSVデータ2!Z58+CSVデータ3!Z58+CSVデータ4!Z58","v":0},null,{"$f":"CSVデータ1!AB58+CSVデータ2!AB58+CSVデータ3!AB58+CSVデータ4!AB58","v":0},null,{"$f":"CSVデータ1!AD58+CSVデータ2!AD58+CSVデータ3!AD58+CSVデータ4!AD58","v":0},null,{"$f":"CSVデータ1!AF58+CSVデータ2!AF58+CSVデータ3!AF58+CSVデータ4!AF58","v":0}]
[{"$f":"CSVデータ1!A59","v":"明細部"},{"$f":"CSVデータ1!B59","v":"国"},{"$f":"CSVデータ1!C59","v":60},{"$f":"CSVデータ1!D59","v":"女"},{"$f":"CSVデータ1!E59+CSVデータ2!E59+CSVデータ3!E59+CSVデータ4!E59","v":0},{"$f":"CSVデータ1!F59+CSVデータ2!F59+CSVデータ3!F59+CSVデータ4!F59","v":0},null,{"$f":"CSVデータ1!H59+CSVデータ2!H59+CSVデータ3!H59+CSVデータ4!H59","v":0},null,{"$f":"CSVデータ1!J59+CSVデータ2!J59+CSVデータ3!J59+CSVデータ4!J59","v":0},null,{"$f":"CSVデータ1!L59+CSVデータ2!L59+CSVデータ3!L59+CSVデータ4!L59","v":0},null,{"$f":"CSVデータ1!N59+CSVデータ2!N59+CSVデータ3!N59+CSVデータ4!N59","v":0},null,{"$f":"CSVデータ1!P59+CSVデータ2!P59+CSVデータ3!P59+CSVデータ4!P59","v":0},null,{"$f":"CSVデータ1!R59+CSVデータ2!R59+CSVデータ3!R59+CSVデータ4!R59","v":0},null,{"$f":"CSVデータ1!T59+CSVデータ2!T59+CSVデータ3!T59+CSVデータ4!T59","v":0},null,{"$f":"CSVデータ1!V59+CSVデータ2!V59+CSVデータ3!V59+CSVデータ4!V59","v":0},null,{"$f":"CSVデータ1!X59+CSVデータ2!X59+CSVデータ3!X59+CSVデータ4!X59","v":0},null,{"$f":"CSVデータ1!Z59+CSVデータ2!Z59+CSVデータ3!Z59+CSVデータ4!Z59","v":0},null,{"$f":"CSVデータ1!AB59+CSVデータ2!AB59+CSVデータ3!AB59+CSVデータ4!AB59","v":0},null,{"$f":"CSVデータ1!AD59+CSVデータ2!AD59+CSVデータ3!AD59+CSVデータ4!AD59","v":0},null,{"$f":"CSVデータ1!AF59+CSVデータ2!AF59+CSVデータ3!AF59+CSVデータ4!AF59","v":0}]
[{"$f":"CSVデータ1!A60","v":"明細部"},{"$f":"CSVデータ1!B60","v":"国"},{"$f":"CSVデータ1!C60","v":61},{"$f":"CSVデータ1!D60","v":"女"},{"$f":"CSVデータ1!E60+CSVデータ2!E60+CSVデータ3!E60+CSVデータ4!E60","v":0},{"$f":"CSVデータ1!F60+CSVデータ2!F60+CSVデータ3!F60+CSVデータ4!F60","v":0},null,{"$f":"CSVデータ1!H60+CSVデータ2!H60+CSVデータ3!H60+CSVデータ4!H60","v":0},null,{"$f":"CSVデータ1!J60+CSVデータ2!J60+CSVデータ3!J60+CSVデータ4!J60","v":0},null,{"$f":"CSVデータ1!L60+CSVデータ2!L60+CSVデータ3!L60+CSVデータ4!L60","v":0},null,{"$f":"CSVデータ1!N60+CSVデータ2!N60+CSVデータ3!N60+CSVデータ4!N60","v":0},null,{"$f":"CSVデータ1!P60+CSVデータ2!P60+CSVデータ3!P60+CSVデータ4!P60","v":0},null,{"$f":"CSVデータ1!R60+CSVデータ2!R60+CSVデータ3!R60+CSVデータ4!R60","v":0},null,{"$f":"CSVデータ1!T60+CSVデータ2!T60+CSVデータ3!T60+CSVデータ4!T60","v":0},null,{"$f":"CSVデータ1!V60+CSVデータ2!V60+CSVデータ3!V60+CSVデータ4!V60","v":0},null,{"$f":"CSVデータ1!X60+CSVデータ2!X60+CSVデータ3!X60+CSVデータ4!X60","v":0},null,{"$f":"CSVデータ1!Z60+CSVデータ2!Z60+CSVデータ3!Z60+CSVデータ4!Z60","v":0},null,{"$f":"CSVデータ1!AB60+CSVデータ2!AB60+CSVデータ3!AB60+CSVデータ4!AB60","v":0},null,{"$f":"CSVデータ1!AD60+CSVデータ2!AD60+CSVデータ3!AD60+CSVデータ4!AD60","v":0},null,{"$f":"CSVデータ1!AF60+CSVデータ2!AF60+CSVデータ3!AF60+CSVデータ4!AF60","v":0}]
[{"$f":"CSVデータ1!A61","v":"明細部"},{"$f":"CSVデータ1!B61","v":"国"},{"$f":"CSVデータ1!C61","v":62},{"$f":"CSVデータ1!D61","v":"女"},{"$f":"CSVデータ1!E61+CSVデータ2!E61+CSVデータ3!E61+CSVデータ4!E61","v":0},{"$f":"CSVデータ1!F61+CSVデータ2!F61+CSVデータ3!F61+CSVデータ4!F61","v":0},null,{"$f":"CSVデータ1!H61+CSVデータ2!H61+CSVデータ3!H61+CSVデータ4!H61","v":0},null,{"$f":"CSVデータ1!J61+CSVデータ2!J61+CSVデータ3!J61+CSVデータ4!J61","v":0},null,{"$f":"CSVデータ1!L61+CSVデータ2!L61+CSVデータ3!L61+CSVデータ4!L61","v":0},null,{"$f":"CSVデータ1!N61+CSVデータ2!N61+CSVデータ3!N61+CSVデータ4!N61","v":0},null,{"$f":"CSVデータ1!P61+CSVデータ2!P61+CSVデータ3!P61+CSVデータ4!P61","v":0},null,{"$f":"CSVデータ1!R61+CSVデータ2!R61+CSVデータ3!R61+CSVデータ4!R61","v":0},null,{"$f":"CSVデータ1!T61+CSVデータ2!T61+CSVデータ3!T61+CSVデータ4!T61","v":0},null,{"$f":"CSVデータ1!V61+CSVデータ2!V61+CSVデータ3!V61+CSVデータ4!V61","v":0},null,{"$f":"CSVデータ1!X61+CSVデータ2!X61+CSVデータ3!X61+CSVデータ4!X61","v":0},null,{"$f":"CSVデータ1!Z61+CSVデータ2!Z61+CSVデータ3!Z61+CSVデータ4!Z61","v":0},null,{"$f":"CSVデータ1!AB61+CSVデータ2!AB61+CSVデータ3!AB61+CSVデータ4!AB61","v":0},null,{"$f":"CSVデータ1!AD61+CSVデータ2!AD61+CSVデータ3!AD61+CSVデータ4!AD61","v":0},null,{"$f":"CSVデータ1!AF61+CSVデータ2!AF61+CSVデータ3!AF61+CSVデータ4!AF61","v":0}]
[{"$f":"CSVデータ1!A62","v":"明細部"},{"$f":"CSVデータ1!B62","v":"国"},{"$f":"CSVデータ1!C62","v":63},{"$f":"CSVデータ1!D62","v":"女"},{"$f":"CSVデータ1!E62+CSVデータ2!E62+CSVデータ3!E62+CSVデータ4!E62","v":0},{"$f":"CSVデータ1!F62+CSVデータ2!F62+CSVデータ3!F62+CSVデータ4!F62","v":0},null,{"$f":"CSVデータ1!H62+CSVデータ2!H62+CSVデータ3!H62+CSVデータ4!H62","v":0},null,{"$f":"CSVデータ1!J62+CSVデータ2!J62+CSVデータ3!J62+CSVデータ4!J62","v":0},null,{"$f":"CSVデータ1!L62+CSVデータ2!L62+CSVデータ3!L62+CSVデータ4!L62","v":0},null,{"$f":"CSVデータ1!N62+CSVデータ2!N62+CSVデータ3!N62+CSVデータ4!N62","v":0},null,{"$f":"CSVデータ1!P62+CSVデータ2!P62+CSVデータ3!P62+CSVデータ4!P62","v":0},null,{"$f":"CSVデータ1!R62+CSVデータ2!R62+CSVデータ3!R62+CSVデータ4!R62","v":0},null,{"$f":"CSVデータ1!T62+CSVデータ2!T62+CSVデータ3!T62+CSVデータ4!T62","v":0},null,{"$f":"CSVデータ1!V62+CSVデータ2!V62+CSVデータ3!V62+CSVデータ4!V62","v":0},null,{"$f":"CSVデータ1!X62+CSVデータ2!X62+CSVデータ3!X62+CSVデータ4!X62","v":0},null,{"$f":"CSVデータ1!Z62+CSVデータ2!Z62+CSVデータ3!Z62+CSVデータ4!Z62","v":0},null,{"$f":"CSVデータ1!AB62+CSVデータ2!AB62+CSVデータ3!AB62+CSVデータ4!AB62","v":0},null,{"$f":"CSVデータ1!AD62+CSVデータ2!AD62+CSVデータ3!AD62+CSVデータ4!AD62","v":0},null,{"$f":"CSVデータ1!AF62+CSVデータ2!AF62+CSVデータ3!AF62+CSVデータ4!AF62","v":0}]
[{"$f":"CSVデータ1!A63","v":"明細部"},{"$f":"CSVデータ1!B63","v":"国"},{"$f":"CSVデータ1!C63","v":64},{"$f":"CSVデータ1!D63","v":"女"},{"$f":"CSVデータ1!E63+CSVデータ2!E63+CSVデータ3!E63+CSVデータ4!E63","v":0},{"$f":"CSVデータ1!F63+CSVデータ2!F63+CSVデータ3!F63+CSVデータ4!F63","v":0},null,{"$f":"CSVデータ1!H63+CSVデータ2!H63+CSVデータ3!H63+CSVデータ4!H63","v":0},null,{"$f":"CSVデータ1!J63+CSVデータ2!J63+CSVデータ3!J63+CSVデータ4!J63","v":0},null,{"$f":"CSVデータ1!L63+CSVデータ2!L63+CSVデータ3!L63+CSVデータ4!L63","v":0},null,{"$f":"CSVデータ1!N63+CSVデータ2!N63+CSVデータ3!N63+CSVデータ4!N63","v":0},null,{"$f":"CSVデータ1!P63+CSVデータ2!P63+CSVデータ3!P63+CSVデータ4!P63","v":0},null,{"$f":"CSVデータ1!R63+CSVデータ2!R63+CSVデータ3!R63+CSVデータ4!R63","v":0},null,{"$f":"CSVデータ1!T63+CSVデータ2!T63+CSVデータ3!T63+CSVデータ4!T63","v":0},null,{"$f":"CSVデータ1!V63+CSVデータ2!V63+CSVデータ3!V63+CSVデータ4!V63","v":0},null,{"$f":"CSVデータ1!X63+CSVデータ2!X63+CSVデータ3!X63+CSVデータ4!X63","v":0},null,{"$f":"CSVデータ1!Z63+CSVデータ2!Z63+CSVデータ3!Z63+CSVデータ4!Z63","v":0},null,{"$f":"CSVデータ1!AB63+CSVデータ2!AB63+CSVデータ3!AB63+CSVデータ4!AB63","v":0},null,{"$f":"CSVデータ1!AD63+CSVデータ2!AD63+CSVデータ3!AD63+CSVデータ4!AD63","v":0},null,{"$f":"CSVデータ1!AF63+CSVデータ2!AF63+CSVデータ3!AF63+CSVデータ4!AF63","v":0}]
[{"$f":"CSVデータ1!A64","v":"明細部"},{"$f":"CSVデータ1!B64","v":"国"},{"$f":"CSVデータ1!C64","v":65},{"$f":"CSVデータ1!D64","v":"女"},{"$f":"CSVデータ1!E64+CSVデータ2!E64+CSVデータ3!E64+CSVデータ4!E64","v":0},{"$f":"CSVデータ1!F64+CSVデータ2!F64+CSVデータ3!F64+CSVデータ4!F64","v":0},null,{"$f":"CSVデータ1!H64+CSVデータ2!H64+CSVデータ3!H64+CSVデータ4!H64","v":0},null,{"$f":"CSVデータ1!J64+CSVデータ2!J64+CSVデータ3!J64+CSVデータ4!J64","v":0},null,{"$f":"CSVデータ1!L64+CSVデータ2!L64+CSVデータ3!L64+CSVデータ4!L64","v":0},null,{"$f":"CSVデータ1!N64+CSVデータ2!N64+CSVデータ3!N64+CSVデータ4!N64","v":0},null,{"$f":"CSVデータ1!P64+CSVデータ2!P64+CSVデータ3!P64+CSVデータ4!P64","v":0},null,{"$f":"CSVデータ1!R64+CSVデータ2!R64+CSVデータ3!R64+CSVデータ4!R64","v":0},null,{"$f":"CSVデータ1!T64+CSVデータ2!T64+CSVデータ3!T64+CSVデータ4!T64","v":0},null,{"$f":"CSVデータ1!V64+CSVデータ2!V64+CSVデータ3!V64+CSVデータ4!V64","v":0},null,{"$f":"CSVデータ1!X64+CSVデータ2!X64+CSVデータ3!X64+CSVデータ4!X64","v":0},null,{"$f":"CSVデータ1!Z64+CSVデータ2!Z64+CSVデータ3!Z64+CSVデータ4!Z64","v":0},null,{"$f":"CSVデータ1!AB64+CSVデータ2!AB64+CSVデータ3!AB64+CSVデータ4!AB64","v":0},null,{"$f":"CSVデータ1!AD64+CSVデータ2!AD64+CSVデータ3!AD64+CSVデータ4!AD64","v":0},null,{"$f":"CSVデータ1!AF64+CSVデータ2!AF64+CSVデータ3!AF64+CSVデータ4!AF64","v":0}]
[{"$f":"CSVデータ1!A65","v":"明細部"},{"$f":"CSVデータ1!B65","v":"国"},{"$f":"CSVデータ1!C65","v":66},{"$f":"CSVデータ1!D65","v":"女"},{"$f":"CSVデータ1!E65+CSVデータ2!E65+CSVデータ3!E65+CSVデータ4!E65","v":0},{"$f":"CSVデータ1!F65+CSVデータ2!F65+CSVデータ3!F65+CSVデータ4!F65","v":0},null,{"$f":"CSVデータ1!H65+CSVデータ2!H65+CSVデータ3!H65+CSVデータ4!H65","v":0},null,{"$f":"CSVデータ1!J65+CSVデータ2!J65+CSVデータ3!J65+CSVデータ4!J65","v":0},null,{"$f":"CSVデータ1!L65+CSVデータ2!L65+CSVデータ3!L65+CSVデータ4!L65","v":0},null,{"$f":"CSVデータ1!N65+CSVデータ2!N65+CSVデータ3!N65+CSVデータ4!N65","v":0},null,{"$f":"CSVデータ1!P65+CSVデータ2!P65+CSVデータ3!P65+CSVデータ4!P65","v":0},null,{"$f":"CSVデータ1!R65+CSVデータ2!R65+CSVデータ3!R65+CSVデータ4!R65","v":0},null,{"$f":"CSVデータ1!T65+CSVデータ2!T65+CSVデータ3!T65+CSVデータ4!T65","v":0},null,{"$f":"CSVデータ1!V65+CSVデータ2!V65+CSVデータ3!V65+CSVデータ4!V65","v":0},null,{"$f":"CSVデータ1!X65+CSVデータ2!X65+CSVデータ3!X65+CSVデータ4!X65","v":0},null,{"$f":"CSVデータ1!Z65+CSVデータ2!Z65+CSVデータ3!Z65+CSVデータ4!Z65","v":0},null,{"$f":"CSVデータ1!AB65+CSVデータ2!AB65+CSVデータ3!AB65+CSVデータ4!AB65","v":0},null,{"$f":"CSVデータ1!AD65+CSVデータ2!AD65+CSVデータ3!AD65+CSVデータ4!AD65","v":0},null,{"$f":"CSVデータ1!AF65+CSVデータ2!AF65+CSVデータ3!AF65+CSVデータ4!AF65","v":0}]
[{"$f":"CSVデータ1!A66","v":"明細部"},{"$f":"CSVデータ1!B66","v":"国"},{"$f":"CSVデータ1!C66","v":67},{"$f":"CSVデータ1!D66","v":"女"},{"$f":"CSVデータ1!E66+CSVデータ2!E66+CSVデータ3!E66+CSVデータ4!E66","v":0},{"$f":"CSVデータ1!F66+CSVデータ2!F66+CSVデータ3!F66+CSVデータ4!F66","v":0},null,{"$f":"CSVデータ1!H66+CSVデータ2!H66+CSVデータ3!H66+CSVデータ4!H66","v":0},null,{"$f":"CSVデータ1!J66+CSVデータ2!J66+CSVデータ3!J66+CSVデータ4!J66","v":0},null,{"$f":"CSVデータ1!L66+CSVデータ2!L66+CSVデータ3!L66+CSVデータ4!L66","v":0},null,{"$f":"CSVデータ1!N66+CSVデータ2!N66+CSVデータ3!N66+CSVデータ4!N66","v":0},null,{"$f":"CSVデータ1!P66+CSVデータ2!P66+CSVデータ3!P66+CSVデータ4!P66","v":0},null,{"$f":"CSVデータ1!R66+CSVデータ2!R66+CSVデータ3!R66+CSVデータ4!R66","v":0},null,{"$f":"CSVデータ1!T66+CSVデータ2!T66+CSVデータ3!T66+CSVデータ4!T66","v":0},null,{"$f":"CSVデータ1!V66+CSVデータ2!V66+CSVデータ3!V66+CSVデータ4!V66","v":0},null,{"$f":"CSVデータ1!X66+CSVデータ2!X66+CSVデータ3!X66+CSVデータ4!X66","v":0},null,{"$f":"CSVデータ1!Z66+CSVデータ2!Z66+CSVデータ3!Z66+CSVデータ4!Z66","v":0},null,{"$f":"CSVデータ1!AB66+CSVデータ2!AB66+CSVデータ3!AB66+CSVデータ4!AB66","v":0},null,{"$f":"CSVデータ1!AD66+CSVデータ2!AD66+CSVデータ3!AD66+CSVデータ4!AD66","v":0},null,{"$f":"CSVデータ1!AF66+CSVデータ2!AF66+CSVデータ3!AF66+CSVデータ4!AF66","v":0}]
[{"$f":"CSVデータ1!A67","v":"明細部"},{"$f":"CSVデータ1!B67","v":"国"},{"$f":"CSVデータ1!C67","v":68},{"$f":"CSVデータ1!D67","v":"女"},{"$f":"CSVデータ1!E67+CSVデータ2!E67+CSVデータ3!E67+CSVデータ4!E67","v":0},{"$f":"CSVデータ1!F67+CSVデータ2!F67+CSVデータ3!F67+CSVデータ4!F67","v":0},null,{"$f":"CSVデータ1!H67+CSVデータ2!H67+CSVデータ3!H67+CSVデータ4!H67","v":0},null,{"$f":"CSVデータ1!J67+CSVデータ2!J67+CSVデータ3!J67+CSVデータ4!J67","v":0},null,{"$f":"CSVデータ1!L67+CSVデータ2!L67+CSVデータ3!L67+CSVデータ4!L67","v":0},null,{"$f":"CSVデータ1!N67+CSVデータ2!N67+CSVデータ3!N67+CSVデータ4!N67","v":0},null,{"$f":"CSVデータ1!P67+CSVデータ2!P67+CSVデータ3!P67+CSVデータ4!P67","v":0},null,{"$f":"CSVデータ1!R67+CSVデータ2!R67+CSVデータ3!R67+CSVデータ4!R67","v":0},null,{"$f":"CSVデータ1!T67+CSVデータ2!T67+CSVデータ3!T67+CSVデータ4!T67","v":0},null,{"$f":"CSVデータ1!V67+CSVデータ2!V67+CSVデータ3!V67+CSVデータ4!V67","v":0},null,{"$f":"CSVデータ1!X67+CSVデータ2!X67+CSVデータ3!X67+CSVデータ4!X67","v":0},null,{"$f":"CSVデータ1!Z67+CSVデータ2!Z67+CSVデータ3!Z67+CSVデータ4!Z67","v":0},null,{"$f":"CSVデータ1!AB67+CSVデータ2!AB67+CSVデータ3!AB67+CSVデータ4!AB67","v":0},null,{"$f":"CSVデータ1!AD67+CSVデータ2!AD67+CSVデータ3!AD67+CSVデータ4!AD67","v":0},null,{"$f":"CSVデータ1!AF67+CSVデータ2!AF67+CSVデータ3!AF67+CSVデータ4!AF67","v":0}]
[{"$f":"CSVデータ1!A68","v":"明細部"},{"$f":"CSVデータ1!B68","v":"国"},{"$f":"CSVデータ1!C68","v":69},{"$f":"CSVデータ1!D68","v":"女"},{"$f":"CSVデータ1!E68+CSVデータ2!E68+CSVデータ3!E68+CSVデータ4!E68","v":0},{"$f":"CSVデータ1!F68+CSVデータ2!F68+CSVデータ3!F68+CSVデータ4!F68","v":0},null,{"$f":"CSVデータ1!H68+CSVデータ2!H68+CSVデータ3!H68+CSVデータ4!H68","v":0},null,{"$f":"CSVデータ1!J68+CSVデータ2!J68+CSVデータ3!J68+CSVデータ4!J68","v":0},null,{"$f":"CSVデータ1!L68+CSVデータ2!L68+CSVデータ3!L68+CSVデータ4!L68","v":0},null,{"$f":"CSVデータ1!N68+CSVデータ2!N68+CSVデータ3!N68+CSVデータ4!N68","v":0},null,{"$f":"CSVデータ1!P68+CSVデータ2!P68+CSVデータ3!P68+CSVデータ4!P68","v":0},null,{"$f":"CSVデータ1!R68+CSVデータ2!R68+CSVデータ3!R68+CSVデータ4!R68","v":0},null,{"$f":"CSVデータ1!T68+CSVデータ2!T68+CSVデータ3!T68+CSVデータ4!T68","v":0},null,{"$f":"CSVデータ1!V68+CSVデータ2!V68+CSVデータ3!V68+CSVデータ4!V68","v":0},null,{"$f":"CSVデータ1!X68+CSVデータ2!X68+CSVデータ3!X68+CSVデータ4!X68","v":0},null,{"$f":"CSVデータ1!Z68+CSVデータ2!Z68+CSVデータ3!Z68+CSVデータ4!Z68","v":0},null,{"$f":"CSVデータ1!AB68+CSVデータ2!AB68+CSVデータ3!AB68+CSVデータ4!AB68","v":0},null,{"$f":"CSVデータ1!AD68+CSVデータ2!AD68+CSVデータ3!AD68+CSVデータ4!AD68","v":0},null,{"$f":"CSVデータ1!AF68+CSVデータ2!AF68+CSVデータ3!AF68+CSVデータ4!AF68","v":0}]
[{"$f":"CSVデータ1!A69","v":"明細部"},{"$f":"CSVデータ1!B69","v":"国"},{"$f":"CSVデータ1!C69","v":70},{"$f":"CSVデータ1!D69","v":"女"},{"$f":"CSVデータ1!E69+CSVデータ2!E69+CSVデータ3!E69+CSVデータ4!E69","v":0},{"$f":"CSVデータ1!F69+CSVデータ2!F69+CSVデータ3!F69+CSVデータ4!F69","v":0},null,{"$f":"CSVデータ1!H69+CSVデータ2!H69+CSVデータ3!H69+CSVデータ4!H69","v":0},null,{"$f":"CSVデータ1!J69+CSVデータ2!J69+CSVデータ3!J69+CSVデータ4!J69","v":0},null,{"$f":"CSVデータ1!L69+CSVデータ2!L69+CSVデータ3!L69+CSVデータ4!L69","v":0},null,{"$f":"CSVデータ1!N69+CSVデータ2!N69+CSVデータ3!N69+CSVデータ4!N69","v":0},null,{"$f":"CSVデータ1!P69+CSVデータ2!P69+CSVデータ3!P69+CSVデータ4!P69","v":0},null,{"$f":"CSVデータ1!R69+CSVデータ2!R69+CSVデータ3!R69+CSVデータ4!R69","v":0},null,{"$f":"CSVデータ1!T69+CSVデータ2!T69+CSVデータ3!T69+CSVデータ4!T69","v":0},null,{"$f":"CSVデータ1!V69+CSVデータ2!V69+CSVデータ3!V69+CSVデータ4!V69","v":0},null,{"$f":"CSVデータ1!X69+CSVデータ2!X69+CSVデータ3!X69+CSVデータ4!X69","v":0},null,{"$f":"CSVデータ1!Z69+CSVデータ2!Z69+CSVデータ3!Z69+CSVデータ4!Z69","v":0},null,{"$f":"CSVデータ1!AB69+CSVデータ2!AB69+CSVデータ3!AB69+CSVデータ4!AB69","v":0},null,{"$f":"CSVデータ1!AD69+CSVデータ2!AD69+CSVデータ3!AD69+CSVデータ4!AD69","v":0},null,{"$f":"CSVデータ1!AF69+CSVデータ2!AF69+CSVデータ3!AF69+CSVデータ4!AF69","v":0}]
[{"$f":"CSVデータ1!A70","v":"明細部"},{"$f":"CSVデータ1!B70","v":"国"},{"$f":"CSVデータ1!C70","v":71},{"$f":"CSVデータ1!D70","v":"女"},{"$f":"CSVデータ1!E70+CSVデータ2!E70+CSVデータ3!E70+CSVデータ4!E70","v":0},{"$f":"CSVデータ1!F70+CSVデータ2!F70+CSVデータ3!F70+CSVデータ4!F70","v":0},null,{"$f":"CSVデータ1!H70+CSVデータ2!H70+CSVデータ3!H70+CSVデータ4!H70","v":0},null,{"$f":"CSVデータ1!J70+CSVデータ2!J70+CSVデータ3!J70+CSVデータ4!J70","v":0},null,{"$f":"CSVデータ1!L70+CSVデータ2!L70+CSVデータ3!L70+CSVデータ4!L70","v":0},null,{"$f":"CSVデータ1!N70+CSVデータ2!N70+CSVデータ3!N70+CSVデータ4!N70","v":0},null,{"$f":"CSVデータ1!P70+CSVデータ2!P70+CSVデータ3!P70+CSVデータ4!P70","v":0},null,{"$f":"CSVデータ1!R70+CSVデータ2!R70+CSVデータ3!R70+CSVデータ4!R70","v":0},null,{"$f":"CSVデータ1!T70+CSVデータ2!T70+CSVデータ3!T70+CSVデータ4!T70","v":0},null,{"$f":"CSVデータ1!V70+CSVデータ2!V70+CSVデータ3!V70+CSVデータ4!V70","v":0},null,{"$f":"CSVデータ1!X70+CSVデータ2!X70+CSVデータ3!X70+CSVデータ4!X70","v":0},null,{"$f":"CSVデータ1!Z70+CSVデータ2!Z70+CSVデータ3!Z70+CSVデータ4!Z70","v":0},null,{"$f":"CSVデータ1!AB70+CSVデータ2!AB70+CSVデータ3!AB70+CSVデータ4!AB70","v":0},null,{"$f":"CSVデータ1!AD70+CSVデータ2!AD70+CSVデータ3!AD70+CSVデータ4!AD70","v":0},null,{"$f":"CSVデータ1!AF70+CSVデータ2!AF70+CSVデータ3!AF70+CSVデータ4!AF70","v":0}]
[{"$f":"CSVデータ1!A71","v":"明細部"},{"$f":"CSVデータ1!B71","v":"国"},{"$f":"CSVデータ1!C71","v":72},{"$f":"CSVデータ1!D71","v":"女"},{"$f":"CSVデータ1!E71+CSVデータ2!E71+CSVデータ3!E71+CSVデータ4!E71","v":0},{"$f":"CSVデータ1!F71+CSVデータ2!F71+CSVデータ3!F71+CSVデータ4!F71","v":0},null,{"$f":"CSVデータ1!H71+CSVデータ2!H71+CSVデータ3!H71+CSVデータ4!H71","v":0},null,{"$f":"CSVデータ1!J71+CSVデータ2!J71+CSVデータ3!J71+CSVデータ4!J71","v":0},null,{"$f":"CSVデータ1!L71+CSVデータ2!L71+CSVデータ3!L71+CSVデータ4!L71","v":0},null,{"$f":"CSVデータ1!N71+CSVデータ2!N71+CSVデータ3!N71+CSVデータ4!N71","v":0},null,{"$f":"CSVデータ1!P71+CSVデータ2!P71+CSVデータ3!P71+CSVデータ4!P71","v":0},null,{"$f":"CSVデータ1!R71+CSVデータ2!R71+CSVデータ3!R71+CSVデータ4!R71","v":0},null,{"$f":"CSVデータ1!T71+CSVデータ2!T71+CSVデータ3!T71+CSVデータ4!T71","v":0},null,{"$f":"CSVデータ1!V71+CSVデータ2!V71+CSVデータ3!V71+CSVデータ4!V71","v":0},null,{"$f":"CSVデータ1!X71+CSVデータ2!X71+CSVデータ3!X71+CSVデータ4!X71","v":0},null,{"$f":"CSVデータ1!Z71+CSVデータ2!Z71+CSVデータ3!Z71+CSVデータ4!Z71","v":0},null,{"$f":"CSVデータ1!AB71+CSVデータ2!AB71+CSVデータ3!AB71+CSVデータ4!AB71","v":0},null,{"$f":"CSVデータ1!AD71+CSVデータ2!AD71+CSVデータ3!AD71+CSVデータ4!AD71","v":0},null,{"$f":"CSVデータ1!AF71+CSVデータ2!AF71+CSVデータ3!AF71+CSVデータ4!AF71","v":0}]
[{"$f":"CSVデータ1!A72","v":"明細部"},{"$f":"CSVデータ1!B72","v":"国"},{"$f":"CSVデータ1!C72","v":73},{"$f":"CSVデータ1!D72","v":"女"},{"$f":"CSVデータ1!E72+CSVデータ2!E72+CSVデータ3!E72+CSVデータ4!E72","v":0},{"$f":"CSVデータ1!F72+CSVデータ2!F72+CSVデータ3!F72+CSVデータ4!F72","v":0},null,{"$f":"CSVデータ1!H72+CSVデータ2!H72+CSVデータ3!H72+CSVデータ4!H72","v":0},null,{"$f":"CSVデータ1!J72+CSVデータ2!J72+CSVデータ3!J72+CSVデータ4!J72","v":0},null,{"$f":"CSVデータ1!L72+CSVデータ2!L72+CSVデータ3!L72+CSVデータ4!L72","v":0},null,{"$f":"CSVデータ1!N72+CSVデータ2!N72+CSVデータ3!N72+CSVデータ4!N72","v":0},null,{"$f":"CSVデータ1!P72+CSVデータ2!P72+CSVデータ3!P72+CSVデータ4!P72","v":0},null,{"$f":"CSVデータ1!R72+CSVデータ2!R72+CSVデータ3!R72+CSVデータ4!R72","v":0},null,{"$f":"CSVデータ1!T72+CSVデータ2!T72+CSVデータ3!T72+CSVデータ4!T72","v":0},null,{"$f":"CSVデータ1!V72+CSVデータ2!V72+CSVデータ3!V72+CSVデータ4!V72","v":0},null,{"$f":"CSVデータ1!X72+CSVデータ2!X72+CSVデータ3!X72+CSVデータ4!X72","v":0},null,{"$f":"CSVデータ1!Z72+CSVデータ2!Z72+CSVデータ3!Z72+CSVデータ4!Z72","v":0},null,{"$f":"CSVデータ1!AB72+CSVデータ2!AB72+CSVデータ3!AB72+CSVデータ4!AB72","v":0},null,{"$f":"CSVデータ1!AD72+CSVデータ2!AD72+CSVデータ3!AD72+CSVデータ4!AD72","v":0},null,{"$f":"CSVデータ1!AF72+CSVデータ2!AF72+CSVデータ3!AF72+CSVデータ4!AF72","v":0}]
[{"$f":"CSVデータ1!A73","v":"明細部"},{"$f":"CSVデータ1!B73","v":"国"},{"$f":"CSVデータ1!C73","v":74},{"$f":"CSVデータ1!D73","v":"女"},{"$f":"CSVデータ1!E73+CSVデータ2!E73+CSVデータ3!E73+CSVデータ4!E73","v":0},{"$f":"CSVデータ1!F73+CSVデータ2!F73+CSVデータ3!F73+CSVデータ4!F73","v":0},null,{"$f":"CSVデータ1!H73+CSVデータ2!H73+CSVデータ3!H73+CSVデータ4!H73","v":0},null,{"$f":"CSVデータ1!J73+CSVデータ2!J73+CSVデータ3!J73+CSVデータ4!J73","v":0},null,{"$f":"CSVデータ1!L73+CSVデータ2!L73+CSVデータ3!L73+CSVデータ4!L73","v":0},null,{"$f":"CSVデータ1!N73+CSVデータ2!N73+CSVデータ3!N73+CSVデータ4!N73","v":0},null,{"$f":"CSVデータ1!P73+CSVデータ2!P73+CSVデータ3!P73+CSVデータ4!P73","v":0},null,{"$f":"CSVデータ1!R73+CSVデータ2!R73+CSVデータ3!R73+CSVデータ4!R73","v":0},null,{"$f":"CSVデータ1!T73+CSVデータ2!T73+CSVデータ3!T73+CSVデータ4!T73","v":0},null,{"$f":"CSVデータ1!V73+CSVデータ2!V73+CSVデータ3!V73+CSVデータ4!V73","v":0},null,{"$f":"CSVデータ1!X73+CSVデータ2!X73+CSVデータ3!X73+CSVデータ4!X73","v":0},null,{"$f":"CSVデータ1!Z73+CSVデータ2!Z73+CSVデータ3!Z73+CSVデータ4!Z73","v":0},null,{"$f":"CSVデータ1!AB73+CSVデータ2!AB73+CSVデータ3!AB73+CSVデータ4!AB73","v":0},null,{"$f":"CSVデータ1!AD73+CSVデータ2!AD73+CSVデータ3!AD73+CSVデータ4!AD73","v":0},null,{"$f":"CSVデータ1!AF73+CSVデータ2!AF73+CSVデータ3!AF73+CSVデータ4!AF73","v":0}]
[{"$f":"CSVデータ1!A74","v":"明細部"},{"$f":"CSVデータ1!B74","v":"県"},{"$f":"CSVデータ1!C74","v":40},{"$f":"CSVデータ1!D74","v":"男"},{"$f":"CSVデータ1!E74+CSVデータ2!E74+CSVデータ3!E74+CSVデータ4!E74","v":0},{"$f":"CSVデータ1!F74+CSVデータ2!F74+CSVデータ3!F74+CSVデータ4!F74","v":0},null,{"$f":"CSVデータ1!H74+CSVデータ2!H74+CSVデータ3!H74+CSVデータ4!H74","v":0},null,{"$f":"CSVデータ1!J74+CSVデータ2!J74+CSVデータ3!J74+CSVデータ4!J74","v":0},null,{"$f":"CSVデータ1!L74+CSVデータ2!L74+CSVデータ3!L74+CSVデータ4!L74","v":0},null,{"$f":"CSVデータ1!N74+CSVデータ2!N74+CSVデータ3!N74+CSVデータ4!N74","v":0},null,{"$f":"CSVデータ1!P74+CSVデータ2!P74+CSVデータ3!P74+CSVデータ4!P74","v":0},null,{"$f":"CSVデータ1!R74+CSVデータ2!R74+CSVデータ3!R74+CSVデータ4!R74","v":0},null,{"$f":"CSVデータ1!T74+CSVデータ2!T74+CSVデータ3!T74+CSVデータ4!T74","v":0},null,{"$f":"CSVデータ1!V74+CSVデータ2!V74+CSVデータ3!V74+CSVデータ4!V74","v":0},null,{"$f":"CSVデータ1!X74+CSVデータ2!X74+CSVデータ3!X74+CSVデータ4!X74","v":0},null,{"$f":"CSVデータ1!Z74+CSVデータ2!Z74+CSVデータ3!Z74+CSVデータ4!Z74","v":0},null,{"$f":"CSVデータ1!AB74+CSVデータ2!AB74+CSVデータ3!AB74+CSVデータ4!AB74","v":0},null,{"$f":"CSVデータ1!AD74+CSVデータ2!AD74+CSVデータ3!AD74+CSVデータ4!AD74","v":0},null,{"$f":"CSVデータ1!AF74+CSVデータ2!AF74+CSVデータ3!AF74+CSVデータ4!AF74","v":0}]
[{"$f":"CSVデータ1!A75","v":"明細部"},{"$f":"CSVデータ1!B75","v":"県"},{"$f":"CSVデータ1!C75","v":41},{"$f":"CSVデータ1!D75","v":"男"},{"$f":"CSVデータ1!E75+CSVデータ2!E75+CSVデータ3!E75+CSVデータ4!E75","v":0},{"$f":"CSVデータ1!F75+CSVデータ2!F75+CSVデータ3!F75+CSVデータ4!F75","v":0},null,{"$f":"CSVデータ1!H75+CSVデータ2!H75+CSVデータ3!H75+CSVデータ4!H75","v":0},null,{"$f":"CSVデータ1!J75+CSVデータ2!J75+CSVデータ3!J75+CSVデータ4!J75","v":0},null,{"$f":"CSVデータ1!L75+CSVデータ2!L75+CSVデータ3!L75+CSVデータ4!L75","v":0},null,{"$f":"CSVデータ1!N75+CSVデータ2!N75+CSVデータ3!N75+CSVデータ4!N75","v":0},null,{"$f":"CSVデータ1!P75+CSVデータ2!P75+CSVデータ3!P75+CSVデータ4!P75","v":0},null,{"$f":"CSVデータ1!R75+CSVデータ2!R75+CSVデータ3!R75+CSVデータ4!R75","v":0},null,{"$f":"CSVデータ1!T75+CSVデータ2!T75+CSVデータ3!T75+CSVデータ4!T75","v":0},null,{"$f":"CSVデータ1!V75+CSVデータ2!V75+CSVデータ3!V75+CSVデータ4!V75","v":0},null,{"$f":"CSVデータ1!X75+CSVデータ2!X75+CSVデータ3!X75+CSVデータ4!X75","v":0},null,{"$f":"CSVデータ1!Z75+CSVデータ2!Z75+CSVデータ3!Z75+CSVデータ4!Z75","v":0},null,{"$f":"CSVデータ1!AB75+CSVデータ2!AB75+CSVデータ3!AB75+CSVデータ4!AB75","v":0},null,{"$f":"CSVデータ1!AD75+CSVデータ2!AD75+CSVデータ3!AD75+CSVデータ4!AD75","v":0},null,{"$f":"CSVデータ1!AF75+CSVデータ2!AF75+CSVデータ3!AF75+CSVデータ4!AF75","v":0}]
[{"$f":"CSVデータ1!A76","v":"明細部"},{"$f":"CSVデータ1!B76","v":"県"},{"$f":"CSVデータ1!C76","v":42},{"$f":"CSVデータ1!D76","v":"男"},{"$f":"CSVデータ1!E76+CSVデータ2!E76+CSVデータ3!E76+CSVデータ4!E76","v":0},{"$f":"CSVデータ1!F76+CSVデータ2!F76+CSVデータ3!F76+CSVデータ4!F76","v":0},null,{"$f":"CSVデータ1!H76+CSVデータ2!H76+CSVデータ3!H76+CSVデータ4!H76","v":0},null,{"$f":"CSVデータ1!J76+CSVデータ2!J76+CSVデータ3!J76+CSVデータ4!J76","v":0},null,{"$f":"CSVデータ1!L76+CSVデータ2!L76+CSVデータ3!L76+CSVデータ4!L76","v":0},null,{"$f":"CSVデータ1!N76+CSVデータ2!N76+CSVデータ3!N76+CSVデータ4!N76","v":0},null,{"$f":"CSVデータ1!P76+CSVデータ2!P76+CSVデータ3!P76+CSVデータ4!P76","v":0},null,{"$f":"CSVデータ1!R76+CSVデータ2!R76+CSVデータ3!R76+CSVデータ4!R76","v":0},null,{"$f":"CSVデータ1!T76+CSVデータ2!T76+CSVデータ3!T76+CSVデータ4!T76","v":0},null,{"$f":"CSVデータ1!V76+CSVデータ2!V76+CSVデータ3!V76+CSVデータ4!V76","v":0},null,{"$f":"CSVデータ1!X76+CSVデータ2!X76+CSVデータ3!X76+CSVデータ4!X76","v":0},null,{"$f":"CSVデータ1!Z76+CSVデータ2!Z76+CSVデータ3!Z76+CSVデータ4!Z76","v":0},null,{"$f":"CSVデータ1!AB76+CSVデータ2!AB76+CSVデータ3!AB76+CSVデータ4!AB76","v":0},null,{"$f":"CSVデータ1!AD76+CSVデータ2!AD76+CSVデータ3!AD76+CSVデータ4!AD76","v":0},null,{"$f":"CSVデータ1!AF76+CSVデータ2!AF76+CSVデータ3!AF76+CSVデータ4!AF76","v":0}]
[{"$f":"CSVデータ1!A77","v":"明細部"},{"$f":"CSVデータ1!B77","v":"県"},{"$f":"CSVデータ1!C77","v":43},{"$f":"CSVデータ1!D77","v":"男"},{"$f":"CSVデータ1!E77+CSVデータ2!E77+CSVデータ3!E77+CSVデータ4!E77","v":0},{"$f":"CSVデータ1!F77+CSVデータ2!F77+CSVデータ3!F77+CSVデータ4!F77","v":0},null,{"$f":"CSVデータ1!H77+CSVデータ2!H77+CSVデータ3!H77+CSVデータ4!H77","v":0},null,{"$f":"CSVデータ1!J77+CSVデータ2!J77+CSVデータ3!J77+CSVデータ4!J77","v":0},null,{"$f":"CSVデータ1!L77+CSVデータ2!L77+CSVデータ3!L77+CSVデータ4!L77","v":0},null,{"$f":"CSVデータ1!N77+CSVデータ2!N77+CSVデータ3!N77+CSVデータ4!N77","v":0},null,{"$f":"CSVデータ1!P77+CSVデータ2!P77+CSVデータ3!P77+CSVデータ4!P77","v":0},null,{"$f":"CSVデータ1!R77+CSVデータ2!R77+CSVデータ3!R77+CSVデータ4!R77","v":0},null,{"$f":"CSVデータ1!T77+CSVデータ2!T77+CSVデータ3!T77+CSVデータ4!T77","v":0},null,{"$f":"CSVデータ1!V77+CSVデータ2!V77+CSVデータ3!V77+CSVデータ4!V77","v":0},null,{"$f":"CSVデータ1!X77+CSVデータ2!X77+CSVデータ3!X77+CSVデータ4!X77","v":0},null,{"$f":"CSVデータ1!Z77+CSVデータ2!Z77+CSVデータ3!Z77+CSVデータ4!Z77","v":0},null,{"$f":"CSVデータ1!AB77+CSVデータ2!AB77+CSVデータ3!AB77+CSVデータ4!AB77","v":0},null,{"$f":"CSVデータ1!AD77+CSVデータ2!AD77+CSVデータ3!AD77+CSVデータ4!AD77","v":0},null,{"$f":"CSVデータ1!AF77+CSVデータ2!AF77+CSVデータ3!AF77+CSVデータ4!AF77","v":0}]
[{"$f":"CSVデータ1!A78","v":"明細部"},{"$f":"CSVデータ1!B78","v":"県"},{"$f":"CSVデータ1!C78","v":44},{"$f":"CSVデータ1!D78","v":"男"},{"$f":"CSVデータ1!E78+CSVデータ2!E78+CSVデータ3!E78+CSVデータ4!E78","v":0},{"$f":"CSVデータ1!F78+CSVデータ2!F78+CSVデータ3!F78+CSVデータ4!F78","v":0},null,{"$f":"CSVデータ1!H78+CSVデータ2!H78+CSVデータ3!H78+CSVデータ4!H78","v":0},null,{"$f":"CSVデータ1!J78+CSVデータ2!J78+CSVデータ3!J78+CSVデータ4!J78","v":0},null,{"$f":"CSVデータ1!L78+CSVデータ2!L78+CSVデータ3!L78+CSVデータ4!L78","v":0},null,{"$f":"CSVデータ1!N78+CSVデータ2!N78+CSVデータ3!N78+CSVデータ4!N78","v":0},null,{"$f":"CSVデータ1!P78+CSVデータ2!P78+CSVデータ3!P78+CSVデータ4!P78","v":0},null,{"$f":"CSVデータ1!R78+CSVデータ2!R78+CSVデータ3!R78+CSVデータ4!R78","v":0},null,{"$f":"CSVデータ1!T78+CSVデータ2!T78+CSVデータ3!T78+CSVデータ4!T78","v":0},null,{"$f":"CSVデータ1!V78+CSVデータ2!V78+CSVデータ3!V78+CSVデータ4!V78","v":0},null,{"$f":"CSVデータ1!X78+CSVデータ2!X78+CSVデータ3!X78+CSVデータ4!X78","v":0},null,{"$f":"CSVデータ1!Z78+CSVデータ2!Z78+CSVデータ3!Z78+CSVデータ4!Z78","v":0},null,{"$f":"CSVデータ1!AB78+CSVデータ2!AB78+CSVデータ3!AB78+CSVデータ4!AB78","v":0},null,{"$f":"CSVデータ1!AD78+CSVデータ2!AD78+CSVデータ3!AD78+CSVデータ4!AD78","v":0},null,{"$f":"CSVデータ1!AF78+CSVデータ2!AF78+CSVデータ3!AF78+CSVデータ4!AF78","v":0}]
[{"$f":"CSVデータ1!A79","v":"明細部"},{"$f":"CSVデータ1!B79","v":"県"},{"$f":"CSVデータ1!C79","v":45},{"$f":"CSVデータ1!D79","v":"男"},{"$f":"CSVデータ1!E79+CSVデータ2!E79+CSVデータ3!E79+CSVデータ4!E79","v":0},{"$f":"CSVデータ1!F79+CSVデータ2!F79+CSVデータ3!F79+CSVデータ4!F79","v":0},null,{"$f":"CSVデータ1!H79+CSVデータ2!H79+CSVデータ3!H79+CSVデータ4!H79","v":0},null,{"$f":"CSVデータ1!J79+CSVデータ2!J79+CSVデータ3!J79+CSVデータ4!J79","v":0},null,{"$f":"CSVデータ1!L79+CSVデータ2!L79+CSVデータ3!L79+CSVデータ4!L79","v":0},null,{"$f":"CSVデータ1!N79+CSVデータ2!N79+CSVデータ3!N79+CSVデータ4!N79","v":0},null,{"$f":"CSVデータ1!P79+CSVデータ2!P79+CSVデータ3!P79+CSVデータ4!P79","v":0},null,{"$f":"CSVデータ1!R79+CSVデータ2!R79+CSVデータ3!R79+CSVデータ4!R79","v":0},null,{"$f":"CSVデータ1!T79+CSVデータ2!T79+CSVデータ3!T79+CSVデータ4!T79","v":0},null,{"$f":"CSVデータ1!V79+CSVデータ2!V79+CSVデータ3!V79+CSVデータ4!V79","v":0},null,{"$f":"CSVデータ1!X79+CSVデータ2!X79+CSVデータ3!X79+CSVデータ4!X79","v":0},null,{"$f":"CSVデータ1!Z79+CSVデータ2!Z79+CSVデータ3!Z79+CSVデータ4!Z79","v":0},null,{"$f":"CSVデータ1!AB79+CSVデータ2!AB79+CSVデータ3!AB79+CSVデータ4!AB79","v":0},null,{"$f":"CSVデータ1!AD79+CSVデータ2!AD79+CSVデータ3!AD79+CSVデータ4!AD79","v":0},null,{"$f":"CSVデータ1!AF79+CSVデータ2!AF79+CSVデータ3!AF79+CSVデータ4!AF79","v":0}]
[{"$f":"CSVデータ1!A80","v":"明細部"},{"$f":"CSVデータ1!B80","v":"県"},{"$f":"CSVデータ1!C80","v":46},{"$f":"CSVデータ1!D80","v":"男"},{"$f":"CSVデータ1!E80+CSVデータ2!E80+CSVデータ3!E80+CSVデータ4!E80","v":0},{"$f":"CSVデータ1!F80+CSVデータ2!F80+CSVデータ3!F80+CSVデータ4!F80","v":0},null,{"$f":"CSVデータ1!H80+CSVデータ2!H80+CSVデータ3!H80+CSVデータ4!H80","v":0},null,{"$f":"CSVデータ1!J80+CSVデータ2!J80+CSVデータ3!J80+CSVデータ4!J80","v":0},null,{"$f":"CSVデータ1!L80+CSVデータ2!L80+CSVデータ3!L80+CSVデータ4!L80","v":0},null,{"$f":"CSVデータ1!N80+CSVデータ2!N80+CSVデータ3!N80+CSVデータ4!N80","v":0},null,{"$f":"CSVデータ1!P80+CSVデータ2!P80+CSVデータ3!P80+CSVデータ4!P80","v":0},null,{"$f":"CSVデータ1!R80+CSVデータ2!R80+CSVデータ3!R80+CSVデータ4!R80","v":0},null,{"$f":"CSVデータ1!T80+CSVデータ2!T80+CSVデータ3!T80+CSVデータ4!T80","v":0},null,{"$f":"CSVデータ1!V80+CSVデータ2!V80+CSVデータ3!V80+CSVデータ4!V80","v":0},null,{"$f":"CSVデータ1!X80+CSVデータ2!X80+CSVデータ3!X80+CSVデータ4!X80","v":0},null,{"$f":"CSVデータ1!Z80+CSVデータ2!Z80+CSVデータ3!Z80+CSVデータ4!Z80","v":0},null,{"$f":"CSVデータ1!AB80+CSVデータ2!AB80+CSVデータ3!AB80+CSVデータ4!AB80","v":0},null,{"$f":"CSVデータ1!AD80+CSVデータ2!AD80+CSVデータ3!AD80+CSVデータ4!AD80","v":0},null,{"$f":"CSVデータ1!AF80+CSVデータ2!AF80+CSVデータ3!AF80+CSVデータ4!AF80","v":0}]
[{"$f":"CSVデータ1!A81","v":"明細部"},{"$f":"CSVデータ1!B81","v":"県"},{"$f":"CSVデータ1!C81","v":47},{"$f":"CSVデータ1!D81","v":"男"},{"$f":"CSVデータ1!E81+CSVデータ2!E81+CSVデータ3!E81+CSVデータ4!E81","v":0},{"$f":"CSVデータ1!F81+CSVデータ2!F81+CSVデータ3!F81+CSVデータ4!F81","v":0},null,{"$f":"CSVデータ1!H81+CSVデータ2!H81+CSVデータ3!H81+CSVデータ4!H81","v":0},null,{"$f":"CSVデータ1!J81+CSVデータ2!J81+CSVデータ3!J81+CSVデータ4!J81","v":0},null,{"$f":"CSVデータ1!L81+CSVデータ2!L81+CSVデータ3!L81+CSVデータ4!L81","v":0},null,{"$f":"CSVデータ1!N81+CSVデータ2!N81+CSVデータ3!N81+CSVデータ4!N81","v":0},null,{"$f":"CSVデータ1!P81+CSVデータ2!P81+CSVデータ3!P81+CSVデータ4!P81","v":0},null,{"$f":"CSVデータ1!R81+CSVデータ2!R81+CSVデータ3!R81+CSVデータ4!R81","v":0},null,{"$f":"CSVデータ1!T81+CSVデータ2!T81+CSVデータ3!T81+CSVデータ4!T81","v":0},null,{"$f":"CSVデータ1!V81+CSVデータ2!V81+CSVデータ3!V81+CSVデータ4!V81","v":0},null,{"$f":"CSVデータ1!X81+CSVデータ2!X81+CSVデータ3!X81+CSVデータ4!X81","v":0},null,{"$f":"CSVデータ1!Z81+CSVデータ2!Z81+CSVデータ3!Z81+CSVデータ4!Z81","v":0},null,{"$f":"CSVデータ1!AB81+CSVデータ2!AB81+CSVデータ3!AB81+CSVデータ4!AB81","v":0},null,{"$f":"CSVデータ1!AD81+CSVデータ2!AD81+CSVデータ3!AD81+CSVデータ4!AD81","v":0},null,{"$f":"CSVデータ1!AF81+CSVデータ2!AF81+CSVデータ3!AF81+CSVデータ4!AF81","v":0}]
[{"$f":"CSVデータ1!A82","v":"明細部"},{"$f":"CSVデータ1!B82","v":"県"},{"$f":"CSVデータ1!C82","v":48},{"$f":"CSVデータ1!D82","v":"男"},{"$f":"CSVデータ1!E82+CSVデータ2!E82+CSVデータ3!E82+CSVデータ4!E82","v":0},{"$f":"CSVデータ1!F82+CSVデータ2!F82+CSVデータ3!F82+CSVデータ4!F82","v":0},null,{"$f":"CSVデータ1!H82+CSVデータ2!H82+CSVデータ3!H82+CSVデータ4!H82","v":0},null,{"$f":"CSVデータ1!J82+CSVデータ2!J82+CSVデータ3!J82+CSVデータ4!J82","v":0},null,{"$f":"CSVデータ1!L82+CSVデータ2!L82+CSVデータ3!L82+CSVデータ4!L82","v":0},null,{"$f":"CSVデータ1!N82+CSVデータ2!N82+CSVデータ3!N82+CSVデータ4!N82","v":0},null,{"$f":"CSVデータ1!P82+CSVデータ2!P82+CSVデータ3!P82+CSVデータ4!P82","v":0},null,{"$f":"CSVデータ1!R82+CSVデータ2!R82+CSVデータ3!R82+CSVデータ4!R82","v":0},null,{"$f":"CSVデータ1!T82+CSVデータ2!T82+CSVデータ3!T82+CSVデータ4!T82","v":0},null,{"$f":"CSVデータ1!V82+CSVデータ2!V82+CSVデータ3!V82+CSVデータ4!V82","v":0},null,{"$f":"CSVデータ1!X82+CSVデータ2!X82+CSVデータ3!X82+CSVデータ4!X82","v":0},null,{"$f":"CSVデータ1!Z82+CSVデータ2!Z82+CSVデータ3!Z82+CSVデータ4!Z82","v":0},null,{"$f":"CSVデータ1!AB82+CSVデータ2!AB82+CSVデータ3!AB82+CSVデータ4!AB82","v":0},null,{"$f":"CSVデータ1!AD82+CSVデータ2!AD82+CSVデータ3!AD82+CSVデータ4!AD82","v":0},null,{"$f":"CSVデータ1!AF82+CSVデータ2!AF82+CSVデータ3!AF82+CSVデータ4!AF82","v":0}]
[{"$f":"CSVデータ1!A83","v":"明細部"},{"$f":"CSVデータ1!B83","v":"県"},{"$f":"CSVデータ1!C83","v":49},{"$f":"CSVデータ1!D83","v":"男"},{"$f":"CSVデータ1!E83+CSVデータ2!E83+CSVデータ3!E83+CSVデータ4!E83","v":0},{"$f":"CSVデータ1!F83+CSVデータ2!F83+CSVデータ3!F83+CSVデータ4!F83","v":0},null,{"$f":"CSVデータ1!H83+CSVデータ2!H83+CSVデータ3!H83+CSVデータ4!H83","v":0},null,{"$f":"CSVデータ1!J83+CSVデータ2!J83+CSVデータ3!J83+CSVデータ4!J83","v":0},null,{"$f":"CSVデータ1!L83+CSVデータ2!L83+CSVデータ3!L83+CSVデータ4!L83","v":0},null,{"$f":"CSVデータ1!N83+CSVデータ2!N83+CSVデータ3!N83+CSVデータ4!N83","v":0},null,{"$f":"CSVデータ1!P83+CSVデータ2!P83+CSVデータ3!P83+CSVデータ4!P83","v":0},null,{"$f":"CSVデータ1!R83+CSVデータ2!R83+CSVデータ3!R83+CSVデータ4!R83","v":0},null,{"$f":"CSVデータ1!T83+CSVデータ2!T83+CSVデータ3!T83+CSVデータ4!T83","v":0},null,{"$f":"CSVデータ1!V83+CSVデータ2!V83+CSVデータ3!V83+CSVデータ4!V83","v":0},null,{"$f":"CSVデータ1!X83+CSVデータ2!X83+CSVデータ3!X83+CSVデータ4!X83","v":0},null,{"$f":"CSVデータ1!Z83+CSVデータ2!Z83+CSVデータ3!Z83+CSVデータ4!Z83","v":0},null,{"$f":"CSVデータ1!AB83+CSVデータ2!AB83+CSVデータ3!AB83+CSVデータ4!AB83","v":0},null,{"$f":"CSVデータ1!AD83+CSVデータ2!AD83+CSVデータ3!AD83+CSVデータ4!AD83","v":0},null,{"$f":"CSVデータ1!AF83+CSVデータ2!AF83+CSVデータ3!AF83+CSVデータ4!AF83","v":0}]
[{"$f":"CSVデータ1!A84","v":"明細部"},{"$f":"CSVデータ1!B84","v":"県"},{"$f":"CSVデータ1!C84","v":50},{"$f":"CSVデータ1!D84","v":"男"},{"$f":"CSVデータ1!E84+CSVデータ2!E84+CSVデータ3!E84+CSVデータ4!E84","v":0},{"$f":"CSVデータ1!F84+CSVデータ2!F84+CSVデータ3!F84+CSVデータ4!F84","v":0},null,{"$f":"CSVデータ1!H84+CSVデータ2!H84+CSVデータ3!H84+CSVデータ4!H84","v":0},null,{"$f":"CSVデータ1!J84+CSVデータ2!J84+CSVデータ3!J84+CSVデータ4!J84","v":0},null,{"$f":"CSVデータ1!L84+CSVデータ2!L84+CSVデータ3!L84+CSVデータ4!L84","v":0},null,{"$f":"CSVデータ1!N84+CSVデータ2!N84+CSVデータ3!N84+CSVデータ4!N84","v":0},null,{"$f":"CSVデータ1!P84+CSVデータ2!P84+CSVデータ3!P84+CSVデータ4!P84","v":0},null,{"$f":"CSVデータ1!R84+CSVデータ2!R84+CSVデータ3!R84+CSVデータ4!R84","v":0},null,{"$f":"CSVデータ1!T84+CSVデータ2!T84+CSVデータ3!T84+CSVデータ4!T84","v":0},null,{"$f":"CSVデータ1!V84+CSVデータ2!V84+CSVデータ3!V84+CSVデータ4!V84","v":0},null,{"$f":"CSVデータ1!X84+CSVデータ2!X84+CSVデータ3!X84+CSVデータ4!X84","v":0},null,{"$f":"CSVデータ1!Z84+CSVデータ2!Z84+CSVデータ3!Z84+CSVデータ4!Z84","v":0},null,{"$f":"CSVデータ1!AB84+CSVデータ2!AB84+CSVデータ3!AB84+CSVデータ4!AB84","v":0},null,{"$f":"CSVデータ1!AD84+CSVデータ2!AD84+CSVデータ3!AD84+CSVデータ4!AD84","v":0},null,{"$f":"CSVデータ1!AF84+CSVデータ2!AF84+CSVデータ3!AF84+CSVデータ4!AF84","v":0}]
[{"$f":"CSVデータ1!A85","v":"明細部"},{"$f":"CSVデータ1!B85","v":"県"},{"$f":"CSVデータ1!C85","v":51},{"$f":"CSVデータ1!D85","v":"男"},{"$f":"CSVデータ1!E85+CSVデータ2!E85+CSVデータ3!E85+CSVデータ4!E85","v":0},{"$f":"CSVデータ1!F85+CSVデータ2!F85+CSVデータ3!F85+CSVデータ4!F85","v":0},null,{"$f":"CSVデータ1!H85+CSVデータ2!H85+CSVデータ3!H85+CSVデータ4!H85","v":0},null,{"$f":"CSVデータ1!J85+CSVデータ2!J85+CSVデータ3!J85+CSVデータ4!J85","v":0},null,{"$f":"CSVデータ1!L85+CSVデータ2!L85+CSVデータ3!L85+CSVデータ4!L85","v":0},null,{"$f":"CSVデータ1!N85+CSVデータ2!N85+CSVデータ3!N85+CSVデータ4!N85","v":0},null,{"$f":"CSVデータ1!P85+CSVデータ2!P85+CSVデータ3!P85+CSVデータ4!P85","v":0},null,{"$f":"CSVデータ1!R85+CSVデータ2!R85+CSVデータ3!R85+CSVデータ4!R85","v":0},null,{"$f":"CSVデータ1!T85+CSVデータ2!T85+CSVデータ3!T85+CSVデータ4!T85","v":0},null,{"$f":"CSVデータ1!V85+CSVデータ2!V85+CSVデータ3!V85+CSVデータ4!V85","v":0},null,{"$f":"CSVデータ1!X85+CSVデータ2!X85+CSVデータ3!X85+CSVデータ4!X85","v":0},null,{"$f":"CSVデータ1!Z85+CSVデータ2!Z85+CSVデータ3!Z85+CSVデータ4!Z85","v":0},null,{"$f":"CSVデータ1!AB85+CSVデータ2!AB85+CSVデータ3!AB85+CSVデータ4!AB85","v":0},null,{"$f":"CSVデータ1!AD85+CSVデータ2!AD85+CSVデータ3!AD85+CSVデータ4!AD85","v":0},null,{"$f":"CSVデータ1!AF85+CSVデータ2!AF85+CSVデータ3!AF85+CSVデータ4!AF85","v":0}]
[{"$f":"CSVデータ1!A86","v":"明細部"},{"$f":"CSVデータ1!B86","v":"県"},{"$f":"CSVデータ1!C86","v":52},{"$f":"CSVデータ1!D86","v":"男"},{"$f":"CSVデータ1!E86+CSVデータ2!E86+CSVデータ3!E86+CSVデータ4!E86","v":0},{"$f":"CSVデータ1!F86+CSVデータ2!F86+CSVデータ3!F86+CSVデータ4!F86","v":0},null,{"$f":"CSVデータ1!H86+CSVデータ2!H86+CSVデータ3!H86+CSVデータ4!H86","v":0},null,{"$f":"CSVデータ1!J86+CSVデータ2!J86+CSVデータ3!J86+CSVデータ4!J86","v":0},null,{"$f":"CSVデータ1!L86+CSVデータ2!L86+CSVデータ3!L86+CSVデータ4!L86","v":0},null,{"$f":"CSVデータ1!N86+CSVデータ2!N86+CSVデータ3!N86+CSVデータ4!N86","v":0},null,{"$f":"CSVデータ1!P86+CSVデータ2!P86+CSVデータ3!P86+CSVデータ4!P86","v":0},null,{"$f":"CSVデータ1!R86+CSVデータ2!R86+CSVデータ3!R86+CSVデータ4!R86","v":0},null,{"$f":"CSVデータ1!T86+CSVデータ2!T86+CSVデータ3!T86+CSVデータ4!T86","v":0},null,{"$f":"CSVデータ1!V86+CSVデータ2!V86+CSVデータ3!V86+CSVデータ4!V86","v":0},null,{"$f":"CSVデータ1!X86+CSVデータ2!X86+CSVデータ3!X86+CSVデータ4!X86","v":0},null,{"$f":"CSVデータ1!Z86+CSVデータ2!Z86+CSVデータ3!Z86+CSVデータ4!Z86","v":0},null,{"$f":"CSVデータ1!AB86+CSVデータ2!AB86+CSVデータ3!AB86+CSVデータ4!AB86","v":0},null,{"$f":"CSVデータ1!AD86+CSVデータ2!AD86+CSVデータ3!AD86+CSVデータ4!AD86","v":0},null,{"$f":"CSVデータ1!AF86+CSVデータ2!AF86+CSVデータ3!AF86+CSVデータ4!AF86","v":0}]
[{"$f":"CSVデータ1!A87","v":"明細部"},{"$f":"CSVデータ1!B87","v":"県"},{"$f":"CSVデータ1!C87","v":53},{"$f":"CSVデータ1!D87","v":"男"},{"$f":"CSVデータ1!E87+CSVデータ2!E87+CSVデータ3!E87+CSVデータ4!E87","v":0},{"$f":"CSVデータ1!F87+CSVデータ2!F87+CSVデータ3!F87+CSVデータ4!F87","v":0},null,{"$f":"CSVデータ1!H87+CSVデータ2!H87+CSVデータ3!H87+CSVデータ4!H87","v":0},null,{"$f":"CSVデータ1!J87+CSVデータ2!J87+CSVデータ3!J87+CSVデータ4!J87","v":0},null,{"$f":"CSVデータ1!L87+CSVデータ2!L87+CSVデータ3!L87+CSVデータ4!L87","v":0},null,{"$f":"CSVデータ1!N87+CSVデータ2!N87+CSVデータ3!N87+CSVデータ4!N87","v":0},null,{"$f":"CSVデータ1!P87+CSVデータ2!P87+CSVデータ3!P87+CSVデータ4!P87","v":0},null,{"$f":"CSVデータ1!R87+CSVデータ2!R87+CSVデータ3!R87+CSVデータ4!R87","v":0},null,{"$f":"CSVデータ1!T87+CSVデータ2!T87+CSVデータ3!T87+CSVデータ4!T87","v":0},null,{"$f":"CSVデータ1!V87+CSVデータ2!V87+CSVデータ3!V87+CSVデータ4!V87","v":0},null,{"$f":"CSVデータ1!X87+CSVデータ2!X87+CSVデータ3!X87+CSVデータ4!X87","v":0},null,{"$f":"CSVデータ1!Z87+CSVデータ2!Z87+CSVデータ3!Z87+CSVデータ4!Z87","v":0},null,{"$f":"CSVデータ1!AB87+CSVデータ2!AB87+CSVデータ3!AB87+CSVデータ4!AB87","v":0},null,{"$f":"CSVデータ1!AD87+CSVデータ2!AD87+CSVデータ3!AD87+CSVデータ4!AD87","v":0},null,{"$f":"CSVデータ1!AF87+CSVデータ2!AF87+CSVデータ3!AF87+CSVデータ4!AF87","v":0}]
[{"$f":"CSVデータ1!A88","v":"明細部"},{"$f":"CSVデータ1!B88","v":"県"},{"$f":"CSVデータ1!C88","v":54},{"$f":"CSVデータ1!D88","v":"男"},{"$f":"CSVデータ1!E88+CSVデータ2!E88+CSVデータ3!E88+CSVデータ4!E88","v":0},{"$f":"CSVデータ1!F88+CSVデータ2!F88+CSVデータ3!F88+CSVデータ4!F88","v":0},null,{"$f":"CSVデータ1!H88+CSVデータ2!H88+CSVデータ3!H88+CSVデータ4!H88","v":0},null,{"$f":"CSVデータ1!J88+CSVデータ2!J88+CSVデータ3!J88+CSVデータ4!J88","v":0},null,{"$f":"CSVデータ1!L88+CSVデータ2!L88+CSVデータ3!L88+CSVデータ4!L88","v":0},null,{"$f":"CSVデータ1!N88+CSVデータ2!N88+CSVデータ3!N88+CSVデータ4!N88","v":0},null,{"$f":"CSVデータ1!P88+CSVデータ2!P88+CSVデータ3!P88+CSVデータ4!P88","v":0},null,{"$f":"CSVデータ1!R88+CSVデータ2!R88+CSVデータ3!R88+CSVデータ4!R88","v":0},null,{"$f":"CSVデータ1!T88+CSVデータ2!T88+CSVデータ3!T88+CSVデータ4!T88","v":0},null,{"$f":"CSVデータ1!V88+CSVデータ2!V88+CSVデータ3!V88+CSVデータ4!V88","v":0},null,{"$f":"CSVデータ1!X88+CSVデータ2!X88+CSVデータ3!X88+CSVデータ4!X88","v":0},null,{"$f":"CSVデータ1!Z88+CSVデータ2!Z88+CSVデータ3!Z88+CSVデータ4!Z88","v":0},null,{"$f":"CSVデータ1!AB88+CSVデータ2!AB88+CSVデータ3!AB88+CSVデータ4!AB88","v":0},null,{"$f":"CSVデータ1!AD88+CSVデータ2!AD88+CSVデータ3!AD88+CSVデータ4!AD88","v":0},null,{"$f":"CSVデータ1!AF88+CSVデータ2!AF88+CSVデータ3!AF88+CSVデータ4!AF88","v":0}]
[{"$f":"CSVデータ1!A89","v":"明細部"},{"$f":"CSVデータ1!B89","v":"県"},{"$f":"CSVデータ1!C89","v":55},{"$f":"CSVデータ1!D89","v":"男"},{"$f":"CSVデータ1!E89+CSVデータ2!E89+CSVデータ3!E89+CSVデータ4!E89","v":0},{"$f":"CSVデータ1!F89+CSVデータ2!F89+CSVデータ3!F89+CSVデータ4!F89","v":0},null,{"$f":"CSVデータ1!H89+CSVデータ2!H89+CSVデータ3!H89+CSVデータ4!H89","v":0},null,{"$f":"CSVデータ1!J89+CSVデータ2!J89+CSVデータ3!J89+CSVデータ4!J89","v":0},null,{"$f":"CSVデータ1!L89+CSVデータ2!L89+CSVデータ3!L89+CSVデータ4!L89","v":0},null,{"$f":"CSVデータ1!N89+CSVデータ2!N89+CSVデータ3!N89+CSVデータ4!N89","v":0},null,{"$f":"CSVデータ1!P89+CSVデータ2!P89+CSVデータ3!P89+CSVデータ4!P89","v":0},null,{"$f":"CSVデータ1!R89+CSVデータ2!R89+CSVデータ3!R89+CSVデータ4!R89","v":0},null,{"$f":"CSVデータ1!T89+CSVデータ2!T89+CSVデータ3!T89+CSVデータ4!T89","v":0},null,{"$f":"CSVデータ1!V89+CSVデータ2!V89+CSVデータ3!V89+CSVデータ4!V89","v":0},null,{"$f":"CSVデータ1!X89+CSVデータ2!X89+CSVデータ3!X89+CSVデータ4!X89","v":0},null,{"$f":"CSVデータ1!Z89+CSVデータ2!Z89+CSVデータ3!Z89+CSVデータ4!Z89","v":0},null,{"$f":"CSVデータ1!AB89+CSVデータ2!AB89+CSVデータ3!AB89+CSVデータ4!AB89","v":0},null,{"$f":"CSVデータ1!AD89+CSVデータ2!AD89+CSVデータ3!AD89+CSVデータ4!AD89","v":0},null,{"$f":"CSVデータ1!AF89+CSVデータ2!AF89+CSVデータ3!AF89+CSVデータ4!AF89","v":0}]
[{"$f":"CSVデータ1!A90","v":"明細部"},{"$f":"CSVデータ1!B90","v":"県"},{"$f":"CSVデータ1!C90","v":56},{"$f":"CSVデータ1!D90","v":"男"},{"$f":"CSVデータ1!E90+CSVデータ2!E90+CSVデータ3!E90+CSVデータ4!E90","v":0},{"$f":"CSVデータ1!F90+CSVデータ2!F90+CSVデータ3!F90+CSVデータ4!F90","v":0},null,{"$f":"CSVデータ1!H90+CSVデータ2!H90+CSVデータ3!H90+CSVデータ4!H90","v":0},null,{"$f":"CSVデータ1!J90+CSVデータ2!J90+CSVデータ3!J90+CSVデータ4!J90","v":0},null,{"$f":"CSVデータ1!L90+CSVデータ2!L90+CSVデータ3!L90+CSVデータ4!L90","v":0},null,{"$f":"CSVデータ1!N90+CSVデータ2!N90+CSVデータ3!N90+CSVデータ4!N90","v":0},null,{"$f":"CSVデータ1!P90+CSVデータ2!P90+CSVデータ3!P90+CSVデータ4!P90","v":0},null,{"$f":"CSVデータ1!R90+CSVデータ2!R90+CSVデータ3!R90+CSVデータ4!R90","v":0},null,{"$f":"CSVデータ1!T90+CSVデータ2!T90+CSVデータ3!T90+CSVデータ4!T90","v":0},null,{"$f":"CSVデータ1!V90+CSVデータ2!V90+CSVデータ3!V90+CSVデータ4!V90","v":0},null,{"$f":"CSVデータ1!X90+CSVデータ2!X90+CSVデータ3!X90+CSVデータ4!X90","v":0},null,{"$f":"CSVデータ1!Z90+CSVデータ2!Z90+CSVデータ3!Z90+CSVデータ4!Z90","v":0},null,{"$f":"CSVデータ1!AB90+CSVデータ2!AB90+CSVデータ3!AB90+CSVデータ4!AB90","v":0},null,{"$f":"CSVデータ1!AD90+CSVデータ2!AD90+CSVデータ3!AD90+CSVデータ4!AD90","v":0},null,{"$f":"CSVデータ1!AF90+CSVデータ2!AF90+CSVデータ3!AF90+CSVデータ4!AF90","v":0}]
[{"$f":"CSVデータ1!A91","v":"明細部"},{"$f":"CSVデータ1!B91","v":"県"},{"$f":"CSVデータ1!C91","v":57},{"$f":"CSVデータ1!D91","v":"男"},{"$f":"CSVデータ1!E91+CSVデータ2!E91+CSVデータ3!E91+CSVデータ4!E91","v":0},{"$f":"CSVデータ1!F91+CSVデータ2!F91+CSVデータ3!F91+CSVデータ4!F91","v":0},null,{"$f":"CSVデータ1!H91+CSVデータ2!H91+CSVデータ3!H91+CSVデータ4!H91","v":0},null,{"$f":"CSVデータ1!J91+CSVデータ2!J91+CSVデータ3!J91+CSVデータ4!J91","v":0},null,{"$f":"CSVデータ1!L91+CSVデータ2!L91+CSVデータ3!L91+CSVデータ4!L91","v":0},null,{"$f":"CSVデータ1!N91+CSVデータ2!N91+CSVデータ3!N91+CSVデータ4!N91","v":0},null,{"$f":"CSVデータ1!P91+CSVデータ2!P91+CSVデータ3!P91+CSVデータ4!P91","v":0},null,{"$f":"CSVデータ1!R91+CSVデータ2!R91+CSVデータ3!R91+CSVデータ4!R91","v":0},null,{"$f":"CSVデータ1!T91+CSVデータ2!T91+CSVデータ3!T91+CSVデータ4!T91","v":0},null,{"$f":"CSVデータ1!V91+CSVデータ2!V91+CSVデータ3!V91+CSVデータ4!V91","v":0},null,{"$f":"CSVデータ1!X91+CSVデータ2!X91+CSVデータ3!X91+CSVデータ4!X91","v":0},null,{"$f":"CSVデータ1!Z91+CSVデータ2!Z91+CSVデータ3!Z91+CSVデータ4!Z91","v":0},null,{"$f":"CSVデータ1!AB91+CSVデータ2!AB91+CSVデータ3!AB91+CSVデータ4!AB91","v":0},null,{"$f":"CSVデータ1!AD91+CSVデータ2!AD91+CSVデータ3!AD91+CSVデータ4!AD91","v":0},null,{"$f":"CSVデータ1!AF91+CSVデータ2!AF91+CSVデータ3!AF91+CSVデータ4!AF91","v":0}]
[{"$f":"CSVデータ1!A92","v":"明細部"},{"$f":"CSVデータ1!B92","v":"県"},{"$f":"CSVデータ1!C92","v":58},{"$f":"CSVデータ1!D92","v":"男"},{"$f":"CSVデータ1!E92+CSVデータ2!E92+CSVデータ3!E92+CSVデータ4!E92","v":0},{"$f":"CSVデータ1!F92+CSVデータ2!F92+CSVデータ3!F92+CSVデータ4!F92","v":0},null,{"$f":"CSVデータ1!H92+CSVデータ2!H92+CSVデータ3!H92+CSVデータ4!H92","v":0},null,{"$f":"CSVデータ1!J92+CSVデータ2!J92+CSVデータ3!J92+CSVデータ4!J92","v":0},null,{"$f":"CSVデータ1!L92+CSVデータ2!L92+CSVデータ3!L92+CSVデータ4!L92","v":0},null,{"$f":"CSVデータ1!N92+CSVデータ2!N92+CSVデータ3!N92+CSVデータ4!N92","v":0},null,{"$f":"CSVデータ1!P92+CSVデータ2!P92+CSVデータ3!P92+CSVデータ4!P92","v":0},null,{"$f":"CSVデータ1!R92+CSVデータ2!R92+CSVデータ3!R92+CSVデータ4!R92","v":0},null,{"$f":"CSVデータ1!T92+CSVデータ2!T92+CSVデータ3!T92+CSVデータ4!T92","v":0},null,{"$f":"CSVデータ1!V92+CSVデータ2!V92+CSVデータ3!V92+CSVデータ4!V92","v":0},null,{"$f":"CSVデータ1!X92+CSVデータ2!X92+CSVデータ3!X92+CSVデータ4!X92","v":0},null,{"$f":"CSVデータ1!Z92+CSVデータ2!Z92+CSVデータ3!Z92+CSVデータ4!Z92","v":0},null,{"$f":"CSVデータ1!AB92+CSVデータ2!AB92+CSVデータ3!AB92+CSVデータ4!AB92","v":0},null,{"$f":"CSVデータ1!AD92+CSVデータ2!AD92+CSVデータ3!AD92+CSVデータ4!AD92","v":0},null,{"$f":"CSVデータ1!AF92+CSVデータ2!AF92+CSVデータ3!AF92+CSVデータ4!AF92","v":0}]
[{"$f":"CSVデータ1!A93","v":"明細部"},{"$f":"CSVデータ1!B93","v":"県"},{"$f":"CSVデータ1!C93","v":59},{"$f":"CSVデータ1!D93","v":"男"},{"$f":"CSVデータ1!E93+CSVデータ2!E93+CSVデータ3!E93+CSVデータ4!E93","v":0},{"$f":"CSVデータ1!F93+CSVデータ2!F93+CSVデータ3!F93+CSVデータ4!F93","v":0},null,{"$f":"CSVデータ1!H93+CSVデータ2!H93+CSVデータ3!H93+CSVデータ4!H93","v":0},null,{"$f":"CSVデータ1!J93+CSVデータ2!J93+CSVデータ3!J93+CSVデータ4!J93","v":0},null,{"$f":"CSVデータ1!L93+CSVデータ2!L93+CSVデータ3!L93+CSVデータ4!L93","v":0},null,{"$f":"CSVデータ1!N93+CSVデータ2!N93+CSVデータ3!N93+CSVデータ4!N93","v":0},null,{"$f":"CSVデータ1!P93+CSVデータ2!P93+CSVデータ3!P93+CSVデータ4!P93","v":0},null,{"$f":"CSVデータ1!R93+CSVデータ2!R93+CSVデータ3!R93+CSVデータ4!R93","v":0},null,{"$f":"CSVデータ1!T93+CSVデータ2!T93+CSVデータ3!T93+CSVデータ4!T93","v":0},null,{"$f":"CSVデータ1!V93+CSVデータ2!V93+CSVデータ3!V93+CSVデータ4!V93","v":0},null,{"$f":"CSVデータ1!X93+CSVデータ2!X93+CSVデータ3!X93+CSVデータ4!X93","v":0},null,{"$f":"CSVデータ1!Z93+CSVデータ2!Z93+CSVデータ3!Z93+CSVデータ4!Z93","v":0},null,{"$f":"CSVデータ1!AB93+CSVデータ2!AB93+CSVデータ3!AB93+CSVデータ4!AB93","v":0},null,{"$f":"CSVデータ1!AD93+CSVデータ2!AD93+CSVデータ3!AD93+CSVデータ4!AD93","v":0},null,{"$f":"CSVデータ1!AF93+CSVデータ2!AF93+CSVデータ3!AF93+CSVデータ4!AF93","v":0}]
[{"$f":"CSVデータ1!A94","v":"明細部"},{"$f":"CSVデータ1!B94","v":"県"},{"$f":"CSVデータ1!C94","v":60},{"$f":"CSVデータ1!D94","v":"男"},{"$f":"CSVデータ1!E94+CSVデータ2!E94+CSVデータ3!E94+CSVデータ4!E94","v":0},{"$f":"CSVデータ1!F94+CSVデータ2!F94+CSVデータ3!F94+CSVデータ4!F94","v":0},null,{"$f":"CSVデータ1!H94+CSVデータ2!H94+CSVデータ3!H94+CSVデータ4!H94","v":0},null,{"$f":"CSVデータ1!J94+CSVデータ2!J94+CSVデータ3!J94+CSVデータ4!J94","v":0},null,{"$f":"CSVデータ1!L94+CSVデータ2!L94+CSVデータ3!L94+CSVデータ4!L94","v":0},null,{"$f":"CSVデータ1!N94+CSVデータ2!N94+CSVデータ3!N94+CSVデータ4!N94","v":0},null,{"$f":"CSVデータ1!P94+CSVデータ2!P94+CSVデータ3!P94+CSVデータ4!P94","v":0},null,{"$f":"CSVデータ1!R94+CSVデータ2!R94+CSVデータ3!R94+CSVデータ4!R94","v":0},null,{"$f":"CSVデータ1!T94+CSVデータ2!T94+CSVデータ3!T94+CSVデータ4!T94","v":0},null,{"$f":"CSVデータ1!V94+CSVデータ2!V94+CSVデータ3!V94+CSVデータ4!V94","v":0},null,{"$f":"CSVデータ1!X94+CSVデータ2!X94+CSVデータ3!X94+CSVデータ4!X94","v":0},null,{"$f":"CSVデータ1!Z94+CSVデータ2!Z94+CSVデータ3!Z94+CSVデータ4!Z94","v":0},null,{"$f":"CSVデータ1!AB94+CSVデータ2!AB94+CSVデータ3!AB94+CSVデータ4!AB94","v":0},null,{"$f":"CSVデータ1!AD94+CSVデータ2!AD94+CSVデータ3!AD94+CSVデータ4!AD94","v":0},null,{"$f":"CSVデータ1!AF94+CSVデータ2!AF94+CSVデータ3!AF94+CSVデータ4!AF94","v":0}]
[{"$f":"CSVデータ1!A95","v":"明細部"},{"$f":"CSVデータ1!B95","v":"県"},{"$f":"CSVデータ1!C95","v":61},{"$f":"CSVデータ1!D95","v":"男"},{"$f":"CSVデータ1!E95+CSVデータ2!E95+CSVデータ3!E95+CSVデータ4!E95","v":0},{"$f":"CSVデータ1!F95+CSVデータ2!F95+CSVデータ3!F95+CSVデータ4!F95","v":0},null,{"$f":"CSVデータ1!H95+CSVデータ2!H95+CSVデータ3!H95+CSVデータ4!H95","v":0},null,{"$f":"CSVデータ1!J95+CSVデータ2!J95+CSVデータ3!J95+CSVデータ4!J95","v":0},null,{"$f":"CSVデータ1!L95+CSVデータ2!L95+CSVデータ3!L95+CSVデータ4!L95","v":0},null,{"$f":"CSVデータ1!N95+CSVデータ2!N95+CSVデータ3!N95+CSVデータ4!N95","v":0},null,{"$f":"CSVデータ1!P95+CSVデータ2!P95+CSVデータ3!P95+CSVデータ4!P95","v":0},null,{"$f":"CSVデータ1!R95+CSVデータ2!R95+CSVデータ3!R95+CSVデータ4!R95","v":0},null,{"$f":"CSVデータ1!T95+CSVデータ2!T95+CSVデータ3!T95+CSVデータ4!T95","v":0},null,{"$f":"CSVデータ1!V95+CSVデータ2!V95+CSVデータ3!V95+CSVデータ4!V95","v":0},null,{"$f":"CSVデータ1!X95+CSVデータ2!X95+CSVデータ3!X95+CSVデータ4!X95","v":0},null,{"$f":"CSVデータ1!Z95+CSVデータ2!Z95+CSVデータ3!Z95+CSVデータ4!Z95","v":0},null,{"$f":"CSVデータ1!AB95+CSVデータ2!AB95+CSVデータ3!AB95+CSVデータ4!AB95","v":0},null,{"$f":"CSVデータ1!AD95+CSVデータ2!AD95+CSVデータ3!AD95+CSVデータ4!AD95","v":0},null,{"$f":"CSVデータ1!AF95+CSVデータ2!AF95+CSVデータ3!AF95+CSVデータ4!AF95","v":0}]
[{"$f":"CSVデータ1!A96","v":"明細部"},{"$f":"CSVデータ1!B96","v":"県"},{"$f":"CSVデータ1!C96","v":62},{"$f":"CSVデータ1!D96","v":"男"},{"$f":"CSVデータ1!E96+CSVデータ2!E96+CSVデータ3!E96+CSVデータ4!E96","v":0},{"$f":"CSVデータ1!F96+CSVデータ2!F96+CSVデータ3!F96+CSVデータ4!F96","v":0},null,{"$f":"CSVデータ1!H96+CSVデータ2!H96+CSVデータ3!H96+CSVデータ4!H96","v":0},null,{"$f":"CSVデータ1!J96+CSVデータ2!J96+CSVデータ3!J96+CSVデータ4!J96","v":0},null,{"$f":"CSVデータ1!L96+CSVデータ2!L96+CSVデータ3!L96+CSVデータ4!L96","v":0},null,{"$f":"CSVデータ1!N96+CSVデータ2!N96+CSVデータ3!N96+CSVデータ4!N96","v":0},null,{"$f":"CSVデータ1!P96+CSVデータ2!P96+CSVデータ3!P96+CSVデータ4!P96","v":0},null,{"$f":"CSVデータ1!R96+CSVデータ2!R96+CSVデータ3!R96+CSVデータ4!R96","v":0},null,{"$f":"CSVデータ1!T96+CSVデータ2!T96+CSVデータ3!T96+CSVデータ4!T96","v":0},null,{"$f":"CSVデータ1!V96+CSVデータ2!V96+CSVデータ3!V96+CSVデータ4!V96","v":0},null,{"$f":"CSVデータ1!X96+CSVデータ2!X96+CSVデータ3!X96+CSVデータ4!X96","v":0},null,{"$f":"CSVデータ1!Z96+CSVデータ2!Z96+CSVデータ3!Z96+CSVデータ4!Z96","v":0},null,{"$f":"CSVデータ1!AB96+CSVデータ2!AB96+CSVデータ3!AB96+CSVデータ4!AB96","v":0},null,{"$f":"CSVデータ1!AD96+CSVデータ2!AD96+CSVデータ3!AD96+CSVデータ4!AD96","v":0},null,{"$f":"CSVデータ1!AF96+CSVデータ2!AF96+CSVデータ3!AF96+CSVデータ4!AF96","v":0}]
[{"$f":"CSVデータ1!A97","v":"明細部"},{"$f":"CSVデータ1!B97","v":"県"},{"$f":"CSVデータ1!C97","v":63},{"$f":"CSVデータ1!D97","v":"男"},{"$f":"CSVデータ1!E97+CSVデータ2!E97+CSVデータ3!E97+CSVデータ4!E97","v":0},{"$f":"CSVデータ1!F97+CSVデータ2!F97+CSVデータ3!F97+CSVデータ4!F97","v":0},null,{"$f":"CSVデータ1!H97+CSVデータ2!H97+CSVデータ3!H97+CSVデータ4!H97","v":0},null,{"$f":"CSVデータ1!J97+CSVデータ2!J97+CSVデータ3!J97+CSVデータ4!J97","v":0},null,{"$f":"CSVデータ1!L97+CSVデータ2!L97+CSVデータ3!L97+CSVデータ4!L97","v":0},null,{"$f":"CSVデータ1!N97+CSVデータ2!N97+CSVデータ3!N97+CSVデータ4!N97","v":0},null,{"$f":"CSVデータ1!P97+CSVデータ2!P97+CSVデータ3!P97+CSVデータ4!P97","v":0},null,{"$f":"CSVデータ1!R97+CSVデータ2!R97+CSVデータ3!R97+CSVデータ4!R97","v":0},null,{"$f":"CSVデータ1!T97+CSVデータ2!T97+CSVデータ3!T97+CSVデータ4!T97","v":0},null,{"$f":"CSVデータ1!V97+CSVデータ2!V97+CSVデータ3!V97+CSVデータ4!V97","v":0},null,{"$f":"CSVデータ1!X97+CSVデータ2!X97+CSVデータ3!X97+CSVデータ4!X97","v":0},null,{"$f":"CSVデータ1!Z97+CSVデータ2!Z97+CSVデータ3!Z97+CSVデータ4!Z97","v":0},null,{"$f":"CSVデータ1!AB97+CSVデータ2!AB97+CSVデータ3!AB97+CSVデータ4!AB97","v":0},null,{"$f":"CSVデータ1!AD97+CSVデータ2!AD97+CSVデータ3!AD97+CSVデータ4!AD97","v":0},null,{"$f":"CSVデータ1!AF97+CSVデータ2!AF97+CSVデータ3!AF97+CSVデータ4!AF97","v":0}]
[{"$f":"CSVデータ1!A98","v":"明細部"},{"$f":"CSVデータ1!B98","v":"県"},{"$f":"CSVデータ1!C98","v":64},{"$f":"CSVデータ1!D98","v":"男"},{"$f":"CSVデータ1!E98+CSVデータ2!E98+CSVデータ3!E98+CSVデータ4!E98","v":0},{"$f":"CSVデータ1!F98+CSVデータ2!F98+CSVデータ3!F98+CSVデータ4!F98","v":0},null,{"$f":"CSVデータ1!H98+CSVデータ2!H98+CSVデータ3!H98+CSVデータ4!H98","v":0},null,{"$f":"CSVデータ1!J98+CSVデータ2!J98+CSVデータ3!J98+CSVデータ4!J98","v":0},null,{"$f":"CSVデータ1!L98+CSVデータ2!L98+CSVデータ3!L98+CSVデータ4!L98","v":0},null,{"$f":"CSVデータ1!N98+CSVデータ2!N98+CSVデータ3!N98+CSVデータ4!N98","v":0},null,{"$f":"CSVデータ1!P98+CSVデータ2!P98+CSVデータ3!P98+CSVデータ4!P98","v":0},null,{"$f":"CSVデータ1!R98+CSVデータ2!R98+CSVデータ3!R98+CSVデータ4!R98","v":0},null,{"$f":"CSVデータ1!T98+CSVデータ2!T98+CSVデータ3!T98+CSVデータ4!T98","v":0},null,{"$f":"CSVデータ1!V98+CSVデータ2!V98+CSVデータ3!V98+CSVデータ4!V98","v":0},null,{"$f":"CSVデータ1!X98+CSVデータ2!X98+CSVデータ3!X98+CSVデータ4!X98","v":0},null,{"$f":"CSVデータ1!Z98+CSVデータ2!Z98+CSVデータ3!Z98+CSVデータ4!Z98","v":0},null,{"$f":"CSVデータ1!AB98+CSVデータ2!AB98+CSVデータ3!AB98+CSVデータ4!AB98","v":0},null,{"$f":"CSVデータ1!AD98+CSVデータ2!AD98+CSVデータ3!AD98+CSVデータ4!AD98","v":0},null,{"$f":"CSVデータ1!AF98+CSVデータ2!AF98+CSVデータ3!AF98+CSVデータ4!AF98","v":0}]
[{"$f":"CSVデータ1!A99","v":"明細部"},{"$f":"CSVデータ1!B99","v":"県"},{"$f":"CSVデータ1!C99","v":65},{"$f":"CSVデータ1!D99","v":"男"},{"$f":"CSVデータ1!E99+CSVデータ2!E99+CSVデータ3!E99+CSVデータ4!E99","v":0},{"$f":"CSVデータ1!F99+CSVデータ2!F99+CSVデータ3!F99+CSVデータ4!F99","v":0},null,{"$f":"CSVデータ1!H99+CSVデータ2!H99+CSVデータ3!H99+CSVデータ4!H99","v":0},null,{"$f":"CSVデータ1!J99+CSVデータ2!J99+CSVデータ3!J99+CSVデータ4!J99","v":0},null,{"$f":"CSVデータ1!L99+CSVデータ2!L99+CSVデータ3!L99+CSVデータ4!L99","v":0},null,{"$f":"CSVデータ1!N99+CSVデータ2!N99+CSVデータ3!N99+CSVデータ4!N99","v":0},null,{"$f":"CSVデータ1!P99+CSVデータ2!P99+CSVデータ3!P99+CSVデータ4!P99","v":0},null,{"$f":"CSVデータ1!R99+CSVデータ2!R99+CSVデータ3!R99+CSVデータ4!R99","v":0},null,{"$f":"CSVデータ1!T99+CSVデータ2!T99+CSVデータ3!T99+CSVデータ4!T99","v":0},null,{"$f":"CSVデータ1!V99+CSVデータ2!V99+CSVデータ3!V99+CSVデータ4!V99","v":0},null,{"$f":"CSVデータ1!X99+CSVデータ2!X99+CSVデータ3!X99+CSVデータ4!X99","v":0},null,{"$f":"CSVデータ1!Z99+CSVデータ2!Z99+CSVデータ3!Z99+CSVデータ4!Z99","v":0},null,{"$f":"CSVデータ1!AB99+CSVデータ2!AB99+CSVデータ3!AB99+CSVデータ4!AB99","v":0},null,{"$f":"CSVデータ1!AD99+CSVデータ2!AD99+CSVデータ3!AD99+CSVデータ4!AD99","v":0},null,{"$f":"CSVデータ1!AF99+CSVデータ2!AF99+CSVデータ3!AF99+CSVデータ4!AF99","v":0}]
[{"$f":"CSVデータ1!A100","v":"明細部"},{"$f":"CSVデータ1!B100","v":"県"},{"$f":"CSVデータ1!C100","v":66},{"$f":"CSVデータ1!D100","v":"男"},{"$f":"CSVデータ1!E100+CSVデータ2!E100+CSVデータ3!E100+CSVデータ4!E100","v":0},{"$f":"CSVデータ1!F100+CSVデータ2!F100+CSVデータ3!F100+CSVデータ4!F100","v":0},null,{"$f":"CSVデータ1!H100+CSVデータ2!H100+CSVデータ3!H100+CSVデータ4!H100","v":0},null,{"$f":"CSVデータ1!J100+CSVデータ2!J100+CSVデータ3!J100+CSVデータ4!J100","v":0},null,{"$f":"CSVデータ1!L100+CSVデータ2!L100+CSVデータ3!L100+CSVデータ4!L100","v":0},null,{"$f":"CSVデータ1!N100+CSVデータ2!N100+CSVデータ3!N100+CSVデータ4!N100","v":0},null,{"$f":"CSVデータ1!P100+CSVデータ2!P100+CSVデータ3!P100+CSVデータ4!P100","v":0},null,{"$f":"CSVデータ1!R100+CSVデータ2!R100+CSVデータ3!R100+CSVデータ4!R100","v":0},null,{"$f":"CSVデータ1!T100+CSVデータ2!T100+CSVデータ3!T100+CSVデータ4!T100","v":0},null,{"$f":"CSVデータ1!V100+CSVデータ2!V100+CSVデータ3!V100+CSVデータ4!V100","v":0},null,{"$f":"CSVデータ1!X100+CSVデータ2!X100+CSVデータ3!X100+CSVデータ4!X100","v":0},null,{"$f":"CSVデータ1!Z100+CSVデータ2!Z100+CSVデータ3!Z100+CSVデータ4!Z100","v":0},null,{"$f":"CSVデータ1!AB100+CSVデータ2!AB100+CSVデータ3!AB100+CSVデータ4!AB100","v":0},null,{"$f":"CSVデータ1!AD100+CSVデータ2!AD100+CSVデータ3!AD100+CSVデータ4!AD100","v":0},null,{"$f":"CSVデータ1!AF100+CSVデータ2!AF100+CSVデータ3!AF100+CSVデータ4!AF100","v":0}]
[{"$f":"CSVデータ1!A101","v":"明細部"},{"$f":"CSVデータ1!B101","v":"県"},{"$f":"CSVデータ1!C101","v":67},{"$f":"CSVデータ1!D101","v":"男"},{"$f":"CSVデータ1!E101+CSVデータ2!E101+CSVデータ3!E101+CSVデータ4!E101","v":0},{"$f":"CSVデータ1!F101+CSVデータ2!F101+CSVデータ3!F101+CSVデータ4!F101","v":0},null,{"$f":"CSVデータ1!H101+CSVデータ2!H101+CSVデータ3!H101+CSVデータ4!H101","v":0},null,{"$f":"CSVデータ1!J101+CSVデータ2!J101+CSVデータ3!J101+CSVデータ4!J101","v":0},null,{"$f":"CSVデータ1!L101+CSVデータ2!L101+CSVデータ3!L101+CSVデータ4!L101","v":0},null,{"$f":"CSVデータ1!N101+CSVデータ2!N101+CSVデータ3!N101+CSVデータ4!N101","v":0},null,{"$f":"CSVデータ1!P101+CSVデータ2!P101+CSVデータ3!P101+CSVデータ4!P101","v":0},null,{"$f":"CSVデータ1!R101+CSVデータ2!R101+CSVデータ3!R101+CSVデータ4!R101","v":0},null,{"$f":"CSVデータ1!T101+CSVデータ2!T101+CSVデータ3!T101+CSVデータ4!T101","v":0},null,{"$f":"CSVデータ1!V101+CSVデータ2!V101+CSVデータ3!V101+CSVデータ4!V101","v":0},null,{"$f":"CSVデータ1!X101+CSVデータ2!X101+CSVデータ3!X101+CSVデータ4!X101","v":0},null,{"$f":"CSVデータ1!Z101+CSVデータ2!Z101+CSVデータ3!Z101+CSVデータ4!Z101","v":0},null,{"$f":"CSVデータ1!AB101+CSVデータ2!AB101+CSVデータ3!AB101+CSVデータ4!AB101","v":0},null,{"$f":"CSVデータ1!AD101+CSVデータ2!AD101+CSVデータ3!AD101+CSVデータ4!AD101","v":0},null,{"$f":"CSVデータ1!AF101+CSVデータ2!AF101+CSVデータ3!AF101+CSVデータ4!AF101","v":0}]
[{"$f":"CSVデータ1!A102","v":"明細部"},{"$f":"CSVデータ1!B102","v":"県"},{"$f":"CSVデータ1!C102","v":68},{"$f":"CSVデータ1!D102","v":"男"},{"$f":"CSVデータ1!E102+CSVデータ2!E102+CSVデータ3!E102+CSVデータ4!E102","v":0},{"$f":"CSVデータ1!F102+CSVデータ2!F102+CSVデータ3!F102+CSVデータ4!F102","v":0},null,{"$f":"CSVデータ1!H102+CSVデータ2!H102+CSVデータ3!H102+CSVデータ4!H102","v":0},null,{"$f":"CSVデータ1!J102+CSVデータ2!J102+CSVデータ3!J102+CSVデータ4!J102","v":0},null,{"$f":"CSVデータ1!L102+CSVデータ2!L102+CSVデータ3!L102+CSVデータ4!L102","v":0},null,{"$f":"CSVデータ1!N102+CSVデータ2!N102+CSVデータ3!N102+CSVデータ4!N102","v":0},null,{"$f":"CSVデータ1!P102+CSVデータ2!P102+CSVデータ3!P102+CSVデータ4!P102","v":0},null,{"$f":"CSVデータ1!R102+CSVデータ2!R102+CSVデータ3!R102+CSVデータ4!R102","v":0},null,{"$f":"CSVデータ1!T102+CSVデータ2!T102+CSVデータ3!T102+CSVデータ4!T102","v":0},null,{"$f":"CSVデータ1!V102+CSVデータ2!V102+CSVデータ3!V102+CSVデータ4!V102","v":0},null,{"$f":"CSVデータ1!X102+CSVデータ2!X102+CSVデータ3!X102+CSVデータ4!X102","v":0},null,{"$f":"CSVデータ1!Z102+CSVデータ2!Z102+CSVデータ3!Z102+CSVデータ4!Z102","v":0},null,{"$f":"CSVデータ1!AB102+CSVデータ2!AB102+CSVデータ3!AB102+CSVデータ4!AB102","v":0},null,{"$f":"CSVデータ1!AD102+CSVデータ2!AD102+CSVデータ3!AD102+CSVデータ4!AD102","v":0},null,{"$f":"CSVデータ1!AF102+CSVデータ2!AF102+CSVデータ3!AF102+CSVデータ4!AF102","v":0}]
[{"$f":"CSVデータ1!A103","v":"明細部"},{"$f":"CSVデータ1!B103","v":"県"},{"$f":"CSVデータ1!C103","v":69},{"$f":"CSVデータ1!D103","v":"男"},{"$f":"CSVデータ1!E103+CSVデータ2!E103+CSVデータ3!E103+CSVデータ4!E103","v":0},{"$f":"CSVデータ1!F103+CSVデータ2!F103+CSVデータ3!F103+CSVデータ4!F103","v":0},null,{"$f":"CSVデータ1!H103+CSVデータ2!H103+CSVデータ3!H103+CSVデータ4!H103","v":0},null,{"$f":"CSVデータ1!J103+CSVデータ2!J103+CSVデータ3!J103+CSVデータ4!J103","v":0},null,{"$f":"CSVデータ1!L103+CSVデータ2!L103+CSVデータ3!L103+CSVデータ4!L103","v":0},null,{"$f":"CSVデータ1!N103+CSVデータ2!N103+CSVデータ3!N103+CSVデータ4!N103","v":0},null,{"$f":"CSVデータ1!P103+CSVデータ2!P103+CSVデータ3!P103+CSVデータ4!P103","v":0},null,{"$f":"CSVデータ1!R103+CSVデータ2!R103+CSVデータ3!R103+CSVデータ4!R103","v":0},null,{"$f":"CSVデータ1!T103+CSVデータ2!T103+CSVデータ3!T103+CSVデータ4!T103","v":0},null,{"$f":"CSVデータ1!V103+CSVデータ2!V103+CSVデータ3!V103+CSVデータ4!V103","v":0},null,{"$f":"CSVデータ1!X103+CSVデータ2!X103+CSVデータ3!X103+CSVデータ4!X103","v":0},null,{"$f":"CSVデータ1!Z103+CSVデータ2!Z103+CSVデータ3!Z103+CSVデータ4!Z103","v":0},null,{"$f":"CSVデータ1!AB103+CSVデータ2!AB103+CSVデータ3!AB103+CSVデータ4!AB103","v":0},null,{"$f":"CSVデータ1!AD103+CSVデータ2!AD103+CSVデータ3!AD103+CSVデータ4!AD103","v":0},null,{"$f":"CSVデータ1!AF103+CSVデータ2!AF103+CSVデータ3!AF103+CSVデータ4!AF103","v":0}]
[{"$f":"CSVデータ1!A104","v":"明細部"},{"$f":"CSVデータ1!B104","v":"県"},{"$f":"CSVデータ1!C104","v":70},{"$f":"CSVデータ1!D104","v":"男"},{"$f":"CSVデータ1!E104+CSVデータ2!E104+CSVデータ3!E104+CSVデータ4!E104","v":0},{"$f":"CSVデータ1!F104+CSVデータ2!F104+CSVデータ3!F104+CSVデータ4!F104","v":0},null,{"$f":"CSVデータ1!H104+CSVデータ2!H104+CSVデータ3!H104+CSVデータ4!H104","v":0},null,{"$f":"CSVデータ1!J104+CSVデータ2!J104+CSVデータ3!J104+CSVデータ4!J104","v":0},null,{"$f":"CSVデータ1!L104+CSVデータ2!L104+CSVデータ3!L104+CSVデータ4!L104","v":0},null,{"$f":"CSVデータ1!N104+CSVデータ2!N104+CSVデータ3!N104+CSVデータ4!N104","v":0},null,{"$f":"CSVデータ1!P104+CSVデータ2!P104+CSVデータ3!P104+CSVデータ4!P104","v":0},null,{"$f":"CSVデータ1!R104+CSVデータ2!R104+CSVデータ3!R104+CSVデータ4!R104","v":0},null,{"$f":"CSVデータ1!T104+CSVデータ2!T104+CSVデータ3!T104+CSVデータ4!T104","v":0},null,{"$f":"CSVデータ1!V104+CSVデータ2!V104+CSVデータ3!V104+CSVデータ4!V104","v":0},null,{"$f":"CSVデータ1!X104+CSVデータ2!X104+CSVデータ3!X104+CSVデータ4!X104","v":0},null,{"$f":"CSVデータ1!Z104+CSVデータ2!Z104+CSVデータ3!Z104+CSVデータ4!Z104","v":0},null,{"$f":"CSVデータ1!AB104+CSVデータ2!AB104+CSVデータ3!AB104+CSVデータ4!AB104","v":0},null,{"$f":"CSVデータ1!AD104+CSVデータ2!AD104+CSVデータ3!AD104+CSVデータ4!AD104","v":0},null,{"$f":"CSVデータ1!AF104+CSVデータ2!AF104+CSVデータ3!AF104+CSVデータ4!AF104","v":0}]
[{"$f":"CSVデータ1!A105","v":"明細部"},{"$f":"CSVデータ1!B105","v":"県"},{"$f":"CSVデータ1!C105","v":71},{"$f":"CSVデータ1!D105","v":"男"},{"$f":"CSVデータ1!E105+CSVデータ2!E105+CSVデータ3!E105+CSVデータ4!E105","v":0},{"$f":"CSVデータ1!F105+CSVデータ2!F105+CSVデータ3!F105+CSVデータ4!F105","v":0},null,{"$f":"CSVデータ1!H105+CSVデータ2!H105+CSVデータ3!H105+CSVデータ4!H105","v":0},null,{"$f":"CSVデータ1!J105+CSVデータ2!J105+CSVデータ3!J105+CSVデータ4!J105","v":0},null,{"$f":"CSVデータ1!L105+CSVデータ2!L105+CSVデータ3!L105+CSVデータ4!L105","v":0},null,{"$f":"CSVデータ1!N105+CSVデータ2!N105+CSVデータ3!N105+CSVデータ4!N105","v":0},null,{"$f":"CSVデータ1!P105+CSVデータ2!P105+CSVデータ3!P105+CSVデータ4!P105","v":0},null,{"$f":"CSVデータ1!R105+CSVデータ2!R105+CSVデータ3!R105+CSVデータ4!R105","v":0},null,{"$f":"CSVデータ1!T105+CSVデータ2!T105+CSVデータ3!T105+CSVデータ4!T105","v":0},null,{"$f":"CSVデータ1!V105+CSVデータ2!V105+CSVデータ3!V105+CSVデータ4!V105","v":0},null,{"$f":"CSVデータ1!X105+CSVデータ2!X105+CSVデータ3!X105+CSVデータ4!X105","v":0},null,{"$f":"CSVデータ1!Z105+CSVデータ2!Z105+CSVデータ3!Z105+CSVデータ4!Z105","v":0},null,{"$f":"CSVデータ1!AB105+CSVデータ2!AB105+CSVデータ3!AB105+CSVデータ4!AB105","v":0},null,{"$f":"CSVデータ1!AD105+CSVデータ2!AD105+CSVデータ3!AD105+CSVデータ4!AD105","v":0},null,{"$f":"CSVデータ1!AF105+CSVデータ2!AF105+CSVデータ3!AF105+CSVデータ4!AF105","v":0}]
[{"$f":"CSVデータ1!A106","v":"明細部"},{"$f":"CSVデータ1!B106","v":"県"},{"$f":"CSVデータ1!C106","v":72},{"$f":"CSVデータ1!D106","v":"男"},{"$f":"CSVデータ1!E106+CSVデータ2!E106+CSVデータ3!E106+CSVデータ4!E106","v":0},{"$f":"CSVデータ1!F106+CSVデータ2!F106+CSVデータ3!F106+CSVデータ4!F106","v":0},null,{"$f":"CSVデータ1!H106+CSVデータ2!H106+CSVデータ3!H106+CSVデータ4!H106","v":0},null,{"$f":"CSVデータ1!J106+CSVデータ2!J106+CSVデータ3!J106+CSVデータ4!J106","v":0},null,{"$f":"CSVデータ1!L106+CSVデータ2!L106+CSVデータ3!L106+CSVデータ4!L106","v":0},null,{"$f":"CSVデータ1!N106+CSVデータ2!N106+CSVデータ3!N106+CSVデータ4!N106","v":0},null,{"$f":"CSVデータ1!P106+CSVデータ2!P106+CSVデータ3!P106+CSVデータ4!P106","v":0},null,{"$f":"CSVデータ1!R106+CSVデータ2!R106+CSVデータ3!R106+CSVデータ4!R106","v":0},null,{"$f":"CSVデータ1!T106+CSVデータ2!T106+CSVデータ3!T106+CSVデータ4!T106","v":0},null,{"$f":"CSVデータ1!V106+CSVデータ2!V106+CSVデータ3!V106+CSVデータ4!V106","v":0},null,{"$f":"CSVデータ1!X106+CSVデータ2!X106+CSVデータ3!X106+CSVデータ4!X106","v":0},null,{"$f":"CSVデータ1!Z106+CSVデータ2!Z106+CSVデータ3!Z106+CSVデータ4!Z106","v":0},null,{"$f":"CSVデータ1!AB106+CSVデータ2!AB106+CSVデータ3!AB106+CSVデータ4!AB106","v":0},null,{"$f":"CSVデータ1!AD106+CSVデータ2!AD106+CSVデータ3!AD106+CSVデータ4!AD106","v":0},null,{"$f":"CSVデータ1!AF106+CSVデータ2!AF106+CSVデータ3!AF106+CSVデータ4!AF106","v":0}]
[{"$f":"CSVデータ1!A107","v":"明細部"},{"$f":"CSVデータ1!B107","v":"県"},{"$f":"CSVデータ1!C107","v":73},{"$f":"CSVデータ1!D107","v":"男"},{"$f":"CSVデータ1!E107+CSVデータ2!E107+CSVデータ3!E107+CSVデータ4!E107","v":0},{"$f":"CSVデータ1!F107+CSVデータ2!F107+CSVデータ3!F107+CSVデータ4!F107","v":0},null,{"$f":"CSVデータ1!H107+CSVデータ2!H107+CSVデータ3!H107+CSVデータ4!H107","v":0},null,{"$f":"CSVデータ1!J107+CSVデータ2!J107+CSVデータ3!J107+CSVデータ4!J107","v":0},null,{"$f":"CSVデータ1!L107+CSVデータ2!L107+CSVデータ3!L107+CSVデータ4!L107","v":0},null,{"$f":"CSVデータ1!N107+CSVデータ2!N107+CSVデータ3!N107+CSVデータ4!N107","v":0},null,{"$f":"CSVデータ1!P107+CSVデータ2!P107+CSVデータ3!P107+CSVデータ4!P107","v":0},null,{"$f":"CSVデータ1!R107+CSVデータ2!R107+CSVデータ3!R107+CSVデータ4!R107","v":0},null,{"$f":"CSVデータ1!T107+CSVデータ2!T107+CSVデータ3!T107+CSVデータ4!T107","v":0},null,{"$f":"CSVデータ1!V107+CSVデータ2!V107+CSVデータ3!V107+CSVデータ4!V107","v":0},null,{"$f":"CSVデータ1!X107+CSVデータ2!X107+CSVデータ3!X107+CSVデータ4!X107","v":0},null,{"$f":"CSVデータ1!Z107+CSVデータ2!Z107+CSVデータ3!Z107+CSVデータ4!Z107","v":0},null,{"$f":"CSVデータ1!AB107+CSVデータ2!AB107+CSVデータ3!AB107+CSVデータ4!AB107","v":0},null,{"$f":"CSVデータ1!AD107+CSVデータ2!AD107+CSVデータ3!AD107+CSVデータ4!AD107","v":0},null,{"$f":"CSVデータ1!AF107+CSVデータ2!AF107+CSVデータ3!AF107+CSVデータ4!AF107","v":0}]
[{"$f":"CSVデータ1!A108","v":"明細部"},{"$f":"CSVデータ1!B108","v":"県"},{"$f":"CSVデータ1!C108","v":74},{"$f":"CSVデータ1!D108","v":"男"},{"$f":"CSVデータ1!E108+CSVデータ2!E108+CSVデータ3!E108+CSVデータ4!E108","v":0},{"$f":"CSVデータ1!F108+CSVデータ2!F108+CSVデータ3!F108+CSVデータ4!F108","v":0},null,{"$f":"CSVデータ1!H108+CSVデータ2!H108+CSVデータ3!H108+CSVデータ4!H108","v":0},null,{"$f":"CSVデータ1!J108+CSVデータ2!J108+CSVデータ3!J108+CSVデータ4!J108","v":0},null,{"$f":"CSVデータ1!L108+CSVデータ2!L108+CSVデータ3!L108+CSVデータ4!L108","v":0},null,{"$f":"CSVデータ1!N108+CSVデータ2!N108+CSVデータ3!N108+CSVデータ4!N108","v":0},null,{"$f":"CSVデータ1!P108+CSVデータ2!P108+CSVデータ3!P108+CSVデータ4!P108","v":0},null,{"$f":"CSVデータ1!R108+CSVデータ2!R108+CSVデータ3!R108+CSVデータ4!R108","v":0},null,{"$f":"CSVデータ1!T108+CSVデータ2!T108+CSVデータ3!T108+CSVデータ4!T108","v":0},null,{"$f":"CSVデータ1!V108+CSVデータ2!V108+CSVデータ3!V108+CSVデータ4!V108","v":0},null,{"$f":"CSVデータ1!X108+CSVデータ2!X108+CSVデータ3!X108+CSVデータ4!X108","v":0},null,{"$f":"CSVデータ1!Z108+CSVデータ2!Z108+CSVデータ3!Z108+CSVデータ4!Z108","v":0},null,{"$f":"CSVデータ1!AB108+CSVデータ2!AB108+CSVデータ3!AB108+CSVデータ4!AB108","v":0},null,{"$f":"CSVデータ1!AD108+CSVデータ2!AD108+CSVデータ3!AD108+CSVデータ4!AD108","v":0},null,{"$f":"CSVデータ1!AF108+CSVデータ2!AF108+CSVデータ3!AF108+CSVデータ4!AF108","v":0}]
[{"$f":"CSVデータ1!A109","v":"明細部"},{"$f":"CSVデータ1!B109","v":"県"},{"$f":"CSVデータ1!C109","v":40},{"$f":"CSVデータ1!D109","v":"女"},{"$f":"CSVデータ1!E109+CSVデータ2!E109+CSVデータ3!E109+CSVデータ4!E109","v":0},{"$f":"CSVデータ1!F109+CSVデータ2!F109+CSVデータ3!F109+CSVデータ4!F109","v":0},null,{"$f":"CSVデータ1!H109+CSVデータ2!H109+CSVデータ3!H109+CSVデータ4!H109","v":0},null,{"$f":"CSVデータ1!J109+CSVデータ2!J109+CSVデータ3!J109+CSVデータ4!J109","v":0},null,{"$f":"CSVデータ1!L109+CSVデータ2!L109+CSVデータ3!L109+CSVデータ4!L109","v":0},null,{"$f":"CSVデータ1!N109+CSVデータ2!N109+CSVデータ3!N109+CSVデータ4!N109","v":0},null,{"$f":"CSVデータ1!P109+CSVデータ2!P109+CSVデータ3!P109+CSVデータ4!P109","v":0},null,{"$f":"CSVデータ1!R109+CSVデータ2!R109+CSVデータ3!R109+CSVデータ4!R109","v":0},null,{"$f":"CSVデータ1!T109+CSVデータ2!T109+CSVデータ3!T109+CSVデータ4!T109","v":0},null,{"$f":"CSVデータ1!V109+CSVデータ2!V109+CSVデータ3!V109+CSVデータ4!V109","v":0},null,{"$f":"CSVデータ1!X109+CSVデータ2!X109+CSVデータ3!X109+CSVデータ4!X109","v":0},null,{"$f":"CSVデータ1!Z109+CSVデータ2!Z109+CSVデータ3!Z109+CSVデータ4!Z109","v":0},null,{"$f":"CSVデータ1!AB109+CSVデータ2!AB109+CSVデータ3!AB109+CSVデータ4!AB109","v":0},null,{"$f":"CSVデータ1!AD109+CSVデータ2!AD109+CSVデータ3!AD109+CSVデータ4!AD109","v":0},null,{"$f":"CSVデータ1!AF109+CSVデータ2!AF109+CSVデータ3!AF109+CSVデータ4!AF109","v":0}]
[{"$f":"CSVデータ1!A110","v":"明細部"},{"$f":"CSVデータ1!B110","v":"県"},{"$f":"CSVデータ1!C110","v":41},{"$f":"CSVデータ1!D110","v":"女"},{"$f":"CSVデータ1!E110+CSVデータ2!E110+CSVデータ3!E110+CSVデータ4!E110","v":0},{"$f":"CSVデータ1!F110+CSVデータ2!F110+CSVデータ3!F110+CSVデータ4!F110","v":0},null,{"$f":"CSVデータ1!H110+CSVデータ2!H110+CSVデータ3!H110+CSVデータ4!H110","v":0},null,{"$f":"CSVデータ1!J110+CSVデータ2!J110+CSVデータ3!J110+CSVデータ4!J110","v":0},null,{"$f":"CSVデータ1!L110+CSVデータ2!L110+CSVデータ3!L110+CSVデータ4!L110","v":0},null,{"$f":"CSVデータ1!N110+CSVデータ2!N110+CSVデータ3!N110+CSVデータ4!N110","v":0},null,{"$f":"CSVデータ1!P110+CSVデータ2!P110+CSVデータ3!P110+CSVデータ4!P110","v":0},null,{"$f":"CSVデータ1!R110+CSVデータ2!R110+CSVデータ3!R110+CSVデータ4!R110","v":0},null,{"$f":"CSVデータ1!T110+CSVデータ2!T110+CSVデータ3!T110+CSVデータ4!T110","v":0},null,{"$f":"CSVデータ1!V110+CSVデータ2!V110+CSVデータ3!V110+CSVデータ4!V110","v":0},null,{"$f":"CSVデータ1!X110+CSVデータ2!X110+CSVデータ3!X110+CSVデータ4!X110","v":0},null,{"$f":"CSVデータ1!Z110+CSVデータ2!Z110+CSVデータ3!Z110+CSVデータ4!Z110","v":0},null,{"$f":"CSVデータ1!AB110+CSVデータ2!AB110+CSVデータ3!AB110+CSVデータ4!AB110","v":0},null,{"$f":"CSVデータ1!AD110+CSVデータ2!AD110+CSVデータ3!AD110+CSVデータ4!AD110","v":0},null,{"$f":"CSVデータ1!AF110+CSVデータ2!AF110+CSVデータ3!AF110+CSVデータ4!AF110","v":0}]
[{"$f":"CSVデータ1!A111","v":"明細部"},{"$f":"CSVデータ1!B111","v":"県"},{"$f":"CSVデータ1!C111","v":42},{"$f":"CSVデータ1!D111","v":"女"},{"$f":"CSVデータ1!E111+CSVデータ2!E111+CSVデータ3!E111+CSVデータ4!E111","v":0},{"$f":"CSVデータ1!F111+CSVデータ2!F111+CSVデータ3!F111+CSVデータ4!F111","v":0},null,{"$f":"CSVデータ1!H111+CSVデータ2!H111+CSVデータ3!H111+CSVデータ4!H111","v":0},null,{"$f":"CSVデータ1!J111+CSVデータ2!J111+CSVデータ3!J111+CSVデータ4!J111","v":0},null,{"$f":"CSVデータ1!L111+CSVデータ2!L111+CSVデータ3!L111+CSVデータ4!L111","v":0},null,{"$f":"CSVデータ1!N111+CSVデータ2!N111+CSVデータ3!N111+CSVデータ4!N111","v":0},null,{"$f":"CSVデータ1!P111+CSVデータ2!P111+CSVデータ3!P111+CSVデータ4!P111","v":0},null,{"$f":"CSVデータ1!R111+CSVデータ2!R111+CSVデータ3!R111+CSVデータ4!R111","v":0},null,{"$f":"CSVデータ1!T111+CSVデータ2!T111+CSVデータ3!T111+CSVデータ4!T111","v":0},null,{"$f":"CSVデータ1!V111+CSVデータ2!V111+CSVデータ3!V111+CSVデータ4!V111","v":0},null,{"$f":"CSVデータ1!X111+CSVデータ2!X111+CSVデータ3!X111+CSVデータ4!X111","v":0},null,{"$f":"CSVデータ1!Z111+CSVデータ2!Z111+CSVデータ3!Z111+CSVデータ4!Z111","v":0},null,{"$f":"CSVデータ1!AB111+CSVデータ2!AB111+CSVデータ3!AB111+CSVデータ4!AB111","v":0},null,{"$f":"CSVデータ1!AD111+CSVデータ2!AD111+CSVデータ3!AD111+CSVデータ4!AD111","v":0},null,{"$f":"CSVデータ1!AF111+CSVデータ2!AF111+CSVデータ3!AF111+CSVデータ4!AF111","v":0}]
[{"$f":"CSVデータ1!A112","v":"明細部"},{"$f":"CSVデータ1!B112","v":"県"},{"$f":"CSVデータ1!C112","v":43},{"$f":"CSVデータ1!D112","v":"女"},{"$f":"CSVデータ1!E112+CSVデータ2!E112+CSVデータ3!E112+CSVデータ4!E112","v":0},{"$f":"CSVデータ1!F112+CSVデータ2!F112+CSVデータ3!F112+CSVデータ4!F112","v":0},null,{"$f":"CSVデータ1!H112+CSVデータ2!H112+CSVデータ3!H112+CSVデータ4!H112","v":0},null,{"$f":"CSVデータ1!J112+CSVデータ2!J112+CSVデータ3!J112+CSVデータ4!J112","v":0},null,{"$f":"CSVデータ1!L112+CSVデータ2!L112+CSVデータ3!L112+CSVデータ4!L112","v":0},null,{"$f":"CSVデータ1!N112+CSVデータ2!N112+CSVデータ3!N112+CSVデータ4!N112","v":0},null,{"$f":"CSVデータ1!P112+CSVデータ2!P112+CSVデータ3!P112+CSVデータ4!P112","v":0},null,{"$f":"CSVデータ1!R112+CSVデータ2!R112+CSVデータ3!R112+CSVデータ4!R112","v":0},null,{"$f":"CSVデータ1!T112+CSVデータ2!T112+CSVデータ3!T112+CSVデータ4!T112","v":0},null,{"$f":"CSVデータ1!V112+CSVデータ2!V112+CSVデータ3!V112+CSVデータ4!V112","v":0},null,{"$f":"CSVデータ1!X112+CSVデータ2!X112+CSVデータ3!X112+CSVデータ4!X112","v":0},null,{"$f":"CSVデータ1!Z112+CSVデータ2!Z112+CSVデータ3!Z112+CSVデータ4!Z112","v":0},null,{"$f":"CSVデータ1!AB112+CSVデータ2!AB112+CSVデータ3!AB112+CSVデータ4!AB112","v":0},null,{"$f":"CSVデータ1!AD112+CSVデータ2!AD112+CSVデータ3!AD112+CSVデータ4!AD112","v":0},null,{"$f":"CSVデータ1!AF112+CSVデータ2!AF112+CSVデータ3!AF112+CSVデータ4!AF112","v":0}]
[{"$f":"CSVデータ1!A113","v":"明細部"},{"$f":"CSVデータ1!B113","v":"県"},{"$f":"CSVデータ1!C113","v":44},{"$f":"CSVデータ1!D113","v":"女"},{"$f":"CSVデータ1!E113+CSVデータ2!E113+CSVデータ3!E113+CSVデータ4!E113","v":0},{"$f":"CSVデータ1!F113+CSVデータ2!F113+CSVデータ3!F113+CSVデータ4!F113","v":0},null,{"$f":"CSVデータ1!H113+CSVデータ2!H113+CSVデータ3!H113+CSVデータ4!H113","v":0},null,{"$f":"CSVデータ1!J113+CSVデータ2!J113+CSVデータ3!J113+CSVデータ4!J113","v":0},null,{"$f":"CSVデータ1!L113+CSVデータ2!L113+CSVデータ3!L113+CSVデータ4!L113","v":0},null,{"$f":"CSVデータ1!N113+CSVデータ2!N113+CSVデータ3!N113+CSVデータ4!N113","v":0},null,{"$f":"CSVデータ1!P113+CSVデータ2!P113+CSVデータ3!P113+CSVデータ4!P113","v":0},null,{"$f":"CSVデータ1!R113+CSVデータ2!R113+CSVデータ3!R113+CSVデータ4!R113","v":0},null,{"$f":"CSVデータ1!T113+CSVデータ2!T113+CSVデータ3!T113+CSVデータ4!T113","v":0},null,{"$f":"CSVデータ1!V113+CSVデータ2!V113+CSVデータ3!V113+CSVデータ4!V113","v":0},null,{"$f":"CSVデータ1!X113+CSVデータ2!X113+CSVデータ3!X113+CSVデータ4!X113","v":0},null,{"$f":"CSVデータ1!Z113+CSVデータ2!Z113+CSVデータ3!Z113+CSVデータ4!Z113","v":0},null,{"$f":"CSVデータ1!AB113+CSVデータ2!AB113+CSVデータ3!AB113+CSVデータ4!AB113","v":0},null,{"$f":"CSVデータ1!AD113+CSVデータ2!AD113+CSVデータ3!AD113+CSVデータ4!AD113","v":0},null,{"$f":"CSVデータ1!AF113+CSVデータ2!AF113+CSVデータ3!AF113+CSVデータ4!AF113","v":0}]
[{"$f":"CSVデータ1!A114","v":"明細部"},{"$f":"CSVデータ1!B114","v":"県"},{"$f":"CSVデータ1!C114","v":45},{"$f":"CSVデータ1!D114","v":"女"},{"$f":"CSVデータ1!E114+CSVデータ2!E114+CSVデータ3!E114+CSVデータ4!E114","v":0},{"$f":"CSVデータ1!F114+CSVデータ2!F114+CSVデータ3!F114+CSVデータ4!F114","v":0},null,{"$f":"CSVデータ1!H114+CSVデータ2!H114+CSVデータ3!H114+CSVデータ4!H114","v":0},null,{"$f":"CSVデータ1!J114+CSVデータ2!J114+CSVデータ3!J114+CSVデータ4!J114","v":0},null,{"$f":"CSVデータ1!L114+CSVデータ2!L114+CSVデータ3!L114+CSVデータ4!L114","v":0},null,{"$f":"CSVデータ1!N114+CSVデータ2!N114+CSVデータ3!N114+CSVデータ4!N114","v":0},null,{"$f":"CSVデータ1!P114+CSVデータ2!P114+CSVデータ3!P114+CSVデータ4!P114","v":0},null,{"$f":"CSVデータ1!R114+CSVデータ2!R114+CSVデータ3!R114+CSVデータ4!R114","v":0},null,{"$f":"CSVデータ1!T114+CSVデータ2!T114+CSVデータ3!T114+CSVデータ4!T114","v":0},null,{"$f":"CSVデータ1!V114+CSVデータ2!V114+CSVデータ3!V114+CSVデータ4!V114","v":0},null,{"$f":"CSVデータ1!X114+CSVデータ2!X114+CSVデータ3!X114+CSVデータ4!X114","v":0},null,{"$f":"CSVデータ1!Z114+CSVデータ2!Z114+CSVデータ3!Z114+CSVデータ4!Z114","v":0},null,{"$f":"CSVデータ1!AB114+CSVデータ2!AB114+CSVデータ3!AB114+CSVデータ4!AB114","v":0},null,{"$f":"CSVデータ1!AD114+CSVデータ2!AD114+CSVデータ3!AD114+CSVデータ4!AD114","v":0},null,{"$f":"CSVデータ1!AF114+CSVデータ2!AF114+CSVデータ3!AF114+CSVデータ4!AF114","v":0}]
[{"$f":"CSVデータ1!A115","v":"明細部"},{"$f":"CSVデータ1!B115","v":"県"},{"$f":"CSVデータ1!C115","v":46},{"$f":"CSVデータ1!D115","v":"女"},{"$f":"CSVデータ1!E115+CSVデータ2!E115+CSVデータ3!E115+CSVデータ4!E115","v":0},{"$f":"CSVデータ1!F115+CSVデータ2!F115+CSVデータ3!F115+CSVデータ4!F115","v":0},null,{"$f":"CSVデータ1!H115+CSVデータ2!H115+CSVデータ3!H115+CSVデータ4!H115","v":0},null,{"$f":"CSVデータ1!J115+CSVデータ2!J115+CSVデータ3!J115+CSVデータ4!J115","v":0},null,{"$f":"CSVデータ1!L115+CSVデータ2!L115+CSVデータ3!L115+CSVデータ4!L115","v":0},null,{"$f":"CSVデータ1!N115+CSVデータ2!N115+CSVデータ3!N115+CSVデータ4!N115","v":0},null,{"$f":"CSVデータ1!P115+CSVデータ2!P115+CSVデータ3!P115+CSVデータ4!P115","v":0},null,{"$f":"CSVデータ1!R115+CSVデータ2!R115+CSVデータ3!R115+CSVデータ4!R115","v":0},null,{"$f":"CSVデータ1!T115+CSVデータ2!T115+CSVデータ3!T115+CSVデータ4!T115","v":0},null,{"$f":"CSVデータ1!V115+CSVデータ2!V115+CSVデータ3!V115+CSVデータ4!V115","v":0},null,{"$f":"CSVデータ1!X115+CSVデータ2!X115+CSVデータ3!X115+CSVデータ4!X115","v":0},null,{"$f":"CSVデータ1!Z115+CSVデータ2!Z115+CSVデータ3!Z115+CSVデータ4!Z115","v":0},null,{"$f":"CSVデータ1!AB115+CSVデータ2!AB115+CSVデータ3!AB115+CSVデータ4!AB115","v":0},null,{"$f":"CSVデータ1!AD115+CSVデータ2!AD115+CSVデータ3!AD115+CSVデータ4!AD115","v":0},null,{"$f":"CSVデータ1!AF115+CSVデータ2!AF115+CSVデータ3!AF115+CSVデータ4!AF115","v":0}]
[{"$f":"CSVデータ1!A116","v":"明細部"},{"$f":"CSVデータ1!B116","v":"県"},{"$f":"CSVデータ1!C116","v":47},{"$f":"CSVデータ1!D116","v":"女"},{"$f":"CSVデータ1!E116+CSVデータ2!E116+CSVデータ3!E116+CSVデータ4!E116","v":0},{"$f":"CSVデータ1!F116+CSVデータ2!F116+CSVデータ3!F116+CSVデータ4!F116","v":0},null,{"$f":"CSVデータ1!H116+CSVデータ2!H116+CSVデータ3!H116+CSVデータ4!H116","v":0},null,{"$f":"CSVデータ1!J116+CSVデータ2!J116+CSVデータ3!J116+CSVデータ4!J116","v":0},null,{"$f":"CSVデータ1!L116+CSVデータ2!L116+CSVデータ3!L116+CSVデータ4!L116","v":0},null,{"$f":"CSVデータ1!N116+CSVデータ2!N116+CSVデータ3!N116+CSVデータ4!N116","v":0},null,{"$f":"CSVデータ1!P116+CSVデータ2!P116+CSVデータ3!P116+CSVデータ4!P116","v":0},null,{"$f":"CSVデータ1!R116+CSVデータ2!R116+CSVデータ3!R116+CSVデータ4!R116","v":0},null,{"$f":"CSVデータ1!T116+CSVデータ2!T116+CSVデータ3!T116+CSVデータ4!T116","v":0},null,{"$f":"CSVデータ1!V116+CSVデータ2!V116+CSVデータ3!V116+CSVデータ4!V116","v":0},null,{"$f":"CSVデータ1!X116+CSVデータ2!X116+CSVデータ3!X116+CSVデータ4!X116","v":0},null,{"$f":"CSVデータ1!Z116+CSVデータ2!Z116+CSVデータ3!Z116+CSVデータ4!Z116","v":0},null,{"$f":"CSVデータ1!AB116+CSVデータ2!AB116+CSVデータ3!AB116+CSVデータ4!AB116","v":0},null,{"$f":"CSVデータ1!AD116+CSVデータ2!AD116+CSVデータ3!AD116+CSVデータ4!AD116","v":0},null,{"$f":"CSVデータ1!AF116+CSVデータ2!AF116+CSVデータ3!AF116+CSVデータ4!AF116","v":0}]
[{"$f":"CSVデータ1!A117","v":"明細部"},{"$f":"CSVデータ1!B117","v":"県"},{"$f":"CSVデータ1!C117","v":48},{"$f":"CSVデータ1!D117","v":"女"},{"$f":"CSVデータ1!E117+CSVデータ2!E117+CSVデータ3!E117+CSVデータ4!E117","v":0},{"$f":"CSVデータ1!F117+CSVデータ2!F117+CSVデータ3!F117+CSVデータ4!F117","v":0},null,{"$f":"CSVデータ1!H117+CSVデータ2!H117+CSVデータ3!H117+CSVデータ4!H117","v":0},null,{"$f":"CSVデータ1!J117+CSVデータ2!J117+CSVデータ3!J117+CSVデータ4!J117","v":0},null,{"$f":"CSVデータ1!L117+CSVデータ2!L117+CSVデータ3!L117+CSVデータ4!L117","v":0},null,{"$f":"CSVデータ1!N117+CSVデータ2!N117+CSVデータ3!N117+CSVデータ4!N117","v":0},null,{"$f":"CSVデータ1!P117+CSVデータ2!P117+CSVデータ3!P117+CSVデータ4!P117","v":0},null,{"$f":"CSVデータ1!R117+CSVデータ2!R117+CSVデータ3!R117+CSVデータ4!R117","v":0},null,{"$f":"CSVデータ1!T117+CSVデータ2!T117+CSVデータ3!T117+CSVデータ4!T117","v":0},null,{"$f":"CSVデータ1!V117+CSVデータ2!V117+CSVデータ3!V117+CSVデータ4!V117","v":0},null,{"$f":"CSVデータ1!X117+CSVデータ2!X117+CSVデータ3!X117+CSVデータ4!X117","v":0},null,{"$f":"CSVデータ1!Z117+CSVデータ2!Z117+CSVデータ3!Z117+CSVデータ4!Z117","v":0},null,{"$f":"CSVデータ1!AB117+CSVデータ2!AB117+CSVデータ3!AB117+CSVデータ4!AB117","v":0},null,{"$f":"CSVデータ1!AD117+CSVデータ2!AD117+CSVデータ3!AD117+CSVデータ4!AD117","v":0},null,{"$f":"CSVデータ1!AF117+CSVデータ2!AF117+CSVデータ3!AF117+CSVデータ4!AF117","v":0}]
[{"$f":"CSVデータ1!A118","v":"明細部"},{"$f":"CSVデータ1!B118","v":"県"},{"$f":"CSVデータ1!C118","v":49},{"$f":"CSVデータ1!D118","v":"女"},{"$f":"CSVデータ1!E118+CSVデータ2!E118+CSVデータ3!E118+CSVデータ4!E118","v":0},{"$f":"CSVデータ1!F118+CSVデータ2!F118+CSVデータ3!F118+CSVデータ4!F118","v":0},null,{"$f":"CSVデータ1!H118+CSVデータ2!H118+CSVデータ3!H118+CSVデータ4!H118","v":0},null,{"$f":"CSVデータ1!J118+CSVデータ2!J118+CSVデータ3!J118+CSVデータ4!J118","v":0},null,{"$f":"CSVデータ1!L118+CSVデータ2!L118+CSVデータ3!L118+CSVデータ4!L118","v":0},null,{"$f":"CSVデータ1!N118+CSVデータ2!N118+CSVデータ3!N118+CSVデータ4!N118","v":0},null,{"$f":"CSVデータ1!P118+CSVデータ2!P118+CSVデータ3!P118+CSVデータ4!P118","v":0},null,{"$f":"CSVデータ1!R118+CSVデータ2!R118+CSVデータ3!R118+CSVデータ4!R118","v":0},null,{"$f":"CSVデータ1!T118+CSVデータ2!T118+CSVデータ3!T118+CSVデータ4!T118","v":0},null,{"$f":"CSVデータ1!V118+CSVデータ2!V118+CSVデータ3!V118+CSVデータ4!V118","v":0},null,{"$f":"CSVデータ1!X118+CSVデータ2!X118+CSVデータ3!X118+CSVデータ4!X118","v":0},null,{"$f":"CSVデータ1!Z118+CSVデータ2!Z118+CSVデータ3!Z118+CSVデータ4!Z118","v":0},null,{"$f":"CSVデータ1!AB118+CSVデータ2!AB118+CSVデータ3!AB118+CSVデータ4!AB118","v":0},null,{"$f":"CSVデータ1!AD118+CSVデータ2!AD118+CSVデータ3!AD118+CSVデータ4!AD118","v":0},null,{"$f":"CSVデータ1!AF118+CSVデータ2!AF118+CSVデータ3!AF118+CSVデータ4!AF118","v":0}]
[{"$f":"CSVデータ1!A119","v":"明細部"},{"$f":"CSVデータ1!B119","v":"県"},{"$f":"CSVデータ1!C119","v":50},{"$f":"CSVデータ1!D119","v":"女"},{"$f":"CSVデータ1!E119+CSVデータ2!E119+CSVデータ3!E119+CSVデータ4!E119","v":0},{"$f":"CSVデータ1!F119+CSVデータ2!F119+CSVデータ3!F119+CSVデータ4!F119","v":0},null,{"$f":"CSVデータ1!H119+CSVデータ2!H119+CSVデータ3!H119+CSVデータ4!H119","v":0},null,{"$f":"CSVデータ1!J119+CSVデータ2!J119+CSVデータ3!J119+CSVデータ4!J119","v":0},null,{"$f":"CSVデータ1!L119+CSVデータ2!L119+CSVデータ3!L119+CSVデータ4!L119","v":0},null,{"$f":"CSVデータ1!N119+CSVデータ2!N119+CSVデータ3!N119+CSVデータ4!N119","v":0},null,{"$f":"CSVデータ1!P119+CSVデータ2!P119+CSVデータ3!P119+CSVデータ4!P119","v":0},null,{"$f":"CSVデータ1!R119+CSVデータ2!R119+CSVデータ3!R119+CSVデータ4!R119","v":0},null,{"$f":"CSVデータ1!T119+CSVデータ2!T119+CSVデータ3!T119+CSVデータ4!T119","v":0},null,{"$f":"CSVデータ1!V119+CSVデータ2!V119+CSVデータ3!V119+CSVデータ4!V119","v":0},null,{"$f":"CSVデータ1!X119+CSVデータ2!X119+CSVデータ3!X119+CSVデータ4!X119","v":0},null,{"$f":"CSVデータ1!Z119+CSVデータ2!Z119+CSVデータ3!Z119+CSVデータ4!Z119","v":0},null,{"$f":"CSVデータ1!AB119+CSVデータ2!AB119+CSVデータ3!AB119+CSVデータ4!AB119","v":0},null,{"$f":"CSVデータ1!AD119+CSVデータ2!AD119+CSVデータ3!AD119+CSVデータ4!AD119","v":0},null,{"$f":"CSVデータ1!AF119+CSVデータ2!AF119+CSVデータ3!AF119+CSVデータ4!AF119","v":0}]
[{"$f":"CSVデータ1!A120","v":"明細部"},{"$f":"CSVデータ1!B120","v":"県"},{"$f":"CSVデータ1!C120","v":51},{"$f":"CSVデータ1!D120","v":"女"},{"$f":"CSVデータ1!E120+CSVデータ2!E120+CSVデータ3!E120+CSVデータ4!E120","v":0},{"$f":"CSVデータ1!F120+CSVデータ2!F120+CSVデータ3!F120+CSVデータ4!F120","v":0},null,{"$f":"CSVデータ1!H120+CSVデータ2!H120+CSVデータ3!H120+CSVデータ4!H120","v":0},null,{"$f":"CSVデータ1!J120+CSVデータ2!J120+CSVデータ3!J120+CSVデータ4!J120","v":0},null,{"$f":"CSVデータ1!L120+CSVデータ2!L120+CSVデータ3!L120+CSVデータ4!L120","v":0},null,{"$f":"CSVデータ1!N120+CSVデータ2!N120+CSVデータ3!N120+CSVデータ4!N120","v":0},null,{"$f":"CSVデータ1!P120+CSVデータ2!P120+CSVデータ3!P120+CSVデータ4!P120","v":0},null,{"$f":"CSVデータ1!R120+CSVデータ2!R120+CSVデータ3!R120+CSVデータ4!R120","v":0},null,{"$f":"CSVデータ1!T120+CSVデータ2!T120+CSVデータ3!T120+CSVデータ4!T120","v":0},null,{"$f":"CSVデータ1!V120+CSVデータ2!V120+CSVデータ3!V120+CSVデータ4!V120","v":0},null,{"$f":"CSVデータ1!X120+CSVデータ2!X120+CSVデータ3!X120+CSVデータ4!X120","v":0},null,{"$f":"CSVデータ1!Z120+CSVデータ2!Z120+CSVデータ3!Z120+CSVデータ4!Z120","v":0},null,{"$f":"CSVデータ1!AB120+CSVデータ2!AB120+CSVデータ3!AB120+CSVデータ4!AB120","v":0},null,{"$f":"CSVデータ1!AD120+CSVデータ2!AD120+CSVデータ3!AD120+CSVデータ4!AD120","v":0},null,{"$f":"CSVデータ1!AF120+CSVデータ2!AF120+CSVデータ3!AF120+CSVデータ4!AF120","v":0}]
[{"$f":"CSVデータ1!A121","v":"明細部"},{"$f":"CSVデータ1!B121","v":"県"},{"$f":"CSVデータ1!C121","v":52},{"$f":"CSVデータ1!D121","v":"女"},{"$f":"CSVデータ1!E121+CSVデータ2!E121+CSVデータ3!E121+CSVデータ4!E121","v":0},{"$f":"CSVデータ1!F121+CSVデータ2!F121+CSVデータ3!F121+CSVデータ4!F121","v":0},null,{"$f":"CSVデータ1!H121+CSVデータ2!H121+CSVデータ3!H121+CSVデータ4!H121","v":0},null,{"$f":"CSVデータ1!J121+CSVデータ2!J121+CSVデータ3!J121+CSVデータ4!J121","v":0},null,{"$f":"CSVデータ1!L121+CSVデータ2!L121+CSVデータ3!L121+CSVデータ4!L121","v":0},null,{"$f":"CSVデータ1!N121+CSVデータ2!N121+CSVデータ3!N121+CSVデータ4!N121","v":0},null,{"$f":"CSVデータ1!P121+CSVデータ2!P121+CSVデータ3!P121+CSVデータ4!P121","v":0},null,{"$f":"CSVデータ1!R121+CSVデータ2!R121+CSVデータ3!R121+CSVデータ4!R121","v":0},null,{"$f":"CSVデータ1!T121+CSVデータ2!T121+CSVデータ3!T121+CSVデータ4!T121","v":0},null,{"$f":"CSVデータ1!V121+CSVデータ2!V121+CSVデータ3!V121+CSVデータ4!V121","v":0},null,{"$f":"CSVデータ1!X121+CSVデータ2!X121+CSVデータ3!X121+CSVデータ4!X121","v":0},null,{"$f":"CSVデータ1!Z121+CSVデータ2!Z121+CSVデータ3!Z121+CSVデータ4!Z121","v":0},null,{"$f":"CSVデータ1!AB121+CSVデータ2!AB121+CSVデータ3!AB121+CSVデータ4!AB121","v":0},null,{"$f":"CSVデータ1!AD121+CSVデータ2!AD121+CSVデータ3!AD121+CSVデータ4!AD121","v":0},null,{"$f":"CSVデータ1!AF121+CSVデータ2!AF121+CSVデータ3!AF121+CSVデータ4!AF121","v":0}]
[{"$f":"CSVデータ1!A122","v":"明細部"},{"$f":"CSVデータ1!B122","v":"県"},{"$f":"CSVデータ1!C122","v":53},{"$f":"CSVデータ1!D122","v":"女"},{"$f":"CSVデータ1!E122+CSVデータ2!E122+CSVデータ3!E122+CSVデータ4!E122","v":0},{"$f":"CSVデータ1!F122+CSVデータ2!F122+CSVデータ3!F122+CSVデータ4!F122","v":0},null,{"$f":"CSVデータ1!H122+CSVデータ2!H122+CSVデータ3!H122+CSVデータ4!H122","v":0},null,{"$f":"CSVデータ1!J122+CSVデータ2!J122+CSVデータ3!J122+CSVデータ4!J122","v":0},null,{"$f":"CSVデータ1!L122+CSVデータ2!L122+CSVデータ3!L122+CSVデータ4!L122","v":0},null,{"$f":"CSVデータ1!N122+CSVデータ2!N122+CSVデータ3!N122+CSVデータ4!N122","v":0},null,{"$f":"CSVデータ1!P122+CSVデータ2!P122+CSVデータ3!P122+CSVデータ4!P122","v":0},null,{"$f":"CSVデータ1!R122+CSVデータ2!R122+CSVデータ3!R122+CSVデータ4!R122","v":0},null,{"$f":"CSVデータ1!T122+CSVデータ2!T122+CSVデータ3!T122+CSVデータ4!T122","v":0},null,{"$f":"CSVデータ1!V122+CSVデータ2!V122+CSVデータ3!V122+CSVデータ4!V122","v":0},null,{"$f":"CSVデータ1!X122+CSVデータ2!X122+CSVデータ3!X122+CSVデータ4!X122","v":0},null,{"$f":"CSVデータ1!Z122+CSVデータ2!Z122+CSVデータ3!Z122+CSVデータ4!Z122","v":0},null,{"$f":"CSVデータ1!AB122+CSVデータ2!AB122+CSVデータ3!AB122+CSVデータ4!AB122","v":0},null,{"$f":"CSVデータ1!AD122+CSVデータ2!AD122+CSVデータ3!AD122+CSVデータ4!AD122","v":0},null,{"$f":"CSVデータ1!AF122+CSVデータ2!AF122+CSVデータ3!AF122+CSVデータ4!AF122","v":0}]
[{"$f":"CSVデータ1!A123","v":"明細部"},{"$f":"CSVデータ1!B123","v":"県"},{"$f":"CSVデータ1!C123","v":54},{"$f":"CSVデータ1!D123","v":"女"},{"$f":"CSVデータ1!E123+CSVデータ2!E123+CSVデータ3!E123+CSVデータ4!E123","v":0},{"$f":"CSVデータ1!F123+CSVデータ2!F123+CSVデータ3!F123+CSVデータ4!F123","v":0},null,{"$f":"CSVデータ1!H123+CSVデータ2!H123+CSVデータ3!H123+CSVデータ4!H123","v":0},null,{"$f":"CSVデータ1!J123+CSVデータ2!J123+CSVデータ3!J123+CSVデータ4!J123","v":0},null,{"$f":"CSVデータ1!L123+CSVデータ2!L123+CSVデータ3!L123+CSVデータ4!L123","v":0},null,{"$f":"CSVデータ1!N123+CSVデータ2!N123+CSVデータ3!N123+CSVデータ4!N123","v":0},null,{"$f":"CSVデータ1!P123+CSVデータ2!P123+CSVデータ3!P123+CSVデータ4!P123","v":0},null,{"$f":"CSVデータ1!R123+CSVデータ2!R123+CSVデータ3!R123+CSVデータ4!R123","v":0},null,{"$f":"CSVデータ1!T123+CSVデータ2!T123+CSVデータ3!T123+CSVデータ4!T123","v":0},null,{"$f":"CSVデータ1!V123+CSVデータ2!V123+CSVデータ3!V123+CSVデータ4!V123","v":0},null,{"$f":"CSVデータ1!X123+CSVデータ2!X123+CSVデータ3!X123+CSVデータ4!X123","v":0},null,{"$f":"CSVデータ1!Z123+CSVデータ2!Z123+CSVデータ3!Z123+CSVデータ4!Z123","v":0},null,{"$f":"CSVデータ1!AB123+CSVデータ2!AB123+CSVデータ3!AB123+CSVデータ4!AB123","v":0},null,{"$f":"CSVデータ1!AD123+CSVデータ2!AD123+CSVデータ3!AD123+CSVデータ4!AD123","v":0},null,{"$f":"CSVデータ1!AF123+CSVデータ2!AF123+CSVデータ3!AF123+CSVデータ4!AF123","v":0}]
[{"$f":"CSVデータ1!A124","v":"明細部"},{"$f":"CSVデータ1!B124","v":"県"},{"$f":"CSVデータ1!C124","v":55},{"$f":"CSVデータ1!D124","v":"女"},{"$f":"CSVデータ1!E124+CSVデータ2!E124+CSVデータ3!E124+CSVデータ4!E124","v":0},{"$f":"CSVデータ1!F124+CSVデータ2!F124+CSVデータ3!F124+CSVデータ4!F124","v":0},null,{"$f":"CSVデータ1!H124+CSVデータ2!H124+CSVデータ3!H124+CSVデータ4!H124","v":0},null,{"$f":"CSVデータ1!J124+CSVデータ2!J124+CSVデータ3!J124+CSVデータ4!J124","v":0},null,{"$f":"CSVデータ1!L124+CSVデータ2!L124+CSVデータ3!L124+CSVデータ4!L124","v":0},null,{"$f":"CSVデータ1!N124+CSVデータ2!N124+CSVデータ3!N124+CSVデータ4!N124","v":0},null,{"$f":"CSVデータ1!P124+CSVデータ2!P124+CSVデータ3!P124+CSVデータ4!P124","v":0},null,{"$f":"CSVデータ1!R124+CSVデータ2!R124+CSVデータ3!R124+CSVデータ4!R124","v":0},null,{"$f":"CSVデータ1!T124+CSVデータ2!T124+CSVデータ3!T124+CSVデータ4!T124","v":0},null,{"$f":"CSVデータ1!V124+CSVデータ2!V124+CSVデータ3!V124+CSVデータ4!V124","v":0},null,{"$f":"CSVデータ1!X124+CSVデータ2!X124+CSVデータ3!X124+CSVデータ4!X124","v":0},null,{"$f":"CSVデータ1!Z124+CSVデータ2!Z124+CSVデータ3!Z124+CSVデータ4!Z124","v":0},null,{"$f":"CSVデータ1!AB124+CSVデータ2!AB124+CSVデータ3!AB124+CSVデータ4!AB124","v":0},null,{"$f":"CSVデータ1!AD124+CSVデータ2!AD124+CSVデータ3!AD124+CSVデータ4!AD124","v":0},null,{"$f":"CSVデータ1!AF124+CSVデータ2!AF124+CSVデータ3!AF124+CSVデータ4!AF124","v":0}]
[{"$f":"CSVデータ1!A125","v":"明細部"},{"$f":"CSVデータ1!B125","v":"県"},{"$f":"CSVデータ1!C125","v":56},{"$f":"CSVデータ1!D125","v":"女"},{"$f":"CSVデータ1!E125+CSVデータ2!E125+CSVデータ3!E125+CSVデータ4!E125","v":0},{"$f":"CSVデータ1!F125+CSVデータ2!F125+CSVデータ3!F125+CSVデータ4!F125","v":0},null,{"$f":"CSVデータ1!H125+CSVデータ2!H125+CSVデータ3!H125+CSVデータ4!H125","v":0},null,{"$f":"CSVデータ1!J125+CSVデータ2!J125+CSVデータ3!J125+CSVデータ4!J125","v":0},null,{"$f":"CSVデータ1!L125+CSVデータ2!L125+CSVデータ3!L125+CSVデータ4!L125","v":0},null,{"$f":"CSVデータ1!N125+CSVデータ2!N125+CSVデータ3!N125+CSVデータ4!N125","v":0},null,{"$f":"CSVデータ1!P125+CSVデータ2!P125+CSVデータ3!P125+CSVデータ4!P125","v":0},null,{"$f":"CSVデータ1!R125+CSVデータ2!R125+CSVデータ3!R125+CSVデータ4!R125","v":0},null,{"$f":"CSVデータ1!T125+CSVデータ2!T125+CSVデータ3!T125+CSVデータ4!T125","v":0},null,{"$f":"CSVデータ1!V125+CSVデータ2!V125+CSVデータ3!V125+CSVデータ4!V125","v":0},null,{"$f":"CSVデータ1!X125+CSVデータ2!X125+CSVデータ3!X125+CSVデータ4!X125","v":0},null,{"$f":"CSVデータ1!Z125+CSVデータ2!Z125+CSVデータ3!Z125+CSVデータ4!Z125","v":0},null,{"$f":"CSVデータ1!AB125+CSVデータ2!AB125+CSVデータ3!AB125+CSVデータ4!AB125","v":0},null,{"$f":"CSVデータ1!AD125+CSVデータ2!AD125+CSVデータ3!AD125+CSVデータ4!AD125","v":0},null,{"$f":"CSVデータ1!AF125+CSVデータ2!AF125+CSVデータ3!AF125+CSVデータ4!AF125","v":0}]
[{"$f":"CSVデータ1!A126","v":"明細部"},{"$f":"CSVデータ1!B126","v":"県"},{"$f":"CSVデータ1!C126","v":57},{"$f":"CSVデータ1!D126","v":"女"},{"$f":"CSVデータ1!E126+CSVデータ2!E126+CSVデータ3!E126+CSVデータ4!E126","v":0},{"$f":"CSVデータ1!F126+CSVデータ2!F126+CSVデータ3!F126+CSVデータ4!F126","v":0},null,{"$f":"CSVデータ1!H126+CSVデータ2!H126+CSVデータ3!H126+CSVデータ4!H126","v":0},null,{"$f":"CSVデータ1!J126+CSVデータ2!J126+CSVデータ3!J126+CSVデータ4!J126","v":0},null,{"$f":"CSVデータ1!L126+CSVデータ2!L126+CSVデータ3!L126+CSVデータ4!L126","v":0},null,{"$f":"CSVデータ1!N126+CSVデータ2!N126+CSVデータ3!N126+CSVデータ4!N126","v":0},null,{"$f":"CSVデータ1!P126+CSVデータ2!P126+CSVデータ3!P126+CSVデータ4!P126","v":0},null,{"$f":"CSVデータ1!R126+CSVデータ2!R126+CSVデータ3!R126+CSVデータ4!R126","v":0},null,{"$f":"CSVデータ1!T126+CSVデータ2!T126+CSVデータ3!T126+CSVデータ4!T126","v":0},null,{"$f":"CSVデータ1!V126+CSVデータ2!V126+CSVデータ3!V126+CSVデータ4!V126","v":0},null,{"$f":"CSVデータ1!X126+CSVデータ2!X126+CSVデータ3!X126+CSVデータ4!X126","v":0},null,{"$f":"CSVデータ1!Z126+CSVデータ2!Z126+CSVデータ3!Z126+CSVデータ4!Z126","v":0},null,{"$f":"CSVデータ1!AB126+CSVデータ2!AB126+CSVデータ3!AB126+CSVデータ4!AB126","v":0},null,{"$f":"CSVデータ1!AD126+CSVデータ2!AD126+CSVデータ3!AD126+CSVデータ4!AD126","v":0},null,{"$f":"CSVデータ1!AF126+CSVデータ2!AF126+CSVデータ3!AF126+CSVデータ4!AF126","v":0}]
[{"$f":"CSVデータ1!A127","v":"明細部"},{"$f":"CSVデータ1!B127","v":"県"},{"$f":"CSVデータ1!C127","v":58},{"$f":"CSVデータ1!D127","v":"女"},{"$f":"CSVデータ1!E127+CSVデータ2!E127+CSVデータ3!E127+CSVデータ4!E127","v":0},{"$f":"CSVデータ1!F127+CSVデータ2!F127+CSVデータ3!F127+CSVデータ4!F127","v":0},null,{"$f":"CSVデータ1!H127+CSVデータ2!H127+CSVデータ3!H127+CSVデータ4!H127","v":0},null,{"$f":"CSVデータ1!J127+CSVデータ2!J127+CSVデータ3!J127+CSVデータ4!J127","v":0},null,{"$f":"CSVデータ1!L127+CSVデータ2!L127+CSVデータ3!L127+CSVデータ4!L127","v":0},null,{"$f":"CSVデータ1!N127+CSVデータ2!N127+CSVデータ3!N127+CSVデータ4!N127","v":0},null,{"$f":"CSVデータ1!P127+CSVデータ2!P127+CSVデータ3!P127+CSVデータ4!P127","v":0},null,{"$f":"CSVデータ1!R127+CSVデータ2!R127+CSVデータ3!R127+CSVデータ4!R127","v":0},null,{"$f":"CSVデータ1!T127+CSVデータ2!T127+CSVデータ3!T127+CSVデータ4!T127","v":0},null,{"$f":"CSVデータ1!V127+CSVデータ2!V127+CSVデータ3!V127+CSVデータ4!V127","v":0},null,{"$f":"CSVデータ1!X127+CSVデータ2!X127+CSVデータ3!X127+CSVデータ4!X127","v":0},null,{"$f":"CSVデータ1!Z127+CSVデータ2!Z127+CSVデータ3!Z127+CSVデータ4!Z127","v":0},null,{"$f":"CSVデータ1!AB127+CSVデータ2!AB127+CSVデータ3!AB127+CSVデータ4!AB127","v":0},null,{"$f":"CSVデータ1!AD127+CSVデータ2!AD127+CSVデータ3!AD127+CSVデータ4!AD127","v":0},null,{"$f":"CSVデータ1!AF127+CSVデータ2!AF127+CSVデータ3!AF127+CSVデータ4!AF127","v":0}]
[{"$f":"CSVデータ1!A128","v":"明細部"},{"$f":"CSVデータ1!B128","v":"県"},{"$f":"CSVデータ1!C128","v":59},{"$f":"CSVデータ1!D128","v":"女"},{"$f":"CSVデータ1!E128+CSVデータ2!E128+CSVデータ3!E128+CSVデータ4!E128","v":0},{"$f":"CSVデータ1!F128+CSVデータ2!F128+CSVデータ3!F128+CSVデータ4!F128","v":0},null,{"$f":"CSVデータ1!H128+CSVデータ2!H128+CSVデータ3!H128+CSVデータ4!H128","v":0},null,{"$f":"CSVデータ1!J128+CSVデータ2!J128+CSVデータ3!J128+CSVデータ4!J128","v":0},null,{"$f":"CSVデータ1!L128+CSVデータ2!L128+CSVデータ3!L128+CSVデータ4!L128","v":0},null,{"$f":"CSVデータ1!N128+CSVデータ2!N128+CSVデータ3!N128+CSVデータ4!N128","v":0},null,{"$f":"CSVデータ1!P128+CSVデータ2!P128+CSVデータ3!P128+CSVデータ4!P128","v":0},null,{"$f":"CSVデータ1!R128+CSVデータ2!R128+CSVデータ3!R128+CSVデータ4!R128","v":0},null,{"$f":"CSVデータ1!T128+CSVデータ2!T128+CSVデータ3!T128+CSVデータ4!T128","v":0},null,{"$f":"CSVデータ1!V128+CSVデータ2!V128+CSVデータ3!V128+CSVデータ4!V128","v":0},null,{"$f":"CSVデータ1!X128+CSVデータ2!X128+CSVデータ3!X128+CSVデータ4!X128","v":0},null,{"$f":"CSVデータ1!Z128+CSVデータ2!Z128+CSVデータ3!Z128+CSVデータ4!Z128","v":0},null,{"$f":"CSVデータ1!AB128+CSVデータ2!AB128+CSVデータ3!AB128+CSVデータ4!AB128","v":0},null,{"$f":"CSVデータ1!AD128+CSVデータ2!AD128+CSVデータ3!AD128+CSVデータ4!AD128","v":0},null,{"$f":"CSVデータ1!AF128+CSVデータ2!AF128+CSVデータ3!AF128+CSVデータ4!AF128","v":0}]
[{"$f":"CSVデータ1!A129","v":"明細部"},{"$f":"CSVデータ1!B129","v":"県"},{"$f":"CSVデータ1!C129","v":60},{"$f":"CSVデータ1!D129","v":"女"},{"$f":"CSVデータ1!E129+CSVデータ2!E129+CSVデータ3!E129+CSVデータ4!E129","v":0},{"$f":"CSVデータ1!F129+CSVデータ2!F129+CSVデータ3!F129+CSVデータ4!F129","v":0},null,{"$f":"CSVデータ1!H129+CSVデータ2!H129+CSVデータ3!H129+CSVデータ4!H129","v":0},null,{"$f":"CSVデータ1!J129+CSVデータ2!J129+CSVデータ3!J129+CSVデータ4!J129","v":0},null,{"$f":"CSVデータ1!L129+CSVデータ2!L129+CSVデータ3!L129+CSVデータ4!L129","v":0},null,{"$f":"CSVデータ1!N129+CSVデータ2!N129+CSVデータ3!N129+CSVデータ4!N129","v":0},null,{"$f":"CSVデータ1!P129+CSVデータ2!P129+CSVデータ3!P129+CSVデータ4!P129","v":0},null,{"$f":"CSVデータ1!R129+CSVデータ2!R129+CSVデータ3!R129+CSVデータ4!R129","v":0},null,{"$f":"CSVデータ1!T129+CSVデータ2!T129+CSVデータ3!T129+CSVデータ4!T129","v":0},null,{"$f":"CSVデータ1!V129+CSVデータ2!V129+CSVデータ3!V129+CSVデータ4!V129","v":0},null,{"$f":"CSVデータ1!X129+CSVデータ2!X129+CSVデータ3!X129+CSVデータ4!X129","v":0},null,{"$f":"CSVデータ1!Z129+CSVデータ2!Z129+CSVデータ3!Z129+CSVデータ4!Z129","v":0},null,{"$f":"CSVデータ1!AB129+CSVデータ2!AB129+CSVデータ3!AB129+CSVデータ4!AB129","v":0},null,{"$f":"CSVデータ1!AD129+CSVデータ2!AD129+CSVデータ3!AD129+CSVデータ4!AD129","v":0},null,{"$f":"CSVデータ1!AF129+CSVデータ2!AF129+CSVデータ3!AF129+CSVデータ4!AF129","v":0}]
[{"$f":"CSVデータ1!A130","v":"明細部"},{"$f":"CSVデータ1!B130","v":"県"},{"$f":"CSVデータ1!C130","v":61},{"$f":"CSVデータ1!D130","v":"女"},{"$f":"CSVデータ1!E130+CSVデータ2!E130+CSVデータ3!E130+CSVデータ4!E130","v":0},{"$f":"CSVデータ1!F130+CSVデータ2!F130+CSVデータ3!F130+CSVデータ4!F130","v":0},null,{"$f":"CSVデータ1!H130+CSVデータ2!H130+CSVデータ3!H130+CSVデータ4!H130","v":0},null,{"$f":"CSVデータ1!J130+CSVデータ2!J130+CSVデータ3!J130+CSVデータ4!J130","v":0},null,{"$f":"CSVデータ1!L130+CSVデータ2!L130+CSVデータ3!L130+CSVデータ4!L130","v":0},null,{"$f":"CSVデータ1!N130+CSVデータ2!N130+CSVデータ3!N130+CSVデータ4!N130","v":0},null,{"$f":"CSVデータ1!P130+CSVデータ2!P130+CSVデータ3!P130+CSVデータ4!P130","v":0},null,{"$f":"CSVデータ1!R130+CSVデータ2!R130+CSVデータ3!R130+CSVデータ4!R130","v":0},null,{"$f":"CSVデータ1!T130+CSVデータ2!T130+CSVデータ3!T130+CSVデータ4!T130","v":0},null,{"$f":"CSVデータ1!V130+CSVデータ2!V130+CSVデータ3!V130+CSVデータ4!V130","v":0},null,{"$f":"CSVデータ1!X130+CSVデータ2!X130+CSVデータ3!X130+CSVデータ4!X130","v":0},null,{"$f":"CSVデータ1!Z130+CSVデータ2!Z130+CSVデータ3!Z130+CSVデータ4!Z130","v":0},null,{"$f":"CSVデータ1!AB130+CSVデータ2!AB130+CSVデータ3!AB130+CSVデータ4!AB130","v":0},null,{"$f":"CSVデータ1!AD130+CSVデータ2!AD130+CSVデータ3!AD130+CSVデータ4!AD130","v":0},null,{"$f":"CSVデータ1!AF130+CSVデータ2!AF130+CSVデータ3!AF130+CSVデータ4!AF130","v":0}]
[{"$f":"CSVデータ1!A131","v":"明細部"},{"$f":"CSVデータ1!B131","v":"県"},{"$f":"CSVデータ1!C131","v":62},{"$f":"CSVデータ1!D131","v":"女"},{"$f":"CSVデータ1!E131+CSVデータ2!E131+CSVデータ3!E131+CSVデータ4!E131","v":0},{"$f":"CSVデータ1!F131+CSVデータ2!F131+CSVデータ3!F131+CSVデータ4!F131","v":0},null,{"$f":"CSVデータ1!H131+CSVデータ2!H131+CSVデータ3!H131+CSVデータ4!H131","v":0},null,{"$f":"CSVデータ1!J131+CSVデータ2!J131+CSVデータ3!J131+CSVデータ4!J131","v":0},null,{"$f":"CSVデータ1!L131+CSVデータ2!L131+CSVデータ3!L131+CSVデータ4!L131","v":0},null,{"$f":"CSVデータ1!N131+CSVデータ2!N131+CSVデータ3!N131+CSVデータ4!N131","v":0},null,{"$f":"CSVデータ1!P131+CSVデータ2!P131+CSVデータ3!P131+CSVデータ4!P131","v":0},null,{"$f":"CSVデータ1!R131+CSVデータ2!R131+CSVデータ3!R131+CSVデータ4!R131","v":0},null,{"$f":"CSVデータ1!T131+CSVデータ2!T131+CSVデータ3!T131+CSVデータ4!T131","v":0},null,{"$f":"CSVデータ1!V131+CSVデータ2!V131+CSVデータ3!V131+CSVデータ4!V131","v":0},null,{"$f":"CSVデータ1!X131+CSVデータ2!X131+CSVデータ3!X131+CSVデータ4!X131","v":0},null,{"$f":"CSVデータ1!Z131+CSVデータ2!Z131+CSVデータ3!Z131+CSVデータ4!Z131","v":0},null,{"$f":"CSVデータ1!AB131+CSVデータ2!AB131+CSVデータ3!AB131+CSVデータ4!AB131","v":0},null,{"$f":"CSVデータ1!AD131+CSVデータ2!AD131+CSVデータ3!AD131+CSVデータ4!AD131","v":0},null,{"$f":"CSVデータ1!AF131+CSVデータ2!AF131+CSVデータ3!AF131+CSVデータ4!AF131","v":0}]
[{"$f":"CSVデータ1!A132","v":"明細部"},{"$f":"CSVデータ1!B132","v":"県"},{"$f":"CSVデータ1!C132","v":63},{"$f":"CSVデータ1!D132","v":"女"},{"$f":"CSVデータ1!E132+CSVデータ2!E132+CSVデータ3!E132+CSVデータ4!E132","v":0},{"$f":"CSVデータ1!F132+CSVデータ2!F132+CSVデータ3!F132+CSVデータ4!F132","v":0},null,{"$f":"CSVデータ1!H132+CSVデータ2!H132+CSVデータ3!H132+CSVデータ4!H132","v":0},null,{"$f":"CSVデータ1!J132+CSVデータ2!J132+CSVデータ3!J132+CSVデータ4!J132","v":0},null,{"$f":"CSVデータ1!L132+CSVデータ2!L132+CSVデータ3!L132+CSVデータ4!L132","v":0},null,{"$f":"CSVデータ1!N132+CSVデータ2!N132+CSVデータ3!N132+CSVデータ4!N132","v":0},null,{"$f":"CSVデータ1!P132+CSVデータ2!P132+CSVデータ3!P132+CSVデータ4!P132","v":0},null,{"$f":"CSVデータ1!R132+CSVデータ2!R132+CSVデータ3!R132+CSVデータ4!R132","v":0},null,{"$f":"CSVデータ1!T132+CSVデータ2!T132+CSVデータ3!T132+CSVデータ4!T132","v":0},null,{"$f":"CSVデータ1!V132+CSVデータ2!V132+CSVデータ3!V132+CSVデータ4!V132","v":0},null,{"$f":"CSVデータ1!X132+CSVデータ2!X132+CSVデータ3!X132+CSVデータ4!X132","v":0},null,{"$f":"CSVデータ1!Z132+CSVデータ2!Z132+CSVデータ3!Z132+CSVデータ4!Z132","v":0},null,{"$f":"CSVデータ1!AB132+CSVデータ2!AB132+CSVデータ3!AB132+CSVデータ4!AB132","v":0},null,{"$f":"CSVデータ1!AD132+CSVデータ2!AD132+CSVデータ3!AD132+CSVデータ4!AD132","v":0},null,{"$f":"CSVデータ1!AF132+CSVデータ2!AF132+CSVデータ3!AF132+CSVデータ4!AF132","v":0}]
[{"$f":"CSVデータ1!A133","v":"明細部"},{"$f":"CSVデータ1!B133","v":"県"},{"$f":"CSVデータ1!C133","v":64},{"$f":"CSVデータ1!D133","v":"女"},{"$f":"CSVデータ1!E133+CSVデータ2!E133+CSVデータ3!E133+CSVデータ4!E133","v":0},{"$f":"CSVデータ1!F133+CSVデータ2!F133+CSVデータ3!F133+CSVデータ4!F133","v":0},null,{"$f":"CSVデータ1!H133+CSVデータ2!H133+CSVデータ3!H133+CSVデータ4!H133","v":0},null,{"$f":"CSVデータ1!J133+CSVデータ2!J133+CSVデータ3!J133+CSVデータ4!J133","v":0},null,{"$f":"CSVデータ1!L133+CSVデータ2!L133+CSVデータ3!L133+CSVデータ4!L133","v":0},null,{"$f":"CSVデータ1!N133+CSVデータ2!N133+CSVデータ3!N133+CSVデータ4!N133","v":0},null,{"$f":"CSVデータ1!P133+CSVデータ2!P133+CSVデータ3!P133+CSVデータ4!P133","v":0},null,{"$f":"CSVデータ1!R133+CSVデータ2!R133+CSVデータ3!R133+CSVデータ4!R133","v":0},null,{"$f":"CSVデータ1!T133+CSVデータ2!T133+CSVデータ3!T133+CSVデータ4!T133","v":0},null,{"$f":"CSVデータ1!V133+CSVデータ2!V133+CSVデータ3!V133+CSVデータ4!V133","v":0},null,{"$f":"CSVデータ1!X133+CSVデータ2!X133+CSVデータ3!X133+CSVデータ4!X133","v":0},null,{"$f":"CSVデータ1!Z133+CSVデータ2!Z133+CSVデータ3!Z133+CSVデータ4!Z133","v":0},null,{"$f":"CSVデータ1!AB133+CSVデータ2!AB133+CSVデータ3!AB133+CSVデータ4!AB133","v":0},null,{"$f":"CSVデータ1!AD133+CSVデータ2!AD133+CSVデータ3!AD133+CSVデータ4!AD133","v":0},null,{"$f":"CSVデータ1!AF133+CSVデータ2!AF133+CSVデータ3!AF133+CSVデータ4!AF133","v":0}]
[{"$f":"CSVデータ1!A134","v":"明細部"},{"$f":"CSVデータ1!B134","v":"県"},{"$f":"CSVデータ1!C134","v":65},{"$f":"CSVデータ1!D134","v":"女"},{"$f":"CSVデータ1!E134+CSVデータ2!E134+CSVデータ3!E134+CSVデータ4!E134","v":0},{"$f":"CSVデータ1!F134+CSVデータ2!F134+CSVデータ3!F134+CSVデータ4!F134","v":0},null,{"$f":"CSVデータ1!H134+CSVデータ2!H134+CSVデータ3!H134+CSVデータ4!H134","v":0},null,{"$f":"CSVデータ1!J134+CSVデータ2!J134+CSVデータ3!J134+CSVデータ4!J134","v":0},null,{"$f":"CSVデータ1!L134+CSVデータ2!L134+CSVデータ3!L134+CSVデータ4!L134","v":0},null,{"$f":"CSVデータ1!N134+CSVデータ2!N134+CSVデータ3!N134+CSVデータ4!N134","v":0},null,{"$f":"CSVデータ1!P134+CSVデータ2!P134+CSVデータ3!P134+CSVデータ4!P134","v":0},null,{"$f":"CSVデータ1!R134+CSVデータ2!R134+CSVデータ3!R134+CSVデータ4!R134","v":0},null,{"$f":"CSVデータ1!T134+CSVデータ2!T134+CSVデータ3!T134+CSVデータ4!T134","v":0},null,{"$f":"CSVデータ1!V134+CSVデータ2!V134+CSVデータ3!V134+CSVデータ4!V134","v":0},null,{"$f":"CSVデータ1!X134+CSVデータ2!X134+CSVデータ3!X134+CSVデータ4!X134","v":0},null,{"$f":"CSVデータ1!Z134+CSVデータ2!Z134+CSVデータ3!Z134+CSVデータ4!Z134","v":0},null,{"$f":"CSVデータ1!AB134+CSVデータ2!AB134+CSVデータ3!AB134+CSVデータ4!AB134","v":0},null,{"$f":"CSVデータ1!AD134+CSVデータ2!AD134+CSVデータ3!AD134+CSVデータ4!AD134","v":0},null,{"$f":"CSVデータ1!AF134+CSVデータ2!AF134+CSVデータ3!AF134+CSVデータ4!AF134","v":0}]
[{"$f":"CSVデータ1!A135","v":"明細部"},{"$f":"CSVデータ1!B135","v":"県"},{"$f":"CSVデータ1!C135","v":66},{"$f":"CSVデータ1!D135","v":"女"},{"$f":"CSVデータ1!E135+CSVデータ2!E135+CSVデータ3!E135+CSVデータ4!E135","v":0},{"$f":"CSVデータ1!F135+CSVデータ2!F135+CSVデータ3!F135+CSVデータ4!F135","v":0},null,{"$f":"CSVデータ1!H135+CSVデータ2!H135+CSVデータ3!H135+CSVデータ4!H135","v":0},null,{"$f":"CSVデータ1!J135+CSVデータ2!J135+CSVデータ3!J135+CSVデータ4!J135","v":0},null,{"$f":"CSVデータ1!L135+CSVデータ2!L135+CSVデータ3!L135+CSVデータ4!L135","v":0},null,{"$f":"CSVデータ1!N135+CSVデータ2!N135+CSVデータ3!N135+CSVデータ4!N135","v":0},null,{"$f":"CSVデータ1!P135+CSVデータ2!P135+CSVデータ3!P135+CSVデータ4!P135","v":0},null,{"$f":"CSVデータ1!R135+CSVデータ2!R135+CSVデータ3!R135+CSVデータ4!R135","v":0},null,{"$f":"CSVデータ1!T135+CSVデータ2!T135+CSVデータ3!T135+CSVデータ4!T135","v":0},null,{"$f":"CSVデータ1!V135+CSVデータ2!V135+CSVデータ3!V135+CSVデータ4!V135","v":0},null,{"$f":"CSVデータ1!X135+CSVデータ2!X135+CSVデータ3!X135+CSVデータ4!X135","v":0},null,{"$f":"CSVデータ1!Z135+CSVデータ2!Z135+CSVデータ3!Z135+CSVデータ4!Z135","v":0},null,{"$f":"CSVデータ1!AB135+CSVデータ2!AB135+CSVデータ3!AB135+CSVデータ4!AB135","v":0},null,{"$f":"CSVデータ1!AD135+CSVデータ2!AD135+CSVデータ3!AD135+CSVデータ4!AD135","v":0},null,{"$f":"CSVデータ1!AF135+CSVデータ2!AF135+CSVデータ3!AF135+CSVデータ4!AF135","v":0}]
[{"$f":"CSVデータ1!A136","v":"明細部"},{"$f":"CSVデータ1!B136","v":"県"},{"$f":"CSVデータ1!C136","v":67},{"$f":"CSVデータ1!D136","v":"女"},{"$f":"CSVデータ1!E136+CSVデータ2!E136+CSVデータ3!E136+CSVデータ4!E136","v":0},{"$f":"CSVデータ1!F136+CSVデータ2!F136+CSVデータ3!F136+CSVデータ4!F136","v":0},null,{"$f":"CSVデータ1!H136+CSVデータ2!H136+CSVデータ3!H136+CSVデータ4!H136","v":0},null,{"$f":"CSVデータ1!J136+CSVデータ2!J136+CSVデータ3!J136+CSVデータ4!J136","v":0},null,{"$f":"CSVデータ1!L136+CSVデータ2!L136+CSVデータ3!L136+CSVデータ4!L136","v":0},null,{"$f":"CSVデータ1!N136+CSVデータ2!N136+CSVデータ3!N136+CSVデータ4!N136","v":0},null,{"$f":"CSVデータ1!P136+CSVデータ2!P136+CSVデータ3!P136+CSVデータ4!P136","v":0},null,{"$f":"CSVデータ1!R136+CSVデータ2!R136+CSVデータ3!R136+CSVデータ4!R136","v":0},null,{"$f":"CSVデータ1!T136+CSVデータ2!T136+CSVデータ3!T136+CSVデータ4!T136","v":0},null,{"$f":"CSVデータ1!V136+CSVデータ2!V136+CSVデータ3!V136+CSVデータ4!V136","v":0},null,{"$f":"CSVデータ1!X136+CSVデータ2!X136+CSVデータ3!X136+CSVデータ4!X136","v":0},null,{"$f":"CSVデータ1!Z136+CSVデータ2!Z136+CSVデータ3!Z136+CSVデータ4!Z136","v":0},null,{"$f":"CSVデータ1!AB136+CSVデータ2!AB136+CSVデータ3!AB136+CSVデータ4!AB136","v":0},null,{"$f":"CSVデータ1!AD136+CSVデータ2!AD136+CSVデータ3!AD136+CSVデータ4!AD136","v":0},null,{"$f":"CSVデータ1!AF136+CSVデータ2!AF136+CSVデータ3!AF136+CSVデータ4!AF136","v":0}]
[{"$f":"CSVデータ1!A137","v":"明細部"},{"$f":"CSVデータ1!B137","v":"県"},{"$f":"CSVデータ1!C137","v":68},{"$f":"CSVデータ1!D137","v":"女"},{"$f":"CSVデータ1!E137+CSVデータ2!E137+CSVデータ3!E137+CSVデータ4!E137","v":0},{"$f":"CSVデータ1!F137+CSVデータ2!F137+CSVデータ3!F137+CSVデータ4!F137","v":0},null,{"$f":"CSVデータ1!H137+CSVデータ2!H137+CSVデータ3!H137+CSVデータ4!H137","v":0},null,{"$f":"CSVデータ1!J137+CSVデータ2!J137+CSVデータ3!J137+CSVデータ4!J137","v":0},null,{"$f":"CSVデータ1!L137+CSVデータ2!L137+CSVデータ3!L137+CSVデータ4!L137","v":0},null,{"$f":"CSVデータ1!N137+CSVデータ2!N137+CSVデータ3!N137+CSVデータ4!N137","v":0},null,{"$f":"CSVデータ1!P137+CSVデータ2!P137+CSVデータ3!P137+CSVデータ4!P137","v":0},null,{"$f":"CSVデータ1!R137+CSVデータ2!R137+CSVデータ3!R137+CSVデータ4!R137","v":0},null,{"$f":"CSVデータ1!T137+CSVデータ2!T137+CSVデータ3!T137+CSVデータ4!T137","v":0},null,{"$f":"CSVデータ1!V137+CSVデータ2!V137+CSVデータ3!V137+CSVデータ4!V137","v":0},null,{"$f":"CSVデータ1!X137+CSVデータ2!X137+CSVデータ3!X137+CSVデータ4!X137","v":0},null,{"$f":"CSVデータ1!Z137+CSVデータ2!Z137+CSVデータ3!Z137+CSVデータ4!Z137","v":0},null,{"$f":"CSVデータ1!AB137+CSVデータ2!AB137+CSVデータ3!AB137+CSVデータ4!AB137","v":0},null,{"$f":"CSVデータ1!AD137+CSVデータ2!AD137+CSVデータ3!AD137+CSVデータ4!AD137","v":0},null,{"$f":"CSVデータ1!AF137+CSVデータ2!AF137+CSVデータ3!AF137+CSVデータ4!AF137","v":0}]
[{"$f":"CSVデータ1!A138","v":"明細部"},{"$f":"CSVデータ1!B138","v":"県"},{"$f":"CSVデータ1!C138","v":69},{"$f":"CSVデータ1!D138","v":"女"},{"$f":"CSVデータ1!E138+CSVデータ2!E138+CSVデータ3!E138+CSVデータ4!E138","v":0},{"$f":"CSVデータ1!F138+CSVデータ2!F138+CSVデータ3!F138+CSVデータ4!F138","v":0},null,{"$f":"CSVデータ1!H138+CSVデータ2!H138+CSVデータ3!H138+CSVデータ4!H138","v":0},null,{"$f":"CSVデータ1!J138+CSVデータ2!J138+CSVデータ3!J138+CSVデータ4!J138","v":0},null,{"$f":"CSVデータ1!L138+CSVデータ2!L138+CSVデータ3!L138+CSVデータ4!L138","v":0},null,{"$f":"CSVデータ1!N138+CSVデータ2!N138+CSVデータ3!N138+CSVデータ4!N138","v":0},null,{"$f":"CSVデータ1!P138+CSVデータ2!P138+CSVデータ3!P138+CSVデータ4!P138","v":0},null,{"$f":"CSVデータ1!R138+CSVデータ2!R138+CSVデータ3!R138+CSVデータ4!R138","v":0},null,{"$f":"CSVデータ1!T138+CSVデータ2!T138+CSVデータ3!T138+CSVデータ4!T138","v":0},null,{"$f":"CSVデータ1!V138+CSVデータ2!V138+CSVデータ3!V138+CSVデータ4!V138","v":0},null,{"$f":"CSVデータ1!X138+CSVデータ2!X138+CSVデータ3!X138+CSVデータ4!X138","v":0},null,{"$f":"CSVデータ1!Z138+CSVデータ2!Z138+CSVデータ3!Z138+CSVデータ4!Z138","v":0},null,{"$f":"CSVデータ1!AB138+CSVデータ2!AB138+CSVデータ3!AB138+CSVデータ4!AB138","v":0},null,{"$f":"CSVデータ1!AD138+CSVデータ2!AD138+CSVデータ3!AD138+CSVデータ4!AD138","v":0},null,{"$f":"CSVデータ1!AF138+CSVデータ2!AF138+CSVデータ3!AF138+CSVデータ4!AF138","v":0}]
[{"$f":"CSVデータ1!A139","v":"明細部"},{"$f":"CSVデータ1!B139","v":"県"},{"$f":"CSVデータ1!C139","v":70},{"$f":"CSVデータ1!D139","v":"女"},{"$f":"CSVデータ1!E139+CSVデータ2!E139+CSVデータ3!E139+CSVデータ4!E139","v":0},{"$f":"CSVデータ1!F139+CSVデータ2!F139+CSVデータ3!F139+CSVデータ4!F139","v":0},null,{"$f":"CSVデータ1!H139+CSVデータ2!H139+CSVデータ3!H139+CSVデータ4!H139","v":0},null,{"$f":"CSVデータ1!J139+CSVデータ2!J139+CSVデータ3!J139+CSVデータ4!J139","v":0},null,{"$f":"CSVデータ1!L139+CSVデータ2!L139+CSVデータ3!L139+CSVデータ4!L139","v":0},null,{"$f":"CSVデータ1!N139+CSVデータ2!N139+CSVデータ3!N139+CSVデータ4!N139","v":0},null,{"$f":"CSVデータ1!P139+CSVデータ2!P139+CSVデータ3!P139+CSVデータ4!P139","v":0},null,{"$f":"CSVデータ1!R139+CSVデータ2!R139+CSVデータ3!R139+CSVデータ4!R139","v":0},null,{"$f":"CSVデータ1!T139+CSVデータ2!T139+CSVデータ3!T139+CSVデータ4!T139","v":0},null,{"$f":"CSVデータ1!V139+CSVデータ2!V139+CSVデータ3!V139+CSVデータ4!V139","v":0},null,{"$f":"CSVデータ1!X139+CSVデータ2!X139+CSVデータ3!X139+CSVデータ4!X139","v":0},null,{"$f":"CSVデータ1!Z139+CSVデータ2!Z139+CSVデータ3!Z139+CSVデータ4!Z139","v":0},null,{"$f":"CSVデータ1!AB139+CSVデータ2!AB139+CSVデータ3!AB139+CSVデータ4!AB139","v":0},null,{"$f":"CSVデータ1!AD139+CSVデータ2!AD139+CSVデータ3!AD139+CSVデータ4!AD139","v":0},null,{"$f":"CSVデータ1!AF139+CSVデータ2!AF139+CSVデータ3!AF139+CSVデータ4!AF139","v":0}]
[{"$f":"CSVデータ1!A140","v":"明細部"},{"$f":"CSVデータ1!B140","v":"県"},{"$f":"CSVデータ1!C140","v":71},{"$f":"CSVデータ1!D140","v":"女"},{"$f":"CSVデータ1!E140+CSVデータ2!E140+CSVデータ3!E140+CSVデータ4!E140","v":0},{"$f":"CSVデータ1!F140+CSVデータ2!F140+CSVデータ3!F140+CSVデータ4!F140","v":0},null,{"$f":"CSVデータ1!H140+CSVデータ2!H140+CSVデータ3!H140+CSVデータ4!H140","v":0},null,{"$f":"CSVデータ1!J140+CSVデータ2!J140+CSVデータ3!J140+CSVデータ4!J140","v":0},null,{"$f":"CSVデータ1!L140+CSVデータ2!L140+CSVデータ3!L140+CSVデータ4!L140","v":0},null,{"$f":"CSVデータ1!N140+CSVデータ2!N140+CSVデータ3!N140+CSVデータ4!N140","v":0},null,{"$f":"CSVデータ1!P140+CSVデータ2!P140+CSVデータ3!P140+CSVデータ4!P140","v":0},null,{"$f":"CSVデータ1!R140+CSVデータ2!R140+CSVデータ3!R140+CSVデータ4!R140","v":0},null,{"$f":"CSVデータ1!T140+CSVデータ2!T140+CSVデータ3!T140+CSVデータ4!T140","v":0},null,{"$f":"CSVデータ1!V140+CSVデータ2!V140+CSVデータ3!V140+CSVデータ4!V140","v":0},null,{"$f":"CSVデータ1!X140+CSVデータ2!X140+CSVデータ3!X140+CSVデータ4!X140","v":0},null,{"$f":"CSVデータ1!Z140+CSVデータ2!Z140+CSVデータ3!Z140+CSVデータ4!Z140","v":0},null,{"$f":"CSVデータ1!AB140+CSVデータ2!AB140+CSVデータ3!AB140+CSVデータ4!AB140","v":0},null,{"$f":"CSVデータ1!AD140+CSVデータ2!AD140+CSVデータ3!AD140+CSVデータ4!AD140","v":0},null,{"$f":"CSVデータ1!AF140+CSVデータ2!AF140+CSVデータ3!AF140+CSVデータ4!AF140","v":0}]
[{"$f":"CSVデータ1!A141","v":"明細部"},{"$f":"CSVデータ1!B141","v":"県"},{"$f":"CSVデータ1!C141","v":72},{"$f":"CSVデータ1!D141","v":"女"},{"$f":"CSVデータ1!E141+CSVデータ2!E141+CSVデータ3!E141+CSVデータ4!E141","v":0},{"$f":"CSVデータ1!F141+CSVデータ2!F141+CSVデータ3!F141+CSVデータ4!F141","v":0},null,{"$f":"CSVデータ1!H141+CSVデータ2!H141+CSVデータ3!H141+CSVデータ4!H141","v":0},null,{"$f":"CSVデータ1!J141+CSVデータ2!J141+CSVデータ3!J141+CSVデータ4!J141","v":0},null,{"$f":"CSVデータ1!L141+CSVデータ2!L141+CSVデータ3!L141+CSVデータ4!L141","v":0},null,{"$f":"CSVデータ1!N141+CSVデータ2!N141+CSVデータ3!N141+CSVデータ4!N141","v":0},null,{"$f":"CSVデータ1!P141+CSVデータ2!P141+CSVデータ3!P141+CSVデータ4!P141","v":0},null,{"$f":"CSVデータ1!R141+CSVデータ2!R141+CSVデータ3!R141+CSVデータ4!R141","v":0},null,{"$f":"CSVデータ1!T141+CSVデータ2!T141+CSVデータ3!T141+CSVデータ4!T141","v":0},null,{"$f":"CSVデータ1!V141+CSVデータ2!V141+CSVデータ3!V141+CSVデータ4!V141","v":0},null,{"$f":"CSVデータ1!X141+CSVデータ2!X141+CSVデータ3!X141+CSVデータ4!X141","v":0},null,{"$f":"CSVデータ1!Z141+CSVデータ2!Z141+CSVデータ3!Z141+CSVデータ4!Z141","v":0},null,{"$f":"CSVデータ1!AB141+CSVデータ2!AB141+CSVデータ3!AB141+CSVデータ4!AB141","v":0},null,{"$f":"CSVデータ1!AD141+CSVデータ2!AD141+CSVデータ3!AD141+CSVデータ4!AD141","v":0},null,{"$f":"CSVデータ1!AF141+CSVデータ2!AF141+CSVデータ3!AF141+CSVデータ4!AF141","v":0}]
[{"$f":"CSVデータ1!A142","v":"明細部"},{"$f":"CSVデータ1!B142","v":"県"},{"$f":"CSVデータ1!C142","v":73},{"$f":"CSVデータ1!D142","v":"女"},{"$f":"CSVデータ1!E142+CSVデータ2!E142+CSVデータ3!E142+CSVデータ4!E142","v":0},{"$f":"CSVデータ1!F142+CSVデータ2!F142+CSVデータ3!F142+CSVデータ4!F142","v":0},null,{"$f":"CSVデータ1!H142+CSVデータ2!H142+CSVデータ3!H142+CSVデータ4!H142","v":0},null,{"$f":"CSVデータ1!J142+CSVデータ2!J142+CSVデータ3!J142+CSVデータ4!J142","v":0},null,{"$f":"CSVデータ1!L142+CSVデータ2!L142+CSVデータ3!L142+CSVデータ4!L142","v":0},null,{"$f":"CSVデータ1!N142+CSVデータ2!N142+CSVデータ3!N142+CSVデータ4!N142","v":0},null,{"$f":"CSVデータ1!P142+CSVデータ2!P142+CSVデータ3!P142+CSVデータ4!P142","v":0},null,{"$f":"CSVデータ1!R142+CSVデータ2!R142+CSVデータ3!R142+CSVデータ4!R142","v":0},null,{"$f":"CSVデータ1!T142+CSVデータ2!T142+CSVデータ3!T142+CSVデータ4!T142","v":0},null,{"$f":"CSVデータ1!V142+CSVデータ2!V142+CSVデータ3!V142+CSVデータ4!V142","v":0},null,{"$f":"CSVデータ1!X142+CSVデータ2!X142+CSVデータ3!X142+CSVデータ4!X142","v":0},null,{"$f":"CSVデータ1!Z142+CSVデータ2!Z142+CSVデータ3!Z142+CSVデータ4!Z142","v":0},null,{"$f":"CSVデータ1!AB142+CSVデータ2!AB142+CSVデータ3!AB142+CSVデータ4!AB142","v":0},null,{"$f":"CSVデータ1!AD142+CSVデータ2!AD142+CSVデータ3!AD142+CSVデータ4!AD142","v":0},null,{"$f":"CSVデータ1!AF142+CSVデータ2!AF142+CSVデータ3!AF142+CSVデータ4!AF142","v":0}]
[{"$f":"CSVデータ1!A143","v":"明細部"},{"$f":"CSVデータ1!B143","v":"県"},{"$f":"CSVデータ1!C143","v":74},{"$f":"CSVデータ1!D143","v":"女"},{"$f":"CSVデータ1!E143+CSVデータ2!E143+CSVデータ3!E143+CSVデータ4!E143","v":0},{"$f":"CSVデータ1!F143+CSVデータ2!F143+CSVデータ3!F143+CSVデータ4!F143","v":0},null,{"$f":"CSVデータ1!H143+CSVデータ2!H143+CSVデータ3!H143+CSVデータ4!H143","v":0},null,{"$f":"CSVデータ1!J143+CSVデータ2!J143+CSVデータ3!J143+CSVデータ4!J143","v":0},null,{"$f":"CSVデータ1!L143+CSVデータ2!L143+CSVデータ3!L143+CSVデータ4!L143","v":0},null,{"$f":"CSVデータ1!N143+CSVデータ2!N143+CSVデータ3!N143+CSVデータ4!N143","v":0},null,{"$f":"CSVデータ1!P143+CSVデータ2!P143+CSVデータ3!P143+CSVデータ4!P143","v":0},null,{"$f":"CSVデータ1!R143+CSVデータ2!R143+CSVデータ3!R143+CSVデータ4!R143","v":0},null,{"$f":"CSVデータ1!T143+CSVデータ2!T143+CSVデータ3!T143+CSVデータ4!T143","v":0},null,{"$f":"CSVデータ1!V143+CSVデータ2!V143+CSVデータ3!V143+CSVデータ4!V143","v":0},null,{"$f":"CSVデータ1!X143+CSVデータ2!X143+CSVデータ3!X143+CSVデータ4!X143","v":0},null,{"$f":"CSVデータ1!Z143+CSVデータ2!Z143+CSVデータ3!Z143+CSVデータ4!Z143","v":0},null,{"$f":"CSVデータ1!AB143+CSVデータ2!AB143+CSVデータ3!AB143+CSVデータ4!AB143","v":0},null,{"$f":"CSVデータ1!AD143+CSVデータ2!AD143+CSVデータ3!AD143+CSVデータ4!AD143","v":0},null,{"$f":"CSVデータ1!AF143+CSVデータ2!AF143+CSVデータ3!AF143+CSVデータ4!AF143","v":0}]
[{"$f":"CSVデータ1!A144","v":"明細部"},{"$f":"CSVデータ1!B144","v":"保険者（地区）"},{"$f":"CSVデータ1!C144","v":40},{"$f":"CSVデータ1!D144","v":"男"},{"$f":"CSVデータ1!E144+CSVデータ2!E144+CSVデータ3!E144+CSVデータ4!E144","v":0},{"$f":"CSVデータ1!F144+CSVデータ2!F144+CSVデータ3!F144+CSVデータ4!F144","v":0},null,{"$f":"CSVデータ1!H144+CSVデータ2!H144+CSVデータ3!H144+CSVデータ4!H144","v":0},null,{"$f":"CSVデータ1!J144+CSVデータ2!J144+CSVデータ3!J144+CSVデータ4!J144","v":0},null,{"$f":"CSVデータ1!L144+CSVデータ2!L144+CSVデータ3!L144+CSVデータ4!L144","v":0},null,{"$f":"CSVデータ1!N144+CSVデータ2!N144+CSVデータ3!N144+CSVデータ4!N144","v":0},null,{"$f":"CSVデータ1!P144+CSVデータ2!P144+CSVデータ3!P144+CSVデータ4!P144","v":0},null,{"$f":"CSVデータ1!R144+CSVデータ2!R144+CSVデータ3!R144+CSVデータ4!R144","v":0},null,{"$f":"CSVデータ1!T144+CSVデータ2!T144+CSVデータ3!T144+CSVデータ4!T144","v":0},null,{"$f":"CSVデータ1!V144+CSVデータ2!V144+CSVデータ3!V144+CSVデータ4!V144","v":0},null,{"$f":"CSVデータ1!X144+CSVデータ2!X144+CSVデータ3!X144+CSVデータ4!X144","v":0},null,{"$f":"CSVデータ1!Z144+CSVデータ2!Z144+CSVデータ3!Z144+CSVデータ4!Z144","v":0},null,{"$f":"CSVデータ1!AB144+CSVデータ2!AB144+CSVデータ3!AB144+CSVデータ4!AB144","v":0},null,{"$f":"CSVデータ1!AD144+CSVデータ2!AD144+CSVデータ3!AD144+CSVデータ4!AD144","v":0},null,{"$f":"CSVデータ1!AF144+CSVデータ2!AF144+CSVデータ3!AF144+CSVデータ4!AF144","v":0}]
[{"$f":"CSVデータ1!A145","v":"明細部"},{"$f":"CSVデータ1!B145","v":"保険者（地区）"},{"$f":"CSVデータ1!C145","v":41},{"$f":"CSVデータ1!D145","v":"男"},{"$f":"CSVデータ1!E145+CSVデータ2!E145+CSVデータ3!E145+CSVデータ4!E145","v":0},{"$f":"CSVデータ1!F145+CSVデータ2!F145+CSVデータ3!F145+CSVデータ4!F145","v":0},null,{"$f":"CSVデータ1!H145+CSVデータ2!H145+CSVデータ3!H145+CSVデータ4!H145","v":0},null,{"$f":"CSVデータ1!J145+CSVデータ2!J145+CSVデータ3!J145+CSVデータ4!J145","v":0},null,{"$f":"CSVデータ1!L145+CSVデータ2!L145+CSVデータ3!L145+CSVデータ4!L145","v":0},null,{"$f":"CSVデータ1!N145+CSVデータ2!N145+CSVデータ3!N145+CSVデータ4!N145","v":0},null,{"$f":"CSVデータ1!P145+CSVデータ2!P145+CSVデータ3!P145+CSVデータ4!P145","v":0},null,{"$f":"CSVデータ1!R145+CSVデータ2!R145+CSVデータ3!R145+CSVデータ4!R145","v":0},null,{"$f":"CSVデータ1!T145+CSVデータ2!T145+CSVデータ3!T145+CSVデータ4!T145","v":0},null,{"$f":"CSVデータ1!V145+CSVデータ2!V145+CSVデータ3!V145+CSVデータ4!V145","v":0},null,{"$f":"CSVデータ1!X145+CSVデータ2!X145+CSVデータ3!X145+CSVデータ4!X145","v":0},null,{"$f":"CSVデータ1!Z145+CSVデータ2!Z145+CSVデータ3!Z145+CSVデータ4!Z145","v":0},null,{"$f":"CSVデータ1!AB145+CSVデータ2!AB145+CSVデータ3!AB145+CSVデータ4!AB145","v":0},null,{"$f":"CSVデータ1!AD145+CSVデータ2!AD145+CSVデータ3!AD145+CSVデータ4!AD145","v":0},null,{"$f":"CSVデータ1!AF145+CSVデータ2!AF145+CSVデータ3!AF145+CSVデータ4!AF145","v":0}]
[{"$f":"CSVデータ1!A146","v":"明細部"},{"$f":"CSVデータ1!B146","v":"保険者（地区）"},{"$f":"CSVデータ1!C146","v":42},{"$f":"CSVデータ1!D146","v":"男"},{"$f":"CSVデータ1!E146+CSVデータ2!E146+CSVデータ3!E146+CSVデータ4!E146","v":0},{"$f":"CSVデータ1!F146+CSVデータ2!F146+CSVデータ3!F146+CSVデータ4!F146","v":0},null,{"$f":"CSVデータ1!H146+CSVデータ2!H146+CSVデータ3!H146+CSVデータ4!H146","v":0},null,{"$f":"CSVデータ1!J146+CSVデータ2!J146+CSVデータ3!J146+CSVデータ4!J146","v":0},null,{"$f":"CSVデータ1!L146+CSVデータ2!L146+CSVデータ3!L146+CSVデータ4!L146","v":0},null,{"$f":"CSVデータ1!N146+CSVデータ2!N146+CSVデータ3!N146+CSVデータ4!N146","v":0},null,{"$f":"CSVデータ1!P146+CSVデータ2!P146+CSVデータ3!P146+CSVデータ4!P146","v":0},null,{"$f":"CSVデータ1!R146+CSVデータ2!R146+CSVデータ3!R146+CSVデータ4!R146","v":0},null,{"$f":"CSVデータ1!T146+CSVデータ2!T146+CSVデータ3!T146+CSVデータ4!T146","v":0},null,{"$f":"CSVデータ1!V146+CSVデータ2!V146+CSVデータ3!V146+CSVデータ4!V146","v":0},null,{"$f":"CSVデータ1!X146+CSVデータ2!X146+CSVデータ3!X146+CSVデータ4!X146","v":0},null,{"$f":"CSVデータ1!Z146+CSVデータ2!Z146+CSVデータ3!Z146+CSVデータ4!Z146","v":0},null,{"$f":"CSVデータ1!AB146+CSVデータ2!AB146+CSVデータ3!AB146+CSVデータ4!AB146","v":0},null,{"$f":"CSVデータ1!AD146+CSVデータ2!AD146+CSVデータ3!AD146+CSVデータ4!AD146","v":0},null,{"$f":"CSVデータ1!AF146+CSVデータ2!AF146+CSVデータ3!AF146+CSVデータ4!AF146","v":0}]
[{"$f":"CSVデータ1!A147","v":"明細部"},{"$f":"CSVデータ1!B147","v":"保険者（地区）"},{"$f":"CSVデータ1!C147","v":43},{"$f":"CSVデータ1!D147","v":"男"},{"$f":"CSVデータ1!E147+CSVデータ2!E147+CSVデータ3!E147+CSVデータ4!E147","v":0},{"$f":"CSVデータ1!F147+CSVデータ2!F147+CSVデータ3!F147+CSVデータ4!F147","v":0},null,{"$f":"CSVデータ1!H147+CSVデータ2!H147+CSVデータ3!H147+CSVデータ4!H147","v":0},null,{"$f":"CSVデータ1!J147+CSVデータ2!J147+CSVデータ3!J147+CSVデータ4!J147","v":0},null,{"$f":"CSVデータ1!L147+CSVデータ2!L147+CSVデータ3!L147+CSVデータ4!L147","v":0},null,{"$f":"CSVデータ1!N147+CSVデータ2!N147+CSVデータ3!N147+CSVデータ4!N147","v":0},null,{"$f":"CSVデータ1!P147+CSVデータ2!P147+CSVデータ3!P147+CSVデータ4!P147","v":0},null,{"$f":"CSVデータ1!R147+CSVデータ2!R147+CSVデータ3!R147+CSVデータ4!R147","v":0},null,{"$f":"CSVデータ1!T147+CSVデータ2!T147+CSVデータ3!T147+CSVデータ4!T147","v":0},null,{"$f":"CSVデータ1!V147+CSVデータ2!V147+CSVデータ3!V147+CSVデータ4!V147","v":0},null,{"$f":"CSVデータ1!X147+CSVデータ2!X147+CSVデータ3!X147+CSVデータ4!X147","v":0},null,{"$f":"CSVデータ1!Z147+CSVデータ2!Z147+CSVデータ3!Z147+CSVデータ4!Z147","v":0},null,{"$f":"CSVデータ1!AB147+CSVデータ2!AB147+CSVデータ3!AB147+CSVデータ4!AB147","v":0},null,{"$f":"CSVデータ1!AD147+CSVデータ2!AD147+CSVデータ3!AD147+CSVデータ4!AD147","v":0},null,{"$f":"CSVデータ1!AF147+CSVデータ2!AF147+CSVデータ3!AF147+CSVデータ4!AF147","v":0}]
[{"$f":"CSVデータ1!A148","v":"明細部"},{"$f":"CSVデータ1!B148","v":"保険者（地区）"},{"$f":"CSVデータ1!C148","v":44},{"$f":"CSVデータ1!D148","v":"男"},{"$f":"CSVデータ1!E148+CSVデータ2!E148+CSVデータ3!E148+CSVデータ4!E148","v":0},{"$f":"CSVデータ1!F148+CSVデータ2!F148+CSVデータ3!F148+CSVデータ4!F148","v":0},null,{"$f":"CSVデータ1!H148+CSVデータ2!H148+CSVデータ3!H148+CSVデータ4!H148","v":0},null,{"$f":"CSVデータ1!J148+CSVデータ2!J148+CSVデータ3!J148+CSVデータ4!J148","v":0},null,{"$f":"CSVデータ1!L148+CSVデータ2!L148+CSVデータ3!L148+CSVデータ4!L148","v":0},null,{"$f":"CSVデータ1!N148+CSVデータ2!N148+CSVデータ3!N148+CSVデータ4!N148","v":0},null,{"$f":"CSVデータ1!P148+CSVデータ2!P148+CSVデータ3!P148+CSVデータ4!P148","v":0},null,{"$f":"CSVデータ1!R148+CSVデータ2!R148+CSVデータ3!R148+CSVデータ4!R148","v":0},null,{"$f":"CSVデータ1!T148+CSVデータ2!T148+CSVデータ3!T148+CSVデータ4!T148","v":0},null,{"$f":"CSVデータ1!V148+CSVデータ2!V148+CSVデータ3!V148+CSVデータ4!V148","v":0},null,{"$f":"CSVデータ1!X148+CSVデータ2!X148+CSVデータ3!X148+CSVデータ4!X148","v":0},null,{"$f":"CSVデータ1!Z148+CSVデータ2!Z148+CSVデータ3!Z148+CSVデータ4!Z148","v":0},null,{"$f":"CSVデータ1!AB148+CSVデータ2!AB148+CSVデータ3!AB148+CSVデータ4!AB148","v":0},null,{"$f":"CSVデータ1!AD148+CSVデータ2!AD148+CSVデータ3!AD148+CSVデータ4!AD148","v":0},null,{"$f":"CSVデータ1!AF148+CSVデータ2!AF148+CSVデータ3!AF148+CSVデータ4!AF148","v":0}]
[{"$f":"CSVデータ1!A149","v":"明細部"},{"$f":"CSVデータ1!B149","v":"保険者（地区）"},{"$f":"CSVデータ1!C149","v":45},{"$f":"CSVデータ1!D149","v":"男"},{"$f":"CSVデータ1!E149+CSVデータ2!E149+CSVデータ3!E149+CSVデータ4!E149","v":0},{"$f":"CSVデータ1!F149+CSVデータ2!F149+CSVデータ3!F149+CSVデータ4!F149","v":0},null,{"$f":"CSVデータ1!H149+CSVデータ2!H149+CSVデータ3!H149+CSVデータ4!H149","v":0},null,{"$f":"CSVデータ1!J149+CSVデータ2!J149+CSVデータ3!J149+CSVデータ4!J149","v":0},null,{"$f":"CSVデータ1!L149+CSVデータ2!L149+CSVデータ3!L149+CSVデータ4!L149","v":0},null,{"$f":"CSVデータ1!N149+CSVデータ2!N149+CSVデータ3!N149+CSVデータ4!N149","v":0},null,{"$f":"CSVデータ1!P149+CSVデータ2!P149+CSVデータ3!P149+CSVデータ4!P149","v":0},null,{"$f":"CSVデータ1!R149+CSVデータ2!R149+CSVデータ3!R149+CSVデータ4!R149","v":0},null,{"$f":"CSVデータ1!T149+CSVデータ2!T149+CSVデータ3!T149+CSVデータ4!T149","v":0},null,{"$f":"CSVデータ1!V149+CSVデータ2!V149+CSVデータ3!V149+CSVデータ4!V149","v":0},null,{"$f":"CSVデータ1!X149+CSVデータ2!X149+CSVデータ3!X149+CSVデータ4!X149","v":0},null,{"$f":"CSVデータ1!Z149+CSVデータ2!Z149+CSVデータ3!Z149+CSVデータ4!Z149","v":0},null,{"$f":"CSVデータ1!AB149+CSVデータ2!AB149+CSVデータ3!AB149+CSVデータ4!AB149","v":0},null,{"$f":"CSVデータ1!AD149+CSVデータ2!AD149+CSVデータ3!AD149+CSVデータ4!AD149","v":0},null,{"$f":"CSVデータ1!AF149+CSVデータ2!AF149+CSVデータ3!AF149+CSVデータ4!AF149","v":0}]
[{"$f":"CSVデータ1!A150","v":"明細部"},{"$f":"CSVデータ1!B150","v":"保険者（地区）"},{"$f":"CSVデータ1!C150","v":46},{"$f":"CSVデータ1!D150","v":"男"},{"$f":"CSVデータ1!E150+CSVデータ2!E150+CSVデータ3!E150+CSVデータ4!E150","v":0},{"$f":"CSVデータ1!F150+CSVデータ2!F150+CSVデータ3!F150+CSVデータ4!F150","v":0},null,{"$f":"CSVデータ1!H150+CSVデータ2!H150+CSVデータ3!H150+CSVデータ4!H150","v":0},null,{"$f":"CSVデータ1!J150+CSVデータ2!J150+CSVデータ3!J150+CSVデータ4!J150","v":0},null,{"$f":"CSVデータ1!L150+CSVデータ2!L150+CSVデータ3!L150+CSVデータ4!L150","v":0},null,{"$f":"CSVデータ1!N150+CSVデータ2!N150+CSVデータ3!N150+CSVデータ4!N150","v":0},null,{"$f":"CSVデータ1!P150+CSVデータ2!P150+CSVデータ3!P150+CSVデータ4!P150","v":0},null,{"$f":"CSVデータ1!R150+CSVデータ2!R150+CSVデータ3!R150+CSVデータ4!R150","v":0},null,{"$f":"CSVデータ1!T150+CSVデータ2!T150+CSVデータ3!T150+CSVデータ4!T150","v":0},null,{"$f":"CSVデータ1!V150+CSVデータ2!V150+CSVデータ3!V150+CSVデータ4!V150","v":0},null,{"$f":"CSVデータ1!X150+CSVデータ2!X150+CSVデータ3!X150+CSVデータ4!X150","v":0},null,{"$f":"CSVデータ1!Z150+CSVデータ2!Z150+CSVデータ3!Z150+CSVデータ4!Z150","v":0},null,{"$f":"CSVデータ1!AB150+CSVデータ2!AB150+CSVデータ3!AB150+CSVデータ4!AB150","v":0},null,{"$f":"CSVデータ1!AD150+CSVデータ2!AD150+CSVデータ3!AD150+CSVデータ4!AD150","v":0},null,{"$f":"CSVデータ1!AF150+CSVデータ2!AF150+CSVデータ3!AF150+CSVデータ4!AF150","v":0}]
[{"$f":"CSVデータ1!A151","v":"明細部"},{"$f":"CSVデータ1!B151","v":"保険者（地区）"},{"$f":"CSVデータ1!C151","v":47},{"$f":"CSVデータ1!D151","v":"男"},{"$f":"CSVデータ1!E151+CSVデータ2!E151+CSVデータ3!E151+CSVデータ4!E151","v":0},{"$f":"CSVデータ1!F151+CSVデータ2!F151+CSVデータ3!F151+CSVデータ4!F151","v":0},null,{"$f":"CSVデータ1!H151+CSVデータ2!H151+CSVデータ3!H151+CSVデータ4!H151","v":0},null,{"$f":"CSVデータ1!J151+CSVデータ2!J151+CSVデータ3!J151+CSVデータ4!J151","v":0},null,{"$f":"CSVデータ1!L151+CSVデータ2!L151+CSVデータ3!L151+CSVデータ4!L151","v":0},null,{"$f":"CSVデータ1!N151+CSVデータ2!N151+CSVデータ3!N151+CSVデータ4!N151","v":0},null,{"$f":"CSVデータ1!P151+CSVデータ2!P151+CSVデータ3!P151+CSVデータ4!P151","v":0},null,{"$f":"CSVデータ1!R151+CSVデータ2!R151+CSVデータ3!R151+CSVデータ4!R151","v":0},null,{"$f":"CSVデータ1!T151+CSVデータ2!T151+CSVデータ3!T151+CSVデータ4!T151","v":0},null,{"$f":"CSVデータ1!V151+CSVデータ2!V151+CSVデータ3!V151+CSVデータ4!V151","v":0},null,{"$f":"CSVデータ1!X151+CSVデータ2!X151+CSVデータ3!X151+CSVデータ4!X151","v":0},null,{"$f":"CSVデータ1!Z151+CSVデータ2!Z151+CSVデータ3!Z151+CSVデータ4!Z151","v":0},null,{"$f":"CSVデータ1!AB151+CSVデータ2!AB151+CSVデータ3!AB151+CSVデータ4!AB151","v":0},null,{"$f":"CSVデータ1!AD151+CSVデータ2!AD151+CSVデータ3!AD151+CSVデータ4!AD151","v":0},null,{"$f":"CSVデータ1!AF151+CSVデータ2!AF151+CSVデータ3!AF151+CSVデータ4!AF151","v":0}]
[{"$f":"CSVデータ1!A152","v":"明細部"},{"$f":"CSVデータ1!B152","v":"保険者（地区）"},{"$f":"CSVデータ1!C152","v":48},{"$f":"CSVデータ1!D152","v":"男"},{"$f":"CSVデータ1!E152+CSVデータ2!E152+CSVデータ3!E152+CSVデータ4!E152","v":0},{"$f":"CSVデータ1!F152+CSVデータ2!F152+CSVデータ3!F152+CSVデータ4!F152","v":0},null,{"$f":"CSVデータ1!H152+CSVデータ2!H152+CSVデータ3!H152+CSVデータ4!H152","v":0},null,{"$f":"CSVデータ1!J152+CSVデータ2!J152+CSVデータ3!J152+CSVデータ4!J152","v":0},null,{"$f":"CSVデータ1!L152+CSVデータ2!L152+CSVデータ3!L152+CSVデータ4!L152","v":0},null,{"$f":"CSVデータ1!N152+CSVデータ2!N152+CSVデータ3!N152+CSVデータ4!N152","v":0},null,{"$f":"CSVデータ1!P152+CSVデータ2!P152+CSVデータ3!P152+CSVデータ4!P152","v":0},null,{"$f":"CSVデータ1!R152+CSVデータ2!R152+CSVデータ3!R152+CSVデータ4!R152","v":0},null,{"$f":"CSVデータ1!T152+CSVデータ2!T152+CSVデータ3!T152+CSVデータ4!T152","v":0},null,{"$f":"CSVデータ1!V152+CSVデータ2!V152+CSVデータ3!V152+CSVデータ4!V152","v":0},null,{"$f":"CSVデータ1!X152+CSVデータ2!X152+CSVデータ3!X152+CSVデータ4!X152","v":0},null,{"$f":"CSVデータ1!Z152+CSVデータ2!Z152+CSVデータ3!Z152+CSVデータ4!Z152","v":0},null,{"$f":"CSVデータ1!AB152+CSVデータ2!AB152+CSVデータ3!AB152+CSVデータ4!AB152","v":0},null,{"$f":"CSVデータ1!AD152+CSVデータ2!AD152+CSVデータ3!AD152+CSVデータ4!AD152","v":0},null,{"$f":"CSVデータ1!AF152+CSVデータ2!AF152+CSVデータ3!AF152+CSVデータ4!AF152","v":0}]
[{"$f":"CSVデータ1!A153","v":"明細部"},{"$f":"CSVデータ1!B153","v":"保険者（地区）"},{"$f":"CSVデータ1!C153","v":49},{"$f":"CSVデータ1!D153","v":"男"},{"$f":"CSVデータ1!E153+CSVデータ2!E153+CSVデータ3!E153+CSVデータ4!E153","v":0},{"$f":"CSVデータ1!F153+CSVデータ2!F153+CSVデータ3!F153+CSVデータ4!F153","v":0},null,{"$f":"CSVデータ1!H153+CSVデータ2!H153+CSVデータ3!H153+CSVデータ4!H153","v":0},null,{"$f":"CSVデータ1!J153+CSVデータ2!J153+CSVデータ3!J153+CSVデータ4!J153","v":0},null,{"$f":"CSVデータ1!L153+CSVデータ2!L153+CSVデータ3!L153+CSVデータ4!L153","v":0},null,{"$f":"CSVデータ1!N153+CSVデータ2!N153+CSVデータ3!N153+CSVデータ4!N153","v":0},null,{"$f":"CSVデータ1!P153+CSVデータ2!P153+CSVデータ3!P153+CSVデータ4!P153","v":0},null,{"$f":"CSVデータ1!R153+CSVデータ2!R153+CSVデータ3!R153+CSVデータ4!R153","v":0},null,{"$f":"CSVデータ1!T153+CSVデータ2!T153+CSVデータ3!T153+CSVデータ4!T153","v":0},null,{"$f":"CSVデータ1!V153+CSVデータ2!V153+CSVデータ3!V153+CSVデータ4!V153","v":0},null,{"$f":"CSVデータ1!X153+CSVデータ2!X153+CSVデータ3!X153+CSVデータ4!X153","v":0},null,{"$f":"CSVデータ1!Z153+CSVデータ2!Z153+CSVデータ3!Z153+CSVデータ4!Z153","v":0},null,{"$f":"CSVデータ1!AB153+CSVデータ2!AB153+CSVデータ3!AB153+CSVデータ4!AB153","v":0},null,{"$f":"CSVデータ1!AD153+CSVデータ2!AD153+CSVデータ3!AD153+CSVデータ4!AD153","v":0},null,{"$f":"CSVデータ1!AF153+CSVデータ2!AF153+CSVデータ3!AF153+CSVデータ4!AF153","v":0}]
[{"$f":"CSVデータ1!A154","v":"明細部"},{"$f":"CSVデータ1!B154","v":"保険者（地区）"},{"$f":"CSVデータ1!C154","v":50},{"$f":"CSVデータ1!D154","v":"男"},{"$f":"CSVデータ1!E154+CSVデータ2!E154+CSVデータ3!E154+CSVデータ4!E154","v":0},{"$f":"CSVデータ1!F154+CSVデータ2!F154+CSVデータ3!F154+CSVデータ4!F154","v":0},null,{"$f":"CSVデータ1!H154+CSVデータ2!H154+CSVデータ3!H154+CSVデータ4!H154","v":0},null,{"$f":"CSVデータ1!J154+CSVデータ2!J154+CSVデータ3!J154+CSVデータ4!J154","v":0},null,{"$f":"CSVデータ1!L154+CSVデータ2!L154+CSVデータ3!L154+CSVデータ4!L154","v":0},null,{"$f":"CSVデータ1!N154+CSVデータ2!N154+CSVデータ3!N154+CSVデータ4!N154","v":0},null,{"$f":"CSVデータ1!P154+CSVデータ2!P154+CSVデータ3!P154+CSVデータ4!P154","v":0},null,{"$f":"CSVデータ1!R154+CSVデータ2!R154+CSVデータ3!R154+CSVデータ4!R154","v":0},null,{"$f":"CSVデータ1!T154+CSVデータ2!T154+CSVデータ3!T154+CSVデータ4!T154","v":0},null,{"$f":"CSVデータ1!V154+CSVデータ2!V154+CSVデータ3!V154+CSVデータ4!V154","v":0},null,{"$f":"CSVデータ1!X154+CSVデータ2!X154+CSVデータ3!X154+CSVデータ4!X154","v":0},null,{"$f":"CSVデータ1!Z154+CSVデータ2!Z154+CSVデータ3!Z154+CSVデータ4!Z154","v":0},null,{"$f":"CSVデータ1!AB154+CSVデータ2!AB154+CSVデータ3!AB154+CSVデータ4!AB154","v":0},null,{"$f":"CSVデータ1!AD154+CSVデータ2!AD154+CSVデータ3!AD154+CSVデータ4!AD154","v":0},null,{"$f":"CSVデータ1!AF154+CSVデータ2!AF154+CSVデータ3!AF154+CSVデータ4!AF154","v":0}]
[{"$f":"CSVデータ1!A155","v":"明細部"},{"$f":"CSVデータ1!B155","v":"保険者（地区）"},{"$f":"CSVデータ1!C155","v":51},{"$f":"CSVデータ1!D155","v":"男"},{"$f":"CSVデータ1!E155+CSVデータ2!E155+CSVデータ3!E155+CSVデータ4!E155","v":0},{"$f":"CSVデータ1!F155+CSVデータ2!F155+CSVデータ3!F155+CSVデータ4!F155","v":0},null,{"$f":"CSVデータ1!H155+CSVデータ2!H155+CSVデータ3!H155+CSVデータ4!H155","v":0},null,{"$f":"CSVデータ1!J155+CSVデータ2!J155+CSVデータ3!J155+CSVデータ4!J155","v":0},null,{"$f":"CSVデータ1!L155+CSVデータ2!L155+CSVデータ3!L155+CSVデータ4!L155","v":0},null,{"$f":"CSVデータ1!N155+CSVデータ2!N155+CSVデータ3!N155+CSVデータ4!N155","v":0},null,{"$f":"CSVデータ1!P155+CSVデータ2!P155+CSVデータ3!P155+CSVデータ4!P155","v":0},null,{"$f":"CSVデータ1!R155+CSVデータ2!R155+CSVデータ3!R155+CSVデータ4!R155","v":0},null,{"$f":"CSVデータ1!T155+CSVデータ2!T155+CSVデータ3!T155+CSVデータ4!T155","v":0},null,{"$f":"CSVデータ1!V155+CSVデータ2!V155+CSVデータ3!V155+CSVデータ4!V155","v":0},null,{"$f":"CSVデータ1!X155+CSVデータ2!X155+CSVデータ3!X155+CSVデータ4!X155","v":0},null,{"$f":"CSVデータ1!Z155+CSVデータ2!Z155+CSVデータ3!Z155+CSVデータ4!Z155","v":0},null,{"$f":"CSVデータ1!AB155+CSVデータ2!AB155+CSVデータ3!AB155+CSVデータ4!AB155","v":0},null,{"$f":"CSVデータ1!AD155+CSVデータ2!AD155+CSVデータ3!AD155+CSVデータ4!AD155","v":0},null,{"$f":"CSVデータ1!AF155+CSVデータ2!AF155+CSVデータ3!AF155+CSVデータ4!AF155","v":0}]
[{"$f":"CSVデータ1!A156","v":"明細部"},{"$f":"CSVデータ1!B156","v":"保険者（地区）"},{"$f":"CSVデータ1!C156","v":52},{"$f":"CSVデータ1!D156","v":"男"},{"$f":"CSVデータ1!E156+CSVデータ2!E156+CSVデータ3!E156+CSVデータ4!E156","v":0},{"$f":"CSVデータ1!F156+CSVデータ2!F156+CSVデータ3!F156+CSVデータ4!F156","v":0},null,{"$f":"CSVデータ1!H156+CSVデータ2!H156+CSVデータ3!H156+CSVデータ4!H156","v":0},null,{"$f":"CSVデータ1!J156+CSVデータ2!J156+CSVデータ3!J156+CSVデータ4!J156","v":0},null,{"$f":"CSVデータ1!L156+CSVデータ2!L156+CSVデータ3!L156+CSVデータ4!L156","v":0},null,{"$f":"CSVデータ1!N156+CSVデータ2!N156+CSVデータ3!N156+CSVデータ4!N156","v":0},null,{"$f":"CSVデータ1!P156+CSVデータ2!P156+CSVデータ3!P156+CSVデータ4!P156","v":0},null,{"$f":"CSVデータ1!R156+CSVデータ2!R156+CSVデータ3!R156+CSVデータ4!R156","v":0},null,{"$f":"CSVデータ1!T156+CSVデータ2!T156+CSVデータ3!T156+CSVデータ4!T156","v":0},null,{"$f":"CSVデータ1!V156+CSVデータ2!V156+CSVデータ3!V156+CSVデータ4!V156","v":0},null,{"$f":"CSVデータ1!X156+CSVデータ2!X156+CSVデータ3!X156+CSVデータ4!X156","v":0},null,{"$f":"CSVデータ1!Z156+CSVデータ2!Z156+CSVデータ3!Z156+CSVデータ4!Z156","v":0},null,{"$f":"CSVデータ1!AB156+CSVデータ2!AB156+CSVデータ3!AB156+CSVデータ4!AB156","v":0},null,{"$f":"CSVデータ1!AD156+CSVデータ2!AD156+CSVデータ3!AD156+CSVデータ4!AD156","v":0},null,{"$f":"CSVデータ1!AF156+CSVデータ2!AF156+CSVデータ3!AF156+CSVデータ4!AF156","v":0}]
[{"$f":"CSVデータ1!A157","v":"明細部"},{"$f":"CSVデータ1!B157","v":"保険者（地区）"},{"$f":"CSVデータ1!C157","v":53},{"$f":"CSVデータ1!D157","v":"男"},{"$f":"CSVデータ1!E157+CSVデータ2!E157+CSVデータ3!E157+CSVデータ4!E157","v":0},{"$f":"CSVデータ1!F157+CSVデータ2!F157+CSVデータ3!F157+CSVデータ4!F157","v":0},null,{"$f":"CSVデータ1!H157+CSVデータ2!H157+CSVデータ3!H157+CSVデータ4!H157","v":0},null,{"$f":"CSVデータ1!J157+CSVデータ2!J157+CSVデータ3!J157+CSVデータ4!J157","v":0},null,{"$f":"CSVデータ1!L157+CSVデータ2!L157+CSVデータ3!L157+CSVデータ4!L157","v":0},null,{"$f":"CSVデータ1!N157+CSVデータ2!N157+CSVデータ3!N157+CSVデータ4!N157","v":0},null,{"$f":"CSVデータ1!P157+CSVデータ2!P157+CSVデータ3!P157+CSVデータ4!P157","v":0},null,{"$f":"CSVデータ1!R157+CSVデータ2!R157+CSVデータ3!R157+CSVデータ4!R157","v":0},null,{"$f":"CSVデータ1!T157+CSVデータ2!T157+CSVデータ3!T157+CSVデータ4!T157","v":0},null,{"$f":"CSVデータ1!V157+CSVデータ2!V157+CSVデータ3!V157+CSVデータ4!V157","v":0},null,{"$f":"CSVデータ1!X157+CSVデータ2!X157+CSVデータ3!X157+CSVデータ4!X157","v":0},null,{"$f":"CSVデータ1!Z157+CSVデータ2!Z157+CSVデータ3!Z157+CSVデータ4!Z157","v":0},null,{"$f":"CSVデータ1!AB157+CSVデータ2!AB157+CSVデータ3!AB157+CSVデータ4!AB157","v":0},null,{"$f":"CSVデータ1!AD157+CSVデータ2!AD157+CSVデータ3!AD157+CSVデータ4!AD157","v":0},null,{"$f":"CSVデータ1!AF157+CSVデータ2!AF157+CSVデータ3!AF157+CSVデータ4!AF157","v":0}]
[{"$f":"CSVデータ1!A158","v":"明細部"},{"$f":"CSVデータ1!B158","v":"保険者（地区）"},{"$f":"CSVデータ1!C158","v":54},{"$f":"CSVデータ1!D158","v":"男"},{"$f":"CSVデータ1!E158+CSVデータ2!E158+CSVデータ3!E158+CSVデータ4!E158","v":0},{"$f":"CSVデータ1!F158+CSVデータ2!F158+CSVデータ3!F158+CSVデータ4!F158","v":0},null,{"$f":"CSVデータ1!H158+CSVデータ2!H158+CSVデータ3!H158+CSVデータ4!H158","v":0},null,{"$f":"CSVデータ1!J158+CSVデータ2!J158+CSVデータ3!J158+CSVデータ4!J158","v":0},null,{"$f":"CSVデータ1!L158+CSVデータ2!L158+CSVデータ3!L158+CSVデータ4!L158","v":0},null,{"$f":"CSVデータ1!N158+CSVデータ2!N158+CSVデータ3!N158+CSVデータ4!N158","v":0},null,{"$f":"CSVデータ1!P158+CSVデータ2!P158+CSVデータ3!P158+CSVデータ4!P158","v":0},null,{"$f":"CSVデータ1!R158+CSVデータ2!R158+CSVデータ3!R158+CSVデータ4!R158","v":0},null,{"$f":"CSVデータ1!T158+CSVデータ2!T158+CSVデータ3!T158+CSVデータ4!T158","v":0},null,{"$f":"CSVデータ1!V158+CSVデータ2!V158+CSVデータ3!V158+CSVデータ4!V158","v":0},null,{"$f":"CSVデータ1!X158+CSVデータ2!X158+CSVデータ3!X158+CSVデータ4!X158","v":0},null,{"$f":"CSVデータ1!Z158+CSVデータ2!Z158+CSVデータ3!Z158+CSVデータ4!Z158","v":0},null,{"$f":"CSVデータ1!AB158+CSVデータ2!AB158+CSVデータ3!AB158+CSVデータ4!AB158","v":0},null,{"$f":"CSVデータ1!AD158+CSVデータ2!AD158+CSVデータ3!AD158+CSVデータ4!AD158","v":0},null,{"$f":"CSVデータ1!AF158+CSVデータ2!AF158+CSVデータ3!AF158+CSVデータ4!AF158","v":0}]
[{"$f":"CSVデータ1!A159","v":"明細部"},{"$f":"CSVデータ1!B159","v":"保険者（地区）"},{"$f":"CSVデータ1!C159","v":55},{"$f":"CSVデータ1!D159","v":"男"},{"$f":"CSVデータ1!E159+CSVデータ2!E159+CSVデータ3!E159+CSVデータ4!E159","v":0},{"$f":"CSVデータ1!F159+CSVデータ2!F159+CSVデータ3!F159+CSVデータ4!F159","v":0},null,{"$f":"CSVデータ1!H159+CSVデータ2!H159+CSVデータ3!H159+CSVデータ4!H159","v":0},null,{"$f":"CSVデータ1!J159+CSVデータ2!J159+CSVデータ3!J159+CSVデータ4!J159","v":0},null,{"$f":"CSVデータ1!L159+CSVデータ2!L159+CSVデータ3!L159+CSVデータ4!L159","v":0},null,{"$f":"CSVデータ1!N159+CSVデータ2!N159+CSVデータ3!N159+CSVデータ4!N159","v":0},null,{"$f":"CSVデータ1!P159+CSVデータ2!P159+CSVデータ3!P159+CSVデータ4!P159","v":0},null,{"$f":"CSVデータ1!R159+CSVデータ2!R159+CSVデータ3!R159+CSVデータ4!R159","v":0},null,{"$f":"CSVデータ1!T159+CSVデータ2!T159+CSVデータ3!T159+CSVデータ4!T159","v":0},null,{"$f":"CSVデータ1!V159+CSVデータ2!V159+CSVデータ3!V159+CSVデータ4!V159","v":0},null,{"$f":"CSVデータ1!X159+CSVデータ2!X159+CSVデータ3!X159+CSVデータ4!X159","v":0},null,{"$f":"CSVデータ1!Z159+CSVデータ2!Z159+CSVデータ3!Z159+CSVデータ4!Z159","v":0},null,{"$f":"CSVデータ1!AB159+CSVデータ2!AB159+CSVデータ3!AB159+CSVデータ4!AB159","v":0},null,{"$f":"CSVデータ1!AD159+CSVデータ2!AD159+CSVデータ3!AD159+CSVデータ4!AD159","v":0},null,{"$f":"CSVデータ1!AF159+CSVデータ2!AF159+CSVデータ3!AF159+CSVデータ4!AF159","v":0}]
[{"$f":"CSVデータ1!A160","v":"明細部"},{"$f":"CSVデータ1!B160","v":"保険者（地区）"},{"$f":"CSVデータ1!C160","v":56},{"$f":"CSVデータ1!D160","v":"男"},{"$f":"CSVデータ1!E160+CSVデータ2!E160+CSVデータ3!E160+CSVデータ4!E160","v":0},{"$f":"CSVデータ1!F160+CSVデータ2!F160+CSVデータ3!F160+CSVデータ4!F160","v":0},null,{"$f":"CSVデータ1!H160+CSVデータ2!H160+CSVデータ3!H160+CSVデータ4!H160","v":0},null,{"$f":"CSVデータ1!J160+CSVデータ2!J160+CSVデータ3!J160+CSVデータ4!J160","v":0},null,{"$f":"CSVデータ1!L160+CSVデータ2!L160+CSVデータ3!L160+CSVデータ4!L160","v":0},null,{"$f":"CSVデータ1!N160+CSVデータ2!N160+CSVデータ3!N160+CSVデータ4!N160","v":0},null,{"$f":"CSVデータ1!P160+CSVデータ2!P160+CSVデータ3!P160+CSVデータ4!P160","v":0},null,{"$f":"CSVデータ1!R160+CSVデータ2!R160+CSVデータ3!R160+CSVデータ4!R160","v":0},null,{"$f":"CSVデータ1!T160+CSVデータ2!T160+CSVデータ3!T160+CSVデータ4!T160","v":0},null,{"$f":"CSVデータ1!V160+CSVデータ2!V160+CSVデータ3!V160+CSVデータ4!V160","v":0},null,{"$f":"CSVデータ1!X160+CSVデータ2!X160+CSVデータ3!X160+CSVデータ4!X160","v":0},null,{"$f":"CSVデータ1!Z160+CSVデータ2!Z160+CSVデータ3!Z160+CSVデータ4!Z160","v":0},null,{"$f":"CSVデータ1!AB160+CSVデータ2!AB160+CSVデータ3!AB160+CSVデータ4!AB160","v":0},null,{"$f":"CSVデータ1!AD160+CSVデータ2!AD160+CSVデータ3!AD160+CSVデータ4!AD160","v":0},null,{"$f":"CSVデータ1!AF160+CSVデータ2!AF160+CSVデータ3!AF160+CSVデータ4!AF160","v":0}]
[{"$f":"CSVデータ1!A161","v":"明細部"},{"$f":"CSVデータ1!B161","v":"保険者（地区）"},{"$f":"CSVデータ1!C161","v":57},{"$f":"CSVデータ1!D161","v":"男"},{"$f":"CSVデータ1!E161+CSVデータ2!E161+CSVデータ3!E161+CSVデータ4!E161","v":0},{"$f":"CSVデータ1!F161+CSVデータ2!F161+CSVデータ3!F161+CSVデータ4!F161","v":0},null,{"$f":"CSVデータ1!H161+CSVデータ2!H161+CSVデータ3!H161+CSVデータ4!H161","v":0},null,{"$f":"CSVデータ1!J161+CSVデータ2!J161+CSVデータ3!J161+CSVデータ4!J161","v":0},null,{"$f":"CSVデータ1!L161+CSVデータ2!L161+CSVデータ3!L161+CSVデータ4!L161","v":0},null,{"$f":"CSVデータ1!N161+CSVデータ2!N161+CSVデータ3!N161+CSVデータ4!N161","v":0},null,{"$f":"CSVデータ1!P161+CSVデータ2!P161+CSVデータ3!P161+CSVデータ4!P161","v":0},null,{"$f":"CSVデータ1!R161+CSVデータ2!R161+CSVデータ3!R161+CSVデータ4!R161","v":0},null,{"$f":"CSVデータ1!T161+CSVデータ2!T161+CSVデータ3!T161+CSVデータ4!T161","v":0},null,{"$f":"CSVデータ1!V161+CSVデータ2!V161+CSVデータ3!V161+CSVデータ4!V161","v":0},null,{"$f":"CSVデータ1!X161+CSVデータ2!X161+CSVデータ3!X161+CSVデータ4!X161","v":0},null,{"$f":"CSVデータ1!Z161+CSVデータ2!Z161+CSVデータ3!Z161+CSVデータ4!Z161","v":0},null,{"$f":"CSVデータ1!AB161+CSVデータ2!AB161+CSVデータ3!AB161+CSVデータ4!AB161","v":0},null,{"$f":"CSVデータ1!AD161+CSVデータ2!AD161+CSVデータ3!AD161+CSVデータ4!AD161","v":0},null,{"$f":"CSVデータ1!AF161+CSVデータ2!AF161+CSVデータ3!AF161+CSVデータ4!AF161","v":0}]
[{"$f":"CSVデータ1!A162","v":"明細部"},{"$f":"CSVデータ1!B162","v":"保険者（地区）"},{"$f":"CSVデータ1!C162","v":58},{"$f":"CSVデータ1!D162","v":"男"},{"$f":"CSVデータ1!E162+CSVデータ2!E162+CSVデータ3!E162+CSVデータ4!E162","v":0},{"$f":"CSVデータ1!F162+CSVデータ2!F162+CSVデータ3!F162+CSVデータ4!F162","v":0},null,{"$f":"CSVデータ1!H162+CSVデータ2!H162+CSVデータ3!H162+CSVデータ4!H162","v":0},null,{"$f":"CSVデータ1!J162+CSVデータ2!J162+CSVデータ3!J162+CSVデータ4!J162","v":0},null,{"$f":"CSVデータ1!L162+CSVデータ2!L162+CSVデータ3!L162+CSVデータ4!L162","v":0},null,{"$f":"CSVデータ1!N162+CSVデータ2!N162+CSVデータ3!N162+CSVデータ4!N162","v":0},null,{"$f":"CSVデータ1!P162+CSVデータ2!P162+CSVデータ3!P162+CSVデータ4!P162","v":0},null,{"$f":"CSVデータ1!R162+CSVデータ2!R162+CSVデータ3!R162+CSVデータ4!R162","v":0},null,{"$f":"CSVデータ1!T162+CSVデータ2!T162+CSVデータ3!T162+CSVデータ4!T162","v":0},null,{"$f":"CSVデータ1!V162+CSVデータ2!V162+CSVデータ3!V162+CSVデータ4!V162","v":0},null,{"$f":"CSVデータ1!X162+CSVデータ2!X162+CSVデータ3!X162+CSVデータ4!X162","v":0},null,{"$f":"CSVデータ1!Z162+CSVデータ2!Z162+CSVデータ3!Z162+CSVデータ4!Z162","v":0},null,{"$f":"CSVデータ1!AB162+CSVデータ2!AB162+CSVデータ3!AB162+CSVデータ4!AB162","v":0},null,{"$f":"CSVデータ1!AD162+CSVデータ2!AD162+CSVデータ3!AD162+CSVデータ4!AD162","v":0},null,{"$f":"CSVデータ1!AF162+CSVデータ2!AF162+CSVデータ3!AF162+CSVデータ4!AF162","v":0}]
[{"$f":"CSVデータ1!A163","v":"明細部"},{"$f":"CSVデータ1!B163","v":"保険者（地区）"},{"$f":"CSVデータ1!C163","v":59},{"$f":"CSVデータ1!D163","v":"男"},{"$f":"CSVデータ1!E163+CSVデータ2!E163+CSVデータ3!E163+CSVデータ4!E163","v":0},{"$f":"CSVデータ1!F163+CSVデータ2!F163+CSVデータ3!F163+CSVデータ4!F163","v":0},null,{"$f":"CSVデータ1!H163+CSVデータ2!H163+CSVデータ3!H163+CSVデータ4!H163","v":0},null,{"$f":"CSVデータ1!J163+CSVデータ2!J163+CSVデータ3!J163+CSVデータ4!J163","v":0},null,{"$f":"CSVデータ1!L163+CSVデータ2!L163+CSVデータ3!L163+CSVデータ4!L163","v":0},null,{"$f":"CSVデータ1!N163+CSVデータ2!N163+CSVデータ3!N163+CSVデータ4!N163","v":0},null,{"$f":"CSVデータ1!P163+CSVデータ2!P163+CSVデータ3!P163+CSVデータ4!P163","v":0},null,{"$f":"CSVデータ1!R163+CSVデータ2!R163+CSVデータ3!R163+CSVデータ4!R163","v":0},null,{"$f":"CSVデータ1!T163+CSVデータ2!T163+CSVデータ3!T163+CSVデータ4!T163","v":0},null,{"$f":"CSVデータ1!V163+CSVデータ2!V163+CSVデータ3!V163+CSVデータ4!V163","v":0},null,{"$f":"CSVデータ1!X163+CSVデータ2!X163+CSVデータ3!X163+CSVデータ4!X163","v":0},null,{"$f":"CSVデータ1!Z163+CSVデータ2!Z163+CSVデータ3!Z163+CSVデータ4!Z163","v":0},null,{"$f":"CSVデータ1!AB163+CSVデータ2!AB163+CSVデータ3!AB163+CSVデータ4!AB163","v":0},null,{"$f":"CSVデータ1!AD163+CSVデータ2!AD163+CSVデータ3!AD163+CSVデータ4!AD163","v":0},null,{"$f":"CSVデータ1!AF163+CSVデータ2!AF163+CSVデータ3!AF163+CSVデータ4!AF163","v":0}]
[{"$f":"CSVデータ1!A164","v":"明細部"},{"$f":"CSVデータ1!B164","v":"保険者（地区）"},{"$f":"CSVデータ1!C164","v":60},{"$f":"CSVデータ1!D164","v":"男"},{"$f":"CSVデータ1!E164+CSVデータ2!E164+CSVデータ3!E164+CSVデータ4!E164","v":0},{"$f":"CSVデータ1!F164+CSVデータ2!F164+CSVデータ3!F164+CSVデータ4!F164","v":0},null,{"$f":"CSVデータ1!H164+CSVデータ2!H164+CSVデータ3!H164+CSVデータ4!H164","v":0},null,{"$f":"CSVデータ1!J164+CSVデータ2!J164+CSVデータ3!J164+CSVデータ4!J164","v":0},null,{"$f":"CSVデータ1!L164+CSVデータ2!L164+CSVデータ3!L164+CSVデータ4!L164","v":0},null,{"$f":"CSVデータ1!N164+CSVデータ2!N164+CSVデータ3!N164+CSVデータ4!N164","v":0},null,{"$f":"CSVデータ1!P164+CSVデータ2!P164+CSVデータ3!P164+CSVデータ4!P164","v":0},null,{"$f":"CSVデータ1!R164+CSVデータ2!R164+CSVデータ3!R164+CSVデータ4!R164","v":0},null,{"$f":"CSVデータ1!T164+CSVデータ2!T164+CSVデータ3!T164+CSVデータ4!T164","v":0},null,{"$f":"CSVデータ1!V164+CSVデータ2!V164+CSVデータ3!V164+CSVデータ4!V164","v":0},null,{"$f":"CSVデータ1!X164+CSVデータ2!X164+CSVデータ3!X164+CSVデータ4!X164","v":0},null,{"$f":"CSVデータ1!Z164+CSVデータ2!Z164+CSVデータ3!Z164+CSVデータ4!Z164","v":0},null,{"$f":"CSVデータ1!AB164+CSVデータ2!AB164+CSVデータ3!AB164+CSVデータ4!AB164","v":0},null,{"$f":"CSVデータ1!AD164+CSVデータ2!AD164+CSVデータ3!AD164+CSVデータ4!AD164","v":0},null,{"$f":"CSVデータ1!AF164+CSVデータ2!AF164+CSVデータ3!AF164+CSVデータ4!AF164","v":0}]
[{"$f":"CSVデータ1!A165","v":"明細部"},{"$f":"CSVデータ1!B165","v":"保険者（地区）"},{"$f":"CSVデータ1!C165","v":61},{"$f":"CSVデータ1!D165","v":"男"},{"$f":"CSVデータ1!E165+CSVデータ2!E165+CSVデータ3!E165+CSVデータ4!E165","v":0},{"$f":"CSVデータ1!F165+CSVデータ2!F165+CSVデータ3!F165+CSVデータ4!F165","v":0},null,{"$f":"CSVデータ1!H165+CSVデータ2!H165+CSVデータ3!H165+CSVデータ4!H165","v":0},null,{"$f":"CSVデータ1!J165+CSVデータ2!J165+CSVデータ3!J165+CSVデータ4!J165","v":0},null,{"$f":"CSVデータ1!L165+CSVデータ2!L165+CSVデータ3!L165+CSVデータ4!L165","v":0},null,{"$f":"CSVデータ1!N165+CSVデータ2!N165+CSVデータ3!N165+CSVデータ4!N165","v":0},null,{"$f":"CSVデータ1!P165+CSVデータ2!P165+CSVデータ3!P165+CSVデータ4!P165","v":0},null,{"$f":"CSVデータ1!R165+CSVデータ2!R165+CSVデータ3!R165+CSVデータ4!R165","v":0},null,{"$f":"CSVデータ1!T165+CSVデータ2!T165+CSVデータ3!T165+CSVデータ4!T165","v":0},null,{"$f":"CSVデータ1!V165+CSVデータ2!V165+CSVデータ3!V165+CSVデータ4!V165","v":0},null,{"$f":"CSVデータ1!X165+CSVデータ2!X165+CSVデータ3!X165+CSVデータ4!X165","v":0},null,{"$f":"CSVデータ1!Z165+CSVデータ2!Z165+CSVデータ3!Z165+CSVデータ4!Z165","v":0},null,{"$f":"CSVデータ1!AB165+CSVデータ2!AB165+CSVデータ3!AB165+CSVデータ4!AB165","v":0},null,{"$f":"CSVデータ1!AD165+CSVデータ2!AD165+CSVデータ3!AD165+CSVデータ4!AD165","v":0},null,{"$f":"CSVデータ1!AF165+CSVデータ2!AF165+CSVデータ3!AF165+CSVデータ4!AF165","v":0}]
[{"$f":"CSVデータ1!A166","v":"明細部"},{"$f":"CSVデータ1!B166","v":"保険者（地区）"},{"$f":"CSVデータ1!C166","v":62},{"$f":"CSVデータ1!D166","v":"男"},{"$f":"CSVデータ1!E166+CSVデータ2!E166+CSVデータ3!E166+CSVデータ4!E166","v":0},{"$f":"CSVデータ1!F166+CSVデータ2!F166+CSVデータ3!F166+CSVデータ4!F166","v":0},null,{"$f":"CSVデータ1!H166+CSVデータ2!H166+CSVデータ3!H166+CSVデータ4!H166","v":0},null,{"$f":"CSVデータ1!J166+CSVデータ2!J166+CSVデータ3!J166+CSVデータ4!J166","v":0},null,{"$f":"CSVデータ1!L166+CSVデータ2!L166+CSVデータ3!L166+CSVデータ4!L166","v":0},null,{"$f":"CSVデータ1!N166+CSVデータ2!N166+CSVデータ3!N166+CSVデータ4!N166","v":0},null,{"$f":"CSVデータ1!P166+CSVデータ2!P166+CSVデータ3!P166+CSVデータ4!P166","v":0},null,{"$f":"CSVデータ1!R166+CSVデータ2!R166+CSVデータ3!R166+CSVデータ4!R166","v":0},null,{"$f":"CSVデータ1!T166+CSVデータ2!T166+CSVデータ3!T166+CSVデータ4!T166","v":0},null,{"$f":"CSVデータ1!V166+CSVデータ2!V166+CSVデータ3!V166+CSVデータ4!V166","v":0},null,{"$f":"CSVデータ1!X166+CSVデータ2!X166+CSVデータ3!X166+CSVデータ4!X166","v":0},null,{"$f":"CSVデータ1!Z166+CSVデータ2!Z166+CSVデータ3!Z166+CSVデータ4!Z166","v":0},null,{"$f":"CSVデータ1!AB166+CSVデータ2!AB166+CSVデータ3!AB166+CSVデータ4!AB166","v":0},null,{"$f":"CSVデータ1!AD166+CSVデータ2!AD166+CSVデータ3!AD166+CSVデータ4!AD166","v":0},null,{"$f":"CSVデータ1!AF166+CSVデータ2!AF166+CSVデータ3!AF166+CSVデータ4!AF166","v":0}]
[{"$f":"CSVデータ1!A167","v":"明細部"},{"$f":"CSVデータ1!B167","v":"保険者（地区）"},{"$f":"CSVデータ1!C167","v":63},{"$f":"CSVデータ1!D167","v":"男"},{"$f":"CSVデータ1!E167+CSVデータ2!E167+CSVデータ3!E167+CSVデータ4!E167","v":0},{"$f":"CSVデータ1!F167+CSVデータ2!F167+CSVデータ3!F167+CSVデータ4!F167","v":0},null,{"$f":"CSVデータ1!H167+CSVデータ2!H167+CSVデータ3!H167+CSVデータ4!H167","v":0},null,{"$f":"CSVデータ1!J167+CSVデータ2!J167+CSVデータ3!J167+CSVデータ4!J167","v":0},null,{"$f":"CSVデータ1!L167+CSVデータ2!L167+CSVデータ3!L167+CSVデータ4!L167","v":0},null,{"$f":"CSVデータ1!N167+CSVデータ2!N167+CSVデータ3!N167+CSVデータ4!N167","v":0},null,{"$f":"CSVデータ1!P167+CSVデータ2!P167+CSVデータ3!P167+CSVデータ4!P167","v":0},null,{"$f":"CSVデータ1!R167+CSVデータ2!R167+CSVデータ3!R167+CSVデータ4!R167","v":0},null,{"$f":"CSVデータ1!T167+CSVデータ2!T167+CSVデータ3!T167+CSVデータ4!T167","v":0},null,{"$f":"CSVデータ1!V167+CSVデータ2!V167+CSVデータ3!V167+CSVデータ4!V167","v":0},null,{"$f":"CSVデータ1!X167+CSVデータ2!X167+CSVデータ3!X167+CSVデータ4!X167","v":0},null,{"$f":"CSVデータ1!Z167+CSVデータ2!Z167+CSVデータ3!Z167+CSVデータ4!Z167","v":0},null,{"$f":"CSVデータ1!AB167+CSVデータ2!AB167+CSVデータ3!AB167+CSVデータ4!AB167","v":0},null,{"$f":"CSVデータ1!AD167+CSVデータ2!AD167+CSVデータ3!AD167+CSVデータ4!AD167","v":0},null,{"$f":"CSVデータ1!AF167+CSVデータ2!AF167+CSVデータ3!AF167+CSVデータ4!AF167","v":0}]
[{"$f":"CSVデータ1!A168","v":"明細部"},{"$f":"CSVデータ1!B168","v":"保険者（地区）"},{"$f":"CSVデータ1!C168","v":64},{"$f":"CSVデータ1!D168","v":"男"},{"$f":"CSVデータ1!E168+CSVデータ2!E168+CSVデータ3!E168+CSVデータ4!E168","v":0},{"$f":"CSVデータ1!F168+CSVデータ2!F168+CSVデータ3!F168+CSVデータ4!F168","v":0},null,{"$f":"CSVデータ1!H168+CSVデータ2!H168+CSVデータ3!H168+CSVデータ4!H168","v":0},null,{"$f":"CSVデータ1!J168+CSVデータ2!J168+CSVデータ3!J168+CSVデータ4!J168","v":0},null,{"$f":"CSVデータ1!L168+CSVデータ2!L168+CSVデータ3!L168+CSVデータ4!L168","v":0},null,{"$f":"CSVデータ1!N168+CSVデータ2!N168+CSVデータ3!N168+CSVデータ4!N168","v":0},null,{"$f":"CSVデータ1!P168+CSVデータ2!P168+CSVデータ3!P168+CSVデータ4!P168","v":0},null,{"$f":"CSVデータ1!R168+CSVデータ2!R168+CSVデータ3!R168+CSVデータ4!R168","v":0},null,{"$f":"CSVデータ1!T168+CSVデータ2!T168+CSVデータ3!T168+CSVデータ4!T168","v":0},null,{"$f":"CSVデータ1!V168+CSVデータ2!V168+CSVデータ3!V168+CSVデータ4!V168","v":0},null,{"$f":"CSVデータ1!X168+CSVデータ2!X168+CSVデータ3!X168+CSVデータ4!X168","v":0},null,{"$f":"CSVデータ1!Z168+CSVデータ2!Z168+CSVデータ3!Z168+CSVデータ4!Z168","v":0},null,{"$f":"CSVデータ1!AB168+CSVデータ2!AB168+CSVデータ3!AB168+CSVデータ4!AB168","v":0},null,{"$f":"CSVデータ1!AD168+CSVデータ2!AD168+CSVデータ3!AD168+CSVデータ4!AD168","v":0},null,{"$f":"CSVデータ1!AF168+CSVデータ2!AF168+CSVデータ3!AF168+CSVデータ4!AF168","v":0}]
[{"$f":"CSVデータ1!A169","v":"明細部"},{"$f":"CSVデータ1!B169","v":"保険者（地区）"},{"$f":"CSVデータ1!C169","v":65},{"$f":"CSVデータ1!D169","v":"男"},{"$f":"CSVデータ1!E169+CSVデータ2!E169+CSVデータ3!E169+CSVデータ4!E169","v":0},{"$f":"CSVデータ1!F169+CSVデータ2!F169+CSVデータ3!F169+CSVデータ4!F169","v":0},null,{"$f":"CSVデータ1!H169+CSVデータ2!H169+CSVデータ3!H169+CSVデータ4!H169","v":0},null,{"$f":"CSVデータ1!J169+CSVデータ2!J169+CSVデータ3!J169+CSVデータ4!J169","v":0},null,{"$f":"CSVデータ1!L169+CSVデータ2!L169+CSVデータ3!L169+CSVデータ4!L169","v":0},null,{"$f":"CSVデータ1!N169+CSVデータ2!N169+CSVデータ3!N169+CSVデータ4!N169","v":0},null,{"$f":"CSVデータ1!P169+CSVデータ2!P169+CSVデータ3!P169+CSVデータ4!P169","v":0},null,{"$f":"CSVデータ1!R169+CSVデータ2!R169+CSVデータ3!R169+CSVデータ4!R169","v":0},null,{"$f":"CSVデータ1!T169+CSVデータ2!T169+CSVデータ3!T169+CSVデータ4!T169","v":0},null,{"$f":"CSVデータ1!V169+CSVデータ2!V169+CSVデータ3!V169+CSVデータ4!V169","v":0},null,{"$f":"CSVデータ1!X169+CSVデータ2!X169+CSVデータ3!X169+CSVデータ4!X169","v":0},null,{"$f":"CSVデータ1!Z169+CSVデータ2!Z169+CSVデータ3!Z169+CSVデータ4!Z169","v":0},null,{"$f":"CSVデータ1!AB169+CSVデータ2!AB169+CSVデータ3!AB169+CSVデータ4!AB169","v":0},null,{"$f":"CSVデータ1!AD169+CSVデータ2!AD169+CSVデータ3!AD169+CSVデータ4!AD169","v":0},null,{"$f":"CSVデータ1!AF169+CSVデータ2!AF169+CSVデータ3!AF169+CSVデータ4!AF169","v":0}]
[{"$f":"CSVデータ1!A170","v":"明細部"},{"$f":"CSVデータ1!B170","v":"保険者（地区）"},{"$f":"CSVデータ1!C170","v":66},{"$f":"CSVデータ1!D170","v":"男"},{"$f":"CSVデータ1!E170+CSVデータ2!E170+CSVデータ3!E170+CSVデータ4!E170","v":0},{"$f":"CSVデータ1!F170+CSVデータ2!F170+CSVデータ3!F170+CSVデータ4!F170","v":0},null,{"$f":"CSVデータ1!H170+CSVデータ2!H170+CSVデータ3!H170+CSVデータ4!H170","v":0},null,{"$f":"CSVデータ1!J170+CSVデータ2!J170+CSVデータ3!J170+CSVデータ4!J170","v":0},null,{"$f":"CSVデータ1!L170+CSVデータ2!L170+CSVデータ3!L170+CSVデータ4!L170","v":0},null,{"$f":"CSVデータ1!N170+CSVデータ2!N170+CSVデータ3!N170+CSVデータ4!N170","v":0},null,{"$f":"CSVデータ1!P170+CSVデータ2!P170+CSVデータ3!P170+CSVデータ4!P170","v":0},null,{"$f":"CSVデータ1!R170+CSVデータ2!R170+CSVデータ3!R170+CSVデータ4!R170","v":0},null,{"$f":"CSVデータ1!T170+CSVデータ2!T170+CSVデータ3!T170+CSVデータ4!T170","v":0},null,{"$f":"CSVデータ1!V170+CSVデータ2!V170+CSVデータ3!V170+CSVデータ4!V170","v":0},null,{"$f":"CSVデータ1!X170+CSVデータ2!X170+CSVデータ3!X170+CSVデータ4!X170","v":0},null,{"$f":"CSVデータ1!Z170+CSVデータ2!Z170+CSVデータ3!Z170+CSVデータ4!Z170","v":0},null,{"$f":"CSVデータ1!AB170+CSVデータ2!AB170+CSVデータ3!AB170+CSVデータ4!AB170","v":0},null,{"$f":"CSVデータ1!AD170+CSVデータ2!AD170+CSVデータ3!AD170+CSVデータ4!AD170","v":0},null,{"$f":"CSVデータ1!AF170+CSVデータ2!AF170+CSVデータ3!AF170+CSVデータ4!AF170","v":0}]
[{"$f":"CSVデータ1!A171","v":"明細部"},{"$f":"CSVデータ1!B171","v":"保険者（地区）"},{"$f":"CSVデータ1!C171","v":67},{"$f":"CSVデータ1!D171","v":"男"},{"$f":"CSVデータ1!E171+CSVデータ2!E171+CSVデータ3!E171+CSVデータ4!E171","v":0},{"$f":"CSVデータ1!F171+CSVデータ2!F171+CSVデータ3!F171+CSVデータ4!F171","v":0},null,{"$f":"CSVデータ1!H171+CSVデータ2!H171+CSVデータ3!H171+CSVデータ4!H171","v":0},null,{"$f":"CSVデータ1!J171+CSVデータ2!J171+CSVデータ3!J171+CSVデータ4!J171","v":0},null,{"$f":"CSVデータ1!L171+CSVデータ2!L171+CSVデータ3!L171+CSVデータ4!L171","v":0},null,{"$f":"CSVデータ1!N171+CSVデータ2!N171+CSVデータ3!N171+CSVデータ4!N171","v":0},null,{"$f":"CSVデータ1!P171+CSVデータ2!P171+CSVデータ3!P171+CSVデータ4!P171","v":0},null,{"$f":"CSVデータ1!R171+CSVデータ2!R171+CSVデータ3!R171+CSVデータ4!R171","v":0},null,{"$f":"CSVデータ1!T171+CSVデータ2!T171+CSVデータ3!T171+CSVデータ4!T171","v":0},null,{"$f":"CSVデータ1!V171+CSVデータ2!V171+CSVデータ3!V171+CSVデータ4!V171","v":0},null,{"$f":"CSVデータ1!X171+CSVデータ2!X171+CSVデータ3!X171+CSVデータ4!X171","v":0},null,{"$f":"CSVデータ1!Z171+CSVデータ2!Z171+CSVデータ3!Z171+CSVデータ4!Z171","v":0},null,{"$f":"CSVデータ1!AB171+CSVデータ2!AB171+CSVデータ3!AB171+CSVデータ4!AB171","v":0},null,{"$f":"CSVデータ1!AD171+CSVデータ2!AD171+CSVデータ3!AD171+CSVデータ4!AD171","v":0},null,{"$f":"CSVデータ1!AF171+CSVデータ2!AF171+CSVデータ3!AF171+CSVデータ4!AF171","v":0}]
[{"$f":"CSVデータ1!A172","v":"明細部"},{"$f":"CSVデータ1!B172","v":"保険者（地区）"},{"$f":"CSVデータ1!C172","v":68},{"$f":"CSVデータ1!D172","v":"男"},{"$f":"CSVデータ1!E172+CSVデータ2!E172+CSVデータ3!E172+CSVデータ4!E172","v":0},{"$f":"CSVデータ1!F172+CSVデータ2!F172+CSVデータ3!F172+CSVデータ4!F172","v":0},null,{"$f":"CSVデータ1!H172+CSVデータ2!H172+CSVデータ3!H172+CSVデータ4!H172","v":0},null,{"$f":"CSVデータ1!J172+CSVデータ2!J172+CSVデータ3!J172+CSVデータ4!J172","v":0},null,{"$f":"CSVデータ1!L172+CSVデータ2!L172+CSVデータ3!L172+CSVデータ4!L172","v":0},null,{"$f":"CSVデータ1!N172+CSVデータ2!N172+CSVデータ3!N172+CSVデータ4!N172","v":0},null,{"$f":"CSVデータ1!P172+CSVデータ2!P172+CSVデータ3!P172+CSVデータ4!P172","v":0},null,{"$f":"CSVデータ1!R172+CSVデータ2!R172+CSVデータ3!R172+CSVデータ4!R172","v":0},null,{"$f":"CSVデータ1!T172+CSVデータ2!T172+CSVデータ3!T172+CSVデータ4!T172","v":0},null,{"$f":"CSVデータ1!V172+CSVデータ2!V172+CSVデータ3!V172+CSVデータ4!V172","v":0},null,{"$f":"CSVデータ1!X172+CSVデータ2!X172+CSVデータ3!X172+CSVデータ4!X172","v":0},null,{"$f":"CSVデータ1!Z172+CSVデータ2!Z172+CSVデータ3!Z172+CSVデータ4!Z172","v":0},null,{"$f":"CSVデータ1!AB172+CSVデータ2!AB172+CSVデータ3!AB172+CSVデータ4!AB172","v":0},null,{"$f":"CSVデータ1!AD172+CSVデータ2!AD172+CSVデータ3!AD172+CSVデータ4!AD172","v":0},null,{"$f":"CSVデータ1!AF172+CSVデータ2!AF172+CSVデータ3!AF172+CSVデータ4!AF172","v":0}]
[{"$f":"CSVデータ1!A173","v":"明細部"},{"$f":"CSVデータ1!B173","v":"保険者（地区）"},{"$f":"CSVデータ1!C173","v":69},{"$f":"CSVデータ1!D173","v":"男"},{"$f":"CSVデータ1!E173+CSVデータ2!E173+CSVデータ3!E173+CSVデータ4!E173","v":0},{"$f":"CSVデータ1!F173+CSVデータ2!F173+CSVデータ3!F173+CSVデータ4!F173","v":0},null,{"$f":"CSVデータ1!H173+CSVデータ2!H173+CSVデータ3!H173+CSVデータ4!H173","v":0},null,{"$f":"CSVデータ1!J173+CSVデータ2!J173+CSVデータ3!J173+CSVデータ4!J173","v":0},null,{"$f":"CSVデータ1!L173+CSVデータ2!L173+CSVデータ3!L173+CSVデータ4!L173","v":0},null,{"$f":"CSVデータ1!N173+CSVデータ2!N173+CSVデータ3!N173+CSVデータ4!N173","v":0},null,{"$f":"CSVデータ1!P173+CSVデータ2!P173+CSVデータ3!P173+CSVデータ4!P173","v":0},null,{"$f":"CSVデータ1!R173+CSVデータ2!R173+CSVデータ3!R173+CSVデータ4!R173","v":0},null,{"$f":"CSVデータ1!T173+CSVデータ2!T173+CSVデータ3!T173+CSVデータ4!T173","v":0},null,{"$f":"CSVデータ1!V173+CSVデータ2!V173+CSVデータ3!V173+CSVデータ4!V173","v":0},null,{"$f":"CSVデータ1!X173+CSVデータ2!X173+CSVデータ3!X173+CSVデータ4!X173","v":0},null,{"$f":"CSVデータ1!Z173+CSVデータ2!Z173+CSVデータ3!Z173+CSVデータ4!Z173","v":0},null,{"$f":"CSVデータ1!AB173+CSVデータ2!AB173+CSVデータ3!AB173+CSVデータ4!AB173","v":0},null,{"$f":"CSVデータ1!AD173+CSVデータ2!AD173+CSVデータ3!AD173+CSVデータ4!AD173","v":0},null,{"$f":"CSVデータ1!AF173+CSVデータ2!AF173+CSVデータ3!AF173+CSVデータ4!AF173","v":0}]
[{"$f":"CSVデータ1!A174","v":"明細部"},{"$f":"CSVデータ1!B174","v":"保険者（地区）"},{"$f":"CSVデータ1!C174","v":70},{"$f":"CSVデータ1!D174","v":"男"},{"$f":"CSVデータ1!E174+CSVデータ2!E174+CSVデータ3!E174+CSVデータ4!E174","v":0},{"$f":"CSVデータ1!F174+CSVデータ2!F174+CSVデータ3!F174+CSVデータ4!F174","v":0},null,{"$f":"CSVデータ1!H174+CSVデータ2!H174+CSVデータ3!H174+CSVデータ4!H174","v":0},null,{"$f":"CSVデータ1!J174+CSVデータ2!J174+CSVデータ3!J174+CSVデータ4!J174","v":0},null,{"$f":"CSVデータ1!L174+CSVデータ2!L174+CSVデータ3!L174+CSVデータ4!L174","v":0},null,{"$f":"CSVデータ1!N174+CSVデータ2!N174+CSVデータ3!N174+CSVデータ4!N174","v":0},null,{"$f":"CSVデータ1!P174+CSVデータ2!P174+CSVデータ3!P174+CSVデータ4!P174","v":0},null,{"$f":"CSVデータ1!R174+CSVデータ2!R174+CSVデータ3!R174+CSVデータ4!R174","v":0},null,{"$f":"CSVデータ1!T174+CSVデータ2!T174+CSVデータ3!T174+CSVデータ4!T174","v":0},null,{"$f":"CSVデータ1!V174+CSVデータ2!V174+CSVデータ3!V174+CSVデータ4!V174","v":0},null,{"$f":"CSVデータ1!X174+CSVデータ2!X174+CSVデータ3!X174+CSVデータ4!X174","v":0},null,{"$f":"CSVデータ1!Z174+CSVデータ2!Z174+CSVデータ3!Z174+CSVデータ4!Z174","v":0},null,{"$f":"CSVデータ1!AB174+CSVデータ2!AB174+CSVデータ3!AB174+CSVデータ4!AB174","v":0},null,{"$f":"CSVデータ1!AD174+CSVデータ2!AD174+CSVデータ3!AD174+CSVデータ4!AD174","v":0},null,{"$f":"CSVデータ1!AF174+CSVデータ2!AF174+CSVデータ3!AF174+CSVデータ4!AF174","v":0}]
[{"$f":"CSVデータ1!A175","v":"明細部"},{"$f":"CSVデータ1!B175","v":"保険者（地区）"},{"$f":"CSVデータ1!C175","v":71},{"$f":"CSVデータ1!D175","v":"男"},{"$f":"CSVデータ1!E175+CSVデータ2!E175+CSVデータ3!E175+CSVデータ4!E175","v":0},{"$f":"CSVデータ1!F175+CSVデータ2!F175+CSVデータ3!F175+CSVデータ4!F175","v":0},null,{"$f":"CSVデータ1!H175+CSVデータ2!H175+CSVデータ3!H175+CSVデータ4!H175","v":0},null,{"$f":"CSVデータ1!J175+CSVデータ2!J175+CSVデータ3!J175+CSVデータ4!J175","v":0},null,{"$f":"CSVデータ1!L175+CSVデータ2!L175+CSVデータ3!L175+CSVデータ4!L175","v":0},null,{"$f":"CSVデータ1!N175+CSVデータ2!N175+CSVデータ3!N175+CSVデータ4!N175","v":0},null,{"$f":"CSVデータ1!P175+CSVデータ2!P175+CSVデータ3!P175+CSVデータ4!P175","v":0},null,{"$f":"CSVデータ1!R175+CSVデータ2!R175+CSVデータ3!R175+CSVデータ4!R175","v":0},null,{"$f":"CSVデータ1!T175+CSVデータ2!T175+CSVデータ3!T175+CSVデータ4!T175","v":0},null,{"$f":"CSVデータ1!V175+CSVデータ2!V175+CSVデータ3!V175+CSVデータ4!V175","v":0},null,{"$f":"CSVデータ1!X175+CSVデータ2!X175+CSVデータ3!X175+CSVデータ4!X175","v":0},null,{"$f":"CSVデータ1!Z175+CSVデータ2!Z175+CSVデータ3!Z175+CSVデータ4!Z175","v":0},null,{"$f":"CSVデータ1!AB175+CSVデータ2!AB175+CSVデータ3!AB175+CSVデータ4!AB175","v":0},null,{"$f":"CSVデータ1!AD175+CSVデータ2!AD175+CSVデータ3!AD175+CSVデータ4!AD175","v":0},null,{"$f":"CSVデータ1!AF175+CSVデータ2!AF175+CSVデータ3!AF175+CSVデータ4!AF175","v":0}]
[{"$f":"CSVデータ1!A176","v":"明細部"},{"$f":"CSVデータ1!B176","v":"保険者（地区）"},{"$f":"CSVデータ1!C176","v":72},{"$f":"CSVデータ1!D176","v":"男"},{"$f":"CSVデータ1!E176+CSVデータ2!E176+CSVデータ3!E176+CSVデータ4!E176","v":0},{"$f":"CSVデータ1!F176+CSVデータ2!F176+CSVデータ3!F176+CSVデータ4!F176","v":0},null,{"$f":"CSVデータ1!H176+CSVデータ2!H176+CSVデータ3!H176+CSVデータ4!H176","v":0},null,{"$f":"CSVデータ1!J176+CSVデータ2!J176+CSVデータ3!J176+CSVデータ4!J176","v":0},null,{"$f":"CSVデータ1!L176+CSVデータ2!L176+CSVデータ3!L176+CSVデータ4!L176","v":0},null,{"$f":"CSVデータ1!N176+CSVデータ2!N176+CSVデータ3!N176+CSVデータ4!N176","v":0},null,{"$f":"CSVデータ1!P176+CSVデータ2!P176+CSVデータ3!P176+CSVデータ4!P176","v":0},null,{"$f":"CSVデータ1!R176+CSVデータ2!R176+CSVデータ3!R176+CSVデータ4!R176","v":0},null,{"$f":"CSVデータ1!T176+CSVデータ2!T176+CSVデータ3!T176+CSVデータ4!T176","v":0},null,{"$f":"CSVデータ1!V176+CSVデータ2!V176+CSVデータ3!V176+CSVデータ4!V176","v":0},null,{"$f":"CSVデータ1!X176+CSVデータ2!X176+CSVデータ3!X176+CSVデータ4!X176","v":0},null,{"$f":"CSVデータ1!Z176+CSVデータ2!Z176+CSVデータ3!Z176+CSVデータ4!Z176","v":0},null,{"$f":"CSVデータ1!AB176+CSVデータ2!AB176+CSVデータ3!AB176+CSVデータ4!AB176","v":0},null,{"$f":"CSVデータ1!AD176+CSVデータ2!AD176+CSVデータ3!AD176+CSVデータ4!AD176","v":0},null,{"$f":"CSVデータ1!AF176+CSVデータ2!AF176+CSVデータ3!AF176+CSVデータ4!AF176","v":0}]
[{"$f":"CSVデータ1!A177","v":"明細部"},{"$f":"CSVデータ1!B177","v":"保険者（地区）"},{"$f":"CSVデータ1!C177","v":73},{"$f":"CSVデータ1!D177","v":"男"},{"$f":"CSVデータ1!E177+CSVデータ2!E177+CSVデータ3!E177+CSVデータ4!E177","v":0},{"$f":"CSVデータ1!F177+CSVデータ2!F177+CSVデータ3!F177+CSVデータ4!F177","v":0},null,{"$f":"CSVデータ1!H177+CSVデータ2!H177+CSVデータ3!H177+CSVデータ4!H177","v":0},null,{"$f":"CSVデータ1!J177+CSVデータ2!J177+CSVデータ3!J177+CSVデータ4!J177","v":0},null,{"$f":"CSVデータ1!L177+CSVデータ2!L177+CSVデータ3!L177+CSVデータ4!L177","v":0},null,{"$f":"CSVデータ1!N177+CSVデータ2!N177+CSVデータ3!N177+CSVデータ4!N177","v":0},null,{"$f":"CSVデータ1!P177+CSVデータ2!P177+CSVデータ3!P177+CSVデータ4!P177","v":0},null,{"$f":"CSVデータ1!R177+CSVデータ2!R177+CSVデータ3!R177+CSVデータ4!R177","v":0},null,{"$f":"CSVデータ1!T177+CSVデータ2!T177+CSVデータ3!T177+CSVデータ4!T177","v":0},null,{"$f":"CSVデータ1!V177+CSVデータ2!V177+CSVデータ3!V177+CSVデータ4!V177","v":0},null,{"$f":"CSVデータ1!X177+CSVデータ2!X177+CSVデータ3!X177+CSVデータ4!X177","v":0},null,{"$f":"CSVデータ1!Z177+CSVデータ2!Z177+CSVデータ3!Z177+CSVデータ4!Z177","v":0},null,{"$f":"CSVデータ1!AB177+CSVデータ2!AB177+CSVデータ3!AB177+CSVデータ4!AB177","v":0},null,{"$f":"CSVデータ1!AD177+CSVデータ2!AD177+CSVデータ3!AD177+CSVデータ4!AD177","v":0},null,{"$f":"CSVデータ1!AF177+CSVデータ2!AF177+CSVデータ3!AF177+CSVデータ4!AF177","v":0}]
[{"$f":"CSVデータ1!A178","v":"明細部"},{"$f":"CSVデータ1!B178","v":"保険者（地区）"},{"$f":"CSVデータ1!C178","v":74},{"$f":"CSVデータ1!D178","v":"男"},{"$f":"CSVデータ1!E178+CSVデータ2!E178+CSVデータ3!E178+CSVデータ4!E178","v":0},{"$f":"CSVデータ1!F178+CSVデータ2!F178+CSVデータ3!F178+CSVデータ4!F178","v":0},null,{"$f":"CSVデータ1!H178+CSVデータ2!H178+CSVデータ3!H178+CSVデータ4!H178","v":0},null,{"$f":"CSVデータ1!J178+CSVデータ2!J178+CSVデータ3!J178+CSVデータ4!J178","v":0},null,{"$f":"CSVデータ1!L178+CSVデータ2!L178+CSVデータ3!L178+CSVデータ4!L178","v":0},null,{"$f":"CSVデータ1!N178+CSVデータ2!N178+CSVデータ3!N178+CSVデータ4!N178","v":0},null,{"$f":"CSVデータ1!P178+CSVデータ2!P178+CSVデータ3!P178+CSVデータ4!P178","v":0},null,{"$f":"CSVデータ1!R178+CSVデータ2!R178+CSVデータ3!R178+CSVデータ4!R178","v":0},null,{"$f":"CSVデータ1!T178+CSVデータ2!T178+CSVデータ3!T178+CSVデータ4!T178","v":0},null,{"$f":"CSVデータ1!V178+CSVデータ2!V178+CSVデータ3!V178+CSVデータ4!V178","v":0},null,{"$f":"CSVデータ1!X178+CSVデータ2!X178+CSVデータ3!X178+CSVデータ4!X178","v":0},null,{"$f":"CSVデータ1!Z178+CSVデータ2!Z178+CSVデータ3!Z178+CSVデータ4!Z178","v":0},null,{"$f":"CSVデータ1!AB178+CSVデータ2!AB178+CSVデータ3!AB178+CSVデータ4!AB178","v":0},null,{"$f":"CSVデータ1!AD178+CSVデータ2!AD178+CSVデータ3!AD178+CSVデータ4!AD178","v":0},null,{"$f":"CSVデータ1!AF178+CSVデータ2!AF178+CSVデータ3!AF178+CSVデータ4!AF178","v":0}]
[{"$f":"CSVデータ1!A179","v":"明細部"},{"$f":"CSVデータ1!B179","v":"保険者（地区）"},{"$f":"CSVデータ1!C179","v":40},{"$f":"CSVデータ1!D179","v":"女"},{"$f":"CSVデータ1!E179+CSVデータ2!E179+CSVデータ3!E179+CSVデータ4!E179","v":0},{"$f":"CSVデータ1!F179+CSVデータ2!F179+CSVデータ3!F179+CSVデータ4!F179","v":0},null,{"$f":"CSVデータ1!H179+CSVデータ2!H179+CSVデータ3!H179+CSVデータ4!H179","v":0},null,{"$f":"CSVデータ1!J179+CSVデータ2!J179+CSVデータ3!J179+CSVデータ4!J179","v":0},null,{"$f":"CSVデータ1!L179+CSVデータ2!L179+CSVデータ3!L179+CSVデータ4!L179","v":0},null,{"$f":"CSVデータ1!N179+CSVデータ2!N179+CSVデータ3!N179+CSVデータ4!N179","v":0},null,{"$f":"CSVデータ1!P179+CSVデータ2!P179+CSVデータ3!P179+CSVデータ4!P179","v":0},null,{"$f":"CSVデータ1!R179+CSVデータ2!R179+CSVデータ3!R179+CSVデータ4!R179","v":0},null,{"$f":"CSVデータ1!T179+CSVデータ2!T179+CSVデータ3!T179+CSVデータ4!T179","v":0},null,{"$f":"CSVデータ1!V179+CSVデータ2!V179+CSVデータ3!V179+CSVデータ4!V179","v":0},null,{"$f":"CSVデータ1!X179+CSVデータ2!X179+CSVデータ3!X179+CSVデータ4!X179","v":0},null,{"$f":"CSVデータ1!Z179+CSVデータ2!Z179+CSVデータ3!Z179+CSVデータ4!Z179","v":0},null,{"$f":"CSVデータ1!AB179+CSVデータ2!AB179+CSVデータ3!AB179+CSVデータ4!AB179","v":0},null,{"$f":"CSVデータ1!AD179+CSVデータ2!AD179+CSVデータ3!AD179+CSVデータ4!AD179","v":0},null,{"$f":"CSVデータ1!AF179+CSVデータ2!AF179+CSVデータ3!AF179+CSVデータ4!AF179","v":0}]
[{"$f":"CSVデータ1!A180","v":"明細部"},{"$f":"CSVデータ1!B180","v":"保険者（地区）"},{"$f":"CSVデータ1!C180","v":41},{"$f":"CSVデータ1!D180","v":"女"},{"$f":"CSVデータ1!E180+CSVデータ2!E180+CSVデータ3!E180+CSVデータ4!E180","v":0},{"$f":"CSVデータ1!F180+CSVデータ2!F180+CSVデータ3!F180+CSVデータ4!F180","v":0},null,{"$f":"CSVデータ1!H180+CSVデータ2!H180+CSVデータ3!H180+CSVデータ4!H180","v":0},null,{"$f":"CSVデータ1!J180+CSVデータ2!J180+CSVデータ3!J180+CSVデータ4!J180","v":0},null,{"$f":"CSVデータ1!L180+CSVデータ2!L180+CSVデータ3!L180+CSVデータ4!L180","v":0},null,{"$f":"CSVデータ1!N180+CSVデータ2!N180+CSVデータ3!N180+CSVデータ4!N180","v":0},null,{"$f":"CSVデータ1!P180+CSVデータ2!P180+CSVデータ3!P180+CSVデータ4!P180","v":0},null,{"$f":"CSVデータ1!R180+CSVデータ2!R180+CSVデータ3!R180+CSVデータ4!R180","v":0},null,{"$f":"CSVデータ1!T180+CSVデータ2!T180+CSVデータ3!T180+CSVデータ4!T180","v":0},null,{"$f":"CSVデータ1!V180+CSVデータ2!V180+CSVデータ3!V180+CSVデータ4!V180","v":0},null,{"$f":"CSVデータ1!X180+CSVデータ2!X180+CSVデータ3!X180+CSVデータ4!X180","v":0},null,{"$f":"CSVデータ1!Z180+CSVデータ2!Z180+CSVデータ3!Z180+CSVデータ4!Z180","v":0},null,{"$f":"CSVデータ1!AB180+CSVデータ2!AB180+CSVデータ3!AB180+CSVデータ4!AB180","v":0},null,{"$f":"CSVデータ1!AD180+CSVデータ2!AD180+CSVデータ3!AD180+CSVデータ4!AD180","v":0},null,{"$f":"CSVデータ1!AF180+CSVデータ2!AF180+CSVデータ3!AF180+CSVデータ4!AF180","v":0}]
[{"$f":"CSVデータ1!A181","v":"明細部"},{"$f":"CSVデータ1!B181","v":"保険者（地区）"},{"$f":"CSVデータ1!C181","v":42},{"$f":"CSVデータ1!D181","v":"女"},{"$f":"CSVデータ1!E181+CSVデータ2!E181+CSVデータ3!E181+CSVデータ4!E181","v":0},{"$f":"CSVデータ1!F181+CSVデータ2!F181+CSVデータ3!F181+CSVデータ4!F181","v":0},null,{"$f":"CSVデータ1!H181+CSVデータ2!H181+CSVデータ3!H181+CSVデータ4!H181","v":0},null,{"$f":"CSVデータ1!J181+CSVデータ2!J181+CSVデータ3!J181+CSVデータ4!J181","v":0},null,{"$f":"CSVデータ1!L181+CSVデータ2!L181+CSVデータ3!L181+CSVデータ4!L181","v":0},null,{"$f":"CSVデータ1!N181+CSVデータ2!N181+CSVデータ3!N181+CSVデータ4!N181","v":0},null,{"$f":"CSVデータ1!P181+CSVデータ2!P181+CSVデータ3!P181+CSVデータ4!P181","v":0},null,{"$f":"CSVデータ1!R181+CSVデータ2!R181+CSVデータ3!R181+CSVデータ4!R181","v":0},null,{"$f":"CSVデータ1!T181+CSVデータ2!T181+CSVデータ3!T181+CSVデータ4!T181","v":0},null,{"$f":"CSVデータ1!V181+CSVデータ2!V181+CSVデータ3!V181+CSVデータ4!V181","v":0},null,{"$f":"CSVデータ1!X181+CSVデータ2!X181+CSVデータ3!X181+CSVデータ4!X181","v":0},null,{"$f":"CSVデータ1!Z181+CSVデータ2!Z181+CSVデータ3!Z181+CSVデータ4!Z181","v":0},null,{"$f":"CSVデータ1!AB181+CSVデータ2!AB181+CSVデータ3!AB181+CSVデータ4!AB181","v":0},null,{"$f":"CSVデータ1!AD181+CSVデータ2!AD181+CSVデータ3!AD181+CSVデータ4!AD181","v":0},null,{"$f":"CSVデータ1!AF181+CSVデータ2!AF181+CSVデータ3!AF181+CSVデータ4!AF181","v":0}]
[{"$f":"CSVデータ1!A182","v":"明細部"},{"$f":"CSVデータ1!B182","v":"保険者（地区）"},{"$f":"CSVデータ1!C182","v":43},{"$f":"CSVデータ1!D182","v":"女"},{"$f":"CSVデータ1!E182+CSVデータ2!E182+CSVデータ3!E182+CSVデータ4!E182","v":0},{"$f":"CSVデータ1!F182+CSVデータ2!F182+CSVデータ3!F182+CSVデータ4!F182","v":0},null,{"$f":"CSVデータ1!H182+CSVデータ2!H182+CSVデータ3!H182+CSVデータ4!H182","v":0},null,{"$f":"CSVデータ1!J182+CSVデータ2!J182+CSVデータ3!J182+CSVデータ4!J182","v":0},null,{"$f":"CSVデータ1!L182+CSVデータ2!L182+CSVデータ3!L182+CSVデータ4!L182","v":0},null,{"$f":"CSVデータ1!N182+CSVデータ2!N182+CSVデータ3!N182+CSVデータ4!N182","v":0},null,{"$f":"CSVデータ1!P182+CSVデータ2!P182+CSVデータ3!P182+CSVデータ4!P182","v":0},null,{"$f":"CSVデータ1!R182+CSVデータ2!R182+CSVデータ3!R182+CSVデータ4!R182","v":0},null,{"$f":"CSVデータ1!T182+CSVデータ2!T182+CSVデータ3!T182+CSVデータ4!T182","v":0},null,{"$f":"CSVデータ1!V182+CSVデータ2!V182+CSVデータ3!V182+CSVデータ4!V182","v":0},null,{"$f":"CSVデータ1!X182+CSVデータ2!X182+CSVデータ3!X182+CSVデータ4!X182","v":0},null,{"$f":"CSVデータ1!Z182+CSVデータ2!Z182+CSVデータ3!Z182+CSVデータ4!Z182","v":0},null,{"$f":"CSVデータ1!AB182+CSVデータ2!AB182+CSVデータ3!AB182+CSVデータ4!AB182","v":0},null,{"$f":"CSVデータ1!AD182+CSVデータ2!AD182+CSVデータ3!AD182+CSVデータ4!AD182","v":0},null,{"$f":"CSVデータ1!AF182+CSVデータ2!AF182+CSVデータ3!AF182+CSVデータ4!AF182","v":0}]
[{"$f":"CSVデータ1!A183","v":"明細部"},{"$f":"CSVデータ1!B183","v":"保険者（地区）"},{"$f":"CSVデータ1!C183","v":44},{"$f":"CSVデータ1!D183","v":"女"},{"$f":"CSVデータ1!E183+CSVデータ2!E183+CSVデータ3!E183+CSVデータ4!E183","v":0},{"$f":"CSVデータ1!F183+CSVデータ2!F183+CSVデータ3!F183+CSVデータ4!F183","v":0},null,{"$f":"CSVデータ1!H183+CSVデータ2!H183+CSVデータ3!H183+CSVデータ4!H183","v":0},null,{"$f":"CSVデータ1!J183+CSVデータ2!J183+CSVデータ3!J183+CSVデータ4!J183","v":0},null,{"$f":"CSVデータ1!L183+CSVデータ2!L183+CSVデータ3!L183+CSVデータ4!L183","v":0},null,{"$f":"CSVデータ1!N183+CSVデータ2!N183+CSVデータ3!N183+CSVデータ4!N183","v":0},null,{"$f":"CSVデータ1!P183+CSVデータ2!P183+CSVデータ3!P183+CSVデータ4!P183","v":0},null,{"$f":"CSVデータ1!R183+CSVデータ2!R183+CSVデータ3!R183+CSVデータ4!R183","v":0},null,{"$f":"CSVデータ1!T183+CSVデータ2!T183+CSVデータ3!T183+CSVデータ4!T183","v":0},null,{"$f":"CSVデータ1!V183+CSVデータ2!V183+CSVデータ3!V183+CSVデータ4!V183","v":0},null,{"$f":"CSVデータ1!X183+CSVデータ2!X183+CSVデータ3!X183+CSVデータ4!X183","v":0},null,{"$f":"CSVデータ1!Z183+CSVデータ2!Z183+CSVデータ3!Z183+CSVデータ4!Z183","v":0},null,{"$f":"CSVデータ1!AB183+CSVデータ2!AB183+CSVデータ3!AB183+CSVデータ4!AB183","v":0},null,{"$f":"CSVデータ1!AD183+CSVデータ2!AD183+CSVデータ3!AD183+CSVデータ4!AD183","v":0},null,{"$f":"CSVデータ1!AF183+CSVデータ2!AF183+CSVデータ3!AF183+CSVデータ4!AF183","v":0}]
[{"$f":"CSVデータ1!A184","v":"明細部"},{"$f":"CSVデータ1!B184","v":"保険者（地区）"},{"$f":"CSVデータ1!C184","v":45},{"$f":"CSVデータ1!D184","v":"女"},{"$f":"CSVデータ1!E184+CSVデータ2!E184+CSVデータ3!E184+CSVデータ4!E184","v":0},{"$f":"CSVデータ1!F184+CSVデータ2!F184+CSVデータ3!F184+CSVデータ4!F184","v":0},null,{"$f":"CSVデータ1!H184+CSVデータ2!H184+CSVデータ3!H184+CSVデータ4!H184","v":0},null,{"$f":"CSVデータ1!J184+CSVデータ2!J184+CSVデータ3!J184+CSVデータ4!J184","v":0},null,{"$f":"CSVデータ1!L184+CSVデータ2!L184+CSVデータ3!L184+CSVデータ4!L184","v":0},null,{"$f":"CSVデータ1!N184+CSVデータ2!N184+CSVデータ3!N184+CSVデータ4!N184","v":0},null,{"$f":"CSVデータ1!P184+CSVデータ2!P184+CSVデータ3!P184+CSVデータ4!P184","v":0},null,{"$f":"CSVデータ1!R184+CSVデータ2!R184+CSVデータ3!R184+CSVデータ4!R184","v":0},null,{"$f":"CSVデータ1!T184+CSVデータ2!T184+CSVデータ3!T184+CSVデータ4!T184","v":0},null,{"$f":"CSVデータ1!V184+CSVデータ2!V184+CSVデータ3!V184+CSVデータ4!V184","v":0},null,{"$f":"CSVデータ1!X184+CSVデータ2!X184+CSVデータ3!X184+CSVデータ4!X184","v":0},null,{"$f":"CSVデータ1!Z184+CSVデータ2!Z184+CSVデータ3!Z184+CSVデータ4!Z184","v":0},null,{"$f":"CSVデータ1!AB184+CSVデータ2!AB184+CSVデータ3!AB184+CSVデータ4!AB184","v":0},null,{"$f":"CSVデータ1!AD184+CSVデータ2!AD184+CSVデータ3!AD184+CSVデータ4!AD184","v":0},null,{"$f":"CSVデータ1!AF184+CSVデータ2!AF184+CSVデータ3!AF184+CSVデータ4!AF184","v":0}]
[{"$f":"CSVデータ1!A185","v":"明細部"},{"$f":"CSVデータ1!B185","v":"保険者（地区）"},{"$f":"CSVデータ1!C185","v":46},{"$f":"CSVデータ1!D185","v":"女"},{"$f":"CSVデータ1!E185+CSVデータ2!E185+CSVデータ3!E185+CSVデータ4!E185","v":0},{"$f":"CSVデータ1!F185+CSVデータ2!F185+CSVデータ3!F185+CSVデータ4!F185","v":0},null,{"$f":"CSVデータ1!H185+CSVデータ2!H185+CSVデータ3!H185+CSVデータ4!H185","v":0},null,{"$f":"CSVデータ1!J185+CSVデータ2!J185+CSVデータ3!J185+CSVデータ4!J185","v":0},null,{"$f":"CSVデータ1!L185+CSVデータ2!L185+CSVデータ3!L185+CSVデータ4!L185","v":0},null,{"$f":"CSVデータ1!N185+CSVデータ2!N185+CSVデータ3!N185+CSVデータ4!N185","v":0},null,{"$f":"CSVデータ1!P185+CSVデータ2!P185+CSVデータ3!P185+CSVデータ4!P185","v":0},null,{"$f":"CSVデータ1!R185+CSVデータ2!R185+CSVデータ3!R185+CSVデータ4!R185","v":0},null,{"$f":"CSVデータ1!T185+CSVデータ2!T185+CSVデータ3!T185+CSVデータ4!T185","v":0},null,{"$f":"CSVデータ1!V185+CSVデータ2!V185+CSVデータ3!V185+CSVデータ4!V185","v":0},null,{"$f":"CSVデータ1!X185+CSVデータ2!X185+CSVデータ3!X185+CSVデータ4!X185","v":0},null,{"$f":"CSVデータ1!Z185+CSVデータ2!Z185+CSVデータ3!Z185+CSVデータ4!Z185","v":0},null,{"$f":"CSVデータ1!AB185+CSVデータ2!AB185+CSVデータ3!AB185+CSVデータ4!AB185","v":0},null,{"$f":"CSVデータ1!AD185+CSVデータ2!AD185+CSVデータ3!AD185+CSVデータ4!AD185","v":0},null,{"$f":"CSVデータ1!AF185+CSVデータ2!AF185+CSVデータ3!AF185+CSVデータ4!AF185","v":0}]
[{"$f":"CSVデータ1!A186","v":"明細部"},{"$f":"CSVデータ1!B186","v":"保険者（地区）"},{"$f":"CSVデータ1!C186","v":47},{"$f":"CSVデータ1!D186","v":"女"},{"$f":"CSVデータ1!E186+CSVデータ2!E186+CSVデータ3!E186+CSVデータ4!E186","v":0},{"$f":"CSVデータ1!F186+CSVデータ2!F186+CSVデータ3!F186+CSVデータ4!F186","v":0},null,{"$f":"CSVデータ1!H186+CSVデータ2!H186+CSVデータ3!H186+CSVデータ4!H186","v":0},null,{"$f":"CSVデータ1!J186+CSVデータ2!J186+CSVデータ3!J186+CSVデータ4!J186","v":0},null,{"$f":"CSVデータ1!L186+CSVデータ2!L186+CSVデータ3!L186+CSVデータ4!L186","v":0},null,{"$f":"CSVデータ1!N186+CSVデータ2!N186+CSVデータ3!N186+CSVデータ4!N186","v":0},null,{"$f":"CSVデータ1!P186+CSVデータ2!P186+CSVデータ3!P186+CSVデータ4!P186","v":0},null,{"$f":"CSVデータ1!R186+CSVデータ2!R186+CSVデータ3!R186+CSVデータ4!R186","v":0},null,{"$f":"CSVデータ1!T186+CSVデータ2!T186+CSVデータ3!T186+CSVデータ4!T186","v":0},null,{"$f":"CSVデータ1!V186+CSVデータ2!V186+CSVデータ3!V186+CSVデータ4!V186","v":0},null,{"$f":"CSVデータ1!X186+CSVデータ2!X186+CSVデータ3!X186+CSVデータ4!X186","v":0},null,{"$f":"CSVデータ1!Z186+CSVデータ2!Z186+CSVデータ3!Z186+CSVデータ4!Z186","v":0},null,{"$f":"CSVデータ1!AB186+CSVデータ2!AB186+CSVデータ3!AB186+CSVデータ4!AB186","v":0},null,{"$f":"CSVデータ1!AD186+CSVデータ2!AD186+CSVデータ3!AD186+CSVデータ4!AD186","v":0},null,{"$f":"CSVデータ1!AF186+CSVデータ2!AF186+CSVデータ3!AF186+CSVデータ4!AF186","v":0}]
[{"$f":"CSVデータ1!A187","v":"明細部"},{"$f":"CSVデータ1!B187","v":"保険者（地区）"},{"$f":"CSVデータ1!C187","v":48},{"$f":"CSVデータ1!D187","v":"女"},{"$f":"CSVデータ1!E187+CSVデータ2!E187+CSVデータ3!E187+CSVデータ4!E187","v":0},{"$f":"CSVデータ1!F187+CSVデータ2!F187+CSVデータ3!F187+CSVデータ4!F187","v":0},null,{"$f":"CSVデータ1!H187+CSVデータ2!H187+CSVデータ3!H187+CSVデータ4!H187","v":0},null,{"$f":"CSVデータ1!J187+CSVデータ2!J187+CSVデータ3!J187+CSVデータ4!J187","v":0},null,{"$f":"CSVデータ1!L187+CSVデータ2!L187+CSVデータ3!L187+CSVデータ4!L187","v":0},null,{"$f":"CSVデータ1!N187+CSVデータ2!N187+CSVデータ3!N187+CSVデータ4!N187","v":0},null,{"$f":"CSVデータ1!P187+CSVデータ2!P187+CSVデータ3!P187+CSVデータ4!P187","v":0},null,{"$f":"CSVデータ1!R187+CSVデータ2!R187+CSVデータ3!R187+CSVデータ4!R187","v":0},null,{"$f":"CSVデータ1!T187+CSVデータ2!T187+CSVデータ3!T187+CSVデータ4!T187","v":0},null,{"$f":"CSVデータ1!V187+CSVデータ2!V187+CSVデータ3!V187+CSVデータ4!V187","v":0},null,{"$f":"CSVデータ1!X187+CSVデータ2!X187+CSVデータ3!X187+CSVデータ4!X187","v":0},null,{"$f":"CSVデータ1!Z187+CSVデータ2!Z187+CSVデータ3!Z187+CSVデータ4!Z187","v":0},null,{"$f":"CSVデータ1!AB187+CSVデータ2!AB187+CSVデータ3!AB187+CSVデータ4!AB187","v":0},null,{"$f":"CSVデータ1!AD187+CSVデータ2!AD187+CSVデータ3!AD187+CSVデータ4!AD187","v":0},null,{"$f":"CSVデータ1!AF187+CSVデータ2!AF187+CSVデータ3!AF187+CSVデータ4!AF187","v":0}]
[{"$f":"CSVデータ1!A188","v":"明細部"},{"$f":"CSVデータ1!B188","v":"保険者（地区）"},{"$f":"CSVデータ1!C188","v":49},{"$f":"CSVデータ1!D188","v":"女"},{"$f":"CSVデータ1!E188+CSVデータ2!E188+CSVデータ3!E188+CSVデータ4!E188","v":0},{"$f":"CSVデータ1!F188+CSVデータ2!F188+CSVデータ3!F188+CSVデータ4!F188","v":0},null,{"$f":"CSVデータ1!H188+CSVデータ2!H188+CSVデータ3!H188+CSVデータ4!H188","v":0},null,{"$f":"CSVデータ1!J188+CSVデータ2!J188+CSVデータ3!J188+CSVデータ4!J188","v":0},null,{"$f":"CSVデータ1!L188+CSVデータ2!L188+CSVデータ3!L188+CSVデータ4!L188","v":0},null,{"$f":"CSVデータ1!N188+CSVデータ2!N188+CSVデータ3!N188+CSVデータ4!N188","v":0},null,{"$f":"CSVデータ1!P188+CSVデータ2!P188+CSVデータ3!P188+CSVデータ4!P188","v":0},null,{"$f":"CSVデータ1!R188+CSVデータ2!R188+CSVデータ3!R188+CSVデータ4!R188","v":0},null,{"$f":"CSVデータ1!T188+CSVデータ2!T188+CSVデータ3!T188+CSVデータ4!T188","v":0},null,{"$f":"CSVデータ1!V188+CSVデータ2!V188+CSVデータ3!V188+CSVデータ4!V188","v":0},null,{"$f":"CSVデータ1!X188+CSVデータ2!X188+CSVデータ3!X188+CSVデータ4!X188","v":0},null,{"$f":"CSVデータ1!Z188+CSVデータ2!Z188+CSVデータ3!Z188+CSVデータ4!Z188","v":0},null,{"$f":"CSVデータ1!AB188+CSVデータ2!AB188+CSVデータ3!AB188+CSVデータ4!AB188","v":0},null,{"$f":"CSVデータ1!AD188+CSVデータ2!AD188+CSVデータ3!AD188+CSVデータ4!AD188","v":0},null,{"$f":"CSVデータ1!AF188+CSVデータ2!AF188+CSVデータ3!AF188+CSVデータ4!AF188","v":0}]
[{"$f":"CSVデータ1!A189","v":"明細部"},{"$f":"CSVデータ1!B189","v":"保険者（地区）"},{"$f":"CSVデータ1!C189","v":50},{"$f":"CSVデータ1!D189","v":"女"},{"$f":"CSVデータ1!E189+CSVデータ2!E189+CSVデータ3!E189+CSVデータ4!E189","v":0},{"$f":"CSVデータ1!F189+CSVデータ2!F189+CSVデータ3!F189+CSVデータ4!F189","v":0},null,{"$f":"CSVデータ1!H189+CSVデータ2!H189+CSVデータ3!H189+CSVデータ4!H189","v":0},null,{"$f":"CSVデータ1!J189+CSVデータ2!J189+CSVデータ3!J189+CSVデータ4!J189","v":0},null,{"$f":"CSVデータ1!L189+CSVデータ2!L189+CSVデータ3!L189+CSVデータ4!L189","v":0},null,{"$f":"CSVデータ1!N189+CSVデータ2!N189+CSVデータ3!N189+CSVデータ4!N189","v":0},null,{"$f":"CSVデータ1!P189+CSVデータ2!P189+CSVデータ3!P189+CSVデータ4!P189","v":0},null,{"$f":"CSVデータ1!R189+CSVデータ2!R189+CSVデータ3!R189+CSVデータ4!R189","v":0},null,{"$f":"CSVデータ1!T189+CSVデータ2!T189+CSVデータ3!T189+CSVデータ4!T189","v":0},null,{"$f":"CSVデータ1!V189+CSVデータ2!V189+CSVデータ3!V189+CSVデータ4!V189","v":0},null,{"$f":"CSVデータ1!X189+CSVデータ2!X189+CSVデータ3!X189+CSVデータ4!X189","v":0},null,{"$f":"CSVデータ1!Z189+CSVデータ2!Z189+CSVデータ3!Z189+CSVデータ4!Z189","v":0},null,{"$f":"CSVデータ1!AB189+CSVデータ2!AB189+CSVデータ3!AB189+CSVデータ4!AB189","v":0},null,{"$f":"CSVデータ1!AD189+CSVデータ2!AD189+CSVデータ3!AD189+CSVデータ4!AD189","v":0},null,{"$f":"CSVデータ1!AF189+CSVデータ2!AF189+CSVデータ3!AF189+CSVデータ4!AF189","v":0}]
[{"$f":"CSVデータ1!A190","v":"明細部"},{"$f":"CSVデータ1!B190","v":"保険者（地区）"},{"$f":"CSVデータ1!C190","v":51},{"$f":"CSVデータ1!D190","v":"女"},{"$f":"CSVデータ1!E190+CSVデータ2!E190+CSVデータ3!E190+CSVデータ4!E190","v":0},{"$f":"CSVデータ1!F190+CSVデータ2!F190+CSVデータ3!F190+CSVデータ4!F190","v":0},null,{"$f":"CSVデータ1!H190+CSVデータ2!H190+CSVデータ3!H190+CSVデータ4!H190","v":0},null,{"$f":"CSVデータ1!J190+CSVデータ2!J190+CSVデータ3!J190+CSVデータ4!J190","v":0},null,{"$f":"CSVデータ1!L190+CSVデータ2!L190+CSVデータ3!L190+CSVデータ4!L190","v":0},null,{"$f":"CSVデータ1!N190+CSVデータ2!N190+CSVデータ3!N190+CSVデータ4!N190","v":0},null,{"$f":"CSVデータ1!P190+CSVデータ2!P190+CSVデータ3!P190+CSVデータ4!P190","v":0},null,{"$f":"CSVデータ1!R190+CSVデータ2!R190+CSVデータ3!R190+CSVデータ4!R190","v":0},null,{"$f":"CSVデータ1!T190+CSVデータ2!T190+CSVデータ3!T190+CSVデータ4!T190","v":0},null,{"$f":"CSVデータ1!V190+CSVデータ2!V190+CSVデータ3!V190+CSVデータ4!V190","v":0},null,{"$f":"CSVデータ1!X190+CSVデータ2!X190+CSVデータ3!X190+CSVデータ4!X190","v":0},null,{"$f":"CSVデータ1!Z190+CSVデータ2!Z190+CSVデータ3!Z190+CSVデータ4!Z190","v":0},null,{"$f":"CSVデータ1!AB190+CSVデータ2!AB190+CSVデータ3!AB190+CSVデータ4!AB190","v":0},null,{"$f":"CSVデータ1!AD190+CSVデータ2!AD190+CSVデータ3!AD190+CSVデータ4!AD190","v":0},null,{"$f":"CSVデータ1!AF190+CSVデータ2!AF190+CSVデータ3!AF190+CSVデータ4!AF190","v":0}]
[{"$f":"CSVデータ1!A191","v":"明細部"},{"$f":"CSVデータ1!B191","v":"保険者（地区）"},{"$f":"CSVデータ1!C191","v":52},{"$f":"CSVデータ1!D191","v":"女"},{"$f":"CSVデータ1!E191+CSVデータ2!E191+CSVデータ3!E191+CSVデータ4!E191","v":0},{"$f":"CSVデータ1!F191+CSVデータ2!F191+CSVデータ3!F191+CSVデータ4!F191","v":0},null,{"$f":"CSVデータ1!H191+CSVデータ2!H191+CSVデータ3!H191+CSVデータ4!H191","v":0},null,{"$f":"CSVデータ1!J191+CSVデータ2!J191+CSVデータ3!J191+CSVデータ4!J191","v":0},null,{"$f":"CSVデータ1!L191+CSVデータ2!L191+CSVデータ3!L191+CSVデータ4!L191","v":0},null,{"$f":"CSVデータ1!N191+CSVデータ2!N191+CSVデータ3!N191+CSVデータ4!N191","v":0},null,{"$f":"CSVデータ1!P191+CSVデータ2!P191+CSVデータ3!P191+CSVデータ4!P191","v":0},null,{"$f":"CSVデータ1!R191+CSVデータ2!R191+CSVデータ3!R191+CSVデータ4!R191","v":0},null,{"$f":"CSVデータ1!T191+CSVデータ2!T191+CSVデータ3!T191+CSVデータ4!T191","v":0},null,{"$f":"CSVデータ1!V191+CSVデータ2!V191+CSVデータ3!V191+CSVデータ4!V191","v":0},null,{"$f":"CSVデータ1!X191+CSVデータ2!X191+CSVデータ3!X191+CSVデータ4!X191","v":0},null,{"$f":"CSVデータ1!Z191+CSVデータ2!Z191+CSVデータ3!Z191+CSVデータ4!Z191","v":0},null,{"$f":"CSVデータ1!AB191+CSVデータ2!AB191+CSVデータ3!AB191+CSVデータ4!AB191","v":0},null,{"$f":"CSVデータ1!AD191+CSVデータ2!AD191+CSVデータ3!AD191+CSVデータ4!AD191","v":0},null,{"$f":"CSVデータ1!AF191+CSVデータ2!AF191+CSVデータ3!AF191+CSVデータ4!AF191","v":0}]
[{"$f":"CSVデータ1!A192","v":"明細部"},{"$f":"CSVデータ1!B192","v":"保険者（地区）"},{"$f":"CSVデータ1!C192","v":53},{"$f":"CSVデータ1!D192","v":"女"},{"$f":"CSVデータ1!E192+CSVデータ2!E192+CSVデータ3!E192+CSVデータ4!E192","v":0},{"$f":"CSVデータ1!F192+CSVデータ2!F192+CSVデータ3!F192+CSVデータ4!F192","v":0},null,{"$f":"CSVデータ1!H192+CSVデータ2!H192+CSVデータ3!H192+CSVデータ4!H192","v":0},null,{"$f":"CSVデータ1!J192+CSVデータ2!J192+CSVデータ3!J192+CSVデータ4!J192","v":0},null,{"$f":"CSVデータ1!L192+CSVデータ2!L192+CSVデータ3!L192+CSVデータ4!L192","v":0},null,{"$f":"CSVデータ1!N192+CSVデータ2!N192+CSVデータ3!N192+CSVデータ4!N192","v":0},null,{"$f":"CSVデータ1!P192+CSVデータ2!P192+CSVデータ3!P192+CSVデータ4!P192","v":0},null,{"$f":"CSVデータ1!R192+CSVデータ2!R192+CSVデータ3!R192+CSVデータ4!R192","v":0},null,{"$f":"CSVデータ1!T192+CSVデータ2!T192+CSVデータ3!T192+CSVデータ4!T192","v":0},null,{"$f":"CSVデータ1!V192+CSVデータ2!V192+CSVデータ3!V192+CSVデータ4!V192","v":0},null,{"$f":"CSVデータ1!X192+CSVデータ2!X192+CSVデータ3!X192+CSVデータ4!X192","v":0},null,{"$f":"CSVデータ1!Z192+CSVデータ2!Z192+CSVデータ3!Z192+CSVデータ4!Z192","v":0},null,{"$f":"CSVデータ1!AB192+CSVデータ2!AB192+CSVデータ3!AB192+CSVデータ4!AB192","v":0},null,{"$f":"CSVデータ1!AD192+CSVデータ2!AD192+CSVデータ3!AD192+CSVデータ4!AD192","v":0},null,{"$f":"CSVデータ1!AF192+CSVデータ2!AF192+CSVデータ3!AF192+CSVデータ4!AF192","v":0}]
[{"$f":"CSVデータ1!A193","v":"明細部"},{"$f":"CSVデータ1!B193","v":"保険者（地区）"},{"$f":"CSVデータ1!C193","v":54},{"$f":"CSVデータ1!D193","v":"女"},{"$f":"CSVデータ1!E193+CSVデータ2!E193+CSVデータ3!E193+CSVデータ4!E193","v":0},{"$f":"CSVデータ1!F193+CSVデータ2!F193+CSVデータ3!F193+CSVデータ4!F193","v":0},null,{"$f":"CSVデータ1!H193+CSVデータ2!H193+CSVデータ3!H193+CSVデータ4!H193","v":0},null,{"$f":"CSVデータ1!J193+CSVデータ2!J193+CSVデータ3!J193+CSVデータ4!J193","v":0},null,{"$f":"CSVデータ1!L193+CSVデータ2!L193+CSVデータ3!L193+CSVデータ4!L193","v":0},null,{"$f":"CSVデータ1!N193+CSVデータ2!N193+CSVデータ3!N193+CSVデータ4!N193","v":0},null,{"$f":"CSVデータ1!P193+CSVデータ2!P193+CSVデータ3!P193+CSVデータ4!P193","v":0},null,{"$f":"CSVデータ1!R193+CSVデータ2!R193+CSVデータ3!R193+CSVデータ4!R193","v":0},null,{"$f":"CSVデータ1!T193+CSVデータ2!T193+CSVデータ3!T193+CSVデータ4!T193","v":0},null,{"$f":"CSVデータ1!V193+CSVデータ2!V193+CSVデータ3!V193+CSVデータ4!V193","v":0},null,{"$f":"CSVデータ1!X193+CSVデータ2!X193+CSVデータ3!X193+CSVデータ4!X193","v":0},null,{"$f":"CSVデータ1!Z193+CSVデータ2!Z193+CSVデータ3!Z193+CSVデータ4!Z193","v":0},null,{"$f":"CSVデータ1!AB193+CSVデータ2!AB193+CSVデータ3!AB193+CSVデータ4!AB193","v":0},null,{"$f":"CSVデータ1!AD193+CSVデータ2!AD193+CSVデータ3!AD193+CSVデータ4!AD193","v":0},null,{"$f":"CSVデータ1!AF193+CSVデータ2!AF193+CSVデータ3!AF193+CSVデータ4!AF193","v":0}]
[{"$f":"CSVデータ1!A194","v":"明細部"},{"$f":"CSVデータ1!B194","v":"保険者（地区）"},{"$f":"CSVデータ1!C194","v":55},{"$f":"CSVデータ1!D194","v":"女"},{"$f":"CSVデータ1!E194+CSVデータ2!E194+CSVデータ3!E194+CSVデータ4!E194","v":0},{"$f":"CSVデータ1!F194+CSVデータ2!F194+CSVデータ3!F194+CSVデータ4!F194","v":0},null,{"$f":"CSVデータ1!H194+CSVデータ2!H194+CSVデータ3!H194+CSVデータ4!H194","v":0},null,{"$f":"CSVデータ1!J194+CSVデータ2!J194+CSVデータ3!J194+CSVデータ4!J194","v":0},null,{"$f":"CSVデータ1!L194+CSVデータ2!L194+CSVデータ3!L194+CSVデータ4!L194","v":0},null,{"$f":"CSVデータ1!N194+CSVデータ2!N194+CSVデータ3!N194+CSVデータ4!N194","v":0},null,{"$f":"CSVデータ1!P194+CSVデータ2!P194+CSVデータ3!P194+CSVデータ4!P194","v":0},null,{"$f":"CSVデータ1!R194+CSVデータ2!R194+CSVデータ3!R194+CSVデータ4!R194","v":0},null,{"$f":"CSVデータ1!T194+CSVデータ2!T194+CSVデータ3!T194+CSVデータ4!T194","v":0},null,{"$f":"CSVデータ1!V194+CSVデータ2!V194+CSVデータ3!V194+CSVデータ4!V194","v":0},null,{"$f":"CSVデータ1!X194+CSVデータ2!X194+CSVデータ3!X194+CSVデータ4!X194","v":0},null,{"$f":"CSVデータ1!Z194+CSVデータ2!Z194+CSVデータ3!Z194+CSVデータ4!Z194","v":0},null,{"$f":"CSVデータ1!AB194+CSVデータ2!AB194+CSVデータ3!AB194+CSVデータ4!AB194","v":0},null,{"$f":"CSVデータ1!AD194+CSVデータ2!AD194+CSVデータ3!AD194+CSVデータ4!AD194","v":0},null,{"$f":"CSVデータ1!AF194+CSVデータ2!AF194+CSVデータ3!AF194+CSVデータ4!AF194","v":0}]
[{"$f":"CSVデータ1!A195","v":"明細部"},{"$f":"CSVデータ1!B195","v":"保険者（地区）"},{"$f":"CSVデータ1!C195","v":56},{"$f":"CSVデータ1!D195","v":"女"},{"$f":"CSVデータ1!E195+CSVデータ2!E195+CSVデータ3!E195+CSVデータ4!E195","v":0},{"$f":"CSVデータ1!F195+CSVデータ2!F195+CSVデータ3!F195+CSVデータ4!F195","v":0},null,{"$f":"CSVデータ1!H195+CSVデータ2!H195+CSVデータ3!H195+CSVデータ4!H195","v":0},null,{"$f":"CSVデータ1!J195+CSVデータ2!J195+CSVデータ3!J195+CSVデータ4!J195","v":0},null,{"$f":"CSVデータ1!L195+CSVデータ2!L195+CSVデータ3!L195+CSVデータ4!L195","v":0},null,{"$f":"CSVデータ1!N195+CSVデータ2!N195+CSVデータ3!N195+CSVデータ4!N195","v":0},null,{"$f":"CSVデータ1!P195+CSVデータ2!P195+CSVデータ3!P195+CSVデータ4!P195","v":0},null,{"$f":"CSVデータ1!R195+CSVデータ2!R195+CSVデータ3!R195+CSVデータ4!R195","v":0},null,{"$f":"CSVデータ1!T195+CSVデータ2!T195+CSVデータ3!T195+CSVデータ4!T195","v":0},null,{"$f":"CSVデータ1!V195+CSVデータ2!V195+CSVデータ3!V195+CSVデータ4!V195","v":0},null,{"$f":"CSVデータ1!X195+CSVデータ2!X195+CSVデータ3!X195+CSVデータ4!X195","v":0},null,{"$f":"CSVデータ1!Z195+CSVデータ2!Z195+CSVデータ3!Z195+CSVデータ4!Z195","v":0},null,{"$f":"CSVデータ1!AB195+CSVデータ2!AB195+CSVデータ3!AB195+CSVデータ4!AB195","v":0},null,{"$f":"CSVデータ1!AD195+CSVデータ2!AD195+CSVデータ3!AD195+CSVデータ4!AD195","v":0},null,{"$f":"CSVデータ1!AF195+CSVデータ2!AF195+CSVデータ3!AF195+CSVデータ4!AF195","v":0}]
[{"$f":"CSVデータ1!A196","v":"明細部"},{"$f":"CSVデータ1!B196","v":"保険者（地区）"},{"$f":"CSVデータ1!C196","v":57},{"$f":"CSVデータ1!D196","v":"女"},{"$f":"CSVデータ1!E196+CSVデータ2!E196+CSVデータ3!E196+CSVデータ4!E196","v":0},{"$f":"CSVデータ1!F196+CSVデータ2!F196+CSVデータ3!F196+CSVデータ4!F196","v":0},null,{"$f":"CSVデータ1!H196+CSVデータ2!H196+CSVデータ3!H196+CSVデータ4!H196","v":0},null,{"$f":"CSVデータ1!J196+CSVデータ2!J196+CSVデータ3!J196+CSVデータ4!J196","v":0},null,{"$f":"CSVデータ1!L196+CSVデータ2!L196+CSVデータ3!L196+CSVデータ4!L196","v":0},null,{"$f":"CSVデータ1!N196+CSVデータ2!N196+CSVデータ3!N196+CSVデータ4!N196","v":0},null,{"$f":"CSVデータ1!P196+CSVデータ2!P196+CSVデータ3!P196+CSVデータ4!P196","v":0},null,{"$f":"CSVデータ1!R196+CSVデータ2!R196+CSVデータ3!R196+CSVデータ4!R196","v":0},null,{"$f":"CSVデータ1!T196+CSVデータ2!T196+CSVデータ3!T196+CSVデータ4!T196","v":0},null,{"$f":"CSVデータ1!V196+CSVデータ2!V196+CSVデータ3!V196+CSVデータ4!V196","v":0},null,{"$f":"CSVデータ1!X196+CSVデータ2!X196+CSVデータ3!X196+CSVデータ4!X196","v":0},null,{"$f":"CSVデータ1!Z196+CSVデータ2!Z196+CSVデータ3!Z196+CSVデータ4!Z196","v":0},null,{"$f":"CSVデータ1!AB196+CSVデータ2!AB196+CSVデータ3!AB196+CSVデータ4!AB196","v":0},null,{"$f":"CSVデータ1!AD196+CSVデータ2!AD196+CSVデータ3!AD196+CSVデータ4!AD196","v":0},null,{"$f":"CSVデータ1!AF196+CSVデータ2!AF196+CSVデータ3!AF196+CSVデータ4!AF196","v":0}]
[{"$f":"CSVデータ1!A197","v":"明細部"},{"$f":"CSVデータ1!B197","v":"保険者（地区）"},{"$f":"CSVデータ1!C197","v":58},{"$f":"CSVデータ1!D197","v":"女"},{"$f":"CSVデータ1!E197+CSVデータ2!E197+CSVデータ3!E197+CSVデータ4!E197","v":0},{"$f":"CSVデータ1!F197+CSVデータ2!F197+CSVデータ3!F197+CSVデータ4!F197","v":0},null,{"$f":"CSVデータ1!H197+CSVデータ2!H197+CSVデータ3!H197+CSVデータ4!H197","v":0},null,{"$f":"CSVデータ1!J197+CSVデータ2!J197+CSVデータ3!J197+CSVデータ4!J197","v":0},null,{"$f":"CSVデータ1!L197+CSVデータ2!L197+CSVデータ3!L197+CSVデータ4!L197","v":0},null,{"$f":"CSVデータ1!N197+CSVデータ2!N197+CSVデータ3!N197+CSVデータ4!N197","v":0},null,{"$f":"CSVデータ1!P197+CSVデータ2!P197+CSVデータ3!P197+CSVデータ4!P197","v":0},null,{"$f":"CSVデータ1!R197+CSVデータ2!R197+CSVデータ3!R197+CSVデータ4!R197","v":0},null,{"$f":"CSVデータ1!T197+CSVデータ2!T197+CSVデータ3!T197+CSVデータ4!T197","v":0},null,{"$f":"CSVデータ1!V197+CSVデータ2!V197+CSVデータ3!V197+CSVデータ4!V197","v":0},null,{"$f":"CSVデータ1!X197+CSVデータ2!X197+CSVデータ3!X197+CSVデータ4!X197","v":0},null,{"$f":"CSVデータ1!Z197+CSVデータ2!Z197+CSVデータ3!Z197+CSVデータ4!Z197","v":0},null,{"$f":"CSVデータ1!AB197+CSVデータ2!AB197+CSVデータ3!AB197+CSVデータ4!AB197","v":0},null,{"$f":"CSVデータ1!AD197+CSVデータ2!AD197+CSVデータ3!AD197+CSVデータ4!AD197","v":0},null,{"$f":"CSVデータ1!AF197+CSVデータ2!AF197+CSVデータ3!AF197+CSVデータ4!AF197","v":0}]
[{"$f":"CSVデータ1!A198","v":"明細部"},{"$f":"CSVデータ1!B198","v":"保険者（地区）"},{"$f":"CSVデータ1!C198","v":59},{"$f":"CSVデータ1!D198","v":"女"},{"$f":"CSVデータ1!E198+CSVデータ2!E198+CSVデータ3!E198+CSVデータ4!E198","v":0},{"$f":"CSVデータ1!F198+CSVデータ2!F198+CSVデータ3!F198+CSVデータ4!F198","v":0},null,{"$f":"CSVデータ1!H198+CSVデータ2!H198+CSVデータ3!H198+CSVデータ4!H198","v":0},null,{"$f":"CSVデータ1!J198+CSVデータ2!J198+CSVデータ3!J198+CSVデータ4!J198","v":0},null,{"$f":"CSVデータ1!L198+CSVデータ2!L198+CSVデータ3!L198+CSVデータ4!L198","v":0},null,{"$f":"CSVデータ1!N198+CSVデータ2!N198+CSVデータ3!N198+CSVデータ4!N198","v":0},null,{"$f":"CSVデータ1!P198+CSVデータ2!P198+CSVデータ3!P198+CSVデータ4!P198","v":0},null,{"$f":"CSVデータ1!R198+CSVデータ2!R198+CSVデータ3!R198+CSVデータ4!R198","v":0},null,{"$f":"CSVデータ1!T198+CSVデータ2!T198+CSVデータ3!T198+CSVデータ4!T198","v":0},null,{"$f":"CSVデータ1!V198+CSVデータ2!V198+CSVデータ3!V198+CSVデータ4!V198","v":0},null,{"$f":"CSVデータ1!X198+CSVデータ2!X198+CSVデータ3!X198+CSVデータ4!X198","v":0},null,{"$f":"CSVデータ1!Z198+CSVデータ2!Z198+CSVデータ3!Z198+CSVデータ4!Z198","v":0},null,{"$f":"CSVデータ1!AB198+CSVデータ2!AB198+CSVデータ3!AB198+CSVデータ4!AB198","v":0},null,{"$f":"CSVデータ1!AD198+CSVデータ2!AD198+CSVデータ3!AD198+CSVデータ4!AD198","v":0},null,{"$f":"CSVデータ1!AF198+CSVデータ2!AF198+CSVデータ3!AF198+CSVデータ4!AF198","v":0}]
[{"$f":"CSVデータ1!A199","v":"明細部"},{"$f":"CSVデータ1!B199","v":"保険者（地区）"},{"$f":"CSVデータ1!C199","v":60},{"$f":"CSVデータ1!D199","v":"女"},{"$f":"CSVデータ1!E199+CSVデータ2!E199+CSVデータ3!E199+CSVデータ4!E199","v":0},{"$f":"CSVデータ1!F199+CSVデータ2!F199+CSVデータ3!F199+CSVデータ4!F199","v":0},null,{"$f":"CSVデータ1!H199+CSVデータ2!H199+CSVデータ3!H199+CSVデータ4!H199","v":0},null,{"$f":"CSVデータ1!J199+CSVデータ2!J199+CSVデータ3!J199+CSVデータ4!J199","v":0},null,{"$f":"CSVデータ1!L199+CSVデータ2!L199+CSVデータ3!L199+CSVデータ4!L199","v":0},null,{"$f":"CSVデータ1!N199+CSVデータ2!N199+CSVデータ3!N199+CSVデータ4!N199","v":0},null,{"$f":"CSVデータ1!P199+CSVデータ2!P199+CSVデータ3!P199+CSVデータ4!P199","v":0},null,{"$f":"CSVデータ1!R199+CSVデータ2!R199+CSVデータ3!R199+CSVデータ4!R199","v":0},null,{"$f":"CSVデータ1!T199+CSVデータ2!T199+CSVデータ3!T199+CSVデータ4!T199","v":0},null,{"$f":"CSVデータ1!V199+CSVデータ2!V199+CSVデータ3!V199+CSVデータ4!V199","v":0},null,{"$f":"CSVデータ1!X199+CSVデータ2!X199+CSVデータ3!X199+CSVデータ4!X199","v":0},null,{"$f":"CSVデータ1!Z199+CSVデータ2!Z199+CSVデータ3!Z199+CSVデータ4!Z199","v":0},null,{"$f":"CSVデータ1!AB199+CSVデータ2!AB199+CSVデータ3!AB199+CSVデータ4!AB199","v":0},null,{"$f":"CSVデータ1!AD199+CSVデータ2!AD199+CSVデータ3!AD199+CSVデータ4!AD199","v":0},null,{"$f":"CSVデータ1!AF199+CSVデータ2!AF199+CSVデータ3!AF199+CSVデータ4!AF199","v":0}]
[{"$f":"CSVデータ1!A200","v":"明細部"},{"$f":"CSVデータ1!B200","v":"保険者（地区）"},{"$f":"CSVデータ1!C200","v":61},{"$f":"CSVデータ1!D200","v":"女"},{"$f":"CSVデータ1!E200+CSVデータ2!E200+CSVデータ3!E200+CSVデータ4!E200","v":0},{"$f":"CSVデータ1!F200+CSVデータ2!F200+CSVデータ3!F200+CSVデータ4!F200","v":0},null,{"$f":"CSVデータ1!H200+CSVデータ2!H200+CSVデータ3!H200+CSVデータ4!H200","v":0},null,{"$f":"CSVデータ1!J200+CSVデータ2!J200+CSVデータ3!J200+CSVデータ4!J200","v":0},null,{"$f":"CSVデータ1!L200+CSVデータ2!L200+CSVデータ3!L200+CSVデータ4!L200","v":0},null,{"$f":"CSVデータ1!N200+CSVデータ2!N200+CSVデータ3!N200+CSVデータ4!N200","v":0},null,{"$f":"CSVデータ1!P200+CSVデータ2!P200+CSVデータ3!P200+CSVデータ4!P200","v":0},null,{"$f":"CSVデータ1!R200+CSVデータ2!R200+CSVデータ3!R200+CSVデータ4!R200","v":0},null,{"$f":"CSVデータ1!T200+CSVデータ2!T200+CSVデータ3!T200+CSVデータ4!T200","v":0},null,{"$f":"CSVデータ1!V200+CSVデータ2!V200+CSVデータ3!V200+CSVデータ4!V200","v":0},null,{"$f":"CSVデータ1!X200+CSVデータ2!X200+CSVデータ3!X200+CSVデータ4!X200","v":0},null,{"$f":"CSVデータ1!Z200+CSVデータ2!Z200+CSVデータ3!Z200+CSVデータ4!Z200","v":0},null,{"$f":"CSVデータ1!AB200+CSVデータ2!AB200+CSVデータ3!AB200+CSVデータ4!AB200","v":0},null,{"$f":"CSVデータ1!AD200+CSVデータ2!AD200+CSVデータ3!AD200+CSVデータ4!AD200","v":0},null,{"$f":"CSVデータ1!AF200+CSVデータ2!AF200+CSVデータ3!AF200+CSVデータ4!AF200","v":0}]
[{"$f":"CSVデータ1!A201","v":"明細部"},{"$f":"CSVデータ1!B201","v":"保険者（地区）"},{"$f":"CSVデータ1!C201","v":62},{"$f":"CSVデータ1!D201","v":"女"},{"$f":"CSVデータ1!E201+CSVデータ2!E201+CSVデータ3!E201+CSVデータ4!E201","v":0},{"$f":"CSVデータ1!F201+CSVデータ2!F201+CSVデータ3!F201+CSVデータ4!F201","v":0},null,{"$f":"CSVデータ1!H201+CSVデータ2!H201+CSVデータ3!H201+CSVデータ4!H201","v":0},null,{"$f":"CSVデータ1!J201+CSVデータ2!J201+CSVデータ3!J201+CSVデータ4!J201","v":0},null,{"$f":"CSVデータ1!L201+CSVデータ2!L201+CSVデータ3!L201+CSVデータ4!L201","v":0},null,{"$f":"CSVデータ1!N201+CSVデータ2!N201+CSVデータ3!N201+CSVデータ4!N201","v":0},null,{"$f":"CSVデータ1!P201+CSVデータ2!P201+CSVデータ3!P201+CSVデータ4!P201","v":0},null,{"$f":"CSVデータ1!R201+CSVデータ2!R201+CSVデータ3!R201+CSVデータ4!R201","v":0},null,{"$f":"CSVデータ1!T201+CSVデータ2!T201+CSVデータ3!T201+CSVデータ4!T201","v":0},null,{"$f":"CSVデータ1!V201+CSVデータ2!V201+CSVデータ3!V201+CSVデータ4!V201","v":0},null,{"$f":"CSVデータ1!X201+CSVデータ2!X201+CSVデータ3!X201+CSVデータ4!X201","v":0},null,{"$f":"CSVデータ1!Z201+CSVデータ2!Z201+CSVデータ3!Z201+CSVデータ4!Z201","v":0},null,{"$f":"CSVデータ1!AB201+CSVデータ2!AB201+CSVデータ3!AB201+CSVデータ4!AB201","v":0},null,{"$f":"CSVデータ1!AD201+CSVデータ2!AD201+CSVデータ3!AD201+CSVデータ4!AD201","v":0},null,{"$f":"CSVデータ1!AF201+CSVデータ2!AF201+CSVデータ3!AF201+CSVデータ4!AF201","v":0}]
[{"$f":"CSVデータ1!A202","v":"明細部"},{"$f":"CSVデータ1!B202","v":"保険者（地区）"},{"$f":"CSVデータ1!C202","v":63},{"$f":"CSVデータ1!D202","v":"女"},{"$f":"CSVデータ1!E202+CSVデータ2!E202+CSVデータ3!E202+CSVデータ4!E202","v":0},{"$f":"CSVデータ1!F202+CSVデータ2!F202+CSVデータ3!F202+CSVデータ4!F202","v":0},null,{"$f":"CSVデータ1!H202+CSVデータ2!H202+CSVデータ3!H202+CSVデータ4!H202","v":0},null,{"$f":"CSVデータ1!J202+CSVデータ2!J202+CSVデータ3!J202+CSVデータ4!J202","v":0},null,{"$f":"CSVデータ1!L202+CSVデータ2!L202+CSVデータ3!L202+CSVデータ4!L202","v":0},null,{"$f":"CSVデータ1!N202+CSVデータ2!N202+CSVデータ3!N202+CSVデータ4!N202","v":0},null,{"$f":"CSVデータ1!P202+CSVデータ2!P202+CSVデータ3!P202+CSVデータ4!P202","v":0},null,{"$f":"CSVデータ1!R202+CSVデータ2!R202+CSVデータ3!R202+CSVデータ4!R202","v":0},null,{"$f":"CSVデータ1!T202+CSVデータ2!T202+CSVデータ3!T202+CSVデータ4!T202","v":0},null,{"$f":"CSVデータ1!V202+CSVデータ2!V202+CSVデータ3!V202+CSVデータ4!V202","v":0},null,{"$f":"CSVデータ1!X202+CSVデータ2!X202+CSVデータ3!X202+CSVデータ4!X202","v":0},null,{"$f":"CSVデータ1!Z202+CSVデータ2!Z202+CSVデータ3!Z202+CSVデータ4!Z202","v":0},null,{"$f":"CSVデータ1!AB202+CSVデータ2!AB202+CSVデータ3!AB202+CSVデータ4!AB202","v":0},null,{"$f":"CSVデータ1!AD202+CSVデータ2!AD202+CSVデータ3!AD202+CSVデータ4!AD202","v":0},null,{"$f":"CSVデータ1!AF202+CSVデータ2!AF202+CSVデータ3!AF202+CSVデータ4!AF202","v":0}]
[{"$f":"CSVデータ1!A203","v":"明細部"},{"$f":"CSVデータ1!B203","v":"保険者（地区）"},{"$f":"CSVデータ1!C203","v":64},{"$f":"CSVデータ1!D203","v":"女"},{"$f":"CSVデータ1!E203+CSVデータ2!E203+CSVデータ3!E203+CSVデータ4!E203","v":0},{"$f":"CSVデータ1!F203+CSVデータ2!F203+CSVデータ3!F203+CSVデータ4!F203","v":0},null,{"$f":"CSVデータ1!H203+CSVデータ2!H203+CSVデータ3!H203+CSVデータ4!H203","v":0},null,{"$f":"CSVデータ1!J203+CSVデータ2!J203+CSVデータ3!J203+CSVデータ4!J203","v":0},null,{"$f":"CSVデータ1!L203+CSVデータ2!L203+CSVデータ3!L203+CSVデータ4!L203","v":0},null,{"$f":"CSVデータ1!N203+CSVデータ2!N203+CSVデータ3!N203+CSVデータ4!N203","v":0},null,{"$f":"CSVデータ1!P203+CSVデータ2!P203+CSVデータ3!P203+CSVデータ4!P203","v":0},null,{"$f":"CSVデータ1!R203+CSVデータ2!R203+CSVデータ3!R203+CSVデータ4!R203","v":0},null,{"$f":"CSVデータ1!T203+CSVデータ2!T203+CSVデータ3!T203+CSVデータ4!T203","v":0},null,{"$f":"CSVデータ1!V203+CSVデータ2!V203+CSVデータ3!V203+CSVデータ4!V203","v":0},null,{"$f":"CSVデータ1!X203+CSVデータ2!X203+CSVデータ3!X203+CSVデータ4!X203","v":0},null,{"$f":"CSVデータ1!Z203+CSVデータ2!Z203+CSVデータ3!Z203+CSVデータ4!Z203","v":0},null,{"$f":"CSVデータ1!AB203+CSVデータ2!AB203+CSVデータ3!AB203+CSVデータ4!AB203","v":0},null,{"$f":"CSVデータ1!AD203+CSVデータ2!AD203+CSVデータ3!AD203+CSVデータ4!AD203","v":0},null,{"$f":"CSVデータ1!AF203+CSVデータ2!AF203+CSVデータ3!AF203+CSVデータ4!AF203","v":0}]
[{"$f":"CSVデータ1!A204","v":"明細部"},{"$f":"CSVデータ1!B204","v":"保険者（地区）"},{"$f":"CSVデータ1!C204","v":65},{"$f":"CSVデータ1!D204","v":"女"},{"$f":"CSVデータ1!E204+CSVデータ2!E204+CSVデータ3!E204+CSVデータ4!E204","v":0},{"$f":"CSVデータ1!F204+CSVデータ2!F204+CSVデータ3!F204+CSVデータ4!F204","v":0},null,{"$f":"CSVデータ1!H204+CSVデータ2!H204+CSVデータ3!H204+CSVデータ4!H204","v":0},null,{"$f":"CSVデータ1!J204+CSVデータ2!J204+CSVデータ3!J204+CSVデータ4!J204","v":0},null,{"$f":"CSVデータ1!L204+CSVデータ2!L204+CSVデータ3!L204+CSVデータ4!L204","v":0},null,{"$f":"CSVデータ1!N204+CSVデータ2!N204+CSVデータ3!N204+CSVデータ4!N204","v":0},null,{"$f":"CSVデータ1!P204+CSVデータ2!P204+CSVデータ3!P204+CSVデータ4!P204","v":0},null,{"$f":"CSVデータ1!R204+CSVデータ2!R204+CSVデータ3!R204+CSVデータ4!R204","v":0},null,{"$f":"CSVデータ1!T204+CSVデータ2!T204+CSVデータ3!T204+CSVデータ4!T204","v":0},null,{"$f":"CSVデータ1!V204+CSVデータ2!V204+CSVデータ3!V204+CSVデータ4!V204","v":0},null,{"$f":"CSVデータ1!X204+CSVデータ2!X204+CSVデータ3!X204+CSVデータ4!X204","v":0},null,{"$f":"CSVデータ1!Z204+CSVデータ2!Z204+CSVデータ3!Z204+CSVデータ4!Z204","v":0},null,{"$f":"CSVデータ1!AB204+CSVデータ2!AB204+CSVデータ3!AB204+CSVデータ4!AB204","v":0},null,{"$f":"CSVデータ1!AD204+CSVデータ2!AD204+CSVデータ3!AD204+CSVデータ4!AD204","v":0},null,{"$f":"CSVデータ1!AF204+CSVデータ2!AF204+CSVデータ3!AF204+CSVデータ4!AF204","v":0}]
[{"$f":"CSVデータ1!A205","v":"明細部"},{"$f":"CSVデータ1!B205","v":"保険者（地区）"},{"$f":"CSVデータ1!C205","v":66},{"$f":"CSVデータ1!D205","v":"女"},{"$f":"CSVデータ1!E205+CSVデータ2!E205+CSVデータ3!E205+CSVデータ4!E205","v":0},{"$f":"CSVデータ1!F205+CSVデータ2!F205+CSVデータ3!F205+CSVデータ4!F205","v":0},null,{"$f":"CSVデータ1!H205+CSVデータ2!H205+CSVデータ3!H205+CSVデータ4!H205","v":0},null,{"$f":"CSVデータ1!J205+CSVデータ2!J205+CSVデータ3!J205+CSVデータ4!J205","v":0},null,{"$f":"CSVデータ1!L205+CSVデータ2!L205+CSVデータ3!L205+CSVデータ4!L205","v":0},null,{"$f":"CSVデータ1!N205+CSVデータ2!N205+CSVデータ3!N205+CSVデータ4!N205","v":0},null,{"$f":"CSVデータ1!P205+CSVデータ2!P205+CSVデータ3!P205+CSVデータ4!P205","v":0},null,{"$f":"CSVデータ1!R205+CSVデータ2!R205+CSVデータ3!R205+CSVデータ4!R205","v":0},null,{"$f":"CSVデータ1!T205+CSVデータ2!T205+CSVデータ3!T205+CSVデータ4!T205","v":0},null,{"$f":"CSVデータ1!V205+CSVデータ2!V205+CSVデータ3!V205+CSVデータ4!V205","v":0},null,{"$f":"CSVデータ1!X205+CSVデータ2!X205+CSVデータ3!X205+CSVデータ4!X205","v":0},null,{"$f":"CSVデータ1!Z205+CSVデータ2!Z205+CSVデータ3!Z205+CSVデータ4!Z205","v":0},null,{"$f":"CSVデータ1!AB205+CSVデータ2!AB205+CSVデータ3!AB205+CSVデータ4!AB205","v":0},null,{"$f":"CSVデータ1!AD205+CSVデータ2!AD205+CSVデータ3!AD205+CSVデータ4!AD205","v":0},null,{"$f":"CSVデータ1!AF205+CSVデータ2!AF205+CSVデータ3!AF205+CSVデータ4!AF205","v":0}]
[{"$f":"CSVデータ1!A206","v":"明細部"},{"$f":"CSVデータ1!B206","v":"保険者（地区）"},{"$f":"CSVデータ1!C206","v":67},{"$f":"CSVデータ1!D206","v":"女"},{"$f":"CSVデータ1!E206+CSVデータ2!E206+CSVデータ3!E206+CSVデータ4!E206","v":0},{"$f":"CSVデータ1!F206+CSVデータ2!F206+CSVデータ3!F206+CSVデータ4!F206","v":0},null,{"$f":"CSVデータ1!H206+CSVデータ2!H206+CSVデータ3!H206+CSVデータ4!H206","v":0},null,{"$f":"CSVデータ1!J206+CSVデータ2!J206+CSVデータ3!J206+CSVデータ4!J206","v":0},null,{"$f":"CSVデータ1!L206+CSVデータ2!L206+CSVデータ3!L206+CSVデータ4!L206","v":0},null,{"$f":"CSVデータ1!N206+CSVデータ2!N206+CSVデータ3!N206+CSVデータ4!N206","v":0},null,{"$f":"CSVデータ1!P206+CSVデータ2!P206+CSVデータ3!P206+CSVデータ4!P206","v":0},null,{"$f":"CSVデータ1!R206+CSVデータ2!R206+CSVデータ3!R206+CSVデータ4!R206","v":0},null,{"$f":"CSVデータ1!T206+CSVデータ2!T206+CSVデータ3!T206+CSVデータ4!T206","v":0},null,{"$f":"CSVデータ1!V206+CSVデータ2!V206+CSVデータ3!V206+CSVデータ4!V206","v":0},null,{"$f":"CSVデータ1!X206+CSVデータ2!X206+CSVデータ3!X206+CSVデータ4!X206","v":0},null,{"$f":"CSVデータ1!Z206+CSVデータ2!Z206+CSVデータ3!Z206+CSVデータ4!Z206","v":0},null,{"$f":"CSVデータ1!AB206+CSVデータ2!AB206+CSVデータ3!AB206+CSVデータ4!AB206","v":0},null,{"$f":"CSVデータ1!AD206+CSVデータ2!AD206+CSVデータ3!AD206+CSVデータ4!AD206","v":0},null,{"$f":"CSVデータ1!AF206+CSVデータ2!AF206+CSVデータ3!AF206+CSVデータ4!AF206","v":0}]
[{"$f":"CSVデータ1!A207","v":"明細部"},{"$f":"CSVデータ1!B207","v":"保険者（地区）"},{"$f":"CSVデータ1!C207","v":68},{"$f":"CSVデータ1!D207","v":"女"},{"$f":"CSVデータ1!E207+CSVデータ2!E207+CSVデータ3!E207+CSVデータ4!E207","v":0},{"$f":"CSVデータ1!F207+CSVデータ2!F207+CSVデータ3!F207+CSVデータ4!F207","v":0},null,{"$f":"CSVデータ1!H207+CSVデータ2!H207+CSVデータ3!H207+CSVデータ4!H207","v":0},null,{"$f":"CSVデータ1!J207+CSVデータ2!J207+CSVデータ3!J207+CSVデータ4!J207","v":0},null,{"$f":"CSVデータ1!L207+CSVデータ2!L207+CSVデータ3!L207+CSVデータ4!L207","v":0},null,{"$f":"CSVデータ1!N207+CSVデータ2!N207+CSVデータ3!N207+CSVデータ4!N207","v":0},null,{"$f":"CSVデータ1!P207+CSVデータ2!P207+CSVデータ3!P207+CSVデータ4!P207","v":0},null,{"$f":"CSVデータ1!R207+CSVデータ2!R207+CSVデータ3!R207+CSVデータ4!R207","v":0},null,{"$f":"CSVデータ1!T207+CSVデータ2!T207+CSVデータ3!T207+CSVデータ4!T207","v":0},null,{"$f":"CSVデータ1!V207+CSVデータ2!V207+CSVデータ3!V207+CSVデータ4!V207","v":0},null,{"$f":"CSVデータ1!X207+CSVデータ2!X207+CSVデータ3!X207+CSVデータ4!X207","v":0},null,{"$f":"CSVデータ1!Z207+CSVデータ2!Z207+CSVデータ3!Z207+CSVデータ4!Z207","v":0},null,{"$f":"CSVデータ1!AB207+CSVデータ2!AB207+CSVデータ3!AB207+CSVデータ4!AB207","v":0},null,{"$f":"CSVデータ1!AD207+CSVデータ2!AD207+CSVデータ3!AD207+CSVデータ4!AD207","v":0},null,{"$f":"CSVデータ1!AF207+CSVデータ2!AF207+CSVデータ3!AF207+CSVデータ4!AF207","v":0}]
[{"$f":"CSVデータ1!A208","v":"明細部"},{"$f":"CSVデータ1!B208","v":"保険者（地区）"},{"$f":"CSVデータ1!C208","v":69},{"$f":"CSVデータ1!D208","v":"女"},{"$f":"CSVデータ1!E208+CSVデータ2!E208+CSVデータ3!E208+CSVデータ4!E208","v":0},{"$f":"CSVデータ1!F208+CSVデータ2!F208+CSVデータ3!F208+CSVデータ4!F208","v":0},null,{"$f":"CSVデータ1!H208+CSVデータ2!H208+CSVデータ3!H208+CSVデータ4!H208","v":0},null,{"$f":"CSVデータ1!J208+CSVデータ2!J208+CSVデータ3!J208+CSVデータ4!J208","v":0},null,{"$f":"CSVデータ1!L208+CSVデータ2!L208+CSVデータ3!L208+CSVデータ4!L208","v":0},null,{"$f":"CSVデータ1!N208+CSVデータ2!N208+CSVデータ3!N208+CSVデータ4!N208","v":0},null,{"$f":"CSVデータ1!P208+CSVデータ2!P208+CSVデータ3!P208+CSVデータ4!P208","v":0},null,{"$f":"CSVデータ1!R208+CSVデータ2!R208+CSVデータ3!R208+CSVデータ4!R208","v":0},null,{"$f":"CSVデータ1!T208+CSVデータ2!T208+CSVデータ3!T208+CSVデータ4!T208","v":0},null,{"$f":"CSVデータ1!V208+CSVデータ2!V208+CSVデータ3!V208+CSVデータ4!V208","v":0},null,{"$f":"CSVデータ1!X208+CSVデータ2!X208+CSVデータ3!X208+CSVデータ4!X208","v":0},null,{"$f":"CSVデータ1!Z208+CSVデータ2!Z208+CSVデータ3!Z208+CSVデータ4!Z208","v":0},null,{"$f":"CSVデータ1!AB208+CSVデータ2!AB208+CSVデータ3!AB208+CSVデータ4!AB208","v":0},null,{"$f":"CSVデータ1!AD208+CSVデータ2!AD208+CSVデータ3!AD208+CSVデータ4!AD208","v":0},null,{"$f":"CSVデータ1!AF208+CSVデータ2!AF208+CSVデータ3!AF208+CSVデータ4!AF208","v":0}]
[{"$f":"CSVデータ1!A209","v":"明細部"},{"$f":"CSVデータ1!B209","v":"保険者（地区）"},{"$f":"CSVデータ1!C209","v":70},{"$f":"CSVデータ1!D209","v":"女"},{"$f":"CSVデータ1!E209+CSVデータ2!E209+CSVデータ3!E209+CSVデータ4!E209","v":0},{"$f":"CSVデータ1!F209+CSVデータ2!F209+CSVデータ3!F209+CSVデータ4!F209","v":0},null,{"$f":"CSVデータ1!H209+CSVデータ2!H209+CSVデータ3!H209+CSVデータ4!H209","v":0},null,{"$f":"CSVデータ1!J209+CSVデータ2!J209+CSVデータ3!J209+CSVデータ4!J209","v":0},null,{"$f":"CSVデータ1!L209+CSVデータ2!L209+CSVデータ3!L209+CSVデータ4!L209","v":0},null,{"$f":"CSVデータ1!N209+CSVデータ2!N209+CSVデータ3!N209+CSVデータ4!N209","v":0},null,{"$f":"CSVデータ1!P209+CSVデータ2!P209+CSVデータ3!P209+CSVデータ4!P209","v":0},null,{"$f":"CSVデータ1!R209+CSVデータ2!R209+CSVデータ3!R209+CSVデータ4!R209","v":0},null,{"$f":"CSVデータ1!T209+CSVデータ2!T209+CSVデータ3!T209+CSVデータ4!T209","v":0},null,{"$f":"CSVデータ1!V209+CSVデータ2!V209+CSVデータ3!V209+CSVデータ4!V209","v":0},null,{"$f":"CSVデータ1!X209+CSVデータ2!X209+CSVデータ3!X209+CSVデータ4!X209","v":0},null,{"$f":"CSVデータ1!Z209+CSVデータ2!Z209+CSVデータ3!Z209+CSVデータ4!Z209","v":0},null,{"$f":"CSVデータ1!AB209+CSVデータ2!AB209+CSVデータ3!AB209+CSVデータ4!AB209","v":0},null,{"$f":"CSVデータ1!AD209+CSVデータ2!AD209+CSVデータ3!AD209+CSVデータ4!AD209","v":0},null,{"$f":"CSVデータ1!AF209+CSVデータ2!AF209+CSVデータ3!AF209+CSVデータ4!AF209","v":0}]
[{"$f":"CSVデータ1!A210","v":"明細部"},{"$f":"CSVデータ1!B210","v":"保険者（地区）"},{"$f":"CSVデータ1!C210","v":71},{"$f":"CSVデータ1!D210","v":"女"},{"$f":"CSVデータ1!E210+CSVデータ2!E210+CSVデータ3!E210+CSVデータ4!E210","v":0},{"$f":"CSVデータ1!F210+CSVデータ2!F210+CSVデータ3!F210+CSVデータ4!F210","v":0},null,{"$f":"CSVデータ1!H210+CSVデータ2!H210+CSVデータ3!H210+CSVデータ4!H210","v":0},null,{"$f":"CSVデータ1!J210+CSVデータ2!J210+CSVデータ3!J210+CSVデータ4!J210","v":0},null,{"$f":"CSVデータ1!L210+CSVデータ2!L210+CSVデータ3!L210+CSVデータ4!L210","v":0},null,{"$f":"CSVデータ1!N210+CSVデータ2!N210+CSVデータ3!N210+CSVデータ4!N210","v":0},null,{"$f":"CSVデータ1!P210+CSVデータ2!P210+CSVデータ3!P210+CSVデータ4!P210","v":0},null,{"$f":"CSVデータ1!R210+CSVデータ2!R210+CSVデータ3!R210+CSVデータ4!R210","v":0},null,{"$f":"CSVデータ1!T210+CSVデータ2!T210+CSVデータ3!T210+CSVデータ4!T210","v":0},null,{"$f":"CSVデータ1!V210+CSVデータ2!V210+CSVデータ3!V210+CSVデータ4!V210","v":0},null,{"$f":"CSVデータ1!X210+CSVデータ2!X210+CSVデータ3!X210+CSVデータ4!X210","v":0},null,{"$f":"CSVデータ1!Z210+CSVデータ2!Z210+CSVデータ3!Z210+CSVデータ4!Z210","v":0},null,{"$f":"CSVデータ1!AB210+CSVデータ2!AB210+CSVデータ3!AB210+CSVデータ4!AB210","v":0},null,{"$f":"CSVデータ1!AD210+CSVデータ2!AD210+CSVデータ3!AD210+CSVデータ4!AD210","v":0},null,{"$f":"CSVデータ1!AF210+CSVデータ2!AF210+CSVデータ3!AF210+CSVデータ4!AF210","v":0}]
[{"$f":"CSVデータ1!A211","v":"明細部"},{"$f":"CSVデータ1!B211","v":"保険者（地区）"},{"$f":"CSVデータ1!C211","v":72},{"$f":"CSVデータ1!D211","v":"女"},{"$f":"CSVデータ1!E211+CSVデータ2!E211+CSVデータ3!E211+CSVデータ4!E211","v":0},{"$f":"CSVデータ1!F211+CSVデータ2!F211+CSVデータ3!F211+CSVデータ4!F211","v":0},null,{"$f":"CSVデータ1!H211+CSVデータ2!H211+CSVデータ3!H211+CSVデータ4!H211","v":0},null,{"$f":"CSVデータ1!J211+CSVデータ2!J211+CSVデータ3!J211+CSVデータ4!J211","v":0},null,{"$f":"CSVデータ1!L211+CSVデータ2!L211+CSVデータ3!L211+CSVデータ4!L211","v":0},null,{"$f":"CSVデータ1!N211+CSVデータ2!N211+CSVデータ3!N211+CSVデータ4!N211","v":0},null,{"$f":"CSVデータ1!P211+CSVデータ2!P211+CSVデータ3!P211+CSVデータ4!P211","v":0},null,{"$f":"CSVデータ1!R211+CSVデータ2!R211+CSVデータ3!R211+CSVデータ4!R211","v":0},null,{"$f":"CSVデータ1!T211+CSVデータ2!T211+CSVデータ3!T211+CSVデータ4!T211","v":0},null,{"$f":"CSVデータ1!V211+CSVデータ2!V211+CSVデータ3!V211+CSVデータ4!V211","v":0},null,{"$f":"CSVデータ1!X211+CSVデータ2!X211+CSVデータ3!X211+CSVデータ4!X211","v":0},null,{"$f":"CSVデータ1!Z211+CSVデータ2!Z211+CSVデータ3!Z211+CSVデータ4!Z211","v":0},null,{"$f":"CSVデータ1!AB211+CSVデータ2!AB211+CSVデータ3!AB211+CSVデータ4!AB211","v":0},null,{"$f":"CSVデータ1!AD211+CSVデータ2!AD211+CSVデータ3!AD211+CSVデータ4!AD211","v":0},null,{"$f":"CSVデータ1!AF211+CSVデータ2!AF211+CSVデータ3!AF211+CSVデータ4!AF211","v":0}]
[{"$f":"CSVデータ1!A212","v":"明細部"},{"$f":"CSVデータ1!B212","v":"保険者（地区）"},{"$f":"CSVデータ1!C212","v":73},{"$f":"CSVデータ1!D212","v":"女"},{"$f":"CSVデータ1!E212+CSVデータ2!E212+CSVデータ3!E212+CSVデータ4!E212","v":0},{"$f":"CSVデータ1!F212+CSVデータ2!F212+CSVデータ3!F212+CSVデータ4!F212","v":0},null,{"$f":"CSVデータ1!H212+CSVデータ2!H212+CSVデータ3!H212+CSVデータ4!H212","v":0},null,{"$f":"CSVデータ1!J212+CSVデータ2!J212+CSVデータ3!J212+CSVデータ4!J212","v":0},null,{"$f":"CSVデータ1!L212+CSVデータ2!L212+CSVデータ3!L212+CSVデータ4!L212","v":0},null,{"$f":"CSVデータ1!N212+CSVデータ2!N212+CSVデータ3!N212+CSVデータ4!N212","v":0},null,{"$f":"CSVデータ1!P212+CSVデータ2!P212+CSVデータ3!P212+CSVデータ4!P212","v":0},null,{"$f":"CSVデータ1!R212+CSVデータ2!R212+CSVデータ3!R212+CSVデータ4!R212","v":0},null,{"$f":"CSVデータ1!T212+CSVデータ2!T212+CSVデータ3!T212+CSVデータ4!T212","v":0},null,{"$f":"CSVデータ1!V212+CSVデータ2!V212+CSVデータ3!V212+CSVデータ4!V212","v":0},null,{"$f":"CSVデータ1!X212+CSVデータ2!X212+CSVデータ3!X212+CSVデータ4!X212","v":0},null,{"$f":"CSVデータ1!Z212+CSVデータ2!Z212+CSVデータ3!Z212+CSVデータ4!Z212","v":0},null,{"$f":"CSVデータ1!AB212+CSVデータ2!AB212+CSVデータ3!AB212+CSVデータ4!AB212","v":0},null,{"$f":"CSVデータ1!AD212+CSVデータ2!AD212+CSVデータ3!AD212+CSVデータ4!AD212","v":0},null,{"$f":"CSVデータ1!AF212+CSVデータ2!AF212+CSVデータ3!AF212+CSVデータ4!AF212","v":0}]
[{"$f":"CSVデータ1!A213","v":"明細部"},{"$f":"CSVデータ1!B213","v":"保険者（地区）"},{"$f":"CSVデータ1!C213","v":74},{"$f":"CSVデータ1!D213","v":"女"},{"$f":"CSVデータ1!E213+CSVデータ2!E213+CSVデータ3!E213+CSVデータ4!E213","v":0},{"$f":"CSVデータ1!F213+CSVデータ2!F213+CSVデータ3!F213+CSVデータ4!F213","v":0},null,{"$f":"CSVデータ1!H213+CSVデータ2!H213+CSVデータ3!H213+CSVデータ4!H213","v":0},null,{"$f":"CSVデータ1!J213+CSVデータ2!J213+CSVデータ3!J213+CSVデータ4!J213","v":0},null,{"$f":"CSVデータ1!L213+CSVデータ2!L213+CSVデータ3!L213+CSVデータ4!L213","v":0},null,{"$f":"CSVデータ1!N213+CSVデータ2!N213+CSVデータ3!N213+CSVデータ4!N213","v":0},null,{"$f":"CSVデータ1!P213+CSVデータ2!P213+CSVデータ3!P213+CSVデータ4!P213","v":0},null,{"$f":"CSVデータ1!R213+CSVデータ2!R213+CSVデータ3!R213+CSVデータ4!R213","v":0},null,{"$f":"CSVデータ1!T213+CSVデータ2!T213+CSVデータ3!T213+CSVデータ4!T213","v":0},null,{"$f":"CSVデータ1!V213+CSVデータ2!V213+CSVデータ3!V213+CSVデータ4!V213","v":0},null,{"$f":"CSVデータ1!X213+CSVデータ2!X213+CSVデータ3!X213+CSVデータ4!X213","v":0},null,{"$f":"CSVデータ1!Z213+CSVデータ2!Z213+CSVデータ3!Z213+CSVデータ4!Z213","v":0},null,{"$f":"CSVデータ1!AB213+CSVデータ2!AB213+CSVデータ3!AB213+CSVデータ4!AB213","v":0},null,{"$f":"CSVデータ1!AD213+CSVデータ2!AD213+CSVデータ3!AD213+CSVデータ4!AD213","v":0},null,{"$f":"CSVデータ1!AF213+CSVデータ2!AF213+CSVデータ3!AF213+CSVデータ4!AF213","v":0}]

{"sheet":"出力票","index":6,"n_rows":123,"n_cols":28,"rows_kept":123,"cut":false,"hidden":false,"merged":[[5,24,5,27],[45,24,45,27],[85,24,85,27],[6,22,6,23],[7,22,7,23],[8,22,8,23],[6,24,6,27],[46,22,46,23],[46,24,46,27],[122,0,122,27],[42,0,42,27],[108,0,110,0],[111,0,113,0],[114,0,116,0],[99,0,101,0],[105,0,107,1],[93,0,95,0],[96,0,98,0],[90,0,92,1],[90,2,92,2],[87,0,87,1],[87,24,87,25],[87,26,87,27],[88,0,88,1],[88,24,88,25],[86,0,86,1],[105,2,107,2],[68,0,70,0],[71,0,73,0],[74,0,76,0],[106,3,106,7],[106,8,106,12],[82,0,82,27],[91,18,91,22],[106,13,106,17],[106,18,106,22],[90,8,90,22],[105,8,105,22],[53,0,55,0],[56,0,58,0],[59,0,61,0],[65,0,67,1],[65,2,67,2],[65,3,65,27],[105,3,105,7],[91,3,91,7],[91,8,91,12],[91,13,91,17],[90,3,90,7],[66,3,66,7],[66,8,66,12],[66,13,66,17],[66,18,66,22],[66,23,66,27],[86,22,86,23],[86,24,86,27],[87,22,87,23],[88,22,88,23],[48,0,48,1],[48,24,48,25],[48,26,48,27],[50,0,52,1],[50,2,52,2],[50,3,50,27],[51,3,51,7],[51,8,51,12],[51,13,51,17],[51,18,51,22],[51,23,51,27],[48,22,48,23],[88,26,88,27],[46,0,46,1],[47,0,47,1],[47,24,47,25],[47,26,47,27],[47,22,47,23],[7,26,7,27],[8,26,8,27],[7,24,7,25],[8,24,8,25],[28,0,30,0],[31,0,33,0],[34,0,36,0],[6,0,6,1],[7,0,7,1],[8,0,8,1],[25,0,27,1],[13,0,15,0],[16,0,18,0],[19,0,21,0],[25,2,27,2],[25,3,25,27],[26,3,26,7],[26,8,26,12],[26,13,26,17],[26,18,26,22],[26,23,26,27],[10,3,10,27],[11,23,11,27],[11,3,11,7],[11,8,11,12],[10,0,12,1],[10,2,12,2],[11,13,11,17],[11,18,11,22]]}
[null,null,"集計対象年齢（最大範囲40～74歳）"]
[null,null,"群１下限（A歳）",null,40,"必ず「計算開始」をクリックしてから結果をご覧ください。"]
[null,null,"群１上限（B歳）",null,64,"　A歳～B歳、B+1歳～C歳の２群に分けて（およびA～C歳全体について）集計します。"]
[null,null,"群２上限（C歳）",null,74]
[null,null,null,null,null,null,null,null,null,null,null,null,null,"厚生労働省様式（様式５－２）【補足】"]
[null,null,null,null,null,null,null,null,null,null,null,null,null,"健診有所見者状況（男女別・年齢調整）",null,null,null,null,null,null,null,null,null,null,{"$f":"IF(CSVデータ2!E$2<>\"\",\"※人数は複数年度の延べ数\",\"\")","v":""}]
["保険者番号：",null,{"$f":"CSVデータ!B2","v":999999},null,null,null,null,null,null,null,null,null,null,null,null,null,null,null,null,null,null,null,"作成年月 ：",null,{"$f":"CSVデータ!E$2","v":""}]
["保険者名 ：",null,{"$f":"CSVデータ!C2","v":"○○市"},null,null,null,null,null,null,null,null,null,null,null,null,null,null,null,null,null,null,null,"印刷日 ：",null,{"$f":"TODAY()","v":"2020-01-20"}]
["地区 ：",null,{"$f":"IF(CSVデータ!D2=\"\",\"\",CSVデータ!D2)","v":0},null,null,null,null,null,null,null,null,null,null,null,null,null,null,null,null,null,null,null,"ページ ：",null,"1/3"]
[]
["男性",null,{"$f":"\"受診者\"&IF(CSVデータ2!E$2<>\"\",CHAR(10)&\"延べ人数\",\"\")","v":"受診者"},"摂取エネルギーの過剰"]
[null,null,null,"BMI",null,null,null,null,"腹囲",null,null,null,null,"中性脂肪",null,null,null,null,"ALT(GPT)",null,null,null,null,"HDLコレステロール"]
[null,null,null,"25以上","割合(%)","年齢\n調整(%)","標準化\n比(全国)","標準化\n比(県)","85以上","割合(%)","年齢\n調整(%)","標準化\n比(全国)","標準化\n比(県)","150以上","割合(%)","年齢\n調整(%)","標準化\n比(全国)","標準化\n比(県)","31以上","割合(%)","年齢\n調整(%)","標準化\n比(全国)","標準化\n比(県)","40未満","割合(%)","年齢\n調整(%)","標準化\n比(全国)","標準化\n比(県)"]
[{"$f":"E2&\"～\"&E3&\"歳\"","v":"40～64歳"},"全国",0,0,0,0,"100(基準)","-",0,0,0,"100(基準)","-",0,0,0,"100(基準)","-",0,0,0,"100(基準)","-",0,0,0,"100(基準)","-"]
[null,"県",0,0,0,0,0,"100(基準)",0,0,0,0,"100(基準)",0,0,0,0,"100(基準)",0,0,0,0,"100(基準)",0,0,0,0,"100(基準)"]
[null,"地域（地区）",0,0,0,0,0,0,0,0,0,0,0,0,0,0,0,0,0,0,0,0,0,0,0,0,0,0]
[{"$f":"E3+1&\"～\"&E4&\"歳\"","v":"65～74歳"},"全国",0,0,0,0,"100(基準)","-",0,0,0,"100(基準)","-",0,0,0,"100(基準)","-",0,0,0,"100(基準)","-",0,0,0,"100(基準)","-"]
[null,"県",0,0,0,0,0,"100(基準)",0,0,0,0,"100(基準)",0,0,0,0,"100(基準)",0,0,0,0,"100(基準)",0,0,0,0,"100(基準)"]
[null,"地域（地区）",0,0,0,0,0,0,0,0,0,0,0,0,0,0,0,0,0,0,0,0,0,0,0,0,0,0]
["総\n数","全国",0,0,0,0,"100(基準)","-",0,0,0,"100(基準)","-",0,0,0,"100(基準)","-",0,0,0,"100(基準)","-",0,0,0,"100(基準)","-"]
[null,"県",0,0,0,0,0,"100(基準)",0,0,0,0,"100(基準)",0,0,0,0,"100(基準)",0,0,0,0,"100(基準)",0,0,0,0,"100(基準)"]
[null,"地域（地区）",0,0,0,0,0,0,0,0,0,0,0,0,0,0,0,0,0,0,0,0,0,0,0,0,0,0]
[null,null,null,null,null,1]
[]
[]
["女性",null,{"$f":"\"受診者\"&IF(CSVデータ2!E$2<>\"\",CHAR(10)&\"延べ人数\",\"\")","v":"受診者"},"摂取エネルギーの過剰"]
[null,null,null,"BMI",null,null,null,null,"腹囲",null,null,null,null,"中性脂肪",null,null,null,null,"ALT(GPT)",null,null,null,null,"HDLコレステロール"]
[null,null,null,"25以上","割合(%)","年齢\n調整(%)","標準化\n比(全国)","標準化\n比(県)","90以上","割合(%)","年齢\n調整(%)","標準化\n比(全国)","標準化\n比(県)","150以上","割合(%)","年齢\n調整(%)","標準化\n比(全国)","標準化\n比(県)","31以上","割合(%)","年齢\n調整(%)","標準化\n比(全国)","標準化\n比(県)","40未満","割合(%)","年齢\n調整(%)","標準化\n比(全国)","標準化\n比(県)"]
[{"$f":"+A14","v":"40～64歳"},"全国",0,0,0,0,"100(基準)","-",0,0,0,"100(基準)","-",0,0,0,"100(基準)","-",0,0,0,"100(基準)","-",0,0,0,"100(基準)","-"]
[null,"県",0,0,0,0,0,"100(基準)",0,0,0,0,"100(基準)",0,0,0,0,"100(基準)",0,0,0,0,"100(基準)",0,0,0,0,"100(基準)"]
[null,"地域（地区）",0,0,0,0,0,0,0,0,0,0,0,0,0,0,0,0,0,0,0,0,0,0,0,0,0,0]
[{"$f":"+A17","v":"65～74歳"},"全国",0,0,0,0,"100(基準)","-",0,0,0,"100(基準)","-",0,0,0,"100(基準)","-",0,0,0,"100(基準)","-",0,0,0,"100(基準)","-"]
[null,"県",0,0,0,0,0,"100(基準)",0,0,0,0,"100(基準)",0,0,0,0,"100(基準)",0,0,0,0,"100(基準)",0,0,0,0,"100(基準)"]
[null,"地域（地区）",0,0,0,0,0,0,0,0,0,0,0,0,0,0,0,0,0,0,0,0,0,0,0,0,0,0]
["総\n数","全国",0,0,0,0,"100(基準)","-",0,0,0,"100(基準)","-",0,0,0,"100(基準)","-",0,0,0,"100(基準)","-",0,0,0,"100(基準)","-"]
[null,"県",0,0,0,0,0,"100(基準)",0,0,0,0,"100(基準)",0,0,0,0,"100(基準)",0,0,0,0,"100(基準)",0,0,0,0,"100(基準)"]
[null,"地域（地区）",0,0,0,0,0,0,0,0,0,0,0,0,0,0,0,0,0,0,0,0,0,0,0,0,0,0]
[]
["国保データベース（KDB）のCSVファイル（厚生労働省様式（様式５－２） 健診有所見者状況（男女別・年代別））より計算。"]
["年齢調整(%)は全国受診者数（男女別）を基準人口とした直接法による。従って、厳密な男女比較はできない。受診者が少ない地域では、年齢調整(%)がエラーまたは異常な値となることがあるため、標準化比で評価することが望ましい。"]
["標準化比は全国または県を基準とした間接法による。標準化比に*が付記されたものは、基準に比べて有意な差(p<0.05)があること意味する。複数年度をプールした場合には過度に有意になりやすくなる。"]
[]
["Ver. 1.6 (2019.12.2) 平成30年度厚生労働行政推進調査事業費補助金（政策科学推進研究事業）「都道府県医療費適正化計画推進のための健診・医療等の情報活用を担う地域の保健医療人材の育成に関する研究」（研究代表：横山徹爾）"]
[]
[null,null,null,null,null,null,null,null,null,null,null,null,null,{"$f":"N5","v":"厚生労働省様式（様式５－２）【補足】"}]
[null,null,null,null,null,null,null,null,null,null,null,null,null,"健診有所見者状況（男女別・年齢調整）",null,null,null,null,null,null,null,null,null,null,{"$f":"IF(CSVデータ2!E$2<>\"\",\"※人数は複数年度の延べ数\",\"\")","v":""}]
["保険者番号：",null,{"$f":"CSVデータ!B2","v":999999},null,null,null,null,null,null,null,null,null,null,null,null,null,null,null,null,null,null,null,"作成年月 ：",null,{"$f":"CSVデータ!E$2","v":""}]
["保険者名 ：",null,{"$f":"CSVデータ!C2","v":"○○市"},null,null,null,null,null,null,null,null,null,null,null,null,null,null,null,null,null,null,null,"印刷日 ：",null,{"$f":"TODAY()","v":"2020-01-20"}]
["地区 ：",null,{"$f":"IF(CSVデータ!D2=\"\",\"\",CSVデータ!D2)","v":0},null,null,null,null,null,null,null,null,null,null,null,null,null,null,null,null,null,null,null,"ページ ：",null,"2/3"]
[]
["男性",null,{"$f":"\"受診者\"&IF(CSVデータ2!E$2<>\"\",CHAR(10)&\"延べ人数\",\"\")","v":"受診者"},"血管を傷つける"]
[null,null,null,"血糖",null,null,null,null,"HbA1c",null,null,null,null,"尿酸",null,null,null,null,"収縮期血圧",null,null,null,null,"拡張期血圧"]
[null,null,null,"100以上","割合(%)","年齢\n調整(%)","標準化\n比(全国)","標準化\n比(県)","5.6以上","割合(%)","年齢\n調整(%)","標準化\n比(全国)","標準化\n比(県)","7.0以上","割合(%)","年齢\n調整(%)","標準化\n比(全国)","標準化\n比(県)","130以上","割合(%)","年齢\n調整(%)","標準化\n比(全国)","標準化\n比(県)","85以上","割合(%)","年齢\n調整(%)","標準化\n比(全国)","標準化\n比(県)"]
[{"$f":"+A14","v":"40～64歳"},"全国",0,0,0,0,"100(基準)","-",0,0,0,"100(基準)","-",0,0,0,"100(基準)","-",0,0,0,"100(基準)","-",0,0,0,"100(基準)","-"]
[null,"県",0,0,0,0,0,"100(基準)",0,0,0,0,"100(基準)",0,0,0,0,"100(基準)",0,0,0,0,"100(基準)",0,0,0,0,"100(基準)"]
[null,"地域（地区）",0,0,0,0,0,0,0,0,0,0,0,0,0,0,0,0,0,0,0,0,0,0,0,0,0,0]
[{"$f":"+A17","v":"65～74歳"},"全国",0,0,0,0,"100(基準)","-",0,0,0,"100(基準)","-",0,0,0,"100(基準)","-",0,0,0,"100(基準)","-",0,0,0,"100(基準)","-"]
[null,"県",0,0,0,0,0,"100(基準)",0,0,0,0,"100(基準)",0,0,0,0,"100(基準)",0,0,0,0,"100(基準)",0,0,0,0,"100(基準)"]
[null,"地域（地区）",0,0,0,0,0,0,0,0,0,0,0,0,0,0,0,0,0,0,0,0,0,0,0,0,0,0]
["総\n数","全国",0,0,0,0,"100(基準)","-",0,0,0,"100(基準)","-",0,0,0,"100(基準)","-",0,0,0,"100(基準)","-",0,0,0,"100(基準)","-"]
[null,"県",0,0,0,0,0,"100(基準)",0,0,0,0,"100(基準)",0,0,0,0,"100(基準)",0,0,0,0,"100(基準)",0,0,0,0,"100(基準)"]
[null,"地域（地区）",0,0,0,0,0,0,0,0,0,0,0,0,0,0,0,0,0,0,0,0,0,0,0,0,0,0]
[null,null,null,null,null,1]
[]
[]
["女性",null,{"$f":"\"受診者\"&IF(CSVデータ2!E$2<>\"\",CHAR(10)&\"延べ人数\",\"\")","v":"受診者"},"血管を傷つける"]
[null,null,null,"血糖",null,null,null,null,"HbA1c",null,null,null,null,"尿酸",null,null,null,null,"収縮期血圧",null,null,null,null,"拡張期血圧"]
[null,null,null,"100以上","割合(%)","年齢\n調整(%)","標準化\n比(全国)","標準化\n比(県)","5.6以上","割合(%)","年齢\n調整(%)","標準化\n比(全国)","標準化\n比(県)","7.0以上","割合(%)","年齢\n調整(%)","標準化\n比(全国)","標準化\n比(県)","130以上","割合(%)","年齢\n調整(%)","標準化\n比(全国)","標準化\n比(県)","85以上","割合(%)","年齢\n調整(%)","標準化\n比(全国)","標準化\n比(県)"]
[{"$f":"+A14","v":"40～64歳"},"全国",0,0,0,0,"100(基準)","-",0,0,0,"100(基準)","-",0,0,0,"100(基準)","-",0,0,0,"100(基準)","-",0,0,0,"100(基準)","-"]
[null,"県",0,0,0,0,0,"100(基準)",0,0,0,0,"100(基準)",0,0,0,0,"100(基準)",0,0,0,0,"100(基準)",0,0,0,0,"100(基準)"]
[null,"地域（地区）",0,0,0,0,0,0,0,0,0,0,0,0,0,0,0,0,0,0,0,0,0,0,0,0,0,0]
[{"$f":"+A17","v":"65～74歳"},"全国",0,0,0,0,"100(基準)","-",0,0,0,"100(基準)","-",0,0,0,"100(基準)","-",0,0,0,"100(基準)","-",0,0,0,"100(基準)","-"]
[null,"県",0,0,0,0,0,"100(基準)",0,0,0,0,"100(基準)",0,0,0,0,"100(基準)",0,0,0,0,"100(基準)",0,0,0,0,"100(基準)"]
[null,"地域（地区）",0,0,0,0,0,0,0,0,0,0,0,0,0,0,0,0,0,0,0,0,0,0,0,0,0,0]
["総\n数","全国",0,0,0,0,"100(基準)","-",0,0,0,"100(基準)","-",0,0,0,"100(基準)","-",0,0,0,"100(基準)","-",0,0,0,"100(基準)","-"]
[null,"県",0,0,0,0,0,"100(基準)",0,0,0,0,"100(基準)",0,0,0,0,"100(基準)",0,0,0,0,"100(基準)",0,0,0,0,"100(基準)"]
[null,"地域（地区）",0,0,0,0,0,0,0,0,0,0,0,0,0,0,0,0,0,0,0,0,0,0,0,0,0,0]
[]
["国保データベース（KDB）のCSVファイル（厚生労働省様式（様式５－２） 健診有所見者状況（男女別・年代別））より計算。"]
["年齢調整(%)は全国受診者数（男女別）を基準人口とした直接法による。従って、厳密な男女比較はできない。受診者が少ない地域では、年齢調整(%)がエラーまたは異常な値となることがあるため、標準化比で評価することが望ましい。"]
["標準化比は全国または県を基準とした間接法による。標準化比に*が付記されたものは、基準に比べて有意な差(p<0.05)があること意味する。複数年度をプールした場合には過度に有意になりやすくなる。"]
[]
[{"$f":"+A43","v":"Ver. 1.6 (2019.12.2) 平成30年度厚生労働行政推進調査事業費補助金（政策科学推進研究事業）「都道府県医療費適正化計画推進のための健診・医療等の情報活用を担う地域の保健医療人材の育成に関する研究」（研究代表：横山徹爾）"}]
[]
[null,null,null,null,null,null,null,null,null,null,null,null,null,{"$f":"N45","v":"厚生労働省様式（様式５－２）【補足】"}]
[null,null,null,null,null,null,null,null,null,null,null,null,null,"健診有所見者状況（男女別・年齢調整）",null,null,null,null,null,null,null,null,null,null,{"$f":"IF(CSVデータ2!E$2<>\"\",\"※人数は複数年度の延べ数\",\"\")","v":""}]
["保険者番号：",null,{"$f":"CSVデータ!B2","v":999999},null,null,null,null,null,null,null,null,null,null,null,null,null,null,null,null,null,null,null,"作成年月 ：",null,{"$f":"CSVデータ!E$2","v":""}]
["保険者名 ：",null,{"$f":"CSVデータ!C2","v":"○○市"},null,null,null,null,null,null,null,null,null,null,null,null,null,null,null,null,null,null,null,"印刷日 ：",null,{"$f":"TODAY()","v":"2020-01-20"}]
["地区 ：",null,{"$f":"IF(CSVデータ!D2=\"\",\"\",CSVデータ!D2)","v":0},null,null,null,null,null,null,null,null,null,null,null,null,null,null,null,null,null,null,null,"ページ ：",null,"3/3"]
[]
["男性",null,{"$f":"\"受診者\"&IF(CSVデータ2!E$2<>\"\",CHAR(10)&\"延べ人数\",\"\")","v":"受診者"},"内臓脂肪症候群以外の動脈硬化要因",null,null,null,null,"臓器障害（※は詳細検査）"]
[null,null,null,"LDLコレステロール",null,null,null,null,"クレアチニン",null,null,null,null,"心電図※",null,null,null,null,"眼底検査※"]
[null,null,null,"120以上","割合(%)","年齢\n調整(%)","標準化\n比(全国)","標準化\n比(県)","1.3以上","割合(%)","年齢\n調整(%)","標準化\n比(全国)","標準化\n比(県)","検査あり","割合(%)","年齢\n調整(%)","標準化\n比(全国)","標準化\n比(県)","検査あり","割合(%)","年齢\n調整(%)","標準化\n比(全国)","標準化\n比(県)"]
[{"$f":"+A14","v":"40～64歳"},"全国",0,0,0,0,"100(基準)","-",0,0,0,"100(基準)","-",0,0,0,"100(基準)","-",0,0,0,"100(基準)","-"]
[null,"県",0,0,0,0,0,"100(基準)",0,0,0,0,"100(基準)",0,0,0,0,"100(基準)",0,0,0,0,"100(基準)"]
[null,"地域（地区）",0,0,0,0,0,0,0,0,0,0,0,0,0,0,0,0,0,0,0,0,0]
[{"$f":"+A17","v":"65～74歳"},"全国",0,0,0,0,"100(基準)","-",0,0,0,"100(基準)","-",0,0,0,"100(基準)","-",0,0,0,"100(基準)","-"]
[null,"県",0,0,0,0,0,"100(基準)",0,0,0,0,"100(基準)",0,0,0,0,"100(基準)",0,0,0,0,"100(基準)"]
[null,"地域（地区）",0,0,0,0,0,0,0,0,0,0,0,0,0,0,0,0,0,0,0,0,0]
["総\n数","全国",0,0,0,0,"100(基準)","-",0,0,0,"100(基準)","-",0,0,0,"100(基準)","-",0,0,0,"100(基準)","-"]
[null,"県",0,0,0,0,0,"100(基準)",0,0,0,0,"100(基準)",0,0,0,0,"100(基準)",0,0,0,0,"100(基準)"]
[null,"地域（地区）",0,0,0,0,0,0,0,0,0,0,0,0,0,0,0,0,0,0,0,0,0]
[null,null,null,null,null,1]
[]
[]
["女性",null,{"$f":"\"受診者\"&IF(CSVデータ2!E$2<>\"\",CHAR(10)&\"延べ人数\",\"\")","v":"受診者"},"内臓脂肪症候群以外の動脈硬化要因",null,null,null,null,"臓器障害（※は詳細検査）"]
[null,null,null,"LDLコレステロール",null,null,null,null,"クレアチニン",null,null,null,null,"心電図※",null,null,null,null,"眼底検査※"]
[null,null,null,"120以上","割合(%)","年齢\n調整(%)","標準化\n比(全国)","標準化\n比(県)","1.3以上","割合(%)","年齢\n調整(%)","標準化\n比(全国)","標準化\n比(県)","検査あり","割合(%)","年齢\n調整(%)","標準化\n比(全国)","標準化\n比(県)","検査あり","割合(%)","年齢\n調整(%)","標準化\n比(全国)","標準化\n比(県)"]
[{"$f":"+A14","v":"40～64歳"},"全国",0,0,0,0,"100(基準)","-",0,0,0,"100(基準)","-",0,0,0,"100(基準)","-",0,0,0,"100(基準)","-"]
[null,"県",0,0,0,0,0,"100(基準)",0,0,0,0,"100(基準)",0,0,0,0,"100(基準)",0,0,0,0,"100(基準)"]
[null,"地域（地区）",0,0,0,0,0,0,0,0,0,0,0,0,0,0,0,0,0,0,0,0,0]
[{"$f":"+A17","v":"65～74歳"},"全国",0,0,0,0,"100(基準)","-",0,0,0,"100(基準)","-",0,0,0,"100(基準)","-",0,0,0,"100(基準)","-"]
[null,"県",0,0,0,0,0,"100(基準)",0,0,0,0,"100(基準)",0,0,0,0,"100(基準)",0,0,0,0,"100(基準)"]
[null,"地域（地区）",0,0,0,0,0,0,0,0,0,0,0,0,0,0,0,0,0,0,0,0,0]
["総\n数","全国",0,0,0,0,"100(基準)","-",0,0,0,"100(基準)","-",0,0,0,"100(基準)","-",0,0,0,"100(基準)","-"]
[null,"県",0,0,0,0,0,"100(基準)",0,0,0,0,"100(基準)",0,0,0,0,"100(基準)",0,0,0,0,"100(基準)"]
[null,"地域（地区）",0,0,0,0,0,0,0,0,0,0,0,0,0,0,0,0,0,0,0,0,0]
[]
["国保データベース（KDB）のCSVファイル（厚生労働省様式（様式５－２） 健診有所見者状況（男女別・年代別））より計算。"]
["年齢調整(%)は全国受診者数（男女別）を基準人口とした直接法による。従って、厳密な男女比較はできない。受診者が少ない地域では、年齢調整(%)がエラーまたは異常な値となることがあるため、標準化比で評価することが望ましい。"]
["標準化比は全国または県を基準とした間接法による。標準化比に*が付記されたものは、基準に比べて有意な差(p<0.05)があること意味する。複数年度をプールした場合には過度に有意になりやすくなる。"]
[]
[{"$f":"+A43","v":"Ver. 1.6 (2019.12.2) 平成30年度厚生労働行政推進調査事業費補助金（政策科学推進研究事業）「都道府県医療費適正化計画推進のための健診・医療等の情報活用を担う地域の保健医療人材の育成に関する研究」（研究代表：横山徹爾）"}]

{"sheet":"temp","index":7,"n_rows":0,"n_cols":0,"rows_kept":0,"cut":false,"hidden":true,"merged":[]}