{"text_format":"1","workbook":"xlsx","n_sheets":10,"sheets":["使い方","ここから開始","CSVデータ1","CSVデータ2","CSVデータ3","CSVデータ4","CSVデータ","出力票","項目定義","temp"],"not_rendered":{"charts":0,"images":0,"macros":1,"external_links":0,"defined_names":2,"comments":0,"pivot_tables":0},"unopened":[],"bounds":{"document_bytes":16777216,"sheet_cells":100000,"rows_first":2000,"rows_last":500,"rows_between":2000,"halvings":0,"cell_chars":16384,"cell_head_chars":4096},"cells_cut":0,"cells_raw":0,"read":"whole","date_system":"1900"}

{"sheet":"使い方","index":0,"n_rows":21,"n_cols":1,"rows_kept":21,"cut":false,"hidden":false,"merged":[]}
["年齢調整・厚生労働省様式（様式５－２）ツールの使い方(Version 2.11)"]
["第３期・第４期特定健診の項目に対応しています。"]
["（１）ＫＤＢの厚生労働省様式（様式５－２）の画面から、ＣＳＶファイルを出力・保存する。"]
["（２）「ここから開始」シートから（１）で保存したＣＳＶファイルを選択する。"]
["　　　単年度だけで分析する場合には「CSVデータ1」だけを選択して他はブランクにしておきます。"]
["　　　人数が少ない等の理由で複数年度を合算して計算したい場合は、「CSVデータ2」～「CSVデータ4」も追加指定できます。"]
["（３）「計算開始」をクリックすると、計算結果が表示される。"]
["見本データは全て仮想値です。"]
[]
["このエクセルファイルは、マクロを使っています。\nセキュリティの警告でマクロが無効にされた場合は、コンテンツの有効化を行って下さい。"]
[]
[]
["履歴"]
["Ver.2.11　2026/2/5　女性の中性脂肪のデータバー（簡易グラフ）が「年齢調整(%)」ではなくて「調整(%)」に付いていました。値は問題ありません。"]
["Ver.2.1　2025/12/24　第３期・第４期特定健診に対応しました。CSVファイルを選択して実行できるようにしました。"]
["Ver.2.0　2025/7/2　第４期特定健診の項目に対応しました。第３期はVer.1.7をお使いください。"]
["Ver.1.7  2025/7/2　最新のKDBのCSVファイルを使用するとエラーが起きることがある点を修正しました。第４期はVer.2.0をお使いください。"]
["Ver.1.6  2019/12/2　複数年度を合算（プール）して計算できるようにしました。"]
["Ver.1.5  2019/6/19　様式番号（旧様式6-2～7）を変更。集計対象年齢を指定できるようにしました。"]
["Ver.1.3  2016/9/20　ALT(GOT)→ALT(GPT)に修正しました。"]
["Ver.1.2  2014/11/20　公開"]

{"sheet":"ここから開始","index":1,"n_rows":16,"n_cols":3,"rows_kept":16,"cut":false,"hidden":false,"merged":[[1,1,1,2],[12,0,12,1]]}
["年齢調整・厚生労働省様式（様式５－２）ツール（Version 2.11）"]
["使い方","「参照」をクリックして白いセルに厚生労働省様式（様式５－２）のＣＳＶファイルを指定（最大４つ）\n　⇒　「計算開始」をクリック　⇒　ＣＳＶデータ1～4に値が読み込まれる　⇒　「出力票」シートに結果が表示される"]
[]
["CSVデータ１(必須)"]
[]
["CSVデータ２(任意)"]
[]
["CSVデータ３(任意)"]
[]
["CSVデータ４(任意)"]
[]
[]
["集計対象年齢\n（最大範囲40～74歳）",null,"　A歳～B歳、B+1歳～C歳の２群に分けて（およびA～C歳全体について）集計します。\n　通常はA=40, B=64, C=74とします。"]
["群１下限（A歳）",40]
["群１上限（B歳）",64]
["群２上限（C歳）",74]

{"sheet":"CSVデータ1","index":2,"n_rows":213,"n_cols":39,"rows_kept":213,"cut":false,"hidden":false,"merged":[]}
["レコード種別","保険者番号","保険者名","地区名","作成年月","県計・国計"]
["共通部",999999,"Ｘ市",null,"R01年度","国保組合含む"]
["レコード種別","集計単位","年齢","性別","受診者","ＢＭＩ人数","ＢＭＩ割合","腹囲人数","腹囲割合","中性脂肪人数","中性脂肪割合","ＡＬＴ（ＧＰＴ）人数","ＡＬＴ（ＧＰＴ）割合","ＨＤＬコレステロール人数","ＨＤＬコレステロール割合","空腹時血糖人数","空腹時血糖割合","ＨｂＡ１ｃ人数","ＨｂＡ１ｃ割合","尿酸人数","尿酸割合","収縮期血圧人数","収縮期血圧割合","拡張期血圧人数","拡張期血圧割合","ＬＤＬコレステロール人数","ＬＤＬコレステロール割合","血清クレアチニン人数","血清クレアチニン割合","心電図人数","心電図割合","眼底検査人数","眼底検査割合","随時血糖人数","随時血糖割合","ｎｏｎ－ＨＤＬコレステロール人数","ｎｏｎ－ＨＤＬコレステロール割合","ｅＧＦＲ人数","ｅＧＦＲ割合"]
["明細部","国",40,"男"]
["明細部","国",41,"男"]
["明細部","国",42,"男"]
["明細部","国",43,"男"]
["明細部","国",44,"男"]
["明細部","国",45,"男"]
["明細部","国",46,"男"]
["明細部","国",47,"男"]
["明細部","国",48,"男"]
["明細部","国",49,"男"]
["明細部","国",50,"男"]
["明細部","国",51,"男"]
["明細部","国",52,"男"]
["明細部","国",53,"男"]
["明細部","国",54,"男"]
["明細部","国",55,"男"]
["明細部","国",56,"男"]
["明細部","国",57,"男"]
["明細部","国",58,"男"]
["明細部","国",59,"男"]
["明細部","国",60,"男"]
["明細部","国",61,"男"]
["明細部","国",62,"男"]
["明細部","国",63,"男"]
["明細部","国",64,"男"]
["明細部","国",65,"男"]
["明細部","国",66,"男"]
["明細部","国",67,"男"]
["明細部","国",68,"男"]
["明細部","国",69,"男"]
["明細部","国",70,"男"]
["明細部","国",71,"男"]
["明細部","国",72,"男"]
["明細部","国",73,"男"]
["明細部","国",74,"男"]
["明細部","国",40,"女"]
["明細部","国",41,"女"]
["明細部","国",42,"女"]
["明細部","国",43,"女"]
["明細部","国",44,"女"]
["明細部","国",45,"女"]
["明細部","国",46,"女"]
["明細部","国",47,"女"]
["明細部","国",48,"女"]
["明細部","国",49,"女"]
["明細部","国",50,"女"]
["明細部","国",51,"女"]
["明細部","国",52,"女"]
["明細部","国",53,"女"]
["明細部","国",54,"女"]
["明細部","国",55,"女"]
["明細部","国",56,"女"]
["明細部","国",57,"女"]
["明細部","国",58,"女"]
["明細部","国",59,"女"]
["明細部","国",60,"女"]
["明細部","国",61,"女"]
["明細部","国",62,"女"]
["明細部","国",63,"女"]
["明細部","国",64,"女"]
["明細部","国",65,"女"]
["明細部","国",66,"女"]
["明細部","国",67,"女"]
["明細部","国",68,"女"]
["明細部","国",69,"女"]
["明細部","国",70,"女"]
["明細部","国",71,"女"]
["明細部","国",72,"女"]
["明細部","国",73,"女"]
["明細部","国",74,"女"]
["明細部","県",40,"男"]
["明細部","県",41,"男"]
["明細部","県",42,"男"]
["明細部","県",43,"男"]
["明細部","県",44,"男"]
["明細部","県",45,"男"]
["明細部","県",46,"男"]
["明細部","県",47,"男"]
["明細部","県",48,"男"]
["明細部","県",49,"男"]
["明細部","県",50,"男"]
["明細部","県",51,"男"]
["明細部","県",52,"男"]
["明細部","県",53,"男"]
["明細部","県",54,"男"]
["明細部","県",55,"男"]
["明細部","県",56,"男"]
["明細部","県",57,"男"]
["明細部","県",58,"男"]
["明細部","県",59,"男"]
["明細部","県",60,"男"]
["明細部","県",61,"男"]
["明細部","県",62,"男"]
["明細部","県",63,"男"]
["明細部","県",64,"男"]
["明細部","県",65,"男"]
["明細部","県",66,"男"]
["明細部","県",67,"男"]
["明細部","県",68,"男"]
["明細部","県",69,"男"]
["明細部","県",70,"男"]
["明細部","県",71,"男"]
["明細部","県",72,"男"]
["明細部","県",73,"男"]
["明細部","県",74,"男"]
["明細部","県",40,"女"]
["明細部","県",41,"女"]
["明細部","県",42,"女"]
["明細部","県",43,"女"]
["明細部","県",44,"女"]
["明細部","県",45,"女"]
["明細部","県",46,"女"]
["明細部","県",47,"女"]
["明細部","県",48,"女"]
["明細部","県",49,"女"]
["明細部","県",50,"女"]
["明細部","県",51,"女"]
["明細部","県",52,"女"]
["明細部","県",53,"女"]
["明細部","県",54,"女"]
["明細部","県",55,"女"]
["明細部","県",56,"女"]
["明細部","県",57,"女"]
["明細部","県",58,"女"]
["明細部","県",59,"女"]
["明細部","県",60,"女"]
["明細部","県",61,"女"]
["明細部","県",62,"女"]
["明細部","県",63,"女"]
["明細部","県",64,"女"]
["明細部","県",65,"女"]
["明細部","県",66,"女"]
["明細部","県",67,"女"]
["明細部","県",68,"女"]
["明細部","県",69,"女"]
["明細部","県",70,"女"]
["明細部","県",71,"女"]
["明細部","県",72,"女"]
["明細部","県",73,"女"]
["明細部","県",74,"女"]
["明細部","保険者（地区）",40,"男"]
["明細部","保険者（地区）",41,"男"]
["明細部","保険者（地区）",42,"男"]
["明細部","保険者（地区）",43,"男"]
["明細部","保険者（地区）",44,"男"]
["明細部","保険者（地区）",45,"男"]
["明細部","保険者（地区）",46,"男"]
["明細部","保険者（地区）",47,"男"]
["明細部","保険者（地区）",48,"男"]
["明細部","保険者（地区）",49,"男"]
["明細部","保険者（地区）",50,"男"]
["明細部","保険者（地区）",51,"男"]
["明細部","保険者（地区）",52,"男"]
["明細部","保険者（地区）",53,"男"]
["明細部","保険者（地区）",54,"男"]
["明細部","保険者（地区）",55,"男"]
["明細部","保険者（地区）",56,"男"]
["明細部","保険者（地区）",57,"男"]
["明細部","保険者（地区）",58,"男"]
["明細部","保険者（地区）",59,"男"]
["明細部","保険者（地区）",60,"男"]
["明細部","保険者（地区）",61,"男"]
["明細部","保険者（地区）",62,"男"]
["明細部","保険者（地区）",63,"男"]
["明細部","保険者（地区）",64,"男"]
["明細部","保険者（地区）",65,"男"]
["明細部","保険者（地区）",66,"男"]
["明細部","保険者（地区）",67,"男"]
["明細部","保険者（地区）",68,"男"]
["明細部","保険者（地区）",69,"男"]
["明細部","保険者（地区）",70,"男"]
["明細部","保険者（地区）",71,"男"]
["明細部","保険者（地区）",72,"男"]
["明細部","保険者（地区）",73,"男"]
["明細部","保険者（地区）",74,"男"]
["明細部","保険者（地区）",40,"女"]
["明細部","保険者（地区）",41,"女"]
["明細部","保険者（地区）",42,"女"]
["明細部","保険者（地区）",43,"女"]
["明細部","保険者（地区）",44,"女"]
["明細部","保険者（地区）",45,"女"]
["明細部","保険者（地区）",46,"女"]
["明細部","保険者（地区）",47,"女"]
["明細部","保険者（地区）",48,"女"]
["明細部","保険者（地区）",49,"女"]
["明細部","保険者（地区）",50,"女"]
["明細部","保険者（地区）",51,"女"]
["明細部","保険者（地区）",52,"女"]
["明細部","保険者（地区）",53,"女"]
["明細部","保険者（地区）",54,"女"]
["明細部","保険者（地区）",55,"女"]
["明細部","保険者（地区）",56,"女"]
["明細部","保険者（地区）",57,"女"]
["明細部","保険者（地区）",58,"女"]
["明細部","保険者（地区）",59,"女"]
["明細部","保険者（地区）",60,"女"]
["明細部","保険者（地区）",61,"女"]
["明細部","保険者（地区）",62,"女"]
["明細部","保険者（地区）",63,"女"]
["明細部","保険者（地区）",64,"女"]
["明細部","保険者（地区）",65,"女"]
["明細部","保険者（地区）",66,"女"]
["明細部","保険者（地区）",67,"女"]
["明細部","保険者（地区）",68,"女"]
["明細部","保険者（地区）",69,"女"]
["明細部","保険者（地区）",70,"女"]
["明細部","保険者（地区）",71,"女"]
["明細部","保険者（地区）",72,"女"]
["明細部","保険者（地区）",73,"女"]
["明細部","保険者（地区）",74,"女"]

{"sheet":"CSVデータ2","index":3,"n_rows":0,"n_cols":0,"rows_kept":0,"cut":false,"hidden":false,"merged":[]}

{"sheet":"CSVデータ3","index":4,"n_rows":0,"n_cols":0,"rows_kept":0,"cut":false,"hidden":false,"merged":[]}

{"sheet":"CSVデータ4","index":5,"n_rows":0,"n_cols":0,"rows_kept":0,"cut":false,"hidden":false,"merged":[]}

{"sheet":"CSVデータ","index":6,"n_rows":213,"n_cols":41,"rows_kept":213,"cut":false,"hidden":true,"merged":[]}
[{"$f":"CSVデータ1!A1","v":"レコード種別"},{"$f":"CSVデータ1!B1","v":"保険者番号"},{"$f":"CSVデータ1!C1","v":"保険者名"},{"$f":"CSVデータ1!D1","v":"地区名"},{"$f":"CSVデータ1!E1","v":"作成年月"}]
[{"$f":"CSVデータ1!A2","v":"共通部"},{"$f":"CSVデータ1!B2","v":999999},{"$f":"CSVデータ1!C2","v":"Ｘ市"},{"$f":"CSVデータ1!D2","v":0},{"$f":"CSVデータ1!E2&CSVデータ2!E2&CSVデータ3!E2&CSVデータ4!E2","v":"R01年度"}]
[{"$f":"CSVデータ1!A3","v":"レコード種別"},{"$f":"CSVデータ1!B3","v":"集計単位"},{"$f":"CSVデータ1!C3","v":"年齢"},{"$f":"CSVデータ1!D3","v":"性別"},{"$f":"CSVデータ1!E3","v":"受診者"},{"$f":"CSVデータ1!F3","v":"ＢＭＩ人数"},{"$f":"CSVデータ1!G3","v":"ＢＭＩ割合"},{"$f":"CSVデータ1!H3","v":"腹囲人数"},{"$f":"CSVデータ1!I3","v":"腹囲割合"},{"$f":"CSVデータ1!J3","v":"中性脂肪人数"},{"$f":"CSVデータ1!K3","v":"中性脂肪割合"},{"$f":"CSVデータ1!L3","v":"ＡＬＴ（ＧＰＴ）人数"},{"$f":"CSVデータ1!M3","v":"ＡＬＴ（ＧＰＴ）割合"},{"$f":"CSVデータ1!N3","v":"ＨＤＬコレステロール人数"},{"$f":"CSVデータ1!O3","v":"ＨＤＬコレステロール割合"},{"$f":"CSVデータ1!P3","v":"空腹時血糖人数"},{"$f":"CSVデータ1!Q3","v":"空腹時血糖割合"},{"$f":"CSVデータ1!R3","v":"ＨｂＡ１ｃ人数"},{"$f":"CSVデータ1!S3","v":"ＨｂＡ１ｃ割合"},{"$f":"CSVデータ1!T3","v":"尿酸人数"},{"$f":"CSVデータ1!U3","v":"尿酸割合"},{"$f":"CSVデータ1!V3","v":"収縮期血圧人数"},{"$f":"CSVデータ1!W3","v":"収縮期血圧割合"},{"$f":"CSVデータ1!X3","v":"拡張期血圧人数"},{"$f":"CSVデータ1!Y3","v":"拡張期血圧割合"},{"$f":"CSVデータ1!Z3","v":"ＬＤＬコレステロール人数"},{"$f":"CSVデータ1!AA3","v":"ＬＤＬコレステロール割合"},{"$f":"CSVデータ1!AB3","v":"血清クレアチニン人数"},{"$f":"CSVデータ1!AC3","v":"血清クレアチニン割合"},{"$f":"CSVデータ1!AD3","v":"心電図人数"},{"$f":"CSVデータ1!AE3","v":"心電図割合"},{"$f":"CSVデータ1!AF3","v":"眼底検査人数"},{"$f":"CSVデータ1!AG3","v":"眼底検査割合"},{"$f":"CSVデータ1!AH3","v":"随時血糖人数"},{"$f":"CSVデータ1!AI3","v":"随時血糖割合"},{"$f":"CSVデータ1!AJ3","v":"ｎｏｎ－ＨＤＬコレステロール人数"},{"$f":"CSVデータ1!AK3","v":"ｎｏｎ－ＨＤＬコレステロール割合"},{"$f":"CSVデータ1!AL3","v":"ｅＧＦＲ人数"},{"$f":"CSVデータ1!AM3","v":"ｅＧＦＲ割合"},{"$f":"CSVデータ1!AN3","v":0},{"$f":"CSVデータ1!AO3","v":0}]
[{"$f":"CSVデータ1!A4","v":"明細部"},{"$f":"CSVデータ1!B4","v":"国"},{"$f":"CSVデータ1!C4","v":40},{"$f":"CSVデータ1!D4","v":"男"},{"$f":"IF(ISNUMBER(CSVデータ1!E4),CSVデータ1!E4,0)+IF(ISNUMBER(CSVデータ2!E4),CSVデータ2!E4,0)+IF(ISNUMBER(CSVデータ3!E4),CSVデータ3!E4,0)+IF(ISNUMBER(CSVデータ4!E4),CSVデータ4!E4,0)","v":0},{"$f":"IF(ISNUMBER(CSVデータ1!F4),CSVデータ1!F4,0)+IF(ISNUMBER(CSVデータ2!F4),CSVデータ2!F4,0)+IF(ISNUMBER(CSVデータ3!F4),CSVデータ3!F4,0)+IF(ISNUMBER(CSVデータ4!F4),CSVデータ4!F4,0)","v":0},null,{"$f":"IF(ISNUMBER(CSVデータ1!H4),CSVデータ1!H4,0)+IF(ISNUMBER(CSVデータ2!H4),CSVデータ2!H4,0)+IF(ISNUMBER(CSVデータ3!H4),CSVデータ3!H4,0)+IF(ISNUMBER(CSVデータ4!H4),CSVデータ4!H4,0)","v":0},null,{"$f":"IF(ISNUMBER(CSVデータ1!J4),CSVデータ1!J4,0)+IF(ISNUMBER(CSVデータ2!J4),CSVデータ2!J4,0)+IF(ISNUMBER(CSVデータ3!J4),CSVデータ3!J4,0)+IF(ISNUMBER(CSVデータ4!J4),CSVデータ4!J4,0)","v":0},null,{"$f":"IF(ISNUMBER(CSVデータ1!L4),CSVデータ1!L4,0)+IF(ISNUMBER(CSVデータ2!L4),CSVデータ2!L4,0)+IF(ISNUMBER(CSVデータ3!L4),CSVデータ3!L4,0)+IF(ISNUMBER(CSVデータ4!L4),CSVデータ4!L4,0)","v":0},null,{"$f":"IF(ISNUMBER(CSVデータ1!N4),CSVデータ1!N4,0)+IF(ISNUMBER(CSVデータ2!N4),CSVデータ2!N4,0)+IF(ISNUMBER(CSVデータ3!N4),CSVデータ3!N4,0)+IF(ISNUMBER(CSVデータ4!N4),CSVデータ4!N4,0)","v":0},null,{"$f":"IF(ISNUMBER(CSVデータ1!P4),CSVデータ1!P4,0)+IF(ISNUMBER(CSVデータ2!P4),CSVデータ2!P4,0)+IF(ISNUMBER(CSVデータ3!P4),CSVデータ3!P4,0)+IF(ISNUMBER(CSVデータ4!P4),CSVデータ4!P4,0)","v":0},null,{"$f":"IF(ISNUMBER(CSVデータ1!R4),CSVデータ1!R4,0)+IF(ISNUMBER(CSVデータ2!R4),CSVデータ2!R4,0)+IF(ISNUMBER(CSVデータ3!R4),CSVデータ3!R4,0)+IF(ISNUMBER(CSVデータ4!R4),CSVデータ4!R4,0)","v":0},null,{"$f":"IF(ISNUMBER(CSVデータ1!T4),CSVデータ1!T4,0)+IF(ISNUMBER(CSVデータ2!T4),CSVデータ2!T4,0)+IF(ISNUMBER(CSVデータ3!T4),CSVデータ3!T4,0)+IF(ISNUMBER(CSVデータ4!T4),CSVデータ4!T4,0)","v":0},null,{"$f":"IF(ISNUMBER(CSVデータ1!V4),CSVデータ1!V4,0)+IF(ISNUMBER(CSVデータ2!V4),CSVデータ2!V4,0)+IF(ISNUMBER(CSVデータ3!V4),CSVデータ3!V4,0)+IF(ISNUMBER(CSVデータ4!V4),CSVデータ4!V4,0)","v":0},null,{"$f":"IF(ISNUMBER(CSVデータ1!X4),CSVデータ1!X4,0)+IF(ISNUMBER(CSVデータ2!X4),CSVデータ2!X4,0)+IF(ISNUMBER(CSVデータ3!X4),CSVデータ3!X4,0)+IF(ISNUMBER(CSVデータ4!X4),CSVデータ4!X4,0)","v":0},null,{"$f":"IF(ISNUMBER(CSVデータ1!Z4),CSVデータ1!Z4,0)+IF(ISNUMBER(CSVデータ2!Z4),CSVデータ2!Z4,0)+IF(ISNUMBER(CSVデータ3!Z4),CSVデータ3!Z4,0)+IF(ISNUMBER(CSVデータ4!Z4),CSVデータ4!Z4,0)","v":0},null,{"$f":"IF(ISNUMBER(CSVデータ1!AB4),CSVデータ1!AB4,0)+IF(ISNUMBER(CSVデータ2!AB4),CSVデータ2!AB4,0)+IF(ISNUMBER(CSVデータ3!AB4),CSVデータ3!AB4,0)+IF(ISNUMBER(CSVデータ4!AB4),CSVデータ4!AB4,0)","v":0},null,{"$f":"IF(ISNUMBER(CSVデータ1!AD4),CSVデータ1!AD4,0)+IF(ISNUMBER(CSVデータ2!AD4),CSVデータ2!AD4,0)+IF(ISNUMBER(CSVデータ3!AD4),CSVデータ3!AD4,0)+IF(ISNUMBER(CSVデータ4!AD4),CSVデータ4!AD4,0)","v":0},null,{"$f":"IF(ISNUMBER(CSVデータ1!AF4),CSVデータ1!AF4,0)+IF(ISNUMBER(CSVデータ2!AF4),CSVデータ2!AF4,0)+IF(ISNUMBER(CSVデータ3!AF4),CSVデータ3!AF4,0)+IF(ISNUMBER(CSVデータ4!AF4),CSVデータ4!AF4,0)","v":0},null,{"$f":"IF(ISNUMBER(CSVデータ1!AH4),CSVデータ1!AH4,0)+IF(ISNUMBER(CSVデータ2!AH4),CSVデータ2!AH4,0)+IF(ISNUMBER(CSVデータ3!AH4),CSVデータ3!AH4,0)+IF(ISNUMBER(CSVデータ4!AH4),CSVデータ4!AH4,0)","v":0},null,{"$f":"IF(ISNUMBER(CSVデータ1!AJ4),CSVデータ1!AJ4,0)+IF(ISNUMBER(CSVデータ2!AJ4),CSVデータ2!AJ4,0)+IF(ISNUMBER(CSVデータ3!AJ4),CSVデータ3!AJ4,0)+IF(ISNUMBER(CSVデータ4!AJ4),CSVデータ4!AJ4,0)","v":0},null,{"$f":"IF(ISNUMBER(CSVデータ1!AL4),CSVデータ1!AL4,0)+IF(ISNUMBER(CSVデータ2!AL4),CSVデータ2!AL4,0)+IF(ISNUMBER(CSVデータ3!AL4),CSVデータ3!AL4,0)+IF(ISNUMBER(CSVデータ4!AL4),CSVデータ4!AL4,0)","v":0},null,{"$f":"IF(ISNUMBER(CSVデータ1!AN4),CSVデータ1!AN4,0)+IF(ISNUMBER(CSVデータ2!AN4),CSVデータ2!AN4,0)+IF(ISNUMBER(CSVデータ3!AN4),CSVデータ3!AN4,0)+IF(ISNUMBER(CSVデータ4!AN4),CSVデータ4!AN4,0)","v":0}]
[{"$f":"CSVデータ1!A5","v":"明細部"},{"$f":"CSVデータ1!B5","v":"国"},{"$f":"CSVデータ1!C5","v":41},{"$f":"CSVデータ1!D5","v":"男"},{"$f":"IF(ISNUMBER(CSVデータ1!E5),CSVデータ1!E5,0)+IF(ISNUMBER(CSVデータ2!E5),CSVデータ2!E5,0)+IF(ISNUMBER(CSVデータ3!E5),CSVデータ3!E5,0)+IF(ISNUMBER(CSVデータ4!E5),CSVデータ4!E5,0)","v":0},{"$f":"IF(ISNUMBER(CSVデータ1!F5),CSVデータ1!F5,0)+IF(ISNUMBER(CSVデータ2!F5),CSVデータ2!F5,0)+IF(ISNUMBER(CSVデータ3!F5),CSVデータ3!F5,0)+IF(ISNUMBER(CSVデータ4!F5),CSVデータ4!F5,0)","v":0},null,{"$f":"IF(ISNUMBER(CSVデータ1!H5),CSVデータ1!H5,0)+IF(ISNUMBER(CSVデータ2!H5),CSVデータ2!H5,0)+IF(ISNUMBER(CSVデータ3!H5),CSVデータ3!H5,0)+IF(ISNUMBER(CSVデータ4!H5),CSVデータ4!H5,0)","v":0},null,{"$f":"IF(ISNUMBER(CSVデータ1!J5),CSVデータ1!J5,0)+IF(ISNUMBER(CSVデータ2!J5),CSVデータ2!J5,0)+IF(ISNUMBER(CSVデータ3!J5),CSVデータ3!J5,0)+IF(ISNUMBER(CSVデータ4!J5),CSVデータ4!J5,0)","v":0},null,{"$f":"IF(ISNUMBER(CSVデータ1!L5),CSVデータ1!L5,0)+IF(ISNUMBER(CSVデータ2!L5),CSVデータ2!L5,0)+IF(ISNUMBER(CSVデータ3!L5),CSVデータ3!L5,0)+IF(ISNUMBER(CSVデータ4!L5),CSVデータ4!L5,0)","v":0},null,{"$f":"IF(ISNUMBER(CSVデータ1!N5),CSVデータ1!N5,0)+IF(ISNUMBER(CSVデータ2!N5),CSVデータ2!N5,0)+IF(ISNUMBER(CSVデータ3!N5),CSVデータ3!N5,0)+IF(ISNUMBER(CSVデータ4!N5),CSVデータ4!N5,0)","v":0},null,{"$f":"IF(ISNUMBER(CSVデータ1!P5),CSVデータ1!P5,0)+IF(ISNUMBER(CSVデータ2!P5),CSVデータ2!P5,0)+IF(ISNUMBER(CSVデータ3!P5),CSVデータ3!P5,0)+IF(ISNUMBER(CSVデータ4!P5),CSVデータ4!P5,0)","v":0},null,{"$f":"IF(ISNUMBER(CSVデータ1!R5),CSVデータ1!R5,0)+IF(ISNUMBER(CSVデータ2!R5),CSVデータ2!R5,0)+IF(ISNUMBER(CSVデータ3!R5),CSVデータ3!R5,0)+IF(ISNUMBER(CSVデータ4!R5),CSVデータ4!R5,0)","v":0},null,{"$f":"IF(ISNUMBER(CSVデータ1!T5),CSVデータ1!T5,0)+IF(ISNUMBER(CSVデータ2!T5),CSVデータ2!T5,0)+IF(ISNUMBER(CSVデータ3!T5),CSVデータ3!T5,0)+IF(ISNUMBER(CSVデータ4!T5),CSVデータ4!T5,0)","v":0},null,{"$f":"IF(ISNUMBER(CSVデータ1!V5),CSVデータ1!V5,0)+IF(ISNUMBER(CSVデータ2!V5),CSVデータ2!V5,0)+IF(ISNUMBER(CSVデータ3!V5),CSVデータ3!V5,0)+IF(ISNUMBER(CSVデータ4!V5),CSVデータ4!V5,0)","v":0},null,{"$f":"IF(ISNUMBER(CSVデータ1!X5),CSVデータ1!X5,0)+IF(ISNUMBER(CSVデータ2!X5),CSVデータ2!X5,0)+IF(ISNUMBER(CSVデータ3!X5),CSVデータ3!X5,0)+IF(ISNUMBER(CSVデータ4!X5),CSVデータ4!X5,0)","v":0},null,{"$f":"IF(ISNUMBER(CSVデータ1!Z5),CSVデータ1!Z5,0)+IF(ISNUMBER(CSVデータ2!Z5),CSVデータ2!Z5,0)+IF(ISNUMBER(CSVデータ3!Z5),CSVデータ3!Z5,0)+IF(ISNUMBER(CSVデータ4!Z5),CSVデータ4!Z5,0)","v":0},null,{"$f":"IF(ISNUMBER(CSVデータ1!AB5),CSVデータ1!AB5,0)+IF(ISNUMBER(CSVデータ2!AB5),CSVデータ2!AB5,0)+IF(ISNUMBER(CSVデータ3!AB5),CSVデータ3!AB5,0)+IF(ISNUMBER(CSVデータ4!AB5),CSVデータ4!AB5,0)","v":0},null,{"$f":"IF(ISNUMBER(CSVデータ1!AD5),CSVデータ1!AD5,0)+IF(ISNUMBER(CSVデータ2!AD5),CSVデータ2!AD5,0)+IF(ISNUMBER(CSVデータ3!AD5),CSVデータ3!AD5,0)+IF(ISNUMBER(CSVデータ4!AD5),CSVデータ4!AD5,0)","v":0},null,{"$f":"IF(ISNUMBER(CSVデータ1!AF5),CSVデータ1!AF5,0)+IF(ISNUMBER(CSVデータ2!AF5),CSVデータ2!AF5,0)+IF(ISNUMBER(CSVデータ3!AF5),CSVデータ3!AF5,0)+IF(ISNUMBER(CSVデータ4!AF5),CSVデータ4!AF5,0)","v":0},null,{"$f":"IF(ISNUMBER(CSVデータ1!AH5),CSVデータ1!AH5,0)+IF(ISNUMBER(CSVデータ2!AH5),CSVデータ2!AH5,0)+IF(ISNUMBER(CSVデータ3!AH5),CSVデータ3!AH5,0)+IF(ISNUMBER(CSVデータ4!AH5),CSVデータ4!AH5,0)","v":0},null,{"$f":"IF(ISNUMBER(CSVデータ1!AJ5),CSVデータ1!AJ5,0)+IF(ISNUMBER(CSVデータ2!AJ5),CSVデータ2!AJ5,0)+IF(ISNUMBER(CSVデータ3!AJ5),CSVデータ3!AJ5,0)+IF(ISNUMBER(CSVデータ4!AJ5),CSVデータ4!AJ5,0)","v":0},null,{"$f":"IF(ISNUMBER(CSVデータ1!AL5),CSVデータ1!AL5,0)+IF(ISNUMBER(CSVデータ2!AL5),CSVデータ2!AL5,0)+IF(ISNUMBER(CSVデータ3!AL5),CSVデータ3!AL5,0)+IF(ISNUMBER(CSVデータ4!AL5),CSVデータ4!AL5,0)","v":0},null,{"$f":"IF(ISNUMBER(CSVデータ1!AN5),CSVデータ1!AN5,0)+IF(ISNUMBER(CSVデータ2!AN5),CSVデータ2!AN5,0)+IF(ISNUMBER(CSVデータ3!AN5),CSVデータ3!AN5,0)+IF(ISNUMBER(CSVデータ4!AN5),CSVデータ4!AN5,0)","v":0}]
[{"$f":"CSVデータ1!A6","v":"明細部"},{"$f":"CSVデータ1!B6","v":"国"},{"$f":"CSVデータ1!C6","v":42},{"$f":"CSVデータ1!D6","v":"男"},{"$f":"IF(ISNUMBER(CSVデータ1!E6),CSVデータ1!E6,0)+IF(ISNUMBER(CSVデータ2!E6),CSVデータ2!E6,0)+IF(ISNUMBER(CSVデータ3!E6),CSVデータ3!E6,0)+IF(ISNUMBER(CSVデータ4!E6),CSVデータ4!E6,0)","v":0},{"$f":"IF(ISNUMBER(CSVデータ1!F6),CSVデータ1!F6,0)+IF(ISNUMBER(CSVデータ2!F6),CSVデータ2!F6,0)+IF(ISNUMBER(CSVデータ3!F6),CSVデータ3!F6,0)+IF(ISNUMBER(CSVデータ4!F6),CSVデータ4!F6,0)","v":0},null,{"$f":"IF(ISNUMBER(CSVデータ1!H6),CSVデータ1!H6,0)+IF(ISNUMBER(CSVデータ2!H6),CSVデータ2!H6,0)+IF(ISNUMBER(CSVデータ3!H6),CSVデータ3!H6,0)+IF(ISNUMBER(CSVデータ4!H6),CSVデータ4!H6,0)","v":0},null,{"$f":"IF(ISNUMBER(CSVデータ1!J6),CSVデータ1!J6,0)+IF(ISNUMBER(CSVデータ2!J6),CSVデータ2!J6,0)+IF(ISNUMBER(CSVデータ3!J6),CSVデータ3!J6,0)+IF(ISNUMBER(CSVデータ4!J6),CSVデータ4!J6,0)","v":0},null,{"$f":"IF(ISNUMBER(CSVデータ1!L6),CSVデータ1!L6,0)+IF(ISNUMBER(CSVデータ2!L6),CSVデータ2!L6,0)+IF(ISNUMBER(CSVデータ3!L6),CSVデータ3!L6,0)+IF(ISNUMBER(CSVデータ4!L6),CSVデータ4!L6,0)","v":0},null,{"$f":"IF(ISNUMBER(CSVデータ1!N6),CSVデータ1!N6,0)+IF(ISNUMBER(CSVデータ2!N6),CSVデータ2!N6,0)+IF(ISNUMBER(CSVデータ3!N6),CSVデータ3!N6,0)+IF(ISNUMBER(CSVデータ4!N6),CSVデータ4!N6,0)","v":0},null,{"$f":"IF(ISNUMBER(CSVデータ1!P6),CSVデータ1!P6,0)+IF(ISNUMBER(CSVデータ2!P6),CSVデータ2!P6,0)+IF(ISNUMBER(CSVデータ3!P6),CSVデータ3!P6,0)+IF(ISNUMBER(CSVデータ4!P6),CSVデータ4!P6,0)","v":0},null,{"$f":"IF(ISNUMBER(CSVデータ1!R6),CSVデータ1!R6,0)+IF(ISNUMBER(CSVデータ2!R6),CSVデータ2!R6,0)+IF(ISNUMBER(CSVデータ3!R6),CSVデータ3!R6,0)+IF(ISNUMBER(CSVデータ4!R6),CSVデータ4!R6,0)","v":0},null,{"$f":"IF(ISNUMBER(CSVデータ1!T6),CSVデータ1!T6,0)+IF(ISNUMBER(CSVデータ2!T6),CSVデータ2!T6,0)+IF(ISNUMBER(CSVデータ3!T6),CSVデータ3!T6,0)+IF(ISNUMBER(CSVデータ4!T6),CSVデータ4!T6,0)","v":0},null,{"$f":"IF(ISNUMBER(CSVデータ1!V6),CSVデータ1!V6,0)+IF(ISNUMBER(CSVデータ2!V6),CSVデータ2!V6,0)+IF(ISNUMBER(CSVデータ3!V6),CSVデータ3!V6,0)+IF(ISNUMBER(CSVデータ4!V6),CSVデータ4!V6,0)","v":0},null,{"$f":"IF(ISNUMBER(CSVデータ1!X6),CSVデータ1!X6,0)+IF(ISNUMBER(CSVデータ2!X6),CSVデータ2!X6,0)+IF(ISNUMBER(CSVデータ3!X6),CSVデータ3!X6,0)+IF(ISNUMBER(CSVデータ4!X6),CSVデータ4!X6,0)","v":0},null,{"$f":"IF(ISNUMBER(CSVデータ1!Z6),CSVデータ1!Z6,0)+IF(ISNUMBER(CSVデータ2!Z6),CSVデータ2!Z6,0)+IF(ISNUMBER(CSVデータ3!Z6),CSVデータ3!Z6,0)+IF(ISNUMBER(CSVデータ4!Z6),CSVデータ4!Z6,0)","v":0},null,{"$f":"IF(ISNUMBER(CSVデータ1!AB6),CSVデータ1!AB6,0)+IF(ISNUMBER(CSVデータ2!AB6),CSVデータ2!AB6,0)+IF(ISNUMBER(CSVデータ3!AB6),CSVデータ3!AB6,0)+IF(ISNUMBER(CSVデータ4!AB6),CSVデータ4!AB6,0)","v":0},null,{"$f":"IF(ISNUMBER(CSVデータ1!AD6),CSVデータ1!AD6,0)+IF(ISNUMBER(CSVデータ2!AD6),CSVデータ2!AD6,0)+IF(ISNUMBER(CSVデータ3!AD6),CSVデータ3!AD6,0)+IF(ISNUMBER(CSVデータ4!AD6),CSVデータ4!AD6,0)","v":0},null,{"$f":"IF(ISNUMBER(CSVデータ1!AF6),CSVデータ1!AF6,0)+IF(ISNUMBER(CSVデータ2!AF6),CSVデータ2!AF6,0)+IF(ISNUMBER(CSVデータ3!AF6),CSVデータ3!AF6,0)+IF(ISNUMBER(CSVデータ4!AF6),CSVデータ4!AF6,0)","v":0},null,{"$f":"IF(ISNUMBER(CSVデータ1!AH6),CSVデータ1!AH6,0)+IF(ISNUMBER(CSVデータ2!AH6),CSVデータ2!AH6,0)+IF(ISNUMBER(CSVデータ3!AH6),CSVデータ3!AH6,0)+IF(ISNUMBER(CSVデータ4!AH6),CSVデータ4!AH6,0)","v":0},null,{"$f":"IF(ISNUMBER(CSVデータ1!AJ6),CSVデータ1!AJ6,0)+IF(ISNUMBER(CSVデータ2!AJ6),CSVデータ2!AJ6,0)+IF(ISNUMBER(CSVデータ3!AJ6),CSVデータ3!AJ6,0)+IF(ISNUMBER(CSVデータ4!AJ6),CSVデータ4!AJ6,0)","v":0},null,{"$f":"IF(ISNUMBER(CSVデータ1!AL6),CSVデータ1!AL6,0)+IF(ISNUMBER(CSVデータ2!AL6),CSVデータ2!AL6,0)+IF(ISNUMBER(CSVデータ3!AL6),CSVデータ3!AL6,0)+IF(ISNUMBER(CSVデータ4!AL6),CSVデータ4!AL6,0)","v":0},null,{"$f":"IF(ISNUMBER(CSVデータ1!AN6),CSVデータ1!AN6,0)+IF(ISNUMBER(CSVデータ2!AN6),CSVデータ2!AN6,0)+IF(ISNUMBER(CSVデータ3!AN6),CSVデータ3!AN6,0)+IF(ISNUMBER(CSVデータ4!AN6),CSVデータ4!AN6,0)","v":0}]
[{"$f":"CSVデータ1!A7","v":"明細部"},{"$f":"CSVデータ1!B7","v":"国"},{"$f":"CSVデータ1!C7","v":43},{"$f":"CSVデータ1!D7","v":"男"},{"$f":"IF(ISNUMBER(CSVデータ1!E7),CSVデータ1!E7,0)+IF(ISNUMBER(CSVデータ2!E7),CSVデータ2!E7,0)+IF(ISNUMBER(CSVデータ3!E7),CSVデータ3!E7,0)+IF(ISNUMBER(CSVデータ4!E7),CSVデータ4!E7,0)","v":0},{"$f":"IF(ISNUMBER(CSVデータ1!F7),CSVデータ1!F7,0)+IF(ISNUMBER(CSVデータ2!F7),CSVデータ2!F7,0)+IF(ISNUMBER(CSVデータ3!F7),CSVデータ3!F7,0)+IF(ISNUMBER(CSVデータ4!F7),CSVデータ4!F7,0)","v":0},null,{"$f":"IF(ISNUMBER(CSVデータ1!H7),CSVデータ1!H7,0)+IF(ISNUMBER(CSVデータ2!H7),CSVデータ2!H7,0)+IF(ISNUMBER(CSVデータ3!H7),CSVデータ3!H7,0)+IF(ISNUMBER(CSVデータ4!H7),CSVデータ4!H7,0)","v":0},null,{"$f":"IF(ISNUMBER(CSVデータ1!J7),CSVデータ1!J7,0)+IF(ISNUMBER(CSVデータ2!J7),CSVデータ2!J7,0)+IF(ISNUMBER(CSVデータ3!J7),CSVデータ3!J7,0)+IF(ISNUMBER(CSVデータ4!J7),CSVデータ4!J7,0)","v":0},null,{"$f":"IF(ISNUMBER(CSVデータ1!L7),CSVデータ1!L7,0)+IF(ISNUMBER(CSVデータ2!L7),CSVデータ2!L7,0)+IF(ISNUMBER(CSVデータ3!L7),CSVデータ3!L7,0)+IF(ISNUMBER(CSVデータ4!L7),CSVデータ4!L7,0)","v":0},null,{"$f":"IF(ISNUMBER(CSVデータ1!N7),CSVデータ1!N7,0)+IF(ISNUMBER(CSVデータ2!N7),CSVデータ2!N7,0)+IF(ISNUMBER(CSVデータ3!N7),CSVデータ3!N7,0)+IF(ISNUMBER(CSVデータ4!N7),CSVデータ4!N7,0)","v":0},null,{"$f":"IF(ISNUMBER(CSVデータ1!P7),CSVデータ1!P7,0)+IF(ISNUMBER(CSVデータ2!P7),CSVデータ2!P7,0)+IF(ISNUMBER(CSVデータ3!P7),CSVデータ3!P7,0)+IF(ISNUMBER(CSVデータ4!P7),CSVデータ4!P7,0)","v":0},null,{"$f":"IF(ISNUMBER(CSVデータ1!R7),CSVデータ1!R7,0)+IF(ISNUMBER(CSVデータ2!R7),CSVデータ2!R7,0)+IF(ISNUMBER(CSVデータ3!R7),CSVデータ3!R7,0)+IF(ISNUMBER(CSVデータ4!R7),CSVデータ4!R7,0)","v":0},null,{"$f":"IF(ISNUMBER(CSVデータ1!T7),CSVデータ1!T7,0)+IF(ISNUMBER(CSVデータ2!T7),CSVデータ2!T7,0)+IF(ISNUMBER(CSVデータ3!T7),CSVデータ3!T7,0)+IF(ISNUMBER(CSVデータ4!T7),CSVデータ4!T7,0)","v":0},null,{"$f":"IF(ISNUMBER(CSVデータ1!V7),CSVデータ1!V7,0)+IF(ISNUMBER(CSVデータ2!V7),CSVデータ2!V7,0)+IF(ISNUMBER(CSVデータ3!V7),CSVデータ3!V7,0)+IF(ISNUMBER(CSVデータ4!V7),CSVデータ4!V7,0)","v":0},null,{"$f":"IF(ISNUMBER(CSVデータ1!X7),CSVデータ1!X7,0)+IF(ISNUMBER(CSVデータ2!X7),CSVデータ2!X7,0)+IF(ISNUMBER(CSVデータ3!X7),CSVデータ3!X7,0)+IF(ISNUMBER(CSVデータ4!X7),CSVデータ4!X7,0)","v":0},null,{"$f":"IF(ISNUMBER(CSVデータ1!Z7),CSVデータ1!Z7,0)+IF(ISNUMBER(CSVデータ2!Z7),CSVデータ2!Z7,0)+IF(ISNUMBER(CSVデータ3!Z7),CSVデータ3!Z7,0)+IF(ISNUMBER(CSVデータ4!Z7),CSVデータ4!Z7,0)","v":0},null,{"$f":"IF(ISNUMBER(CSVデータ1!AB7),CSVデータ1!AB7,0)+IF(ISNUMBER(CSVデータ2!AB7),CSVデータ2!AB7,0)+IF(ISNUMBER(CSVデータ3!AB7),CSVデータ3!AB7,0)+IF(ISNUMBER(CSVデータ4!AB7),CSVデータ4!AB7,0)","v":0},null,{"$f":"IF(ISNUMBER(CSVデータ1!AD7),CSVデータ1!AD7,0)+IF(ISNUMBER(CSVデータ2!AD7),CSVデータ2!AD7,0)+IF(ISNUMBER(CSVデータ3!AD7),CSVデータ3!AD7,0)+IF(ISNUMBER(CSVデータ4!AD7),CSVデータ4!AD7,0)","v":0},null,{"$f":"IF(ISNUMBER(CSVデータ1!AF7),CSVデータ1!AF7,0)+IF(ISNUMBER(CSVデータ2!AF7),CSVデータ2!AF7,0)+IF(ISNUMBER(CSVデータ3!AF7),CSVデータ3!AF7,0)+IF(ISNUMBER(CSVデータ4!AF7),CSVデータ4!AF7,0)","v":0},null,{"$f":"IF(ISNUMBER(CSVデータ1!AH7),CSVデータ1!AH7,0)+IF(ISNUMBER(CSVデータ2!AH7),CSVデータ2!AH7,0)+IF(ISNUMBER(CSVデータ3!AH7),CSVデータ3!AH7,0)+IF(ISNUMBER(CSVデータ4!AH7),CSVデータ4!AH7,0)","v":0},null,{"$f":"IF(ISNUMBER(CSVデータ1!AJ7),CSVデータ1!AJ7,0)+IF(ISNUMBER(CSVデータ2!AJ7),CSVデータ2!AJ7,0)+IF(ISNUMBER(CSVデータ3!AJ7),CSVデータ3!AJ7,0)+IF(ISNUMBER(CSVデータ4!AJ7),CSVデータ4!AJ7,0)","v":0},null,{"$f":"IF(ISNUMBER(CSVデータ1!AL7),CSVデータ1!AL7,0)+IF(ISNUMBER(CSVデータ2!AL7),CSVデータ2!AL7,0)+IF(ISNUMBER(CSVデータ3!AL7),CSVデータ3!AL7,0)+IF(ISNUMBER(CSVデータ4!AL7),CSVデータ4!AL7,0)","v":0},null,{"$f":"IF(ISNUMBER(CSVデータ1!AN7),CSVデータ1!AN7,0)+IF(ISNUMBER(CSVデータ2!AN7),CSVデータ2!AN7,0)+IF(ISNUMBER(CSVデータ3!AN7),CSVデータ3!AN7,0)+IF(ISNUMBER(CSVデータ4!AN7),CSVデータ4!AN7,0)","v":0}]
[{"$f":"CSVデータ1!A8","v":"明細部"},{"$f":"CSVデータ1!B8","v":"国"},{"$f":"CSVデータ1!C8","v":44},{"$f":"CSVデータ1!D8","v":"男"},{"$f":"IF(ISNUMBER(CSVデータ1!E8),CSVデータ1!E8,0)+IF(ISNUMBER(CSVデータ2!E8),CSVデータ2!E8,0)+IF(ISNUMBER(CSVデータ3!E8),CSVデータ3!E8,0)+IF(ISNUMBER(CSVデータ4!E8),CSVデータ4!E8,0)","v":0},{"$f":"IF(ISNUMBER(CSVデータ1!F8),CSVデータ1!F8,0)+IF(ISNUMBER(CSVデータ2!F8),CSVデータ2!F8,0)+IF(ISNUMBER(CSVデータ3!F8),CSVデータ3!F8,0)+IF(ISNUMBER(CSVデータ4!F8),CSVデータ4!F8,0)","v":0},null,{"$f":"IF(ISNUMBER(CSVデータ1!H8),CSVデータ1!H8,0)+IF(ISNUMBER(CSVデータ2!H8),CSVデータ2!H8,0)+IF(ISNUMBER(CSVデータ3!H8),CSVデータ3!H8,0)+IF(ISNUMBER(CSVデータ4!H8),CSVデータ4!H8,0)","v":0},null,{"$f":"IF(ISNUMBER(CSVデータ1!J8),CSVデータ1!J8,0)+IF(ISNUMBER(CSVデータ2!J8),CSVデータ2!J8,0)+IF(ISNUMBER(CSVデータ3!J8),CSVデータ3!J8,0)+IF(ISNUMBER(CSVデータ4!J8),CSVデータ4!J8,0)","v":0},null,{"$f":"IF(ISNUMBER(CSVデータ1!L8),CSVデータ1!L8,0)+IF(ISNUMBER(CSVデータ2!L8),CSVデータ2!L8,0)+IF(ISNUMBER(CSVデータ3!L8),CSVデータ3!L8,0)+IF(ISNUMBER(CSVデータ4!L8),CSVデータ4!L8,0)","v":0},null,{"$f":"IF(ISNUMBER(CSVデータ1!N8),CSVデータ1!N8,0)+IF(ISNUMBER(CSVデータ2!N8),CSVデータ2!N8,0)+IF(ISNUMBER(CSVデータ3!N8),CSVデータ3!N8,0)+IF(ISNUMBER(CSVデータ4!N8),CSVデータ4!N8,0)","v":0},null,{"$f":"IF(ISNUMBER(CSVデータ1!P8),CSVデータ1!P8,0)+IF(ISNUMBER(CSVデータ2!P8),CSVデータ2!P8,0)+IF(ISNUMBER(CSVデータ3!P8),CSVデータ3!P8,0)+IF(ISNUMBER(CSVデータ4!P8),CSVデータ4!P8,0)","v":0},null,{"$f":"IF(ISNUMBER(CSVデータ1!R8),CSVデータ1!R8,0)+IF(ISNUMBER(CSVデータ2!R8),CSVデータ2!R8,0)+IF(ISNUMBER(CSVデータ3!R8),CSVデータ3!R8,0)+IF(ISNUMBER(CSVデータ4!R8),CSVデータ4!R8,0)","v":0},null,{"$f":"IF(ISNUMBER(CSVデータ1!T8),CSVデータ1!T8,0)+IF(ISNUMBER(CSVデータ2!T8),CSVデータ2!T8,0)+IF(ISNUMBER(CSVデータ3!T8),CSVデータ3!T8,0)+IF(ISNUMBER(CSVデータ4!T8),CSVデータ4!T8,0)","v":0},null,{"$f":"IF(ISNUMBER(CSVデータ1!V8),CSVデータ1!V8,0)+IF(ISNUMBER(CSVデータ2!V8),CSVデータ2!V8,0)+IF(ISNUMBER(CSVデータ3!V8),CSVデータ3!V8,0)+IF(ISNUMBER(CSVデータ4!V8),CSVデータ4!V8,0)","v":0},null,{"$f":"IF(ISNUMBER(CSVデータ1!X8),CSVデータ1!X8,0)+IF(ISNUMBER(CSVデータ2!X8),CSVデータ2!X8,0)+IF(ISNUMBER(CSVデータ3!X8),CSVデータ3!X8,0)+IF(ISNUMBER(CSVデータ4!X8),CSVデータ4!X8,0)","v":0},null,{"$f":"IF(ISNUMBER(CSVデータ1!Z8),CSVデータ1!Z8,0)+IF(ISNUMBER(CSVデータ2!Z8),CSVデータ2!Z8,0)+IF(ISNUMBER(CSVデータ3!Z8),CSVデータ3!Z8,0)+IF(ISNUMBER(CSVデータ4!Z8),CSVデータ4!Z8,0)","v":0},null,{"$f":"IF(ISNUMBER(CSVデータ1!AB8),CSVデータ1!AB8,0)+IF(ISNUMBER(CSVデータ2!AB8),CSVデータ2!AB8,0)+IF(ISNUMBER(CSVデータ3!AB8),CSVデータ3!AB8,0)+IF(ISNUMBER(CSVデータ4!AB8),CSVデータ4!AB8,0)","v":0},null,{"$f":"IF(ISNUMBER(CSVデータ1!AD8),CSVデータ1!AD8,0)+IF(ISNUMBER(CSVデータ2!AD8),CSVデータ2!AD8,0)+IF(ISNUMBER(CSVデータ3!AD8),CSVデータ3!AD8,0)+IF(ISNUMBER(CSVデータ4!AD8),CSVデータ4!AD8,0)","v":0},null,{"$f":"IF(ISNUMBER(CSVデータ1!AF8),CSVデータ1!AF8,0)+IF(ISNUMBER(CSVデータ2!AF8),CSVデータ2!AF8,0)+IF(ISNUMBER(CSVデータ3!AF8),CSVデータ3!AF8,0)+IF(ISNUMBER(CSVデータ4!AF8),CSVデータ4!AF8,0)","v":0},null,{"$f":"IF(ISNUMBER(CSVデータ1!AH8),CSVデータ1!AH8,0)+IF(ISNUMBER(CSVデータ2!AH8),CSVデータ2!AH8,0)+IF(ISNUMBER(CSVデータ3!AH8),CSVデータ3!AH8,0)+IF(ISNUMBER(CSVデータ4!AH8),CSVデータ4!AH8,0)","v":0},null,{"$f":"IF(ISNUMBER(CSVデータ1!AJ8),CSVデータ1!AJ8,0)+IF(ISNUMBER(CSVデータ2!AJ8),CSVデータ2!AJ8,0)+IF(ISNUMBER(CSVデータ3!AJ8),CSVデータ3!AJ8,0)+IF(ISNUMBER(CSVデータ4!AJ8),CSVデータ4!AJ8,0)","v":0},null,{"$f":"IF(ISNUMBER(CSVデータ1!AL8),CSVデータ1!AL8,0)+IF(ISNUMBER(CSVデータ2!AL8),CSVデータ2!AL8,0)+IF(ISNUMBER(CSVデータ3!AL8),CSVデータ3!AL8,0)+IF(ISNUMBER(CSVデータ4!AL8),CSVデータ4!AL8,0)","v":0},null,{"$f":"IF(ISNUMBER(CSVデータ1!AN8),CSVデータ1!AN8,0)+IF(ISNUMBER(CSVデータ2!AN8),CSVデータ2!AN8,0)+IF(ISNUMBER(CSVデータ3!AN8),CSVデータ3!AN8,0)+IF(ISNUMBER(CSVデータ4!AN8),CSVデータ4!AN8,0)","v":0}]
[{"$f":"CSVデータ1!A9","v":"明細部"},{"$f":"CSVデータ1!B9","v":"国"},{"$f":"CSVデータ1!C9","v":45},{"$f":"CSVデータ1!D9","v":"男"},{"$f":"IF(ISNUMBER(CSVデータ1!E9),CSVデータ1!E9,0)+IF(ISNUMBER(CSVデータ2!E9),CSVデータ2!E9,0)+IF(ISNUMBER(CSVデータ3!E9),CSVデータ3!E9,0)+IF(ISNUMBER(CSVデータ4!E9),CSVデータ4!E9,0)","v":0},{"$f":"IF(ISNUMBER(CSVデータ1!F9),CSVデータ1!F9,0)+IF(ISNUMBER(CSVデータ2!F9),CSVデータ2!F9,0)+IF(ISNUMBER(CSVデータ3!F9),CSVデータ3!F9,0)+IF(ISNUMBER(CSVデータ4!F9),CSVデータ4!F9,0)","v":0},null,{"$f":"IF(ISNUMBER(CSVデータ1!H9),CSVデータ1!H9,0)+IF(ISNUMBER(CSVデータ2!H9),CSVデータ2!H9,0)+IF(ISNUMBER(CSVデータ3!H9),CSVデータ3!H9,0)+IF(ISNUMBER(CSVデータ4!H9),CSVデータ4!H9,0)","v":0},null,{"$f":"IF(ISNUMBER(CSVデータ1!J9),CSVデータ1!J9,0)+IF(ISNUMBER(CSVデータ2!J9),CSVデータ2!J9,0)+IF(ISNUMBER(CSVデータ3!J9),CSVデータ3!J9,0)+IF(ISNUMBER(CSVデータ4!J9),CSVデータ4!J9,0)","v":0},null,{"$f":"IF(ISNUMBER(CSVデータ1!L9),CSVデータ1!L9,0)+IF(ISNUMBER(CSVデータ2!L9),CSVデータ2!L9,0)+IF(ISNUMBER(CSVデータ3!L9),CSVデータ3!L9,0)+IF(ISNUMBER(CSVデータ4!L9),CSVデータ4!L9,0)","v":0},null,{"$f":"IF(ISNUMBER(CSVデータ1!N9),CSVデータ1!N9,0)+IF(ISNUMBER(CSVデータ2!N9),CSVデータ2!N9,0)+IF(ISNUMBER(CSVデータ3!N9),CSVデータ3!N9,0)+IF(ISNUMBER(CSVデータ4!N9),CSVデータ4!N9,0)","v":0},null,{"$f":"IF(ISNUMBER(CSVデータ1!P9),CSVデータ1!P9,0)+IF(ISNUMBER(CSVデータ2!P9),CSVデータ2!P9,0)+IF(ISNUMBER(CSVデータ3!P9),CSVデータ3!P9,0)+IF(ISNUMBER(CSVデータ4!P9),CSVデータ4!P9,0)","v":0},null,{"$f":"IF(ISNUMBER(CSVデータ1!R9),CSVデータ1!R9,0)+IF(ISNUMBER(CSVデータ2!R9),CSVデータ2!R9,0)+IF(ISNUMBER(CSVデータ3!R9),CSVデータ3!R9,0)+IF(ISNUMBER(CSVデータ4!R9),CSVデータ4!R9,0)","v":0},null,{"$f":"IF(ISNUMBER(CSVデータ1!T9),CSVデータ1!T9,0)+IF(ISNUMBER(CSVデータ2!T9),CSVデータ2!T9,0)+IF(ISNUMBER(CSVデータ3!T9),CSVデータ3!T9,0)+IF(ISNUMBER(CSVデータ4!T9),CSVデータ4!T9,0)","v":0},null,{"$f":"IF(ISNUMBER(CSVデータ1!V9),CSVデータ1!V9,0)+IF(ISNUMBER(CSVデータ2!V9),CSVデータ2!V9,0)+IF(ISNUMBER(CSVデータ3!V9),CSVデータ3!V9,0)+IF(ISNUMBER(CSVデータ4!V9),CSVデータ4!V9,0)","v":0},null,{"$f":"IF(ISNUMBER(CSVデータ1!X9),CSVデータ1!X9,0)+IF(ISNUMBER(CSVデータ2!X9),CSVデータ2!X9,0)+IF(ISNUMBER(CSVデータ3!X9),CSVデータ3!X9,0)+IF(ISNUMBER(CSVデータ4!X9),CSVデータ4!X9,0)","v":0},null,{"$f":"IF(ISNUMBER(CSVデータ1!Z9),CSVデータ1!Z9,0)+IF(ISNUMBER(CSVデータ2!Z9),CSVデータ2!Z9,0)+IF(ISNUMBER(CSVデータ3!Z9),CSVデータ3!Z9,0)+IF(ISNUMBER(CSVデータ4!Z9),CSVデータ4!Z9,0)","v":0},null,{"$f":"IF(ISNUMBER(CSVデータ1!AB9),CSVデータ1!AB9,0)+IF(ISNUMBER(CSVデータ2!AB9),CSVデータ2!AB9,0)+IF(ISNUMBER(CSVデータ3!AB9),CSVデータ3!AB9,0)+IF(ISNUMBER(CSVデータ4!AB9),CSVデータ4!AB9,0)","v":0},null,{"$f":"IF(ISNUMBER(CSVデータ1!AD9),CSVデータ1!AD9,0)+IF(ISNUMBER(CSVデータ2!AD9),CSVデータ2!AD9,0)+IF(ISNUMBER(CSVデータ3!AD9),CSVデータ3!AD9,0)+IF(ISNUMBER(CSVデータ4!AD9),CSVデータ4!AD9,0)","v":0},null,{"$f":"IF(ISNUMBER(CSVデータ1!AF9),CSVデータ1!AF9,0)+IF(ISNUMBER(CSVデータ2!AF9),CSVデータ2!AF9,0)+IF(ISNUMBER(CSVデータ3!AF9),CSVデータ3!AF9,0)+IF(ISNUMBER(CSVデータ4!AF9),CSVデータ4!AF9,0)","v":0},null,{"$f":"IF(ISNUMBER(CSVデータ1!AH9),CSVデータ1!AH9,0)+IF(ISNUMBER(CSVデータ2!AH9),CSVデータ2!AH9,0)+IF(ISNUMBER(CSVデータ3!AH9),CSVデータ3!AH9,0)+IF(ISNUMBER(CSVデータ4!AH9),CSVデータ4!AH9,0)","v":0},null,{"$f":"IF(ISNUMBER(CSVデータ1!AJ9),CSVデータ1!AJ9,0)+IF(ISNUMBER(CSVデータ2!AJ9),CSVデータ2!AJ9,0)+IF(ISNUMBER(CSVデータ3!AJ9),CSVデータ3!AJ9,0)+IF(ISNUMBER(CSVデータ4!AJ9),CSVデータ4!AJ9,0)","v":0},null,{"$f":"IF(ISNUMBER(CSVデータ1!AL9),CSVデータ1!AL9,0)+IF(ISNUMBER(CSVデータ2!AL9),CSVデータ2!AL9,0)+IF(ISNUMBER(CSVデータ3!AL9),CSVデータ3!AL9,0)+IF(ISNUMBER(CSVデータ4!AL9),CSVデータ4!AL9,0)","v":0},null,{"$f":"IF(ISNUMBER(CSVデータ1!AN9),CSVデータ1!AN9,0)+IF(ISNUMBER(CSVデータ2!AN9),CSVデータ2!AN9,0)+IF(ISNUMBER(CSVデータ3!AN9),CSVデータ3!AN9,0)+IF(ISNUMBER(CSVデータ4!AN9),CSVデータ4!AN9,0)","v":0}]
[{"$f":"CSVデータ1!A10","v":"明細部"},{"$f":"CSVデータ1!B10","v":"国"},{"$f":"CSVデータ1!C10","v":46},{"$f":"CSVデータ1!D10","v":"男"},{"$f":"IF(ISNUMBER(CSVデータ1!E10),CSVデータ1!E10,0)+IF(ISNUMBER(CSVデータ2!E10),CSVデータ2!E10,0)+IF(ISNUMBER(CSVデータ3!E10),CSVデータ3!E10,0)+IF(ISNUMBER(CSVデータ4!E10),CSVデータ4!E10,0)","v":0},{"$f":"IF(ISNUMBER(CSVデータ1!F10),CSVデータ1!F10,0)+IF(ISNUMBER(CSVデータ2!F10),CSVデータ2!F10,0)+IF(ISNUMBER(CSVデータ3!F10),CSVデータ3!F10,0)+IF(ISNUMBER(CSVデータ4!F10),CSVデータ4!F10,0)","v":0},null,{"$f":"IF(ISNUMBER(CSVデータ1!H10),CSVデータ1!H10,0)+IF(ISNUMBER(CSVデータ2!H10),CSVデータ2!H10,0)+IF(ISNUMBER(CSVデータ3!H10),CSVデータ3!H10,0)+IF(ISNUMBER(CSVデータ4!H10),CSVデータ4!H10,0)","v":0},null,{"$f":"IF(ISNUMBER(CSVデータ1!J10),CSVデータ1!J10,0)+IF(ISNUMBER(CSVデータ2!J10),CSVデータ2!J10,0)+IF(ISNUMBER(CSVデータ3!J10),CSVデータ3!J10,0)+IF(ISNUMBER(CSVデータ4!J10),CSVデータ4!J10,0)","v":0},null,{"$f":"IF(ISNUMBER(CSVデータ1!L10),CSVデータ1!L10,0)+IF(ISNUMBER(CSVデータ2!L10),CSVデータ2!L10,0)+IF(ISNUMBER(CSVデータ3!L10),CSVデータ3!L10,0)+IF(ISNUMBER(CSVデータ4!L10),CSVデータ4!L10,0)","v":0},null,{"$f":"IF(ISNUMBER(CSVデータ1!N10),CSVデータ1!N10,0)+IF(ISNUMBER(CSVデータ2!N10),CSVデータ2!N10,0)+IF(ISNUMBER(CSVデータ3!N10),CSVデータ3!N10,0)+IF(ISNUMBER(CSVデータ4!N10),CSVデータ4!N10,0)","v":0},null,{"$f":"IF(ISNUMBER(CSVデータ1!P10),CSVデータ1!P10,0)+IF(ISNUMBER(CSVデータ2!P10),CSVデータ2!P10,0)+IF(ISNUMBER(CSVデータ3!P10),CSVデータ3!P10,0)+IF(ISNUMBER(CSVデータ4!P10),CSVデータ4!P10,0)","v":0},null,{"$f":"IF(ISNUMBER(CSVデータ1!R10),CSVデータ1!R10,0)+IF(ISNUMBER(CSVデータ2!R10),CSVデータ2!R10,0)+IF(ISNUMBER(CSVデータ3!R10),CSVデータ3!R10,0)+IF(ISNUMBER(CSVデータ4!R10),CSVデータ4!R10,0)","v":0},null,{"$f":"IF(ISNUMBER(CSVデータ1!T10),CSVデータ1!T10,0)+IF(ISNUMBER(CSVデータ2!T10),CSVデータ2!T10,0)+IF(ISNUMBER(CSVデータ3!T10),CSVデータ3!T10,0)+IF(ISNUMBER(CSVデータ4!T10),CSVデータ4!T10,0)","v":0},null,{"$f":"IF(ISNUMBER(CSVデータ1!V10),CSVデータ1!V10,0)+IF(ISNUMBER(CSVデータ2!V10),CSVデータ2!V10,0)+IF(ISNUMBER(CSVデータ3!V10),CSVデータ3!V10,0)+IF(ISNUMBER(CSVデータ4!V10),CSVデータ4!V10,0)","v":0},null,{"$f":"IF(ISNUMBER(CSVデータ1!X10),CSVデータ1!X10,0)+IF(ISNUMBER(CSVデータ2!X10),CSVデータ2!X10,0)+IF(ISNUMBER(CSVデータ3!X10),CSVデータ3!X10,0)+IF(ISNUMBER(CSVデータ4!X10),CSVデータ4!X10,0)","v":0},null,{"$f":"IF(ISNUMBER(CSVデータ1!Z10),CSVデータ1!Z10,0)+IF(ISNUMBER(CSVデータ2!Z10),CSVデータ2!Z10,0)+IF(ISNUMBER(CSVデータ3!Z10),CSVデータ3!Z10,0)+IF(ISNUMBER(CSVデータ4!Z10),CSVデータ4!Z10,0)","v":0},null,{"$f":"IF(ISNUMBER(CSVデータ1!AB10),CSVデータ1!AB10,0)+IF(ISNUMBER(CSVデータ2!AB10),CSVデータ2!AB10,0)+IF(ISNUMBER(CSVデータ3!AB10),CSVデータ3!AB10,0)+IF(ISNUMBER(CSVデータ4!AB10),CSVデータ4!AB10,0)","v":0},null,{"$f":"IF(ISNUMBER(CSVデータ1!AD10),CSVデータ1!AD10,0)+IF(ISNUMBER(CSVデータ2!AD10),CSVデータ2!AD10,0)+IF(ISNUMBER(CSVデータ3!AD10),CSVデータ3!AD10,0)+IF(ISNUMBER(CSVデータ4!AD10),CSVデータ4!AD10,0)","v":0},null,{"$f":"IF(ISNUMBER(CSVデータ1!AF10),CSVデータ1!AF10,0)+IF(ISNUMBER(CSVデータ2!AF10),CSVデータ2!AF10,0)+IF(ISNUMBER(CSVデータ3!AF10),CSVデータ3!AF10,0)+IF(ISNUMBER(CSVデータ4!AF10),CSVデータ4!AF10,0)","v":0},null,{"$f":"IF(ISNUMBER(CSVデータ1!AH10),CSVデータ1!AH10,0)+IF(ISNUMBER(CSVデータ2!AH10),CSVデータ2!AH10,0)+IF(ISNUMBER(CSVデータ3!AH10),CSVデータ3!AH10,0)+IF(ISNUMBER(CSVデータ4!AH10),CSVデータ4!AH10,0)","v":0},null,{"$f":"IF(ISNUMBER(CSVデータ1!AJ10),CSVデータ1!AJ10,0)+IF(ISNUMBER(CSVデータ2!AJ10),CSVデータ2!AJ10,0)+IF(ISNUMBER(CSVデータ3!AJ10),CSVデータ3!AJ10,0)+IF(ISNUMBER(CSVデータ4!AJ10),CSVデータ4!AJ10,0)","v":0},null,{"$f":"IF(ISNUMBER(CSVデータ1!AL10),CSVデータ1!AL10,0)+IF(ISNUMBER(CSVデータ2!AL10),CSVデータ2!AL10,0)+IF(ISNUMBER(CSVデータ3!AL10),CSVデータ3!AL10,0)+IF(ISNUMBER(CSVデータ4!AL10),CSVデータ4!AL10,0)","v":0},null,{"$f":"IF(ISNUMBER(CSVデータ1!AN10),CSVデータ1!AN10,0)+IF(ISNUMBER(CSVデータ2!AN10),CSVデータ2!AN10,0)+IF(ISNUMBER(CSVデータ3!AN10),CSVデータ3!AN10,0)+IF(ISNUMBER(CSVデータ4!AN10),CSVデータ4!AN10,0)","v":0}]
[{"$f":"CSVデータ1!A11","v":"明細部"},{"$f":"CSVデータ1!B11","v":"国"},{"$f":"CSVデータ1!C11","v":47},{"$f":"CSVデータ1!D11","v":"男"},{"$f":"IF(ISNUMBER(CSVデータ1!E11),CSVデータ1!E11,0)+IF(ISNUMBER(CSVデータ2!E11),CSVデータ2!E11,0)+IF(ISNUMBER(CSVデータ3!E11),CSVデータ3!E11,0)+IF(ISNUMBER(CSVデータ4!E11),CSVデータ4!E11,0)","v":0},{"$f":"IF(ISNUMBER(CSVデータ1!F11),CSVデータ1!F11,0)+IF(ISNUMBER(CSVデータ2!F11),CSVデータ2!F11,0)+IF(ISNUMBER(CSVデータ3!F11),CSVデータ3!F11,0)+IF(ISNUMBER(CSVデータ4!F11),CSVデータ4!F11,0)","v":0},null,{"$f":"IF(ISNUMBER(CSVデータ1!H11),CSVデータ1!H11,0)+IF(ISNUMBER(CSVデータ2!H11),CSVデータ2!H11,0)+IF(ISNUMBER(CSVデータ3!H11),CSVデータ3!H11,0)+IF(ISNUMBER(CSVデータ4!H11),CSVデータ4!H11,0)","v":0},null,{"$f":"IF(ISNUMBER(CSVデータ1!J11),CSVデータ1!J11,0)+IF(ISNUMBER(CSVデータ2!J11),CSVデータ2!J11,0)+IF(ISNUMBER(CSVデータ3!J11),CSVデータ3!J11,0)+IF(ISNUMBER(CSVデータ4!J11),CSVデータ4!J11,0)","v":0},null,{"$f":"IF(ISNUMBER(CSVデータ1!L11),CSVデータ1!L11,0)+IF(ISNUMBER(CSVデータ2!L11),CSVデータ2!L11,0)+IF(ISNUMBER(CSVデータ3!L11),CSVデータ3!L11,0)+IF(ISNUMBER(CSVデータ4!L11),CSVデータ4!L11,0)","v":0},null,{"$f":"IF(ISNUMBER(CSVデータ1!N11),CSVデータ1!N11,0)+IF(ISNUMBER(CSVデータ2!N11),CSVデータ2!N11,0)+IF(ISNUMBER(CSVデータ3!N11),CSVデータ3!N11,0)+IF(ISNUMBER(CSVデータ4!N11),CSVデータ4!N11,0)","v":0},null,{"$f":"IF(ISNUMBER(CSVデータ1!P11),CSVデータ1!P11,0)+IF(ISNUMBER(CSVデータ2!P11),CSVデータ2!P11,0)+IF(ISNUMBER(CSVデータ3!P11),CSVデータ3!P11,0)+IF(ISNUMBER(CSVデータ4!P11),CSVデータ4!P11,0)","v":0},null,{"$f":"IF(ISNUMBER(CSVデータ1!R11),CSVデータ1!R11,0)+IF(ISNUMBER(CSVデータ2!R11),CSVデータ2!R11,0)+IF(ISNUMBER(CSVデータ3!R11),CSVデータ3!R11,0)+IF(ISNUMBER(CSVデータ4!R11),CSVデータ4!R11,0)","v":0},null,{"$f":"IF(ISNUMBER(CSVデータ1!T11),CSVデータ1!T11,0)+IF(ISNUMBER(CSVデータ2!T11),CSVデータ2!T11,0)+IF(ISNUMBER(CSVデータ3!T11),CSVデータ3!T11,0)+IF(ISNUMBER(CSVデータ4!T11),CSVデータ4!T11,0)","v":0},null,{"$f":"IF(ISNUMBER(CSVデータ1!V11),CSVデータ1!V11,0)+IF(ISNUMBER(CSVデータ2!V11),CSVデータ2!V11,0)+IF(ISNUMBER(CSVデータ3!V11),CSVデータ3!V11,0)+IF(ISNUMBER(CSVデータ4!V11),CSVデータ4!V11,0)","v":0},null,{"$f":"IF(ISNUMBER(CSVデータ1!X11),CSVデータ1!X11,0)+IF(ISNUMBER(CSVデータ2!X11),CSVデータ2!X11,0)+IF(ISNUMBER(CSVデータ3!X11),CSVデータ3!X11,0)+IF(ISNUMBER(CSVデータ4!X11),CSVデータ4!X11,0)","v":0},null,{"$f":"IF(ISNUMBER(CSVデータ1!Z11),CSVデータ1!Z11,0)+IF(ISNUMBER(CSVデータ2!Z11),CSVデータ2!Z11,0)+IF(ISNUMBER(CSVデータ3!Z11),CSVデータ3!Z11,0)+IF(ISNUMBER(CSVデータ4!Z11),CSVデータ4!Z11,0)","v":0},null,{"$f":"IF(ISNUMBER(CSVデータ1!AB11),CSVデータ1!AB11,0)+IF(ISNUMBER(CSVデータ2!AB11),CSVデータ2!AB11,0)+IF(ISNUMBER(CSVデータ3!AB11),CSVデータ3!AB11,0)+IF(ISNUMBER(CSVデータ4!AB11),CSVデータ4!AB11,0)","v":0},null,{"$f":"IF(ISNUMBER(CSVデータ1!AD11),CSVデータ1!AD11,0)+IF(ISNUMBER(CSVデータ2!AD11),CSVデータ2!AD11,0)+IF(ISNUMBER(CSVデータ3!AD11),CSVデータ3!AD11,0)+IF(ISNUMBER(CSVデータ4!AD11),CSVデータ4!AD11,0)","v":0},null,{"$f":"IF(ISNUMBER(CSVデータ1!AF11),CSVデータ1!AF11,0)+IF(ISNUMBER(CSVデータ2!AF11),CSVデータ2!AF11,0)+IF(ISNUMBER(CSVデータ3!AF11),CSVデータ3!AF11,0)+IF(ISNUMBER(CSVデータ4!AF11),CSVデータ4!AF11,0)","v":0},null,{"$f":"IF(ISNUMBER(CSVデータ1!AH11),CSVデータ1!AH11,0)+IF(ISNUMBER(CSVデータ2!AH11),CSVデータ2!AH11,0)+IF(ISNUMBER(CSVデータ3!AH11),CSVデータ3!AH11,0)+IF(ISNUMBER(CSVデータ4!AH11),CSVデータ4!AH11,0)","v":0},null,{"$f":"IF(ISNUMBER(CSVデータ1!AJ11),CSVデータ1!AJ11,0)+IF(ISNUMBER(CSVデータ2!AJ11),CSVデータ2!AJ11,0)+IF(ISNUMBER(CSVデータ3!AJ11),CSVデータ3!AJ11,0)+IF(ISNUMBER(CSVデータ4!AJ11),CSVデータ4!AJ11,0)","v":0},null,{"$f":"IF(ISNUMBER(CSVデータ1!AL11),CSVデータ1!AL11,0)+IF(ISNUMBER(CSVデータ2!AL11),CSVデータ2!AL11,0)+IF(ISNUMBER(CSVデータ3!AL11),CSVデータ3!AL11,0)+IF(ISNUMBER(CSVデータ4!AL11),CSVデータ4!AL11,0)","v":0},null,{"$f":"IF(ISNUMBER(CSVデータ1!AN11),CSVデータ1!AN11,0)+IF(ISNUMBER(CSVデータ2!AN11),CSVデータ2!AN11,0)+IF(ISNUMBER(CSVデータ3!AN11),CSVデータ3!AN11,0)+IF(ISNUMBER(CSVデータ4!AN11),CSVデータ4!AN11,0)","v":0}]
[{"$f":"CSVデータ1!A12","v":"明細部"},{"$f":"CSVデータ1!B12","v":"国"},{"$f":"CSVデータ1!C12","v":48},{"$f":"CSVデータ1!D12","v":"男"},{"$f":"IF(ISNUMBER(CSVデータ1!E12),CSVデータ1!E12,0)+IF(ISNUMBER(CSVデータ2!E12),CSVデータ2!E12,0)+IF(ISNUMBER(CSVデータ3!E12),CSVデータ3!E12,0)+IF(ISNUMBER(CSVデータ4!E12),CSVデータ4!E12,0)","v":0},{"$f":"IF(ISNUMBER(CSVデータ1!F12),CSVデータ1!F12,0)+IF(ISNUMBER(CSVデータ2!F12),CSVデータ2!F12,0)+IF(ISNUMBER(CSVデータ3!F12),CSVデータ3!F12,0)+IF(ISNUMBER(CSVデータ4!F12),CSVデータ4!F12,0)","v":0},null,{"$f":"IF(ISNUMBER(CSVデータ1!H12),CSVデータ1!H12,0)+IF(ISNUMBER(CSVデータ2!H12),CSVデータ2!H12,0)+IF(ISNUMBER(CSVデータ3!H12),CSVデータ3!H12,0)+IF(ISNUMBER(CSVデータ4!H12),CSVデータ4!H12,0)","v":0},null,{"$f":"IF(ISNUMBER(CSVデータ1!J12),CSVデータ1!J12,0)+IF(ISNUMBER(CSVデータ2!J12),CSVデータ2!J12,0)+IF(ISNUMBER(CSVデータ3!J12),CSVデータ3!J12,0)+IF(ISNUMBER(CSVデータ4!J12),CSVデータ4!J12,0)","v":0},null,{"$f":"IF(ISNUMBER(CSVデータ1!L12),CSVデータ1!L12,0)+IF(ISNUMBER(CSVデータ2!L12),CSVデータ2!L12,0)+IF(ISNUMBER(CSVデータ3!L12),CSVデータ3!L12,0)+IF(ISNUMBER(CSVデータ4!L12),CSVデータ4!L12,0)","v":0},null,{"$f":"IF(ISNUMBER(CSVデータ1!N12),CSVデータ1!N12,0)+IF(ISNUMBER(CSVデータ2!N12),CSVデータ2!N12,0)+IF(ISNUMBER(CSVデータ3!N12),CSVデータ3!N12,0)+IF(ISNUMBER(CSVデータ4!N12),CSVデータ4!N12,0)","v":0},null,{"$f":"IF(ISNUMBER(CSVデータ1!P12),CSVデータ1!P12,0)+IF(ISNUMBER(CSVデータ2!P12),CSVデータ2!P12,0)+IF(ISNUMBER(CSVデータ3!P12),CSVデータ3!P12,0)+IF(ISNUMBER(CSVデータ4!P12),CSVデータ4!P12,0)","v":0},null,{"$f":"IF(ISNUMBER(CSVデータ1!R12),CSVデータ1!R12,0)+IF(ISNUMBER(CSVデータ2!R12),CSVデータ2!R12,0)+IF(ISNUMBER(CSVデータ3!R12),CSVデータ3!R12,0)+IF(ISNUMBER(CSVデータ4!R12),CSVデータ4!R12,0)","v":0},null,{"$f":"IF(ISNUMBER(CSVデータ1!T12),CSVデータ1!T12,0)+IF(ISNUMBER(CSVデータ2!T12),CSVデータ2!T12,0)+IF(ISNUMBER(CSVデータ3!T12),CSVデータ3!T12,0)+IF(ISNUMBER(CSVデータ4!T12),CSVデータ4!T12,0)","v":0},null,{"$f":"IF(ISNUMBER(CSVデータ1!V12),CSVデータ1!V12,0)+IF(ISNUMBER(CSVデータ2!V12),CSVデータ2!V12,0)+IF(ISNUMBER(CSVデータ3!V12),CSVデータ3!V12,0)+IF(ISNUMBER(CSVデータ4!V12),CSVデータ4!V12,0)","v":0},null,{"$f":"IF(ISNUMBER(CSVデータ1!X12),CSVデータ1!X12,0)+IF(ISNUMBER(CSVデータ2!X12),CSVデータ2!X12,0)+IF(ISNUMBER(CSVデータ3!X12),CSVデータ3!X12,0)+IF(ISNUMBER(CSVデータ4!X12),CSVデータ4!X12,0)","v":0},null,{"$f":"IF(ISNUMBER(CSVデータ1!Z12),CSVデータ1!Z12,0)+IF(ISNUMBER(CSVデータ2!Z12),CSVデータ2!Z12,0)+IF(ISNUMBER(CSVデータ3!Z12),CSVデータ3!Z12,0)+IF(ISNUMBER(CSVデータ4!Z12),CSVデータ4!Z12,0)","v":0},null,{"$f":"IF(ISNUMBER(CSVデータ1!AB12),CSVデータ1!AB12,0)+IF(ISNUMBER(CSVデータ2!AB12),CSVデータ2!AB12,0)+IF(ISNUMBER(CSVデータ3!AB12),CSVデータ3!AB12,0)+IF(ISNUMBER(CSVデータ4!AB12),CSVデータ4!AB12,0)","v":0},null,{"$f":"IF(ISNUMBER(CSVデータ1!AD12),CSVデータ1!AD12,0)+IF(ISNUMBER(CSVデータ2!AD12),CSVデータ2!AD12,0)+IF(ISNUMBER(CSVデータ3!AD12),CSVデータ3!AD12,0)+IF(ISNUMBER(CSVデータ4!AD12),CSVデータ4!AD12,0)","v":0},null,{"$f":"IF(ISNUMBER(CSVデータ1!AF12),CSVデータ1!AF12,0)+IF(ISNUMBER(CSVデータ2!AF12),CSVデータ2!AF12,0)+IF(ISNUMBER(CSVデータ3!AF12),CSVデータ3!AF12,0)+IF(ISNUMBER(CSVデータ4!AF12),CSVデータ4!AF12,0)","v":0},null,{"$f":"IF(ISNUMBER(CSVデータ1!AH12),CSVデータ1!AH12,0)+IF(ISNUMBER(CSVデータ2!AH12),CSVデータ2!AH12,0)+IF(ISNUMBER(CSVデータ3!AH12),CSVデータ3!AH12,0)+IF(ISNUMBER(CSVデータ4!AH12),CSVデータ4!AH12,0)","v":0},null,{"$f":"IF(ISNUMBER(CSVデータ1!AJ12),CSVデータ1!AJ12,0)+IF(ISNUMBER(CSVデータ2!AJ12),CSVデータ2!AJ12,0)+IF(ISNUMBER(CSVデータ3!AJ12),CSVデータ3!AJ12,0)+IF(ISNUMBER(CSVデータ4!AJ12),CSVデータ4!AJ12,0)","v":0},null,{"$f":"IF(ISNUMBER(CSVデータ1!AL12),CSVデータ1!AL12,0)+IF(ISNUMBER(CSVデータ2!AL12),CSVデータ2!AL12,0)+IF(ISNUMBER(CSVデータ3!AL12),CSVデータ3!AL12,0)+IF(ISNUMBER(CSVデータ4!AL12),CSVデータ4!AL12,0)","v":0},null,{"$f":"IF(ISNUMBER(CSVデータ1!AN12),CSVデータ1!AN12,0)+IF(ISNUMBER(CSVデータ2!AN12),CSVデータ2!AN12,0)+IF(ISNUMBER(CSVデータ3!AN12),CSVデータ3!AN12,0)+IF(ISNUMBER(CSVデータ4!AN12),CSVデータ4!AN12,0)","v":0}]
[{"$f":"CSVデータ1!A13","v":"明細部"},{"$f":"CSVデータ1!B13","v":"国"},{"$f":"CSVデータ1!C13","v":49},{"$f":"CSVデータ1!D13","v":"男"},{"$f":"IF(ISNUMBER(CSVデータ1!E13),CSVデータ1!E13,0)+IF(ISNUMBER(CSVデータ2!E13),CSVデータ2!E13,0)+IF(ISNUMBER(CSVデータ3!E13),CSVデータ3!E13,0)+IF(ISNUMBER(CSVデータ4!E13),CSVデータ4!E13,0)","v":0},{"$f":"IF(ISNUMBER(CSVデータ1!F13),CSVデータ1!F13,0)+IF(ISNUMBER(CSVデータ2!F13),CSVデータ2!F13,0)+IF(ISNUMBER(CSVデータ3!F13),CSVデータ3!F13,0)+IF(ISNUMBER(CSVデータ4!F13),CSVデータ4!F13,0)","v":0},null,{"$f":"IF(ISNUMBER(CSVデータ1!H13),CSVデータ1!H13,0)+IF(ISNUMBER(CSVデータ2!H13),CSVデータ2!H13,0)+IF(ISNUMBER(CSVデータ3!H13),CSVデータ3!H13,0)+IF(ISNUMBER(CSVデータ4!H13),CSVデータ4!H13,0)","v":0},null,{"$f":"IF(ISNUMBER(CSVデータ1!J13),CSVデータ1!J13,0)+IF(ISNUMBER(CSVデータ2!J13),CSVデータ2!J13,0)+IF(ISNUMBER(CSVデータ3!J13),CSVデータ3!J13,0)+IF(ISNUMBER(CSVデータ4!J13),CSVデータ4!J13,0)","v":0},null,{"$f":"IF(ISNUMBER(CSVデータ1!L13),CSVデータ1!L13,0)+IF(ISNUMBER(CSVデータ2!L13),CSVデータ2!L13,0)+IF(ISNUMBER(CSVデータ3!L13),CSVデータ3!L13,0)+IF(ISNUMBER(CSVデータ4!L13),CSVデータ4!L13,0)","v":0},null,{"$f":"IF(ISNUMBER(CSVデータ1!N13),CSVデータ1!N13,0)+IF(ISNUMBER(CSVデータ2!N13),CSVデータ2!N13,0)+IF(ISNUMBER(CSVデータ3!N13),CSVデータ3!N13,0)+IF(ISNUMBER(CSVデータ4!N13),CSVデータ4!N13,0)","v":0},null,{"$f":"IF(ISNUMBER(CSVデータ1!P13),CSVデータ1!P13,0)+IF(ISNUMBER(CSVデータ2!P13),CSVデータ2!P13,0)+IF(ISNUMBER(CSVデータ3!P13),CSVデータ3!P13,0)+IF(ISNUMBER(CSVデータ4!P13),CSVデータ4!P13,0)","v":0},null,{"$f":"IF(ISNUMBER(CSVデータ1!R13),CSVデータ1!R13,0)+IF(ISNUMBER(CSVデータ2!R13),CSVデータ2!R13,0)+IF(ISNUMBER(CSVデータ3!R13),CSVデータ3!R13,0)+IF(ISNUMBER(CSVデータ4!R13),CSVデータ4!R13,0)","v":0},null,{"$f":"IF(ISNUMBER(CSVデータ1!T13),CSVデータ1!T13,0)+IF(ISNUMBER(CSVデータ2!T13),CSVデータ2!T13,0)+IF(ISNUMBER(CSVデータ3!T13),CSVデータ3!T13,0)+IF(ISNUMBER(CSVデータ4!T13),CSVデータ4!T13,0)","v":0},null,{"$f":"IF(ISNUMBER(CSVデータ1!V13),CSVデータ1!V13,0)+IF(ISNUMBER(CSVデータ2!V13),CSVデータ2!V13,0)+IF(ISNUMBER(CSVデータ3!V13),CSVデータ3!V13,0)+IF(ISNUMBER(CSVデータ4!V13),CSVデータ4!V13,0)","v":0},null,{"$f":"IF(ISNUMBER(CSVデータ1!X13),CSVデータ1!X13,0)+IF(ISNUMBER(CSVデータ2!X13),CSVデータ2!X13,0)+IF(ISNUMBER(CSVデータ3!X13),CSVデータ3!X13,0)+IF(ISNUMBER(CSVデータ4!X13),CSVデータ4!X13,0)","v":0},null,{"$f":"IF(ISNUMBER(CSVデータ1!Z13),CSVデータ1!Z13,0)+IF(ISNUMBER(CSVデータ2!Z13),CSVデータ2!Z13,0)+IF(ISNUMBER(CSVデータ3!Z13),CSVデータ3!Z13,0)+IF(ISNUMBER(CSVデータ4!Z13),CSVデータ4!Z13,0)","v":0},null,{"$f":"IF(ISNUMBER(CSVデータ1!AB13),CSVデータ1!AB13,0)+IF(ISNUMBER(CSVデータ2!AB13),CSVデータ2!AB13,0)+IF(ISNUMBER(CSVデータ3!AB13),CSVデータ3!AB13,0)+IF(ISNUMBER(CSVデータ4!AB13),CSVデータ4!AB13,0)","v":0},null,{"$f":"IF(ISNUMBER(CSVデータ1!AD13),CSVデータ1!AD13,0)+IF(ISNUMBER(CSVデータ2!AD13),CSVデータ2!AD13,0)+IF(ISNUMBER(CSVデータ3!AD13),CSVデータ3!AD13,0)+IF(ISNUMBER(CSVデータ4!AD13),CSVデータ4!AD13,0)","v":0},null,{"$f":"IF(ISNUMBER(CSVデータ1!AF13),CSVデータ1!AF13,0)+IF(ISNUMBER(CSVデータ2!AF13),CSVデータ2!AF13,0)+IF(ISNUMBER(CSVデータ3!AF13),CSVデータ3!AF13,0)+IF(ISNUMBER(CSVデータ4!AF13),CSVデータ4!AF13,0)","v":0},null,{"$f":"IF(ISNUMBER(CSVデータ1!AH13),CSVデータ1!AH13,0)+IF(ISNUMBER(CSVデータ2!AH13),CSVデータ2!AH13,0)+IF(ISNUMBER(CSVデータ3!AH13),CSVデータ3!AH13,0)+IF(ISNUMBER(CSVデータ4!AH13),CSVデータ4!AH13,0)","v":0},null,{"$f":"IF(ISNUMBER(CSVデータ1!AJ13),CSVデータ1!AJ13,0)+IF(ISNUMBER(CSVデータ2!AJ13),CSVデータ2!AJ13,0)+IF(ISNUMBER(CSVデータ3!AJ13),CSVデータ3!AJ13,0)+IF(ISNUMBER(CSVデータ4!AJ13),CSVデータ4!AJ13,0)","v":0},null,{"$f":"IF(ISNUMBER(CSVデータ1!AL13),CSVデータ1!AL13,0)+IF(ISNUMBER(CSVデータ2!AL13),CSVデータ2!AL13,0)+IF(ISNUMBER(CSVデータ3!AL13),CSVデータ3!AL13,0)+IF(ISNUMBER(CSVデータ4!AL13),CSVデータ4!AL13,0)","v":0},null,{"$f":"IF(ISNUMBER(CSVデータ1!AN13),CSVデータ1!AN13,0)+IF(ISNUMBER(CSVデータ2!AN13),CSVデータ2!AN13,0)+IF(ISNUMBER(CSVデータ3!AN13),CSVデータ3!AN13,0)+IF(ISNUMBER(CSVデータ4!AN13),CSVデータ4!AN13,0)","v":0}]
[{"$f":"CSVデータ1!A14","v":"明細部"},{"$f":"CSVデータ1!B14","v":"国"},{"$f":"CSVデータ1!C14","v":50},{"$f":"CSVデータ1!D14","v":"男"},{"$f":"IF(ISNUMBER(CSVデータ1!E14),CSVデータ1!E14,0)+IF(ISNUMBER(CSVデータ2!E14),CSVデータ2!E14,0)+IF(ISNUMBER(CSVデータ3!E14),CSVデータ3!E14,0)+IF(ISNUMBER(CSVデータ4!E14),CSVデータ4!E14,0)","v":0},{"$f":"IF(ISNUMBER(CSVデータ1!F14),CSVデータ1!F14,0)+IF(ISNUMBER(CSVデータ2!F14),CSVデータ2!F14,0)+IF(ISNUMBER(CSVデータ3!F14),CSVデータ3!F14,0)+IF(ISNUMBER(CSVデータ4!F14),CSVデータ4!F14,0)","v":0},null,{"$f":"IF(ISNUMBER(CSVデータ1!H14),CSVデータ1!H14,0)+IF(ISNUMBER(CSVデータ2!H14),CSVデータ2!H14,0)+IF(ISNUMBER(CSVデータ3!H14),CSVデータ3!H14,0)+IF(ISNUMBER(CSVデータ4!H14),CSVデータ4!H14,0)","v":0},null,{"$f":"IF(ISNUMBER(CSVデータ1!J14),CSVデータ1!J14,0)+IF(ISNUMBER(CSVデータ2!J14),CSVデータ2!J14,0)+IF(ISNUMBER(CSVデータ3!J14),CSVデータ3!J14,0)+IF(ISNUMBER(CSVデータ4!J14),CSVデータ4!J14,0)","v":0},null,{"$f":"IF(ISNUMBER(CSVデータ1!L14),CSVデータ1!L14,0)+IF(ISNUMBER(CSVデータ2!L14),CSVデータ2!L14,0)+IF(ISNUMBER(CSVデータ3!L14),CSVデータ3!L14,0)+IF(ISNUMBER(CSVデータ4!L14),CSVデータ4!L14,0)","v":0},null,{"$f":"IF(ISNUMBER(CSVデータ1!N14),CSVデータ1!N14,0)+IF(ISNUMBER(CSVデータ2!N14),CSVデータ2!N14,0)+IF(ISNUMBER(CSVデータ3!N14),CSVデータ3!N14,0)+IF(ISNUMBER(CSVデータ4!N14),CSVデータ4!N14,0)","v":0},null,{"$f":"IF(ISNUMBER(CSVデータ1!P14),CSVデータ1!P14,0)+IF(ISNUMBER(CSVデータ2!P14),CSVデータ2!P14,0)+IF(ISNUMBER(CSVデータ3!P14),CSVデータ3!P14,0)+IF(ISNUMBER(CSVデータ4!P14),CSVデータ4!P14,0)","v":0},null,{"$f":"IF(ISNUMBER(CSVデータ1!R14),CSVデータ1!R14,0)+IF(ISNUMBER(CSVデータ2!R14),CSVデータ2!R14,0)+IF(ISNUMBER(CSVデータ3!R14),CSVデータ3!R14,0)+IF(ISNUMBER(CSVデータ4!R14),CSVデータ4!R14,0)","v":0},null,{"$f":"IF(ISNUMBER(CSVデータ1!T14),CSVデータ1!T14,0)+IF(ISNUMBER(CSVデータ2!T14),CSVデータ2!T14,0)+IF(ISNUMBER(CSVデータ3!T14),CSVデータ3!T14,0)+IF(ISNUMBER(CSVデータ4!T14),CSVデータ4!T14,0)","v":0},null,{"$f":"IF(ISNUMBER(CSVデータ1!V14),CSVデータ1!V14,0)+IF(ISNUMBER(CSVデータ2!V14),CSVデータ2!V14,0)+IF(ISNUMBER(CSVデータ3!V14),CSVデータ3!V14,0)+IF(ISNUMBER(CSVデータ4!V14),CSVデータ4!V14,0)","v":0},null,{"$f":"IF(ISNUMBER(CSVデータ1!X14),CSVデータ1!X14,0)+IF(ISNUMBER(CSVデータ2!X14),CSVデータ2!X14,0)+IF(ISNUMBER(CSVデータ3!X14),CSVデータ3!X14,0)+IF(ISNUMBER(CSVデータ4!X14),CSVデータ4!X14,0)","v":0},null,{"$f":"IF(ISNUMBER(CSVデータ1!Z14),CSVデータ1!Z14,0)+IF(ISNUMBER(CSVデータ2!Z14),CSVデータ2!Z14,0)+IF(ISNUMBER(CSVデータ3!Z14),CSVデータ3!Z14,0)+IF(ISNUMBER(CSVデータ4!Z14),CSVデータ4!Z14,0)","v":0},null,{"$f":"IF(ISNUMBER(CSVデータ1!AB14),CSVデータ1!AB14,0)+IF(ISNUMBER(CSVデータ2!AB14),CSVデータ2!AB14,0)+IF(ISNUMBER(CSVデータ3!AB14),CSVデータ3!AB14,0)+IF(ISNUMBER(CSVデータ4!AB14),CSVデータ4!AB14,0)","v":0},null,{"$f":"IF(ISNUMBER(CSVデータ1!AD14),CSVデータ1!AD14,0)+IF(ISNUMBER(CSVデータ2!AD14),CSVデータ2!AD14,0)+IF(ISNUMBER(CSVデータ3!AD14),CSVデータ3!AD14,0)+IF(ISNUMBER(CSVデータ4!AD14),CSVデータ4!AD14,0)","v":0},null,{"$f":"IF(ISNUMBER(CSVデータ1!AF14),CSVデータ1!AF14,0)+IF(ISNUMBER(CSVデータ2!AF14),CSVデータ2!AF14,0)+IF(ISNUMBER(CSVデータ3!AF14),CSVデータ3!AF14,0)+IF(ISNUMBER(CSVデータ4!AF14),CSVデータ4!AF14,0)","v":0},null,{"$f":"IF(ISNUMBER(CSVデータ1!AH14),CSVデータ1!AH14,0)+IF(ISNUMBER(CSVデータ2!AH14),CSVデータ2!AH14,0)+IF(ISNUMBER(CSVデータ3!AH14),CSVデータ3!AH14,0)+IF(ISNUMBER(CSVデータ4!AH14),CSVデータ4!AH14,0)","v":0},null,{"$f":"IF(ISNUMBER(CSVデータ1!AJ14),CSVデータ1!AJ14,0)+IF(ISNUMBER(CSVデータ2!AJ14),CSVデータ2!AJ14,0)+IF(ISNUMBER(CSVデータ3!AJ14),CSVデータ3!AJ14,0)+IF(ISNUMBER(CSVデータ4!AJ14),CSVデータ4!AJ14,0)","v":0},null,{"$f":"IF(ISNUMBER(CSVデータ1!AL14),CSVデータ1!AL14,0)+IF(ISNUMBER(CSVデータ2!AL14),CSVデータ2!AL14,0)+IF(ISNUMBER(CSVデータ3!AL14),CSVデータ3!AL14,0)+IF(ISNUMBER(CSVデータ4!AL14),CSVデータ4!AL14,0)","v":0},null,{"$f":"IF(ISNUMBER(CSVデータ1!AN14),CSVデータ1!AN14,0)+IF(ISNUMBER(CSVデータ2!AN14),CSVデータ2!AN14,0)+IF(ISNUMBER(CSVデータ3!AN14),CSVデータ3!AN14,0)+IF(ISNUMBER(CSVデータ4!AN14),CSVデータ4!AN14,0)","v":0}]
[{"$f":"CSVデータ1!A15","v":"明細部"},{"$f":"CSVデータ1!B15","v":"国"},{"$f":"CSVデータ1!C15","v":51},{"$f":"CSVデータ1!D15","v":"男"},{"$f":"IF(ISNUMBER(CSVデータ1!E15),CSVデータ1!E15,0)+IF(ISNUMBER(CSVデータ2!E15),CSVデータ2!E15,0)+IF(ISNUMBER(CSVデータ3!E15),CSVデータ3!E15,0)+IF(ISNUMBER(CSVデータ4!E15),CSVデータ4!E15,0)","v":0},{"$f":"IF(ISNUMBER(CSVデータ1!F15),CSVデータ1!F15,0)+IF(ISNUMBER(CSVデータ2!F15),CSVデータ2!F15,0)+IF(ISNUMBER(CSVデータ3!F15),CSVデータ3!F15,0)+IF(ISNUMBER(CSVデータ4!F15),CSVデータ4!F15,0)","v":0},null,{"$f":"IF(ISNUMBER(CSVデータ1!H15),CSVデータ1!H15,0)+IF(ISNUMBER(CSVデータ2!H15),CSVデータ2!H15,0)+IF(ISNUMBER(CSVデータ3!H15),CSVデータ3!H15,0)+IF(ISNUMBER(CSVデータ4!H15),CSVデータ4!H15,0)","v":0},null,{"$f":"IF(ISNUMBER(CSVデータ1!J15),CSVデータ1!J15,0)+IF(ISNUMBER(CSVデータ2!J15),CSVデータ2!J15,0)+IF(ISNUMBER(CSVデータ3!J15),CSVデータ3!J15,0)+IF(ISNUMBER(CSVデータ4!J15),CSVデータ4!J15,0)","v":0},null,{"$f":"IF(ISNUMBER(CSVデータ1!L15),CSVデータ1!L15,0)+IF(ISNUMBER(CSVデータ2!L15),CSVデータ2!L15,0)+IF(ISNUMBER(CSVデータ3!L15),CSVデータ3!L15,0)+IF(ISNUMBER(CSVデータ4!L15),CSVデータ4!L15,0)","v":0},null,{"$f":"IF(ISNUMBER(CSVデータ1!N15),CSVデータ1!N15,0)+IF(ISNUMBER(CSVデータ2!N15),CSVデータ2!N15,0)+IF(ISNUMBER(CSVデータ3!N15),CSVデータ3!N15,0)+IF(ISNUMBER(CSVデータ4!N15),CSVデータ4!N15,0)","v":0},null,{"$f":"IF(ISNUMBER(CSVデータ1!P15),CSVデータ1!P15,0)+IF(ISNUMBER(CSVデータ2!P15),CSVデータ2!P15,0)+IF(ISNUMBER(CSVデータ3!P15),CSVデータ3!P15,0)+IF(ISNUMBER(CSVデータ4!P15),CSVデータ4!P15,0)","v":0},null,{"$f":"IF(ISNUMBER(CSVデータ1!R15),CSVデータ1!R15,0)+IF(ISNUMBER(CSVデータ2!R15),CSVデータ2!R15,0)+IF(ISNUMBER(CSVデータ3!R15),CSVデータ3!R15,0)+IF(ISNUMBER(CSVデータ4!R15),CSVデータ4!R15,0)","v":0},null,{"$f":"IF(ISNUMBER(CSVデータ1!T15),CSVデータ1!T15,0)+IF(ISNUMBER(CSVデータ2!T15),CSVデータ2!T15,0)+IF(ISNUMBER(CSVデータ3!T15),CSVデータ3!T15,0)+IF(ISNUMBER(CSVデータ4!T15),CSVデータ4!T15,0)","v":0},null,{"$f":"IF(ISNUMBER(CSVデータ1!V15),CSVデータ1!V15,0)+IF(ISNUMBER(CSVデータ2!V15),CSVデータ2!V15,0)+IF(ISNUMBER(CSVデータ3!V15),CSVデータ3!V15,0)+IF(ISNUMBER(CSVデータ4!V15),CSVデータ4!V15,0)","v":0},null,{"$f":"IF(ISNUMBER(CSVデータ1!X15),CSVデータ1!X15,0)+IF(ISNUMBER(CSVデータ2!X15),CSVデータ2!X15,0)+IF(ISNUMBER(CSVデータ3!X15),CSVデータ3!X15,0)+IF(ISNUMBER(CSVデータ4!X15),CSVデータ4!X15,0)","v":0},null,{"$f":"IF(ISNUMBER(CSVデータ1!Z15),CSVデータ1!Z15,0)+IF(ISNUMBER(CSVデータ2!Z15),CSVデータ2!Z15,0)+IF(ISNUMBER(CSVデータ3!Z15),CSVデータ3!Z15,0)+IF(ISNUMBER(CSVデータ4!Z15),CSVデータ4!Z15,0)","v":0},null,{"$f":"IF(ISNUMBER(CSVデータ1!AB15),CSVデータ1!AB15,0)+IF(ISNUMBER(CSVデータ2!AB15),CSVデータ2!AB15,0)+IF(ISNUMBER(CSVデータ3!AB15),CSVデータ3!AB15,0)+IF(ISNUMBER(CSVデータ4!AB15),CSVデータ4!AB15,0)","v":0},null,{"$f":"IF(ISNUMBER(CSVデータ1!AD15),CSVデータ1!AD15,0)+IF(ISNUMBER(CSVデータ2!AD15),CSVデータ2!AD15,0)+IF(ISNUMBER(CSVデータ3!AD15),CSVデータ3!AD15,0)+IF(ISNUMBER(CSVデータ4!AD15),CSVデータ4!AD15,0)","v":0},null,{"$f":"IF(ISNUMBER(CSVデータ1!AF15),CSVデータ1!AF15,0)+IF(ISNUMBER(CSVデータ2!AF15),CSVデータ2!AF15,0)+IF(ISNUMBER(CSVデータ3!AF15),CSVデータ3!AF15,0)+IF(ISNUMBER(CSVデータ4!AF15),CSVデータ4!AF15,0)","v":0},null,{"$f":"IF(ISNUMBER(CSVデータ1!AH15),CSVデータ1!AH15,0)+IF(ISNUMBER(CSVデータ2!AH15),CSVデータ2!AH15,0)+IF(ISNUMBER(CSVデータ3!AH15),CSVデータ3!AH15,0)+IF(ISNUMBER(CSVデータ4!AH15),CSVデータ4!AH15,0)","v":0},null,{"$f":"IF(ISNUMBER(CSVデータ1!AJ15),CSVデータ1!AJ15,0)+IF(ISNUMBER(CSVデータ2!AJ15),CSVデータ2!AJ15,0)+IF(ISNUMBER(CSVデータ3!AJ15),CSVデータ3!AJ15,0)+IF(ISNUMBER(CSVデータ4!AJ15),CSVデータ4!AJ15,0)","v":0},null,{"$f":"IF(ISNUMBER(CSVデータ1!AL15),CSVデータ1!AL15,0)+IF(ISNUMBER(CSVデータ2!AL15),CSVデータ2!AL15,0)+IF(ISNUMBER(CSVデータ3!AL15),CSVデータ3!AL15,0)+IF(ISNUMBER(CSVデータ4!AL15),CSVデータ4!AL15,0)","v":0},null,{"$f":"IF(ISNUMBER(CSVデータ1!AN15),CSVデータ1!AN15,0)+IF(ISNUMBER(CSVデータ2!AN15),CSVデータ2!AN15,0)+IF(ISNUMBER(CSVデータ3!AN15),CSVデータ3!AN15,0)+IF(ISNUMBER(CSVデータ4!AN15),CSVデータ4!AN15,0)","v":0}]
[{"$f":"CSVデータ1!A16","v":"明細部"},{"$f":"CSVデータ1!B16","v":"国"},{"$f":"CSVデータ1!C16","v":52},{"$f":"CSVデータ1!D16","v":"男"},{"$f":"IF(ISNUMBER(CSVデータ1!E16),CSVデータ1!E16,0)+IF(ISNUMBER(CSVデータ2!E16),CSVデータ2!E16,0)+IF(ISNUMBER(CSVデータ3!E16),CSVデータ3!E16,0)+IF(ISNUMBER(CSVデータ4!E16),CSVデータ4!E16,0)","v":0},{"$f":"IF(ISNUMBER(CSVデータ1!F16),CSVデータ1!F16,0)+IF(ISNUMBER(CSVデータ2!F16),CSVデータ2!F16,0)+IF(ISNUMBER(CSVデータ3!F16),CSVデータ3!F16,0)+IF(ISNUMBER(CSVデータ4!F16),CSVデータ4!F16,0)","v":0},null,{"$f":"IF(ISNUMBER(CSVデータ1!H16),CSVデータ1!H16,0)+IF(ISNUMBER(CSVデータ2!H16),CSVデータ2!H16,0)+IF(ISNUMBER(CSVデータ3!H16),CSVデータ3!H16,0)+IF(ISNUMBER(CSVデータ4!H16),CSVデータ4!H16,0)","v":0},null,{"$f":"IF(ISNUMBER(CSVデータ1!J16),CSVデータ1!J16,0)+IF(ISNUMBER(CSVデータ2!J16),CSVデータ2!J16,0)+IF(ISNUMBER(CSVデータ3!J16),CSVデータ3!J16,0)+IF(ISNUMBER(CSVデータ4!J16),CSVデータ4!J16,0)","v":0},null,{"$f":"IF(ISNUMBER(CSVデータ1!L16),CSVデータ1!L16,0)+IF(ISNUMBER(CSVデータ2!L16),CSVデータ2!L16,0)+IF(ISNUMBER(CSVデータ3!L16),CSVデータ3!L16,0)+IF(ISNUMBER(CSVデータ4!L16),CSVデータ4!L16,0)","v":0},null,{"$f":"IF(ISNUMBER(CSVデータ1!N16),CSVデータ1!N16,0)+IF(ISNUMBER(CSVデータ2!N16),CSVデータ2!N16,0)+IF(ISNUMBER(CSVデータ3!N16),CSVデータ3!N16,0)+IF(ISNUMBER(CSVデータ4!N16),CSVデータ4!N16,0)","v":0},null,{"$f":"IF(ISNUMBER(CSVデータ1!P16),CSVデータ1!P16,0)+IF(ISNUMBER(CSVデータ2!P16),CSVデータ2!P16,0)+IF(ISNUMBER(CSVデータ3!P16),CSVデータ3!P16,0)+IF(ISNUMBER(CSVデータ4!P16),CSVデータ4!P16,0)","v":0},null,{"$f":"IF(ISNUMBER(CSVデータ1!R16),CSVデータ1!R16,0)+IF(ISNUMBER(CSVデータ2!R16),CSVデータ2!R16,0)+IF(ISNUMBER(CSVデータ3!R16),CSVデータ3!R16,0)+IF(ISNUMBER(CSVデータ4!R16),CSVデータ4!R16,0)","v":0},null,{"$f":"IF(ISNUMBER(CSVデータ1!T16),CSVデータ1!T16,0)+IF(ISNUMBER(CSVデータ2!T16),CSVデータ2!T16,0)+IF(ISNUMBER(CSVデータ3!T16),CSVデータ3!T16,0)+IF(ISNUMBER(CSVデータ4!T16),CSVデータ4!T16,0)","v":0},null,{"$f":"IF(ISNUMBER(CSVデータ1!V16),CSVデータ1!V16,0)+IF(ISNUMBER(CSVデータ2!V16),CSVデータ2!V16,0)+IF(ISNUMBER(CSVデータ3!V16),CSVデータ3!V16,0)+IF(ISNUMBER(CSVデータ4!V16),CSVデータ4!V16,0)","v":0},null,{"$f":"IF(ISNUMBER(CSVデータ1!X16),CSVデータ1!X16,0)+IF(ISNUMBER(CSVデータ2!X16),CSVデータ2!X16,0)+IF(ISNUMBER(CSVデータ3!X16),CSVデータ3!X16,0)+IF(ISNUMBER(CSVデータ4!X16),CSVデータ4!X16,0)","v":0},null,{"$f":"IF(ISNUMBER(CSVデータ1!Z16),CSVデータ1!Z16,0)+IF(ISNUMBER(CSVデータ2!Z16),CSVデータ2!Z16,0)+IF(ISNUMBER(CSVデータ3!Z16),CSVデータ3!Z16,0)+IF(ISNUMBER(CSVデータ4!Z16),CSVデータ4!Z16,0)","v":0},null,{"$f":"IF(ISNUMBER(CSVデータ1!AB16),CSVデータ1!AB16,0)+IF(ISNUMBER(CSVデータ2!AB16),CSVデータ2!AB16,0)+IF(ISNUMBER(CSVデータ3!AB16),CSVデータ3!AB16,0)+IF(ISNUMBER(CSVデータ4!AB16),CSVデータ4!AB16,0)","v":0},null,{"$f":"IF(ISNUMBER(CSVデータ1!AD16),CSVデータ1!AD16,0)+IF(ISNUMBER(CSVデータ2!AD16),CSVデータ2!AD16,0)+IF(ISNUMBER(CSVデータ3!AD16),CSVデータ3!AD16,0)+IF(ISNUMBER(CSVデータ4!AD16),CSVデータ4!AD16,0)","v":0},null,{"$f":"IF(ISNUMBER(CSVデータ1!AF16),CSVデータ1!AF16,0)+IF(ISNUMBER(CSVデータ2!AF16),CSVデータ2!AF16,0)+IF(ISNUMBER(CSVデータ3!AF16),CSVデータ3!AF16,0)+IF(ISNUMBER(CSVデータ4!AF16),CSVデータ4!AF16,0)","v":0},null,{"$f":"IF(ISNUMBER(CSVデータ1!AH16),CSVデータ1!AH16,0)+IF(ISNUMBER(CSVデータ2!AH16),CSVデータ2!AH16,0)+IF(ISNUMBER(CSVデータ3!AH16),CSVデータ3!AH16,0)+IF(ISNUMBER(CSVデータ4!AH16),CSVデータ4!AH16,0)","v":0},null,{"$f":"IF(ISNUMBER(CSVデータ1!AJ16),CSVデータ1!AJ16,0)+IF(ISNUMBER(CSVデータ2!AJ16),CSVデータ2!AJ16,0)+IF(ISNUMBER(CSVデータ3!AJ16),CSVデータ3!AJ16,0)+IF(ISNUMBER(CSVデータ4!AJ16),CSVデータ4!AJ16,0)","v":0},null,{"$f":"IF(ISNUMBER(CSVデータ1!AL16),CSVデータ1!AL16,0)+IF(ISNUMBER(CSVデータ2!AL16),CSVデータ2!AL16,0)+IF(ISNUMBER(CSVデータ3!AL16),CSVデータ3!AL16,0)+IF(ISNUMBER(CSVデータ4!AL16),CSVデータ4!AL16,0)","v":0},null,{"$f":"IF(ISNUMBER(CSVデータ1!AN16),CSVデータ1!AN16,0)+IF(ISNUMBER(CSVデータ2!AN16),CSVデータ2!AN16,0)+IF(ISNUMBER(CSVデータ3!AN16),CSVデータ3!AN16,0)+IF(ISNUMBER(CSVデータ4!AN16),CSVデータ4!AN16,0)","v":0}]
[{"$f":"CSVデータ1!A17","v":"明細部"},{"$f":"CSVデータ1!B17","v":"国"},{"$f":"CSVデータ1!C17","v":53},{"$f":"CSVデータ1!D17","v":"男"},{"$f":"IF(ISNUMBER(CSVデータ1!E17),CSVデータ1!E17,0)+IF(ISNUMBER(CSVデータ2!E17),CSVデータ2!E17,0)+IF(ISNUMBER(CSVデータ3!E17),CSVデータ3!E17,0)+IF(ISNUMBER(CSVデータ4!E17),CSVデータ4!E17,0)","v":0},{"$f":"IF(ISNUMBER(CSVデータ1!F17),CSVデータ1!F17,0)+IF(ISNUMBER(CSVデータ2!F17),CSVデータ2!F17,0)+IF(ISNUMBER(CSVデータ3!F17),CSVデータ3!F17,0)+IF(ISNUMBER(CSVデータ4!F17),CSVデータ4!F17,0)","v":0},null,{"$f":"IF(ISNUMBER(CSVデータ1!H17),CSVデータ1!H17,0)+IF(ISNUMBER(CSVデータ2!H17),CSVデータ2!H17,0)+IF(ISNUMBER(CSVデータ3!H17),CSVデータ3!H17,0)+IF(ISNUMBER(CSVデータ4!H17),CSVデータ4!H17,0)","v":0},null,{"$f":"IF(ISNUMBER(CSVデータ1!J17),CSVデータ1!J17,0)+IF(ISNUMBER(CSVデータ2!J17),CSVデータ2!J17,0)+IF(ISNUMBER(CSVデータ3!J17),CSVデータ3!J17,0)+IF(ISNUMBER(CSVデータ4!J17),CSVデータ4!J17,0)","v":0},null,{"$f":"IF(ISNUMBER(CSVデータ1!L17),CSVデータ1!L17,0)+IF(ISNUMBER(CSVデータ2!L17),CSVデータ2!L17,0)+IF(ISNUMBER(CSVデータ3!L17),CSVデータ3!L17,0)+IF(ISNUMBER(CSVデータ4!L17),CSVデータ4!L17,0)","v":0},null,{"$f":"IF(ISNUMBER(CSVデータ1!N17),CSVデータ1!N17,0)+IF(ISNUMBER(CSVデータ2!N17),CSVデータ2!N17,0)+IF(ISNUMBER(CSVデータ3!N17),CSVデータ3!N17,0)+IF(ISNUMBER(CSVデータ4!N17),CSVデータ4!N17,0)","v":0},null,{"$f":"IF(ISNUMBER(CSVデータ1!P17),CSVデータ1!P17,0)+IF(ISNUMBER(CSVデータ2!P17),CSVデータ2!P17,0)+IF(ISNUMBER(CSVデータ3!P17),CSVデータ3!P17,0)+IF(ISNUMBER(CSVデータ4!P17),CSVデータ4!P17,0)","v":0},null,{"$f":"IF(ISNUMBER(CSVデータ1!R17),CSVデータ1!R17,0)+IF(ISNUMBER(CSVデータ2!R17),CSVデータ2!R17,0)+IF(ISNUMBER(CSVデータ3!R17),CSVデータ3!R17,0)+IF(ISNUMBER(CSVデータ4!R17),CSVデータ4!R17,0)","v":0},null,{"$f":"IF(ISNUMBER(CSVデータ1!T17),CSVデータ1!T17,0)+IF(ISNUMBER(CSVデータ2!T17),CSVデータ2!T17,0)+IF(ISNUMBER(CSVデータ3!T17),CSVデータ3!T17,0)+IF(ISNUMBER(CSVデータ4!T17),CSVデータ4!T17,0)","v":0},null,{"$f":"IF(ISNUMBER(CSVデータ1!V17),CSVデータ1!V17,0)+IF(ISNUMBER(CSVデータ2!V17),CSVデータ2!V17,0)+IF(ISNUMBER(CSVデータ3!V17),CSVデータ3!V17,0)+IF(ISNUMBER(CSVデータ4!V17),CSVデータ4!V17,0)","v":0},null,{"$f":"IF(ISNUMBER(CSVデータ1!X17),CSVデータ1!X17,0)+IF(ISNUMBER(CSVデータ2!X17),CSVデータ2!X17,0)+IF(ISNUMBER(CSVデータ3!X17),CSVデータ3!X17,0)+IF(ISNUMBER(CSVデータ4!X17),CSVデータ4!X17,0)","v":0},null,{"$f":"IF(ISNUMBER(CSVデータ1!Z17),CSVデータ1!Z17,0)+IF(ISNUMBER(CSVデータ2!Z17),CSVデータ2!Z17,0)+IF(ISNUMBER(CSVデータ3!Z17),CSVデータ3!Z17,0)+IF(ISNUMBER(CSVデータ4!Z17),CSVデータ4!Z17,0)","v":0},null,{"$f":"IF(ISNUMBER(CSVデータ1!AB17),CSVデータ1!AB17,0)+IF(ISNUMBER(CSVデータ2!AB17),CSVデータ2!AB17,0)+IF(ISNUMBER(CSVデータ3!AB17),CSVデータ3!AB17,0)+IF(ISNUMBER(CSVデータ4!AB17),CSVデータ4!AB17,0)","v":0},null,{"$f":"IF(ISNUMBER(CSVデータ1!AD17),CSVデータ1!AD17,0)+IF(ISNUMBER(CSVデータ2!AD17),CSVデータ2!AD17,0)+IF(ISNUMBER(CSVデータ3!AD17),CSVデータ3!AD17,0)+IF(ISNUMBER(CSVデータ4!AD17),CSVデータ4!AD17,0)","v":0},null,{"$f":"IF(ISNUMBER(CSVデータ1!AF17),CSVデータ1!AF17,0)+IF(ISNUMBER(CSVデータ2!AF17),CSVデータ2!AF17,0)+IF(ISNUMBER(CSVデータ3!AF17),CSVデータ3!AF17,0)+IF(ISNUMBER(CSVデータ4!AF17),CSVデータ4!AF17,0)","v":0},null,{"$f":"IF(ISNUMBER(CSVデータ1!AH17),CSVデータ1!AH17,0)+IF(ISNUMBER(CSVデータ2!AH17),CSVデータ2!AH17,0)+IF(ISNUMBER(CSVデータ3!AH17),CSVデータ3!AH17,0)+IF(ISNUMBER(CSVデータ4!AH17),CSVデータ4!AH17,0)","v":0},null,{"$f":"IF(ISNUMBER(CSVデータ1!AJ17),CSVデータ1!AJ17,0)+IF(ISNUMBER(CSVデータ2!AJ17),CSVデータ2!AJ17,0)+IF(ISNUMBER(CSVデータ3!AJ17),CSVデータ3!AJ17,0)+IF(ISNUMBER(CSVデータ4!AJ17),CSVデータ4!AJ17,0)","v":0},null,{"$f":"IF(ISNUMBER(CSVデータ1!AL17),CSVデータ1!AL17,0)+IF(ISNUMBER(CSVデータ2!AL17),CSVデータ2!AL17,0)+IF(ISNUMBER(CSVデータ3!AL17),CSVデータ3!AL17,0)+IF(ISNUMBER(CSVデータ4!AL17),CSVデータ4!AL17,0)","v":0},null,{"$f":"IF(ISNUMBER(CSVデータ1!AN17),CSVデータ1!AN17,0)+IF(ISNUMBER(CSVデータ2!AN17),CSVデータ2!AN17,0)+IF(ISNUMBER(CSVデータ3!AN17),CSVデータ3!AN17,0)+IF(ISNUMBER(CSVデータ4!AN17),CSVデータ4!AN17,0)","v":0}]
[{"$f":"CSVデータ1!A18","v":"明細部"},{"$f":"CSVデータ1!B18","v":"国"},{"$f":"CSVデータ1!C18","v":54},{"$f":"CSVデータ1!D18","v":"男"},{"$f":"IF(ISNUMBER(CSVデータ1!E18),CSVデータ1!E18,0)+IF(ISNUMBER(CSVデータ2!E18),CSVデータ2!E18,0)+IF(ISNUMBER(CSVデータ3!E18),CSVデータ3!E18,0)+IF(ISNUMBER(CSVデータ4!E18),CSVデータ4!E18,0)","v":0},{"$f":"IF(ISNUMBER(CSVデータ1!F18),CSVデータ1!F18,0)+IF(ISNUMBER(CSVデータ2!F18),CSVデータ2!F18,0)+IF(ISNUMBER(CSVデータ3!F18),CSVデータ3!F18,0)+IF(ISNUMBER(CSVデータ4!F18),CSVデータ4!F18,0)","v":0},null,{"$f":"IF(ISNUMBER(CSVデータ1!H18),CSVデータ1!H18,0)+IF(ISNUMBER(CSVデータ2!H18),CSVデータ2!H18,0)+IF(ISNUMBER(CSVデータ3!H18),CSVデータ3!H18,0)+IF(ISNUMBER(CSVデータ4!H18),CSVデータ4!H18,0)","v":0},null,{"$f":"IF(ISNUMBER(CSVデータ1!J18),CSVデータ1!J18,0)+IF(ISNUMBER(CSVデータ2!J18),CSVデータ2!J18,0)+IF(ISNUMBER(CSVデータ3!J18),CSVデータ3!J18,0)+IF(ISNUMBER(CSVデータ4!J18),CSVデータ4!J18,0)","v":0},null,{"$f":"IF(ISNUMBER(CSVデータ1!L18),CSVデータ1!L18,0)+IF(ISNUMBER(CSVデータ2!L18),CSVデータ2!L18,0)+IF(ISNUMBER(CSVデータ3!L18),CSVデータ3!L18,0)+IF(ISNUMBER(CSVデータ4!L18),CSVデータ4!L18,0)","v":0},null,{"$f":"IF(ISNUMBER(CSVデータ1!N18),CSVデータ1!N18,0)+IF(ISNUMBER(CSVデータ2!N18),CSVデータ2!N18,0)+IF(ISNUMBER(CSVデータ3!N18),CSVデータ3!N18,0)+IF(ISNUMBER(CSVデータ4!N18),CSVデータ4!N18,0)","v":0},null,{"$f":"IF(ISNUMBER(CSVデータ1!P18),CSVデータ1!P18,0)+IF(ISNUMBER(CSVデータ2!P18),CSVデータ2!P18,0)+IF(ISNUMBER(CSVデータ3!P18),CSVデータ3!P18,0)+IF(ISNUMBER(CSVデータ4!P18),CSVデータ4!P18,0)","v":0},null,{"$f":"IF(ISNUMBER(CSVデータ1!R18),CSVデータ1!R18,0)+IF(ISNUMBER(CSVデータ2!R18),CSVデータ2!R18,0)+IF(ISNUMBER(CSVデータ3!R18),CSVデータ3!R18,0)+IF(ISNUMBER(CSVデータ4!R18),CSVデータ4!R18,0)","v":0},null,{"$f":"IF(ISNUMBER(CSVデータ1!T18),CSVデータ1!T18,0)+IF(ISNUMBER(CSVデータ2!T18),CSVデータ2!T18,0)+IF(ISNUMBER(CSVデータ3!T18),CSVデータ3!T18,0)+IF(ISNUMBER(CSVデータ4!T18),CSVデータ4!T18,0)","v":0},null,{"$f":"IF(ISNUMBER(CSVデータ1!V18),CSVデータ1!V18,0)+IF(ISNUMBER(CSVデータ2!V18),CSVデータ2!V18,0)+IF(ISNUMBER(CSVデータ3!V18),CSVデータ3!V18,0)+IF(ISNUMBER(CSVデータ4!V18),CSVデータ4!V18,0)","v":0},null,{"$f":"IF(ISNUMBER(CSVデータ1!X18),CSVデータ1!X18,0)+IF(ISNUMBER(CSVデータ2!X18),CSVデータ2!X18,0)+IF(ISNUMBER(CSVデータ3!X18),CSVデータ3!X18,0)+IF(ISNUMBER(CSVデータ4!X18),CSVデータ4!X18,0)","v":0},null,{"$f":"IF(ISNUMBER(CSVデータ1!Z18),CSVデータ1!Z18,0)+IF(ISNUMBER(CSVデータ2!Z18),CSVデータ2!Z18,0)+IF(ISNUMBER(CSVデータ3!Z18),CSVデータ3!Z18,0)+IF(ISNUMBER(CSVデータ4!Z18),CSVデータ4!Z18,0)","v":0},null,{"$f":"IF(ISNUMBER(CSVデータ1!AB18),CSVデータ1!AB18,0)+IF(ISNUMBER(CSVデータ2!AB18),CSVデータ2!AB18,0)+IF(ISNUMBER(CSVデータ3!AB18),CSVデータ3!AB18,0)+IF(ISNUMBER(CSVデータ4!AB18),CSVデータ4!AB18,0)","v":0},null,{"$f":"IF(ISNUMBER(CSVデータ1!AD18),CSVデータ1!AD18,0)+IF(ISNUMBER(CSVデータ2!AD18),CSVデータ2!AD18,0)+IF(ISNUMBER(CSVデータ3!AD18),CSVデータ3!AD18,0)+IF(ISNUMBER(CSVデータ4!AD18),CSVデータ4!AD18,0)","v":0},null,{"$f":"IF(ISNUMBER(CSVデータ1!AF18),CSVデータ1!AF18,0)+IF(ISNUMBER(CSVデータ2!AF18),CSVデータ2!AF18,0)+IF(ISNUMBER(CSVデータ3!AF18),CSVデータ3!AF18,0)+IF(ISNUMBER(CSVデータ4!AF18),CSVデータ4!AF18,0)","v":0},null,{"$f":"IF(ISNUMBER(CSVデータ1!AH18),CSVデータ1!AH18,0)+IF(ISNUMBER(CSVデータ2!AH18),CSVデータ2!AH18,0)+IF(ISNUMBER(CSVデータ3!AH18),CSVデータ3!AH18,0)+IF(ISNUMBER(CSVデータ4!AH18),CSVデータ4!AH18,0)","v":0},null,{"$f":"IF(ISNUMBER(CSVデータ1!AJ18),CSVデータ1!AJ18,0)+IF(ISNUMBER(CSVデータ2!AJ18),CSVデータ2!AJ18,0)+IF(ISNUMBER(CSVデータ3!AJ18),CSVデータ3!AJ18,0)+IF(ISNUMBER(CSVデータ4!AJ18),CSVデータ4!AJ18,0)","v":0},null,{"$f":"IF(ISNUMBER(CSVデータ1!AL18),CSVデータ1!AL18,0)+IF(ISNUMBER(CSVデータ2!AL18),CSVデータ2!AL18,0)+IF(ISNUMBER(CSVデータ3!AL18),CSVデータ3!AL18,0)+IF(ISNUMBER(CSVデータ4!AL18),CSVデータ4!AL18,0)","v":0},null,{"$f":"IF(ISNUMBER(CSVデータ1!AN18),CSVデータ1!AN18,0)+IF(ISNUMBER(CSVデータ2!AN18),CSVデータ2!AN18,0)+IF(ISNUMBER(CSVデータ3!AN18),CSVデータ3!AN18,0)+IF(ISNUMBER(CSVデータ4!AN18),CSVデータ4!AN18,0)","v":0}]
[{"$f":"CSVデータ1!A19","v":"明細部"},{"$f":"CSVデータ1!B19","v":"国"},{"$f":"CSVデータ1!C19","v":55},{"$f":"CSVデータ1!D19","v":"男"},{"$f":"IF(ISNUMBER(CSVデータ1!E19),CSVデータ1!E19,0)+IF(ISNUMBER(CSVデータ2!E19),CSVデータ2!E19,0)+IF(ISNUMBER(CSVデータ3!E19),CSVデータ3!E19,0)+IF(ISNUMBER(CSVデータ4!E19),CSVデータ4!E19,0)","v":0},{"$f":"IF(ISNUMBER(CSVデータ1!F19),CSVデータ1!F19,0)+IF(ISNUMBER(CSVデータ2!F19),CSVデータ2!F19,0)+IF(ISNUMBER(CSVデータ3!F19),CSVデータ3!F19,0)+IF(ISNUMBER(CSVデータ4!F19),CSVデータ4!F19,0)","v":0},null,{"$f":"IF(ISNUMBER(CSVデータ1!H19),CSVデータ1!H19,0)+IF(ISNUMBER(CSVデータ2!H19),CSVデータ2!H19,0)+IF(ISNUMBER(CSVデータ3!H19),CSVデータ3!H19,0)+IF(ISNUMBER(CSVデータ4!H19),CSVデータ4!H19,0)","v":0},null,{"$f":"IF(ISNUMBER(CSVデータ1!J19),CSVデータ1!J19,0)+IF(ISNUMBER(CSVデータ2!J19),CSVデータ2!J19,0)+IF(ISNUMBER(CSVデータ3!J19),CSVデータ3!J19,0)+IF(ISNUMBER(CSVデータ4!J19),CSVデータ4!J19,0)","v":0},null,{"$f":"IF(ISNUMBER(CSVデータ1!L19),CSVデータ1!L19,0)+IF(ISNUMBER(CSVデータ2!L19),CSVデータ2!L19,0)+IF(ISNUMBER(CSVデータ3!L19),CSVデータ3!L19,0)+IF(ISNUMBER(CSVデータ4!L19),CSVデータ4!L19,0)","v":0},null,{"$f":"IF(ISNUMBER(CSVデータ1!N19),CSVデータ1!N19,0)+IF(ISNUMBER(CSVデータ2!N19),CSVデータ2!N19,0)+IF(ISNUMBER(CSVデータ3!N19),CSVデータ3!N19,0)+IF(ISNUMBER(CSVデータ4!N19),CSVデータ4!N19,0)","v":0},null,{"$f":"IF(ISNUMBER(CSVデータ1!P19),CSVデータ1!P19,0)+IF(ISNUMBER(CSVデータ2!P19),CSVデータ2!P19,0)+IF(ISNUMBER(CSVデータ3!P19),CSVデータ3!P19,0)+IF(ISNUMBER(CSVデータ4!P19),CSVデータ4!P19,0)","v":0},null,{"$f":"IF(ISNUMBER(CSVデータ1!R19),CSVデータ1!R19,0)+IF(ISNUMBER(CSVデータ2!R19),CSVデータ2!R19,0)+IF(ISNUMBER(CSVデータ3!R19),CSVデータ3!R19,0)+IF(ISNUMBER(CSVデータ4!R19),CSVデータ4!R19,0)","v":0},null,{"$f":"IF(ISNUMBER(CSVデータ1!T19),CSVデータ1!T19,0)+IF(ISNUMBER(CSVデータ2!T19),CSVデータ2!T19,0)+IF(ISNUMBER(CSVデータ3!T19),CSVデータ3!T19,0)+IF(ISNUMBER(CSVデータ4!T19),CSVデータ4!T19,0)","v":0},null,{"$f":"IF(ISNUMBER(CSVデータ1!V19),CSVデータ1!V19,0)+IF(ISNUMBER(CSVデータ2!V19),CSVデータ2!V19,0)+IF(ISNUMBER(CSVデータ3!V19),CSVデータ3!V19,0)+IF(ISNUMBER(CSVデータ4!V19),CSVデータ4!V19,0)","v":0},null,{"$f":"IF(ISNUMBER(CSVデータ1!X19),CSVデータ1!X19,0)+IF(ISNUMBER(CSVデータ2!X19),CSVデータ2!X19,0)+IF(ISNUMBER(CSVデータ3!X19),CSVデータ3!X19,0)+IF(ISNUMBER(CSVデータ4!X19),CSVデータ4!X19,0)","v":0},null,{"$f":"IF(ISNUMBER(CSVデータ1!Z19),CSVデータ1!Z19,0)+IF(ISNUMBER(CSVデータ2!Z19),CSVデータ2!Z19,0)+IF(ISNUMBER(CSVデータ3!Z19),CSVデータ3!Z19,0)+IF(ISNUMBER(CSVデータ4!Z19),CSVデータ4!Z19,0)","v":0},null,{"$f":"IF(ISNUMBER(CSVデータ1!AB19),CSVデータ1!AB19,0)+IF(ISNUMBER(CSVデータ2!AB19),CSVデータ2!AB19,0)+IF(ISNUMBER(CSVデータ3!AB19),CSVデータ3!AB19,0)+IF(ISNUMBER(CSVデータ4!AB19),CSVデータ4!AB19,0)","v":0},null,{"$f":"IF(ISNUMBER(CSVデータ1!AD19),CSVデータ1!AD19,0)+IF(ISNUMBER(CSVデータ2!AD19),CSVデータ2!AD19,0)+IF(ISNUMBER(CSVデータ3!AD19),CSVデータ3!AD19,0)+IF(ISNUMBER(CSVデータ4!AD19),CSVデータ4!AD19,0)","v":0},null,{"$f":"IF(ISNUMBER(CSVデータ1!AF19),CSVデータ1!AF19,0)+IF(ISNUMBER(CSVデータ2!AF19),CSVデータ2!AF19,0)+IF(ISNUMBER(CSVデータ3!AF19),CSVデータ3!AF19,0)+IF(ISNUMBER(CSVデータ4!AF19),CSVデータ4!AF19,0)","v":0},null,{"$f":"IF(ISNUMBER(CSVデータ1!AH19),CSVデータ1!AH19,0)+IF(ISNUMBER(CSVデータ2!AH19),CSVデータ2!AH19,0)+IF(ISNUMBER(CSVデータ3!AH19),CSVデータ3!AH19,0)+IF(ISNUMBER(CSVデータ4!AH19),CSVデータ4!AH19,0)","v":0},null,{"$f":"IF(ISNUMBER(CSVデータ1!AJ19),CSVデータ1!AJ19,0)+IF(ISNUMBER(CSVデータ2!AJ19),CSVデータ2!AJ19,0)+IF(ISNUMBER(CSVデータ3!AJ19),CSVデータ3!AJ19,0)+IF(ISNUMBER(CSVデータ4!AJ19),CSVデータ4!AJ19,0)","v":0},null,{"$f":"IF(ISNUMBER(CSVデータ1!AL19),CSVデータ1!AL19,0)+IF(ISNUMBER(CSVデータ2!AL19),CSVデータ2!AL19,0)+IF(ISNUMBER(CSVデータ3!AL19),CSVデータ3!AL19,0)+IF(ISNUMBER(CSVデータ4!AL19),CSVデータ4!AL19,0)","v":0},null,{"$f":"IF(ISNUMBER(CSVデータ1!AN19),CSVデータ1!AN19,0)+IF(ISNUMBER(CSVデータ2!AN19),CSVデータ2!AN19,0)+IF(ISNUMBER(CSVデータ3!AN19),CSVデータ3!AN19,0)+IF(ISNUMBER(CSVデータ4!AN19),CSVデータ4!AN19,0)","v":0}]
[{"$f":"CSVデータ1!A20","v":"明細部"},{"$f":"CSVデータ1!B20","v":"国"},{"$f":"CSVデータ1!C20","v":56},{"$f":"CSVデータ1!D20","v":"男"},{"$f":"IF(ISNUMBER(CSVデータ1!E20),CSVデータ1!E20,0)+IF(ISNUMBER(CSVデータ2!E20),CSVデータ2!E20,0)+IF(ISNUMBER(CSVデータ3!E20),CSVデータ3!E20,0)+IF(ISNUMBER(CSVデータ4!E20),CSVデータ4!E20,0)","v":0},{"$f":"IF(ISNUMBER(CSVデータ1!F20),CSVデータ1!F20,0)+IF(ISNUMBER(CSVデータ2!F20),CSVデータ2!F20,0)+IF(ISNUMBER(CSVデータ3!F20),CSVデータ3!F20,0)+IF(ISNUMBER(CSVデータ4!F20),CSVデータ4!F20,0)","v":0},null,{"$f":"IF(ISNUMBER(CSVデータ1!H20),CSVデータ1!H20,0)+IF(ISNUMBER(CSVデータ2!H20),CSVデータ2!H20,0)+IF(ISNUMBER(CSVデータ3!H20),CSVデータ3!H20,0)+IF(ISNUMBER(CSVデータ4!H20),CSVデータ4!H20,0)","v":0},null,{"$f":"IF(ISNUMBER(CSVデータ1!J20),CSVデータ1!J20,0)+IF(ISNUMBER(CSVデータ2!J20),CSVデータ2!J20,0)+IF(ISNUMBER(CSVデータ3!J20),CSVデータ3!J20,0)+IF(ISNUMBER(CSVデータ4!J20),CSVデータ4!J20,0)","v":0},null,{"$f":"IF(ISNUMBER(CSVデータ1!L20),CSVデータ1!L20,0)+IF(ISNUMBER(CSVデータ2!L20),CSVデータ2!L20,0)+IF(ISNUMBER(CSVデータ3!L20),CSVデータ3!L20,0)+IF(ISNUMBER(CSVデータ4!L20),CSVデータ4!L20,0)","v":0},null,{"$f":"IF(ISNUMBER(CSVデータ1!N20),CSVデータ1!N20,0)+IF(ISNUMBER(CSVデータ2!N20),CSVデータ2!N20,0)+IF(ISNUMBER(CSVデータ3!N20),CSVデータ3!N20,0)+IF(ISNUMBER(CSVデータ4!N20),CSVデータ4!N20,0)","v":0},null,{"$f":"IF(ISNUMBER(CSVデータ1!P20),CSVデータ1!P20,0)+IF(ISNUMBER(CSVデータ2!P20),CSVデータ2!P20,0)+IF(ISNUMBER(CSVデータ3!P20),CSVデータ3!P20,0)+IF(ISNUMBER(CSVデータ4!P20),CSVデータ4!P20,0)","v":0},null,{"$f":"IF(ISNUMBER(CSVデータ1!R20),CSVデータ1!R20,0)+IF(ISNUMBER(CSVデータ2!R20),CSVデータ2!R20,0)+IF(ISNUMBER(CSVデータ3!R20),CSVデータ3!R20,0)+IF(ISNUMBER(CSVデータ4!R20),CSVデータ4!R20,0)","v":0},null,{"$f":"IF(ISNUMBER(CSVデータ1!T20),CSVデータ1!T20,0)+IF(ISNUMBER(CSVデータ2!T20),CSVデータ2!T20,0)+IF(ISNUMBER(CSVデータ3!T20),CSVデータ3!T20,0)+IF(ISNUMBER(CSVデータ4!T20),CSVデータ4!T20,0)","v":0},null,{"$f":"IF(ISNUMBER(CSVデータ1!V20),CSVデータ1!V20,0)+IF(ISNUMBER(CSVデータ2!V20),CSVデータ2!V20,0)+IF(ISNUMBER(CSVデータ3!V20),CSVデータ3!V20,0)+IF(ISNUMBER(CSVデータ4!V20),CSVデータ4!V20,0)","v":0},null,{"$f":"IF(ISNUMBER(CSVデータ1!X20),CSVデータ1!X20,0)+IF(ISNUMBER(CSVデータ2!X20),CSVデータ2!X20,0)+IF(ISNUMBER(CSVデータ3!X20),CSVデータ3!X20,0)+IF(ISNUMBER(CSVデータ4!X20),CSVデータ4!X20,0)","v":0},null,{"$f":"IF(ISNUMBER(CSVデータ1!Z20),CSVデータ1!Z20,0)+IF(ISNUMBER(CSVデータ2!Z20),CSVデータ2!Z20,0)+IF(ISNUMBER(CSVデータ3!Z20),CSVデータ3!Z20,0)+IF(ISNUMBER(CSVデータ4!Z20),CSVデータ4!Z20,0)","v":0},null,{"$f":"IF(ISNUMBER(CSVデータ1!AB20),CSVデータ1!AB20,0)+IF(ISNUMBER(CSVデータ2!AB20),CSVデータ2!AB20,0)+IF(ISNUMBER(CSVデータ3!AB20),CSVデータ3!AB20,0)+IF(ISNUMBER(CSVデータ4!AB20),CSVデータ4!AB20,0)","v":0},null,{"$f":"IF(ISNUMBER(CSVデータ1!AD20),CSVデータ1!AD20,0)+IF(ISNUMBER(CSVデータ2!AD20),CSVデータ2!AD20,0)+IF(ISNUMBER(CSVデータ3!AD20),CSVデータ3!AD20,0)+IF(ISNUMBER(CSVデータ4!AD20),CSVデータ4!AD20,0)","v":0},null,{"$f":"IF(ISNUMBER(CSVデータ1!AF20),CSVデータ1!AF20,0)+IF(ISNUMBER(CSVデータ2!AF20),CSVデータ2!AF20,0)+IF(ISNUMBER(CSVデータ3!AF20),CSVデータ3!AF20,0)+IF(ISNUMBER(CSVデータ4!AF20),CSVデータ4!AF20,0)","v":0},null,{"$f":"IF(ISNUMBER(CSVデータ1!AH20),CSVデータ1!AH20,0)+IF(ISNUMBER(CSVデータ2!AH20),CSVデータ2!AH20,0)+IF(ISNUMBER(CSVデータ3!AH20),CSVデータ3!AH20,0)+IF(ISNUMBER(CSVデータ4!AH20),CSVデータ4!AH20,0)","v":0},null,{"$f":"IF(ISNUMBER(CSVデータ1!AJ20),CSVデータ1!AJ20,0)+IF(ISNUMBER(CSVデータ2!AJ20),CSVデータ2!AJ20,0)+IF(ISNUMBER(CSVデータ3!AJ20),CSVデータ3!AJ20,0)+IF(ISNUMBER(CSVデータ4!AJ20),CSVデータ4!AJ20,0)","v":0},null,{"$f":"IF(ISNUMBER(CSVデータ1!AL20),CSVデータ1!AL20,0)+IF(ISNUMBER(CSVデータ2!AL20),CSVデータ2!AL20,0)+IF(ISNUMBER(CSVデータ3!AL20),CSVデータ3!AL20,0)+IF(ISNUMBER(CSVデータ4!AL20),CSVデータ4!AL20,0)","v":0},null,{"$f":"IF(ISNUMBER(CSVデータ1!AN20),CSVデータ1!AN20,0)+IF(ISNUMBER(CSVデータ2!AN20),CSVデータ2!AN20,0)+IF(ISNUMBER(CSVデータ3!AN20),CSVデータ3!AN20,0)+IF(ISNUMBER(CSVデータ4!AN20),CSVデータ4!AN20,0)","v":0}]
[{"$f":"CSVデータ1!A21","v":"明細部"},{"$f":"CSVデータ1!B21","v":"国"},{"$f":"CSVデータ1!C21","v":57},{"$f":"CSVデータ1!D21","v":"男"},{"$f":"IF(ISNUMBER(CSVデータ1!E21),CSVデータ1!E21,0)+IF(ISNUMBER(CSVデータ2!E21),CSVデータ2!E21,0)+IF(ISNUMBER(CSVデータ3!E21),CSVデータ3!E21,0)+IF(ISNUMBER(CSVデータ4!E21),CSVデータ4!E21,0)","v":0},{"$f":"IF(ISNUMBER(CSVデータ1!F21),CSVデータ1!F21,0)+IF(ISNUMBER(CSVデータ2!F21),CSVデータ2!F21,0)+IF(ISNUMBER(CSVデータ3!F21),CSVデータ3!F21,0)+IF(ISNUMBER(CSVデータ4!F21),CSVデータ4!F21,0)","v":0},null,{"$f":"IF(ISNUMBER(CSVデータ1!H21),CSVデータ1!H21,0)+IF(ISNUMBER(CSVデータ2!H21),CSVデータ2!H21,0)+IF(ISNUMBER(CSVデータ3!H21),CSVデータ3!H21,0)+IF(ISNUMBER(CSVデータ4!H21),CSVデータ4!H21,0)","v":0},null,{"$f":"IF(ISNUMBER(CSVデータ1!J21),CSVデータ1!J21,0)+IF(ISNUMBER(CSVデータ2!J21),CSVデータ2!J21,0)+IF(ISNUMBER(CSVデータ3!J21),CSVデータ3!J21,0)+IF(ISNUMBER(CSVデータ4!J21),CSVデータ4!J21,0)","v":0},null,{"$f":"IF(ISNUMBER(CSVデータ1!L21),CSVデータ1!L21,0)+IF(ISNUMBER(CSVデータ2!L21),CSVデータ2!L21,0)+IF(ISNUMBER(CSVデータ3!L21),CSVデータ3!L21,0)+IF(ISNUMBER(CSVデータ4!L21),CSVデータ4!L21,0)","v":0},null,{"$f":"IF(ISNUMBER(CSVデータ1!N21),CSVデータ1!N21,0)+IF(ISNUMBER(CSVデータ2!N21),CSVデータ2!N21,0)+IF(ISNUMBER(CSVデータ3!N21),CSVデータ3!N21,0)+IF(ISNUMBER(CSVデータ4!N21),CSVデータ4!N21,0)","v":0},null,{"$f":"IF(ISNUMBER(CSVデータ1!P21),CSVデータ1!P21,0)+IF(ISNUMBER(CSVデータ2!P21),CSVデータ2!P21,0)+IF(ISNUMBER(CSVデータ3!P21),CSVデータ3!P21,0)+IF(ISNUMBER(CSVデータ4!P21),CSVデータ4!P21,0)","v":0},null,{"$f":"IF(ISNUMBER(CSVデータ1!R21),CSVデータ1!R21,0)+IF(ISNUMBER(CSVデータ2!R21),CSVデータ2!R21,0)+IF(ISNUMBER(CSVデータ3!R21),CSVデータ3!R21,0)+IF(ISNUMBER(CSVデータ4!R21),CSVデータ4!R21,0)","v":0},null,{"$f":"IF(ISNUMBER(CSVデータ1!T21),CSVデータ1!T21,0)+IF(ISNUMBER(CSVデータ2!T21),CSVデータ2!T21,0)+IF(ISNUMBER(CSVデータ3!T21),CSVデータ3!T21,0)+IF(ISNUMBER(CSVデータ4!T21),CSVデータ4!T21,0)","v":0},null,{"$f":"IF(ISNUMBER(CSVデータ1!V21),CSVデータ1!V21,0)+IF(ISNUMBER(CSVデータ2!V21),CSVデータ2!V21,0)+IF(ISNUMBER(CSVデータ3!V21),CSVデータ3!V21,0)+IF(ISNUMBER(CSVデータ4!V21),CSVデータ4!V21,0)","v":0},null,{"$f":"IF(ISNUMBER(CSVデータ1!X21),CSVデータ1!X21,0)+IF(ISNUMBER(CSVデータ2!X21),CSVデータ2!X21,0)+IF(ISNUMBER(CSVデータ3!X21),CSVデータ3!X21,0)+IF(ISNUMBER(CSVデータ4!X21),CSVデータ4!X21,0)","v":0},null,{"$f":"IF(ISNUMBER(CSVデータ1!Z21),CSVデータ1!Z21,0)+IF(ISNUMBER(CSVデータ2!Z21),CSVデータ2!Z21,0)+IF(ISNUMBER(CSVデータ3!Z21),CSVデータ3!Z21,0)+IF(ISNUMBER(CSVデータ4!Z21),CSVデータ4!Z21,0)","v":0},null,{"$f":"IF(ISNUMBER(CSVデータ1!AB21),CSVデータ1!AB21,0)+IF(ISNUMBER(CSVデータ2!AB21),CSVデータ2!AB21,0)+IF(ISNUMBER(CSVデータ3!AB21),CSVデータ3!AB21,0)+IF(ISNUMBER(CSVデータ4!AB21),CSVデータ4!AB21,0)","v":0},null,{"$f":"IF(ISNUMBER(CSVデータ1!AD21),CSVデータ1!AD21,0)+IF(ISNUMBER(CSVデータ2!AD21),CSVデータ2!AD21,0)+IF(ISNUMBER(CSVデータ3!AD21),CSVデータ3!AD21,0)+IF(ISNUMBER(CSVデータ4!AD21),CSVデータ4!AD21,0)","v":0},null,{"$f":"IF(ISNUMBER(CSVデータ1!AF21),CSVデータ1!AF21,0)+IF(ISNUMBER(CSVデータ2!AF21),CSVデータ2!AF21,0)+IF(ISNUMBER(CSVデータ3!AF21),CSVデータ3!AF21,0)+IF(ISNUMBER(CSVデータ4!AF21),CSVデータ4!AF21,0)","v":0},null,{"$f":"IF(ISNUMBER(CSVデータ1!AH21),CSVデータ1!AH21,0)+IF(ISNUMBER(CSVデータ2!AH21),CSVデータ2!AH21,0)+IF(ISNUMBER(CSVデータ3!AH21),CSVデータ3!AH21,0)+IF(ISNUMBER(CSVデータ4!AH21),CSVデータ4!AH21,0)","v":0},null,{"$f":"IF(ISNUMBER(CSVデータ1!AJ21),CSVデータ1!AJ21,0)+IF(ISNUMBER(CSVデータ2!AJ21),CSVデータ2!AJ21,0)+IF(ISNUMBER(CSVデータ3!AJ21),CSVデータ3!AJ21,0)+IF(ISNUMBER(CSVデータ4!AJ21),CSVデータ4!AJ21,0)","v":0},null,{"$f":"IF(ISNUMBER(CSVデータ1!AL21),CSVデータ1!AL21,0)+IF(ISNUMBER(CSVデータ2!AL21),CSVデータ2!AL21,0)+IF(ISNUMBER(CSVデータ3!AL21),CSVデータ3!AL21,0)+IF(ISNUMBER(CSVデータ4!AL21),CSVデータ4!AL21,0)","v":0},null,{"$f":"IF(ISNUMBER(CSVデータ1!AN21),CSVデータ1!AN21,0)+IF(ISNUMBER(CSVデータ2!AN21),CSVデータ2!AN21,0)+IF(ISNUMBER(CSVデータ3!AN21),CSVデータ3!AN21,0)+IF(ISNUMBER(CSVデータ4!AN21),CSVデータ4!AN21,0)","v":0}]
[{"$f":"CSVデータ1!A22","v":"明細部"},{"$f":"CSVデータ1!B22","v":"国"},{"$f":"CSVデータ1!C22","v":58},{"$f":"CSVデータ1!D22","v":"男"},{"$f":"IF(ISNUMBER(CSVデータ1!E22),CSVデータ1!E22,0)+IF(ISNUMBER(CSVデータ2!E22),CSVデータ2!E22,0)+IF(ISNUMBER(CSVデータ3!E22),CSVデータ3!E22,0)+IF(ISNUMBER(CSVデータ4!E22),CSVデータ4!E22,0)","v":0},{"$f":"IF(ISNUMBER(CSVデータ1!F22),CSVデータ1!F22,0)+IF(ISNUMBER(CSVデータ2!F22),CSVデータ2!F22,0)+IF(ISNUMBER(CSVデータ3!F22),CSVデータ3!F22,0)+IF(ISNUMBER(CSVデータ4!F22),CSVデータ4!F22,0)","v":0},null,{"$f":"IF(ISNUMBER(CSVデータ1!H22),CSVデータ1!H22,0)+IF(ISNUMBER(CSVデータ2!H22),CSVデータ2!H22,0)+IF(ISNUMBER(CSVデータ3!H22),CSVデータ3!H22,0)+IF(ISNUMBER(CSVデータ4!H22),CSVデータ4!H22,0)","v":0},null,{"$f":"IF(ISNUMBER(CSVデータ1!J22),CSVデータ1!J22,0)+IF(ISNUMBER(CSVデータ2!J22),CSVデータ2!J22,0)+IF(ISNUMBER(CSVデータ3!J22),CSVデータ3!J22,0)+IF(ISNUMBER(CSVデータ4!J22),CSVデータ4!J22,0)","v":0},null,{"$f":"IF(ISNUMBER(CSVデータ1!L22),CSVデータ1!L22,0)+IF(ISNUMBER(CSVデータ2!L22),CSVデータ2!L22,0)+IF(ISNUMBER(CSVデータ3!L22),CSVデータ3!L22,0)+IF(ISNUMBER(CSVデータ4!L22),CSVデータ4!L22,0)","v":0},null,{"$f":"IF(ISNUMBER(CSVデータ1!N22),CSVデータ1!N22,0)+IF(ISNUMBER(CSVデータ2!N22),CSVデータ2!N22,0)+IF(ISNUMBER(CSVデータ3!N22),CSVデータ3!N22,0)+IF(ISNUMBER(CSVデータ4!N22),CSVデータ4!N22,0)","v":0},null,{"$f":"IF(ISNUMBER(CSVデータ1!P22),CSVデータ1!P22,0)+IF(ISNUMBER(CSVデータ2!P22),CSVデータ2!P22,0)+IF(ISNUMBER(CSVデータ3!P22),CSVデータ3!P22,0)+IF(ISNUMBER(CSVデータ4!P22),CSVデータ4!P22,0)","v":0},null,{"$f":"IF(ISNUMBER(CSVデータ1!R22),CSVデータ1!R22,0)+IF(ISNUMBER(CSVデータ2!R22),CSVデータ2!R22,0)+IF(ISNUMBER(CSVデータ3!R22),CSVデータ3!R22,0)+IF(ISNUMBER(CSVデータ4!R22),CSVデータ4!R22,0)","v":0},null,{"$f":"IF(ISNUMBER(CSVデータ1!T22),CSVデータ1!T22,0)+IF(ISNUMBER(CSVデータ2!T22),CSVデータ2!T22,0)+IF(ISNUMBER(CSVデータ3!T22),CSVデータ3!T22,0)+IF(ISNUMBER(CSVデータ4!T22),CSVデータ4!T22,0)","v":0},null,{"$f":"IF(ISNUMBER(CSVデータ1!V22),CSVデータ1!V22,0)+IF(ISNUMBER(CSVデータ2!V22),CSVデータ2!V22,0)+IF(ISNUMBER(CSVデータ3!V22),CSVデータ3!V22,0)+IF(ISNUMBER(CSVデータ4!V22),CSVデータ4!V22,0)","v":0},null,{"$f":"IF(ISNUMBER(CSVデータ1!X22),CSVデータ1!X22,0)+IF(ISNUMBER(CSVデータ2!X22),CSVデータ2!X22,0)+IF(ISNUMBER(CSVデータ3!X22),CSVデータ3!X22,0)+IF(ISNUMBER(CSVデータ4!X22),CSVデータ4!X22,0)","v":0},null,{"$f":"IF(ISNUMBER(CSVデータ1!Z22),CSVデータ1!Z22,0)+IF(ISNUMBER(CSVデータ2!Z22),CSVデータ2!Z22,0)+IF(ISNUMBER(CSVデータ3!Z22),CSVデータ3!Z22,0)+IF(ISNUMBER(CSVデータ4!Z22),CSVデータ4!Z22,0)","v":0},null,{"$f":"IF(ISNUMBER(CSVデータ1!AB22),CSVデータ1!AB22,0)+IF(ISNUMBER(CSVデータ2!AB22),CSVデータ2!AB22,0)+IF(ISNUMBER(CSVデータ3!AB22),CSVデータ3!AB22,0)+IF(ISNUMBER(CSVデータ4!AB22),CSVデータ4!AB22,0)","v":0},null,{"$f":"IF(ISNUMBER(CSVデータ1!AD22),CSVデータ1!AD22,0)+IF(ISNUMBER(CSVデータ2!AD22),CSVデータ2!AD22,0)+IF(ISNUMBER(CSVデータ3!AD22),CSVデータ3!AD22,0)+IF(ISNUMBER(CSVデータ4!AD22),CSVデータ4!AD22,0)","v":0},null,{"$f":"IF(ISNUMBER(CSVデータ1!AF22),CSVデータ1!AF22,0)+IF(ISNUMBER(CSVデータ2!AF22),CSVデータ2!AF22,0)+IF(ISNUMBER(CSVデータ3!AF22),CSVデータ3!AF22,0)+IF(ISNUMBER(CSVデータ4!AF22),CSVデータ4!AF22,0)","v":0},null,{"$f":"IF(ISNUMBER(CSVデータ1!AH22),CSVデータ1!AH22,0)+IF(ISNUMBER(CSVデータ2!AH22),CSVデータ2!AH22,0)+IF(ISNUMBER(CSVデータ3!AH22),CSVデータ3!AH22,0)+IF(ISNUMBER(CSVデータ4!AH22),CSVデータ4!AH22,0)","v":0},null,{"$f":"IF(ISNUMBER(CSVデータ1!AJ22),CSVデータ1!AJ22,0)+IF(ISNUMBER(CSVデータ2!AJ22),CSVデータ2!AJ22,0)+IF(ISNUMBER(CSVデータ3!AJ22),CSVデータ3!AJ22,0)+IF(ISNUMBER(CSVデータ4!AJ22),CSVデータ4!AJ22,0)","v":0},null,{"$f":"IF(ISNUMBER(CSVデータ1!AL22),CSVデータ1!AL22,0)+IF(ISNUMBER(CSVデータ2!AL22),CSVデータ2!AL22,0)+IF(ISNUMBER(CSVデータ3!AL22),CSVデータ3!AL22,0)+IF(ISNUMBER(CSVデータ4!AL22),CSVデータ4!AL22,0)","v":0},null,{"$f":"IF(ISNUMBER(CSVデータ1!AN22),CSVデータ1!AN22,0)+IF(ISNUMBER(CSVデータ2!AN22),CSVデータ2!AN22,0)+IF(ISNUMBER(CSVデータ3!AN22),CSVデータ3!AN22,0)+IF(ISNUMBER(CSVデータ4!AN22),CSVデータ4!AN22,0)","v":0}]
[{"$f":"CSVデータ1!A23","v":"明細部"},{"$f":"CSVデータ1!B23","v":"国"},{"$f":"CSVデータ1!C23","v":59},{"$f":"CSVデータ1!D23","v":"男"},{"$f":"IF(ISNUMBER(CSVデータ1!E23),CSVデータ1!E23,0)+IF(ISNUMBER(CSVデータ2!E23),CSVデータ2!E23,0)+IF(ISNUMBER(CSVデータ3!E23),CSVデータ3!E23,0)+IF(ISNUMBER(CSVデータ4!E23),CSVデータ4!E23,0)","v":0},{"$f":"IF(ISNUMBER(CSVデータ1!F23),CSVデータ1!F23,0)+IF(ISNUMBER(CSVデータ2!F23),CSVデータ2!F23,0)+IF(ISNUMBER(CSVデータ3!F23),CSVデータ3!F23,0)+IF(ISNUMBER(CSVデータ4!F23),CSVデータ4!F23,0)","v":0},null,{"$f":"IF(ISNUMBER(CSVデータ1!H23),CSVデータ1!H23,0)+IF(ISNUMBER(CSVデータ2!H23),CSVデータ2!H23,0)+IF(ISNUMBER(CSVデータ3!H23),CSVデータ3!H23,0)+IF(ISNUMBER(CSVデータ4!H23),CSVデータ4!H23,0)","v":0},null,{"$f":"IF(ISNUMBER(CSVデータ1!J23),CSVデータ1!J23,0)+IF(ISNUMBER(CSVデータ2!J23),CSVデータ2!J23,0)+IF(ISNUMBER(CSVデータ3!J23),CSVデータ3!J23,0)+IF(ISNUMBER(CSVデータ4!J23),CSVデータ4!J23,0)","v":0},null,{"$f":"IF(ISNUMBER(CSVデータ1!L23),CSVデータ1!L23,0)+IF(ISNUMBER(CSVデータ2!L23),CSVデータ2!L23,0)+IF(ISNUMBER(CSVデータ3!L23),CSVデータ3!L23,0)+IF(ISNUMBER(CSVデータ4!L23),CSVデータ4!L23,0)","v":0},null,{"$f":"IF(ISNUMBER(CSVデータ1!N23),CSVデータ1!N23,0)+IF(ISNUMBER(CSVデータ2!N23),CSVデータ2!N23,0)+IF(ISNUMBER(CSVデータ3!N23),CSVデータ3!N23,0)+IF(ISNUMBER(CSVデータ4!N23),CSVデータ4!N23,0)","v":0},null,{"$f":"IF(ISNUMBER(CSVデータ1!P23),CSVデータ1!P23,0)+IF(ISNUMBER(CSVデータ2!P23),CSVデータ2!P23,0)+IF(ISNUMBER(CSVデータ3!P23),CSVデータ3!P23,0)+IF(ISNUMBER(CSVデータ4!P23),CSVデータ4!P23,0)","v":0},null,{"$f":"IF(ISNUMBER(CSVデータ1!R23),CSVデータ1!R23,0)+IF(ISNUMBER(CSVデータ2!R23),CSVデータ2!R23,0)+IF(ISNUMBER(CSVデータ3!R23),CSVデータ3!R23,0)+IF(ISNUMBER(CSVデータ4!R23),CSVデータ4!R23,0)","v":0},null,{"$f":"IF(ISNUMBER(CSVデータ1!T23),CSVデータ1!T23,0)+IF(ISNUMBER(CSVデータ2!T23),CSVデータ2!T23,0)+IF(ISNUMBER(CSVデータ3!T23),CSVデータ3!T23,0)+IF(ISNUMBER(CSVデータ4!T23),CSVデータ4!T23,0)","v":0},null,{"$f":"IF(ISNUMBER(CSVデータ1!V23),CSVデータ1!V23,0)+IF(ISNUMBER(CSVデータ2!V23),CSVデータ2!V23,0)+IF(ISNUMBER(CSVデータ3!V23),CSVデータ3!V23,0)+IF(ISNUMBER(CSVデータ4!V23),CSVデータ4!V23,0)","v":0},null,{"$f":"IF(ISNUMBER(CSVデータ1!X23),CSVデータ1!X23,0)+IF(ISNUMBER(CSVデータ2!X23),CSVデータ2!X23,0)+IF(ISNUMBER(CSVデータ3!X23),CSVデータ3!X23,0)+IF(ISNUMBER(CSVデータ4!X23),CSVデータ4!X23,0)","v":0},null,{"$f":"IF(ISNUMBER(CSVデータ1!Z23),CSVデータ1!Z23,0)+IF(ISNUMBER(CSVデータ2!Z23),CSVデータ2!Z23,0)+IF(ISNUMBER(CSVデータ3!Z23),CSVデータ3!Z23,0)+IF(ISNUMBER(CSVデータ4!Z23),CSVデータ4!Z23,0)","v":0},null,{"$f":"IF(ISNUMBER(CSVデータ1!AB23),CSVデータ1!AB23,0)+IF(ISNUMBER(CSVデータ2!AB23),CSVデータ2!AB23,0)+IF(ISNUMBER(CSVデータ3!AB23),CSVデータ3!AB23,0)+IF(ISNUMBER(CSVデータ4!AB23),CSVデータ4!AB23,0)","v":0},null,{"$f":"IF(ISNUMBER(CSVデータ1!AD23),CSVデータ1!AD23,0)+IF(ISNUMBER(CSVデータ2!AD23),CSVデータ2!AD23,0)+IF(ISNUMBER(CSVデータ3!AD23),CSVデータ3!AD23,0)+IF(ISNUMBER(CSVデータ4!AD23),CSVデータ4!AD23,0)","v":0},null,{"$f":"IF(ISNUMBER(CSVデータ1!AF23),CSVデータ1!AF23,0)+IF(ISNUMBER(CSVデータ2!AF23),CSVデータ2!AF23,0)+IF(ISNUMBER(CSVデータ3!AF23),CSVデータ3!AF23,0)+IF(ISNUMBER(CSVデータ4!AF23),CSVデータ4!AF23,0)","v":0},null,{"$f":"IF(ISNUMBER(CSVデータ1!AH23),CSVデータ1!AH23,0)+IF(ISNUMBER(CSVデータ2!AH23),CSVデータ2!AH23,0)+IF(ISNUMBER(CSVデータ3!AH23),CSVデータ3!AH23,0)+IF(ISNUMBER(CSVデータ4!AH23),CSVデータ4!AH23,0)","v":0},null,{"$f":"IF(ISNUMBER(CSVデータ1!AJ23),CSVデータ1!AJ23,0)+IF(ISNUMBER(CSVデータ2!AJ23),CSVデータ2!AJ23,0)+IF(ISNUMBER(CSVデータ3!AJ23),CSVデータ3!AJ23,0)+IF(ISNUMBER(CSVデータ4!AJ23),CSVデータ4!AJ23,0)","v":0},null,{"$f":"IF(ISNUMBER(CSVデータ1!AL23),CSVデータ1!AL23,0)+IF(ISNUMBER(CSVデータ2!AL23),CSVデータ2!AL23,0)+IF(ISNUMBER(CSVデータ3!AL23),CSVデータ3!AL23,0)+IF(ISNUMBER(CSVデータ4!AL23),CSVデータ4!AL23,0)","v":0},null,{"$f":"IF(ISNUMBER(CSVデータ1!AN23),CSVデータ1!AN23,0)+IF(ISNUMBER(CSVデータ2!AN23),CSVデータ2!AN23,0)+IF(ISNUMBER(CSVデータ3!AN23),CSVデータ3!AN23,0)+IF(ISNUMBER(CSVデータ4!AN23),CSVデータ4!AN23,0)","v":0}]
[{"$f":"CSVデータ1!A24","v":"明細部"},{"$f":"CSVデータ1!B24","v":"国"},{"$f":"CSVデータ1!C24","v":60},{"$f":"CSVデータ1!D24","v":"男"},{"$f":"IF(ISNUMBER(CSVデータ1!E24),CSVデータ1!E24,0)+IF(ISNUMBER(CSVデータ2!E24),CSVデータ2!E24,0)+IF(ISNUMBER(CSVデータ3!E24),CSVデータ3!E24,0)+IF(ISNUMBER(CSVデータ4!E24),CSVデータ4!E24,0)","v":0},{"$f":"IF(ISNUMBER(CSVデータ1!F24),CSVデータ1!F24,0)+IF(ISNUMBER(CSVデータ2!F24),CSVデータ2!F24,0)+IF(ISNUMBER(CSVデータ3!F24),CSVデータ3!F24,0)+IF(ISNUMBER(CSVデータ4!F24),CSVデータ4!F24,0)","v":0},null,{"$f":"IF(ISNUMBER(CSVデータ1!H24),CSVデータ1!H24,0)+IF(ISNUMBER(CSVデータ2!H24),CSVデータ2!H24,0)+IF(ISNUMBER(CSVデータ3!H24),CSVデータ3!H24,0)+IF(ISNUMBER(CSVデータ4!H24),CSVデータ4!H24,0)","v":0},null,{"$f":"IF(ISNUMBER(CSVデータ1!J24),CSVデータ1!J24,0)+IF(ISNUMBER(CSVデータ2!J24),CSVデータ2!J24,0)+IF(ISNUMBER(CSVデータ3!J24),CSVデータ3!J24,0)+IF(ISNUMBER(CSVデータ4!J24),CSVデータ4!J24,0)","v":0},null,{"$f":"IF(ISNUMBER(CSVデータ1!L24),CSVデータ1!L24,0)+IF(ISNUMBER(CSVデータ2!L24),CSVデータ2!L24,0)+IF(ISNUMBER(CSVデータ3!L24),CSVデータ3!L24,0)+IF(ISNUMBER(CSVデータ4!L24),CSVデータ4!L24,0)","v":0},null,{"$f":"IF(ISNUMBER(CSVデータ1!N24),CSVデータ1!N24,0)+IF(ISNUMBER(CSVデータ2!N24),CSVデータ2!N24,0)+IF(ISNUMBER(CSVデータ3!N24),CSVデータ3!N24,0)+IF(ISNUMBER(CSVデータ4!N24),CSVデータ4!N24,0)","v":0},null,{"$f":"IF(ISNUMBER(CSVデータ1!P24),CSVデータ1!P24,0)+IF(ISNUMBER(CSVデータ2!P24),CSVデータ2!P24,0)+IF(ISNUMBER(CSVデータ3!P24),CSVデータ3!P24,0)+IF(ISNUMBER(CSVデータ4!P24),CSVデータ4!P24,0)","v":0},null,{"$f":"IF(ISNUMBER(CSVデータ1!R24),CSVデータ1!R24,0)+IF(ISNUMBER(CSVデータ2!R24),CSVデータ2!R24,0)+IF(ISNUMBER(CSVデータ3!R24),CSVデータ3!R24,0)+IF(ISNUMBER(CSVデータ4!R24),CSVデータ4!R24,0)","v":0},null,{"$f":"IF(ISNUMBER(CSVデータ1!T24),CSVデータ1!T24,0)+IF(ISNUMBER(CSVデータ2!T24),CSVデータ2!T24,0)+IF(ISNUMBER(CSVデータ3!T24),CSVデータ3!T24,0)+IF(ISNUMBER(CSVデータ4!T24),CSVデータ4!T24,0)","v":0},null,{"$f":"IF(ISNUMBER(CSVデータ1!V24),CSVデータ1!V24,0)+IF(ISNUMBER(CSVデータ2!V24),CSVデータ2!V24,0)+IF(ISNUMBER(CSVデータ3!V24),CSVデータ3!V24,0)+IF(ISNUMBER(CSVデータ4!V24),CSVデータ4!V24,0)","v":0},null,{"$f":"IF(ISNUMBER(CSVデータ1!X24),CSVデータ1!X24,0)+IF(ISNUMBER(CSVデータ2!X24),CSVデータ2!X24,0)+IF(ISNUMBER(CSVデータ3!X24),CSVデータ3!X24,0)+IF(ISNUMBER(CSVデータ4!X24),CSVデータ4!X24,0)","v":0},null,{"$f":"IF(ISNUMBER(CSVデータ1!Z24),CSVデータ1!Z24,0)+IF(ISNUMBER(CSVデータ2!Z24),CSVデータ2!Z24,0)+IF(ISNUMBER(CSVデータ3!Z24),CSVデータ3!Z24,0)+IF(ISNUMBER(CSVデータ4!Z24),CSVデータ4!Z24,0)","v":0},null,{"$f":"IF(ISNUMBER(CSVデータ1!AB24),CSVデータ1!AB24,0)+IF(ISNUMBER(CSVデータ2!AB24),CSVデータ2!AB24,0)+IF(ISNUMBER(CSVデータ3!AB24),CSVデータ3!AB24,0)+IF(ISNUMBER(CSVデータ4!AB24),CSVデータ4!AB24,0)","v":0},null,{"$f":"IF(ISNUMBER(CSVデータ1!AD24),CSVデータ1!AD24,0)+IF(ISNUMBER(CSVデータ2!AD24),CSVデータ2!AD24,0)+IF(ISNUMBER(CSVデータ3!AD24),CSVデータ3!AD24,0)+IF(ISNUMBER(CSVデータ4!AD24),CSVデータ4!AD24,0)","v":0},null,{"$f":"IF(ISNUMBER(CSVデータ1!AF24),CSVデータ1!AF24,0)+IF(ISNUMBER(CSVデータ2!AF24),CSVデータ2!AF24,0)+IF(ISNUMBER(CSVデータ3!AF24),CSVデータ3!AF24,0)+IF(ISNUMBER(CSVデータ4!AF24),CSVデータ4!AF24,0)","v":0},null,{"$f":"IF(ISNUMBER(CSVデータ1!AH24),CSVデータ1!AH24,0)+IF(ISNUMBER(CSVデータ2!AH24),CSVデータ2!AH24,0)+IF(ISNUMBER(CSVデータ3!AH24),CSVデータ3!AH24,0)+IF(ISNUMBER(CSVデータ4!AH24),CSVデータ4!AH24,0)","v":0},null,{"$f":"IF(ISNUMBER(CSVデータ1!AJ24),CSVデータ1!AJ24,0)+IF(ISNUMBER(CSVデータ2!AJ24),CSVデータ2!AJ24,0)+IF(ISNUMBER(CSVデータ3!AJ24),CSVデータ3!AJ24,0)+IF(ISNUMBER(CSVデータ4!AJ24),CSVデータ4!AJ24,0)","v":0},null,{"$f":"IF(ISNUMBER(CSVデータ1!AL24),CSVデータ1!AL24,0)+IF(ISNUMBER(CSVデータ2!AL24),CSVデータ2!AL24,0)+IF(ISNUMBER(CSVデータ3!AL24),CSVデータ3!AL24,0)+IF(ISNUMBER(CSVデータ4!AL24),CSVデータ4!AL24,0)","v":0},null,{"$f":"IF(ISNUMBER(CSVデータ1!AN24),CSVデータ1!AN24,0)+IF(ISNUMBER(CSVデータ2!AN24),CSVデータ2!AN24,0)+IF(ISNUMBER(CSVデータ3!AN24),CSVデータ3!AN24,0)+IF(ISNUMBER(CSVデータ4!AN24),CSVデータ4!AN24,0)","v":0}]
[{"$f":"CSVデータ1!A25","v":"明細部"},{"$f":"CSVデータ1!B25","v":"国"},{"$f":"CSVデータ1!C25","v":61},{"$f":"CSVデータ1!D25","v":"男"},{"$f":"IF(ISNUMBER(CSVデータ1!E25),CSVデータ1!E25,0)+IF(ISNUMBER(CSVデータ2!E25),CSVデータ2!E25,0)+IF(ISNUMBER(CSVデータ3!E25),CSVデータ3!E25,0)+IF(ISNUMBER(CSVデータ4!E25),CSVデータ4!E25,0)","v":0},{"$f":"IF(ISNUMBER(CSVデータ1!F25),CSVデータ1!F25,0)+IF(ISNUMBER(CSVデータ2!F25),CSVデータ2!F25,0)+IF(ISNUMBER(CSVデータ3!F25),CSVデータ3!F25,0)+IF(ISNUMBER(CSVデータ4!F25),CSVデータ4!F25,0)","v":0},null,{"$f":"IF(ISNUMBER(CSVデータ1!H25),CSVデータ1!H25,0)+IF(ISNUMBER(CSVデータ2!H25),CSVデータ2!H25,0)+IF(ISNUMBER(CSVデータ3!H25),CSVデータ3!H25,0)+IF(ISNUMBER(CSVデータ4!H25),CSVデータ4!H25,0)","v":0},null,{"$f":"IF(ISNUMBER(CSVデータ1!J25),CSVデータ1!J25,0)+IF(ISNUMBER(CSVデータ2!J25),CSVデータ2!J25,0)+IF(ISNUMBER(CSVデータ3!J25),CSVデータ3!J25,0)+IF(ISNUMBER(CSVデータ4!J25),CSVデータ4!J25,0)","v":0},null,{"$f":"IF(ISNUMBER(CSVデータ1!L25),CSVデータ1!L25,0)+IF(ISNUMBER(CSVデータ2!L25),CSVデータ2!L25,0)+IF(ISNUMBER(CSVデータ3!L25),CSVデータ3!L25,0)+IF(ISNUMBER(CSVデータ4!L25),CSVデータ4!L25,0)","v":0},null,{"$f":"IF(ISNUMBER(CSVデータ1!N25),CSVデータ1!N25,0)+IF(ISNUMBER(CSVデータ2!N25),CSVデータ2!N25,0)+IF(ISNUMBER(CSVデータ3!N25),CSVデータ3!N25,0)+IF(ISNUMBER(CSVデータ4!N25),CSVデータ4!N25,0)","v":0},null,{"$f":"IF(ISNUMBER(CSVデータ1!P25),CSVデータ1!P25,0)+IF(ISNUMBER(CSVデータ2!P25),CSVデータ2!P25,0)+IF(ISNUMBER(CSVデータ3!P25),CSVデータ3!P25,0)+IF(ISNUMBER(CSVデータ4!P25),CSVデータ4!P25,0)","v":0},null,{"$f":"IF(ISNUMBER(CSVデータ1!R25),CSVデータ1!R25,0)+IF(ISNUMBER(CSVデータ2!R25),CSVデータ2!R25,0)+IF(ISNUMBER(CSVデータ3!R25),CSVデータ3!R25,0)+IF(ISNUMBER(CSVデータ4!R25),CSVデータ4!R25,0)","v":0},null,{"$f":"IF(ISNUMBER(CSVデータ1!T25),CSVデータ1!T25,0)+IF(ISNUMBER(CSVデータ2!T25),CSVデータ2!T25,0)+IF(ISNUMBER(CSVデータ3!T25),CSVデータ3!T25,0)+IF(ISNUMBER(CSVデータ4!T25),CSVデータ4!T25,0)","v":0},null,{"$f":"IF(ISNUMBER(CSVデータ1!V25),CSVデータ1!V25,0)+IF(ISNUMBER(CSVデータ2!V25),CSVデータ2!V25,0)+IF(ISNUMBER(CSVデータ3!V25),CSVデータ3!V25,0)+IF(ISNUMBER(CSVデータ4!V25),CSVデータ4!V25,0)","v":0},null,{"$f":"IF(ISNUMBER(CSVデータ1!X25),CSVデータ1!X25,0)+IF(ISNUMBER(CSVデータ2!X25),CSVデータ2!X25,0)+IF(ISNUMBER(CSVデータ3!X25),CSVデータ3!X25,0)+IF(ISNUMBER(CSVデータ4!X25),CSVデータ4!X25,0)","v":0},null,{"$f":"IF(ISNUMBER(CSVデータ1!Z25),CSVデータ1!Z25,0)+IF(ISNUMBER(CSVデータ2!Z25),CSVデータ2!Z25,0)+IF(ISNUMBER(CSVデータ3!Z25),CSVデータ3!Z25,0)+IF(ISNUMBER(CSVデータ4!Z25),CSVデータ4!Z25,0)","v":0},null,{"$f":"IF(ISNUMBER(CSVデータ1!AB25),CSVデータ1!AB25,0)+IF(ISNUMBER(CSVデータ2!AB25),CSVデータ2!AB25,0)+IF(ISNUMBER(CSVデータ3!AB25),CSVデータ3!AB25,0)+IF(ISNUMBER(CSVデータ4!AB25),CSVデータ4!AB25,0)","v":0},null,{"$f":"IF(ISNUMBER(CSVデータ1!AD25),CSVデータ1!AD25,0)+IF(ISNUMBER(CSVデータ2!AD25),CSVデータ2!AD25,0)+IF(ISNUMBER(CSVデータ3!AD25),CSVデータ3!AD25,0)+IF(ISNUMBER(CSVデータ4!AD25),CSVデータ4!AD25,0)","v":0},null,{"$f":"IF(ISNUMBER(CSVデータ1!AF25),CSVデータ1!AF25,0)+IF(ISNUMBER(CSVデータ2!AF25),CSVデータ2!AF25,0)+IF(ISNUMBER(CSVデータ3!AF25),CSVデータ3!AF25,0)+IF(ISNUMBER(CSVデータ4!AF25),CSVデータ4!AF25,0)","v":0},null,{"$f":"IF(ISNUMBER(CSVデータ1!AH25),CSVデータ1!AH25,0)+IF(ISNUMBER(CSVデータ2!AH25),CSVデータ2!AH25,0)+IF(ISNUMBER(CSVデータ3!AH25),CSVデータ3!AH25,0)+IF(ISNUMBER(CSVデータ4!AH25),CSVデータ4!AH25,0)","v":0},null,{"$f":"IF(ISNUMBER(CSVデータ1!AJ25),CSVデータ1!AJ25,0)+IF(ISNUMBER(CSVデータ2!AJ25),CSVデータ2!AJ25,0)+IF(ISNUMBER(CSVデータ3!AJ25),CSVデータ3!AJ25,0)+IF(ISNUMBER(CSVデータ4!AJ25),CSVデータ4!AJ25,0)","v":0},null,{"$f":"IF(ISNUMBER(CSVデータ1!AL25),CSVデータ1!AL25,0)+IF(ISNUMBER(CSVデータ2!AL25),CSVデータ2!AL25,0)+IF(ISNUMBER(CSVデータ3!AL25),CSVデータ3!AL25,0)+IF(ISNUMBER(CSVデータ4!AL25),CSVデータ4!AL25,0)","v":0},null,{"$f":"IF(ISNUMBER(CSVデータ1!AN25),CSVデータ1!AN25,0)+IF(ISNUMBER(CSVデータ2!AN25),CSVデータ2!AN25,0)+IF(ISNUMBER(CSVデータ3!AN25),CSVデータ3!AN25,0)+IF(ISNUMBER(CSVデータ4!AN25),CSVデータ4!AN25,0)","v":0}]
[{"$f":"CSVデータ1!A26","v":"明細部"},{"$f":"CSVデータ1!B26","v":"国"},{"$f":"CSVデータ1!C26","v":62},{"$f":"CSVデータ1!D26","v":"男"},{"$f":"IF(ISNUMBER(CSVデータ1!E26),CSVデータ1!E26,0)+IF(ISNUMBER(CSVデータ2!E26),CSVデータ2!E26,0)+IF(ISNUMBER(CSVデータ3!E26),CSVデータ3!E26,0)+IF(ISNUMBER(CSVデータ4!E26),CSVデータ4!E26,0)","v":0},{"$f":"IF(ISNUMBER(CSVデータ1!F26),CSVデータ1!F26,0)+IF(ISNUMBER(CSVデータ2!F26),CSVデータ2!F26,0)+IF(ISNUMBER(CSVデータ3!F26),CSVデータ3!F26,0)+IF(ISNUMBER(CSVデータ4!F26),CSVデータ4!F26,0)","v":0},null,{"$f":"IF(ISNUMBER(CSVデータ1!H26),CSVデータ1!H26,0)+IF(ISNUMBER(CSVデータ2!H26),CSVデータ2!H26,0)+IF(ISNUMBER(CSVデータ3!H26),CSVデータ3!H26,0)+IF(ISNUMBER(CSVデータ4!H26),CSVデータ4!H26,0)","v":0},null,{"$f":"IF(ISNUMBER(CSVデータ1!J26),CSVデータ1!J26,0)+IF(ISNUMBER(CSVデータ2!J26),CSVデータ2!J26,0)+IF(ISNUMBER(CSVデータ3!J26),CSVデータ3!J26,0)+IF(ISNUMBER(CSVデータ4!J26),CSVデータ4!J26,0)","v":0},null,{"$f":"IF(ISNUMBER(CSVデータ1!L26),CSVデータ1!L26,0)+IF(ISNUMBER(CSVデータ2!L26),CSVデータ2!L26,0)+IF(ISNUMBER(CSVデータ3!L26),CSVデータ3!L26,0)+IF(ISNUMBER(CSVデータ4!L26),CSVデータ4!L26,0)","v":0},null,{"$f":"IF(ISNUMBER(CSVデータ1!N26),CSVデータ1!N26,0)+IF(ISNUMBER(CSVデータ2!N26),CSVデータ2!N26,0)+IF(ISNUMBER(CSVデータ3!N26),CSVデータ3!N26,0)+IF(ISNUMBER(CSVデータ4!N26),CSVデータ4!N26,0)","v":0},null,{"$f":"IF(ISNUMBER(CSVデータ1!P26),CSVデータ1!P26,0)+IF(ISNUMBER(CSVデータ2!P26),CSVデータ2!P26,0)+IF(ISNUMBER(CSVデータ3!P26),CSVデータ3!P26,0)+IF(ISNUMBER(CSVデータ4!P26),CSVデータ4!P26,0)","v":0},null,{"$f":"IF(ISNUMBER(CSVデータ1!R26),CSVデータ1!R26,0)+IF(ISNUMBER(CSVデータ2!R26),CSVデータ2!R26,0)+IF(ISNUMBER(CSVデータ3!R26),CSVデータ3!R26,0)+IF(ISNUMBER(CSVデータ4!R26),CSVデータ4!R26,0)","v":0},null,{"$f":"IF(ISNUMBER(CSVデータ1!T26),CSVデータ1!T26,0)+IF(ISNUMBER(CSVデータ2!T26),CSVデータ2!T26,0)+IF(ISNUMBER(CSVデータ3!T26),CSVデータ3!T26,0)+IF(ISNUMBER(CSVデータ4!T26),CSVデータ4!T26,0)","v":0},null,{"$f":"IF(ISNUMBER(CSVデータ1!V26),CSVデータ1!V26,0)+IF(ISNUMBER(CSVデータ2!V26),CSVデータ2!V26,0)+IF(ISNUMBER(CSVデータ3!V26),CSVデータ3!V26,0)+IF(ISNUMBER(CSVデータ4!V26),CSVデータ4!V26,0)","v":0},null,{"$f":"IF(ISNUMBER(CSVデータ1!X26),CSVデータ1!X26,0)+IF(ISNUMBER(CSVデータ2!X26),CSVデータ2!X26,0)+IF(ISNUMBER(CSVデータ3!X26),CSVデータ3!X26,0)+IF(ISNUMBER(CSVデータ4!X26),CSVデータ4!X26,0)","v":0},null,{"$f":"IF(ISNUMBER(CSVデータ1!Z26),CSVデータ1!Z26,0)+IF(ISNUMBER(CSVデータ2!Z26),CSVデータ2!Z26,0)+IF(ISNUMBER(CSVデータ3!Z26),CSVデータ3!Z26,0)+IF(ISNUMBER(CSVデータ4!Z26),CSVデータ4!Z26,0)","v":0},null,{"$f":"IF(ISNUMBER(CSVデータ1!AB26),CSVデータ1!AB26,0)+IF(ISNUMBER(CSVデータ2!AB26),CSVデータ2!AB26,0)+IF(ISNUMBER(CSVデータ3!AB26),CSVデータ3!AB26,0)+IF(ISNUMBER(CSVデータ4!AB26),CSVデータ4!AB26,0)","v":0},null,{"$f":"IF(ISNUMBER(CSVデータ1!AD26),CSVデータ1!AD26,0)+IF(ISNUMBER(CSVデータ2!AD26),CSVデータ2!AD26,0)+IF(ISNUMBER(CSVデータ3!AD26),CSVデータ3!AD26,0)+IF(ISNUMBER(CSVデータ4!AD26),CSVデータ4!AD26,0)","v":0},null,{"$f":"IF(ISNUMBER(CSVデータ1!AF26),CSVデータ1!AF26,0)+IF(ISNUMBER(CSVデータ2!AF26),CSVデータ2!AF26,0)+IF(ISNUMBER(CSVデータ3!AF26),CSVデータ3!AF26,0)+IF(ISNUMBER(CSVデータ4!AF26),CSVデータ4!AF26,0)","v":0},null,{"$f":"IF(ISNUMBER(CSVデータ1!AH26),CSVデータ1!AH26,0)+IF(ISNUMBER(CSVデータ2!AH26),CSVデータ2!AH26,0)+IF(ISNUMBER(CSVデータ3!AH26),CSVデータ3!AH26,0)+IF(ISNUMBER(CSVデータ4!AH26),CSVデータ4!AH26,0)","v":0},null,{"$f":"IF(ISNUMBER(CSVデータ1!AJ26),CSVデータ1!AJ26,0)+IF(ISNUMBER(CSVデータ2!AJ26),CSVデータ2!AJ26,0)+IF(ISNUMBER(CSVデータ3!AJ26),CSVデータ3!AJ26,0)+IF(ISNUMBER(CSVデータ4!AJ26),CSVデータ4!AJ26,0)","v":0},null,{"$f":"IF(ISNUMBER(CSVデータ1!AL26),CSVデータ1!AL26,0)+IF(ISNUMBER(CSVデータ2!AL26),CSVデータ2!AL26,0)+IF(ISNUMBER(CSVデータ3!AL26),CSVデータ3!AL26,0)+IF(ISNUMBER(CSVデータ4!AL26),CSVデータ4!AL26,0)","v":0},null,{"$f":"IF(ISNUMBER(CSVデータ1!AN26),CSVデータ1!AN26,0)+IF(ISNUMBER(CSVデータ2!AN26),CSVデータ2!AN26,0)+IF(ISNUMBER(CSVデータ3!AN26),CSVデータ3!AN26,0)+IF(ISNUMBER(CSVデータ4!AN26),CSVデータ4!AN26,0)","v":0}]
[{"$f":"CSVデータ1!A27","v":"明細部"},{"$f":"CSVデータ1!B27","v":"国"},{"$f":"CSVデータ1!C27","v":63},{"$f":"CSVデータ1!D27","v":"男"},{"$f":"IF(ISNUMBER(CSVデータ1!E27),CSVデータ1!E27,0)+IF(ISNUMBER(CSVデータ2!E27),CSVデータ2!E27,0)+IF(ISNUMBER(CSVデータ3!E27),CSVデータ3!E27,0)+IF(ISNUMBER(CSVデータ4!E27),CSVデータ4!E27,0)","v":0},{"$f":"IF(ISNUMBER(CSVデータ1!F27),CSVデータ1!F27,0)+IF(ISNUMBER(CSVデータ2!F27),CSVデータ2!F27,0)+IF(ISNUMBER(CSVデータ3!F27),CSVデータ3!F27,0)+IF(ISNUMBER(CSVデータ4!F27),CSVデータ4!F27,0)","v":0},null,{"$f":"IF(ISNUMBER(CSVデータ1!H27),CSVデータ1!H27,0)+IF(ISNUMBER(CSVデータ2!H27),CSVデータ2!H27,0)+IF(ISNUMBER(CSVデータ3!H27),CSVデータ3!H27,0)+IF(ISNUMBER(CSVデータ4!H27),CSVデータ4!H27,0)","v":0},null,{"$f":"IF(ISNUMBER(CSVデータ1!J27),CSVデータ1!J27,0)+IF(ISNUMBER(CSVデータ2!J27),CSVデータ2!J27,0)+IF(ISNUMBER(CSVデータ3!J27),CSVデータ3!J27,0)+IF(ISNUMBER(CSVデータ4!J27),CSVデータ4!J27,0)","v":0},null,{"$f":"IF(ISNUMBER(CSVデータ1!L27),CSVデータ1!L27,0)+IF(ISNUMBER(CSVデータ2!L27),CSVデータ2!L27,0)+IF(ISNUMBER(CSVデータ3!L27),CSVデータ3!L27,0)+IF(ISNUMBER(CSVデータ4!L27),CSVデータ4!L27,0)","v":0},null,{"$f":"IF(ISNUMBER(CSVデータ1!N27),CSVデータ1!N27,0)+IF(ISNUMBER(CSVデータ2!N27),CSVデータ2!N27,0)+IF(ISNUMBER(CSVデータ3!N27),CSVデータ3!N27,0)+IF(ISNUMBER(CSVデータ4!N27),CSVデータ4!N27,0)","v":0},null,{"$f":"IF(ISNUMBER(CSVデータ1!P27),CSVデータ1!P27,0)+IF(ISNUMBER(CSVデータ2!P27),CSVデータ2!P27,0)+IF(ISNUMBER(CSVデータ3!P27),CSVデータ3!P27,0)+IF(ISNUMBER(CSVデータ4!P27),CSVデータ4!P27,0)","v":0},null,{"$f":"IF(ISNUMBER(CSVデータ1!R27),CSVデータ1!R27,0)+IF(ISNUMBER(CSVデータ2!R27),CSVデータ2!R27,0)+IF(ISNUMBER(CSVデータ3!R27),CSVデータ3!R27,0)+IF(ISNUMBER(CSVデータ4!R27),CSVデータ4!R27,0)","v":0},null,{"$f":"IF(ISNUMBER(CSVデータ1!T27),CSVデータ1!T27,0)+IF(ISNUMBER(CSVデータ2!T27),CSVデータ2!T27,0)+IF(ISNUMBER(CSVデータ3!T27),CSVデータ3!T27,0)+IF(ISNUMBER(CSVデータ4!T27),CSVデータ4!T27,0)","v":0},null,{"$f":"IF(ISNUMBER(CSVデータ1!V27),CSVデータ1!V27,0)+IF(ISNUMBER(CSVデータ2!V27),CSVデータ2!V27,0)+IF(ISNUMBER(CSVデータ3!V27),CSVデータ3!V27,0)+IF(ISNUMBER(CSVデータ4!V27),CSVデータ4!V27,0)","v":0},null,{"$f":"IF(ISNUMBER(CSVデータ1!X27),CSVデータ1!X27,0)+IF(ISNUMBER(CSVデータ2!X27),CSVデータ2!X27,0)+IF(ISNUMBER(CSVデータ3!X27),CSVデータ3!X27,0)+IF(ISNUMBER(CSVデータ4!X27),CSVデータ4!X27,0)","v":0},null,{"$f":"IF(ISNUMBER(CSVデータ1!Z27),CSVデータ1!Z27,0)+IF(ISNUMBER(CSVデータ2!Z27),CSVデータ2!Z27,0)+IF(ISNUMBER(CSVデータ3!Z27),CSVデータ3!Z27,0)+IF(ISNUMBER(CSVデータ4!Z27),CSVデータ4!Z27,0)","v":0},null,{"$f":"IF(ISNUMBER(CSVデータ1!AB27),CSVデータ1!AB27,0)+IF(ISNUMBER(CSVデータ2!AB27),CSVデータ2!AB27,0)+IF(ISNUMBER(CSVデータ3!AB27),CSVデータ3!AB27,0)+IF(ISNUMBER(CSVデータ4!AB27),CSVデータ4!AB27,0)","v":0},null,{"$f":"IF(ISNUMBER(CSVデータ1!AD27),CSVデータ1!AD27,0)+IF(ISNUMBER(CSVデータ2!AD27),CSVデータ2!AD27,0)+IF(ISNUMBER(CSVデータ3!AD27),CSVデータ3!AD27,0)+IF(ISNUMBER(CSVデータ4!AD27),CSVデータ4!AD27,0)","v":0},null,{"$f":"IF(ISNUMBER(CSVデータ1!AF27),CSVデータ1!AF27,0)+IF(ISNUMBER(CSVデータ2!AF27),CSVデータ2!AF27,0)+IF(ISNUMBER(CSVデータ3!AF27),CSVデータ3!AF27,0)+IF(ISNUMBER(CSVデータ4!AF27),CSVデータ4!AF27,0)","v":0},null,{"$f":"IF(ISNUMBER(CSVデータ1!AH27),CSVデータ1!AH27,0)+IF(ISNUMBER(CSVデータ2!AH27),CSVデータ2!AH27,0)+IF(ISNUMBER(CSVデータ3!AH27),CSVデータ3!AH27,0)+IF(ISNUMBER(CSVデータ4!AH27),CSVデータ4!AH27,0)","v":0},null,{"$f":"IF(ISNUMBER(CSVデータ1!AJ27),CSVデータ1!AJ27,0)+IF(ISNUMBER(CSVデータ2!AJ27),CSVデータ2!AJ27,0)+IF(ISNUMBER(CSVデータ3!AJ27),CSVデータ3!AJ27,0)+IF(ISNUMBER(CSVデータ4!AJ27),CSVデータ4!AJ27,0)","v":0},null,{"$f":"IF(ISNUMBER(CSVデータ1!AL27),CSVデータ1!AL27,0)+IF(ISNUMBER(CSVデータ2!AL27),CSVデータ2!AL27,0)+IF(ISNUMBER(CSVデータ3!AL27),CSVデータ3!AL27,0)+IF(ISNUMBER(CSVデータ4!AL27),CSVデータ4!AL27,0)","v":0},null,{"$f":"IF(ISNUMBER(CSVデータ1!AN27),CSVデータ1!AN27,0)+IF(ISNUMBER(CSVデータ2!AN27),CSVデータ2!AN27,0)+IF(ISNUMBER(CSVデータ3!AN27),CSVデータ3!AN27,0)+IF(ISNUMBER(CSVデータ4!AN27),CSVデータ4!AN27,0)","v":0}]
[{"$f":"CSVデータ1!A28","v":"明細部"},{"$f":"CSVデータ1!B28","v":"国"},{"$f":"CSVデータ1!C28","v":64},{"$f":"CSVデータ1!D28","v":"男"},{"$f":"IF(ISNUMBER(CSVデータ1!E28),CSVデータ1!E28,0)+IF(ISNUMBER(CSVデータ2!E28),CSVデータ2!E28,0)+IF(ISNUMBER(CSVデータ3!E28),CSVデータ3!E28,0)+IF(ISNUMBER(CSVデータ4!E28),CSVデータ4!E28,0)","v":0},{"$f":"IF(ISNUMBER(CSVデータ1!F28),CSVデータ1!F28,0)+IF(ISNUMBER(CSVデータ2!F28),CSVデータ2!F28,0)+IF(ISNUMBER(CSVデータ3!F28),CSVデータ3!F28,0)+IF(ISNUMBER(CSVデータ4!F28),CSVデータ4!F28,0)","v":0},null,{"$f":"IF(ISNUMBER(CSVデータ1!H28),CSVデータ1!H28,0)+IF(ISNUMBER(CSVデータ2!H28),CSVデータ2!H28,0)+IF(ISNUMBER(CSVデータ3!H28),CSVデータ3!H28,0)+IF(ISNUMBER(CSVデータ4!H28),CSVデータ4!H28,0)","v":0},null,{"$f":"IF(ISNUMBER(CSVデータ1!J28),CSVデータ1!J28,0)+IF(ISNUMBER(CSVデータ2!J28),CSVデータ2!J28,0)+IF(ISNUMBER(CSVデータ3!J28),CSVデータ3!J28,0)+IF(ISNUMBER(CSVデータ4!J28),CSVデータ4!J28,0)","v":0},null,{"$f":"IF(ISNUMBER(CSVデータ1!L28),CSVデータ1!L28,0)+IF(ISNUMBER(CSVデータ2!L28),CSVデータ2!L28,0)+IF(ISNUMBER(CSVデータ3!L28),CSVデータ3!L28,0)+IF(ISNUMBER(CSVデータ4!L28),CSVデータ4!L28,0)","v":0},null,{"$f":"IF(ISNUMBER(CSVデータ1!N28),CSVデータ1!N28,0)+IF(ISNUMBER(CSVデータ2!N28),CSVデータ2!N28,0)+IF(ISNUMBER(CSVデータ3!N28),CSVデータ3!N28,0)+IF(ISNUMBER(CSVデータ4!N28),CSVデータ4!N28,0)","v":0},null,{"$f":"IF(ISNUMBER(CSVデータ1!P28),CSVデータ1!P28,0)+IF(ISNUMBER(CSVデータ2!P28),CSVデータ2!P28,0)+IF(ISNUMBER(CSVデータ3!P28),CSVデータ3!P28,0)+IF(ISNUMBER(CSVデータ4!P28),CSVデータ4!P28,0)","v":0},null,{"$f":"IF(ISNUMBER(CSVデータ1!R28),CSVデータ1!R28,0)+IF(ISNUMBER(CSVデータ2!R28),CSVデータ2!R28,0)+IF(ISNUMBER(CSVデータ3!R28),CSVデータ3!R28,0)+IF(ISNUMBER(CSVデータ4!R28),CSVデータ4!R28,0)","v":0},null,{"$f":"IF(ISNUMBER(CSVデータ1!T28),CSVデータ1!T28,0)+IF(ISNUMBER(CSVデータ2!T28),CSVデータ2!T28,0)+IF(ISNUMBER(CSVデータ3!T28),CSVデータ3!T28,0)+IF(ISNUMBER(CSVデータ4!T28),CSVデータ4!T28,0)","v":0},null,{"$f":"IF(ISNUMBER(CSVデータ1!V28),CSVデータ1!V28,0)+IF(ISNUMBER(CSVデータ2!V28),CSVデータ2!V28,0)+IF(ISNUMBER(CSVデータ3!V28),CSVデータ3!V28,0)+IF(ISNUMBER(CSVデータ4!V28),CSVデータ4!V28,0)","v":0},null,{"$f":"IF(ISNUMBER(CSVデータ1!X28),CSVデータ1!X28,0)+IF(ISNUMBER(CSVデータ2!X28),CSVデータ2!X28,0)+IF(ISNUMBER(CSVデータ3!X28),CSVデータ3!X28,0)+IF(ISNUMBER(CSVデータ4!X28),CSVデータ4!X28,0)","v":0},null,{"$f":"IF(ISNUMBER(CSVデータ1!Z28),CSVデータ1!Z28,0)+IF(ISNUMBER(CSVデータ2!Z28),CSVデータ2!Z28,0)+IF(ISNUMBER(CSVデータ3!Z28),CSVデータ3!Z28,0)+IF(ISNUMBER(CSVデータ4!Z28),CSVデータ4!Z28,0)","v":0},null,{"$f":"IF(ISNUMBER(CSVデータ1!AB28),CSVデータ1!AB28,0)+IF(ISNUMBER(CSVデータ2!AB28),CSVデータ2!AB28,0)+IF(ISNUMBER(CSVデータ3!AB28),CSVデータ3!AB28,0)+IF(ISNUMBER(CSVデータ4!AB28),CSVデータ4!AB28,0)","v":0},null,{"$f":"IF(ISNUMBER(CSVデータ1!AD28),CSVデータ1!AD28,0)+IF(ISNUMBER(CSVデータ2!AD28),CSVデータ2!AD28,0)+IF(ISNUMBER(CSVデータ3!AD28),CSVデータ3!AD28,0)+IF(ISNUMBER(CSVデータ4!AD28),CSVデータ4!AD28,0)","v":0},null,{"$f":"IF(ISNUMBER(CSVデータ1!AF28),CSVデータ1!AF28,0)+IF(ISNUMBER(CSVデータ2!AF28),CSVデータ2!AF28,0)+IF(ISNUMBER(CSVデータ3!AF28),CSVデータ3!AF28,0)+IF(ISNUMBER(CSVデータ4!AF28),CSVデータ4!AF28,0)","v":0},null,{"$f":"IF(ISNUMBER(CSVデータ1!AH28),CSVデータ1!AH28,0)+IF(ISNUMBER(CSVデータ2!AH28),CSVデータ2!AH28,0)+IF(ISNUMBER(CSVデータ3!AH28),CSVデータ3!AH28,0)+IF(ISNUMBER(CSVデータ4!AH28),CSVデータ4!AH28,0)","v":0},null,{"$f":"IF(ISNUMBER(CSVデータ1!AJ28),CSVデータ1!AJ28,0)+IF(ISNUMBER(CSVデータ2!AJ28),CSVデータ2!AJ28,0)+IF(ISNUMBER(CSVデータ3!AJ28),CSVデータ3!AJ28,0)+IF(ISNUMBER(CSVデータ4!AJ28),CSVデータ4!AJ28,0)","v":0},null,{"$f":"IF(ISNUMBER(CSVデータ1!AL28),CSVデータ1!AL28,0)+IF(ISNUMBER(CSVデータ2!AL28),CSVデータ2!AL28,0)+IF(ISNUMBER(CSVデータ3!AL28),CSVデータ3!AL28,0)+IF(ISNUMBER(CSVデータ4!AL28),CSVデータ4!AL28,0)","v":0},null,{"$f":"IF(ISNUMBER(CSVデータ1!AN28),CSVデータ1!AN28,0)+IF(ISNUMBER(CSVデータ2!AN28),CSVデータ2!AN28,0)+IF(ISNUMBER(CSVデータ3!AN28),CSVデータ3!AN28,0)+IF(ISNUMBER(CSVデータ4!AN28),CSVデータ4!AN28,0)","v":0}]
[{"$f":"CSVデータ1!A29","v":"明細部"},{"$f":"CSVデータ1!B29","v":"国"},{"$f":"CSVデータ1!C29","v":65},{"$f":"CSVデータ1!D29","v":"男"},{"$f":"IF(ISNUMBER(CSVデータ1!E29),CSVデータ1!E29,0)+IF(ISNUMBER(CSVデータ2!E29),CSVデータ2!E29,0)+IF(ISNUMBER(CSVデータ3!E29),CSVデータ3!E29,0)+IF(ISNUMBER(CSVデータ4!E29),CSVデータ4!E29,0)","v":0},{"$f":"IF(ISNUMBER(CSVデータ1!F29),CSVデータ1!F29,0)+IF(ISNUMBER(CSVデータ2!F29),CSVデータ2!F29,0)+IF(ISNUMBER(CSVデータ3!F29),CSVデータ3!F29,0)+IF(ISNUMBER(CSVデータ4!F29),CSVデータ4!F29,0)","v":0},null,{"$f":"IF(ISNUMBER(CSVデータ1!H29),CSVデータ1!H29,0)+IF(ISNUMBER(CSVデータ2!H29),CSVデータ2!H29,0)+IF(ISNUMBER(CSVデータ3!H29),CSVデータ3!H29,0)+IF(ISNUMBER(CSVデータ4!H29),CSVデータ4!H29,0)","v":0},null,{"$f":"IF(ISNUMBER(CSVデータ1!J29),CSVデータ1!J29,0)+IF(ISNUMBER(CSVデータ2!J29),CSVデータ2!J29,0)+IF(ISNUMBER(CSVデータ3!J29),CSVデータ3!J29,0)+IF(ISNUMBER(CSVデータ4!J29),CSVデータ4!J29,0)","v":0},null,{"$f":"IF(ISNUMBER(CSVデータ1!L29),CSVデータ1!L29,0)+IF(ISNUMBER(CSVデータ2!L29),CSVデータ2!L29,0)+IF(ISNUMBER(CSVデータ3!L29),CSVデータ3!L29,0)+IF(ISNUMBER(CSVデータ4!L29),CSVデータ4!L29,0)","v":0},null,{"$f":"IF(ISNUMBER(CSVデータ1!N29),CSVデータ1!N29,0)+IF(ISNUMBER(CSVデータ2!N29),CSVデータ2!N29,0)+IF(ISNUMBER(CSVデータ3!N29),CSVデータ3!N29,0)+IF(ISNUMBER(CSVデータ4!N29),CSVデータ4!N29,0)","v":0},null,{"$f":"IF(ISNUMBER(CSVデータ1!P29),CSVデータ1!P29,0)+IF(ISNUMBER(CSVデータ2!P29),CSVデータ2!P29,0)+IF(ISNUMBER(CSVデータ3!P29),CSVデータ3!P29,0)+IF(ISNUMBER(CSVデータ4!P29),CSVデータ4!P29,0)","v":0},null,{"$f":"IF(ISNUMBER(CSVデータ1!R29),CSVデータ1!R29,0)+IF(ISNUMBER(CSVデータ2!R29),CSVデータ2!R29,0)+IF(ISNUMBER(CSVデータ3!R29),CSVデータ3!R29,0)+IF(ISNUMBER(CSVデータ4!R29),CSVデータ4!R29,0)","v":0},null,{"$f":"IF(ISNUMBER(CSVデータ1!T29),CSVデータ1!T29,0)+IF(ISNUMBER(CSVデータ2!T29),CSVデータ2!T29,0)+IF(ISNUMBER(CSVデータ3!T29),CSVデータ3!T29,0)+IF(ISNUMBER(CSVデータ4!T29),CSVデータ4!T29,0)","v":0},null,{"$f":"IF(ISNUMBER(CSVデータ1!V29),CSVデータ1!V29,0)+IF(ISNUMBER(CSVデータ2!V29),CSVデータ2!V29,0)+IF(ISNUMBER(CSVデータ3!V29),CSVデータ3!V29,0)+IF(ISNUMBER(CSVデータ4!V29),CSVデータ4!V29,0)","v":0},null,{"$f":"IF(ISNUMBER(CSVデータ1!X29),CSVデータ1!X29,0)+IF(ISNUMBER(CSVデータ2!X29),CSVデータ2!X29,0)+IF(ISNUMBER(CSVデータ3!X29),CSVデータ3!X29,0)+IF(ISNUMBER(CSVデータ4!X29),CSVデータ4!X29,0)","v":0},null,{"$f":"IF(ISNUMBER(CSVデータ1!Z29),CSVデータ1!Z29,0)+IF(ISNUMBER(CSVデータ2!Z29),CSVデータ2!Z29,0)+IF(ISNUMBER(CSVデータ3!Z29),CSVデータ3!Z29,0)+IF(ISNUMBER(CSVデータ4!Z29),CSVデータ4!Z29,0)","v":0},null,{"$f":"IF(ISNUMBER(CSVデータ1!AB29),CSVデータ1!AB29,0)+IF(ISNUMBER(CSVデータ2!AB29),CSVデータ2!AB29,0)+IF(ISNUMBER(CSVデータ3!AB29),CSVデータ3!AB29,0)+IF(ISNUMBER(CSVデータ4!AB29),CSVデータ4!AB29,0)","v":0},null,{"$f":"IF(ISNUMBER(CSVデータ1!AD29),CSVデータ1!AD29,0)+IF(ISNUMBER(CSVデータ2!AD29),CSVデータ2!AD29,0)+IF(ISNUMBER(CSVデータ3!AD29),CSVデータ3!AD29,0)+IF(ISNUMBER(CSVデータ4!AD29),CSVデータ4!AD29,0)","v":0},null,{"$f":"IF(ISNUMBER(CSVデータ1!AF29),CSVデータ1!AF29,0)+IF(ISNUMBER(CSVデータ2!AF29),CSVデータ2!AF29,0)+IF(ISNUMBER(CSVデータ3!AF29),CSVデータ3!AF29,0)+IF(ISNUMBER(CSVデータ4!AF29),CSVデータ4!AF29,0)","v":0},null,{"$f":"IF(ISNUMBER(CSVデータ1!AH29),CSVデータ1!AH29,0)+IF(ISNUMBER(CSVデータ2!AH29),CSVデータ2!AH29,0)+IF(ISNUMBER(CSVデータ3!AH29),CSVデータ3!AH29,0)+IF(ISNUMBER(CSVデータ4!AH29),CSVデータ4!AH29,0)","v":0},null,{"$f":"IF(ISNUMBER(CSVデータ1!AJ29),CSVデータ1!AJ29,0)+IF(ISNUMBER(CSVデータ2!AJ29),CSVデータ2!AJ29,0)+IF(ISNUMBER(CSVデータ3!AJ29),CSVデータ3!AJ29,0)+IF(ISNUMBER(CSVデータ4!AJ29),CSVデータ4!AJ29,0)","v":0},null,{"$f":"IF(ISNUMBER(CSVデータ1!AL29),CSVデータ1!AL29,0)+IF(ISNUMBER(CSVデータ2!AL29),CSVデータ2!AL29,0)+IF(ISNUMBER(CSVデータ3!AL29),CSVデータ3!AL29,0)+IF(ISNUMBER(CSVデータ4!AL29),CSVデータ4!AL29,0)","v":0},null,{"$f":"IF(ISNUMBER(CSVデータ1!AN29),CSVデータ1!AN29,0)+IF(ISNUMBER(CSVデータ2!AN29),CSVデータ2!AN29,0)+IF(ISNUMBER(CSVデータ3!AN29),CSVデータ3!AN29,0)+IF(ISNUMBER(CSVデータ4!AN29),CSVデータ4!AN29,0)","v":0}]
[{"$f":"CSVデータ1!A30","v":"明細部"},{"$f":"CSVデータ1!B30","v":"国"},{"$f":"CSVデータ1!C30","v":66},{"$f":"CSVデータ1!D30","v":"男"},{"$f":"IF(ISNUMBER(CSVデータ1!E30),CSVデータ1!E30,0)+IF(ISNUMBER(CSVデータ2!E30),CSVデータ2!E30,0)+IF(ISNUMBER(CSVデータ3!E30),CSVデータ3!E30,0)+IF(ISNUMBER(CSVデータ4!E30),CSVデータ4!E30,0)","v":0},{"$f":"IF(ISNUMBER(CSVデータ1!F30),CSVデータ1!F30,0)+IF(ISNUMBER(CSVデータ2!F30),CSVデータ2!F30,0)+IF(ISNUMBER(CSVデータ3!F30),CSVデータ3!F30,0)+IF(ISNUMBER(CSVデータ4!F30),CSVデータ4!F30,0)","v":0},null,{"$f":"IF(ISNUMBER(CSVデータ1!H30),CSVデータ1!H30,0)+IF(ISNUMBER(CSVデータ2!H30),CSVデータ2!H30,0)+IF(ISNUMBER(CSVデータ3!H30),CSVデータ3!H30,0)+IF(ISNUMBER(CSVデータ4!H30),CSVデータ4!H30,0)","v":0},null,{"$f":"IF(ISNUMBER(CSVデータ1!J30),CSVデータ1!J30,0)+IF(ISNUMBER(CSVデータ2!J30),CSVデータ2!J30,0)+IF(ISNUMBER(CSVデータ3!J30),CSVデータ3!J30,0)+IF(ISNUMBER(CSVデータ4!J30),CSVデータ4!J30,0)","v":0},null,{"$f":"IF(ISNUMBER(CSVデータ1!L30),CSVデータ1!L30,0)+IF(ISNUMBER(CSVデータ2!L30),CSVデータ2!L30,0)+IF(ISNUMBER(CSVデータ3!L30),CSVデータ3!L30,0)+IF(ISNUMBER(CSVデータ4!L30),CSVデータ4!L30,0)","v":0},null,{"$f":"IF(ISNUMBER(CSVデータ1!N30),CSVデータ1!N30,0)+IF(ISNUMBER(CSVデータ2!N30),CSVデータ2!N30,0)+IF(ISNUMBER(CSVデータ3!N30),CSVデータ3!N30,0)+IF(ISNUMBER(CSVデータ4!N30),CSVデータ4!N30,0)","v":0},null,{"$f":"IF(ISNUMBER(CSVデータ1!P30),CSVデータ1!P30,0)+IF(ISNUMBER(CSVデータ2!P30),CSVデータ2!P30,0)+IF(ISNUMBER(CSVデータ3!P30),CSVデータ3!P30,0)+IF(ISNUMBER(CSVデータ4!P30),CSVデータ4!P30,0)","v":0},null,{"$f":"IF(ISNUMBER(CSVデータ1!R30),CSVデータ1!R30,0)+IF(ISNUMBER(CSVデータ2!R30),CSVデータ2!R30,0)+IF(ISNUMBER(CSVデータ3!R30),CSVデータ3!R30,0)+IF(ISNUMBER(CSVデータ4!R30),CSVデータ4!R30,0)","v":0},null,{"$f":"IF(ISNUMBER(CSVデータ1!T30),CSVデータ1!T30,0)+IF(ISNUMBER(CSVデータ2!T30),CSVデータ2!T30,0)+IF(ISNUMBER(CSVデータ3!T30),CSVデータ3!T30,0)+IF(ISNUMBER(CSVデータ4!T30),CSVデータ4!T30,0)","v":0},null,{"$f":"IF(ISNUMBER(CSVデータ1!V30),CSVデータ1!V30,0)+IF(ISNUMBER(CSVデータ2!V30),CSVデータ2!V30,0)+IF(ISNUMBER(CSVデータ3!V30),CSVデータ3!V30,0)+IF(ISNUMBER(CSVデータ4!V30),CSVデータ4!V30,0)","v":0},null,{"$f":"IF(ISNUMBER(CSVデータ1!X30),CSVデータ1!X30,0)+IF(ISNUMBER(CSVデータ2!X30),CSVデータ2!X30,0)+IF(ISNUMBER(CSVデータ3!X30),CSVデータ3!X30,0)+IF(ISNUMBER(CSVデータ4!X30),CSVデータ4!X30,0)","v":0},null,{"$f":"IF(ISNUMBER(CSVデータ1!Z30),CSVデータ1!Z30,0)+IF(ISNUMBER(CSVデータ2!Z30),CSVデータ2!Z30,0)+IF(ISNUMBER(CSVデータ3!Z30),CSVデータ3!Z30,0)+IF(ISNUMBER(CSVデータ4!Z30),CSVデータ4!Z30,0)","v":0},null,{"$f":"IF(ISNUMBER(CSVデータ1!AB30),CSVデータ1!AB30,0)+IF(ISNUMBER(CSVデータ2!AB30),CSVデータ2!AB30,0)+IF(ISNUMBER(CSVデータ3!AB30),CSVデータ3!AB30,0)+IF(ISNUMBER(CSVデータ4!AB30),CSVデータ4!AB30,0)","v":0},null,{"$f":"IF(ISNUMBER(CSVデータ1!AD30),CSVデータ1!AD30,0)+IF(ISNUMBER(CSVデータ2!AD30),CSVデータ2!AD30,0)+IF(ISNUMBER(CSVデータ3!AD30),CSVデータ3!AD30,0)+IF(ISNUMBER(CSVデータ4!AD30),CSVデータ4!AD30,0)","v":0},null,{"$f":"IF(ISNUMBER(CSVデータ1!AF30),CSVデータ1!AF30,0)+IF(ISNUMBER(CSVデータ2!AF30),CSVデータ2!AF30,0)+IF(ISNUMBER(CSVデータ3!AF30),CSVデータ3!AF30,0)+IF(ISNUMBER(CSVデータ4!AF30),CSVデータ4!AF30,0)","v":0},null,{"$f":"IF(ISNUMBER(CSVデータ1!AH30),CSVデータ1!AH30,0)+IF(ISNUMBER(CSVデータ2!AH30),CSVデータ2!AH30,0)+IF(ISNUMBER(CSVデータ3!AH30),CSVデータ3!AH30,0)+IF(ISNUMBER(CSVデータ4!AH30),CSVデータ4!AH30,0)","v":0},null,{"$f":"IF(ISNUMBER(CSVデータ1!AJ30),CSVデータ1!AJ30,0)+IF(ISNUMBER(CSVデータ2!AJ30),CSVデータ2!AJ30,0)+IF(ISNUMBER(CSVデータ3!AJ30),CSVデータ3!AJ30,0)+IF(ISNUMBER(CSVデータ4!AJ30),CSVデータ4!AJ30,0)","v":0},null,{"$f":"IF(ISNUMBER(CSVデータ1!AL30),CSVデータ1!AL30,0)+IF(ISNUMBER(CSVデータ2!AL30),CSVデータ2!AL30,0)+IF(ISNUMBER(CSVデータ3!AL30),CSVデータ3!AL30,0)+IF(ISNUMBER(CSVデータ4!AL30),CSVデータ4!AL30,0)","v":0},null,{"$f":"IF(ISNUMBER(CSVデータ1!AN30),CSVデータ1!AN30,0)+IF(ISNUMBER(CSVデータ2!AN30),CSVデータ2!AN30,0)+IF(ISNUMBER(CSVデータ3!AN30),CSVデータ3!AN30,0)+IF(ISNUMBER(CSVデータ4!AN30),CSVデータ4!AN30,0)","v":0}]
[{"$f":"CSVデータ1!A31","v":"明細部"},{"$f":"CSVデータ1!B31","v":"国"},{"$f":"CSVデータ1!C31","v":67},{"$f":"CSVデータ1!D31","v":"男"},{"$f":"IF(ISNUMBER(CSVデータ1!E31),CSVデータ1!E31,0)+IF(ISNUMBER(CSVデータ2!E31),CSVデータ2!E31,0)+IF(ISNUMBER(CSVデータ3!E31),CSVデータ3!E31,0)+IF(ISNUMBER(CSVデータ4!E31),CSVデータ4!E31,0)","v":0},{"$f":"IF(ISNUMBER(CSVデータ1!F31),CSVデータ1!F31,0)+IF(ISNUMBER(CSVデータ2!F31),CSVデータ2!F31,0)+IF(ISNUMBER(CSVデータ3!F31),CSVデータ3!F31,0)+IF(ISNUMBER(CSVデータ4!F31),CSVデータ4!F31,0)","v":0},null,{"$f":"IF(ISNUMBER(CSVデータ1!H31),CSVデータ1!H31,0)+IF(ISNUMBER(CSVデータ2!H31),CSVデータ2!H31,0)+IF(ISNUMBER(CSVデータ3!H31),CSVデータ3!H31,0)+IF(ISNUMBER(CSVデータ4!H31),CSVデータ4!H31,0)","v":0},null,{"$f":"IF(ISNUMBER(CSVデータ1!J31),CSVデータ1!J31,0)+IF(ISNUMBER(CSVデータ2!J31),CSVデータ2!J31,0)+IF(ISNUMBER(CSVデータ3!J31),CSVデータ3!J31,0)+IF(ISNUMBER(CSVデータ4!J31),CSVデータ4!J31,0)","v":0},null,{"$f":"IF(ISNUMBER(CSVデータ1!L31),CSVデータ1!L31,0)+IF(ISNUMBER(CSVデータ2!L31),CSVデータ2!L31,0)+IF(ISNUMBER(CSVデータ3!L31),CSVデータ3!L31,0)+IF(ISNUMBER(CSVデータ4!L31),CSVデータ4!L31,0)","v":0},null,{"$f":"IF(ISNUMBER(CSVデータ1!N31),CSVデータ1!N31,0)+IF(ISNUMBER(CSVデータ2!N31),CSVデータ2!N31,0)+IF(ISNUMBER(CSVデータ3!N31),CSVデータ3!N31,0)+IF(ISNUMBER(CSVデータ4!N31),CSVデータ4!N31,0)","v":0},null,{"$f":"IF(ISNUMBER(CSVデータ1!P31),CSVデータ1!P31,0)+IF(ISNUMBER(CSVデータ2!P31),CSVデータ2!P31,0)+IF(ISNUMBER(CSVデータ3!P31),CSVデータ3!P31,0)+IF(ISNUMBER(CSVデータ4!P31),CSVデータ4!P31,0)","v":0},null,{"$f":"IF(ISNUMBER(CSVデータ1!R31),CSVデータ1!R31,0)+IF(ISNUMBER(CSVデータ2!R31),CSVデータ2!R31,0)+IF(ISNUMBER(CSVデータ3!R31),CSVデータ3!R31,0)+IF(ISNUMBER(CSVデータ4!R31),CSVデータ4!R31,0)","v":0},null,{"$f":"IF(ISNUMBER(CSVデータ1!T31),CSVデータ1!T31,0)+IF(ISNUMBER(CSVデータ2!T31),CSVデータ2!T31,0)+IF(ISNUMBER(CSVデータ3!T31),CSVデータ3!T31,0)+IF(ISNUMBER(CSVデータ4!T31),CSVデータ4!T31,0)","v":0},null,{"$f":"IF(ISNUMBER(CSVデータ1!V31),CSVデータ1!V31,0)+IF(ISNUMBER(CSVデータ2!V31),CSVデータ2!V31,0)+IF(ISNUMBER(CSVデータ3!V31),CSVデータ3!V31,0)+IF(ISNUMBER(CSVデータ4!V31),CSVデータ4!V31,0)","v":0},null,{"$f":"IF(ISNUMBER(CSVデータ1!X31),CSVデータ1!X31,0)+IF(ISNUMBER(CSVデータ2!X31),CSVデータ2!X31,0)+IF(ISNUMBER(CSVデータ3!X31),CSVデータ3!X31,0)+IF(ISNUMBER(CSVデータ4!X31),CSVデータ4!X31,0)","v":0},null,{"$f":"IF(ISNUMBER(CSVデータ1!Z31),CSVデータ1!Z31,0)+IF(ISNUMBER(CSVデータ2!Z31),CSVデータ2!Z31,0)+IF(ISNUMBER(CSVデータ3!Z31),CSVデータ3!Z31,0)+IF(ISNUMBER(CSVデータ4!Z31),CSVデータ4!Z31,0)","v":0},null,{"$f":"IF(ISNUMBER(CSVデータ1!AB31),CSVデータ1!AB31,0)+IF(ISNUMBER(CSVデータ2!AB31),CSVデータ2!AB31,0)+IF(ISNUMBER(CSVデータ3!AB31),CSVデータ3!AB31,0)+IF(ISNUMBER(CSVデータ4!AB31),CSVデータ4!AB31,0)","v":0},null,{"$f":"IF(ISNUMBER(CSVデータ1!AD31),CSVデータ1!AD31,0)+IF(ISNUMBER(CSVデータ2!AD31),CSVデータ2!AD31,0)+IF(ISNUMBER(CSVデータ3!AD31),CSVデータ3!AD31,0)+IF(ISNUMBER(CSVデータ4!AD31),CSVデータ4!AD31,0)","v":0},null,{"$f":"IF(ISNUMBER(CSVデータ1!AF31),CSVデータ1!AF31,0)+IF(ISNUMBER(CSVデータ2!AF31),CSVデータ2!AF31,0)+IF(ISNUMBER(CSVデータ3!AF31),CSVデータ3!AF31,0)+IF(ISNUMBER(CSVデータ4!AF31),CSVデータ4!AF31,0)","v":0},null,{"$f":"IF(ISNUMBER(CSVデータ1!AH31),CSVデータ1!AH31,0)+IF(ISNUMBER(CSVデータ2!AH31),CSVデータ2!AH31,0)+IF(ISNUMBER(CSVデータ3!AH31),CSVデータ3!AH31,0)+IF(ISNUMBER(CSVデータ4!AH31),CSVデータ4!AH31,0)","v":0},null,{"$f":"IF(ISNUMBER(CSVデータ1!AJ31),CSVデータ1!AJ31,0)+IF(ISNUMBER(CSVデータ2!AJ31),CSVデータ2!AJ31,0)+IF(ISNUMBER(CSVデータ3!AJ31),CSVデータ3!AJ31,0)+IF(ISNUMBER(CSVデータ4!AJ31),CSVデータ4!AJ31,0)","v":0},null,{"$f":"IF(ISNUMBER(CSVデータ1!AL31),CSVデータ1!AL31,0)+IF(ISNUMBER(CSVデータ2!AL31),CSVデータ2!AL31,0)+IF(ISNUMBER(CSVデータ3!AL31),CSVデータ3!AL31,0)+IF(ISNUMBER(CSVデータ4!AL31),CSVデータ4!AL31,0)","v":0},null,{"$f":"IF(ISNUMBER(CSVデータ1!AN31),CSVデータ1!AN31,0)+IF(ISNUMBER(CSVデータ2!AN31),CSVデータ2!AN31,0)+IF(ISNUMBER(CSVデータ3!AN31),CSVデータ3!AN31,0)+IF(ISNUMBER(CSVデータ4!AN31),CSVデータ4!AN31,0)","v":0}]
[{"$f":"CSVデータ1!A32","v":"明細部"},{"$f":"CSVデータ1!B32","v":"国"},{"$f":"CSVデータ1!C32","v":68},{"$f":"CSVデータ1!D32","v":"男"},{"$f":"IF(ISNUMBER(CSVデータ1!E32),CSVデータ1!E32,0)+IF(ISNUMBER(CSVデータ2!E32),CSVデータ2!E32,0)+IF(ISNUMBER(CSVデータ3!E32),CSVデータ3!E32,0)+IF(ISNUMBER(CSVデータ4!E32),CSVデータ4!E32,0)","v":0},{"$f":"IF(ISNUMBER(CSVデータ1!F32),CSVデータ1!F32,0)+IF(ISNUMBER(CSVデータ2!F32),CSVデータ2!F32,0)+IF(ISNUMBER(CSVデータ3!F32),CSVデータ3!F32,0)+IF(ISNUMBER(CSVデータ4!F32),CSVデータ4!F32,0)","v":0},null,{"$f":"IF(ISNUMBER(CSVデータ1!H32),CSVデータ1!H32,0)+IF(ISNUMBER(CSVデータ2!H32),CSVデータ2!H32,0)+IF(ISNUMBER(CSVデータ3!H32),CSVデータ3!H32,0)+IF(ISNUMBER(CSVデータ4!H32),CSVデータ4!H32,0)","v":0},null,{"$f":"IF(ISNUMBER(CSVデータ1!J32),CSVデータ1!J32,0)+IF(ISNUMBER(CSVデータ2!J32),CSVデータ2!J32,0)+IF(ISNUMBER(CSVデータ3!J32),CSVデータ3!J32,0)+IF(ISNUMBER(CSVデータ4!J32),CSVデータ4!J32,0)","v":0},null,{"$f":"IF(ISNUMBER(CSVデータ1!L32),CSVデータ1!L32,0)+IF(ISNUMBER(CSVデータ2!L32),CSVデータ2!L32,0)+IF(ISNUMBER(CSVデータ3!L32),CSVデータ3!L32,0)+IF(ISNUMBER(CSVデータ4!L32),CSVデータ4!L32,0)","v":0},null,{"$f":"IF(ISNUMBER(CSVデータ1!N32),CSVデータ1!N32,0)+IF(ISNUMBER(CSVデータ2!N32),CSVデータ2!N32,0)+IF(ISNUMBER(CSVデータ3!N32),CSVデータ3!N32,0)+IF(ISNUMBER(CSVデータ4!N32),CSVデータ4!N32,0)","v":0},null,{"$f":"IF(ISNUMBER(CSVデータ1!P32),CSVデータ1!P32,0)+IF(ISNUMBER(CSVデータ2!P32),CSVデータ2!P32,0)+IF(ISNUMBER(CSVデータ3!P32),CSVデータ3!P32,0)+IF(ISNUMBER(CSVデータ4!P32),CSVデータ4!P32,0)","v":0},null,{"$f":"IF(ISNUMBER(CSVデータ1!R32),CSVデータ1!R32,0)+IF(ISNUMBER(CSVデータ2!R32),CSVデータ2!R32,0)+IF(ISNUMBER(CSVデータ3!R32),CSVデータ3!R32,0)+IF(ISNUMBER(CSVデータ4!R32),CSVデータ4!R32,0)","v":0},null,{"$f":"IF(ISNUMBER(CSVデータ1!T32),CSVデータ1!T32,0)+IF(ISNUMBER(CSVデータ2!T32),CSVデータ2!T32,0)+IF(ISNUMBER(CSVデータ3!T32),CSVデータ3!T32,0)+IF(ISNUMBER(CSVデータ4!T32),CSVデータ4!T32,0)","v":0},null,{"$f":"IF(ISNUMBER(CSVデータ1!V32),CSVデータ1!V32,0)+IF(ISNUMBER(CSVデータ2!V32),CSVデータ2!V32,0)+IF(ISNUMBER(CSVデータ3!V32),CSVデータ3!V32,0)+IF(ISNUMBER(CSVデータ4!V32),CSVデータ4!V32,0)","v":0},null,{"$f":"IF(ISNUMBER(CSVデータ1!X32),CSVデータ1!X32,0)+IF(ISNUMBER(CSVデータ2!X32),CSVデータ2!X32,0)+IF(ISNUMBER(CSVデータ3!X32),CSVデータ3!X32,0)+IF(ISNUMBER(CSVデータ4!X32),CSVデータ4!X32,0)","v":0},null,{"$f":"IF(ISNUMBER(CSVデータ1!Z32),CSVデータ1!Z32,0)+IF(ISNUMBER(CSVデータ2!Z32),CSVデータ2!Z32,0)+IF(ISNUMBER(CSVデータ3!Z32),CSVデータ3!Z32,0)+IF(ISNUMBER(CSVデータ4!Z32),CSVデータ4!Z32,0)","v":0},null,{"$f":"IF(ISNUMBER(CSVデータ1!AB32),CSVデータ1!AB32,0)+IF(ISNUMBER(CSVデータ2!AB32),CSVデータ2!AB32,0)+IF(ISNUMBER(CSVデータ3!AB32),CSVデータ3!AB32,0)+IF(ISNUMBER(CSVデータ4!AB32),CSVデータ4!AB32,0)","v":0},null,{"$f":"IF(ISNUMBER(CSVデータ1!AD32),CSVデータ1!AD32,0)+IF(ISNUMBER(CSVデータ2!AD32),CSVデータ2!AD32,0)+IF(ISNUMBER(CSVデータ3!AD32),CSVデータ3!AD32,0)+IF(ISNUMBER(CSVデータ4!AD32),CSVデータ4!AD32,0)","v":0},null,{"$f":"IF(ISNUMBER(CSVデータ1!AF32),CSVデータ1!AF32,0)+IF(ISNUMBER(CSVデータ2!AF32),CSVデータ2!AF32,0)+IF(ISNUMBER(CSVデータ3!AF32),CSVデータ3!AF32,0)+IF(ISNUMBER(CSVデータ4!AF32),CSVデータ4!AF32,0)","v":0},null,{"$f":"IF(ISNUMBER(CSVデータ1!AH32),CSVデータ1!AH32,0)+IF(ISNUMBER(CSVデータ2!AH32),CSVデータ2!AH32,0)+IF(ISNUMBER(CSVデータ3!AH32),CSVデータ3!AH32,0)+IF(ISNUMBER(CSVデータ4!AH32),CSVデータ4!AH32,0)","v":0},null,{"$f":"IF(ISNUMBER(CSVデータ1!AJ32),CSVデータ1!AJ32,0)+IF(ISNUMBER(CSVデータ2!AJ32),CSVデータ2!AJ32,0)+IF(ISNUMBER(CSVデータ3!AJ32),CSVデータ3!AJ32,0)+IF(ISNUMBER(CSVデータ4!AJ32),CSVデータ4!AJ32,0)","v":0},null,{"$f":"IF(ISNUMBER(CSVデータ1!AL32),CSVデータ1!AL32,0)+IF(ISNUMBER(CSVデータ2!AL32),CSVデータ2!AL32,0)+IF(ISNUMBER(CSVデータ3!AL32),CSVデータ3!AL32,0)+IF(ISNUMBER(CSVデータ4!AL32),CSVデータ4!AL32,0)","v":0},null,{"$f":"IF(ISNUMBER(CSVデータ1!AN32),CSVデータ1!AN32,0)+IF(ISNUMBER(CSVデータ2!AN32),CSVデータ2!AN32,0)+IF(ISNUMBER(CSVデータ3!AN32),CSVデータ3!AN32,0)+IF(ISNUMBER(CSVデータ4!AN32),CSVデータ4!AN32,0)","v":0}]
[{"$f":"CSVデータ1!A33","v":"明細部"},{"$f":"CSVデータ1!B33","v":"国"},{"$f":"CSVデータ1!C33","v":69},{"$f":"CSVデータ1!D33","v":"男"},{"$f":"IF(ISNUMBER(CSVデータ1!E33),CSVデータ1!E33,0)+IF(ISNUMBER(CSVデータ2!E33),CSVデータ2!E33,0)+IF(ISNUMBER(CSVデータ3!E33),CSVデータ3!E33,0)+IF(ISNUMBER(CSVデータ4!E33),CSVデータ4!E33,0)","v":0},{"$f":"IF(ISNUMBER(CSVデータ1!F33),CSVデータ1!F33,0)+IF(ISNUMBER(CSVデータ2!F33),CSVデータ2!F33,0)+IF(ISNUMBER(CSVデータ3!F33),CSVデータ3!F33,0)+IF(ISNUMBER(CSVデータ4!F33),CSVデータ4!F33,0)","v":0},null,{"$f":"IF(ISNUMBER(CSVデータ1!H33),CSVデータ1!H33,0)+IF(ISNUMBER(CSVデータ2!H33),CSVデータ2!H33,0)+IF(ISNUMBER(CSVデータ3!H33),CSVデータ3!H33,0)+IF(ISNUMBER(CSVデータ4!H33),CSVデータ4!H33,0)","v":0},null,{"$f":"IF(ISNUMBER(CSVデータ1!J33),CSVデータ1!J33,0)+IF(ISNUMBER(CSVデータ2!J33),CSVデータ2!J33,0)+IF(ISNUMBER(CSVデータ3!J33),CSVデータ3!J33,0)+IF(ISNUMBER(CSVデータ4!J33),CSVデータ4!J33,0)","v":0},null,{"$f":"IF(ISNUMBER(CSVデータ1!L33),CSVデータ1!L33,0)+IF(ISNUMBER(CSVデータ2!L33),CSVデータ2!L33,0)+IF(ISNUMBER(CSVデータ3!L33),CSVデータ3!L33,0)+IF(ISNUMBER(CSVデータ4!L33),CSVデータ4!L33,0)","v":0},null,{"$f":"IF(ISNUMBER(CSVデータ1!N33),CSVデータ1!N33,0)+IF(ISNUMBER(CSVデータ2!N33),CSVデータ2!N33,0)+IF(ISNUMBER(CSVデータ3!N33),CSVデータ3!N33,0)+IF(ISNUMBER(CSVデータ4!N33),CSVデータ4!N33,0)","v":0},null,{"$f":"IF(ISNUMBER(CSVデータ1!P33),CSVデータ1!P33,0)+IF(ISNUMBER(CSVデータ2!P33),CSVデータ2!P33,0)+IF(ISNUMBER(CSVデータ3!P33),CSVデータ3!P33,0)+IF(ISNUMBER(CSVデータ4!P33),CSVデータ4!P33,0)","v":0},null,{"$f":"IF(ISNUMBER(CSVデータ1!R33),CSVデータ1!R33,0)+IF(ISNUMBER(CSVデータ2!R33),CSVデータ2!R33,0)+IF(ISNUMBER(CSVデータ3!R33),CSVデータ3!R33,0)+IF(ISNUMBER(CSVデータ4!R33),CSVデータ4!R33,0)","v":0},null,{"$f":"IF(ISNUMBER(CSVデータ1!T33),CSVデータ1!T33,0)+IF(ISNUMBER(CSVデータ2!T33),CSVデータ2!T33,0)+IF(ISNUMBER(CSVデータ3!T33),CSVデータ3!T33,0)+IF(ISNUMBER(CSVデータ4!T33),CSVデータ4!T33,0)","v":0},null,{"$f":"IF(ISNUMBER(CSVデータ1!V33),CSVデータ1!V33,0)+IF(ISNUMBER(CSVデータ2!V33),CSVデータ2!V33,0)+IF(ISNUMBER(CSVデータ3!V33),CSVデータ3!V33,0)+IF(ISNUMBER(CSVデータ4!V33),CSVデータ4!V33,0)","v":0},null,{"$f":"IF(ISNUMBER(CSVデータ1!X33),CSVデータ1!X33,0)+IF(ISNUMBER(CSVデータ2!X33),CSVデータ2!X33,0)+IF(ISNUMBER(CSVデータ3!X33),CSVデータ3!X33,0)+IF(ISNUMBER(CSVデータ4!X33),CSVデータ4!X33,0)","v":0},null,{"$f":"IF(ISNUMBER(CSVデータ1!Z33),CSVデータ1!Z33,0)+IF(ISNUMBER(CSVデータ2!Z33),CSVデータ2!Z33,0)+IF(ISNUMBER(CSVデータ3!Z33),CSVデータ3!Z33,0)+IF(ISNUMBER(CSVデータ4!Z33),CSVデータ4!Z33,0)","v":0},null,{"$f":"IF(ISNUMBER(CSVデータ1!AB33),CSVデータ1!AB33,0)+IF(ISNUMBER(CSVデータ2!AB33),CSVデータ2!AB33,0)+IF(ISNUMBER(CSVデータ3!AB33),CSVデータ3!AB33,0)+IF(ISNUMBER(CSVデータ4!AB33),CSVデータ4!AB33,0)","v":0},null,{"$f":"IF(ISNUMBER(CSVデータ1!AD33),CSVデータ1!AD33,0)+IF(ISNUMBER(CSVデータ2!AD33),CSVデータ2!AD33,0)+IF(ISNUMBER(CSVデータ3!AD33),CSVデータ3!AD33,0)+IF(ISNUMBER(CSVデータ4!AD33),CSVデータ4!AD33,0)","v":0},null,{"$f":"IF(ISNUMBER(CSVデータ1!AF33),CSVデータ1!AF33,0)+IF(ISNUMBER(CSVデータ2!AF33),CSVデータ2!AF33,0)+IF(ISNUMBER(CSVデータ3!AF33),CSVデータ3!AF33,0)+IF(ISNUMBER(CSVデータ4!AF33),CSVデータ4!AF33,0)","v":0},null,{"$f":"IF(ISNUMBER(CSVデータ1!AH33),CSVデータ1!AH33,0)+IF(ISNUMBER(CSVデータ2!AH33),CSVデータ2!AH33,0)+IF(ISNUMBER(CSVデータ3!AH33),CSVデータ3!AH33,0)+IF(ISNUMBER(CSVデータ4!AH33),CSVデータ4!AH33,0)","v":0},null,{"$f":"IF(ISNUMBER(CSVデータ1!AJ33),CSVデータ1!AJ33,0)+IF(ISNUMBER(CSVデータ2!AJ33),CSVデータ2!AJ33,0)+IF(ISNUMBER(CSVデータ3!AJ33),CSVデータ3!AJ33,0)+IF(ISNUMBER(CSVデータ4!AJ33),CSVデータ4!AJ33,0)","v":0},null,{"$f":"IF(ISNUMBER(CSVデータ1!AL33),CSVデータ1!AL33,0)+IF(ISNUMBER(CSVデータ2!AL33),CSVデータ2!AL33,0)+IF(ISNUMBER(CSVデータ3!AL33),CSVデータ3!AL33,0)+IF(ISNUMBER(CSVデータ4!AL33),CSVデータ4!AL33,0)","v":0},null,{"$f":"IF(ISNUMBER(CSVデータ1!AN33),CSVデータ1!AN33,0)+IF(ISNUMBER(CSVデータ2!AN33),CSVデータ2!AN33,0)+IF(ISNUMBER(CSVデータ3!AN33),CSVデータ3!AN33,0)+IF(ISNUMBER(CSVデータ4!AN33),CSVデータ4!AN33,0)","v":0}]
[{"$f":"CSVデータ1!A34","v":"明細部"},{"$f":"CSVデータ1!B34","v":"国"},{"$f":"CSVデータ1!C34","v":70},{"$f":"CSVデータ1!D34","v":"男"},{"$f":"IF(ISNUMBER(CSVデータ1!E34),CSVデータ1!E34,0)+IF(ISNUMBER(CSVデータ2!E34),CSVデータ2!E34,0)+IF(ISNUMBER(CSVデータ3!E34),CSVデータ3!E34,0)+IF(ISNUMBER(CSVデータ4!E34),CSVデータ4!E34,0)","v":0},{"$f":"IF(ISNUMBER(CSVデータ1!F34),CSVデータ1!F34,0)+IF(ISNUMBER(CSVデータ2!F34),CSVデータ2!F34,0)+IF(ISNUMBER(CSVデータ3!F34),CSVデータ3!F34,0)+IF(ISNUMBER(CSVデータ4!F34),CSVデータ4!F34,0)","v":0},null,{"$f":"IF(ISNUMBER(CSVデータ1!H34),CSVデータ1!H34,0)+IF(ISNUMBER(CSVデータ2!H34),CSVデータ2!H34,0)+IF(ISNUMBER(CSVデータ3!H34),CSVデータ3!H34,0)+IF(ISNUMBER(CSVデータ4!H34),CSVデータ4!H34,0)","v":0},null,{"$f":"IF(ISNUMBER(CSVデータ1!J34),CSVデータ1!J34,0)+IF(ISNUMBER(CSVデータ2!J34),CSVデータ2!J34,0)+IF(ISNUMBER(CSVデータ3!J34),CSVデータ3!J34,0)+IF(ISNUMBER(CSVデータ4!J34),CSVデータ4!J34,0)","v":0},null,{"$f":"IF(ISNUMBER(CSVデータ1!L34),CSVデータ1!L34,0)+IF(ISNUMBER(CSVデータ2!L34),CSVデータ2!L34,0)+IF(ISNUMBER(CSVデータ3!L34),CSVデータ3!L34,0)+IF(ISNUMBER(CSVデータ4!L34),CSVデータ4!L34,0)","v":0},null,{"$f":"IF(ISNUMBER(CSVデータ1!N34),CSVデータ1!N34,0)+IF(ISNUMBER(CSVデータ2!N34),CSVデータ2!N34,0)+IF(ISNUMBER(CSVデータ3!N34),CSVデータ3!N34,0)+IF(ISNUMBER(CSVデータ4!N34),CSVデータ4!N34,0)","v":0},null,{"$f":"IF(ISNUMBER(CSVデータ1!P34),CSVデータ1!P34,0)+IF(ISNUMBER(CSVデータ2!P34),CSVデータ2!P34,0)+IF(ISNUMBER(CSVデータ3!P34),CSVデータ3!P34,0)+IF(ISNUMBER(CSVデータ4!P34),CSVデータ4!P34,0)","v":0},null,{"$f":"IF(ISNUMBER(CSVデータ1!R34),CSVデータ1!R34,0)+IF(ISNUMBER(CSVデータ2!R34),CSVデータ2!R34,0)+IF(ISNUMBER(CSVデータ3!R34),CSVデータ3!R34,0)+IF(ISNUMBER(CSVデータ4!R34),CSVデータ4!R34,0)","v":0},null,{"$f":"IF(ISNUMBER(CSVデータ1!T34),CSVデータ1!T34,0)+IF(ISNUMBER(CSVデータ2!T34),CSVデータ2!T34,0)+IF(ISNUMBER(CSVデータ3!T34),CSVデータ3!T34,0)+IF(ISNUMBER(CSVデータ4!T34),CSVデータ4!T34,0)","v":0},null,{"$f":"IF(ISNUMBER(CSVデータ1!V34),CSVデータ1!V34,0)+IF(ISNUMBER(CSVデータ2!V34),CSVデータ2!V34,0)+IF(ISNUMBER(CSVデータ3!V34),CSVデータ3!V34,0)+IF(ISNUMBER(CSVデータ4!V34),CSVデータ4!V34,0)","v":0},null,{"$f":"IF(ISNUMBER(CSVデータ1!X34),CSVデータ1!X34,0)+IF(ISNUMBER(CSVデータ2!X34),CSVデータ2!X34,0)+IF(ISNUMBER(CSVデータ3!X34),CSVデータ3!X34,0)+IF(ISNUMBER(CSVデータ4!X34),CSVデータ4!X34,0)","v":0},null,{"$f":"IF(ISNUMBER(CSVデータ1!Z34),CSVデータ1!Z34,0)+IF(ISNUMBER(CSVデータ2!Z34),CSVデータ2!Z34,0)+IF(ISNUMBER(CSVデータ3!Z34),CSVデータ3!Z34,0)+IF(ISNUMBER(CSVデータ4!Z34),CSVデータ4!Z34,0)","v":0},null,{"$f":"IF(ISNUMBER(CSVデータ1!AB34),CSVデータ1!AB34,0)+IF(ISNUMBER(CSVデータ2!AB34),CSVデータ2!AB34,0)+IF(ISNUMBER(CSVデータ3!AB34),CSVデータ3!AB34,0)+IF(ISNUMBER(CSVデータ4!AB34),CSVデータ4!AB34,0)","v":0},null,{"$f":"IF(ISNUMBER(CSVデータ1!AD34),CSVデータ1!AD34,0)+IF(ISNUMBER(CSVデータ2!AD34),CSVデータ2!AD34,0)+IF(ISNUMBER(CSVデータ3!AD34),CSVデータ3!AD34,0)+IF(ISNUMBER(CSVデータ4!AD34),CSVデータ4!AD34,0)","v":0},null,{"$f":"IF(ISNUMBER(CSVデータ1!AF34),CSVデータ1!AF34,0)+IF(ISNUMBER(CSVデータ2!AF34),CSVデータ2!AF34,0)+IF(ISNUMBER(CSVデータ3!AF34),CSVデータ3!AF34,0)+IF(ISNUMBER(CSVデータ4!AF34),CSVデータ4!AF34,0)","v":0},null,{"$f":"IF(ISNUMBER(CSVデータ1!AH34),CSVデータ1!AH34,0)+IF(ISNUMBER(CSVデータ2!AH34),CSVデータ2!AH34,0)+IF(ISNUMBER(CSVデータ3!AH34),CSVデータ3!AH34,0)+IF(ISNUMBER(CSVデータ4!AH34),CSVデータ4!AH34,0)","v":0},null,{"$f":"IF(ISNUMBER(CSVデータ1!AJ34),CSVデータ1!AJ34,0)+IF(ISNUMBER(CSVデータ2!AJ34),CSVデータ2!AJ34,0)+IF(ISNUMBER(CSVデータ3!AJ34),CSVデータ3!AJ34,0)+IF(ISNUMBER(CSVデータ4!AJ34),CSVデータ4!AJ34,0)","v":0},null,{"$f":"IF(ISNUMBER(CSVデータ1!AL34),CSVデータ1!AL34,0)+IF(ISNUMBER(CSVデータ2!AL34),CSVデータ2!AL34,0)+IF(ISNUMBER(CSVデータ3!AL34),CSVデータ3!AL34,0)+IF(ISNUMBER(CSVデータ4!AL34),CSVデータ4!AL34,0)","v":0},null,{"$f":"IF(ISNUMBER(CSVデータ1!AN34),CSVデータ1!AN34,0)+IF(ISNUMBER(CSVデータ2!AN34),CSVデータ2!AN34,0)+IF(ISNUMBER(CSVデータ3!AN34),CSVデータ3!AN34,0)+IF(ISNUMBER(CSVデータ4!AN34),CSVデータ4!AN34,0)","v":0}]
[{"$f":"CSVデータ1!A35","v":"明細部"},{"$f":"CSVデータ1!B35","v":"国"},{"$f":"CSVデータ1!C35","v":71},{"$f":"CSVデータ1!D35","v":"男"},{"$f":"IF(ISNUMBER(CSVデータ1!E35),CSVデータ1!E35,0)+IF(ISNUMBER(CSVデータ2!E35),CSVデータ2!E35,0)+IF(ISNUMBER(CSVデータ3!E35),CSVデータ3!E35,0)+IF(ISNUMBER(CSVデータ4!E35),CSVデータ4!E35,0)","v":0},{"$f":"IF(ISNUMBER(CSVデータ1!F35),CSVデータ1!F35,0)+IF(ISNUMBER(CSVデータ2!F35),CSVデータ2!F35,0)+IF(ISNUMBER(CSVデータ3!F35),CSVデータ3!F35,0)+IF(ISNUMBER(CSVデータ4!F35),CSVデータ4!F35,0)","v":0},null,{"$f":"IF(ISNUMBER(CSVデータ1!H35),CSVデータ1!H35,0)+IF(ISNUMBER(CSVデータ2!H35),CSVデータ2!H35,0)+IF(ISNUMBER(CSVデータ3!H35),CSVデータ3!H35,0)+IF(ISNUMBER(CSVデータ4!H35),CSVデータ4!H35,0)","v":0},null,{"$f":"IF(ISNUMBER(CSVデータ1!J35),CSVデータ1!J35,0)+IF(ISNUMBER(CSVデータ2!J35),CSVデータ2!J35,0)+IF(ISNUMBER(CSVデータ3!J35),CSVデータ3!J35,0)+IF(ISNUMBER(CSVデータ4!J35),CSVデータ4!J35,0)","v":0},null,{"$f":"IF(ISNUMBER(CSVデータ1!L35),CSVデータ1!L35,0)+IF(ISNUMBER(CSVデータ2!L35),CSVデータ2!L35,0)+IF(ISNUMBER(CSVデータ3!L35),CSVデータ3!L35,0)+IF(ISNUMBER(CSVデータ4!L35),CSVデータ4!L35,0)","v":0},null,{"$f":"IF(ISNUMBER(CSVデータ1!N35),CSVデータ1!N35,0)+IF(ISNUMBER(CSVデータ2!N35),CSVデータ2!N35,0)+IF(ISNUMBER(CSVデータ3!N35),CSVデータ3!N35,0)+IF(ISNUMBER(CSVデータ4!N35),CSVデータ4!N35,0)","v":0},null,{"$f":"IF(ISNUMBER(CSVデータ1!P35),CSVデータ1!P35,0)+IF(ISNUMBER(CSVデータ2!P35),CSVデータ2!P35,0)+IF(ISNUMBER(CSVデータ3!P35),CSVデータ3!P35,0)+IF(ISNUMBER(CSVデータ4!P35),CSVデータ4!P35,0)","v":0},null,{"$f":"IF(ISNUMBER(CSVデータ1!R35),CSVデータ1!R35,0)+IF(ISNUMBER(CSVデータ2!R35),CSVデータ2!R35,0)+IF(ISNUMBER(CSVデータ3!R35),CSVデータ3!R35,0)+IF(ISNUMBER(CSVデータ4!R35),CSVデータ4!R35,0)","v":0},null,{"$f":"IF(ISNUMBER(CSVデータ1!T35),CSVデータ1!T35,0)+IF(ISNUMBER(CSVデータ2!T35),CSVデータ2!T35,0)+IF(ISNUMBER(CSVデータ3!T35),CSVデータ3!T35,0)+IF(ISNUMBER(CSVデータ4!T35),CSVデータ4!T35,0)","v":0},null,{"$f":"IF(ISNUMBER(CSVデータ1!V35),CSVデータ1!V35,0)+IF(ISNUMBER(CSVデータ2!V35),CSVデータ2!V35,0)+IF(ISNUMBER(CSVデータ3!V35),CSVデータ3!V35,0)+IF(ISNUMBER(CSVデータ4!V35),CSVデータ4!V35,0)","v":0},null,{"$f":"IF(ISNUMBER(CSVデータ1!X35),CSVデータ1!X35,0)+IF(ISNUMBER(CSVデータ2!X35),CSVデータ2!X35,0)+IF(ISNUMBER(CSVデータ3!X35),CSVデータ3!X35,0)+IF(ISNUMBER(CSVデータ4!X35),CSVデータ4!X35,0)","v":0},null,{"$f":"IF(ISNUMBER(CSVデータ1!Z35),CSVデータ1!Z35,0)+IF(ISNUMBER(CSVデータ2!Z35),CSVデータ2!Z35,0)+IF(ISNUMBER(CSVデータ3!Z35),CSVデータ3!Z35,0)+IF(ISNUMBER(CSVデータ4!Z35),CSVデータ4!Z35,0)","v":0},null,{"$f":"IF(ISNUMBER(CSVデータ1!AB35),CSVデータ1!AB35,0)+IF(ISNUMBER(CSVデータ2!AB35),CSVデータ2!AB35,0)+IF(ISNUMBER(CSVデータ3!AB35),CSVデータ3!AB35,0)+IF(ISNUMBER(CSVデータ4!AB35),CSVデータ4!AB35,0)","v":0},null,{"$f":"IF(ISNUMBER(CSVデータ1!AD35),CSVデータ1!AD35,0)+IF(ISNUMBER(CSVデータ2!AD35),CSVデータ2!AD35,0)+IF(ISNUMBER(CSVデータ3!AD35),CSVデータ3!AD35,0)+IF(ISNUMBER(CSVデータ4!AD35),CSVデータ4!AD35,0)","v":0},null,{"$f":"IF(ISNUMBER(CSVデータ1!AF35),CSVデータ1!AF35,0)+IF(ISNUMBER(CSVデータ2!AF35),CSVデータ2!AF35,0)+IF(ISNUMBER(CSVデータ3!AF35),CSVデータ3!AF35,0)+IF(ISNUMBER(CSVデータ4!AF35),CSVデータ4!AF35,0)","v":0},null,{"$f":"IF(ISNUMBER(CSVデータ1!AH35),CSVデータ1!AH35,0)+IF(ISNUMBER(CSVデータ2!AH35),CSVデータ2!AH35,0)+IF(ISNUMBER(CSVデータ3!AH35),CSVデータ3!AH35,0)+IF(ISNUMBER(CSVデータ4!AH35),CSVデータ4!AH35,0)","v":0},null,{"$f":"IF(ISNUMBER(CSVデータ1!AJ35),CSVデータ1!AJ35,0)+IF(ISNUMBER(CSVデータ2!AJ35),CSVデータ2!AJ35,0)+IF(ISNUMBER(CSVデータ3!AJ35),CSVデータ3!AJ35,0)+IF(ISNUMBER(CSVデータ4!AJ35),CSVデータ4!AJ35,0)","v":0},null,{"$f":"IF(ISNUMBER(CSVデータ1!AL35),CSVデータ1!AL35,0)+IF(ISNUMBER(CSVデータ2!AL35),CSVデータ2!AL35,0)+IF(ISNUMBER(CSVデータ3!AL35),CSVデータ3!AL35,0)+IF(ISNUMBER(CSVデータ4!AL35),CSVデータ4!AL35,0)","v":0},null,{"$f":"IF(ISNUMBER(CSVデータ1!AN35),CSVデータ1!AN35,0)+IF(ISNUMBER(CSVデータ2!AN35),CSVデータ2!AN35,0)+IF(ISNUMBER(CSVデータ3!AN35),CSVデータ3!AN35,0)+IF(ISNUMBER(CSVデータ4!AN35),CSVデータ4!AN35,0)","v":0}]
[{"$f":"CSVデータ1!A36","v":"明細部"},{"$f":"CSVデータ1!B36","v":"国"},{"$f":"CSVデータ1!C36","v":72},{"$f":"CSVデータ1!D36","v":"男"},{"$f":"IF(ISNUMBER(CSVデータ1!E36),CSVデータ1!E36,0)+IF(ISNUMBER(CSVデータ2!E36),CSVデータ2!E36,0)+IF(ISNUMBER(CSVデータ3!E36),CSVデータ3!E36,0)+IF(ISNUMBER(CSVデータ4!E36),CSVデータ4!E36,0)","v":0},{"$f":"IF(ISNUMBER(CSVデータ1!F36),CSVデータ1!F36,0)+IF(ISNUMBER(CSVデータ2!F36),CSVデータ2!F36,0)+IF(ISNUMBER(CSVデータ3!F36),CSVデータ3!F36,0)+IF(ISNUMBER(CSVデータ4!F36),CSVデータ4!F36,0)","v":0},null,{"$f":"IF(ISNUMBER(CSVデータ1!H36),CSVデータ1!H36,0)+IF(ISNUMBER(CSVデータ2!H36),CSVデータ2!H36,0)+IF(ISNUMBER(CSVデータ3!H36),CSVデータ3!H36,0)+IF(ISNUMBER(CSVデータ4!H36),CSVデータ4!H36,0)","v":0},null,{"$f":"IF(ISNUMBER(CSVデータ1!J36),CSVデータ1!J36,0)+IF(ISNUMBER(CSVデータ2!J36),CSVデータ2!J36,0)+IF(ISNUMBER(CSVデータ3!J36),CSVデータ3!J36,0)+IF(ISNUMBER(CSVデータ4!J36),CSVデータ4!J36,0)","v":0},null,{"$f":"IF(ISNUMBER(CSVデータ1!L36),CSVデータ1!L36,0)+IF(ISNUMBER(CSVデータ2!L36),CSVデータ2!L36,0)+IF(ISNUMBER(CSVデータ3!L36),CSVデータ3!L36,0)+IF(ISNUMBER(CSVデータ4!L36),CSVデータ4!L36,0)","v":0},null,{"$f":"IF(ISNUMBER(CSVデータ1!N36),CSVデータ1!N36,0)+IF(ISNUMBER(CSVデータ2!N36),CSVデータ2!N36,0)+IF(ISNUMBER(CSVデータ3!N36),CSVデータ3!N36,0)+IF(ISNUMBER(CSVデータ4!N36),CSVデータ4!N36,0)","v":0},null,{"$f":"IF(ISNUMBER(CSVデータ1!P36),CSVデータ1!P36,0)+IF(ISNUMBER(CSVデータ2!P36),CSVデータ2!P36,0)+IF(ISNUMBER(CSVデータ3!P36),CSVデータ3!P36,0)+IF(ISNUMBER(CSVデータ4!P36),CSVデータ4!P36,0)","v":0},null,{"$f":"IF(ISNUMBER(CSVデータ1!R36),CSVデータ1!R36,0)+IF(ISNUMBER(CSVデータ2!R36),CSVデータ2!R36,0)+IF(ISNUMBER(CSVデータ3!R36),CSVデータ3!R36,0)+IF(ISNUMBER(CSVデータ4!R36),CSVデータ4!R36,0)","v":0},null,{"$f":"IF(ISNUMBER(CSVデータ1!T36),CSVデータ1!T36,0)+IF(ISNUMBER(CSVデータ2!T36),CSVデータ2!T36,0)+IF(ISNUMBER(CSVデータ3!T36),CSVデータ3!T36,0)+IF(ISNUMBER(CSVデータ4!T36),CSVデータ4!T36,0)","v":0},null,{"$f":"IF(ISNUMBER(CSVデータ1!V36),CSVデータ1!V36,0)+IF(ISNUMBER(CSVデータ2!V36),CSVデータ2!V36,0)+IF(ISNUMBER(CSVデータ3!V36),CSVデータ3!V36,0)+IF(ISNUMBER(CSVデータ4!V36),CSVデータ4!V36,0)","v":0},null,{"$f":"IF(ISNUMBER(CSVデータ1!X36),CSVデータ1!X36,0)+IF(ISNUMBER(CSVデータ2!X36),CSVデータ2!X36,0)+IF(ISNUMBER(CSVデータ3!X36),CSVデータ3!X36,0)+IF(ISNUMBER(CSVデータ4!X36),CSVデータ4!X36,0)","v":0},null,{"$f":"IF(ISNUMBER(CSVデータ1!Z36),CSVデータ1!Z36,0)+IF(ISNUMBER(CSVデータ2!Z36),CSVデータ2!Z36,0)+IF(ISNUMBER(CSVデータ3!Z36),CSVデータ3!Z36,0)+IF(ISNUMBER(CSVデータ4!Z36),CSVデータ4!Z36,0)","v":0},null,{"$f":"IF(ISNUMBER(CSVデータ1!AB36),CSVデータ1!AB36,0)+IF(ISNUMBER(CSVデータ2!AB36),CSVデータ2!AB36,0)+IF(ISNUMBER(CSVデータ3!AB36),CSVデータ3!AB36,0)+IF(ISNUMBER(CSVデータ4!AB36),CSVデータ4!AB36,0)","v":0},null,{"$f":"IF(ISNUMBER(CSVデータ1!AD36),CSVデータ1!AD36,0)+IF(ISNUMBER(CSVデータ2!AD36),CSVデータ2!AD36,0)+IF(ISNUMBER(CSVデータ3!AD36),CSVデータ3!AD36,0)+IF(ISNUMBER(CSVデータ4!AD36),CSVデータ4!AD36,0)","v":0},null,{"$f":"IF(ISNUMBER(CSVデータ1!AF36),CSVデータ1!AF36,0)+IF(ISNUMBER(CSVデータ2!AF36),CSVデータ2!AF36,0)+IF(ISNUMBER(CSVデータ3!AF36),CSVデータ3!AF36,0)+IF(ISNUMBER(CSVデータ4!AF36),CSVデータ4!AF36,0)","v":0},null,{"$f":"IF(ISNUMBER(CSVデータ1!AH36),CSVデータ1!AH36,0)+IF(ISNUMBER(CSVデータ2!AH36),CSVデータ2!AH36,0)+IF(ISNUMBER(CSVデータ3!AH36),CSVデータ3!AH36,0)+IF(ISNUMBER(CSVデータ4!AH36),CSVデータ4!AH36,0)","v":0},null,{"$f":"IF(ISNUMBER(CSVデータ1!AJ36),CSVデータ1!AJ36,0)+IF(ISNUMBER(CSVデータ2!AJ36),CSVデータ2!AJ36,0)+IF(ISNUMBER(CSVデータ3!AJ36),CSVデータ3!AJ36,0)+IF(ISNUMBER(CSVデータ4!AJ36),CSVデータ4!AJ36,0)","v":0},null,{"$f":"IF(ISNUMBER(CSVデータ1!AL36),CSVデータ1!AL36,0)+IF(ISNUMBER(CSVデータ2!AL36),CSVデータ2!AL36,0)+IF(ISNUMBER(CSVデータ3!AL36),CSVデータ3!AL36,0)+IF(ISNUMBER(CSVデータ4!AL36),CSVデータ4!AL36,0)","v":0},null,{"$f":"IF(ISNUMBER(CSVデータ1!AN36),CSVデータ1!AN36,0)+IF(ISNUMBER(CSVデータ2!AN36),CSVデータ2!AN36,0)+IF(ISNUMBER(CSVデータ3!AN36),CSVデータ3!AN36,0)+IF(ISNUMBER(CSVデータ4!AN36),CSVデータ4!AN36,0)","v":0}]
[{"$f":"CSVデータ1!A37","v":"明細部"},{"$f":"CSVデータ1!B37","v":"国"},{"$f":"CSVデータ1!C37","v":73},{"$f":"CSVデータ1!D37","v":"男"},{"$f":"IF(ISNUMBER(CSVデータ1!E37),CSVデータ1!E37,0)+IF(ISNUMBER(CSVデータ2!E37),CSVデータ2!E37,0)+IF(ISNUMBER(CSVデータ3!E37),CSVデータ3!E37,0)+IF(ISNUMBER(CSVデータ4!E37),CSVデータ4!E37,0)","v":0},{"$f":"IF(ISNUMBER(CSVデータ1!F37),CSVデータ1!F37,0)+IF(ISNUMBER(CSVデータ2!F37),CSVデータ2!F37,0)+IF(ISNUMBER(CSVデータ3!F37),CSVデータ3!F37,0)+IF(ISNUMBER(CSVデータ4!F37),CSVデータ4!F37,0)","v":0},null,{"$f":"IF(ISNUMBER(CSVデータ1!H37),CSVデータ1!H37,0)+IF(ISNUMBER(CSVデータ2!H37),CSVデータ2!H37,0)+IF(ISNUMBER(CSVデータ3!H37),CSVデータ3!H37,0)+IF(ISNUMBER(CSVデータ4!H37),CSVデータ4!H37,0)","v":0},null,{"$f":"IF(ISNUMBER(CSVデータ1!J37),CSVデータ1!J37,0)+IF(ISNUMBER(CSVデータ2!J37),CSVデータ2!J37,0)+IF(ISNUMBER(CSVデータ3!J37),CSVデータ3!J37,0)+IF(ISNUMBER(CSVデータ4!J37),CSVデータ4!J37,0)","v":0},null,{"$f":"IF(ISNUMBER(CSVデータ1!L37),CSVデータ1!L37,0)+IF(ISNUMBER(CSVデータ2!L37),CSVデータ2!L37,0)+IF(ISNUMBER(CSVデータ3!L37),CSVデータ3!L37,0)+IF(ISNUMBER(CSVデータ4!L37),CSVデータ4!L37,0)","v":0},null,{"$f":"IF(ISNUMBER(CSVデータ1!N37),CSVデータ1!N37,0)+IF(ISNUMBER(CSVデータ2!N37),CSVデータ2!N37,0)+IF(ISNUMBER(CSVデータ3!N37),CSVデータ3!N37,0)+IF(ISNUMBER(CSVデータ4!N37),CSVデータ4!N37,0)","v":0},null,{"$f":"IF(ISNUMBER(CSVデータ1!P37),CSVデータ1!P37,0)+IF(ISNUMBER(CSVデータ2!P37),CSVデータ2!P37,0)+IF(ISNUMBER(CSVデータ3!P37),CSVデータ3!P37,0)+IF(ISNUMBER(CSVデータ4!P37),CSVデータ4!P37,0)","v":0},null,{"$f":"IF(ISNUMBER(CSVデータ1!R37),CSVデータ1!R37,0)+IF(ISNUMBER(CSVデータ2!R37),CSVデータ2!R37,0)+IF(ISNUMBER(CSVデータ3!R37),CSVデータ3!R37,0)+IF(ISNUMBER(CSVデータ4!R37),CSVデータ4!R37,0)","v":0},null,{"$f":"IF(ISNUMBER(CSVデータ1!T37),CSVデータ1!T37,0)+IF(ISNUMBER(CSVデータ2!T37),CSVデータ2!T37,0)+IF(ISNUMBER(CSVデータ3!T37),CSVデータ3!T37,0)+IF(ISNUMBER(CSVデータ4!T37),CSVデータ4!T37,0)","v":0},null,{"$f":"IF(ISNUMBER(CSVデータ1!V37),CSVデータ1!V37,0)+IF(ISNUMBER(CSVデータ2!V37),CSVデータ2!V37,0)+IF(ISNUMBER(CSVデータ3!V37),CSVデータ3!V37,0)+IF(ISNUMBER(CSVデータ4!V37),CSVデータ4!V37,0)","v":0},null,{"$f":"IF(ISNUMBER(CSVデータ1!X37),CSVデータ1!X37,0)+IF(ISNUMBER(CSVデータ2!X37),CSVデータ2!X37,0)+IF(ISNUMBER(CSVデータ3!X37),CSVデータ3!X37,0)+IF(ISNUMBER(CSVデータ4!X37),CSVデータ4!X37,0)","v":0},null,{"$f":"IF(ISNUMBER(CSVデータ1!Z37),CSVデータ1!Z37,0)+IF(ISNUMBER(CSVデータ2!Z37),CSVデータ2!Z37,0)+IF(ISNUMBER(CSVデータ3!Z37),CSVデータ3!Z37,0)+IF(ISNUMBER(CSVデータ4!Z37),CSVデータ4!Z37,0)","v":0},null,{"$f":"IF(ISNUMBER(CSVデータ1!AB37),CSVデータ1!AB37,0)+IF(ISNUMBER(CSVデータ2!AB37),CSVデータ2!AB37,0)+IF(ISNUMBER(CSVデータ3!AB37),CSVデータ3!AB37,0)+IF(ISNUMBER(CSVデータ4!AB37),CSVデータ4!AB37,0)","v":0},null,{"$f":"IF(ISNUMBER(CSVデータ1!AD37),CSVデータ1!AD37,0)+IF(ISNUMBER(CSVデータ2!AD37),CSVデータ2!AD37,0)+IF(ISNUMBER(CSVデータ3!AD37),CSVデータ3!AD37,0)+IF(ISNUMBER(CSVデータ4!AD37),CSVデータ4!AD37,0)","v":0},null,{"$f":"IF(ISNUMBER(CSVデータ1!AF37),CSVデータ1!AF37,0)+IF(ISNUMBER(CSVデータ2!AF37),CSVデータ2!AF37,0)+IF(ISNUMBER(CSVデータ3!AF37),CSVデータ3!AF37,0)+IF(ISNUMBER(CSVデータ4!AF37),CSVデータ4!AF37,0)","v":0},null,{"$f":"IF(ISNUMBER(CSVデータ1!AH37),CSVデータ1!AH37,0)+IF(ISNUMBER(CSVデータ2!AH37),CSVデータ2!AH37,0)+IF(ISNUMBER(CSVデータ3!AH37),CSVデータ3!AH37,0)+IF(ISNUMBER(CSVデータ4!AH37),CSVデータ4!AH37,0)","v":0},null,{"$f":"IF(ISNUMBER(CSVデータ1!AJ37),CSVデータ1!AJ37,0)+IF(ISNUMBER(CSVデータ2!AJ37),CSVデータ2!AJ37,0)+IF(ISNUMBER(CSVデータ3!AJ37),CSVデータ3!AJ37,0)+IF(ISNUMBER(CSVデータ4!AJ37),CSVデータ4!AJ37,0)","v":0},null,{"$f":"IF(ISNUMBER(CSVデータ1!AL37),CSVデータ1!AL37,0)+IF(ISNUMBER(CSVデータ2!AL37),CSVデータ2!AL37,0)+IF(ISNUMBER(CSVデータ3!AL37),CSVデータ3!AL37,0)+IF(ISNUMBER(CSVデータ4!AL37),CSVデータ4!AL37,0)","v":0},null,{"$f":"IF(ISNUMBER(CSVデータ1!AN37),CSVデータ1!AN37,0)+IF(ISNUMBER(CSVデータ2!AN37),CSVデータ2!AN37,0)+IF(ISNUMBER(CSVデータ3!AN37),CSVデータ3!AN37,0)+IF(ISNUMBER(CSVデータ4!AN37),CSVデータ4!AN37,0)","v":0}]
[{"$f":"CSVデータ1!A38","v":"明細部"},{"$f":"CSVデータ1!B38","v":"国"},{"$f":"CSVデータ1!C38","v":74},{"$f":"CSVデータ1!D38","v":"男"},{"$f":"IF(ISNUMBER(CSVデータ1!E38),CSVデータ1!E38,0)+IF(ISNUMBER(CSVデータ2!E38),CSVデータ2!E38,0)+IF(ISNUMBER(CSVデータ3!E38),CSVデータ3!E38,0)+IF(ISNUMBER(CSVデータ4!E38),CSVデータ4!E38,0)","v":0},{"$f":"IF(ISNUMBER(CSVデータ1!F38),CSVデータ1!F38,0)+IF(ISNUMBER(CSVデータ2!F38),CSVデータ2!F38,0)+IF(ISNUMBER(CSVデータ3!F38),CSVデータ3!F38,0)+IF(ISNUMBER(CSVデータ4!F38),CSVデータ4!F38,0)","v":0},null,{"$f":"IF(ISNUMBER(CSVデータ1!H38),CSVデータ1!H38,0)+IF(ISNUMBER(CSVデータ2!H38),CSVデータ2!H38,0)+IF(ISNUMBER(CSVデータ3!H38),CSVデータ3!H38,0)+IF(ISNUMBER(CSVデータ4!H38),CSVデータ4!H38,0)","v":0},null,{"$f":"IF(ISNUMBER(CSVデータ1!J38),CSVデータ1!J38,0)+IF(ISNUMBER(CSVデータ2!J38),CSVデータ2!J38,0)+IF(ISNUMBER(CSVデータ3!J38),CSVデータ3!J38,0)+IF(ISNUMBER(CSVデータ4!J38),CSVデータ4!J38,0)","v":0},null,{"$f":"IF(ISNUMBER(CSVデータ1!L38),CSVデータ1!L38,0)+IF(ISNUMBER(CSVデータ2!L38),CSVデータ2!L38,0)+IF(ISNUMBER(CSVデータ3!L38),CSVデータ3!L38,0)+IF(ISNUMBER(CSVデータ4!L38),CSVデータ4!L38,0)","v":0},null,{"$f":"IF(ISNUMBER(CSVデータ1!N38),CSVデータ1!N38,0)+IF(ISNUMBER(CSVデータ2!N38),CSVデータ2!N38,0)+IF(ISNUMBER(CSVデータ3!N38),CSVデータ3!N38,0)+IF(ISNUMBER(CSVデータ4!N38),CSVデータ4!N38,0)","v":0},null,{"$f":"IF(ISNUMBER(CSVデータ1!P38),CSVデータ1!P38,0)+IF(ISNUMBER(CSVデータ2!P38),CSVデータ2!P38,0)+IF(ISNUMBER(CSVデータ3!P38),CSVデータ3!P38,0)+IF(ISNUMBER(CSVデータ4!P38),CSVデータ4!P38,0)","v":0},null,{"$f":"IF(ISNUMBER(CSVデータ1!R38),CSVデータ1!R38,0)+IF(ISNUMBER(CSVデータ2!R38),CSVデータ2!R38,0)+IF(ISNUMBER(CSVデータ3!R38),CSVデータ3!R38,0)+IF(ISNUMBER(CSVデータ4!R38),CSVデータ4!R38,0)","v":0},null,{"$f":"IF(ISNUMBER(CSVデータ1!T38),CSVデータ1!T38,0)+IF(ISNUMBER(CSVデータ2!T38),CSVデータ2!T38,0)+IF(ISNUMBER(CSVデータ3!T38),CSVデータ3!T38,0)+IF(ISNUMBER(CSVデータ4!T38),CSVデータ4!T38,0)","v":0},null,{"$f":"IF(ISNUMBER(CSVデータ1!V38),CSVデータ1!V38,0)+IF(ISNUMBER(CSVデータ2!V38),CSVデータ2!V38,0)+IF(ISNUMBER(CSVデータ3!V38),CSVデータ3!V38,0)+IF(ISNUMBER(CSVデータ4!V38),CSVデータ4!V38,0)","v":0},null,{"$f":"IF(ISNUMBER(CSVデータ1!X38),CSVデータ1!X38,0)+IF(ISNUMBER(CSVデータ2!X38),CSVデータ2!X38,0)+IF(ISNUMBER(CSVデータ3!X38),CSVデータ3!X38,0)+IF(ISNUMBER(CSVデータ4!X38),CSVデータ4!X38,0)","v":0},null,{"$f":"IF(ISNUMBER(CSVデータ1!Z38),CSVデータ1!Z38,0)+IF(ISNUMBER(CSVデータ2!Z38),CSVデータ2!Z38,0)+IF(ISNUMBER(CSVデータ3!Z38),CSVデータ3!Z38,0)+IF(ISNUMBER(CSVデータ4!Z38),CSVデータ4!Z38,0)","v":0},null,{"$f":"IF(ISNUMBER(CSVデータ1!AB38),CSVデータ1!AB38,0)+IF(ISNUMBER(CSVデータ2!AB38),CSVデータ2!AB38,0)+IF(ISNUMBER(CSVデータ3!AB38),CSVデータ3!AB38,0)+IF(ISNUMBER(CSVデータ4!AB38),CSVデータ4!AB38,0)","v":0},null,{"$f":"IF(ISNUMBER(CSVデータ1!AD38),CSVデータ1!AD38,0)+IF(ISNUMBER(CSVデータ2!AD38),CSVデータ2!AD38,0)+IF(ISNUMBER(CSVデータ3!AD38),CSVデータ3!AD38,0)+IF(ISNUMBER(CSVデータ4!AD38),CSVデータ4!AD38,0)","v":0},null,{"$f":"IF(ISNUMBER(CSVデータ1!AF38),CSVデータ1!AF38,0)+IF(ISNUMBER(CSVデータ2!AF38),CSVデータ2!AF38,0)+IF(ISNUMBER(CSVデータ3!AF38),CSVデータ3!AF38,0)+IF(ISNUMBER(CSVデータ4!AF38),CSVデータ4!AF38,0)","v":0},null,{"$f":"IF(ISNUMBER(CSVデータ1!AH38),CSVデータ1!AH38,0)+IF(ISNUMBER(CSVデータ2!AH38),CSVデータ2!AH38,0)+IF(ISNUMBER(CSVデータ3!AH38),CSVデータ3!AH38,0)+IF(ISNUMBER(CSVデータ4!AH38),CSVデータ4!AH38,0)","v":0},null,{"$f":"IF(ISNUMBER(CSVデータ1!AJ38),CSVデータ1!AJ38,0)+IF(ISNUMBER(CSVデータ2!AJ38),CSVデータ2!AJ38,0)+IF(ISNUMBER(CSVデータ3!AJ38),CSVデータ3!AJ38,0)+IF(ISNUMBER(CSVデータ4!AJ38),CSVデータ4!AJ38,0)","v":0},null,{"$f":"IF(ISNUMBER(CSVデータ1!AL38),CSVデータ1!AL38,0)+IF(ISNUMBER(CSVデータ2!AL38),CSVデータ2!AL38,0)+IF(ISNUMBER(CSVデータ3!AL38),CSVデータ3!AL38,0)+IF(ISNUMBER(CSVデータ4!AL38),CSVデータ4!AL38,0)","v":0},null,{"$f":"IF(ISNUMBER(CSVデータ1!AN38),CSVデータ1!AN38,0)+IF(ISNUMBER(CSVデータ2!AN38),CSVデータ2!AN38,0)+IF(ISNUMBER(CSVデータ3!AN38),CSVデータ3!AN38,0)+IF(ISNUMBER(CSVデータ4!AN38),CSVデータ4!AN38,0)","v":0}]
[{"$f":"CSVデータ1!A39","v":"明細部"},{"$f":"CSVデータ1!B39","v":"国"},{"$f":"CSVデータ1!C39","v":40},{"$f":"CSVデータ1!D39","v":"女"},{"$f":"IF(ISNUMBER(CSVデータ1!E39),CSVデータ1!E39,0)+IF(ISNUMBER(CSVデータ2!E39),CSVデータ2!E39,0)+IF(ISNUMBER(CSVデータ3!E39),CSVデータ3!E39,0)+IF(ISNUMBER(CSVデータ4!E39),CSVデータ4!E39,0)","v":0},{"$f":"IF(ISNUMBER(CSVデータ1!F39),CSVデータ1!F39,0)+IF(ISNUMBER(CSVデータ2!F39),CSVデータ2!F39,0)+IF(ISNUMBER(CSVデータ3!F39),CSVデータ3!F39,0)+IF(ISNUMBER(CSVデータ4!F39),CSVデータ4!F39,0)","v":0},null,{"$f":"IF(ISNUMBER(CSVデータ1!H39),CSVデータ1!H39,0)+IF(ISNUMBER(CSVデータ2!H39),CSVデータ2!H39,0)+IF(ISNUMBER(CSVデータ3!H39),CSVデータ3!H39,0)+IF(ISNUMBER(CSVデータ4!H39),CSVデータ4!H39,0)","v":0},null,{"$f":"IF(ISNUMBER(CSVデータ1!J39),CSVデータ1!J39,0)+IF(ISNUMBER(CSVデータ2!J39),CSVデータ2!J39,0)+IF(ISNUMBER(CSVデータ3!J39),CSVデータ3!J39,0)+IF(ISNUMBER(CSVデータ4!J39),CSVデータ4!J39,0)","v":0},null,{"$f":"IF(ISNUMBER(CSVデータ1!L39),CSVデータ1!L39,0)+IF(ISNUMBER(CSVデータ2!L39),CSVデータ2!L39,0)+IF(ISNUMBER(CSVデータ3!L39),CSVデータ3!L39,0)+IF(ISNUMBER(CSVデータ4!L39),CSVデータ4!L39,0)","v":0},null,{"$f":"IF(ISNUMBER(CSVデータ1!N39),CSVデータ1!N39,0)+IF(ISNUMBER(CSVデータ2!N39),CSVデータ2!N39,0)+IF(ISNUMBER(CSVデータ3!N39),CSVデータ3!N39,0)+IF(ISNUMBER(CSVデータ4!N39),CSVデータ4!N39,0)","v":0},null,{"$f":"IF(ISNUMBER(CSVデータ1!P39),CSVデータ1!P39,0)+IF(ISNUMBER(CSVデータ2!P39),CSVデータ2!P39,0)+IF(ISNUMBER(CSVデータ3!P39),CSVデータ3!P39,0)+IF(ISNUMBER(CSVデータ4!P39),CSVデータ4!P39,0)","v":0},null,{"$f":"IF(ISNUMBER(CSVデータ1!R39),CSVデータ1!R39,0)+IF(ISNUMBER(CSVデータ2!R39),CSVデータ2!R39,0)+IF(ISNUMBER(CSVデータ3!R39),CSVデータ3!R39,0)+IF(ISNUMBER(CSVデータ4!R39),CSVデータ4!R39,0)","v":0},null,{"$f":"IF(ISNUMBER(CSVデータ1!T39),CSVデータ1!T39,0)+IF(ISNUMBER(CSVデータ2!T39),CSVデータ2!T39,0)+IF(ISNUMBER(CSVデータ3!T39),CSVデータ3!T39,0)+IF(ISNUMBER(CSVデータ4!T39),CSVデータ4!T39,0)","v":0},null,{"$f":"IF(ISNUMBER(CSVデータ1!V39),CSVデータ1!V39,0)+IF(ISNUMBER(CSVデータ2!V39),CSVデータ2!V39,0)+IF(ISNUMBER(CSVデータ3!V39),CSVデータ3!V39,0)+IF(ISNUMBER(CSVデータ4!V39),CSVデータ4!V39,0)","v":0},null,{"$f":"IF(ISNUMBER(CSVデータ1!X39),CSVデータ1!X39,0)+IF(ISNUMBER(CSVデータ2!X39),CSVデータ2!X39,0)+IF(ISNUMBER(CSVデータ3!X39),CSVデータ3!X39,0)+IF(ISNUMBER(CSVデータ4!X39),CSVデータ4!X39,0)","v":0},null,{"$f":"IF(ISNUMBER(CSVデータ1!Z39),CSVデータ1!Z39,0)+IF(ISNUMBER(CSVデータ2!Z39),CSVデータ2!Z39,0)+IF(ISNUMBER(CSVデータ3!Z39),CSVデータ3!Z39,0)+IF(ISNUMBER(CSVデータ4!Z39),CSVデータ4!Z39,0)","v":0},null,{"$f":"IF(ISNUMBER(CSVデータ1!AB39),CSVデータ1!AB39,0)+IF(ISNUMBER(CSVデータ2!AB39),CSVデータ2!AB39,0)+IF(ISNUMBER(CSVデータ3!AB39),CSVデータ3!AB39,0)+IF(ISNUMBER(CSVデータ4!AB39),CSVデータ4!AB39,0)","v":0},null,{"$f":"IF(ISNUMBER(CSVデータ1!AD39),CSVデータ1!AD39,0)+IF(ISNUMBER(CSVデータ2!AD39),CSVデータ2!AD39,0)+IF(ISNUMBER(CSVデータ3!AD39),CSVデータ3!AD39,0)+IF(ISNUMBER(CSVデータ4!AD39),CSVデータ4!AD39,0)","v":0},null,{"$f":"IF(ISNUMBER(CSVデータ1!AF39),CSVデータ1!AF39,0)+IF(ISNUMBER(CSVデータ2!AF39),CSVデータ2!AF39,0)+IF(ISNUMBER(CSVデータ3!AF39),CSVデータ3!AF39,0)+IF(ISNUMBER(CSVデータ4!AF39),CSVデータ4!AF39,0)","v":0},null,{"$f":"IF(ISNUMBER(CSVデータ1!AH39),CSVデータ1!AH39,0)+IF(ISNUMBER(CSVデータ2!AH39),CSVデータ2!AH39,0)+IF(ISNUMBER(CSVデータ3!AH39),CSVデータ3!AH39,0)+IF(ISNUMBER(CSVデータ4!AH39),CSVデータ4!AH39,0)","v":0},null,{"$f":"IF(ISNUMBER(CSVデータ1!AJ39),CSVデータ1!AJ39,0)+IF(ISNUMBER(CSVデータ2!AJ39),CSVデータ2!AJ39,0)+IF(ISNUMBER(CSVデータ3!AJ39),CSVデータ3!AJ39,0)+IF(ISNUMBER(CSVデータ4!AJ39),CSVデータ4!AJ39,0)","v":0},null,{"$f":"IF(ISNUMBER(CSVデータ1!AL39),CSVデータ1!AL39,0)+IF(ISNUMBER(CSVデータ2!AL39),CSVデータ2!AL39,0)+IF(ISNUMBER(CSVデータ3!AL39),CSVデータ3!AL39,0)+IF(ISNUMBER(CSVデータ4!AL39),CSVデータ4!AL39,0)","v":0},null,{"$f":"IF(ISNUMBER(CSVデータ1!AN39),CSVデータ1!AN39,0)+IF(ISNUMBER(CSVデータ2!AN39),CSVデータ2!AN39,0)+IF(ISNUMBER(CSVデータ3!AN39),CSVデータ3!AN39,0)+IF(ISNUMBER(CSVデータ4!AN39),CSVデータ4!AN39,0)","v":0}]
[{"$f":"CSVデータ1!A40","v":"明細部"},{"$f":"CSVデータ1!B40","v":"国"},{"$f":"CSVデータ1!C40","v":41},{"$f":"CSVデータ1!D40","v":"女"},{"$f":"IF(ISNUMBER(CSVデータ1!E40),CSVデータ1!E40,0)+IF(ISNUMBER(CSVデータ2!E40),CSVデータ2!E40,0)+IF(ISNUMBER(CSVデータ3!E40),CSVデータ3!E40,0)+IF(ISNUMBER(CSVデータ4!E40),CSVデータ4!E40,0)","v":0},{"$f":"IF(ISNUMBER(CSVデータ1!F40),CSVデータ1!F40,0)+IF(ISNUMBER(CSVデータ2!F40),CSVデータ2!F40,0)+IF(ISNUMBER(CSVデータ3!F40),CSVデータ3!F40,0)+IF(ISNUMBER(CSVデータ4!F40),CSVデータ4!F40,0)","v":0},null,{"$f":"IF(ISNUMBER(CSVデータ1!H40),CSVデータ1!H40,0)+IF(ISNUMBER(CSVデータ2!H40),CSVデータ2!H40,0)+IF(ISNUMBER(CSVデータ3!H40),CSVデータ3!H40,0)+IF(ISNUMBER(CSVデータ4!H40),CSVデータ4!H40,0)","v":0},null,{"$f":"IF(ISNUMBER(CSVデータ1!J40),CSVデータ1!J40,0)+IF(ISNUMBER(CSVデータ2!J40),CSVデータ2!J40,0)+IF(ISNUMBER(CSVデータ3!J40),CSVデータ3!J40,0)+IF(ISNUMBER(CSVデータ4!J40),CSVデータ4!J40,0)","v":0},null,{"$f":"IF(ISNUMBER(CSVデータ1!L40),CSVデータ1!L40,0)+IF(ISNUMBER(CSVデータ2!L40),CSVデータ2!L40,0)+IF(ISNUMBER(CSVデータ3!L40),CSVデータ3!L40,0)+IF(ISNUMBER(CSVデータ4!L40),CSVデータ4!L40,0)","v":0},null,{"$f":"IF(ISNUMBER(CSVデータ1!N40),CSVデータ1!N40,0)+IF(ISNUMBER(CSVデータ2!N40),CSVデータ2!N40,0)+IF(ISNUMBER(CSVデータ3!N40),CSVデータ3!N40,0)+IF(ISNUMBER(CSVデータ4!N40),CSVデータ4!N40,0)","v":0},null,{"$f":"IF(ISNUMBER(CSVデータ1!P40),CSVデータ1!P40,0)+IF(ISNUMBER(CSVデータ2!P40),CSVデータ2!P40,0)+IF(ISNUMBER(CSVデータ3!P40),CSVデータ3!P40,0)+IF(ISNUMBER(CSVデータ4!P40),CSVデータ4!P40,0)","v":0},null,{"$f":"IF(ISNUMBER(CSVデータ1!R40),CSVデータ1!R40,0)+IF(ISNUMBER(CSVデータ2!R40),CSVデータ2!R40,0)+IF(ISNUMBER(CSVデータ3!R40),CSVデータ3!R40,0)+IF(ISNUMBER(CSVデータ4!R40),CSVデータ4!R40,0)","v":0},null,{"$f":"IF(ISNUMBER(CSVデータ1!T40),CSVデータ1!T40,0)+IF(ISNUMBER(CSVデータ2!T40),CSVデータ2!T40,0)+IF(ISNUMBER(CSVデータ3!T40),CSVデータ3!T40,0)+IF(ISNUMBER(CSVデータ4!T40),CSVデータ4!T40,0)","v":0},null,{"$f":"IF(ISNUMBER(CSVデータ1!V40),CSVデータ1!V40,0)+IF(ISNUMBER(CSVデータ2!V40),CSVデータ2!V40,0)+IF(ISNUMBER(CSVデータ3!V40),CSVデータ3!V40,0)+IF(ISNUMBER(CSVデータ4!V40),CSVデータ4!V40,0)","v":0},null,{"$f":"IF(ISNUMBER(CSVデータ1!X40),CSVデータ1!X40,0)+IF(ISNUMBER(CSVデータ2!X40),CSVデータ2!X40,0)+IF(ISNUMBER(CSVデータ3!X40),CSVデータ3!X40,0)+IF(ISNUMBER(CSVデータ4!X40),CSVデータ4!X40,0)","v":0},null,{"$f":"IF(ISNUMBER(CSVデータ1!Z40),CSVデータ1!Z40,0)+IF(ISNUMBER(CSVデータ2!Z40),CSVデータ2!Z40,0)+IF(ISNUMBER(CSVデータ3!Z40),CSVデータ3!Z40,0)+IF(ISNUMBER(CSVデータ4!Z40),CSVデータ4!Z40,0)","v":0},null,{"$f":"IF(ISNUMBER(CSVデータ1!AB40),CSVデータ1!AB40,0)+IF(ISNUMBER(CSVデータ2!AB40),CSVデータ2!AB40,0)+IF(ISNUMBER(CSVデータ3!AB40),CSVデータ3!AB40,0)+IF(ISNUMBER(CSVデータ4!AB40),CSVデータ4!AB40,0)","v":0},null,{"$f":"IF(ISNUMBER(CSVデータ1!AD40),CSVデータ1!AD40,0)+IF(ISNUMBER(CSVデータ2!AD40),CSVデータ2!AD40,0)+IF(ISNUMBER(CSVデータ3!AD40),CSVデータ3!AD40,0)+IF(ISNUMBER(CSVデータ4!AD40),CSVデータ4!AD40,0)","v":0},null,{"$f":"IF(ISNUMBER(CSVデータ1!AF40),CSVデータ1!AF40,0)+IF(ISNUMBER(CSVデータ2!AF40),CSVデータ2!AF40,0)+IF(ISNUMBER(CSVデータ3!AF40),CSVデータ3!AF40,0)+IF(ISNUMBER(CSVデータ4!AF40),CSVデータ4!AF40,0)","v":0},null,{"$f":"IF(ISNUMBER(CSVデータ1!AH40),CSVデータ1!AH40,0)+IF(ISNUMBER(CSVデータ2!AH40),CSVデータ2!AH40,0)+IF(ISNUMBER(CSVデータ3!AH40),CSVデータ3!AH40,0)+IF(ISNUMBER(CSVデータ4!AH40),CSVデータ4!AH40,0)","v":0},null,{"$f":"IF(ISNUMBER(CSVデータ1!AJ40),CSVデータ1!AJ40,0)+IF(ISNUMBER(CSVデータ2!AJ40),CSVデータ2!AJ40,0)+IF(ISNUMBER(CSVデータ3!AJ40),CSVデータ3!AJ40,0)+IF(ISNUMBER(CSVデータ4!AJ40),CSVデータ4!AJ40,0)","v":0},null,{"$f":"IF(ISNUMBER(CSVデータ1!AL40),CSVデータ1!AL40,0)+IF(ISNUMBER(CSVデータ2!AL40),CSVデータ2!AL40,0)+IF(ISNUMBER(CSVデータ3!AL40),CSVデータ3!AL40,0)+IF(ISNUMBER(CSVデータ4!AL40),CSVデータ4!AL40,0)","v":0},null,{"$f":"IF(ISNUMBER(CSVデータ1!AN40),CSVデータ1!AN40,0)+IF(ISNUMBER(CSVデータ2!AN40),CSVデータ2!AN40,0)+IF(ISNUMBER(CSVデータ3!AN40),CSVデータ3!AN40,0)+IF(ISNUMBER(CSVデータ4!AN40),CSVデータ4!AN40,0)","v":0}]
[{"$f":"CSVデータ1!A41","v":"明細部"},{"$f":"CSVデータ1!B41","v":"国"},{"$f":"CSVデータ1!C41","v":42},{"$f":"CSVデータ1!D41","v":"女"},{"$f":"IF(ISNUMBER(CSVデータ1!E41),CSVデータ1!E41,0)+IF(ISNUMBER(CSVデータ2!E41),CSVデータ2!E41,0)+IF(ISNUMBER(CSVデータ3!E41),CSVデータ3!E41,0)+IF(ISNUMBER(CSVデータ4!E41),CSVデータ4!E41,0)","v":0},{"$f":"IF(ISNUMBER(CSVデータ1!F41),CSVデータ1!F41,0)+IF(ISNUMBER(CSVデータ2!F41),CSVデータ2!F41,0)+IF(ISNUMBER(CSVデータ3!F41),CSVデータ3!F41,0)+IF(ISNUMBER(CSVデータ4!F41),CSVデータ4!F41,0)","v":0},null,{"$f":"IF(ISNUMBER(CSVデータ1!H41),CSVデータ1!H41,0)+IF(ISNUMBER(CSVデータ2!H41),CSVデータ2!H41,0)+IF(ISNUMBER(CSVデータ3!H41),CSVデータ3!H41,0)+IF(ISNUMBER(CSVデータ4!H41),CSVデータ4!H41,0)","v":0},null,{"$f":"IF(ISNUMBER(CSVデータ1!J41),CSVデータ1!J41,0)+IF(ISNUMBER(CSVデータ2!J41),CSVデータ2!J41,0)+IF(ISNUMBER(CSVデータ3!J41),CSVデータ3!J41,0)+IF(ISNUMBER(CSVデータ4!J41),CSVデータ4!J41,0)","v":0},null,{"$f":"IF(ISNUMBER(CSVデータ1!L41),CSVデータ1!L41,0)+IF(ISNUMBER(CSVデータ2!L41),CSVデータ2!L41,0)+IF(ISNUMBER(CSVデータ3!L41),CSVデータ3!L41,0)+IF(ISNUMBER(CSVデータ4!L41),CSVデータ4!L41,0)","v":0},null,{"$f":"IF(ISNUMBER(CSVデータ1!N41),CSVデータ1!N41,0)+IF(ISNUMBER(CSVデータ2!N41),CSVデータ2!N41,0)+IF(ISNUMBER(CSVデータ3!N41),CSVデータ3!N41,0)+IF(ISNUMBER(CSVデータ4!N41),CSVデータ4!N41,0)","v":0},null,{"$f":"IF(ISNUMBER(CSVデータ1!P41),CSVデータ1!P41,0)+IF(ISNUMBER(CSVデータ2!P41),CSVデータ2!P41,0)+IF(ISNUMBER(CSVデータ3!P41),CSVデータ3!P41,0)+IF(ISNUMBER(CSVデータ4!P41),CSVデータ4!P41,0)","v":0},null,{"$f":"IF(ISNUMBER(CSVデータ1!R41),CSVデータ1!R41,0)+IF(ISNUMBER(CSVデータ2!R41),CSVデータ2!R41,0)+IF(ISNUMBER(CSVデータ3!R41),CSVデータ3!R41,0)+IF(ISNUMBER(CSVデータ4!R41),CSVデータ4!R41,0)","v":0},null,{"$f":"IF(ISNUMBER(CSVデータ1!T41),CSVデータ1!T41,0)+IF(ISNUMBER(CSVデータ2!T41),CSVデータ2!T41,0)+IF(ISNUMBER(CSVデータ3!T41),CSVデータ3!T41,0)+IF(ISNUMBER(CSVデータ4!T41),CSVデータ4!T41,0)","v":0},null,{"$f":"IF(ISNUMBER(CSVデータ1!V41),CSVデータ1!V41,0)+IF(ISNUMBER(CSVデータ2!V41),CSVデータ2!V41,0)+IF(ISNUMBER(CSVデータ3!V41),CSVデータ3!V41,0)+IF(ISNUMBER(CSVデータ4!V41),CSVデータ4!V41,0)","v":0},null,{"$f":"IF(ISNUMBER(CSVデータ1!X41),CSVデータ1!X41,0)+IF(ISNUMBER(CSVデータ2!X41),CSVデータ2!X41,0)+IF(ISNUMBER(CSVデータ3!X41),CSVデータ3!X41,0)+IF(ISNUMBER(CSVデータ4!X41),CSVデータ4!X41,0)","v":0},null,{"$f":"IF(ISNUMBER(CSVデータ1!Z41),CSVデータ1!Z41,0)+IF(ISNUMBER(CSVデータ2!Z41),CSVデータ2!Z41,0)+IF(ISNUMBER(CSVデータ3!Z41),CSVデータ3!Z41,0)+IF(ISNUMBER(CSVデータ4!Z41),CSVデータ4!Z41,0)","v":0},null,{"$f":"IF(ISNUMBER(CSVデータ1!AB41),CSVデータ1!AB41,0)+IF(ISNUMBER(CSVデータ2!AB41),CSVデータ2!AB41,0)+IF(ISNUMBER(CSVデータ3!AB41),CSVデータ3!AB41,0)+IF(ISNUMBER(CSVデータ4!AB41),CSVデータ4!AB41,0)","v":0},null,{"$f":"IF(ISNUMBER(CSVデータ1!AD41),CSVデータ1!AD41,0)+IF(ISNUMBER(CSVデータ2!AD41),CSVデータ2!AD41,0)+IF(ISNUMBER(CSVデータ3!AD41),CSVデータ3!AD41,0)+IF(ISNUMBER(CSVデータ4!AD41),CSVデータ4!AD41,0)","v":0},null,{"$f":"IF(ISNUMBER(CSVデータ1!AF41),CSVデータ1!AF41,0)+IF(ISNUMBER(CSVデータ2!AF41),CSVデータ2!AF41,0)+IF(ISNUMBER(CSVデータ3!AF41),CSVデータ3!AF41,0)+IF(ISNUMBER(CSVデータ4!AF41),CSVデータ4!AF41,0)","v":0},null,{"$f":"IF(ISNUMBER(CSVデータ1!AH41),CSVデータ1!AH41,0)+IF(ISNUMBER(CSVデータ2!AH41),CSVデータ2!AH41,0)+IF(ISNUMBER(CSVデータ3!AH41),CSVデータ3!AH41,0)+IF(ISNUMBER(CSVデータ4!AH41),CSVデータ4!AH41,0)","v":0},null,{"$f":"IF(ISNUMBER(CSVデータ1!AJ41),CSVデータ1!AJ41,0)+IF(ISNUMBER(CSVデータ2!AJ41),CSVデータ2!AJ41,0)+IF(ISNUMBER(CSVデータ3!AJ41),CSVデータ3!AJ41,0)+IF(ISNUMBER(CSVデータ4!AJ41),CSVデータ4!AJ41,0)","v":0},null,{"$f":"IF(ISNUMBER(CSVデータ1!AL41),CSVデータ1!AL41,0)+IF(ISNUMBER(CSVデータ2!AL41),CSVデータ2!AL41,0)+IF(ISNUMBER(CSVデータ3!AL41),CSVデータ3!AL41,0)+IF(ISNUMBER(CSVデータ4!AL41),CSVデータ4!AL41,0)","v":0},null,{"$f":"IF(ISNUMBER(CSVデータ1!AN41),CSVデータ1!AN41,0)+IF(ISNUMBER(CSVデータ2!AN41),CSVデータ2!AN41,0)+IF(ISNUMBER(CSVデータ3!AN41),CSVデータ3!AN41,0)+IF(ISNUMBER(CSVデータ4!AN41),CSVデータ4!AN41,0)","v":0}]
[{"$f":"CSVデータ1!A42","v":"明細部"},{"$f":"CSVデータ1!B42","v":"国"},{"$f":"CSVデータ1!C42","v":43},{"$f":"CSVデータ1!D42","v":"女"},{"$f":"IF(ISNUMBER(CSVデータ1!E42),CSVデータ1!E42,0)+IF(ISNUMBER(CSVデータ2!E42),CSVデータ2!E42,0)+IF(ISNUMBER(CSVデータ3!E42),CSVデータ3!E42,0)+IF(ISNUMBER(CSVデータ4!E42),CSVデータ4!E42,0)","v":0},{"$f":"IF(ISNUMBER(CSVデータ1!F42),CSVデータ1!F42,0)+IF(ISNUMBER(CSVデータ2!F42),CSVデータ2!F42,0)+IF(ISNUMBER(CSVデータ3!F42),CSVデータ3!F42,0)+IF(ISNUMBER(CSVデータ4!F42),CSVデータ4!F42,0)","v":0},null,{"$f":"IF(ISNUMBER(CSVデータ1!H42),CSVデータ1!H42,0)+IF(ISNUMBER(CSVデータ2!H42),CSVデータ2!H42,0)+IF(ISNUMBER(CSVデータ3!H42),CSVデータ3!H42,0)+IF(ISNUMBER(CSVデータ4!H42),CSVデータ4!H42,0)","v":0},null,{"$f":"IF(ISNUMBER(CSVデータ1!J42),CSVデータ1!J42,0)+IF(ISNUMBER(CSVデータ2!J42),CSVデータ2!J42,0)+IF(ISNUMBER(CSVデータ3!J42),CSVデータ3!J42,0)+IF(ISNUMBER(CSVデータ4!J42),CSVデータ4!J42,0)","v":0},null,{"$f":"IF(ISNUMBER(CSVデータ1!L42),CSVデータ1!L42,0)+IF(ISNUMBER(CSVデータ2!L42),CSVデータ2!L42,0)+IF(ISNUMBER(CSVデータ3!L42),CSVデータ3!L42,0)+IF(ISNUMBER(CSVデータ4!L42),CSVデータ4!L42,0)","v":0},null,{"$f":"IF(ISNUMBER(CSVデータ1!N42),CSVデータ1!N42,0)+IF(ISNUMBER(CSVデータ2!N42),CSVデータ2!N42,0)+IF(ISNUMBER(CSVデータ3!N42),CSVデータ3!N42,0)+IF(ISNUMBER(CSVデータ4!N42),CSVデータ4!N42,0)","v":0},null,{"$f":"IF(ISNUMBER(CSVデータ1!P42),CSVデータ1!P42,0)+IF(ISNUMBER(CSVデータ2!P42),CSVデータ2!P42,0)+IF(ISNUMBER(CSVデータ3!P42),CSVデータ3!P42,0)+IF(ISNUMBER(CSVデータ4!P42),CSVデータ4!P42,0)","v":0},null,{"$f":"IF(ISNUMBER(CSVデータ1!R42),CSVデータ1!R42,0)+IF(ISNUMBER(CSVデータ2!R42),CSVデータ2!R42,0)+IF(ISNUMBER(CSVデータ3!R42),CSVデータ3!R42,0)+IF(ISNUMBER(CSVデータ4!R42),CSVデータ4!R42,0)","v":0},null,{"$f":"IF(ISNUMBER(CSVデータ1!T42),CSVデータ1!T42,0)+IF(ISNUMBER(CSVデータ2!T42),CSVデータ2!T42,0)+IF(ISNUMBER(CSVデータ3!T42),CSVデータ3!T42,0)+IF(ISNUMBER(CSVデータ4!T42),CSVデータ4!T42,0)","v":0},null,{"$f":"IF(ISNUMBER(CSVデータ1!V42),CSVデータ1!V42,0)+IF(ISNUMBER(CSVデータ2!V42),CSVデータ2!V42,0)+IF(ISNUMBER(CSVデータ3!V42),CSVデータ3!V42,0)+IF(ISNUMBER(CSVデータ4!V42),CSVデータ4!V42,0)","v":0},null,{"$f":"IF(ISNUMBER(CSVデータ1!X42),CSVデータ1!X42,0)+IF(ISNUMBER(CSVデータ2!X42),CSVデータ2!X42,0)+IF(ISNUMBER(CSVデータ3!X42),CSVデータ3!X42,0)+IF(ISNUMBER(CSVデータ4!X42),CSVデータ4!X42,0)","v":0},null,{"$f":"IF(ISNUMBER(CSVデータ1!Z42),CSVデータ1!Z42,0)+IF(ISNUMBER(CSVデータ2!Z42),CSVデータ2!Z42,0)+IF(ISNUMBER(CSVデータ3!Z42),CSVデータ3!Z42,0)+IF(ISNUMBER(CSVデータ4!Z42),CSVデータ4!Z42,0)","v":0},null,{"$f":"IF(ISNUMBER(CSVデータ1!AB42),CSVデータ1!AB42,0)+IF(ISNUMBER(CSVデータ2!AB42),CSVデータ2!AB42,0)+IF(ISNUMBER(CSVデータ3!AB42),CSVデータ3!AB42,0)+IF(ISNUMBER(CSVデータ4!AB42),CSVデータ4!AB42,0)","v":0},null,{"$f":"IF(ISNUMBER(CSVデータ1!AD42),CSVデータ1!AD42,0)+IF(ISNUMBER(CSVデータ2!AD42),CSVデータ2!AD42,0)+IF(ISNUMBER(CSVデータ3!AD42),CSVデータ3!AD42,0)+IF(ISNUMBER(CSVデータ4!AD42),CSVデータ4!AD42,0)","v":0},null,{"$f":"IF(ISNUMBER(CSVデータ1!AF42),CSVデータ1!AF42,0)+IF(ISNUMBER(CSVデータ2!AF42),CSVデータ2!AF42,0)+IF(ISNUMBER(CSVデータ3!AF42),CSVデータ3!AF42,0)+IF(ISNUMBER(CSVデータ4!AF42),CSVデータ4!AF42,0)","v":0},null,{"$f":"IF(ISNUMBER(CSVデータ1!AH42),CSVデータ1!AH42,0)+IF(ISNUMBER(CSVデータ2!AH42),CSVデータ2!AH42,0)+IF(ISNUMBER(CSVデータ3!AH42),CSVデータ3!AH42,0)+IF(ISNUMBER(CSVデータ4!AH42),CSVデータ4!AH42,0)","v":0},null,{"$f":"IF(ISNUMBER(CSVデータ1!AJ42),CSVデータ1!AJ42,0)+IF(ISNUMBER(CSVデータ2!AJ42),CSVデータ2!AJ42,0)+IF(ISNUMBER(CSVデータ3!AJ42),CSVデータ3!AJ42,0)+IF(ISNUMBER(CSVデータ4!AJ42),CSVデータ4!AJ42,0)","v":0},null,{"$f":"IF(ISNUMBER(CSVデータ1!AL42),CSVデータ1!AL42,0)+IF(ISNUMBER(CSVデータ2!AL42),CSVデータ2!AL42,0)+IF(ISNUMBER(CSVデータ3!AL42),CSVデータ3!AL42,0)+IF(ISNUMBER(CSVデータ4!AL42),CSVデータ4!AL42,0)","v":0},null,{"$f":"IF(ISNUMBER(CSVデータ1!AN42),CSVデータ1!AN42,0)+IF(ISNUMBER(CSVデータ2!AN42),CSVデータ2!AN42,0)+IF(ISNUMBER(CSVデータ3!AN42),CSVデータ3!AN42,0)+IF(ISNUMBER(CSVデータ4!AN42),CSVデータ4!AN42,0)","v":0}]
[{"$f":"CSVデータ1!A43","v":"明細部"},{"$f":"CSVデータ1!B43","v":"国"},{"$f":"CSVデータ1!C43","v":44},{"$f":"CSVデータ1!D43","v":"女"},{"$f":"IF(ISNUMBER(CSVデータ1!E43),CSVデータ1!E43,0)+IF(ISNUMBER(CSVデータ2!E43),CSVデータ2!E43,0)+IF(ISNUMBER(CSVデータ3!E43),CSVデータ3!E43,0)+IF(ISNUMBER(CSVデータ4!E43),CSVデータ4!E43,0)","v":0},{"$f":"IF(ISNUMBER(CSVデータ1!F43),CSVデータ1!F43,0)+IF(ISNUMBER(CSVデータ2!F43),CSVデータ2!F43,0)+IF(ISNUMBER(CSVデータ3!F43),CSVデータ3!F43,0)+IF(ISNUMBER(CSVデータ4!F43),CSVデータ4!F43,0)","v":0},null,{"$f":"IF(ISNUMBER(CSVデータ1!H43),CSVデータ1!H43,0)+IF(ISNUMBER(CSVデータ2!H43),CSVデータ2!H43,0)+IF(ISNUMBER(CSVデータ3!H43),CSVデータ3!H43,0)+IF(ISNUMBER(CSVデータ4!H43),CSVデータ4!H43,0)","v":0},null,{"$f":"IF(ISNUMBER(CSVデータ1!J43),CSVデータ1!J43,0)+IF(ISNUMBER(CSVデータ2!J43),CSVデータ2!J43,0)+IF(ISNUMBER(CSVデータ3!J43),CSVデータ3!J43,0)+IF(ISNUMBER(CSVデータ4!J43),CSVデータ4!J43,0)","v":0},null,{"$f":"IF(ISNUMBER(CSVデータ1!L43),CSVデータ1!L43,0)+IF(ISNUMBER(CSVデータ2!L43),CSVデータ2!L43,0)+IF(ISNUMBER(CSVデータ3!L43),CSVデータ3!L43,0)+IF(ISNUMBER(CSVデータ4!L43),CSVデータ4!L43,0)","v":0},null,{"$f":"IF(ISNUMBER(CSVデータ1!N43),CSVデータ1!N43,0)+IF(ISNUMBER(CSVデータ2!N43),CSVデータ2!N43,0)+IF(ISNUMBER(CSVデータ3!N43),CSVデータ3!N43,0)+IF(ISNUMBER(CSVデータ4!N43),CSVデータ4!N43,0)","v":0},null,{"$f":"IF(ISNUMBER(CSVデータ1!P43),CSVデータ1!P43,0)+IF(ISNUMBER(CSVデータ2!P43),CSVデータ2!P43,0)+IF(ISNUMBER(CSVデータ3!P43),CSVデータ3!P43,0)+IF(ISNUMBER(CSVデータ4!P43),CSVデータ4!P43,0)","v":0},null,{"$f":"IF(ISNUMBER(CSVデータ1!R43),CSVデータ1!R43,0)+IF(ISNUMBER(CSVデータ2!R43),CSVデータ2!R43,0)+IF(ISNUMBER(CSVデータ3!R43),CSVデータ3!R43,0)+IF(ISNUMBER(CSVデータ4!R43),CSVデータ4!R43,0)","v":0},null,{"$f":"IF(ISNUMBER(CSVデータ1!T43),CSVデータ1!T43,0)+IF(ISNUMBER(CSVデータ2!T43),CSVデータ2!T43,0)+IF(ISNUMBER(CSVデータ3!T43),CSVデータ3!T43,0)+IF(ISNUMBER(CSVデータ4!T43),CSVデータ4!T43,0)","v":0},null,{"$f":"IF(ISNUMBER(CSVデータ1!V43),CSVデータ1!V43,0)+IF(ISNUMBER(CSVデータ2!V43),CSVデータ2!V43,0)+IF(ISNUMBER(CSVデータ3!V43),CSVデータ3!V43,0)+IF(ISNUMBER(CSVデータ4!V43),CSVデータ4!V43,0)","v":0},null,{"$f":"IF(ISNUMBER(CSVデータ1!X43),CSVデータ1!X43,0)+IF(ISNUMBER(CSVデータ2!X43),CSVデータ2!X43,0)+IF(ISNUMBER(CSVデータ3!X43),CSVデータ3!X43,0)+IF(ISNUMBER(CSVデータ4!X43),CSVデータ4!X43,0)","v":0},null,{"$f":"IF(ISNUMBER(CSVデータ1!Z43),CSVデータ1!Z43,0)+IF(ISNUMBER(CSVデータ2!Z43),CSVデータ2!Z43,0)+IF(ISNUMBER(CSVデータ3!Z43),CSVデータ3!Z43,0)+IF(ISNUMBER(CSVデータ4!Z43),CSVデータ4!Z43,0)","v":0},null,{"$f":"IF(ISNUMBER(CSVデータ1!AB43),CSVデータ1!AB43,0)+IF(ISNUMBER(CSVデータ2!AB43),CSVデータ2!AB43,0)+IF(ISNUMBER(CSVデータ3!AB43),CSVデータ3!AB43,0)+IF(ISNUMBER(CSVデータ4!AB43),CSVデータ4!AB43,0)","v":0},null,{"$f":"IF(ISNUMBER(CSVデータ1!AD43),CSVデータ1!AD43,0)+IF(ISNUMBER(CSVデータ2!AD43),CSVデータ2!AD43,0)+IF(ISNUMBER(CSVデータ3!AD43),CSVデータ3!AD43,0)+IF(ISNUMBER(CSVデータ4!AD43),CSVデータ4!AD43,0)","v":0},null,{"$f":"IF(ISNUMBER(CSVデータ1!AF43),CSVデータ1!AF43,0)+IF(ISNUMBER(CSVデータ2!AF43),CSVデータ2!AF43,0)+IF(ISNUMBER(CSVデータ3!AF43),CSVデータ3!AF43,0)+IF(ISNUMBER(CSVデータ4!AF43),CSVデータ4!AF43,0)","v":0},null,{"$f":"IF(ISNUMBER(CSVデータ1!AH43),CSVデータ1!AH43,0)+IF(ISNUMBER(CSVデータ2!AH43),CSVデータ2!AH43,0)+IF(ISNUMBER(CSVデータ3!AH43),CSVデータ3!AH43,0)+IF(ISNUMBER(CSVデータ4!AH43),CSVデータ4!AH43,0)","v":0},null,{"$f":"IF(ISNUMBER(CSVデータ1!AJ43),CSVデータ1!AJ43,0)+IF(ISNUMBER(CSVデータ2!AJ43),CSVデータ2!AJ43,0)+IF(ISNUMBER(CSVデータ3!AJ43),CSVデータ3!AJ43,0)+IF(ISNUMBER(CSVデータ4!AJ43),CSVデータ4!AJ43,0)","v":0},null,{"$f":"IF(ISNUMBER(CSVデータ1!AL43),CSVデータ1!AL43,0)+IF(ISNUMBER(CSVデータ2!AL43),CSVデータ2!AL43,0)+IF(ISNUMBER(CSVデータ3!AL43),CSVデータ3!AL43,0)+IF(ISNUMBER(CSVデータ4!AL43),CSVデータ4!AL43,0)","v":0},null,{"$f":"IF(ISNUMBER(CSVデータ1!AN43),CSVデータ1!AN43,0)+IF(ISNUMBER(CSVデータ2!AN43),CSVデータ2!AN43,0)+IF(ISNUMBER(CSVデータ3!AN43),CSVデータ3!AN43,0)+IF(ISNUMBER(CSVデータ4!AN43),CSVデータ4!AN43,0)","v":0}]
[{"$f":"CSVデータ1!A44","v":"明細部"},{"$f":"CSVデータ1!B44","v":"国"},{"$f":"CSVデータ1!C44","v":45},{"$f":"CSVデータ1!D44","v":"女"},{"$f":"IF(ISNUMBER(CSVデータ1!E44),CSVデータ1!E44,0)+IF(ISNUMBER(CSVデータ2!E44),CSVデータ2!E44,0)+IF(ISNUMBER(CSVデータ3!E44),CSVデータ3!E44,0)+IF(ISNUMBER(CSVデータ4!E44),CSVデータ4!E44,0)","v":0},{"$f":"IF(ISNUMBER(CSVデータ1!F44),CSVデータ1!F44,0)+IF(ISNUMBER(CSVデータ2!F44),CSVデータ2!F44,0)+IF(ISNUMBER(CSVデータ3!F44),CSVデータ3!F44,0)+IF(ISNUMBER(CSVデータ4!F44),CSVデータ4!F44,0)","v":0},null,{"$f":"IF(ISNUMBER(CSVデータ1!H44),CSVデータ1!H44,0)+IF(ISNUMBER(CSVデータ2!H44),CSVデータ2!H44,0)+IF(ISNUMBER(CSVデータ3!H44),CSVデータ3!H44,0)+IF(ISNUMBER(CSVデータ4!H44),CSVデータ4!H44,0)","v":0},null,{"$f":"IF(ISNUMBER(CSVデータ1!J44),CSVデータ1!J44,0)+IF(ISNUMBER(CSVデータ2!J44),CSVデータ2!J44,0)+IF(ISNUMBER(CSVデータ3!J44),CSVデータ3!J44,0)+IF(ISNUMBER(CSVデータ4!J44),CSVデータ4!J44,0)","v":0},null,{"$f":"IF(ISNUMBER(CSVデータ1!L44),CSVデータ1!L44,0)+IF(ISNUMBER(CSVデータ2!L44),CSVデータ2!L44,0)+IF(ISNUMBER(CSVデータ3!L44),CSVデータ3!L44,0)+IF(ISNUMBER(CSVデータ4!L44),CSVデータ4!L44,0)","v":0},null,{"$f":"IF(ISNUMBER(CSVデータ1!N44),CSVデータ1!N44,0)+IF(ISNUMBER(CSVデータ2!N44),CSVデータ2!N44,0)+IF(ISNUMBER(CSVデータ3!N44),CSVデータ3!N44,0)+IF(ISNUMBER(CSVデータ4!N44),CSVデータ4!N44,0)","v":0},null,{"$f":"IF(ISNUMBER(CSVデータ1!P44),CSVデータ1!P44,0)+IF(ISNUMBER(CSVデータ2!P44),CSVデータ2!P44,0)+IF(ISNUMBER(CSVデータ3!P44),CSVデータ3!P44,0)+IF(ISNUMBER(CSVデータ4!P44),CSVデータ4!P44,0)","v":0},null,{"$f":"IF(ISNUMBER(CSVデータ1!R44),CSVデータ1!R44,0)+IF(ISNUMBER(CSVデータ2!R44),CSVデータ2!R44,0)+IF(ISNUMBER(CSVデータ3!R44),CSVデータ3!R44,0)+IF(ISNUMBER(CSVデータ4!R44),CSVデータ4!R44,0)","v":0},null,{"$f":"IF(ISNUMBER(CSVデータ1!T44),CSVデータ1!T44,0)+IF(ISNUMBER(CSVデータ2!T44),CSVデータ2!T44,0)+IF(ISNUMBER(CSVデータ3!T44),CSVデータ3!T44,0)+IF(ISNUMBER(CSVデータ4!T44),CSVデータ4!T44,0)","v":0},null,{"$f":"IF(ISNUMBER(CSVデータ1!V44),CSVデータ1!V44,0)+IF(ISNUMBER(CSVデータ2!V44),CSVデータ2!V44,0)+IF(ISNUMBER(CSVデータ3!V44),CSVデータ3!V44,0)+IF(ISNUMBER(CSVデータ4!V44),CSVデータ4!V44,0)","v":0},null,{"$f":"IF(ISNUMBER(CSVデータ1!X44),CSVデータ1!X44,0)+IF(ISNUMBER(CSVデータ2!X44),CSVデータ2!X44,0)+IF(ISNUMBER(CSVデータ3!X44),CSVデータ3!X44,0)+IF(ISNUMBER(CSVデータ4!X44),CSVデータ4!X44,0)","v":0},null,{"$f":"IF(ISNUMBER(CSVデータ1!Z44),CSVデータ1!Z44,0)+IF(ISNUMBER(CSVデータ2!Z44),CSVデータ2!Z44,0)+IF(ISNUMBER(CSVデータ3!Z44),CSVデータ3!Z44,0)+IF(ISNUMBER(CSVデータ4!Z44),CSVデータ4!Z44,0)","v":0},null,{"$f":"IF(ISNUMBER(CSVデータ1!AB44),CSVデータ1!AB44,0)+IF(ISNUMBER(CSVデータ2!AB44),CSVデータ2!AB44,0)+IF(ISNUMBER(CSVデータ3!AB44),CSVデータ3!AB44,0)+IF(ISNUMBER(CSVデータ4!AB44),CSVデータ4!AB44,0)","v":0},null,{"$f":"IF(ISNUMBER(CSVデータ1!AD44),CSVデータ1!AD44,0)+IF(ISNUMBER(CSVデータ2!AD44),CSVデータ2!AD44,0)+IF(ISNUMBER(CSVデータ3!AD44),CSVデータ3!AD44,0)+IF(ISNUMBER(CSVデータ4!AD44),CSVデータ4!AD44,0)","v":0},null,{"$f":"IF(ISNUMBER(CSVデータ1!AF44),CSVデータ1!AF44,0)+IF(ISNUMBER(CSVデータ2!AF44),CSVデータ2!AF44,0)+IF(ISNUMBER(CSVデータ3!AF44),CSVデータ3!AF44,0)+IF(ISNUMBER(CSVデータ4!AF44),CSVデータ4!AF44,0)","v":0},null,{"$f":"IF(ISNUMBER(CSVデータ1!AH44),CSVデータ1!AH44,0)+IF(ISNUMBER(CSVデータ2!AH44),CSVデータ2!AH44,0)+IF(ISNUMBER(CSVデータ3!AH44),CSVデータ3!AH44,0)+IF(ISNUMBER(CSVデータ4!AH44),CSVデータ4!AH44,0)","v":0},null,{"$f":"IF(ISNUMBER(CSVデータ1!AJ44),CSVデータ1!AJ44,0)+IF(ISNUMBER(CSVデータ2!AJ44),CSVデータ2!AJ44,0)+IF(ISNUMBER(CSVデータ3!AJ44),CSVデータ3!AJ44,0)+IF(ISNUMBER(CSVデータ4!AJ44),CSVデータ4!AJ44,0)","v":0},null,{"$f":"IF(ISNUMBER(CSVデータ1!AL44),CSVデータ1!AL44,0)+IF(ISNUMBER(CSVデータ2!AL44),CSVデータ2!AL44,0)+IF(ISNUMBER(CSVデータ3!AL44),CSVデータ3!AL44,0)+IF(ISNUMBER(CSVデータ4!AL44),CSVデータ4!AL44,0)","v":0},null,{"$f":"IF(ISNUMBER(CSVデータ1!AN44),CSVデータ1!AN44,0)+IF(ISNUMBER(CSVデータ2!AN44),CSVデータ2!AN44,0)+IF(ISNUMBER(CSVデータ3!AN44),CSVデータ3!AN44,0)+IF(ISNUMBER(CSVデータ4!AN44),CSVデータ4!AN44,0)","v":0}]
[{"$f":"CSVデータ1!A45","v":"明細部"},{"$f":"CSVデータ1!B45","v":"国"},{"$f":"CSVデータ1!C45","v":46},{"$f":"CSVデータ1!D45","v":"女"},{"$f":"IF(ISNUMBER(CSVデータ1!E45),CSVデータ1!E45,0)+IF(ISNUMBER(CSVデータ2!E45),CSVデータ2!E45,0)+IF(ISNUMBER(CSVデータ3!E45),CSVデータ3!E45,0)+IF(ISNUMBER(CSVデータ4!E45),CSVデータ4!E45,0)","v":0},{"$f":"IF(ISNUMBER(CSVデータ1!F45),CSVデータ1!F45,0)+IF(ISNUMBER(CSVデータ2!F45),CSVデータ2!F45,0)+IF(ISNUMBER(CSVデータ3!F45),CSVデータ3!F45,0)+IF(ISNUMBER(CSVデータ4!F45),CSVデータ4!F45,0)","v":0},null,{"$f":"IF(ISNUMBER(CSVデータ1!H45),CSVデータ1!H45,0)+IF(ISNUMBER(CSVデータ2!H45),CSVデータ2!H45,0)+IF(ISNUMBER(CSVデータ3!H45),CSVデータ3!H45,0)+IF(ISNUMBER(CSVデータ4!H45),CSVデータ4!H45,0)","v":0},null,{"$f":"IF(ISNUMBER(CSVデータ1!J45),CSVデータ1!J45,0)+IF(ISNUMBER(CSVデータ2!J45),CSVデータ2!J45,0)+IF(ISNUMBER(CSVデータ3!J45),CSVデータ3!J45,0)+IF(ISNUMBER(CSVデータ4!J45),CSVデータ4!J45,0)","v":0},null,{"$f":"IF(ISNUMBER(CSVデータ1!L45),CSVデータ1!L45,0)+IF(ISNUMBER(CSVデータ2!L45),CSVデータ2!L45,0)+IF(ISNUMBER(CSVデータ3!L45),CSVデータ3!L45,0)+IF(ISNUMBER(CSVデータ4!L45),CSVデータ4!L45,0)","v":0},null,{"$f":"IF(ISNUMBER(CSVデータ1!N45),CSVデータ1!N45,0)+IF(ISNUMBER(CSVデータ2!N45),CSVデータ2!N45,0)+IF(ISNUMBER(CSVデータ3!N45),CSVデータ3!N45,0)+IF(ISNUMBER(CSVデータ4!N45),CSVデータ4!N45,0)","v":0},null,{"$f":"IF(ISNUMBER(CSVデータ1!P45),CSVデータ1!P45,0)+IF(ISNUMBER(CSVデータ2!P45),CSVデータ2!P45,0)+IF(ISNUMBER(CSVデータ3!P45),CSVデータ3!P45,0)+IF(ISNUMBER(CSVデータ4!P45),CSVデータ4!P45,0)","v":0},null,{"$f":"IF(ISNUMBER(CSVデータ1!R45),CSVデータ1!R45,0)+IF(ISNUMBER(CSVデータ2!R45),CSVデータ2!R45,0)+IF(ISNUMBER(CSVデータ3!R45),CSVデータ3!R45,0)+IF(ISNUMBER(CSVデータ4!R45),CSVデータ4!R45,0)","v":0},null,{"$f":"IF(ISNUMBER(CSVデータ1!T45),CSVデータ1!T45,0)+IF(ISNUMBER(CSVデータ2!T45),CSVデータ2!T45,0)+IF(ISNUMBER(CSVデータ3!T45),CSVデータ3!T45,0)+IF(ISNUMBER(CSVデータ4!T45),CSVデータ4!T45,0)","v":0},null,{"$f":"IF(ISNUMBER(CSVデータ1!V45),CSVデータ1!V45,0)+IF(ISNUMBER(CSVデータ2!V45),CSVデータ2!V45,0)+IF(ISNUMBER(CSVデータ3!V45),CSVデータ3!V45,0)+IF(ISNUMBER(CSVデータ4!V45),CSVデータ4!V45,0)","v":0},null,{"$f":"IF(ISNUMBER(CSVデータ1!X45),CSVデータ1!X45,0)+IF(ISNUMBER(CSVデータ2!X45),CSVデータ2!X45,0)+IF(ISNUMBER(CSVデータ3!X45),CSVデータ3!X45,0)+IF(ISNUMBER(CSVデータ4!X45),CSVデータ4!X45,0)","v":0},null,{"$f":"IF(ISNUMBER(CSVデータ1!Z45),CSVデータ1!Z45,0)+IF(ISNUMBER(CSVデータ2!Z45),CSVデータ2!Z45,0)+IF(ISNUMBER(CSVデータ3!Z45),CSVデータ3!Z45,0)+IF(ISNUMBER(CSVデータ4!Z45),CSVデータ4!Z45,0)","v":0},null,{"$f":"IF(ISNUMBER(CSVデータ1!AB45),CSVデータ1!AB45,0)+IF(ISNUMBER(CSVデータ2!AB45),CSVデータ2!AB45,0)+IF(ISNUMBER(CSVデータ3!AB45),CSVデータ3!AB45,0)+IF(ISNUMBER(CSVデータ4!AB45),CSVデータ4!AB45,0)","v":0},null,{"$f":"IF(ISNUMBER(CSVデータ1!AD45),CSVデータ1!AD45,0)+IF(ISNUMBER(CSVデータ2!AD45),CSVデータ2!AD45,0)+IF(ISNUMBER(CSVデータ3!AD45),CSVデータ3!AD45,0)+IF(ISNUMBER(CSVデータ4!AD45),CSVデータ4!AD45,0)","v":0},null,{"$f":"IF(ISNUMBER(CSVデータ1!AF45),CSVデータ1!AF45,0)+IF(ISNUMBER(CSVデータ2!AF45),CSVデータ2!AF45,0)+IF(ISNUMBER(CSVデータ3!AF45),CSVデータ3!AF45,0)+IF(ISNUMBER(CSVデータ4!AF45),CSVデータ4!AF45,0)","v":0},null,{"$f":"IF(ISNUMBER(CSVデータ1!AH45),CSVデータ1!AH45,0)+IF(ISNUMBER(CSVデータ2!AH45),CSVデータ2!AH45,0)+IF(ISNUMBER(CSVデータ3!AH45),CSVデータ3!AH45,0)+IF(ISNUMBER(CSVデータ4!AH45),CSVデータ4!AH45,0)","v":0},null,{"$f":"IF(ISNUMBER(CSVデータ1!AJ45),CSVデータ1!AJ45,0)+IF(ISNUMBER(CSVデータ2!AJ45),CSVデータ2!AJ45,0)+IF(ISNUMBER(CSVデータ3!AJ45),CSVデータ3!AJ45,0)+IF(ISNUMBER(CSVデータ4!AJ45),CSVデータ4!AJ45,0)","v":0},null,{"$f":"IF(ISNUMBER(CSVデータ1!AL45),CSVデータ1!AL45,0)+IF(ISNUMBER(CSVデータ2!AL45),CSVデータ2!AL45,0)+IF(ISNUMBER(CSVデータ3!AL45),CSVデータ3!AL45,0)+IF(ISNUMBER(CSVデータ4!AL45),CSVデータ4!AL45,0)","v":0},null,{"$f":"IF(ISNUMBER(CSVデータ1!AN45),CSVデータ1!AN45,0)+IF(ISNUMBER(CSVデータ2!AN45),CSVデータ2!AN45,0)+IF(ISNUMBER(CSVデータ3!AN45),CSVデータ3!AN45,0)+IF(ISNUMBER(CSVデータ4!AN45),CSVデータ4!AN45,0)","v":0}]
[{"$f":"CSVデータ1!A46","v":"明細部"},{"$f":"CSVデータ1!B46","v":"国"},{"$f":"CSVデータ1!C46","v":47},{"$f":"CSVデータ1!D46","v":"女"},{"$f":"IF(ISNUMBER(CSVデータ1!E46),CSVデータ1!E46,0)+IF(ISNUMBER(CSVデータ2!E46),CSVデータ2!E46,0)+IF(ISNUMBER(CSVデータ3!E46),CSVデータ3!E46,0)+IF(ISNUMBER(CSVデータ4!E46),CSVデータ4!E46,0)","v":0},{"$f":"IF(ISNUMBER(CSVデータ1!F46),CSVデータ1!F46,0)+IF(ISNUMBER(CSVデータ2!F46),CSVデータ2!F46,0)+IF(ISNUMBER(CSVデータ3!F46),CSVデータ3!F46,0)+IF(ISNUMBER(CSVデータ4!F46),CSVデータ4!F46,0)","v":0},null,{"$f":"IF(ISNUMBER(CSVデータ1!H46),CSVデータ1!H46,0)+IF(ISNUMBER(CSVデータ2!H46),CSVデータ2!H46,0)+IF(ISNUMBER(CSVデータ3!H46),CSVデータ3!H46,0)+IF(ISNUMBER(CSVデータ4!H46),CSVデータ4!H46,0)","v":0},null,{"$f":"IF(ISNUMBER(CSVデータ1!J46),CSVデータ1!J46,0)+IF(ISNUMBER(CSVデータ2!J46),CSVデータ2!J46,0)+IF(ISNUMBER(CSVデータ3!J46),CSVデータ3!J46,0)+IF(ISNUMBER(CSVデータ4!J46),CSVデータ4!J46,0)","v":0},null,{"$f":"IF(ISNUMBER(CSVデータ1!L46),CSVデータ1!L46,0)+IF(ISNUMBER(CSVデータ2!L46),CSVデータ2!L46,0)+IF(ISNUMBER(CSVデータ3!L46),CSVデータ3!L46,0)+IF(ISNUMBER(CSVデータ4!L46),CSVデータ4!L46,0)","v":0},null,{"$f":"IF(ISNUMBER(CSVデータ1!N46),CSVデータ1!N46,0)+IF(ISNUMBER(CSVデータ2!N46),CSVデータ2!N46,0)+IF(ISNUMBER(CSVデータ3!N46),CSVデータ3!N46,0)+IF(ISNUMBER(CSVデータ4!N46),CSVデータ4!N46,0)","v":0},null,{"$f":"IF(ISNUMBER(CSVデータ1!P46),CSVデータ1!P46,0)+IF(ISNUMBER(CSVデータ2!P46),CSVデータ2!P46,0)+IF(ISNUMBER(CSVデータ3!P46),CSVデータ3!P46,0)+IF(ISNUMBER(CSVデータ4!P46),CSVデータ4!P46,0)","v":0},null,{"$f":"IF(ISNUMBER(CSVデータ1!R46),CSVデータ1!R46,0)+IF(ISNUMBER(CSVデータ2!R46),CSVデータ2!R46,0)+IF(ISNUMBER(CSVデータ3!R46),CSVデータ3!R46,0)+IF(ISNUMBER(CSVデータ4!R46),CSVデータ4!R46,0)","v":0},null,{"$f":"IF(ISNUMBER(CSVデータ1!T46),CSVデータ1!T46,0)+IF(ISNUMBER(CSVデータ2!T46),CSVデータ2!T46,0)+IF(ISNUMBER(CSVデータ3!T46),CSVデータ3!T46,0)+IF(ISNUMBER(CSVデータ4!T46),CSVデータ4!T46,0)","v":0},null,{"$f":"IF(ISNUMBER(CSVデータ1!V46),CSVデータ1!V46,0)+IF(ISNUMBER(CSVデータ2!V46),CSVデータ2!V46,0)+IF(ISNUMBER(CSVデータ3!V46),CSVデータ3!V46,0)+IF(ISNUMBER(CSVデータ4!V46),CSVデータ4!V46,0)","v":0},null,{"$f":"IF(ISNUMBER(CSVデータ1!X46),CSVデータ1!X46,0)+IF(ISNUMBER(CSVデータ2!X46),CSVデータ2!X46,0)+IF(ISNUMBER(CSVデータ3!X46),CSVデータ3!X46,0)+IF(ISNUMBER(CSVデータ4!X46),CSVデータ4!X46,0)","v":0},null,{"$f":"IF(ISNUMBER(CSVデータ1!Z46),CSVデータ1!Z46,0)+IF(ISNUMBER(CSVデータ2!Z46),CSVデータ2!Z46,0)+IF(ISNUMBER(CSVデータ3!Z46),CSVデータ3!Z46,0)+IF(ISNUMBER(CSVデータ4!Z46),CSVデータ4!Z46,0)","v":0},null,{"$f":"IF(ISNUMBER(CSVデータ1!AB46),CSVデータ1!AB46,0)+IF(ISNUMBER(CSVデータ2!AB46),CSVデータ2!AB46,0)+IF(ISNUMBER(CSVデータ3!AB46),CSVデータ3!AB46,0)+IF(ISNUMBER(CSVデータ4!AB46),CSVデータ4!AB46,0)","v":0},null,{"$f":"IF(ISNUMBER(CSVデータ1!AD46),CSVデータ1!AD46,0)+IF(ISNUMBER(CSVデータ2!AD46),CSVデータ2!AD46,0)+IF(ISNUMBER(CSVデータ3!AD46),CSVデータ3!AD46,0)+IF(ISNUMBER(CSVデータ4!AD46),CSVデータ4!AD46,0)","v":0},null,{"$f":"IF(ISNUMBER(CSVデータ1!AF46),CSVデータ1!AF46,0)+IF(ISNUMBER(CSVデータ2!AF46),CSVデータ2!AF46,0)+IF(ISNUMBER(CSVデータ3!AF46),CSVデータ3!AF46,0)+IF(ISNUMBER(CSVデータ4!AF46),CSVデータ4!AF46,0)","v":0},null,{"$f":"IF(ISNUMBER(CSVデータ1!AH46),CSVデータ1!AH46,0)+IF(ISNUMBER(CSVデータ2!AH46),CSVデータ2!AH46,0)+IF(ISNUMBER(CSVデータ3!AH46),CSVデータ3!AH46,0)+IF(ISNUMBER(CSVデータ4!AH46),CSVデータ4!AH46,0)","v":0},null,{"$f":"IF(ISNUMBER(CSVデータ1!AJ46),CSVデータ1!AJ46,0)+IF(ISNUMBER(CSVデータ2!AJ46),CSVデータ2!AJ46,0)+IF(ISNUMBER(CSVデータ3!AJ46),CSVデータ3!AJ46,0)+IF(ISNUMBER(CSVデータ4!AJ46),CSVデータ4!AJ46,0)","v":0},null,{"$f":"IF(ISNUMBER(CSVデータ1!AL46),CSVデータ1!AL46,0)+IF(ISNUMBER(CSVデータ2!AL46),CSVデータ2!AL46,0)+IF(ISNUMBER(CSVデータ3!AL46),CSVデータ3!AL46,0)+IF(ISNUMBER(CSVデータ4!AL46),CSVデータ4!AL46,0)","v":0},null,{"$f":"IF(ISNUMBER(CSVデータ1!AN46),CSVデータ1!AN46,0)+IF(ISNUMBER(CSVデータ2!AN46),CSVデータ2!AN46,0)+IF(ISNUMBER(CSVデータ3!AN46),CSVデータ3!AN46,0)+IF(ISNUMBER(CSVデータ4!AN46),CSVデータ4!AN46,0)","v":0}]
[{"$f":"CSVデータ1!A47","v":"明細部"},{"$f":"CSVデータ1!B47","v":"国"},{"$f":"CSVデータ1!C47","v":48},{"$f":"CSVデータ1!D47","v":"女"},{"$f":"IF(ISNUMBER(CSVデータ1!E47),CSVデータ1!E47,0)+IF(ISNUMBER(CSVデータ2!E47),CSVデータ2!E47,0)+IF(ISNUMBER(CSVデータ3!E47),CSVデータ3!E47,0)+IF(ISNUMBER(CSVデータ4!E47),CSVデータ4!E47,0)","v":0},{"$f":"IF(ISNUMBER(CSVデータ1!F47),CSVデータ1!F47,0)+IF(ISNUMBER(CSVデータ2!F47),CSVデータ2!F47,0)+IF(ISNUMBER(CSVデータ3!F47),CSVデータ3!F47,0)+IF(ISNUMBER(CSVデータ4!F47),CSVデータ4!F47,0)","v":0},null,{"$f":"IF(ISNUMBER(CSVデータ1!H47),CSVデータ1!H47,0)+IF(ISNUMBER(CSVデータ2!H47),CSVデータ2!H47,0)+IF(ISNUMBER(CSVデータ3!H47),CSVデータ3!H47,0)+IF(ISNUMBER(CSVデータ4!H47),CSVデータ4!H47,0)","v":0},null,{"$f":"IF(ISNUMBER(CSVデータ1!J47),CSVデータ1!J47,0)+IF(ISNUMBER(CSVデータ2!J47),CSVデータ2!J47,0)+IF(ISNUMBER(CSVデータ3!J47),CSVデータ3!J47,0)+IF(ISNUMBER(CSVデータ4!J47),CSVデータ4!J47,0)","v":0},null,{"$f":"IF(ISNUMBER(CSVデータ1!L47),CSVデータ1!L47,0)+IF(ISNUMBER(CSVデータ2!L47),CSVデータ2!L47,0)+IF(ISNUMBER(CSVデータ3!L47),CSVデータ3!L47,0)+IF(ISNUMBER(CSVデータ4!L47),CSVデータ4!L47,0)","v":0},null,{"$f":"IF(ISNUMBER(CSVデータ1!N47),CSVデータ1!N47,0)+IF(ISNUMBER(CSVデータ2!N47),CSVデータ2!N47,0)+IF(ISNUMBER(CSVデータ3!N47),CSVデータ3!N47,0)+IF(ISNUMBER(CSVデータ4!N47),CSVデータ4!N47,0)","v":0},null,{"$f":"IF(ISNUMBER(CSVデータ1!P47),CSVデータ1!P47,0)+IF(ISNUMBER(CSVデータ2!P47),CSVデータ2!P47,0)+IF(ISNUMBER(CSVデータ3!P47),CSVデータ3!P47,0)+IF(ISNUMBER(CSVデータ4!P47),CSVデータ4!P47,0)","v":0},null,{"$f":"IF(ISNUMBER(CSVデータ1!R47),CSVデータ1!R47,0)+IF(ISNUMBER(CSVデータ2!R47),CSVデータ2!R47,0)+IF(ISNUMBER(CSVデータ3!R47),CSVデータ3!R47,0)+IF(ISNUMBER(CSVデータ4!R47),CSVデータ4!R47,0)","v":0},null,{"$f":"IF(ISNUMBER(CSVデータ1!T47),CSVデータ1!T47,0)+IF(ISNUMBER(CSVデータ2!T47),CSVデータ2!T47,0)+IF(ISNUMBER(CSVデータ3!T47),CSVデータ3!T47,0)+IF(ISNUMBER(CSVデータ4!T47),CSVデータ4!T47,0)","v":0},null,{"$f":"IF(ISNUMBER(CSVデータ1!V47),CSVデータ1!V47,0)+IF(ISNUMBER(CSVデータ2!V47),CSVデータ2!V47,0)+IF(ISNUMBER(CSVデータ3!V47),CSVデータ3!V47,0)+IF(ISNUMBER(CSVデータ4!V47),CSVデータ4!V47,0)","v":0},null,{"$f":"IF(ISNUMBER(CSVデータ1!X47),CSVデータ1!X47,0)+IF(ISNUMBER(CSVデータ2!X47),CSVデータ2!X47,0)+IF(ISNUMBER(CSVデータ3!X47),CSVデータ3!X47,0)+IF(ISNUMBER(CSVデータ4!X47),CSVデータ4!X47,0)","v":0},null,{"$f":"IF(ISNUMBER(CSVデータ1!Z47),CSVデータ1!Z47,0)+IF(ISNUMBER(CSVデータ2!Z47),CSVデータ2!Z47,0)+IF(ISNUMBER(CSVデータ3!Z47),CSVデータ3!Z47,0)+IF(ISNUMBER(CSVデータ4!Z47),CSVデータ4!Z47,0)","v":0},null,{"$f":"IF(ISNUMBER(CSVデータ1!AB47),CSVデータ1!AB47,0)+IF(ISNUMBER(CSVデータ2!AB47),CSVデータ2!AB47,0)+IF(ISNUMBER(CSVデータ3!AB47),CSVデータ3!AB47,0)+IF(ISNUMBER(CSVデータ4!AB47),CSVデータ4!AB47,0)","v":0},null,{"$f":"IF(ISNUMBER(CSVデータ1!AD47),CSVデータ1!AD47,0)+IF(ISNUMBER(CSVデータ2!AD47),CSVデータ2!AD47,0)+IF(ISNUMBER(CSVデータ3!AD47),CSVデータ3!AD47,0)+IF(ISNUMBER(CSVデータ4!AD47),CSVデータ4!AD47,0)","v":0},null,{"$f":"IF(ISNUMBER(CSVデータ1!AF47),CSVデータ1!AF47,0)+IF(ISNUMBER(CSVデータ2!AF47),CSVデータ2!AF47,0)+IF(ISNUMBER(CSVデータ3!AF47),CSVデータ3!AF47,0)+IF(ISNUMBER(CSVデータ4!AF47),CSVデータ4!AF47,0)","v":0},null,{"$f":"IF(ISNUMBER(CSVデータ1!AH47),CSVデータ1!AH47,0)+IF(ISNUMBER(CSVデータ2!AH47),CSVデータ2!AH47,0)+IF(ISNUMBER(CSVデータ3!AH47),CSVデータ3!AH47,0)+IF(ISNUMBER(CSVデータ4!AH47),CSVデータ4!AH47,0)","v":0},null,{"$f":"IF(ISNUMBER(CSVデータ1!AJ47),CSVデータ1!AJ47,0)+IF(ISNUMBER(CSVデータ2!AJ47),CSVデータ2!AJ47,0)+IF(ISNUMBER(CSVデータ3!AJ47),CSVデータ3!AJ47,0)+IF(ISNUMBER(CSVデータ4!AJ47),CSVデータ4!AJ47,0)","v":0},null,{"$f":"IF(ISNUMBER(CSVデータ1!AL47),CSVデータ1!AL47,0)+IF(ISNUMBER(CSVデータ2!AL47),CSVデータ2!AL47,0)+IF(ISNUMBER(CSVデータ3!AL47),CSVデータ3!AL47,0)+IF(ISNUMBER(CSVデータ4!AL47),CSVデータ4!AL47,0)","v":0},null,{"$f":"IF(ISNUMBER(CSVデータ1!AN47),CSVデータ1!AN47,0)+IF(ISNUMBER(CSVデータ2!AN47),CSVデータ2!AN47,0)+IF(ISNUMBER(CSVデータ3!AN47),CSVデータ3!AN47,0)+IF(ISNUMBER(CSVデータ4!AN47),CSVデータ4!AN47,0)","v":0}]
[{"$f":"CSVデータ1!A48","v":"明細部"},{"$f":"CSVデータ1!B48","v":"国"},{"$f":"CSVデータ1!C48","v":49},{"$f":"CSVデータ1!D48","v":"女"},{"$f":"IF(ISNUMBER(CSVデータ1!E48),CSVデータ1!E48,0)+IF(ISNUMBER(CSVデータ2!E48),CSVデータ2!E48,0)+IF(ISNUMBER(CSVデータ3!E48),CSVデータ3!E48,0)+IF(ISNUMBER(CSVデータ4!E48),CSVデータ4!E48,0)","v":0},{"$f":"IF(ISNUMBER(CSVデータ1!F48),CSVデータ1!F48,0)+IF(ISNUMBER(CSVデータ2!F48),CSVデータ2!F48,0)+IF(ISNUMBER(CSVデータ3!F48),CSVデータ3!F48,0)+IF(ISNUMBER(CSVデータ4!F48),CSVデータ4!F48,0)","v":0},null,{"$f":"IF(ISNUMBER(CSVデータ1!H48),CSVデータ1!H48,0)+IF(ISNUMBER(CSVデータ2!H48),CSVデータ2!H48,0)+IF(ISNUMBER(CSVデータ3!H48),CSVデータ3!H48,0)+IF(ISNUMBER(CSVデータ4!H48),CSVデータ4!H48,0)","v":0},null,{"$f":"IF(ISNUMBER(CSVデータ1!J48),CSVデータ1!J48,0)+IF(ISNUMBER(CSVデータ2!J48),CSVデータ2!J48,0)+IF(ISNUMBER(CSVデータ3!J48),CSVデータ3!J48,0)+IF(ISNUMBER(CSVデータ4!J48),CSVデータ4!J48,0)","v":0},null,{"$f":"IF(ISNUMBER(CSVデータ1!L48),CSVデータ1!L48,0)+IF(ISNUMBER(CSVデータ2!L48),CSVデータ2!L48,0)+IF(ISNUMBER(CSVデータ3!L48),CSVデータ3!L48,0)+IF(ISNUMBER(CSVデータ4!L48),CSVデータ4!L48,0)","v":0},null,{"$f":"IF(ISNUMBER(CSVデータ1!N48),CSVデータ1!N48,0)+IF(ISNUMBER(CSVデータ2!N48),CSVデータ2!N48,0)+IF(ISNUMBER(CSVデータ3!N48),CSVデータ3!N48,0)+IF(ISNUMBER(CSVデータ4!N48),CSVデータ4!N48,0)","v":0},null,{"$f":"IF(ISNUMBER(CSVデータ1!P48),CSVデータ1!P48,0)+IF(ISNUMBER(CSVデータ2!P48),CSVデータ2!P48,0)+IF(ISNUMBER(CSVデータ3!P48),CSVデータ3!P48,0)+IF(ISNUMBER(CSVデータ4!P48),CSVデータ4!P48,0)","v":0},null,{"$f":"IF(ISNUMBER(CSVデータ1!R48),CSVデータ1!R48,0)+IF(ISNUMBER(CSVデータ2!R48),CSVデータ2!R48,0)+IF(ISNUMBER(CSVデータ3!R48),CSVデータ3!R48,0)+IF(ISNUMBER(CSVデータ4!R48),CSVデータ4!R48,0)","v":0},null,{"$f":"IF(ISNUMBER(CSVデータ1!T48),CSVデータ1!T48,0)+IF(ISNUMBER(CSVデータ2!T48),CSVデータ2!T48,0)+IF(ISNUMBER(CSVデータ3!T48),CSVデータ3!T48,0)+IF(ISNUMBER(CSVデータ4!T48),CSVデータ4!T48,0)","v":0},null,{"$f":"IF(ISNUMBER(CSVデータ1!V48),CSVデータ1!V48,0)+IF(ISNUMBER(CSVデータ2!V48),CSVデータ2!V48,0)+IF(ISNUMBER(CSVデータ3!V48),CSVデータ3!V48,0)+IF(ISNUMBER(CSVデータ4!V48),CSVデータ4!V48,0)","v":0},null,{"$f":"IF(ISNUMBER(CSVデータ1!X48),CSVデータ1!X48,0)+IF(ISNUMBER(CSVデータ2!X48),CSVデータ2!X48,0)+IF(ISNUMBER(CSVデータ3!X48),CSVデータ3!X48,0)+IF(ISNUMBER(CSVデータ4!X48),CSVデータ4!X48,0)","v":0},null,{"$f":"IF(ISNUMBER(CSVデータ1!Z48),CSVデータ1!Z48,0)+IF(ISNUMBER(CSVデータ2!Z48),CSVデータ2!Z48,0)+IF(ISNUMBER(CSVデータ3!Z48),CSVデータ3!Z48,0)+IF(ISNUMBER(CSVデータ4!Z48),CSVデータ4!Z48,0)","v":0},null,{"$f":"IF(ISNUMBER(CSVデータ1!AB48),CSVデータ1!AB48,0)+IF(ISNUMBER(CSVデータ2!AB48),CSVデータ2!AB48,0)+IF(ISNUMBER(CSVデータ3!AB48),CSVデータ3!AB48,0)+IF(ISNUMBER(CSVデータ4!AB48),CSVデータ4!AB48,0)","v":0},null,{"$f":"IF(ISNUMBER(CSVデータ1!AD48),CSVデータ1!AD48,0)+IF(ISNUMBER(CSVデータ2!AD48),CSVデータ2!AD48,0)+IF(ISNUMBER(CSVデータ3!AD48),CSVデータ3!AD48,0)+IF(ISNUMBER(CSVデータ4!AD48),CSVデータ4!AD48,0)","v":0},null,{"$f":"IF(ISNUMBER(CSVデータ1!AF48),CSVデータ1!AF48,0)+IF(ISNUMBER(CSVデータ2!AF48),CSVデータ2!AF48,0)+IF(ISNUMBER(CSVデータ3!AF48),CSVデータ3!AF48,0)+IF(ISNUMBER(CSVデータ4!AF48),CSVデータ4!AF48,0)","v":0},null,{"$f":"IF(ISNUMBER(CSVデータ1!AH48),CSVデータ1!AH48,0)+IF(ISNUMBER(CSVデータ2!AH48),CSVデータ2!AH48,0)+IF(ISNUMBER(CSVデータ3!AH48),CSVデータ3!AH48,0)+IF(ISNUMBER(CSVデータ4!AH48),CSVデータ4!AH48,0)","v":0},null,{"$f":"IF(ISNUMBER(CSVデータ1!AJ48),CSVデータ1!AJ48,0)+IF(ISNUMBER(CSVデータ2!AJ48),CSVデータ2!AJ48,0)+IF(ISNUMBER(CSVデータ3!AJ48),CSVデータ3!AJ48,0)+IF(ISNUMBER(CSVデータ4!AJ48),CSVデータ4!AJ48,0)","v":0},null,{"$f":"IF(ISNUMBER(CSVデータ1!AL48),CSVデータ1!AL48,0)+IF(ISNUMBER(CSVデータ2!AL48),CSVデータ2!AL48,0)+IF(ISNUMBER(CSVデータ3!AL48),CSVデータ3!AL48,0)+IF(ISNUMBER(CSVデータ4!AL48),CSVデータ4!AL48,0)","v":0},null,{"$f":"IF(ISNUMBER(CSVデータ1!AN48),CSVデータ1!AN48,0)+IF(ISNUMBER(CSVデータ2!AN48),CSVデータ2!AN48,0)+IF(ISNUMBER(CSVデータ3!AN48),CSVデータ3!AN48,0)+IF(ISNUMBER(CSVデータ4!AN48),CSVデータ4!AN48,0)","v":0}]
[{"$f":"CSVデータ1!A49","v":"明細部"},{"$f":"CSVデータ1!B49","v":"国"},{"$f":"CSVデータ1!C49","v":50},{"$f":"CSVデータ1!D49","v":"女"},{"$f":"IF(ISNUMBER(CSVデータ1!E49),CSVデータ1!E49,0)+IF(ISNUMBER(CSVデータ2!E49),CSVデータ2!E49,0)+IF(ISNUMBER(CSVデータ3!E49),CSVデータ3!E49,0)+IF(ISNUMBER(CSVデータ4!E49),CSVデータ4!E49,0)","v":0},{"$f":"IF(ISNUMBER(CSVデータ1!F49),CSVデータ1!F49,0)+IF(ISNUMBER(CSVデータ2!F49),CSVデータ2!F49,0)+IF(ISNUMBER(CSVデータ3!F49),CSVデータ3!F49,0)+IF(ISNUMBER(CSVデータ4!F49),CSVデータ4!F49,0)","v":0},null,{"$f":"IF(ISNUMBER(CSVデータ1!H49),CSVデータ1!H49,0)+IF(ISNUMBER(CSVデータ2!H49),CSVデータ2!H49,0)+IF(ISNUMBER(CSVデータ3!H49),CSVデータ3!H49,0)+IF(ISNUMBER(CSVデータ4!H49),CSVデータ4!H49,0)","v":0},null,{"$f":"IF(ISNUMBER(CSVデータ1!J49),CSVデータ1!J49,0)+IF(ISNUMBER(CSVデータ2!J49),CSVデータ2!J49,0)+IF(ISNUMBER(CSVデータ3!J49),CSVデータ3!J49,0)+IF(ISNUMBER(CSVデータ4!J49),CSVデータ4!J49,0)","v":0},null,{"$f":"IF(ISNUMBER(CSVデータ1!L49),CSVデータ1!L49,0)+IF(ISNUMBER(CSVデータ2!L49),CSVデータ2!L49,0)+IF(ISNUMBER(CSVデータ3!L49),CSVデータ3!L49,0)+IF(ISNUMBER(CSVデータ4!L49),CSVデータ4!L49,0)","v":0},null,{"$f":"IF(ISNUMBER(CSVデータ1!N49),CSVデータ1!N49,0)+IF(ISNUMBER(CSVデータ2!N49),CSVデータ2!N49,0)+IF(ISNUMBER(CSVデータ3!N49),CSVデータ3!N49,0)+IF(ISNUMBER(CSVデータ4!N49),CSVデータ4!N49,0)","v":0},null,{"$f":"IF(ISNUMBER(CSVデータ1!P49),CSVデータ1!P49,0)+IF(ISNUMBER(CSVデータ2!P49),CSVデータ2!P49,0)+IF(ISNUMBER(CSVデータ3!P49),CSVデータ3!P49,0)+IF(ISNUMBER(CSVデータ4!P49),CSVデータ4!P49,0)","v":0},null,{"$f":"IF(ISNUMBER(CSVデータ1!R49),CSVデータ1!R49,0)+IF(ISNUMBER(CSVデータ2!R49),CSVデータ2!R49,0)+IF(ISNUMBER(CSVデータ3!R49),CSVデータ3!R49,0)+IF(ISNUMBER(CSVデータ4!R49),CSVデータ4!R49,0)","v":0},null,{"$f":"IF(ISNUMBER(CSVデータ1!T49),CSVデータ1!T49,0)+IF(ISNUMBER(CSVデータ2!T49),CSVデータ2!T49,0)+IF(ISNUMBER(CSVデータ3!T49),CSVデータ3!T49,0)+IF(ISNUMBER(CSVデータ4!T49),CSVデータ4!T49,0)","v":0},null,{"$f":"IF(ISNUMBER(CSVデータ1!V49),CSVデータ1!V49,0)+IF(ISNUMBER(CSVデータ2!V49),CSVデータ2!V49,0)+IF(ISNUMBER(CSVデータ3!V49),CSVデータ3!V49,0)+IF(ISNUMBER(CSVデータ4!V49),CSVデータ4!V49,0)","v":0},null,{"$f":"IF(ISNUMBER(CSVデータ1!X49),CSVデータ1!X49,0)+IF(ISNUMBER(CSVデータ2!X49),CSVデータ2!X49,0)+IF(ISNUMBER(CSVデータ3!X49),CSVデータ3!X49,0)+IF(ISNUMBER(CSVデータ4!X49),CSVデータ4!X49,0)","v":0},null,{"$f":"IF(ISNUMBER(CSVデータ1!Z49),CSVデータ1!Z49,0)+IF(ISNUMBER(CSVデータ2!Z49),CSVデータ2!Z49,0)+IF(ISNUMBER(CSVデータ3!Z49),CSVデータ3!Z49,0)+IF(ISNUMBER(CSVデータ4!Z49),CSVデータ4!Z49,0)","v":0},null,{"$f":"IF(ISNUMBER(CSVデータ1!AB49),CSVデータ1!AB49,0)+IF(ISNUMBER(CSVデータ2!AB49),CSVデータ2!AB49,0)+IF(ISNUMBER(CSVデータ3!AB49),CSVデータ3!AB49,0)+IF(ISNUMBER(CSVデータ4!AB49),CSVデータ4!AB49,0)","v":0},null,{"$f":"IF(ISNUMBER(CSVデータ1!AD49),CSVデータ1!AD49,0)+IF(ISNUMBER(CSVデータ2!AD49),CSVデータ2!AD49,0)+IF(ISNUMBER(CSVデータ3!AD49),CSVデータ3!AD49,0)+IF(ISNUMBER(CSVデータ4!AD49),CSVデータ4!AD49,0)","v":0},null,{"$f":"IF(ISNUMBER(CSVデータ1!AF49),CSVデータ1!AF49,0)+IF(ISNUMBER(CSVデータ2!AF49),CSVデータ2!AF49,0)+IF(ISNUMBER(CSVデータ3!AF49),CSVデータ3!AF49,0)+IF(ISNUMBER(CSVデータ4!AF49),CSVデータ4!AF49,0)","v":0},null,{"$f":"IF(ISNUMBER(CSVデータ1!AH49),CSVデータ1!AH49,0)+IF(ISNUMBER(CSVデータ2!AH49),CSVデータ2!AH49,0)+IF(ISNUMBER(CSVデータ3!AH49),CSVデータ3!AH49,0)+IF(ISNUMBER(CSVデータ4!AH49),CSVデータ4!AH49,0)","v":0},null,{"$f":"IF(ISNUMBER(CSVデータ1!AJ49),CSVデータ1!AJ49,0)+IF(ISNUMBER(CSVデータ2!AJ49),CSVデータ2!AJ49,0)+IF(ISNUMBER(CSVデータ3!AJ49),CSVデータ3!AJ49,0)+IF(ISNUMBER(CSVデータ4!AJ49),CSVデータ4!AJ49,0)","v":0},null,{"$f":"IF(ISNUMBER(CSVデータ1!AL49),CSVデータ1!AL49,0)+IF(ISNUMBER(CSVデータ2!AL49),CSVデータ2!AL49,0)+IF(ISNUMBER(CSVデータ3!AL49),CSVデータ3!AL49,0)+IF(ISNUMBER(CSVデータ4!AL49),CSVデータ4!AL49,0)","v":0},null,{"$f":"IF(ISNUMBER(CSVデータ1!AN49),CSVデータ1!AN49,0)+IF(ISNUMBER(CSVデータ2!AN49),CSVデータ2!AN49,0)+IF(ISNUMBER(CSVデータ3!AN49),CSVデータ3!AN49,0)+IF(ISNUMBER(CSVデータ4!AN49),CSVデータ4!AN49,0)","v":0}]
[{"$f":"CSVデータ1!A50","v":"明細部"},{"$f":"CSVデータ1!B50","v":"国"},{"$f":"CSVデータ1!C50","v":51},{"$f":"CSVデータ1!D50","v":"女"},{"$f":"IF(ISNUMBER(CSVデータ1!E50),CSVデータ1!E50,0)+IF(ISNUMBER(CSVデータ2!E50),CSVデータ2!E50,0)+IF(ISNUMBER(CSVデータ3!E50),CSVデータ3!E50,0)+IF(ISNUMBER(CSVデータ4!E50),CSVデータ4!E50,0)","v":0},{"$f":"IF(ISNUMBER(CSVデータ1!F50),CSVデータ1!F50,0)+IF(ISNUMBER(CSVデータ2!F50),CSVデータ2!F50,0)+IF(ISNUMBER(CSVデータ3!F50),CSVデータ3!F50,0)+IF(ISNUMBER(CSVデータ4!F50),CSVデータ4!F50,0)","v":0},null,{"$f":"IF(ISNUMBER(CSVデータ1!H50),CSVデータ1!H50,0)+IF(ISNUMBER(CSVデータ2!H50),CSVデータ2!H50,0)+IF(ISNUMBER(CSVデータ3!H50),CSVデータ3!H50,0)+IF(ISNUMBER(CSVデータ4!H50),CSVデータ4!H50,0)","v":0},null,{"$f":"IF(ISNUMBER(CSVデータ1!J50),CSVデータ1!J50,0)+IF(ISNUMBER(CSVデータ2!J50),CSVデータ2!J50,0)+IF(ISNUMBER(CSVデータ3!J50),CSVデータ3!J50,0)+IF(ISNUMBER(CSVデータ4!J50),CSVデータ4!J50,0)","v":0},null,{"$f":"IF(ISNUMBER(CSVデータ1!L50),CSVデータ1!L50,0)+IF(ISNUMBER(CSVデータ2!L50),CSVデータ2!L50,0)+IF(ISNUMBER(CSVデータ3!L50),CSVデータ3!L50,0)+IF(ISNUMBER(CSVデータ4!L50),CSVデータ4!L50,0)","v":0},null,{"$f":"IF(ISNUMBER(CSVデータ1!N50),CSVデータ1!N50,0)+IF(ISNUMBER(CSVデータ2!N50),CSVデータ2!N50,0)+IF(ISNUMBER(CSVデータ3!N50),CSVデータ3!N50,0)+IF(ISNUMBER(CSVデータ4!N50),CSVデータ4!N50,0)","v":0},null,{"$f":"IF(ISNUMBER(CSVデータ1!P50),CSVデータ1!P50,0)+IF(ISNUMBER(CSVデータ2!P50),CSVデータ2!P50,0)+IF(ISNUMBER(CSVデータ3!P50),CSVデータ3!P50,0)+IF(ISNUMBER(CSVデータ4!P50),CSVデータ4!P50,0)","v":0},null,{"$f":"IF(ISNUMBER(CSVデータ1!R50),CSVデータ1!R50,0)+IF(ISNUMBER(CSVデータ2!R50),CSVデータ2!R50,0)+IF(ISNUMBER(CSVデータ3!R50),CSVデータ3!R50,0)+IF(ISNUMBER(CSVデータ4!R50),CSVデータ4!R50,0)","v":0},null,{"$f":"IF(ISNUMBER(CSVデータ1!T50),CSVデータ1!T50,0)+IF(ISNUMBER(CSVデータ2!T50),CSVデータ2!T50,0)+IF(ISNUMBER(CSVデータ3!T50),CSVデータ3!T50,0)+IF(ISNUMBER(CSVデータ4!T50),CSVデータ4!T50,0)","v":0},null,{"$f":"IF(ISNUMBER(CSVデータ1!V50),CSVデータ1!V50,0)+IF(ISNUMBER(CSVデータ2!V50),CSVデータ2!V50,0)+IF(ISNUMBER(CSVデータ3!V50),CSVデータ3!V50,0)+IF(ISNUMBER(CSVデータ4!V50),CSVデータ4!V50,0)","v":0},null,{"$f":"IF(ISNUMBER(CSVデータ1!X50),CSVデータ1!X50,0)+IF(ISNUMBER(CSVデータ2!X50),CSVデータ2!X50,0)+IF(ISNUMBER(CSVデータ3!X50),CSVデータ3!X50,0)+IF(ISNUMBER(CSVデータ4!X50),CSVデータ4!X50,0)","v":0},null,{"$f":"IF(ISNUMBER(CSVデータ1!Z50),CSVデータ1!Z50,0)+IF(ISNUMBER(CSVデータ2!Z50),CSVデータ2!Z50,0)+IF(ISNUMBER(CSVデータ3!Z50),CSVデータ3!Z50,0)+IF(ISNUMBER(CSVデータ4!Z50),CSVデータ4!Z50,0)","v":0},null,{"$f":"IF(ISNUMBER(CSVデータ1!AB50),CSVデータ1!AB50,0)+IF(ISNUMBER(CSVデータ2!AB50),CSVデータ2!AB50,0)+IF(ISNUMBER(CSVデータ3!AB50),CSVデータ3!AB50,0)+IF(ISNUMBER(CSVデータ4!AB50),CSVデータ4!AB50,0)","v":0},null,{"$f":"IF(ISNUMBER(CSVデータ1!AD50),CSVデータ1!AD50,0)+IF(ISNUMBER(CSVデータ2!AD50),CSVデータ2!AD50,0)+IF(ISNUMBER(CSVデータ3!AD50),CSVデータ3!AD50,0)+IF(ISNUMBER(CSVデータ4!AD50),CSVデータ4!AD50,0)","v":0},null,{"$f":"IF(ISNUMBER(CSVデータ1!AF50),CSVデータ1!AF50,0)+IF(ISNUMBER(CSVデータ2!AF50),CSVデータ2!AF50,0)+IF(ISNUMBER(CSVデータ3!AF50),CSVデータ3!AF50,0)+IF(ISNUMBER(CSVデータ4!AF50),CSVデータ4!AF50,0)","v":0},null,{"$f":"IF(ISNUMBER(CSVデータ1!AH50),CSVデータ1!AH50,0)+IF(ISNUMBER(CSVデータ2!AH50),CSVデータ2!AH50,0)+IF(ISNUMBER(CSVデータ3!AH50),CSVデータ3!AH50,0)+IF(ISNUMBER(CSVデータ4!AH50),CSVデータ4!AH50,0)","v":0},null,{"$f":"IF(ISNUMBER(CSVデータ1!AJ50),CSVデータ1!AJ50,0)+IF(ISNUMBER(CSVデータ2!AJ50),CSVデータ2!AJ50,0)+IF(ISNUMBER(CSVデータ3!AJ50),CSVデータ3!AJ50,0)+IF(ISNUMBER(CSVデータ4!AJ50),CSVデータ4!AJ50,0)","v":0},null,{"$f":"IF(ISNUMBER(CSVデータ1!AL50),CSVデータ1!AL50,0)+IF(ISNUMBER(CSVデータ2!AL50),CSVデータ2!AL50,0)+IF(ISNUMBER(CSVデータ3!AL50),CSVデータ3!AL50,0)+IF(ISNUMBER(CSVデータ4!AL50),CSVデータ4!AL50,0)","v":0},null,{"$f":"IF(ISNUMBER(CSVデータ1!AN50),CSVデータ1!AN50,0)+IF(ISNUMBER(CSVデータ2!AN50),CSVデータ2!AN50,0)+IF(ISNUMBER(CSVデータ3!AN50),CSVデータ3!AN50,0)+IF(ISNUMBER(CSVデータ4!AN50),CSVデータ4!AN50,0)","v":0}]
[{"$f":"CSVデータ1!A51","v":"明細部"},{"$f":"CSVデータ1!B51","v":"国"},{"$f":"CSVデータ1!C51","v":52},{"$f":"CSVデータ1!D51","v":"女"},{"$f":"IF(ISNUMBER(CSVデータ1!E51),CSVデータ1!E51,0)+IF(ISNUMBER(CSVデータ2!E51),CSVデータ2!E51,0)+IF(ISNUMBER(CSVデータ3!E51),CSVデータ3!E51,0)+IF(ISNUMBER(CSVデータ4!E51),CSVデータ4!E51,0)","v":0},{"$f":"IF(ISNUMBER(CSVデータ1!F51),CSVデータ1!F51,0)+IF(ISNUMBER(CSVデータ2!F51),CSVデータ2!F51,0)+IF(ISNUMBER(CSVデータ3!F51),CSVデータ3!F51,0)+IF(ISNUMBER(CSVデータ4!F51),CSVデータ4!F51,0)","v":0},null,{"$f":"IF(ISNUMBER(CSVデータ1!H51),CSVデータ1!H51,0)+IF(ISNUMBER(CSVデータ2!H51),CSVデータ2!H51,0)+IF(ISNUMBER(CSVデータ3!H51),CSVデータ3!H51,0)+IF(ISNUMBER(CSVデータ4!H51),CSVデータ4!H51,0)","v":0},null,{"$f":"IF(ISNUMBER(CSVデータ1!J51),CSVデータ1!J51,0)+IF(ISNUMBER(CSVデータ2!J51),CSVデータ2!J51,0)+IF(ISNUMBER(CSVデータ3!J51),CSVデータ3!J51,0)+IF(ISNUMBER(CSVデータ4!J51),CSVデータ4!J51,0)","v":0},null,{"$f":"IF(ISNUMBER(CSVデータ1!L51),CSVデータ1!L51,0)+IF(ISNUMBER(CSVデータ2!L51),CSVデータ2!L51,0)+IF(ISNUMBER(CSVデータ3!L51),CSVデータ3!L51,0)+IF(ISNUMBER(CSVデータ4!L51),CSVデータ4!L51,0)","v":0},null,{"$f":"IF(ISNUMBER(CSVデータ1!N51),CSVデータ1!N51,0)+IF(ISNUMBER(CSVデータ2!N51),CSVデータ2!N51,0)+IF(ISNUMBER(CSVデータ3!N51),CSVデータ3!N51,0)+IF(ISNUMBER(CSVデータ4!N51),CSVデータ4!N51,0)","v":0},null,{"$f":"IF(ISNUMBER(CSVデータ1!P51),CSVデータ1!P51,0)+IF(ISNUMBER(CSVデータ2!P51),CSVデータ2!P51,0)+IF(ISNUMBER(CSVデータ3!P51),CSVデータ3!P51,0)+IF(ISNUMBER(CSVデータ4!P51),CSVデータ4!P51,0)","v":0},null,{"$f":"IF(ISNUMBER(CSVデータ1!R51),CSVデータ1!R51,0)+IF(ISNUMBER(CSVデータ2!R51),CSVデータ2!R51,0)+IF(ISNUMBER(CSVデータ3!R51),CSVデータ3!R51,0)+IF(ISNUMBER(CSVデータ4!R51),CSVデータ4!R51,0)","v":0},null,{"$f":"IF(ISNUMBER(CSVデータ1!T51),CSVデータ1!T51,0)+IF(ISNUMBER(CSVデータ2!T51),CSVデータ2!T51,0)+IF(ISNUMBER(CSVデータ3!T51),CSVデータ3!T51,0)+IF(ISNUMBER(CSVデータ4!T51),CSVデータ4!T51,0)","v":0},null,{"$f":"IF(ISNUMBER(CSVデータ1!V51),CSVデータ1!V51,0)+IF(ISNUMBER(CSVデータ2!V51),CSVデータ2!V51,0)+IF(ISNUMBER(CSVデータ3!V51),CSVデータ3!V51,0)+IF(ISNUMBER(CSVデータ4!V51),CSVデータ4!V51,0)","v":0},null,{"$f":"IF(ISNUMBER(CSVデータ1!X51),CSVデータ1!X51,0)+IF(ISNUMBER(CSVデータ2!X51),CSVデータ2!X51,0)+IF(ISNUMBER(CSVデータ3!X51),CSVデータ3!X51,0)+IF(ISNUMBER(CSVデータ4!X51),CSVデータ4!X51,0)","v":0},null,{"$f":"IF(ISNUMBER(CSVデータ1!Z51),CSVデータ1!Z51,0)+IF(ISNUMBER(CSVデータ2!Z51),CSVデータ2!Z51,0)+IF(ISNUMBER(CSVデータ3!Z51),CSVデータ3!Z51,0)+IF(ISNUMBER(CSVデータ4!Z51),CSVデータ4!Z51,0)","v":0},null,{"$f":"IF(ISNUMBER(CSVデータ1!AB51),CSVデータ1!AB51,0)+IF(ISNUMBER(CSVデータ2!AB51),CSVデータ2!AB51,0)+IF(ISNUMBER(CSVデータ3!AB51),CSVデータ3!AB51,0)+IF(ISNUMBER(CSVデータ4!AB51),CSVデータ4!AB51,0)","v":0},null,{"$f":"IF(ISNUMBER(CSVデータ1!AD51),CSVデータ1!AD51,0)+IF(ISNUMBER(CSVデータ2!AD51),CSVデータ2!AD51,0)+IF(ISNUMBER(CSVデータ3!AD51),CSVデータ3!AD51,0)+IF(ISNUMBER(CSVデータ4!AD51),CSVデータ4!AD51,0)","v":0},null,{"$f":"IF(ISNUMBER(CSVデータ1!AF51),CSVデータ1!AF51,0)+IF(ISNUMBER(CSVデータ2!AF51),CSVデータ2!AF51,0)+IF(ISNUMBER(CSVデータ3!AF51),CSVデータ3!AF51,0)+IF(ISNUMBER(CSVデータ4!AF51),CSVデータ4!AF51,0)","v":0},null,{"$f":"IF(ISNUMBER(CSVデータ1!AH51),CSVデータ1!AH51,0)+IF(ISNUMBER(CSVデータ2!AH51),CSVデータ2!AH51,0)+IF(ISNUMBER(CSVデータ3!AH51),CSVデータ3!AH51,0)+IF(ISNUMBER(CSVデータ4!AH51),CSVデータ4!AH51,0)","v":0},null,{"$f":"IF(ISNUMBER(CSVデータ1!AJ51),CSVデータ1!AJ51,0)+IF(ISNUMBER(CSVデータ2!AJ51),CSVデータ2!AJ51,0)+IF(ISNUMBER(CSVデータ3!AJ51),CSVデータ3!AJ51,0)+IF(ISNUMBER(CSVデータ4!AJ51),CSVデータ4!AJ51,0)","v":0},null,{"$f":"IF(ISNUMBER(CSVデータ1!AL51),CSVデータ1!AL51,0)+IF(ISNUMBER(CSVデータ2!AL51),CSVデータ2!AL51,0)+IF(ISNUMBER(CSVデータ3!AL51),CSVデータ3!AL51,0)+IF(ISNUMBER(CSVデータ4!AL51),CSVデータ4!AL51,0)","v":0},null,{"$f":"IF(ISNUMBER(CSVデータ1!AN51),CSVデータ1!AN51,0)+IF(ISNUMBER(CSVデータ2!AN51),CSVデータ2!AN51,0)+IF(ISNUMBER(CSVデータ3!AN51),CSVデータ3!AN51,0)+IF(ISNUMBER(CSVデータ4!AN51),CSVデータ4!AN51,0)","v":0}]
[{"$f":"CSVデータ1!A52","v":"明細部"},{"$f":"CSVデータ1!B52","v":"国"},{"$f":"CSVデータ1!C52","v":53},{"$f":"CSVデータ1!D52","v":"女"},{"$f":"IF(ISNUMBER(CSVデータ1!E52),CSVデータ1!E52,0)+IF(ISNUMBER(CSVデータ2!E52),CSVデータ2!E52,0)+IF(ISNUMBER(CSVデータ3!E52),CSVデータ3!E52,0)+IF(ISNUMBER(CSVデータ4!E52),CSVデータ4!E52,0)","v":0},{"$f":"IF(ISNUMBER(CSVデータ1!F52),CSVデータ1!F52,0)+IF(ISNUMBER(CSVデータ2!F52),CSVデータ2!F52,0)+IF(ISNUMBER(CSVデータ3!F52),CSVデータ3!F52,0)+IF(ISNUMBER(CSVデータ4!F52),CSVデータ4!F52,0)","v":0},null,{"$f":"IF(ISNUMBER(CSVデータ1!H52),CSVデータ1!H52,0)+IF(ISNUMBER(CSVデータ2!H52),CSVデータ2!H52,0)+IF(ISNUMBER(CSVデータ3!H52),CSVデータ3!H52,0)+IF(ISNUMBER(CSVデータ4!H52),CSVデータ4!H52,0)","v":0},null,{"$f":"IF(ISNUMBER(CSVデータ1!J52),CSVデータ1!J52,0)+IF(ISNUMBER(CSVデータ2!J52),CSVデータ2!J52,0)+IF(ISNUMBER(CSVデータ3!J52),CSVデータ3!J52,0)+IF(ISNUMBER(CSVデータ4!J52),CSVデータ4!J52,0)","v":0},null,{"$f":"IF(ISNUMBER(CSVデータ1!L52),CSVデータ1!L52,0)+IF(ISNUMBER(CSVデータ2!L52),CSVデータ2!L52,0)+IF(ISNUMBER(CSVデータ3!L52),CSVデータ3!L52,0)+IF(ISNUMBER(CSVデータ4!L52),CSVデータ4!L52,0)","v":0},null,{"$f":"IF(ISNUMBER(CSVデータ1!N52),CSVデータ1!N52,0)+IF(ISNUMBER(CSVデータ2!N52),CSVデータ2!N52,0)+IF(ISNUMBER(CSVデータ3!N52),CSVデータ3!N52,0)+IF(ISNUMBER(CSVデータ4!N52),CSVデータ4!N52,0)","v":0},null,{"$f":"IF(ISNUMBER(CSVデータ1!P52),CSVデータ1!P52,0)+IF(ISNUMBER(CSVデータ2!P52),CSVデータ2!P52,0)+IF(ISNUMBER(CSVデータ3!P52),CSVデータ3!P52,0)+IF(ISNUMBER(CSVデータ4!P52),CSVデータ4!P52,0)","v":0},null,{"$f":"IF(ISNUMBER(CSVデータ1!R52),CSVデータ1!R52,0)+IF(ISNUMBER(CSVデータ2!R52),CSVデータ2!R52,0)+IF(ISNUMBER(CSVデータ3!R52),CSVデータ3!R52,0)+IF(ISNUMBER(CSVデータ4!R52),CSVデータ4!R52,0)","v":0},null,{"$f":"IF(ISNUMBER(CSVデータ1!T52),CSVデータ1!T52,0)+IF(ISNUMBER(CSVデータ2!T52),CSVデータ2!T52,0)+IF(ISNUMBER(CSVデータ3!T52),CSVデータ3!T52,0)+IF(ISNUMBER(CSVデータ4!T52),CSVデータ4!T52,0)","v":0},null,{"$f":"IF(ISNUMBER(CSVデータ1!V52),CSVデータ1!V52,0)+IF(ISNUMBER(CSVデータ2!V52),CSVデータ2!V52,0)+IF(ISNUMBER(CSVデータ3!V52),CSVデータ3!V52,0)+IF(ISNUMBER(CSVデータ4!V52),CSVデータ4!V52,0)","v":0},null,{"$f":"IF(ISNUMBER(CSVデータ1!X52),CSVデータ1!X52,0)+IF(ISNUMBER(CSVデータ2!X52),CSVデータ2!X52,0)+IF(ISNUMBER(CSVデータ3!X52),CSVデータ3!X52,0)+IF(ISNUMBER(CSVデータ4!X52),CSVデータ4!X52,0)","v":0},null,{"$f":"IF(ISNUMBER(CSVデータ1!Z52),CSVデータ1!Z52,0)+IF(ISNUMBER(CSVデータ2!Z52),CSVデータ2!Z52,0)+IF(ISNUMBER(CSVデータ3!Z52),CSVデータ3!Z52,0)+IF(ISNUMBER(CSVデータ4!Z52),CSVデータ4!Z52,0)","v":0},null,{"$f":"IF(ISNUMBER(CSVデータ1!AB52),CSVデータ1!AB52,0)+IF(ISNUMBER(CSVデータ2!AB52),CSVデータ2!AB52,0)+IF(ISNUMBER(CSVデータ3!AB52),CSVデータ3!AB52,0)+IF(ISNUMBER(CSVデータ4!AB52),CSVデータ4!AB52,0)","v":0},null,{"$f":"IF(ISNUMBER(CSVデータ1!AD52),CSVデータ1!AD52,0)+IF(ISNUMBER(CSVデータ2!AD52),CSVデータ2!AD52,0)+IF(ISNUMBER(CSVデータ3!AD52),CSVデータ3!AD52,0)+IF(ISNUMBER(CSVデータ4!AD52),CSVデータ4!AD52,0)","v":0},null,{"$f":"IF(ISNUMBER(CSVデータ1!AF52),CSVデータ1!AF52,0)+IF(ISNUMBER(CSVデータ2!AF52),CSVデータ2!AF52,0)+IF(ISNUMBER(CSVデータ3!AF52),CSVデータ3!AF52,0)+IF(ISNUMBER(CSVデータ4!AF52),CSVデータ4!AF52,0)","v":0},null,{"$f":"IF(ISNUMBER(CSVデータ1!AH52),CSVデータ1!AH52,0)+IF(ISNUMBER(CSVデータ2!AH52),CSVデータ2!AH52,0)+IF(ISNUMBER(CSVデータ3!AH52),CSVデータ3!AH52,0)+IF(ISNUMBER(CSVデータ4!AH52),CSVデータ4!AH52,0)","v":0},null,{"$f":"IF(ISNUMBER(CSVデータ1!AJ52),CSVデータ1!AJ52,0)+IF(ISNUMBER(CSVデータ2!AJ52),CSVデータ2!AJ52,0)+IF(ISNUMBER(CSVデータ3!AJ52),CSVデータ3!AJ52,0)+IF(ISNUMBER(CSVデータ4!AJ52),CSVデータ4!AJ52,0)","v":0},null,{"$f":"IF(ISNUMBER(CSVデータ1!AL52),CSVデータ1!AL52,0)+IF(ISNUMBER(CSVデータ2!AL52),CSVデータ2!AL52,0)+IF(ISNUMBER(CSVデータ3!AL52),CSVデータ3!AL52,0)+IF(ISNUMBER(CSVデータ4!AL52),CSVデータ4!AL52,0)","v":0},null,{"$f":"IF(ISNUMBER(CSVデータ1!AN52),CSVデータ1!AN52,0)+IF(ISNUMBER(CSVデータ2!AN52),CSVデータ2!AN52,0)+IF(ISNUMBER(CSVデータ3!AN52),CSVデータ3!AN52,0)+IF(ISNUMBER(CSVデータ4!AN52),CSVデータ4!AN52,0)","v":0}]
[{"$f":"CSVデータ1!A53","v":"明細部"},{"$f":"CSVデータ1!B53","v":"国"},{"$f":"CSVデータ1!C53","v":54},{"$f":"CSVデータ1!D53","v":"女"},{"$f":"IF(ISNUMBER(CSVデータ1!E53),CSVデータ1!E53,0)+IF(ISNUMBER(CSVデータ2!E53),CSVデータ2!E53,0)+IF(ISNUMBER(CSVデータ3!E53),CSVデータ3!E53,0)+IF(ISNUMBER(CSVデータ4!E53),CSVデータ4!E53,0)","v":0},{"$f":"IF(ISNUMBER(CSVデータ1!F53),CSVデータ1!F53,0)+IF(ISNUMBER(CSVデータ2!F53),CSVデータ2!F53,0)+IF(ISNUMBER(CSVデータ3!F53),CSVデータ3!F53,0)+IF(ISNUMBER(CSVデータ4!F53),CSVデータ4!F53,0)","v":0},null,{"$f":"IF(ISNUMBER(CSVデータ1!H53),CSVデータ1!H53,0)+IF(ISNUMBER(CSVデータ2!H53),CSVデータ2!H53,0)+IF(ISNUMBER(CSVデータ3!H53),CSVデータ3!H53,0)+IF(ISNUMBER(CSVデータ4!H53),CSVデータ4!H53,0)","v":0},null,{"$f":"IF(ISNUMBER(CSVデータ1!J53),CSVデータ1!J53,0)+IF(ISNUMBER(CSVデータ2!J53),CSVデータ2!J53,0)+IF(ISNUMBER(CSVデータ3!J53),CSVデータ3!J53,0)+IF(ISNUMBER(CSVデータ4!J53),CSVデータ4!J53,0)","v":0},null,{"$f":"IF(ISNUMBER(CSVデータ1!L53),CSVデータ1!L53,0)+IF(ISNUMBER(CSVデータ2!L53),CSVデータ2!L53,0)+IF(ISNUMBER(CSVデータ3!L53),CSVデータ3!L53,0)+IF(ISNUMBER(CSVデータ4!L53),CSVデータ4!L53,0)","v":0},null,{"$f":"IF(ISNUMBER(CSVデータ1!N53),CSVデータ1!N53,0)+IF(ISNUMBER(CSVデータ2!N53),CSVデータ2!N53,0)+IF(ISNUMBER(CSVデータ3!N53),CSVデータ3!N53,0)+IF(ISNUMBER(CSVデータ4!N53),CSVデータ4!N53,0)","v":0},null,{"$f":"IF(ISNUMBER(CSVデータ1!P53),CSVデータ1!P53,0)+IF(ISNUMBER(CSVデータ2!P53),CSVデータ2!P53,0)+IF(ISNUMBER(CSVデータ3!P53),CSVデータ3!P53,0)+IF(ISNUMBER(CSVデータ4!P53),CSVデータ4!P53,0)","v":0},null,{"$f":"IF(ISNUMBER(CSVデータ1!R53),CSVデータ1!R53,0)+IF(ISNUMBER(CSVデータ2!R53),CSVデータ2!R53,0)+IF(ISNUMBER(CSVデータ3!R53),CSVデータ3!R53,0)+IF(ISNUMBER(CSVデータ4!R53),CSVデータ4!R53,0)","v":0},null,{"$f":"IF(ISNUMBER(CSVデータ1!T53),CSVデータ1!T53,0)+IF(ISNUMBER(CSVデータ2!T53),CSVデータ2!T53,0)+IF(ISNUMBER(CSVデータ3!T53),CSVデータ3!T53,0)+IF(ISNUMBER(CSVデータ4!T53),CSVデータ4!T53,0)","v":0},null,{"$f":"IF(ISNUMBER(CSVデータ1!V53),CSVデータ1!V53,0)+IF(ISNUMBER(CSVデータ2!V53),CSVデータ2!V53,0)+IF(ISNUMBER(CSVデータ3!V53),CSVデータ3!V53,0)+IF(ISNUMBER(CSVデータ4!V53),CSVデータ4!V53,0)","v":0},null,{"$f":"IF(ISNUMBER(CSVデータ1!X53),CSVデータ1!X53,0)+IF(ISNUMBER(CSVデータ2!X53),CSVデータ2!X53,0)+IF(ISNUMBER(CSVデータ3!X53),CSVデータ3!X53,0)+IF(ISNUMBER(CSVデータ4!X53),CSVデータ4!X53,0)","v":0},null,{"$f":"IF(ISNUMBER(CSVデータ1!Z53),CSVデータ1!Z53,0)+IF(ISNUMBER(CSVデータ2!Z53),CSVデータ2!Z53,0)+IF(ISNUMBER(CSVデータ3!Z53),CSVデータ3!Z53,0)+IF(ISNUMBER(CSVデータ4!Z53),CSVデータ4!Z53,0)","v":0},null,{"$f":"IF(ISNUMBER(CSVデータ1!AB53),CSVデータ1!AB53,0)+IF(ISNUMBER(CSVデータ2!AB53),CSVデータ2!AB53,0)+IF(ISNUMBER(CSVデータ3!AB53),CSVデータ3!AB53,0)+IF(ISNUMBER(CSVデータ4!AB53),CSVデータ4!AB53,0)","v":0},null,{"$f":"IF(ISNUMBER(CSVデータ1!AD53),CSVデータ1!AD53,0)+IF(ISNUMBER(CSVデータ2!AD53),CSVデータ2!AD53,0)+IF(ISNUMBER(CSVデータ3!AD53),CSVデータ3!AD53,0)+IF(ISNUMBER(CSVデータ4!AD53),CSVデータ4!AD53,0)","v":0},null,{"$f":"IF(ISNUMBER(CSVデータ1!AF53),CSVデータ1!AF53,0)+IF(ISNUMBER(CSVデータ2!AF53),CSVデータ2!AF53,0)+IF(ISNUMBER(CSVデータ3!AF53),CSVデータ3!AF53,0)+IF(ISNUMBER(CSVデータ4!AF53),CSVデータ4!AF53,0)","v":0},null,{"$f":"IF(ISNUMBER(CSVデータ1!AH53),CSVデータ1!AH53,0)+IF(ISNUMBER(CSVデータ2!AH53),CSVデータ2!AH53,0)+IF(ISNUMBER(CSVデータ3!AH53),CSVデータ3!AH53,0)+IF(ISNUMBER(CSVデータ4!AH53),CSVデータ4!AH53,0)","v":0},null,{"$f":"IF(ISNUMBER(CSVデータ1!AJ53),CSVデータ1!AJ53,0)+IF(ISNUMBER(CSVデータ2!AJ53),CSVデータ2!AJ53,0)+IF(ISNUMBER(CSVデータ3!AJ53),CSVデータ3!AJ53,0)+IF(ISNUMBER(CSVデータ4!AJ53),CSVデータ4!AJ53,0)","v":0},null,{"$f":"IF(ISNUMBER(CSVデータ1!AL53),CSVデータ1!AL53,0)+IF(ISNUMBER(CSVデータ2!AL53),CSVデータ2!AL53,0)+IF(ISNUMBER(CSVデータ3!AL53),CSVデータ3!AL53,0)+IF(ISNUMBER(CSVデータ4!AL53),CSVデータ4!AL53,0)","v":0},null,{"$f":"IF(ISNUMBER(CSVデータ1!AN53),CSVデータ1!AN53,0)+IF(ISNUMBER(CSVデータ2!AN53),CSVデータ2!AN53,0)+IF(ISNUMBER(CSVデータ3!AN53),CSVデータ3!AN53,0)+IF(ISNUMBER(CSVデータ4!AN53),CSVデータ4!AN53,0)","v":0}]
[{"$f":"CSVデータ1!A54","v":"明細部"},{"$f":"CSVデータ1!B54","v":"国"},{"$f":"CSVデータ1!C54","v":55},{"$f":"CSVデータ1!D54","v":"女"},{"$f":"IF(ISNUMBER(CSVデータ1!E54),CSVデータ1!E54,0)+IF(ISNUMBER(CSVデータ2!E54),CSVデータ2!E54,0)+IF(ISNUMBER(CSVデータ3!E54),CSVデータ3!E54,0)+IF(ISNUMBER(CSVデータ4!E54),CSVデータ4!E54,0)","v":0},{"$f":"IF(ISNUMBER(CSVデータ1!F54),CSVデータ1!F54,0)+IF(ISNUMBER(CSVデータ2!F54),CSVデータ2!F54,0)+IF(ISNUMBER(CSVデータ3!F54),CSVデータ3!F54,0)+IF(ISNUMBER(CSVデータ4!F54),CSVデータ4!F54,0)","v":0},null,{"$f":"IF(ISNUMBER(CSVデータ1!H54),CSVデータ1!H54,0)+IF(ISNUMBER(CSVデータ2!H54),CSVデータ2!H54,0)+IF(ISNUMBER(CSVデータ3!H54),CSVデータ3!H54,0)+IF(ISNUMBER(CSVデータ4!H54),CSVデータ4!H54,0)","v":0},null,{"$f":"IF(ISNUMBER(CSVデータ1!J54),CSVデータ1!J54,0)+IF(ISNUMBER(CSVデータ2!J54),CSVデータ2!J54,0)+IF(ISNUMBER(CSVデータ3!J54),CSVデータ3!J54,0)+IF(ISNUMBER(CSVデータ4!J54),CSVデータ4!J54,0)","v":0},null,{"$f":"IF(ISNUMBER(CSVデータ1!L54),CSVデータ1!L54,0)+IF(ISNUMBER(CSVデータ2!L54),CSVデータ2!L54,0)+IF(ISNUMBER(CSVデータ3!L54),CSVデータ3!L54,0)+IF(ISNUMBER(CSVデータ4!L54),CSVデータ4!L54,0)","v":0},null,{"$f":"IF(ISNUMBER(CSVデータ1!N54),CSVデータ1!N54,0)+IF(ISNUMBER(CSVデータ2!N54),CSVデータ2!N54,0)+IF(ISNUMBER(CSVデータ3!N54),CSVデータ3!N54,0)+IF(ISNUMBER(CSVデータ4!N54),CSVデータ4!N54,0)","v":0},null,{"$f":"IF(ISNUMBER(CSVデータ1!P54),CSVデータ1!P54,0)+IF(ISNUMBER(CSVデータ2!P54),CSVデータ2!P54,0)+IF(ISNUMBER(CSVデータ3!P54),CSVデータ3!P54,0)+IF(ISNUMBER(CSVデータ4!P54),CSVデータ4!P54,0)","v":0},null,{"$f":"IF(ISNUMBER(CSVデータ1!R54),CSVデータ1!R54,0)+IF(ISNUMBER(CSVデータ2!R54),CSVデータ2!R54,0)+IF(ISNUMBER(CSVデータ3!R54),CSVデータ3!R54,0)+IF(ISNUMBER(CSVデータ4!R54),CSVデータ4!R54,0)","v":0},null,{"$f":"IF(ISNUMBER(CSVデータ1!T54),CSVデータ1!T54,0)+IF(ISNUMBER(CSVデータ2!T54),CSVデータ2!T54,0)+IF(ISNUMBER(CSVデータ3!T54),CSVデータ3!T54,0)+IF(ISNUMBER(CSVデータ4!T54),CSVデータ4!T54,0)","v":0},null,{"$f":"IF(ISNUMBER(CSVデータ1!V54),CSVデータ1!V54,0)+IF(ISNUMBER(CSVデータ2!V54),CSVデータ2!V54,0)+IF(ISNUMBER(CSVデータ3!V54),CSVデータ3!V54,0)+IF(ISNUMBER(CSVデータ4!V54),CSVデータ4!V54,0)","v":0},null,{"$f":"IF(ISNUMBER(CSVデータ1!X54),CSVデータ1!X54,0)+IF(ISNUMBER(CSVデータ2!X54),CSVデータ2!X54,0)+IF(ISNUMBER(CSVデータ3!X54),CSVデータ3!X54,0)+IF(ISNUMBER(CSVデータ4!X54),CSVデータ4!X54,0)","v":0},null,{"$f":"IF(ISNUMBER(CSVデータ1!Z54),CSVデータ1!Z54,0)+IF(ISNUMBER(CSVデータ2!Z54),CSVデータ2!Z54,0)+IF(ISNUMBER(CSVデータ3!Z54),CSVデータ3!Z54,0)+IF(ISNUMBER(CSVデータ4!Z54),CSVデータ4!Z54,0)","v":0},null,{"$f":"IF(ISNUMBER(CSVデータ1!AB54),CSVデータ1!AB54,0)+IF(ISNUMBER(CSVデータ2!AB54),CSVデータ2!AB54,0)+IF(ISNUMBER(CSVデータ3!AB54),CSVデータ3!AB54,0)+IF(ISNUMBER(CSVデータ4!AB54),CSVデータ4!AB54,0)","v":0},null,{"$f":"IF(ISNUMBER(CSVデータ1!AD54),CSVデータ1!AD54,0)+IF(ISNUMBER(CSVデータ2!AD54),CSVデータ2!AD54,0)+IF(ISNUMBER(CSVデータ3!AD54),CSVデータ3!AD54,0)+IF(ISNUMBER(CSVデータ4!AD54),CSVデータ4!AD54,0)","v":0},null,{"$f":"IF(ISNUMBER(CSVデータ1!AF54),CSVデータ1!AF54,0)+IF(ISNUMBER(CSVデータ2!AF54),CSVデータ2!AF54,0)+IF(ISNUMBER(CSVデータ3!AF54),CSVデータ3!AF54,0)+IF(ISNUMBER(CSVデータ4!AF54),CSVデータ4!AF54,0)","v":0},null,{"$f":"IF(ISNUMBER(CSVデータ1!AH54),CSVデータ1!AH54,0)+IF(ISNUMBER(CSVデータ2!AH54),CSVデータ2!AH54,0)+IF(ISNUMBER(CSVデータ3!AH54),CSVデータ3!AH54,0)+IF(ISNUMBER(CSVデータ4!AH54),CSVデータ4!AH54,0)","v":0},null,{"$f":"IF(ISNUMBER(CSVデータ1!AJ54),CSVデータ1!AJ54,0)+IF(ISNUMBER(CSVデータ2!AJ54),CSVデータ2!AJ54,0)+IF(ISNUMBER(CSVデータ3!AJ54),CSVデータ3!AJ54,0)+IF(ISNUMBER(CSVデータ4!AJ54),CSVデータ4!AJ54,0)","v":0},null,{"$f":"IF(ISNUMBER(CSVデータ1!AL54),CSVデータ1!AL54,0)+IF(ISNUMBER(CSVデータ2!AL54),CSVデータ2!AL54,0)+IF(ISNUMBER(CSVデータ3!AL54),CSVデータ3!AL54,0)+IF(ISNUMBER(CSVデータ4!AL54),CSVデータ4!AL54,0)","v":0},null,{"$f":"IF(ISNUMBER(CSVデータ1!AN54),CSVデータ1!AN54,0)+IF(ISNUMBER(CSVデータ2!AN54),CSVデータ2!AN54,0)+IF(ISNUMBER(CSVデータ3!AN54),CSVデータ3!AN54,0)+IF(ISNUMBER(CSVデータ4!AN54),CSVデータ4!AN54,0)","v":0}]
[{"$f":"CSVデータ1!A55","v":"明細部"},{"$f":"CSVデータ1!B55","v":"国"},{"$f":"CSVデータ1!C55","v":56},{"$f":"CSVデータ1!D55","v":"女"},{"$f":"IF(ISNUMBER(CSVデータ1!E55),CSVデータ1!E55,0)+IF(ISNUMBER(CSVデータ2!E55),CSVデータ2!E55,0)+IF(ISNUMBER(CSVデータ3!E55),CSVデータ3!E55,0)+IF(ISNUMBER(CSVデータ4!E55),CSVデータ4!E55,0)","v":0},{"$f":"IF(ISNUMBER(CSVデータ1!F55),CSVデータ1!F55,0)+IF(ISNUMBER(CSVデータ2!F55),CSVデータ2!F55,0)+IF(ISNUMBER(CSVデータ3!F55),CSVデータ3!F55,0)+IF(ISNUMBER(CSVデータ4!F55),CSVデータ4!F55,0)","v":0},null,{"$f":"IF(ISNUMBER(CSVデータ1!H55),CSVデータ1!H55,0)+IF(ISNUMBER(CSVデータ2!H55),CSVデータ2!H55,0)+IF(ISNUMBER(CSVデータ3!H55),CSVデータ3!H55,0)+IF(ISNUMBER(CSVデータ4!H55),CSVデータ4!H55,0)","v":0},null,{"$f":"IF(ISNUMBER(CSVデータ1!J55),CSVデータ1!J55,0)+IF(ISNUMBER(CSVデータ2!J55),CSVデータ2!J55,0)+IF(ISNUMBER(CSVデータ3!J55),CSVデータ3!J55,0)+IF(ISNUMBER(CSVデータ4!J55),CSVデータ4!J55,0)","v":0},null,{"$f":"IF(ISNUMBER(CSVデータ1!L55),CSVデータ1!L55,0)+IF(ISNUMBER(CSVデータ2!L55),CSVデータ2!L55,0)+IF(ISNUMBER(CSVデータ3!L55),CSVデータ3!L55,0)+IF(ISNUMBER(CSVデータ4!L55),CSVデータ4!L55,0)","v":0},null,{"$f":"IF(ISNUMBER(CSVデータ1!N55),CSVデータ1!N55,0)+IF(ISNUMBER(CSVデータ2!N55),CSVデータ2!N55,0)+IF(ISNUMBER(CSVデータ3!N55),CSVデータ3!N55,0)+IF(ISNUMBER(CSVデータ4!N55),CSVデータ4!N55,0)","v":0},null,{"$f":"IF(ISNUMBER(CSVデータ1!P55),CSVデータ1!P55,0)+IF(ISNUMBER(CSVデータ2!P55),CSVデータ2!P55,0)+IF(ISNUMBER(CSVデータ3!P55),CSVデータ3!P55,0)+IF(ISNUMBER(CSVデータ4!P55),CSVデータ4!P55,0)","v":0},null,{"$f":"IF(ISNUMBER(CSVデータ1!R55),CSVデータ1!R55,0)+IF(ISNUMBER(CSVデータ2!R55),CSVデータ2!R55,0)+IF(ISNUMBER(CSVデータ3!R55),CSVデータ3!R55,0)+IF(ISNUMBER(CSVデータ4!R55),CSVデータ4!R55,0)","v":0},null,{"$f":"IF(ISNUMBER(CSVデータ1!T55),CSVデータ1!T55,0)+IF(ISNUMBER(CSVデータ2!T55),CSVデータ2!T55,0)+IF(ISNUMBER(CSVデータ3!T55),CSVデータ3!T55,0)+IF(ISNUMBER(CSVデータ4!T55),CSVデータ4!T55,0)","v":0},null,{"$f":"IF(ISNUMBER(CSVデータ1!V55),CSVデータ1!V55,0)+IF(ISNUMBER(CSVデータ2!V55),CSVデータ2!V55,0)+IF(ISNUMBER(CSVデータ3!V55),CSVデータ3!V55,0)+IF(ISNUMBER(CSVデータ4!V55),CSVデータ4!V55,0)","v":0},null,{"$f":"IF(ISNUMBER(CSVデータ1!X55),CSVデータ1!X55,0)+IF(ISNUMBER(CSVデータ2!X55),CSVデータ2!X55,0)+IF(ISNUMBER(CSVデータ3!X55),CSVデータ3!X55,0)+IF(ISNUMBER(CSVデータ4!X55),CSVデータ4!X55,0)","v":0},null,{"$f":"IF(ISNUMBER(CSVデータ1!Z55),CSVデータ1!Z55,0)+IF(ISNUMBER(CSVデータ2!Z55),CSVデータ2!Z55,0)+IF(ISNUMBER(CSVデータ3!Z55),CSVデータ3!Z55,0)+IF(ISNUMBER(CSVデータ4!Z55),CSVデータ4!Z55,0)","v":0},null,{"$f":"IF(ISNUMBER(CSVデータ1!AB55),CSVデータ1!AB55,0)+IF(ISNUMBER(CSVデータ2!AB55),CSVデータ2!AB55,0)+IF(ISNUMBER(CSVデータ3!AB55),CSVデータ3!AB55,0)+IF(ISNUMBER(CSVデータ4!AB55),CSVデータ4!AB55,0)","v":0},null,{"$f":"IF(ISNUMBER(CSVデータ1!AD55),CSVデータ1!AD55,0)+IF(ISNUMBER(CSVデータ2!AD55),CSVデータ2!AD55,0)+IF(ISNUMBER(CSVデータ3!AD55),CSVデータ3!AD55,0)+IF(ISNUMBER(CSVデータ4!AD55),CSVデータ4!AD55,0)","v":0},null,{"$f":"IF(ISNUMBER(CSVデータ1!AF55),CSVデータ1!AF55,0)+IF(ISNUMBER(CSVデータ2!AF55),CSVデータ2!AF55,0)+IF(ISNUMBER(CSVデータ3!AF55),CSVデータ3!AF55,0)+IF(ISNUMBER(CSVデータ4!AF55),CSVデータ4!AF55,0)","v":0},null,{"$f":"IF(ISNUMBER(CSVデータ1!AH55),CSVデータ1!AH55,0)+IF(ISNUMBER(CSVデータ2!AH55),CSVデータ2!AH55,0)+IF(ISNUMBER(CSVデータ3!AH55),CSVデータ3!AH55,0)+IF(ISNUMBER(CSVデータ4!AH55),CSVデータ4!AH55,0)","v":0},null,{"$f":"IF(ISNUMBER(CSVデータ1!AJ55),CSVデータ1!AJ55,0)+IF(ISNUMBER(CSVデータ2!AJ55),CSVデータ2!AJ55,0)+IF(ISNUMBER(CSVデータ3!AJ55),CSVデータ3!AJ55,0)+IF(ISNUMBER(CSVデータ4!AJ55),CSVデータ4!AJ55,0)","v":0},null,{"$f":"IF(ISNUMBER(CSVデータ1!AL55),CSVデータ1!AL55,0)+IF(ISNUMBER(CSVデータ2!AL55),CSVデータ2!AL55,0)+IF(ISNUMBER(CSVデータ3!AL55),CSVデータ3!AL55,0)+IF(ISNUMBER(CSVデータ4!AL55),CSVデータ4!AL55,0)","v":0},null,{"$f":"IF(ISNUMBER(CSVデータ1!AN55),CSVデータ1!AN55,0)+IF(ISNUMBER(CSVデータ2!AN55),CSVデータ2!AN55,0)+IF(ISNUMBER(CSVデータ3!AN55),CSVデータ3!AN55,0)+IF(ISNUMBER(CSVデータ4!AN55),CSVデータ4!AN55,0)","v":0}]
[{"$f":"CSVデータ1!A56","v":"明細部"},{"$f":"CSVデータ1!B56","v":"国"},{"$f":"CSVデータ1!C56","v":57},{"$f":"CSVデータ1!D56","v":"女"},{"$f":"IF(ISNUMBER(CSVデータ1!E56),CSVデータ1!E56,0)+IF(ISNUMBER(CSVデータ2!E56),CSVデータ2!E56,0)+IF(ISNUMBER(CSVデータ3!E56),CSVデータ3!E56,0)+IF(ISNUMBER(CSVデータ4!E56),CSVデータ4!E56,0)","v":0},{"$f":"IF(ISNUMBER(CSVデータ1!F56),CSVデータ1!F56,0)+IF(ISNUMBER(CSVデータ2!F56),CSVデータ2!F56,0)+IF(ISNUMBER(CSVデータ3!F56),CSVデータ3!F56,0)+IF(ISNUMBER(CSVデータ4!F56),CSVデータ4!F56,0)","v":0},null,{"$f":"IF(ISNUMBER(CSVデータ1!H56),CSVデータ1!H56,0)+IF(ISNUMBER(CSVデータ2!H56),CSVデータ2!H56,0)+IF(ISNUMBER(CSVデータ3!H56),CSVデータ3!H56,0)+IF(ISNUMBER(CSVデータ4!H56),CSVデータ4!H56,0)","v":0},null,{"$f":"IF(ISNUMBER(CSVデータ1!J56),CSVデータ1!J56,0)+IF(ISNUMBER(CSVデータ2!J56),CSVデータ2!J56,0)+IF(ISNUMBER(CSVデータ3!J56),CSVデータ3!J56,0)+IF(ISNUMBER(CSVデータ4!J56),CSVデータ4!J56,0)","v":0},null,{"$f":"IF(ISNUMBER(CSVデータ1!L56),CSVデータ1!L56,0)+IF(ISNUMBER(CSVデータ2!L56),CSVデータ2!L56,0)+IF(ISNUMBER(CSVデータ3!L56),CSVデータ3!L56,0)+IF(ISNUMBER(CSVデータ4!L56),CSVデータ4!L56,0)","v":0},null,{"$f":"IF(ISNUMBER(CSVデータ1!N56),CSVデータ1!N56,0)+IF(ISNUMBER(CSVデータ2!N56),CSVデータ2!N56,0)+IF(ISNUMBER(CSVデータ3!N56),CSVデータ3!N56,0)+IF(ISNUMBER(CSVデータ4!N56),CSVデータ4!N56,0)","v":0},null,{"$f":"IF(ISNUMBER(CSVデータ1!P56),CSVデータ1!P56,0)+IF(ISNUMBER(CSVデータ2!P56),CSVデータ2!P56,0)+IF(ISNUMBER(CSVデータ3!P56),CSVデータ3!P56,0)+IF(ISNUMBER(CSVデータ4!P56),CSVデータ4!P56,0)","v":0},null,{"$f":"IF(ISNUMBER(CSVデータ1!R56),CSVデータ1!R56,0)+IF(ISNUMBER(CSVデータ2!R56),CSVデータ2!R56,0)+IF(ISNUMBER(CSVデータ3!R56),CSVデータ3!R56,0)+IF(ISNUMBER(CSVデータ4!R56),CSVデータ4!R56,0)","v":0},null,{"$f":"IF(ISNUMBER(CSVデータ1!T56),CSVデータ1!T56,0)+IF(ISNUMBER(CSVデータ2!T56),CSVデータ2!T56,0)+IF(ISNUMBER(CSVデータ3!T56),CSVデータ3!T56,0)+IF(ISNUMBER(CSVデータ4!T56),CSVデータ4!T56,0)","v":0},null,{"$f":"IF(ISNUMBER(CSVデータ1!V56),CSVデータ1!V56,0)+IF(ISNUMBER(CSVデータ2!V56),CSVデータ2!V56,0)+IF(ISNUMBER(CSVデータ3!V56),CSVデータ3!V56,0)+IF(ISNUMBER(CSVデータ4!V56),CSVデータ4!V56,0)","v":0},null,{"$f":"IF(ISNUMBER(CSVデータ1!X56),CSVデータ1!X56,0)+IF(ISNUMBER(CSVデータ2!X56),CSVデータ2!X56,0)+IF(ISNUMBER(CSVデータ3!X56),CSVデータ3!X56,0)+IF(ISNUMBER(CSVデータ4!X56),CSVデータ4!X56,0)","v":0},null,{"$f":"IF(ISNUMBER(CSVデータ1!Z56),CSVデータ1!Z56,0)+IF(ISNUMBER(CSVデータ2!Z56),CSVデータ2!Z56,0)+IF(ISNUMBER(CSVデータ3!Z56),CSVデータ3!Z56,0)+IF(ISNUMBER(CSVデータ4!Z56),CSVデータ4!Z56,0)","v":0},null,{"$f":"IF(ISNUMBER(CSVデータ1!AB56),CSVデータ1!AB56,0)+IF(ISNUMBER(CSVデータ2!AB56),CSVデータ2!AB56,0)+IF(ISNUMBER(CSVデータ3!AB56),CSVデータ3!AB56,0)+IF(ISNUMBER(CSVデータ4!AB56),CSVデータ4!AB56,0)","v":0},null,{"$f":"IF(ISNUMBER(CSVデータ1!AD56),CSVデータ1!AD56,0)+IF(ISNUMBER(CSVデータ2!AD56),CSVデータ2!AD56,0)+IF(ISNUMBER(CSVデータ3!AD56),CSVデータ3!AD56,0)+IF(ISNUMBER(CSVデータ4!AD56),CSVデータ4!AD56,0)","v":0},null,{"$f":"IF(ISNUMBER(CSVデータ1!AF56),CSVデータ1!AF56,0)+IF(ISNUMBER(CSVデータ2!AF56),CSVデータ2!AF56,0)+IF(ISNUMBER(CSVデータ3!AF56),CSVデータ3!AF56,0)+IF(ISNUMBER(CSVデータ4!AF56),CSVデータ4!AF56,0)","v":0},null,{"$f":"IF(ISNUMBER(CSVデータ1!AH56),CSVデータ1!AH56,0)+IF(ISNUMBER(CSVデータ2!AH56),CSVデータ2!AH56,0)+IF(ISNUMBER(CSVデータ3!AH56),CSVデータ3!AH56,0)+IF(ISNUMBER(CSVデータ4!AH56),CSVデータ4!AH56,0)","v":0},null,{"$f":"IF(ISNUMBER(CSVデータ1!AJ56),CSVデータ1!AJ56,0)+IF(ISNUMBER(CSVデータ2!AJ56),CSVデータ2!AJ56,0)+IF(ISNUMBER(CSVデータ3!AJ56),CSVデータ3!AJ56,0)+IF(ISNUMBER(CSVデータ4!AJ56),CSVデータ4!AJ56,0)","v":0},null,{"$f":"IF(ISNUMBER(CSVデータ1!AL56),CSVデータ1!AL56,0)+IF(ISNUMBER(CSVデータ2!AL56),CSVデータ2!AL56,0)+IF(ISNUMBER(CSVデータ3!AL56),CSVデータ3!AL56,0)+IF(ISNUMBER(CSVデータ4!AL56),CSVデータ4!AL56,0)","v":0},null,{"$f":"IF(ISNUMBER(CSVデータ1!AN56),CSVデータ1!AN56,0)+IF(ISNUMBER(CSVデータ2!AN56),CSVデータ2!AN56,0)+IF(ISNUMBER(CSVデータ3!AN56),CSVデータ3!AN56,0)+IF(ISNUMBER(CSVデータ4!AN56),CSVデータ4!AN56,0)","v":0}]
[{"$f":"CSVデータ1!A57","v":"明細部"},{"$f":"CSVデータ1!B57","v":"国"},{"$f":"CSVデータ1!C57","v":58},{"$f":"CSVデータ1!D57","v":"女"},{"$f":"IF(ISNUMBER(CSVデータ1!E57),CSVデータ1!E57,0)+IF(ISNUMBER(CSVデータ2!E57),CSVデータ2!E57,0)+IF(ISNUMBER(CSVデータ3!E57),CSVデータ3!E57,0)+IF(ISNUMBER(CSVデータ4!E57),CSVデータ4!E57,0)","v":0},{"$f":"IF(ISNUMBER(CSVデータ1!F57),CSVデータ1!F57,0)+IF(ISNUMBER(CSVデータ2!F57),CSVデータ2!F57,0)+IF(ISNUMBER(CSVデータ3!F57),CSVデータ3!F57,0)+IF(ISNUMBER(CSVデータ4!F57),CSVデータ4!F57,0)","v":0},null,{"$f":"IF(ISNUMBER(CSVデータ1!H57),CSVデータ1!H57,0)+IF(ISNUMBER(CSVデータ2!H57),CSVデータ2!H57,0)+IF(ISNUMBER(CSVデータ3!H57),CSVデータ3!H57,0)+IF(ISNUMBER(CSVデータ4!H57),CSVデータ4!H57,0)","v":0},null,{"$f":"IF(ISNUMBER(CSVデータ1!J57),CSVデータ1!J57,0)+IF(ISNUMBER(CSVデータ2!J57),CSVデータ2!J57,0)+IF(ISNUMBER(CSVデータ3!J57),CSVデータ3!J57,0)+IF(ISNUMBER(CSVデータ4!J57),CSVデータ4!J57,0)","v":0},null,{"$f":"IF(ISNUMBER(CSVデータ1!L57),CSVデータ1!L57,0)+IF(ISNUMBER(CSVデータ2!L57),CSVデータ2!L57,0)+IF(ISNUMBER(CSVデータ3!L57),CSVデータ3!L57,0)+IF(ISNUMBER(CSVデータ4!L57),CSVデータ4!L57,0)","v":0},null,{"$f":"IF(ISNUMBER(CSVデータ1!N57),CSVデータ1!N57,0)+IF(ISNUMBER(CSVデータ2!N57),CSVデータ2!N57,0)+IF(ISNUMBER(CSVデータ3!N57),CSVデータ3!N57,0)+IF(ISNUMBER(CSVデータ4!N57),CSVデータ4!N57,0)","v":0},null,{"$f":"IF(ISNUMBER(CSVデータ1!P57),CSVデータ1!P57,0)+IF(ISNUMBER(CSVデータ2!P57),CSVデータ2!P57,0)+IF(ISNUMBER(CSVデータ3!P57),CSVデータ3!P57,0)+IF(ISNUMBER(CSVデータ4!P57),CSVデータ4!P57,0)","v":0},null,{"$f":"IF(ISNUMBER(CSVデータ1!R57),CSVデータ1!R57,0)+IF(ISNUMBER(CSVデータ2!R57),CSVデータ2!R57,0)+IF(ISNUMBER(CSVデータ3!R57),CSVデータ3!R57,0)+IF(ISNUMBER(CSVデータ4!R57),CSVデータ4!R57,0)","v":0},null,{"$f":"IF(ISNUMBER(CSVデータ1!T57),CSVデータ1!T57,0)+IF(ISNUMBER(CSVデータ2!T57),CSVデータ2!T57,0)+IF(ISNUMBER(CSVデータ3!T57),CSVデータ3!T57,0)+IF(ISNUMBER(CSVデータ4!T57),CSVデータ4!T57,0)","v":0},null,{"$f":"IF(ISNUMBER(CSVデータ1!V57),CSVデータ1!V57,0)+IF(ISNUMBER(CSVデータ2!V57),CSVデータ2!V57,0)+IF(ISNUMBER(CSVデータ3!V57),CSVデータ3!V57,0)+IF(ISNUMBER(CSVデータ4!V57),CSVデータ4!V57,0)","v":0},null,{"$f":"IF(ISNUMBER(CSVデータ1!X57),CSVデータ1!X57,0)+IF(ISNUMBER(CSVデータ2!X57),CSVデータ2!X57,0)+IF(ISNUMBER(CSVデータ3!X57),CSVデータ3!X57,0)+IF(ISNUMBER(CSVデータ4!X57),CSVデータ4!X57,0)","v":0},null,{"$f":"IF(ISNUMBER(CSVデータ1!Z57),CSVデータ1!Z57,0)+IF(ISNUMBER(CSVデータ2!Z57),CSVデータ2!Z57,0)+IF(ISNUMBER(CSVデータ3!Z57),CSVデータ3!Z57,0)+IF(ISNUMBER(CSVデータ4!Z57),CSVデータ4!Z57,0)","v":0},null,{"$f":"IF(ISNUMBER(CSVデータ1!AB57),CSVデータ1!AB57,0)+IF(ISNUMBER(CSVデータ2!AB57),CSVデータ2!AB57,0)+IF(ISNUMBER(CSVデータ3!AB57),CSVデータ3!AB57,0)+IF(ISNUMBER(CSVデータ4!AB57),CSVデータ4!AB57,0)","v":0},null,{"$f":"IF(ISNUMBER(CSVデータ1!AD57),CSVデータ1!AD57,0)+IF(ISNUMBER(CSVデータ2!AD57),CSVデータ2!AD57,0)+IF(ISNUMBER(CSVデータ3!AD57),CSVデータ3!AD57,0)+IF(ISNUMBER(CSVデータ4!AD57),CSVデータ4!AD57,0)","v":0},null,{"$f":"IF(ISNUMBER(CSVデータ1!AF57),CSVデータ1!AF57,0)+IF(ISNUMBER(CSVデータ2!AF57),CSVデータ2!AF57,0)+IF(ISNUMBER(CSVデータ3!AF57),CSVデータ3!AF57,0)+IF(ISNUMBER(CSVデータ4!AF57),CSVデータ4!AF57,0)","v":0},null,{"$f":"IF(ISNUMBER(CSVデータ1!AH57),CSVデータ1!AH57,0)+IF(ISNUMBER(CSVデータ2!AH57),CSVデータ2!AH57,0)+IF(ISNUMBER(CSVデータ3!AH57),CSVデータ3!AH57,0)+IF(ISNUMBER(CSVデータ4!AH57),CSVデータ4!AH57,0)","v":0},null,{"$f":"IF(ISNUMBER(CSVデータ1!AJ57),CSVデータ1!AJ57,0)+IF(ISNUMBER(CSVデータ2!AJ57),CSVデータ2!AJ57,0)+IF(ISNUMBER(CSVデータ3!AJ57),CSVデータ3!AJ57,0)+IF(ISNUMBER(CSVデータ4!AJ57),CSVデータ4!AJ57,0)","v":0},null,{"$f":"IF(ISNUMBER(CSVデータ1!AL57),CSVデータ1!AL57,0)+IF(ISNUMBER(CSVデータ2!AL57),CSVデータ2!AL57,0)+IF(ISNUMBER(CSVデータ3!AL57),CSVデータ3!AL57,0)+IF(ISNUMBER(CSVデータ4!AL57),CSVデータ4!AL57,0)","v":0},null,{"$f":"IF(ISNUMBER(CSVデータ1!AN57),CSVデータ1!AN57,0)+IF(ISNUMBER(CSVデータ2!AN57),CSVデータ2!AN57,0)+IF(ISNUMBER(CSVデータ3!AN57),CSVデータ3!AN57,0)+IF(ISNUMBER(CSVデータ4!AN57),CSVデータ4!AN57,0)","v":0}]
[{"$f":"CSVデータ1!A58","v":"明細部"},{"$f":"CSVデータ1!B58","v":"国"},{"$f":"CSVデータ1!C58","v":59},{"$f":"CSVデータ1!D58","v":"女"},{"$f":"IF(ISNUMBER(CSVデータ1!E58),CSVデータ1!E58,0)+IF(ISNUMBER(CSVデータ2!E58),CSVデータ2!E58,0)+IF(ISNUMBER(CSVデータ3!E58),CSVデータ3!E58,0)+IF(ISNUMBER(CSVデータ4!E58),CSVデータ4!E58,0)","v":0},{"$f":"IF(ISNUMBER(CSVデータ1!F58),CSVデータ1!F58,0)+IF(ISNUMBER(CSVデータ2!F58),CSVデータ2!F58,0)+IF(ISNUMBER(CSVデータ3!F58),CSVデータ3!F58,0)+IF(ISNUMBER(CSVデータ4!F58),CSVデータ4!F58,0)","v":0},null,{"$f":"IF(ISNUMBER(CSVデータ1!H58),CSVデータ1!H58,0)+IF(ISNUMBER(CSVデータ2!H58),CSVデータ2!H58,0)+IF(ISNUMBER(CSVデータ3!H58),CSVデータ3!H58,0)+IF(ISNUMBER(CSVデータ4!H58),CSVデータ4!H58,0)","v":0},null,{"$f":"IF(ISNUMBER(CSVデータ1!J58),CSVデータ1!J58,0)+IF(ISNUMBER(CSVデータ2!J58),CSVデータ2!J58,0)+IF(ISNUMBER(CSVデータ3!J58),CSVデータ3!J58,0)+IF(ISNUMBER(CSVデータ4!J58),CSVデータ4!J58,0)","v":0},null,{"$f":"IF(ISNUMBER(CSVデータ1!L58),CSVデータ1!L58,0)+IF(ISNUMBER(CSVデータ2!L58),CSVデータ2!L58,0)+IF(ISNUMBER(CSVデータ3!L58),CSVデータ3!L58,0)+IF(ISNUMBER(CSVデータ4!L58),CSVデータ4!L58,0)","v":0},null,{"$f":"IF(ISNUMBER(CSVデータ1!N58),CSVデータ1!N58,0)+IF(ISNUMBER(CSVデータ2!N58),CSVデータ2!N58,0)+IF(ISNUMBER(CSVデータ3!N58),CSVデータ3!N58,0)+IF(ISNUMBER(CSVデータ4!N58),CSVデータ4!N58,0)","v":0},null,{"$f":"IF(ISNUMBER(CSVデータ1!P58),CSVデータ1!P58,0)+IF(ISNUMBER(CSVデータ2!P58),CSVデータ2!P58,0)+IF(ISNUMBER(CSVデータ3!P58),CSVデータ3!P58,0)+IF(ISNUMBER(CSVデータ4!P58),CSVデータ4!P58,0)","v":0},null,{"$f":"IF(ISNUMBER(CSVデータ1!R58),CSVデータ1!R58,0)+IF(ISNUMBER(CSVデータ2!R58),CSVデータ2!R58,0)+IF(ISNUMBER(CSVデータ3!R58),CSVデータ3!R58,0)+IF(ISNUMBER(CSVデータ4!R58),CSVデータ4!R58,0)","v":0},null,{"$f":"IF(ISNUMBER(CSVデータ1!T58),CSVデータ1!T58,0)+IF(ISNUMBER(CSVデータ2!T58),CSVデータ2!T58,0)+IF(ISNUMBER(CSVデータ3!T58),CSVデータ3!T58,0)+IF(ISNUMBER(CSVデータ4!T58),CSVデータ4!T58,0)","v":0},null,{"$f":"IF(ISNUMBER(CSVデータ1!V58),CSVデータ1!V58,0)+IF(ISNUMBER(CSVデータ2!V58),CSVデータ2!V58,0)+IF(ISNUMBER(CSVデータ3!V58),CSVデータ3!V58,0)+IF(ISNUMBER(CSVデータ4!V58),CSVデータ4!V58,0)","v":0},null,{"$f":"IF(ISNUMBER(CSVデータ1!X58),CSVデータ1!X58,0)+IF(ISNUMBER(CSVデータ2!X58),CSVデータ2!X58,0)+IF(ISNUMBER(CSVデータ3!X58),CSVデータ3!X58,0)+IF(ISNUMBER(CSVデータ4!X58),CSVデータ4!X58,0)","v":0},null,{"$f":"IF(ISNUMBER(CSVデータ1!Z58),CSVデータ1!Z58,0)+IF(ISNUMBER(CSVデータ2!Z58),CSVデータ2!Z58,0)+IF(ISNUMBER(CSVデータ3!Z58),CSVデータ3!Z58,0)+IF(ISNUMBER(CSVデータ4!Z58),CSVデータ4!Z58,0)","v":0},null,{"$f":"IF(ISNUMBER(CSVデータ1!AB58),CSVデータ1!AB58,0)+IF(ISNUMBER(CSVデータ2!AB58),CSVデータ2!AB58,0)+IF(ISNUMBER(CSVデータ3!AB58),CSVデータ3!AB58,0)+IF(ISNUMBER(CSVデータ4!AB58),CSVデータ4!AB58,0)","v":0},null,{"$f":"IF(ISNUMBER(CSVデータ1!AD58),CSVデータ1!AD58,0)+IF(ISNUMBER(CSVデータ2!AD58),CSVデータ2!AD58,0)+IF(ISNUMBER(CSVデータ3!AD58),CSVデータ3!AD58,0)+IF(ISNUMBER(CSVデータ4!AD58),CSVデータ4!AD58,0)","v":0},null,{"$f":"IF(ISNUMBER(CSVデータ1!AF58),CSVデータ1!AF58,0)+IF(ISNUMBER(CSVデータ2!AF58),CSVデータ2!AF58,0)+IF(ISNUMBER(CSVデータ3!AF58),CSVデータ3!AF58,0)+IF(ISNUMBER(CSVデータ4!AF58),CSVデータ4!AF58,0)","v":0},null,{"$f":"IF(ISNUMBER(CSVデータ1!AH58),CSVデータ1!AH58,0)+IF(ISNUMBER(CSVデータ2!AH58),CSVデータ2!AH58,0)+IF(ISNUMBER(CSVデータ3!AH58),CSVデータ3!AH58,0)+IF(ISNUMBER(CSVデータ4!AH58),CSVデータ4!AH58,0)","v":0},null,{"$f":"IF(ISNUMBER(CSVデータ1!AJ58),CSVデータ1!AJ58,0)+IF(ISNUMBER(CSVデータ2!AJ58),CSVデータ2!AJ58,0)+IF(ISNUMBER(CSVデータ3!AJ58),CSVデータ3!AJ58,0)+IF(ISNUMBER(CSVデータ4!AJ58),CSVデータ4!AJ58,0)","v":0},null,{"$f":"IF(ISNUMBER(CSVデータ1!AL58),CSVデータ1!AL58,0)+IF(ISNUMBER(CSVデータ2!AL58),CSVデータ2!AL58,0)+IF(ISNUMBER(CSVデータ3!AL58),CSVデータ3!AL58,0)+IF(ISNUMBER(CSVデータ4!AL58),CSVデータ4!AL58,0)","v":0},null,{"$f":"IF(ISNUMBER(CSVデータ1!AN58),CSVデータ1!AN58,0)+IF(ISNUMBER(CSVデータ2!AN58),CSVデータ2!AN58,0)+IF(ISNUMBER(CSVデータ3!AN58),CSVデータ3!AN58,0)+IF(ISNUMBER(CSVデータ4!AN58),CSVデータ4!AN58,0)","v":0}]
[{"$f":"CSVデータ1!A59","v":"明細部"},{"$f":"CSVデータ1!B59","v":"国"},{"$f":"CSVデータ1!C59","v":60},{"$f":"CSVデータ1!D59","v":"女"},{"$f":"IF(ISNUMBER(CSVデータ1!E59),CSVデータ1!E59,0)+IF(ISNUMBER(CSVデータ2!E59),CSVデータ2!E59,0)+IF(ISNUMBER(CSVデータ3!E59),CSVデータ3!E59,0)+IF(ISNUMBER(CSVデータ4!E59),CSVデータ4!E59,0)","v":0},{"$f":"IF(ISNUMBER(CSVデータ1!F59),CSVデータ1!F59,0)+IF(ISNUMBER(CSVデータ2!F59),CSVデータ2!F59,0)+IF(ISNUMBER(CSVデータ3!F59),CSVデータ3!F59,0)+IF(ISNUMBER(CSVデータ4!F59),CSVデータ4!F59,0)","v":0},null,{"$f":"IF(ISNUMBER(CSVデータ1!H59),CSVデータ1!H59,0)+IF(ISNUMBER(CSVデータ2!H59),CSVデータ2!H59,0)+IF(ISNUMBER(CSVデータ3!H59),CSVデータ3!H59,0)+IF(ISNUMBER(CSVデータ4!H59),CSVデータ4!H59,0)","v":0},null,{"$f":"IF(ISNUMBER(CSVデータ1!J59),CSVデータ1!J59,0)+IF(ISNUMBER(CSVデータ2!J59),CSVデータ2!J59,0)+IF(ISNUMBER(CSVデータ3!J59),CSVデータ3!J59,0)+IF(ISNUMBER(CSVデータ4!J59),CSVデータ4!J59,0)","v":0},null,{"$f":"IF(ISNUMBER(CSVデータ1!L59),CSVデータ1!L59,0)+IF(ISNUMBER(CSVデータ2!L59),CSVデータ2!L59,0)+IF(ISNUMBER(CSVデータ3!L59),CSVデータ3!L59,0)+IF(ISNUMBER(CSVデータ4!L59),CSVデータ4!L59,0)","v":0},null,{"$f":"IF(ISNUMBER(CSVデータ1!N59),CSVデータ1!N59,0)+IF(ISNUMBER(CSVデータ2!N59),CSVデータ2!N59,0)+IF(ISNUMBER(CSVデータ3!N59),CSVデータ3!N59,0)+IF(ISNUMBER(CSVデータ4!N59),CSVデータ4!N59,0)","v":0},null,{"$f":"IF(ISNUMBER(CSVデータ1!P59),CSVデータ1!P59,0)+IF(ISNUMBER(CSVデータ2!P59),CSVデータ2!P59,0)+IF(ISNUMBER(CSVデータ3!P59),CSVデータ3!P59,0)+IF(ISNUMBER(CSVデータ4!P59),CSVデータ4!P59,0)","v":0},null,{"$f":"IF(ISNUMBER(CSVデータ1!R59),CSVデータ1!R59,0)+IF(ISNUMBER(CSVデータ2!R59),CSVデータ2!R59,0)+IF(ISNUMBER(CSVデータ3!R59),CSVデータ3!R59,0)+IF(ISNUMBER(CSVデータ4!R59),CSVデータ4!R59,0)","v":0},null,{"$f":"IF(ISNUMBER(CSVデータ1!T59),CSVデータ1!T59,0)+IF(ISNUMBER(CSVデータ2!T59),CSVデータ2!T59,0)+IF(ISNUMBER(CSVデータ3!T59),CSVデータ3!T59,0)+IF(ISNUMBER(CSVデータ4!T59),CSVデータ4!T59,0)","v":0},null,{"$f":"IF(ISNUMBER(CSVデータ1!V59),CSVデータ1!V59,0)+IF(ISNUMBER(CSVデータ2!V59),CSVデータ2!V59,0)+IF(ISNUMBER(CSVデータ3!V59),CSVデータ3!V59,0)+IF(ISNUMBER(CSVデータ4!V59),CSVデータ4!V59,0)","v":0},null,{"$f":"IF(ISNUMBER(CSVデータ1!X59),CSVデータ1!X59,0)+IF(ISNUMBER(CSVデータ2!X59),CSVデータ2!X59,0)+IF(ISNUMBER(CSVデータ3!X59),CSVデータ3!X59,0)+IF(ISNUMBER(CSVデータ4!X59),CSVデータ4!X59,0)","v":0},null,{"$f":"IF(ISNUMBER(CSVデータ1!Z59),CSVデータ1!Z59,0)+IF(ISNUMBER(CSVデータ2!Z59),CSVデータ2!Z59,0)+IF(ISNUMBER(CSVデータ3!Z59),CSVデータ3!Z59,0)+IF(ISNUMBER(CSVデータ4!Z59),CSVデータ4!Z59,0)","v":0},null,{"$f":"IF(ISNUMBER(CSVデータ1!AB59),CSVデータ1!AB59,0)+IF(ISNUMBER(CSVデータ2!AB59),CSVデータ2!AB59,0)+IF(ISNUMBER(CSVデータ3!AB59),CSVデータ3!AB59,0)+IF(ISNUMBER(CSVデータ4!AB59),CSVデータ4!AB59,0)","v":0},null,{"$f":"IF(ISNUMBER(CSVデータ1!AD59),CSVデータ1!AD59,0)+IF(ISNUMBER(CSVデータ2!AD59),CSVデータ2!AD59,0)+IF(ISNUMBER(CSVデータ3!AD59),CSVデータ3!AD59,0)+IF(ISNUMBER(CSVデータ4!AD59),CSVデータ4!AD59,0)","v":0},null,{"$f":"IF(ISNUMBER(CSVデータ1!AF59),CSVデータ1!AF59,0)+IF(ISNUMBER(CSVデータ2!AF59),CSVデータ2!AF59,0)+IF(ISNUMBER(CSVデータ3!AF59),CSVデータ3!AF59,0)+IF(ISNUMBER(CSVデータ4!AF59),CSVデータ4!AF59,0)","v":0},null,{"$f":"IF(ISNUMBER(CSVデータ1!AH59),CSVデータ1!AH59,0)+IF(ISNUMBER(CSVデータ2!AH59),CSVデータ2!AH59,0)+IF(ISNUMBER(CSVデータ3!AH59),CSVデータ3!AH59,0)+IF(ISNUMBER(CSVデータ4!AH59),CSVデータ4!AH59,0)","v":0},null,{"$f":"IF(ISNUMBER(CSVデータ1!AJ59),CSVデータ1!AJ59,0)+IF(ISNUMBER(CSVデータ2!AJ59),CSVデータ2!AJ59,0)+IF(ISNUMBER(CSVデータ3!AJ59),CSVデータ3!AJ59,0)+IF(ISNUMBER(CSVデータ4!AJ59),CSVデータ4!AJ59,0)","v":0},null,{"$f":"IF(ISNUMBER(CSVデータ1!AL59),CSVデータ1!AL59,0)+IF(ISNUMBER(CSVデータ2!AL59),CSVデータ2!AL59,0)+IF(ISNUMBER(CSVデータ3!AL59),CSVデータ3!AL59,0)+IF(ISNUMBER(CSVデータ4!AL59),CSVデータ4!AL59,0)","v":0},null,{"$f":"IF(ISNUMBER(CSVデータ1!AN59),CSVデータ1!AN59,0)+IF(ISNUMBER(CSVデータ2!AN59),CSVデータ2!AN59,0)+IF(ISNUMBER(CSVデータ3!AN59),CSVデータ3!AN59,0)+IF(ISNUMBER(CSVデータ4!AN59),CSVデータ4!AN59,0)","v":0}]
[{"$f":"CSVデータ1!A60","v":"明細部"},{"$f":"CSVデータ1!B60","v":"国"},{"$f":"CSVデータ1!C60","v":61},{"$f":"CSVデータ1!D60","v":"女"},{"$f":"IF(ISNUMBER(CSVデータ1!E60),CSVデータ1!E60,0)+IF(ISNUMBER(CSVデータ2!E60),CSVデータ2!E60,0)+IF(ISNUMBER(CSVデータ3!E60),CSVデータ3!E60,0)+IF(ISNUMBER(CSVデータ4!E60),CSVデータ4!E60,0)","v":0},{"$f":"IF(ISNUMBER(CSVデータ1!F60),CSVデータ1!F60,0)+IF(ISNUMBER(CSVデータ2!F60),CSVデータ2!F60,0)+IF(ISNUMBER(CSVデータ3!F60),CSVデータ3!F60,0)+IF(ISNUMBER(CSVデータ4!F60),CSVデータ4!F60,0)","v":0},null,{"$f":"IF(ISNUMBER(CSVデータ1!H60),CSVデータ1!H60,0)+IF(ISNUMBER(CSVデータ2!H60),CSVデータ2!H60,0)+IF(ISNUMBER(CSVデータ3!H60),CSVデータ3!H60,0)+IF(ISNUMBER(CSVデータ4!H60),CSVデータ4!H60,0)","v":0},null,{"$f":"IF(ISNUMBER(CSVデータ1!J60),CSVデータ1!J60,0)+IF(ISNUMBER(CSVデータ2!J60),CSVデータ2!J60,0)+IF(ISNUMBER(CSVデータ3!J60),CSVデータ3!J60,0)+IF(ISNUMBER(CSVデータ4!J60),CSVデータ4!J60,0)","v":0},null,{"$f":"IF(ISNUMBER(CSVデータ1!L60),CSVデータ1!L60,0)+IF(ISNUMBER(CSVデータ2!L60),CSVデータ2!L60,0)+IF(ISNUMBER(CSVデータ3!L60),CSVデータ3!L60,0)+IF(ISNUMBER(CSVデータ4!L60),CSVデータ4!L60,0)","v":0},null,{"$f":"IF(ISNUMBER(CSVデータ1!N60),CSVデータ1!N60,0)+IF(ISNUMBER(CSVデータ2!N60),CSVデータ2!N60,0)+IF(ISNUMBER(CSVデータ3!N60),CSVデータ3!N60,0)+IF(ISNUMBER(CSVデータ4!N60),CSVデータ4!N60,0)","v":0},null,{"$f":"IF(ISNUMBER(CSVデータ1!P60),CSVデータ1!P60,0)+IF(ISNUMBER(CSVデータ2!P60),CSVデータ2!P60,0)+IF(ISNUMBER(CSVデータ3!P60),CSVデータ3!P60,0)+IF(ISNUMBER(CSVデータ4!P60),CSVデータ4!P60,0)","v":0},null,{"$f":"IF(ISNUMBER(CSVデータ1!R60),CSVデータ1!R60,0)+IF(ISNUMBER(CSVデータ2!R60),CSVデータ2!R60,0)+IF(ISNUMBER(CSVデータ3!R60),CSVデータ3!R60,0)+IF(ISNUMBER(CSVデータ4!R60),CSVデータ4!R60,0)","v":0},null,{"$f":"IF(ISNUMBER(CSVデータ1!T60),CSVデータ1!T60,0)+IF(ISNUMBER(CSVデータ2!T60),CSVデータ2!T60,0)+IF(ISNUMBER(CSVデータ3!T60),CSVデータ3!T60,0)+IF(ISNUMBER(CSVデータ4!T60),CSVデータ4!T60,0)","v":0},null,{"$f":"IF(ISNUMBER(CSVデータ1!V60),CSVデータ1!V60,0)+IF(ISNUMBER(CSVデータ2!V60),CSVデータ2!V60,0)+IF(ISNUMBER(CSVデータ3!V60),CSVデータ3!V60,0)+IF(ISNUMBER(CSVデータ4!V60),CSVデータ4!V60,0)","v":0},null,{"$f":"IF(ISNUMBER(CSVデータ1!X60),CSVデータ1!X60,0)+IF(ISNUMBER(CSVデータ2!X60),CSVデータ2!X60,0)+IF(ISNUMBER(CSVデータ3!X60),CSVデータ3!X60,0)+IF(ISNUMBER(CSVデータ4!X60),CSVデータ4!X60,0)","v":0},null,{"$f":"IF(ISNUMBER(CSVデータ1!Z60),CSVデータ1!Z60,0)+IF(ISNUMBER(CSVデータ2!Z60),CSVデータ2!Z60,0)+IF(ISNUMBER(CSVデータ3!Z60),CSVデータ3!Z60,0)+IF(ISNUMBER(CSVデータ4!Z60),CSVデータ4!Z60,0)","v":0},null,{"$f":"IF(ISNUMBER(CSVデータ1!AB60),CSVデータ1!AB60,0)+IF(ISNUMBER(CSVデータ2!AB60),CSVデータ2!AB60,0)+IF(ISNUMBER(CSVデータ3!AB60),CSVデータ3!AB60,0)+IF(ISNUMBER(CSVデータ4!AB60),CSVデータ4!AB60,0)","v":0},null,{"$f":"IF(ISNUMBER(CSVデータ1!AD60),CSVデータ1!AD60,0)+IF(ISNUMBER(CSVデータ2!AD60),CSVデータ2!AD60,0)+IF(ISNUMBER(CSVデータ3!AD60),CSVデータ3!AD60,0)+IF(ISNUMBER(CSVデータ4!AD60),CSVデータ4!AD60,0)","v":0},null,{"$f":"IF(ISNUMBER(CSVデータ1!AF60),CSVデータ1!AF60,0)+IF(ISNUMBER(CSVデータ2!AF60),CSVデータ2!AF60,0)+IF(ISNUMBER(CSVデータ3!AF60),CSVデータ3!AF60,0)+IF(ISNUMBER(CSVデータ4!AF60),CSVデータ4!AF60,0)","v":0},null,{"$f":"IF(ISNUMBER(CSVデータ1!AH60),CSVデータ1!AH60,0)+IF(ISNUMBER(CSVデータ2!AH60),CSVデータ2!AH60,0)+IF(ISNUMBER(CSVデータ3!AH60),CSVデータ3!AH60,0)+IF(ISNUMBER(CSVデータ4!AH60),CSVデータ4!AH60,0)","v":0},null,{"$f":"IF(ISNUMBER(CSVデータ1!AJ60),CSVデータ1!AJ60,0)+IF(ISNUMBER(CSVデータ2!AJ60),CSVデータ2!AJ60,0)+IF(ISNUMBER(CSVデータ3!AJ60),CSVデータ3!AJ60,0)+IF(ISNUMBER(CSVデータ4!AJ60),CSVデータ4!AJ60,0)","v":0},null,{"$f":"IF(ISNUMBER(CSVデータ1!AL60),CSVデータ1!AL60,0)+IF(ISNUMBER(CSVデータ2!AL60),CSVデータ2!AL60,0)+IF(ISNUMBER(CSVデータ3!AL60),CSVデータ3!AL60,0)+IF(ISNUMBER(CSVデータ4!AL60),CSVデータ4!AL60,0)","v":0},null,{"$f":"IF(ISNUMBER(CSVデータ1!AN60),CSVデータ1!AN60,0)+IF(ISNUMBER(CSVデータ2!AN60),CSVデータ2!AN60,0)+IF(ISNUMBER(CSVデータ3!AN60),CSVデータ3!AN60,0)+IF(ISNUMBER(CSVデータ4!AN60),CSVデータ4!AN60,0)","v":0}]
[{"$f":"CSVデータ1!A61","v":"明細部"},{"$f":"CSVデータ1!B61","v":"国"},{"$f":"CSVデータ1!C61","v":62},{"$f":"CSVデータ1!D61","v":"女"},{"$f":"IF(ISNUMBER(CSVデータ1!E61),CSVデータ1!E61,0)+IF(ISNUMBER(CSVデータ2!E61),CSVデータ2!E61,0)+IF(ISNUMBER(CSVデータ3!E61),CSVデータ3!E61,0)+IF(ISNUMBER(CSVデータ4!E61),CSVデータ4!E61,0)","v":0},{"$f":"IF(ISNUMBER(CSVデータ1!F61),CSVデータ1!F61,0)+IF(ISNUMBER(CSVデータ2!F61),CSVデータ2!F61,0)+IF(ISNUMBER(CSVデータ3!F61),CSVデータ3!F61,0)+IF(ISNUMBER(CSVデータ4!F61),CSVデータ4!F61,0)","v":0},null,{"$f":"IF(ISNUMBER(CSVデータ1!H61),CSVデータ1!H61,0)+IF(ISNUMBER(CSVデータ2!H61),CSVデータ2!H61,0)+IF(ISNUMBER(CSVデータ3!H61),CSVデータ3!H61,0)+IF(ISNUMBER(CSVデータ4!H61),CSVデータ4!H61,0)","v":0},null,{"$f":"IF(ISNUMBER(CSVデータ1!J61),CSVデータ1!J61,0)+IF(ISNUMBER(CSVデータ2!J61),CSVデータ2!J61,0)+IF(ISNUMBER(CSVデータ3!J61),CSVデータ3!J61,0)+IF(ISNUMBER(CSVデータ4!J61),CSVデータ4!J61,0)","v":0},null,{"$f":"IF(ISNUMBER(CSVデータ1!L61),CSVデータ1!L61,0)+IF(ISNUMBER(CSVデータ2!L61),CSVデータ2!L61,0)+IF(ISNUMBER(CSVデータ3!L61),CSVデータ3!L61,0)+IF(ISNUMBER(CSVデータ4!L61),CSVデータ4!L61,0)","v":0},null,{"$f":"IF(ISNUMBER(CSVデータ1!N61),CSVデータ1!N61,0)+IF(ISNUMBER(CSVデータ2!N61),CSVデータ2!N61,0)+IF(ISNUMBER(CSVデータ3!N61),CSVデータ3!N61,0)+IF(ISNUMBER(CSVデータ4!N61),CSVデータ4!N61,0)","v":0},null,{"$f":"IF(ISNUMBER(CSVデータ1!P61),CSVデータ1!P61,0)+IF(ISNUMBER(CSVデータ2!P61),CSVデータ2!P61,0)+IF(ISNUMBER(CSVデータ3!P61),CSVデータ3!P61,0)+IF(ISNUMBER(CSVデータ4!P61),CSVデータ4!P61,0)","v":0},null,{"$f":"IF(ISNUMBER(CSVデータ1!R61),CSVデータ1!R61,0)+IF(ISNUMBER(CSVデータ2!R61),CSVデータ2!R61,0)+IF(ISNUMBER(CSVデータ3!R61),CSVデータ3!R61,0)+IF(ISNUMBER(CSVデータ4!R61),CSVデータ4!R61,0)","v":0},null,{"$f":"IF(ISNUMBER(CSVデータ1!T61),CSVデータ1!T61,0)+IF(ISNUMBER(CSVデータ2!T61),CSVデータ2!T61,0)+IF(ISNUMBER(CSVデータ3!T61),CSVデータ3!T61,0)+IF(ISNUMBER(CSVデータ4!T61),CSVデータ4!T61,0)","v":0},null,{"$f":"IF(ISNUMBER(CSVデータ1!V61),CSVデータ1!V61,0)+IF(ISNUMBER(CSVデータ2!V61),CSVデータ2!V61,0)+IF(ISNUMBER(CSVデータ3!V61),CSVデータ3!V61,0)+IF(ISNUMBER(CSVデータ4!V61),CSVデータ4!V61,0)","v":0},null,{"$f":"IF(ISNUMBER(CSVデータ1!X61),CSVデータ1!X61,0)+IF(ISNUMBER(CSVデータ2!X61),CSVデータ2!X61,0)+IF(ISNUMBER(CSVデータ3!X61),CSVデータ3!X61,0)+IF(ISNUMBER(CSVデータ4!X61),CSVデータ4!X61,0)","v":0},null,{"$f":"IF(ISNUMBER(CSVデータ1!Z61),CSVデータ1!Z61,0)+IF(ISNUMBER(CSVデータ2!Z61),CSVデータ2!Z61,0)+IF(ISNUMBER(CSVデータ3!Z61),CSVデータ3!Z61,0)+IF(ISNUMBER(CSVデータ4!Z61),CSVデータ4!Z61,0)","v":0},null,{"$f":"IF(ISNUMBER(CSVデータ1!AB61),CSVデータ1!AB61,0)+IF(ISNUMBER(CSVデータ2!AB61),CSVデータ2!AB61,0)+IF(ISNUMBER(CSVデータ3!AB61),CSVデータ3!AB61,0)+IF(ISNUMBER(CSVデータ4!AB61),CSVデータ4!AB61,0)","v":0},null,{"$f":"IF(ISNUMBER(CSVデータ1!AD61),CSVデータ1!AD61,0)+IF(ISNUMBER(CSVデータ2!AD61),CSVデータ2!AD61,0)+IF(ISNUMBER(CSVデータ3!AD61),CSVデータ3!AD61,0)+IF(ISNUMBER(CSVデータ4!AD61),CSVデータ4!AD61,0)","v":0},null,{"$f":"IF(ISNUMBER(CSVデータ1!AF61),CSVデータ1!AF61,0)+IF(ISNUMBER(CSVデータ2!AF61),CSVデータ2!AF61,0)+IF(ISNUMBER(CSVデータ3!AF61),CSVデータ3!AF61,0)+IF(ISNUMBER(CSVデータ4!AF61),CSVデータ4!AF61,0)","v":0},null,{"$f":"IF(ISNUMBER(CSVデータ1!AH61),CSVデータ1!AH61,0)+IF(ISNUMBER(CSVデータ2!AH61),CSVデータ2!AH61,0)+IF(ISNUMBER(CSVデータ3!AH61),CSVデータ3!AH61,0)+IF(ISNUMBER(CSVデータ4!AH61),CSVデータ4!AH61,0)","v":0},null,{"$f":"IF(ISNUMBER(CSVデータ1!AJ61),CSVデータ1!AJ61,0)+IF(ISNUMBER(CSVデータ2!AJ61),CSVデータ2!AJ61,0)+IF(ISNUMBER(CSVデータ3!AJ61),CSVデータ3!AJ61,0)+IF(ISNUMBER(CSVデータ4!AJ61),CSVデータ4!AJ61,0)","v":0},null,{"$f":"IF(ISNUMBER(CSVデータ1!AL61),CSVデータ1!AL61,0)+IF(ISNUMBER(CSVデータ2!AL61),CSVデータ2!AL61,0)+IF(ISNUMBER(CSVデータ3!AL61),CSVデータ3!AL61,0)+IF(ISNUMBER(CSVデータ4!AL61),CSVデータ4!AL61,0)","v":0},null,{"$f":"IF(ISNUMBER(CSVデータ1!AN61),CSVデータ1!AN61,0)+IF(ISNUMBER(CSVデータ2!AN61),CSVデータ2!AN61,0)+IF(ISNUMBER(CSVデータ3!AN61),CSVデータ3!AN61,0)+IF(ISNUMBER(CSVデータ4!AN61),CSVデータ4!AN61,0)","v":0}]
[{"$f":"CSVデータ1!A62","v":"明細部"},{"$f":"CSVデータ1!B62","v":"国"},{"$f":"CSVデータ1!C62","v":63},{"$f":"CSVデータ1!D62","v":"女"},{"$f":"IF(ISNUMBER(CSVデータ1!E62),CSVデータ1!E62,0)+IF(ISNUMBER(CSVデータ2!E62),CSVデータ2!E62,0)+IF(ISNUMBER(CSVデータ3!E62),CSVデータ3!E62,0)+IF(ISNUMBER(CSVデータ4!E62),CSVデータ4!E62,0)","v":0},{"$f":"IF(ISNUMBER(CSVデータ1!F62),CSVデータ1!F62,0)+IF(ISNUMBER(CSVデータ2!F62),CSVデータ2!F62,0)+IF(ISNUMBER(CSVデータ3!F62),CSVデータ3!F62,0)+IF(ISNUMBER(CSVデータ4!F62),CSVデータ4!F62,0)","v":0},null,{"$f":"IF(ISNUMBER(CSVデータ1!H62),CSVデータ1!H62,0)+IF(ISNUMBER(CSVデータ2!H62),CSVデータ2!H62,0)+IF(ISNUMBER(CSVデータ3!H62),CSVデータ3!H62,0)+IF(ISNUMBER(CSVデータ4!H62),CSVデータ4!H62,0)","v":0},null,{"$f":"IF(ISNUMBER(CSVデータ1!J62),CSVデータ1!J62,0)+IF(ISNUMBER(CSVデータ2!J62),CSVデータ2!J62,0)+IF(ISNUMBER(CSVデータ3!J62),CSVデータ3!J62,0)+IF(ISNUMBER(CSVデータ4!J62),CSVデータ4!J62,0)","v":0},null,{"$f":"IF(ISNUMBER(CSVデータ1!L62),CSVデータ1!L62,0)+IF(ISNUMBER(CSVデータ2!L62),CSVデータ2!L62,0)+IF(ISNUMBER(CSVデータ3!L62),CSVデータ3!L62,0)+IF(ISNUMBER(CSVデータ4!L62),CSVデータ4!L62,0)","v":0},null,{"$f":"IF(ISNUMBER(CSVデータ1!N62),CSVデータ1!N62,0)+IF(ISNUMBER(CSVデータ2!N62),CSVデータ2!N62,0)+IF(ISNUMBER(CSVデータ3!N62),CSVデータ3!N62,0)+IF(ISNUMBER(CSVデータ4!N62),CSVデータ4!N62,0)","v":0},null,{"$f":"IF(ISNUMBER(CSVデータ1!P62),CSVデータ1!P62,0)+IF(ISNUMBER(CSVデータ2!P62),CSVデータ2!P62,0)+IF(ISNUMBER(CSVデータ3!P62),CSVデータ3!P62,0)+IF(ISNUMBER(CSVデータ4!P62),CSVデータ4!P62,0)","v":0},null,{"$f":"IF(ISNUMBER(CSVデータ1!R62),CSVデータ1!R62,0)+IF(ISNUMBER(CSVデータ2!R62),CSVデータ2!R62,0)+IF(ISNUMBER(CSVデータ3!R62),CSVデータ3!R62,0)+IF(ISNUMBER(CSVデータ4!R62),CSVデータ4!R62,0)","v":0},null,{"$f":"IF(ISNUMBER(CSVデータ1!T62),CSVデータ1!T62,0)+IF(ISNUMBER(CSVデータ2!T62),CSVデータ2!T62,0)+IF(ISNUMBER(CSVデータ3!T62),CSVデータ3!T62,0)+IF(ISNUMBER(CSVデータ4!T62),CSVデータ4!T62,0)","v":0},null,{"$f":"IF(ISNUMBER(CSVデータ1!V62),CSVデータ1!V62,0)+IF(ISNUMBER(CSVデータ2!V62),CSVデータ2!V62,0)+IF(ISNUMBER(CSVデータ3!V62),CSVデータ3!V62,0)+IF(ISNUMBER(CSVデータ4!V62),CSVデータ4!V62,0)","v":0},null,{"$f":"IF(ISNUMBER(CSVデータ1!X62),CSVデータ1!X62,0)+IF(ISNUMBER(CSVデータ2!X62),CSVデータ2!X62,0)+IF(ISNUMBER(CSVデータ3!X62),CSVデータ3!X62,0)+IF(ISNUMBER(CSVデータ4!X62),CSVデータ4!X62,0)","v":0},null,{"$f":"IF(ISNUMBER(CSVデータ1!Z62),CSVデータ1!Z62,0)+IF(ISNUMBER(CSVデータ2!Z62),CSVデータ2!Z62,0)+IF(ISNUMBER(CSVデータ3!Z62),CSVデータ3!Z62,0)+IF(ISNUMBER(CSVデータ4!Z62),CSVデータ4!Z62,0)","v":0},null,{"$f":"IF(ISNUMBER(CSVデータ1!AB62),CSVデータ1!AB62,0)+IF(ISNUMBER(CSVデータ2!AB62),CSVデータ2!AB62,0)+IF(ISNUMBER(CSVデータ3!AB62),CSVデータ3!AB62,0)+IF(ISNUMBER(CSVデータ4!AB62),CSVデータ4!AB62,0)","v":0},null,{"$f":"IF(ISNUMBER(CSVデータ1!AD62),CSVデータ1!AD62,0)+IF(ISNUMBER(CSVデータ2!AD62),CSVデータ2!AD62,0)+IF(ISNUMBER(CSVデータ3!AD62),CSVデータ3!AD62,0)+IF(ISNUMBER(CSVデータ4!AD62),CSVデータ4!AD62,0)","v":0},null,{"$f":"IF(ISNUMBER(CSVデータ1!AF62),CSVデータ1!AF62,0)+IF(ISNUMBER(CSVデータ2!AF62),CSVデータ2!AF62,0)+IF(ISNUMBER(CSVデータ3!AF62),CSVデータ3!AF62,0)+IF(ISNUMBER(CSVデータ4!AF62),CSVデータ4!AF62,0)","v":0},null,{"$f":"IF(ISNUMBER(CSVデータ1!AH62),CSVデータ1!AH62,0)+IF(ISNUMBER(CSVデータ2!AH62),CSVデータ2!AH62,0)+IF(ISNUMBER(CSVデータ3!AH62),CSVデータ3!AH62,0)+IF(ISNUMBER(CSVデータ4!AH62),CSVデータ4!AH62,0)","v":0},null,{"$f":"IF(ISNUMBER(CSVデータ1!AJ62),CSVデータ1!AJ62,0)+IF(ISNUMBER(CSVデータ2!AJ62),CSVデータ2!AJ62,0)+IF(ISNUMBER(CSVデータ3!AJ62),CSVデータ3!AJ62,0)+IF(ISNUMBER(CSVデータ4!AJ62),CSVデータ4!AJ62,0)","v":0},null,{"$f":"IF(ISNUMBER(CSVデータ1!AL62),CSVデータ1!AL62,0)+IF(ISNUMBER(CSVデータ2!AL62),CSVデータ2!AL62,0)+IF(ISNUMBER(CSVデータ3!AL62),CSVデータ3!AL62,0)+IF(ISNUMBER(CSVデータ4!AL62),CSVデータ4!AL62,0)","v":0},null,{"$f":"IF(ISNUMBER(CSVデータ1!AN62),CSVデータ1!AN62,0)+IF(ISNUMBER(CSVデータ2!AN62),CSVデータ2!AN62,0)+IF(ISNUMBER(CSVデータ3!AN62),CSVデータ3!AN62,0)+IF(ISNUMBER(CSVデータ4!AN62),CSVデータ4!AN62,0)","v":0}]
[{"$f":"CSVデータ1!A63","v":"明細部"},{"$f":"CSVデータ1!B63","v":"国"},{"$f":"CSVデータ1!C63","v":64},{"$f":"CSVデータ1!D63","v":"女"},{"$f":"IF(ISNUMBER(CSVデータ1!E63),CSVデータ1!E63,0)+IF(ISNUMBER(CSVデータ2!E63),CSVデータ2!E63,0)+IF(ISNUMBER(CSVデータ3!E63),CSVデータ3!E63,0)+IF(ISNUMBER(CSVデータ4!E63),CSVデータ4!E63,0)","v":0},{"$f":"IF(ISNUMBER(CSVデータ1!F63),CSVデータ1!F63,0)+IF(ISNUMBER(CSVデータ2!F63),CSVデータ2!F63,0)+IF(ISNUMBER(CSVデータ3!F63),CSVデータ3!F63,0)+IF(ISNUMBER(CSVデータ4!F63),CSVデータ4!F63,0)","v":0},null,{"$f":"IF(ISNUMBER(CSVデータ1!H63),CSVデータ1!H63,0)+IF(ISNUMBER(CSVデータ2!H63),CSVデータ2!H63,0)+IF(ISNUMBER(CSVデータ3!H63),CSVデータ3!H63,0)+IF(ISNUMBER(CSVデータ4!H63),CSVデータ4!H63,0)","v":0},null,{"$f":"IF(ISNUMBER(CSVデータ1!J63),CSVデータ1!J63,0)+IF(ISNUMBER(CSVデータ2!J63),CSVデータ2!J63,0)+IF(ISNUMBER(CSVデータ3!J63),CSVデータ3!J63,0)+IF(ISNUMBER(CSVデータ4!J63),CSVデータ4!J63,0)","v":0},null,{"$f":"IF(ISNUMBER(CSVデータ1!L63),CSVデータ1!L63,0)+IF(ISNUMBER(CSVデータ2!L63),CSVデータ2!L63,0)+IF(ISNUMBER(CSVデータ3!L63),CSVデータ3!L63,0)+IF(ISNUMBER(CSVデータ4!L63),CSVデータ4!L63,0)","v":0},null,{"$f":"IF(ISNUMBER(CSVデータ1!N63),CSVデータ1!N63,0)+IF(ISNUMBER(CSVデータ2!N63),CSVデータ2!N63,0)+IF(ISNUMBER(CSVデータ3!N63),CSVデータ3!N63,0)+IF(ISNUMBER(CSVデータ4!N63),CSVデータ4!N63,0)","v":0},null,{"$f":"IF(ISNUMBER(CSVデータ1!P63),CSVデータ1!P63,0)+IF(ISNUMBER(CSVデータ2!P63),CSVデータ2!P63,0)+IF(ISNUMBER(CSVデータ3!P63),CSVデータ3!P63,0)+IF(ISNUMBER(CSVデータ4!P63),CSVデータ4!P63,0)","v":0},null,{"$f":"IF(ISNUMBER(CSVデータ1!R63),CSVデータ1!R63,0)+IF(ISNUMBER(CSVデータ2!R63),CSVデータ2!R63,0)+IF(ISNUMBER(CSVデータ3!R63),CSVデータ3!R63,0)+IF(ISNUMBER(CSVデータ4!R63),CSVデータ4!R63,0)","v":0},null,{"$f":"IF(ISNUMBER(CSVデータ1!T63),CSVデータ1!T63,0)+IF(ISNUMBER(CSVデータ2!T63),CSVデータ2!T63,0)+IF(ISNUMBER(CSVデータ3!T63),CSVデータ3!T63,0)+IF(ISNUMBER(CSVデータ4!T63),CSVデータ4!T63,0)","v":0},null,{"$f":"IF(ISNUMBER(CSVデータ1!V63),CSVデータ1!V63,0)+IF(ISNUMBER(CSVデータ2!V63),CSVデータ2!V63,0)+IF(ISNUMBER(CSVデータ3!V63),CSVデータ3!V63,0)+IF(ISNUMBER(CSVデータ4!V63),CSVデータ4!V63,0)","v":0},null,{"$f":"IF(ISNUMBER(CSVデータ1!X63),CSVデータ1!X63,0)+IF(ISNUMBER(CSVデータ2!X63),CSVデータ2!X63,0)+IF(ISNUMBER(CSVデータ3!X63),CSVデータ3!X63,0)+IF(ISNUMBER(CSVデータ4!X63),CSVデータ4!X63,0)","v":0},null,{"$f":"IF(ISNUMBER(CSVデータ1!Z63),CSVデータ1!Z63,0)+IF(ISNUMBER(CSVデータ2!Z63),CSVデータ2!Z63,0)+IF(ISNUMBER(CSVデータ3!Z63),CSVデータ3!Z63,0)+IF(ISNUMBER(CSVデータ4!Z63),CSVデータ4!Z63,0)","v":0},null,{"$f":"IF(ISNUMBER(CSVデータ1!AB63),CSVデータ1!AB63,0)+IF(ISNUMBER(CSVデータ2!AB63),CSVデータ2!AB63,0)+IF(ISNUMBER(CSVデータ3!AB63),CSVデータ3!AB63,0)+IF(ISNUMBER(CSVデータ4!AB63),CSVデータ4!AB63,0)","v":0},null,{"$f":"IF(ISNUMBER(CSVデータ1!AD63),CSVデータ1!AD63,0)+IF(ISNUMBER(CSVデータ2!AD63),CSVデータ2!AD63,0)+IF(ISNUMBER(CSVデータ3!AD63),CSVデータ3!AD63,0)+IF(ISNUMBER(CSVデータ4!AD63),CSVデータ4!AD63,0)","v":0},null,{"$f":"IF(ISNUMBER(CSVデータ1!AF63),CSVデータ1!AF63,0)+IF(ISNUMBER(CSVデータ2!AF63),CSVデータ2!AF63,0)+IF(ISNUMBER(CSVデータ3!AF63),CSVデータ3!AF63,0)+IF(ISNUMBER(CSVデータ4!AF63),CSVデータ4!AF63,0)","v":0},null,{"$f":"IF(ISNUMBER(CSVデータ1!AH63),CSVデータ1!AH63,0)+IF(ISNUMBER(CSVデータ2!AH63),CSVデータ2!AH63,0)+IF(ISNUMBER(CSVデータ3!AH63),CSVデータ3!AH63,0)+IF(ISNUMBER(CSVデータ4!AH63),CSVデータ4!AH63,0)","v":0},null,{"$f":"IF(ISNUMBER(CSVデータ1!AJ63),CSVデータ1!AJ63,0)+IF(ISNUMBER(CSVデータ2!AJ63),CSVデータ2!AJ63,0)+IF(ISNUMBER(CSVデータ3!AJ63),CSVデータ3!AJ63,0)+IF(ISNUMBER(CSVデータ4!AJ63),CSVデータ4!AJ63,0)","v":0},null,{"$f":"IF(ISNUMBER(CSVデータ1!AL63),CSVデータ1!AL63,0)+IF(ISNUMBER(CSVデータ2!AL63),CSVデータ2!AL63,0)+IF(ISNUMBER(CSVデータ3!AL63),CSVデータ3!AL63,0)+IF(ISNUMBER(CSVデータ4!AL63),CSVデータ4!AL63,0)","v":0},null,{"$f":"IF(ISNUMBER(CSVデータ1!AN63),CSVデータ1!AN63,0)+IF(ISNUMBER(CSVデータ2!AN63),CSVデータ2!AN63,0)+IF(ISNUMBER(CSVデータ3!AN63),CSVデータ3!AN63,0)+IF(ISNUMBER(CSVデータ4!AN63),CSVデータ4!AN63,0)","v":0}]
[{"$f":"CSVデータ1!A64","v":"明細部"},{"$f":"CSVデータ1!B64","v":"国"},{"$f":"CSVデータ1!C64","v":65},{"$f":"CSVデータ1!D64","v":"女"},{"$f":"IF(ISNUMBER(CSVデータ1!E64),CSVデータ1!E64,0)+IF(ISNUMBER(CSVデータ2!E64),CSVデータ2!E64,0)+IF(ISNUMBER(CSVデータ3!E64),CSVデータ3!E64,0)+IF(ISNUMBER(CSVデータ4!E64),CSVデータ4!E64,0)","v":0},{"$f":"IF(ISNUMBER(CSVデータ1!F64),CSVデータ1!F64,0)+IF(ISNUMBER(CSVデータ2!F64),CSVデータ2!F64,0)+IF(ISNUMBER(CSVデータ3!F64),CSVデータ3!F64,0)+IF(ISNUMBER(CSVデータ4!F64),CSVデータ4!F64,0)","v":0},null,{"$f":"IF(ISNUMBER(CSVデータ1!H64),CSVデータ1!H64,0)+IF(ISNUMBER(CSVデータ2!H64),CSVデータ2!H64,0)+IF(ISNUMBER(CSVデータ3!H64),CSVデータ3!H64,0)+IF(ISNUMBER(CSVデータ4!H64),CSVデータ4!H64,0)","v":0},null,{"$f":"IF(ISNUMBER(CSVデータ1!J64),CSVデータ1!J64,0)+IF(ISNUMBER(CSVデータ2!J64),CSVデータ2!J64,0)+IF(ISNUMBER(CSVデータ3!J64),CSVデータ3!J64,0)+IF(ISNUMBER(CSVデータ4!J64),CSVデータ4!J64,0)","v":0},null,{"$f":"IF(ISNUMBER(CSVデータ1!L64),CSVデータ1!L64,0)+IF(ISNUMBER(CSVデータ2!L64),CSVデータ2!L64,0)+IF(ISNUMBER(CSVデータ3!L64),CSVデータ3!L64,0)+IF(ISNUMBER(CSVデータ4!L64),CSVデータ4!L64,0)","v":0},null,{"$f":"IF(ISNUMBER(CSVデータ1!N64),CSVデータ1!N64,0)+IF(ISNUMBER(CSVデータ2!N64),CSVデータ2!N64,0)+IF(ISNUMBER(CSVデータ3!N64),CSVデータ3!N64,0)+IF(ISNUMBER(CSVデータ4!N64),CSVデータ4!N64,0)","v":0},null,{"$f":"IF(ISNUMBER(CSVデータ1!P64),CSVデータ1!P64,0)+IF(ISNUMBER(CSVデータ2!P64),CSVデータ2!P64,0)+IF(ISNUMBER(CSVデータ3!P64),CSVデータ3!P64,0)+IF(ISNUMBER(CSVデータ4!P64),CSVデータ4!P64,0)","v":0},null,{"$f":"IF(ISNUMBER(CSVデータ1!R64),CSVデータ1!R64,0)+IF(ISNUMBER(CSVデータ2!R64),CSVデータ2!R64,0)+IF(ISNUMBER(CSVデータ3!R64),CSVデータ3!R64,0)+IF(ISNUMBER(CSVデータ4!R64),CSVデータ4!R64,0)","v":0},null,{"$f":"IF(ISNUMBER(CSVデータ1!T64),CSVデータ1!T64,0)+IF(ISNUMBER(CSVデータ2!T64),CSVデータ2!T64,0)+IF(ISNUMBER(CSVデータ3!T64),CSVデータ3!T64,0)+IF(ISNUMBER(CSVデータ4!T64),CSVデータ4!T64,0)","v":0},null,{"$f":"IF(ISNUMBER(CSVデータ1!V64),CSVデータ1!V64,0)+IF(ISNUMBER(CSVデータ2!V64),CSVデータ2!V64,0)+IF(ISNUMBER(CSVデータ3!V64),CSVデータ3!V64,0)+IF(ISNUMBER(CSVデータ4!V64),CSVデータ4!V64,0)","v":0},null,{"$f":"IF(ISNUMBER(CSVデータ1!X64),CSVデータ1!X64,0)+IF(ISNUMBER(CSVデータ2!X64),CSVデータ2!X64,0)+IF(ISNUMBER(CSVデータ3!X64),CSVデータ3!X64,0)+IF(ISNUMBER(CSVデータ4!X64),CSVデータ4!X64,0)","v":0},null,{"$f":"IF(ISNUMBER(CSVデータ1!Z64),CSVデータ1!Z64,0)+IF(ISNUMBER(CSVデータ2!Z64),CSVデータ2!Z64,0)+IF(ISNUMBER(CSVデータ3!Z64),CSVデータ3!Z64,0)+IF(ISNUMBER(CSVデータ4!Z64),CSVデータ4!Z64,0)","v":0},null,{"$f":"IF(ISNUMBER(CSVデータ1!AB64),CSVデータ1!AB64,0)+IF(ISNUMBER(CSVデータ2!AB64),CSVデータ2!AB64,0)+IF(ISNUMBER(CSVデータ3!AB64),CSVデータ3!AB64,0)+IF(ISNUMBER(CSVデータ4!AB64),CSVデータ4!AB64,0)","v":0},null,{"$f":"IF(ISNUMBER(CSVデータ1!AD64),CSVデータ1!AD64,0)+IF(ISNUMBER(CSVデータ2!AD64),CSVデータ2!AD64,0)+IF(ISNUMBER(CSVデータ3!AD64),CSVデータ3!AD64,0)+IF(ISNUMBER(CSVデータ4!AD64),CSVデータ4!AD64,0)","v":0},null,{"$f":"IF(ISNUMBER(CSVデータ1!AF64),CSVデータ1!AF64,0)+IF(ISNUMBER(CSVデータ2!AF64),CSVデータ2!AF64,0)+IF(ISNUMBER(CSVデータ3!AF64),CSVデータ3!AF64,0)+IF(ISNUMBER(CSVデータ4!AF64),CSVデータ4!AF64,0)","v":0},null,{"$f":"IF(ISNUMBER(CSVデータ1!AH64),CSVデータ1!AH64,0)+IF(ISNUMBER(CSVデータ2!AH64),CSVデータ2!AH64,0)+IF(ISNUMBER(CSVデータ3!AH64),CSVデータ3!AH64,0)+IF(ISNUMBER(CSVデータ4!AH64),CSVデータ4!AH64,0)","v":0},null,{"$f":"IF(ISNUMBER(CSVデータ1!AJ64),CSVデータ1!AJ64,0)+IF(ISNUMBER(CSVデータ2!AJ64),CSVデータ2!AJ64,0)+IF(ISNUMBER(CSVデータ3!AJ64),CSVデータ3!AJ64,0)+IF(ISNUMBER(CSVデータ4!AJ64),CSVデータ4!AJ64,0)","v":0},null,{"$f":"IF(ISNUMBER(CSVデータ1!AL64),CSVデータ1!AL64,0)+IF(ISNUMBER(CSVデータ2!AL64),CSVデータ2!AL64,0)+IF(ISNUMBER(CSVデータ3!AL64),CSVデータ3!AL64,0)+IF(ISNUMBER(CSVデータ4!AL64),CSVデータ4!AL64,0)","v":0},null,{"$f":"IF(ISNUMBER(CSVデータ1!AN64),CSVデータ1!AN64,0)+IF(ISNUMBER(CSVデータ2!AN64),CSVデータ2!AN64,0)+IF(ISNUMBER(CSVデータ3!AN64),CSVデータ3!AN64,0)+IF(ISNUMBER(CSVデータ4!AN64),CSVデータ4!AN64,0)","v":0}]
[{"$f":"CSVデータ1!A65","v":"明細部"},{"$f":"CSVデータ1!B65","v":"国"},{"$f":"CSVデータ1!C65","v":66},{"$f":"CSVデータ1!D65","v":"女"},{"$f":"IF(ISNUMBER(CSVデータ1!E65),CSVデータ1!E65,0)+IF(ISNUMBER(CSVデータ2!E65),CSVデータ2!E65,0)+IF(ISNUMBER(CSVデータ3!E65),CSVデータ3!E65,0)+IF(ISNUMBER(CSVデータ4!E65),CSVデータ4!E65,0)","v":0},{"$f":"IF(ISNUMBER(CSVデータ1!F65),CSVデータ1!F65,0)+IF(ISNUMBER(CSVデータ2!F65),CSVデータ2!F65,0)+IF(ISNUMBER(CSVデータ3!F65),CSVデータ3!F65,0)+IF(ISNUMBER(CSVデータ4!F65),CSVデータ4!F65,0)","v":0},null,{"$f":"IF(ISNUMBER(CSVデータ1!H65),CSVデータ1!H65,0)+IF(ISNUMBER(CSVデータ2!H65),CSVデータ2!H65,0)+IF(ISNUMBER(CSVデータ3!H65),CSVデータ3!H65,0)+IF(ISNUMBER(CSVデータ4!H65),CSVデータ4!H65,0)","v":0},null,{"$f":"IF(ISNUMBER(CSVデータ1!J65),CSVデータ1!J65,0)+IF(ISNUMBER(CSVデータ2!J65),CSVデータ2!J65,0)+IF(ISNUMBER(CSVデータ3!J65),CSVデータ3!J65,0)+IF(ISNUMBER(CSVデータ4!J65),CSVデータ4!J65,0)","v":0},null,{"$f":"IF(ISNUMBER(CSVデータ1!L65),CSVデータ1!L65,0)+IF(ISNUMBER(CSVデータ2!L65),CSVデータ2!L65,0)+IF(ISNUMBER(CSVデータ3!L65),CSVデータ3!L65,0)+IF(ISNUMBER(CSVデータ4!L65),CSVデータ4!L65,0)","v":0},null,{"$f":"IF(ISNUMBER(CSVデータ1!N65),CSVデータ1!N65,0)+IF(ISNUMBER(CSVデータ2!N65),CSVデータ2!N65,0)+IF(ISNUMBER(CSVデータ3!N65),CSVデータ3!N65,0)+IF(ISNUMBER(CSVデータ4!N65),CSVデータ4!N65,0)","v":0},null,{"$f":"IF(ISNUMBER(CSVデータ1!P65),CSVデータ1!P65,0)+IF(ISNUMBER(CSVデータ2!P65),CSVデータ2!P65,0)+IF(ISNUMBER(CSVデータ3!P65),CSVデータ3!P65,0)+IF(ISNUMBER(CSVデータ4!P65),CSVデータ4!P65,0)","v":0},null,{"$f":"IF(ISNUMBER(CSVデータ1!R65),CSVデータ1!R65,0)+IF(ISNUMBER(CSVデータ2!R65),CSVデータ2!R65,0)+IF(ISNUMBER(CSVデータ3!R65),CSVデータ3!R65,0)+IF(ISNUMBER(CSVデータ4!R65),CSVデータ4!R65,0)","v":0},null,{"$f":"IF(ISNUMBER(CSVデータ1!T65),CSVデータ1!T65,0)+IF(ISNUMBER(CSVデータ2!T65),CSVデータ2!T65,0)+IF(ISNUMBER(CSVデータ3!T65),CSVデータ3!T65,0)+IF(ISNUMBER(CSVデータ4!T65),CSVデータ4!T65,0)","v":0},null,{"$f":"IF(ISNUMBER(CSVデータ1!V65),CSVデータ1!V65,0)+IF(ISNUMBER(CSVデータ2!V65),CSVデータ2!V65,0)+IF(ISNUMBER(CSVデータ3!V65),CSVデータ3!V65,0)+IF(ISNUMBER(CSVデータ4!V65),CSVデータ4!V65,0)","v":0},null,{"$f":"IF(ISNUMBER(CSVデータ1!X65),CSVデータ1!X65,0)+IF(ISNUMBER(CSVデータ2!X65),CSVデータ2!X65,0)+IF(ISNUMBER(CSVデータ3!X65),CSVデータ3!X65,0)+IF(ISNUMBER(CSVデータ4!X65),CSVデータ4!X65,0)","v":0},null,{"$f":"IF(ISNUMBER(CSVデータ1!Z65),CSVデータ1!Z65,0)+IF(ISNUMBER(CSVデータ2!Z65),CSVデータ2!Z65,0)+IF(ISNUMBER(CSVデータ3!Z65),CSVデータ3!Z65,0)+IF(ISNUMBER(CSVデータ4!Z65),CSVデータ4!Z65,0)","v":0},null,{"$f":"IF(ISNUMBER(CSVデータ1!AB65),CSVデータ1!AB65,0)+IF(ISNUMBER(CSVデータ2!AB65),CSVデータ2!AB65,0)+IF(ISNUMBER(CSVデータ3!AB65),CSVデータ3!AB65,0)+IF(ISNUMBER(CSVデータ4!AB65),CSVデータ4!AB65,0)","v":0},null,{"$f":"IF(ISNUMBER(CSVデータ1!AD65),CSVデータ1!AD65,0)+IF(ISNUMBER(CSVデータ2!AD65),CSVデータ2!AD65,0)+IF(ISNUMBER(CSVデータ3!AD65),CSVデータ3!AD65,0)+IF(ISNUMBER(CSVデータ4!AD65),CSVデータ4!AD65,0)","v":0},null,{"$f":"IF(ISNUMBER(CSVデータ1!AF65),CSVデータ1!AF65,0)+IF(ISNUMBER(CSVデータ2!AF65),CSVデータ2!AF65,0)+IF(ISNUMBER(CSVデータ3!AF65),CSVデータ3!AF65,0)+IF(ISNUMBER(CSVデータ4!AF65),CSVデータ4!AF65,0)","v":0},null,{"$f":"IF(ISNUMBER(CSVデータ1!AH65),CSVデータ1!AH65,0)+IF(ISNUMBER(CSVデータ2!AH65),CSVデータ2!AH65,0)+IF(ISNUMBER(CSVデータ3!AH65),CSVデータ3!AH65,0)+IF(ISNUMBER(CSVデータ4!AH65),CSVデータ4!AH65,0)","v":0},null,{"$f":"IF(ISNUMBER(CSVデータ1!AJ65),CSVデータ1!AJ65,0)+IF(ISNUMBER(CSVデータ2!AJ65),CSVデータ2!AJ65,0)+IF(ISNUMBER(CSVデータ3!AJ65),CSVデータ3!AJ65,0)+IF(ISNUMBER(CSVデータ4!AJ65),CSVデータ4!AJ65,0)","v":0},null,{"$f":"IF(ISNUMBER(CSVデータ1!AL65),CSVデータ1!AL65,0)+IF(ISNUMBER(CSVデータ2!AL65),CSVデータ2!AL65,0)+IF(ISNUMBER(CSVデータ3!AL65),CSVデータ3!AL65,0)+IF(ISNUMBER(CSVデータ4!AL65),CSVデータ4!AL65,0)","v":0},null,{"$f":"IF(ISNUMBER(CSVデータ1!AN65),CSVデータ1!AN65,0)+IF(ISNUMBER(CSVデータ2!AN65),CSVデータ2!AN65,0)+IF(ISNUMBER(CSVデータ3!AN65),CSVデータ3!AN65,0)+IF(ISNUMBER(CSVデータ4!AN65),CSVデータ4!AN65,0)","v":0}]
[{"$f":"CSVデータ1!A66","v":"明細部"},{"$f":"CSVデータ1!B66","v":"国"},{"$f":"CSVデータ1!C66","v":67},{"$f":"CSVデータ1!D66","v":"女"},{"$f":"IF(ISNUMBER(CSVデータ1!E66),CSVデータ1!E66,0)+IF(ISNUMBER(CSVデータ2!E66),CSVデータ2!E66,0)+IF(ISNUMBER(CSVデータ3!E66),CSVデータ3!E66,0)+IF(ISNUMBER(CSVデータ4!E66),CSVデータ4!E66,0)","v":0},{"$f":"IF(ISNUMBER(CSVデータ1!F66),CSVデータ1!F66,0)+IF(ISNUMBER(CSVデータ2!F66),CSVデータ2!F66,0)+IF(ISNUMBER(CSVデータ3!F66),CSVデータ3!F66,0)+IF(ISNUMBER(CSVデータ4!F66),CSVデータ4!F66,0)","v":0},null,{"$f":"IF(ISNUMBER(CSVデータ1!H66),CSVデータ1!H66,0)+IF(ISNUMBER(CSVデータ2!H66),CSVデータ2!H66,0)+IF(ISNUMBER(CSVデータ3!H66),CSVデータ3!H66,0)+IF(ISNUMBER(CSVデータ4!H66),CSVデータ4!H66,0)","v":0},null,{"$f":"IF(ISNUMBER(CSVデータ1!J66),CSVデータ1!J66,0)+IF(ISNUMBER(CSVデータ2!J66),CSVデータ2!J66,0)+IF(ISNUMBER(CSVデータ3!J66),CSVデータ3!J66,0)+IF(ISNUMBER(CSVデータ4!J66),CSVデータ4!J66,0)","v":0},null,{"$f":"IF(ISNUMBER(CSVデータ1!L66),CSVデータ1!L66,0)+IF(ISNUMBER(CSVデータ2!L66),CSVデータ2!L66,0)+IF(ISNUMBER(CSVデータ3!L66),CSVデータ3!L66,0)+IF(ISNUMBER(CSVデータ4!L66),CSVデータ4!L66,0)","v":0},null,{"$f":"IF(ISNUMBER(CSVデータ1!N66),CSVデータ1!N66,0)+IF(ISNUMBER(CSVデータ2!N66),CSVデータ2!N66,0)+IF(ISNUMBER(CSVデータ3!N66),CSVデータ3!N66,0)+IF(ISNUMBER(CSVデータ4!N66),CSVデータ4!N66,0)","v":0},null,{"$f":"IF(ISNUMBER(CSVデータ1!P66),CSVデータ1!P66,0)+IF(ISNUMBER(CSVデータ2!P66),CSVデータ2!P66,0)+IF(ISNUMBER(CSVデータ3!P66),CSVデータ3!P66,0)+IF(ISNUMBER(CSVデータ4!P66),CSVデータ4!P66,0)","v":0},null,{"$f":"IF(ISNUMBER(CSVデータ1!R66),CSVデータ1!R66,0)+IF(ISNUMBER(CSVデータ2!R66),CSVデータ2!R66,0)+IF(ISNUMBER(CSVデータ3!R66),CSVデータ3!R66,0)+IF(ISNUMBER(CSVデータ4!R66),CSVデータ4!R66,0)","v":0},null,{"$f":"IF(ISNUMBER(CSVデータ1!T66),CSVデータ1!T66,0)+IF(ISNUMBER(CSVデータ2!T66),CSVデータ2!T66,0)+IF(ISNUMBER(CSVデータ3!T66),CSVデータ3!T66,0)+IF(ISNUMBER(CSVデータ4!T66),CSVデータ4!T66,0)","v":0},null,{"$f":"IF(ISNUMBER(CSVデータ1!V66),CSVデータ1!V66,0)+IF(ISNUMBER(CSVデータ2!V66),CSVデータ2!V66,0)+IF(ISNUMBER(CSVデータ3!V66),CSVデータ3!V66,0)+IF(ISNUMBER(CSVデータ4!V66),CSVデータ4!V66,0)","v":0},null,{"$f":"IF(ISNUMBER(CSVデータ1!X66),CSVデータ1!X66,0)+IF(ISNUMBER(CSVデータ2!X66),CSVデータ2!X66,0)+IF(ISNUMBER(CSVデータ3!X66),CSVデータ3!X66,0)+IF(ISNUMBER(CSVデータ4!X66),CSVデータ4!X66,0)","v":0},null,{"$f":"IF(ISNUMBER(CSVデータ1!Z66),CSVデータ1!Z66,0)+IF(ISNUMBER(CSVデータ2!Z66),CSVデータ2!Z66,0)+IF(ISNUMBER(CSVデータ3!Z66),CSVデータ3!Z66,0)+IF(ISNUMBER(CSVデータ4!Z66),CSVデータ4!Z66,0)","v":0},null,{"$f":"IF(ISNUMBER(CSVデータ1!AB66),CSVデータ1!AB66,0)+IF(ISNUMBER(CSVデータ2!AB66),CSVデータ2!AB66,0)+IF(ISNUMBER(CSVデータ3!AB66),CSVデータ3!AB66,0)+IF(ISNUMBER(CSVデータ4!AB66),CSVデータ4!AB66,0)","v":0},null,{"$f":"IF(ISNUMBER(CSVデータ1!AD66),CSVデータ1!AD66,0)+IF(ISNUMBER(CSVデータ2!AD66),CSVデータ2!AD66,0)+IF(ISNUMBER(CSVデータ3!AD66),CSVデータ3!AD66,0)+IF(ISNUMBER(CSVデータ4!AD66),CSVデータ4!AD66,0)","v":0},null,{"$f":"IF(ISNUMBER(CSVデータ1!AF66),CSVデータ1!AF66,0)+IF(ISNUMBER(CSVデータ2!AF66),CSVデータ2!AF66,0)+IF(ISNUMBER(CSVデータ3!AF66),CSVデータ3!AF66,0)+IF(ISNUMBER(CSVデータ4!AF66),CSVデータ4!AF66,0)","v":0},null,{"$f":"IF(ISNUMBER(CSVデータ1!AH66),CSVデータ1!AH66,0)+IF(ISNUMBER(CSVデータ2!AH66),CSVデータ2!AH66,0)+IF(ISNUMBER(CSVデータ3!AH66),CSVデータ3!AH66,0)+IF(ISNUMBER(CSVデータ4!AH66),CSVデータ4!AH66,0)","v":0},null,{"$f":"IF(ISNUMBER(CSVデータ1!AJ66),CSVデータ1!AJ66,0)+IF(ISNUMBER(CSVデータ2!AJ66),CSVデータ2!AJ66,0)+IF(ISNUMBER(CSVデータ3!AJ66),CSVデータ3!AJ66,0)+IF(ISNUMBER(CSVデータ4!AJ66),CSVデータ4!AJ66,0)","v":0},null,{"$f":"IF(ISNUMBER(CSVデータ1!AL66),CSVデータ1!AL66,0)+IF(ISNUMBER(CSVデータ2!AL66),CSVデータ2!AL66,0)+IF(ISNUMBER(CSVデータ3!AL66),CSVデータ3!AL66,0)+IF(ISNUMBER(CSVデータ4!AL66),CSVデータ4!AL66,0)","v":0},null,{"$f":"IF(ISNUMBER(CSVデータ1!AN66),CSVデータ1!AN66,0)+IF(ISNUMBER(CSVデータ2!AN66),CSVデータ2!AN66,0)+IF(ISNUMBER(CSVデータ3!AN66),CSVデータ3!AN66,0)+IF(ISNUMBER(CSVデータ4!AN66),CSVデータ4!AN66,0)","v":0}]
[{"$f":"CSVデータ1!A67","v":"明細部"},{"$f":"CSVデータ1!B67","v":"国"},{"$f":"CSVデータ1!C67","v":68},{"$f":"CSVデータ1!D67","v":"女"},{"$f":"IF(ISNUMBER(CSVデータ1!E67),CSVデータ1!E67,0)+IF(ISNUMBER(CSVデータ2!E67),CSVデータ2!E67,0)+IF(ISNUMBER(CSVデータ3!E67),CSVデータ3!E67,0)+IF(ISNUMBER(CSVデータ4!E67),CSVデータ4!E67,0)","v":0},{"$f":"IF(ISNUMBER(CSVデータ1!F67),CSVデータ1!F67,0)+IF(ISNUMBER(CSVデータ2!F67),CSVデータ2!F67,0)+IF(ISNUMBER(CSVデータ3!F67),CSVデータ3!F67,0)+IF(ISNUMBER(CSVデータ4!F67),CSVデータ4!F67,0)","v":0},null,{"$f":"IF(ISNUMBER(CSVデータ1!H67),CSVデータ1!H67,0)+IF(ISNUMBER(CSVデータ2!H67),CSVデータ2!H67,0)+IF(ISNUMBER(CSVデータ3!H67),CSVデータ3!H67,0)+IF(ISNUMBER(CSVデータ4!H67),CSVデータ4!H67,0)","v":0},null,{"$f":"IF(ISNUMBER(CSVデータ1!J67),CSVデータ1!J67,0)+IF(ISNUMBER(CSVデータ2!J67),CSVデータ2!J67,0)+IF(ISNUMBER(CSVデータ3!J67),CSVデータ3!J67,0)+IF(ISNUMBER(CSVデータ4!J67),CSVデータ4!J67,0)","v":0},null,{"$f":"IF(ISNUMBER(CSVデータ1!L67),CSVデータ1!L67,0)+IF(ISNUMBER(CSVデータ2!L67),CSVデータ2!L67,0)+IF(ISNUMBER(CSVデータ3!L67),CSVデータ3!L67,0)+IF(ISNUMBER(CSVデータ4!L67),CSVデータ4!L67,0)","v":0},null,{"$f":"IF(ISNUMBER(CSVデータ1!N67),CSVデータ1!N67,0)+IF(ISNUMBER(CSVデータ2!N67),CSVデータ2!N67,0)+IF(ISNUMBER(CSVデータ3!N67),CSVデータ3!N67,0)+IF(ISNUMBER(CSVデータ4!N67),CSVデータ4!N67,0)","v":0},null,{"$f":"IF(ISNUMBER(CSVデータ1!P67),CSVデータ1!P67,0)+IF(ISNUMBER(CSVデータ2!P67),CSVデータ2!P67,0)+IF(ISNUMBER(CSVデータ3!P67),CSVデータ3!P67,0)+IF(ISNUMBER(CSVデータ4!P67),CSVデータ4!P67,0)","v":0},null,{"$f":"IF(ISNUMBER(CSVデータ1!R67),CSVデータ1!R67,0)+IF(ISNUMBER(CSVデータ2!R67),CSVデータ2!R67,0)+IF(ISNUMBER(CSVデータ3!R67),CSVデータ3!R67,0)+IF(ISNUMBER(CSVデータ4!R67),CSVデータ4!R67,0)","v":0},null,{"$f":"IF(ISNUMBER(CSVデータ1!T67),CSVデータ1!T67,0)+IF(ISNUMBER(CSVデータ2!T67),CSVデータ2!T67,0)+IF(ISNUMBER(CSVデータ3!T67),CSVデータ3!T67,0)+IF(ISNUMBER(CSVデータ4!T67),CSVデータ4!T67,0)","v":0},null,{"$f":"IF(ISNUMBER(CSVデータ1!V67),CSVデータ1!V67,0)+IF(ISNUMBER(CSVデータ2!V67),CSVデータ2!V67,0)+IF(ISNUMBER(CSVデータ3!V67),CSVデータ3!V67,0)+IF(ISNUMBER(CSVデータ4!V67),CSVデータ4!V67,0)","v":0},null,{"$f":"IF(ISNUMBER(CSVデータ1!X67),CSVデータ1!X67,0)+IF(ISNUMBER(CSVデータ2!X67),CSVデータ2!X67,0)+IF(ISNUMBER(CSVデータ3!X67),CSVデータ3!X67,0)+IF(ISNUMBER(CSVデータ4!X67),CSVデータ4!X67,0)","v":0},null,{"$f":"IF(ISNUMBER(CSVデータ1!Z67),CSVデータ1!Z67,0)+IF(ISNUMBER(CSVデータ2!Z67),CSVデータ2!Z67,0)+IF(ISNUMBER(CSVデータ3!Z67),CSVデータ3!Z67,0)+IF(ISNUMBER(CSVデータ4!Z67),CSVデータ4!Z67,0)","v":0},null,{"$f":"IF(ISNUMBER(CSVデータ1!AB67),CSVデータ1!AB67,0)+IF(ISNUMBER(CSVデータ2!AB67),CSVデータ2!AB67,0)+IF(ISNUMBER(CSVデータ3!AB67),CSVデータ3!AB67,0)+IF(ISNUMBER(CSVデータ4!AB67),CSVデータ4!AB67,0)","v":0},null,{"$f":"IF(ISNUMBER(CSVデータ1!AD67),CSVデータ1!AD67,0)+IF(ISNUMBER(CSVデータ2!AD67),CSVデータ2!AD67,0)+IF(ISNUMBER(CSVデータ3!AD67),CSVデータ3!AD67,0)+IF(ISNUMBER(CSVデータ4!AD67),CSVデータ4!AD67,0)","v":0},null,{"$f":"IF(ISNUMBER(CSVデータ1!AF67),CSVデータ1!AF67,0)+IF(ISNUMBER(CSVデータ2!AF67),CSVデータ2!AF67,0)+IF(ISNUMBER(CSVデータ3!AF67),CSVデータ3!AF67,0)+IF(ISNUMBER(CSVデータ4!AF67),CSVデータ4!AF67,0)","v":0},null,{"$f":"IF(ISNUMBER(CSVデータ1!AH67),CSVデータ1!AH67,0)+IF(ISNUMBER(CSVデータ2!AH67),CSVデータ2!AH67,0)+IF(ISNUMBER(CSVデータ3!AH67),CSVデータ3!AH67,0)+IF(ISNUMBER(CSVデータ4!AH67),CSVデータ4!AH67,0)","v":0},null,{"$f":"IF(ISNUMBER(CSVデータ1!AJ67),CSVデータ1!AJ67,0)+IF(ISNUMBER(CSVデータ2!AJ67),CSVデータ2!AJ67,0)+IF(ISNUMBER(CSVデータ3!AJ67),CSVデータ3!AJ67,0)+IF(ISNUMBER(CSVデータ4!AJ67),CSVデータ4!AJ67,0)","v":0},null,{"$f":"IF(ISNUMBER(CSVデータ1!AL67),CSVデータ1!AL67,0)+IF(ISNUMBER(CSVデータ2!AL67),CSVデータ2!AL67,0)+IF(ISNUMBER(CSVデータ3!AL67),CSVデータ3!AL67,0)+IF(ISNUMBER(CSVデータ4!AL67),CSVデータ4!AL67,0)","v":0},null,{"$f":"IF(ISNUMBER(CSVデータ1!AN67),CSVデータ1!AN67,0)+IF(ISNUMBER(CSVデータ2!AN67),CSVデータ2!AN67,0)+IF(ISNUMBER(CSVデータ3!AN67),CSVデータ3!AN67,0)+IF(ISNUMBER(CSVデータ4!AN67),CSVデータ4!AN67,0)","v":0}]
[{"$f":"CSVデータ1!A68","v":"明細部"},{"$f":"CSVデータ1!B68","v":"国"},{"$f":"CSVデータ1!C68","v":69},{"$f":"CSVデータ1!D68","v":"女"},{"$f":"IF(ISNUMBER(CSVデータ1!E68),CSVデータ1!E68,0)+IF(ISNUMBER(CSVデータ2!E68),CSVデータ2!E68,0)+IF(ISNUMBER(CSVデータ3!E68),CSVデータ3!E68,0)+IF(ISNUMBER(CSVデータ4!E68),CSVデータ4!E68,0)","v":0},{"$f":"IF(ISNUMBER(CSVデータ1!F68),CSVデータ1!F68,0)+IF(ISNUMBER(CSVデータ2!F68),CSVデータ2!F68,0)+IF(ISNUMBER(CSVデータ3!F68),CSVデータ3!F68,0)+IF(ISNUMBER(CSVデータ4!F68),CSVデータ4!F68,0)","v":0},null,{"$f":"IF(ISNUMBER(CSVデータ1!H68),CSVデータ1!H68,0)+IF(ISNUMBER(CSVデータ2!H68),CSVデータ2!H68,0)+IF(ISNUMBER(CSVデータ3!H68),CSVデータ3!H68,0)+IF(ISNUMBER(CSVデータ4!H68),CSVデータ4!H68,0)","v":0},null,{"$f":"IF(ISNUMBER(CSVデータ1!J68),CSVデータ1!J68,0)+IF(ISNUMBER(CSVデータ2!J68),CSVデータ2!J68,0)+IF(ISNUMBER(CSVデータ3!J68),CSVデータ3!J68,0)+IF(ISNUMBER(CSVデータ4!J68),CSVデータ4!J68,0)","v":0},null,{"$f":"IF(ISNUMBER(CSVデータ1!L68),CSVデータ1!L68,0)+IF(ISNUMBER(CSVデータ2!L68),CSVデータ2!L68,0)+IF(ISNUMBER(CSVデータ3!L68),CSVデータ3!L68,0)+IF(ISNUMBER(CSVデータ4!L68),CSVデータ4!L68,0)","v":0},null,{"$f":"IF(ISNUMBER(CSVデータ1!N68),CSVデータ1!N68,0)+IF(ISNUMBER(CSVデータ2!N68),CSVデータ2!N68,0)+IF(ISNUMBER(CSVデータ3!N68),CSVデータ3!N68,0)+IF(ISNUMBER(CSVデータ4!N68),CSVデータ4!N68,0)","v":0},null,{"$f":"IF(ISNUMBER(CSVデータ1!P68),CSVデータ1!P68,0)+IF(ISNUMBER(CSVデータ2!P68),CSVデータ2!P68,0)+IF(ISNUMBER(CSVデータ3!P68),CSVデータ3!P68,0)+IF(ISNUMBER(CSVデータ4!P68),CSVデータ4!P68,0)","v":0},null,{"$f":"IF(ISNUMBER(CSVデータ1!R68),CSVデータ1!R68,0)+IF(ISNUMBER(CSVデータ2!R68),CSVデータ2!R68,0)+IF(ISNUMBER(CSVデータ3!R68),CSVデータ3!R68,0)+IF(ISNUMBER(CSVデータ4!R68),CSVデータ4!R68,0)","v":0},null,{"$f":"IF(ISNUMBER(CSVデータ1!T68),CSVデータ1!T68,0)+IF(ISNUMBER(CSVデータ2!T68),CSVデータ2!T68,0)+IF(ISNUMBER(CSVデータ3!T68),CSVデータ3!T68,0)+IF(ISNUMBER(CSVデータ4!T68),CSVデータ4!T68,0)","v":0},null,{"$f":"IF(ISNUMBER(CSVデータ1!V68),CSVデータ1!V68,0)+IF(ISNUMBER(CSVデータ2!V68),CSVデータ2!V68,0)+IF(ISNUMBER(CSVデータ3!V68),CSVデータ3!V68,0)+IF(ISNUMBER(CSVデータ4!V68),CSVデータ4!V68,0)","v":0},null,{"$f":"IF(ISNUMBER(CSVデータ1!X68),CSVデータ1!X68,0)+IF(ISNUMBER(CSVデータ2!X68),CSVデータ2!X68,0)+IF(ISNUMBER(CSVデータ3!X68),CSVデータ3!X68,0)+IF(ISNUMBER(CSVデータ4!X68),CSVデータ4!X68,0)","v":0},null,{"$f":"IF(ISNUMBER(CSVデータ1!Z68),CSVデータ1!Z68,0)+IF(ISNUMBER(CSVデータ2!Z68),CSVデータ2!Z68,0)+IF(ISNUMBER(CSVデータ3!Z68),CSVデータ3!Z68,0)+IF(ISNUMBER(CSVデータ4!Z68),CSVデータ4!Z68,0)","v":0},null,{"$f":"IF(ISNUMBER(CSVデータ1!AB68),CSVデータ1!AB68,0)+IF(ISNUMBER(CSVデータ2!AB68),CSVデータ2!AB68,0)+IF(ISNUMBER(CSVデータ3!AB68),CSVデータ3!AB68,0)+IF(ISNUMBER(CSVデータ4!AB68),CSVデータ4!AB68,0)","v":0},null,{"$f":"IF(ISNUMBER(CSVデータ1!AD68),CSVデータ1!AD68,0)+IF(ISNUMBER(CSVデータ2!AD68),CSVデータ2!AD68,0)+IF(ISNUMBER(CSVデータ3!AD68),CSVデータ3!AD68,0)+IF(ISNUMBER(CSVデータ4!AD68),CSVデータ4!AD68,0)","v":0},null,{"$f":"IF(ISNUMBER(CSVデータ1!AF68),CSVデータ1!AF68,0)+IF(ISNUMBER(CSVデータ2!AF68),CSVデータ2!AF68,0)+IF(ISNUMBER(CSVデータ3!AF68),CSVデータ3!AF68,0)+IF(ISNUMBER(CSVデータ4!AF68),CSVデータ4!AF68,0)","v":0},null,{"$f":"IF(ISNUMBER(CSVデータ1!AH68),CSVデータ1!AH68,0)+IF(ISNUMBER(CSVデータ2!AH68),CSVデータ2!AH68,0)+IF(ISNUMBER(CSVデータ3!AH68),CSVデータ3!AH68,0)+IF(ISNUMBER(CSVデータ4!AH68),CSVデータ4!AH68,0)","v":0},null,{"$f":"IF(ISNUMBER(CSVデータ1!AJ68),CSVデータ1!AJ68,0)+IF(ISNUMBER(CSVデータ2!AJ68),CSVデータ2!AJ68,0)+IF(ISNUMBER(CSVデータ3!AJ68),CSVデータ3!AJ68,0)+IF(ISNUMBER(CSVデータ4!AJ68),CSVデータ4!AJ68,0)","v":0},null,{"$f":"IF(ISNUMBER(CSVデータ1!AL68),CSVデータ1!AL68,0)+IF(ISNUMBER(CSVデータ2!AL68),CSVデータ2!AL68,0)+IF(ISNUMBER(CSVデータ3!AL68),CSVデータ3!AL68,0)+IF(ISNUMBER(CSVデータ4!AL68),CSVデータ4!AL68,0)","v":0},null,{"$f":"IF(ISNUMBER(CSVデータ1!AN68),CSVデータ1!AN68,0)+IF(ISNUMBER(CSVデータ2!AN68),CSVデータ2!AN68,0)+IF(ISNUMBER(CSVデータ3!AN68),CSVデータ3!AN68,0)+IF(ISNUMBER(CSVデータ4!AN68),CSVデータ4!AN68,0)","v":0}]
[{"$f":"CSVデータ1!A69","v":"明細部"},{"$f":"CSVデータ1!B69","v":"国"},{"$f":"CSVデータ1!C69","v":70},{"$f":"CSVデータ1!D69","v":"女"},{"$f":"IF(ISNUMBER(CSVデータ1!E69),CSVデータ1!E69,0)+IF(ISNUMBER(CSVデータ2!E69),CSVデータ2!E69,0)+IF(ISNUMBER(CSVデータ3!E69),CSVデータ3!E69,0)+IF(ISNUMBER(CSVデータ4!E69),CSVデータ4!E69,0)","v":0},{"$f":"IF(ISNUMBER(CSVデータ1!F69),CSVデータ1!F69,0)+IF(ISNUMBER(CSVデータ2!F69),CSVデータ2!F69,0)+IF(ISNUMBER(CSVデータ3!F69),CSVデータ3!F69,0)+IF(ISNUMBER(CSVデータ4!F69),CSVデータ4!F69,0)","v":0},null,{"$f":"IF(ISNUMBER(CSVデータ1!H69),CSVデータ1!H69,0)+IF(ISNUMBER(CSVデータ2!H69),CSVデータ2!H69,0)+IF(ISNUMBER(CSVデータ3!H69),CSVデータ3!H69,0)+IF(ISNUMBER(CSVデータ4!H69),CSVデータ4!H69,0)","v":0},null,{"$f":"IF(ISNUMBER(CSVデータ1!J69),CSVデータ1!J69,0)+IF(ISNUMBER(CSVデータ2!J69),CSVデータ2!J69,0)+IF(ISNUMBER(CSVデータ3!J69),CSVデータ3!J69,0)+IF(ISNUMBER(CSVデータ4!J69),CSVデータ4!J69,0)","v":0},null,{"$f":"IF(ISNUMBER(CSVデータ1!L69),CSVデータ1!L69,0)+IF(ISNUMBER(CSVデータ2!L69),CSVデータ2!L69,0)+IF(ISNUMBER(CSVデータ3!L69),CSVデータ3!L69,0)+IF(ISNUMBER(CSVデータ4!L69),CSVデータ4!L69,0)","v":0},null,{"$f":"IF(ISNUMBER(CSVデータ1!N69),CSVデータ1!N69,0)+IF(ISNUMBER(CSVデータ2!N69),CSVデータ2!N69,0)+IF(ISNUMBER(CSVデータ3!N69),CSVデータ3!N69,0)+IF(ISNUMBER(CSVデータ4!N69),CSVデータ4!N69,0)","v":0},null,{"$f":"IF(ISNUMBER(CSVデータ1!P69),CSVデータ1!P69,0)+IF(ISNUMBER(CSVデータ2!P69),CSVデータ2!P69,0)+IF(ISNUMBER(CSVデータ3!P69),CSVデータ3!P69,0)+IF(ISNUMBER(CSVデータ4!P69),CSVデータ4!P69,0)","v":0},null,{"$f":"IF(ISNUMBER(CSVデータ1!R69),CSVデータ1!R69,0)+IF(ISNUMBER(CSVデータ2!R69),CSVデータ2!R69,0)+IF(ISNUMBER(CSVデータ3!R69),CSVデータ3!R69,0)+IF(ISNUMBER(CSVデータ4!R69),CSVデータ4!R69,0)","v":0},null,{"$f":"IF(ISNUMBER(CSVデータ1!T69),CSVデータ1!T69,0)+IF(ISNUMBER(CSVデータ2!T69),CSVデータ2!T69,0)+IF(ISNUMBER(CSVデータ3!T69),CSVデータ3!T69,0)+IF(ISNUMBER(CSVデータ4!T69),CSVデータ4!T69,0)","v":0},null,{"$f":"IF(ISNUMBER(CSVデータ1!V69),CSVデータ1!V69,0)+IF(ISNUMBER(CSVデータ2!V69),CSVデータ2!V69,0)+IF(ISNUMBER(CSVデータ3!V69),CSVデータ3!V69,0)+IF(ISNUMBER(CSVデータ4!V69),CSVデータ4!V69,0)","v":0},null,{"$f":"IF(ISNUMBER(CSVデータ1!X69),CSVデータ1!X69,0)+IF(ISNUMBER(CSVデータ2!X69),CSVデータ2!X69,0)+IF(ISNUMBER(CSVデータ3!X69),CSVデータ3!X69,0)+IF(ISNUMBER(CSVデータ4!X69),CSVデータ4!X69,0)","v":0},null,{"$f":"IF(ISNUMBER(CSVデータ1!Z69),CSVデータ1!Z69,0)+IF(ISNUMBER(CSVデータ2!Z69),CSVデータ2!Z69,0)+IF(ISNUMBER(CSVデータ3!Z69),CSVデータ3!Z69,0)+IF(ISNUMBER(CSVデータ4!Z69),CSVデータ4!Z69,0)","v":0},null,{"$f":"IF(ISNUMBER(CSVデータ1!AB69),CSVデータ1!AB69,0)+IF(ISNUMBER(CSVデータ2!AB69),CSVデータ2!AB69,0)+IF(ISNUMBER(CSVデータ3!AB69),CSVデータ3!AB69,0)+IF(ISNUMBER(CSVデータ4!AB69),CSVデータ4!AB69,0)","v":0},null,{"$f":"IF(ISNUMBER(CSVデータ1!AD69),CSVデータ1!AD69,0)+IF(ISNUMBER(CSVデータ2!AD69),CSVデータ2!AD69,0)+IF(ISNUMBER(CSVデータ3!AD69),CSVデータ3!AD69,0)+IF(ISNUMBER(CSVデータ4!AD69),CSVデータ4!AD69,0)","v":0},null,{"$f":"IF(ISNUMBER(CSVデータ1!AF69),CSVデータ1!AF69,0)+IF(ISNUMBER(CSVデータ2!AF69),CSVデータ2!AF69,0)+IF(ISNUMBER(CSVデータ3!AF69),CSVデータ3!AF69,0)+IF(ISNUMBER(CSVデータ4!AF69),CSVデータ4!AF69,0)","v":0},null,{"$f":"IF(ISNUMBER(CSVデータ1!AH69),CSVデータ1!AH69,0)+IF(ISNUMBER(CSVデータ2!AH69),CSVデータ2!AH69,0)+IF(ISNUMBER(CSVデータ3!AH69),CSVデータ3!AH69,0)+IF(ISNUMBER(CSVデータ4!AH69),CSVデータ4!AH69,0)","v":0},null,{"$f":"IF(ISNUMBER(CSVデータ1!AJ69),CSVデータ1!AJ69,0)+IF(ISNUMBER(CSVデータ2!AJ69),CSVデータ2!AJ69,0)+IF(ISNUMBER(CSVデータ3!AJ69),CSVデータ3!AJ69,0)+IF(ISNUMBER(CSVデータ4!AJ69),CSVデータ4!AJ69,0)","v":0},null,{"$f":"IF(ISNUMBER(CSVデータ1!AL69),CSVデータ1!AL69,0)+IF(ISNUMBER(CSVデータ2!AL69),CSVデータ2!AL69,0)+IF(ISNUMBER(CSVデータ3!AL69),CSVデータ3!AL69,0)+IF(ISNUMBER(CSVデータ4!AL69),CSVデータ4!AL69,0)","v":0},null,{"$f":"IF(ISNUMBER(CSVデータ1!AN69),CSVデータ1!AN69,0)+IF(ISNUMBER(CSVデータ2!AN69),CSVデータ2!AN69,0)+IF(ISNUMBER(CSVデータ3!AN69),CSVデータ3!AN69,0)+IF(ISNUMBER(CSVデータ4!AN69),CSVデータ4!AN69,0)","v":0}]
[{"$f":"CSVデータ1!A70","v":"明細部"},{"$f":"CSVデータ1!B70","v":"国"},{"$f":"CSVデータ1!C70","v":71},{"$f":"CSVデータ1!D70","v":"女"},{"$f":"IF(ISNUMBER(CSVデータ1!E70),CSVデータ1!E70,0)+IF(ISNUMBER(CSVデータ2!E70),CSVデータ2!E70,0)+IF(ISNUMBER(CSVデータ3!E70),CSVデータ3!E70,0)+IF(ISNUMBER(CSVデータ4!E70),CSVデータ4!E70,0)","v":0},{"$f":"IF(ISNUMBER(CSVデータ1!F70),CSVデータ1!F70,0)+IF(ISNUMBER(CSVデータ2!F70),CSVデータ2!F70,0)+IF(ISNUMBER(CSVデータ3!F70),CSVデータ3!F70,0)+IF(ISNUMBER(CSVデータ4!F70),CSVデータ4!F70,0)","v":0},null,{"$f":"IF(ISNUMBER(CSVデータ1!H70),CSVデータ1!H70,0)+IF(ISNUMBER(CSVデータ2!H70),CSVデータ2!H70,0)+IF(ISNUMBER(CSVデータ3!H70),CSVデータ3!H70,0)+IF(ISNUMBER(CSVデータ4!H70),CSVデータ4!H70,0)","v":0},null,{"$f":"IF(ISNUMBER(CSVデータ1!J70),CSVデータ1!J70,0)+IF(ISNUMBER(CSVデータ2!J70),CSVデータ2!J70,0)+IF(ISNUMBER(CSVデータ3!J70),CSVデータ3!J70,0)+IF(ISNUMBER(CSVデータ4!J70),CSVデータ4!J70,0)","v":0},null,{"$f":"IF(ISNUMBER(CSVデータ1!L70),CSVデータ1!L70,0)+IF(ISNUMBER(CSVデータ2!L70),CSVデータ2!L70,0)+IF(ISNUMBER(CSVデータ3!L70),CSVデータ3!L70,0)+IF(ISNUMBER(CSVデータ4!L70),CSVデータ4!L70,0)","v":0},null,{"$f":"IF(ISNUMBER(CSVデータ1!N70),CSVデータ1!N70,0)+IF(ISNUMBER(CSVデータ2!N70),CSVデータ2!N70,0)+IF(ISNUMBER(CSVデータ3!N70),CSVデータ3!N70,0)+IF(ISNUMBER(CSVデータ4!N70),CSVデータ4!N70,0)","v":0},null,{"$f":"IF(ISNUMBER(CSVデータ1!P70),CSVデータ1!P70,0)+IF(ISNUMBER(CSVデータ2!P70),CSVデータ2!P70,0)+IF(ISNUMBER(CSVデータ3!P70),CSVデータ3!P70,0)+IF(ISNUMBER(CSVデータ4!P70),CSVデータ4!P70,0)","v":0},null,{"$f":"IF(ISNUMBER(CSVデータ1!R70),CSVデータ1!R70,0)+IF(ISNUMBER(CSVデータ2!R70),CSVデータ2!R70,0)+IF(ISNUMBER(CSVデータ3!R70),CSVデータ3!R70,0)+IF(ISNUMBER(CSVデータ4!R70),CSVデータ4!R70,0)","v":0},null,{"$f":"IF(ISNUMBER(CSVデータ1!T70),CSVデータ1!T70,0)+IF(ISNUMBER(CSVデータ2!T70),CSVデータ2!T70,0)+IF(ISNUMBER(CSVデータ3!T70),CSVデータ3!T70,0)+IF(ISNUMBER(CSVデータ4!T70),CSVデータ4!T70,0)","v":0},null,{"$f":"IF(ISNUMBER(CSVデータ1!V70),CSVデータ1!V70,0)+IF(ISNUMBER(CSVデータ2!V70),CSVデータ2!V70,0)+IF(ISNUMBER(CSVデータ3!V70),CSVデータ3!V70,0)+IF(ISNUMBER(CSVデータ4!V70),CSVデータ4!V70,0)","v":0},null,{"$f":"IF(ISNUMBER(CSVデータ1!X70),CSVデータ1!X70,0)+IF(ISNUMBER(CSVデータ2!X70),CSVデータ2!X70,0)+IF(ISNUMBER(CSVデータ3!X70),CSVデータ3!X70,0)+IF(ISNUMBER(CSVデータ4!X70),CSVデータ4!X70,0)","v":0},null,{"$f":"IF(ISNUMBER(CSVデータ1!Z70),CSVデータ1!Z70,0)+IF(ISNUMBER(CSVデータ2!Z70),CSVデータ2!Z70,0)+IF(ISNUMBER(CSVデータ3!Z70),CSVデータ3!Z70,0)+IF(ISNUMBER(CSVデータ4!Z70),CSVデータ4!Z70,0)","v":0},null,{"$f":"IF(ISNUMBER(CSVデータ1!AB70),CSVデータ1!AB70,0)+IF(ISNUMBER(CSVデータ2!AB70),CSVデータ2!AB70,0)+IF(ISNUMBER(CSVデータ3!AB70),CSVデータ3!AB70,0)+IF(ISNUMBER(CSVデータ4!AB70),CSVデータ4!AB70,0)","v":0},null,{"$f":"IF(ISNUMBER(CSVデータ1!AD70),CSVデータ1!AD70,0)+IF(ISNUMBER(CSVデータ2!AD70),CSVデータ2!AD70,0)+IF(ISNUMBER(CSVデータ3!AD70),CSVデータ3!AD70,0)+IF(ISNUMBER(CSVデータ4!AD70),CSVデータ4!AD70,0)","v":0},null,{"$f":"IF(ISNUMBER(CSVデータ1!AF70),CSVデータ1!AF70,0)+IF(ISNUMBER(CSVデータ2!AF70),CSVデータ2!AF70,0)+IF(ISNUMBER(CSVデータ3!AF70),CSVデータ3!AF70,0)+IF(ISNUMBER(CSVデータ4!AF70),CSVデータ4!AF70,0)","v":0},null,{"$f":"IF(ISNUMBER(CSVデータ1!AH70),CSVデータ1!AH70,0)+IF(ISNUMBER(CSVデータ2!AH70),CSVデータ2!AH70,0)+IF(ISNUMBER(CSVデータ3!AH70),CSVデータ3!AH70,0)+IF(ISNUMBER(CSVデータ4!AH70),CSVデータ4!AH70,0)","v":0},null,{"$f":"IF(ISNUMBER(CSVデータ1!AJ70),CSVデータ1!AJ70,0)+IF(ISNUMBER(CSVデータ2!AJ70),CSVデータ2!AJ70,0)+IF(ISNUMBER(CSVデータ3!AJ70),CSVデータ3!AJ70,0)+IF(ISNUMBER(CSVデータ4!AJ70),CSVデータ4!AJ70,0)","v":0},null,{"$f":"IF(ISNUMBER(CSVデータ1!AL70),CSVデータ1!AL70,0)+IF(ISNUMBER(CSVデータ2!AL70),CSVデータ2!AL70,0)+IF(ISNUMBER(CSVデータ3!AL70),CSVデータ3!AL70,0)+IF(ISNUMBER(CSVデータ4!AL70),CSVデータ4!AL70,0)","v":0},null,{"$f":"IF(ISNUMBER(CSVデータ1!AN70),CSVデータ1!AN70,0)+IF(ISNUMBER(CSVデータ2!AN70),CSVデータ2!AN70,0)+IF(ISNUMBER(CSVデータ3!AN70),CSVデータ3!AN70,0)+IF(ISNUMBER(CSVデータ4!AN70),CSVデータ4!AN70,0)","v":0}]
[{"$f":"CSVデータ1!A71","v":"明細部"},{"$f":"CSVデータ1!B71","v":"国"},{"$f":"CSVデータ1!C71","v":72},{"$f":"CSVデータ1!D71","v":"女"},{"$f":"IF(ISNUMBER(CSVデータ1!E71),CSVデータ1!E71,0)+IF(ISNUMBER(CSVデータ2!E71),CSVデータ2!E71,0)+IF(ISNUMBER(CSVデータ3!E71),CSVデータ3!E71,0)+IF(ISNUMBER(CSVデータ4!E71),CSVデータ4!E71,0)","v":0},{"$f":"IF(ISNUMBER(CSVデータ1!F71),CSVデータ1!F71,0)+IF(ISNUMBER(CSVデータ2!F71),CSVデータ2!F71,0)+IF(ISNUMBER(CSVデータ3!F71),CSVデータ3!F71,0)+IF(ISNUMBER(CSVデータ4!F71),CSVデータ4!F71,0)","v":0},null,{"$f":"IF(ISNUMBER(CSVデータ1!H71),CSVデータ1!H71,0)+IF(ISNUMBER(CSVデータ2!H71),CSVデータ2!H71,0)+IF(ISNUMBER(CSVデータ3!H71),CSVデータ3!H71,0)+IF(ISNUMBER(CSVデータ4!H71),CSVデータ4!H71,0)","v":0},null,{"$f":"IF(ISNUMBER(CSVデータ1!J71),CSVデータ1!J71,0)+IF(ISNUMBER(CSVデータ2!J71),CSVデータ2!J71,0)+IF(ISNUMBER(CSVデータ3!J71),CSVデータ3!J71,0)+IF(ISNUMBER(CSVデータ4!J71),CSVデータ4!J71,0)","v":0},null,{"$f":"IF(ISNUMBER(CSVデータ1!L71),CSVデータ1!L71,0)+IF(ISNUMBER(CSVデータ2!L71),CSVデータ2!L71,0)+IF(ISNUMBER(CSVデータ3!L71),CSVデータ3!L71,0)+IF(ISNUMBER(CSVデータ4!L71),CSVデータ4!L71,0)","v":0},null,{"$f":"IF(ISNUMBER(CSVデータ1!N71),CSVデータ1!N71,0)+IF(ISNUMBER(CSVデータ2!N71),CSVデータ2!N71,0)+IF(ISNUMBER(CSVデータ3!N71),CSVデータ3!N71,0)+IF(ISNUMBER(CSVデータ4!N71),CSVデータ4!N71,0)","v":0},null,{"$f":"IF(ISNUMBER(CSVデータ1!P71),CSVデータ1!P71,0)+IF(ISNUMBER(CSVデータ2!P71),CSVデータ2!P71,0)+IF(ISNUMBER(CSVデータ3!P71),CSVデータ3!P71,0)+IF(ISNUMBER(CSVデータ4!P71),CSVデータ4!P71,0)","v":0},null,{"$f":"IF(ISNUMBER(CSVデータ1!R71),CSVデータ1!R71,0)+IF(ISNUMBER(CSVデータ2!R71),CSVデータ2!R71,0)+IF(ISNUMBER(CSVデータ3!R71),CSVデータ3!R71,0)+IF(ISNUMBER(CSVデータ4!R71),CSVデータ4!R71,0)","v":0},null,{"$f":"IF(ISNUMBER(CSVデータ1!T71),CSVデータ1!T71,0)+IF(ISNUMBER(CSVデータ2!T71),CSVデータ2!T71,0)+IF(ISNUMBER(CSVデータ3!T71),CSVデータ3!T71,0)+IF(ISNUMBER(CSVデータ4!T71),CSVデータ4!T71,0)","v":0},null,{"$f":"IF(ISNUMBER(CSVデータ1!V71),CSVデータ1!V71,0)+IF(ISNUMBER(CSVデータ2!V71),CSVデータ2!V71,0)+IF(ISNUMBER(CSVデータ3!V71),CSVデータ3!V71,0)+IF(ISNUMBER(CSVデータ4!V71),CSVデータ4!V71,0)","v":0},null,{"$f":"IF(ISNUMBER(CSVデータ1!X71),CSVデータ1!X71,0)+IF(ISNUMBER(CSVデータ2!X71),CSVデータ2!X71,0)+IF(ISNUMBER(CSVデータ3!X71),CSVデータ3!X71,0)+IF(ISNUMBER(CSVデータ4!X71),CSVデータ4!X71,0)","v":0},null,{"$f":"IF(ISNUMBER(CSVデータ1!Z71),CSVデータ1!Z71,0)+IF(ISNUMBER(CSVデータ2!Z71),CSVデータ2!Z71,0)+IF(ISNUMBER(CSVデータ3!Z71),CSVデータ3!Z71,0)+IF(ISNUMBER(CSVデータ4!Z71),CSVデータ4!Z71,0)","v":0},null,{"$f":"IF(ISNUMBER(CSVデータ1!AB71),CSVデータ1!AB71,0)+IF(ISNUMBER(CSVデータ2!AB71),CSVデータ2!AB71,0)+IF(ISNUMBER(CSVデータ3!AB71),CSVデータ3!AB71,0)+IF(ISNUMBER(CSVデータ4!AB71),CSVデータ4!AB71,0)","v":0},null,{"$f":"IF(ISNUMBER(CSVデータ1!AD71),CSVデータ1!AD71,0)+IF(ISNUMBER(CSVデータ2!AD71),CSVデータ2!AD71,0)+IF(ISNUMBER(CSVデータ3!AD71),CSVデータ3!AD71,0)+IF(ISNUMBER(CSVデータ4!AD71),CSVデータ4!AD71,0)","v":0},null,{"$f":"IF(ISNUMBER(CSVデータ1!AF71),CSVデータ1!AF71,0)+IF(ISNUMBER(CSVデータ2!AF71),CSVデータ2!AF71,0)+IF(ISNUMBER(CSVデータ3!AF71),CSVデータ3!AF71,0)+IF(ISNUMBER(CSVデータ4!AF71),CSVデータ4!AF71,0)","v":0},null,{"$f":"IF(ISNUMBER(CSVデータ1!AH71),CSVデータ1!AH71,0)+IF(ISNUMBER(CSVデータ2!AH71),CSVデータ2!AH71,0)+IF(ISNUMBER(CSVデータ3!AH71),CSVデータ3!AH71,0)+IF(ISNUMBER(CSVデータ4!AH71),CSVデータ4!AH71,0)","v":0},null,{"$f":"IF(ISNUMBER(CSVデータ1!AJ71),CSVデータ1!AJ71,0)+IF(ISNUMBER(CSVデータ2!AJ71),CSVデータ2!AJ71,0)+IF(ISNUMBER(CSVデータ3!AJ71),CSVデータ3!AJ71,0)+IF(ISNUMBER(CSVデータ4!AJ71),CSVデータ4!AJ71,0)","v":0},null,{"$f":"IF(ISNUMBER(CSVデータ1!AL71),CSVデータ1!AL71,0)+IF(ISNUMBER(CSVデータ2!AL71),CSVデータ2!AL71,0)+IF(ISNUMBER(CSVデータ3!AL71),CSVデータ3!AL71,0)+IF(ISNUMBER(CSVデータ4!AL71),CSVデータ4!AL71,0)","v":0},null,{"$f":"IF(ISNUMBER(CSVデータ1!AN71),CSVデータ1!AN71,0)+IF(ISNUMBER(CSVデータ2!AN71),CSVデータ2!AN71,0)+IF(ISNUMBER(CSVデータ3!AN71),CSVデータ3!AN71,0)+IF(ISNUMBER(CSVデータ4!AN71),CSVデータ4!AN71,0)","v":0}]
[{"$f":"CSVデータ1!A72","v":"明細部"},{"$f":"CSVデータ1!B72","v":"国"},{"$f":"CSVデータ1!C72","v":73},{"$f":"CSVデータ1!D72","v":"女"},{"$f":"IF(ISNUMBER(CSVデータ1!E72),CSVデータ1!E72,0)+IF(ISNUMBER(CSVデータ2!E72),CSVデータ2!E72,0)+IF(ISNUMBER(CSVデータ3!E72),CSVデータ3!E72,0)+IF(ISNUMBER(CSVデータ4!E72),CSVデータ4!E72,0)","v":0},{"$f":"IF(ISNUMBER(CSVデータ1!F72),CSVデータ1!F72,0)+IF(ISNUMBER(CSVデータ2!F72),CSVデータ2!F72,0)+IF(ISNUMBER(CSVデータ3!F72),CSVデータ3!F72,0)+IF(ISNUMBER(CSVデータ4!F72),CSVデータ4!F72,0)","v":0},null,{"$f":"IF(ISNUMBER(CSVデータ1!H72),CSVデータ1!H72,0)+IF(ISNUMBER(CSVデータ2!H72),CSVデータ2!H72,0)+IF(ISNUMBER(CSVデータ3!H72),CSVデータ3!H72,0)+IF(ISNUMBER(CSVデータ4!H72),CSVデータ4!H72,0)","v":0},null,{"$f":"IF(ISNUMBER(CSVデータ1!J72),CSVデータ1!J72,0)+IF(ISNUMBER(CSVデータ2!J72),CSVデータ2!J72,0)+IF(ISNUMBER(CSVデータ3!J72),CSVデータ3!J72,0)+IF(ISNUMBER(CSVデータ4!J72),CSVデータ4!J72,0)","v":0},null,{"$f":"IF(ISNUMBER(CSVデータ1!L72),CSVデータ1!L72,0)+IF(ISNUMBER(CSVデータ2!L72),CSVデータ2!L72,0)+IF(ISNUMBER(CSVデータ3!L72),CSVデータ3!L72,0)+IF(ISNUMBER(CSVデータ4!L72),CSVデータ4!L72,0)","v":0},null,{"$f":"IF(ISNUMBER(CSVデータ1!N72),CSVデータ1!N72,0)+IF(ISNUMBER(CSVデータ2!N72),CSVデータ2!N72,0)+IF(ISNUMBER(CSVデータ3!N72),CSVデータ3!N72,0)+IF(ISNUMBER(CSVデータ4!N72),CSVデータ4!N72,0)","v":0},null,{"$f":"IF(ISNUMBER(CSVデータ1!P72),CSVデータ1!P72,0)+IF(ISNUMBER(CSVデータ2!P72),CSVデータ2!P72,0)+IF(ISNUMBER(CSVデータ3!P72),CSVデータ3!P72,0)+IF(ISNUMBER(CSVデータ4!P72),CSVデータ4!P72,0)","v":0},null,{"$f":"IF(ISNUMBER(CSVデータ1!R72),CSVデータ1!R72,0)+IF(ISNUMBER(CSVデータ2!R72),CSVデータ2!R72,0)+IF(ISNUMBER(CSVデータ3!R72),CSVデータ3!R72,0)+IF(ISNUMBER(CSVデータ4!R72),CSVデータ4!R72,0)","v":0},null,{"$f":"IF(ISNUMBER(CSVデータ1!T72),CSVデータ1!T72,0)+IF(ISNUMBER(CSVデータ2!T72),CSVデータ2!T72,0)+IF(ISNUMBER(CSVデータ3!T72),CSVデータ3!T72,0)+IF(ISNUMBER(CSVデータ4!T72),CSVデータ4!T72,0)","v":0},null,{"$f":"IF(ISNUMBER(CSVデータ1!V72),CSVデータ1!V72,0)+IF(ISNUMBER(CSVデータ2!V72),CSVデータ2!V72,0)+IF(ISNUMBER(CSVデータ3!V72),CSVデータ3!V72,0)+IF(ISNUMBER(CSVデータ4!V72),CSVデータ4!V72,0)","v":0},null,{"$f":"IF(ISNUMBER(CSVデータ1!X72),CSVデータ1!X72,0)+IF(ISNUMBER(CSVデータ2!X72),CSVデータ2!X72,0)+IF(ISNUMBER(CSVデータ3!X72),CSVデータ3!X72,0)+IF(ISNUMBER(CSVデータ4!X72),CSVデータ4!X72,0)","v":0},null,{"$f":"IF(ISNUMBER(CSVデータ1!Z72),CSVデータ1!Z72,0)+IF(ISNUMBER(CSVデータ2!Z72),CSVデータ2!Z72,0)+IF(ISNUMBER(CSVデータ3!Z72),CSVデータ3!Z72,0)+IF(ISNUMBER(CSVデータ4!Z72),CSVデータ4!Z72,0)","v":0},null,{"$f":"IF(ISNUMBER(CSVデータ1!AB72),CSVデータ1!AB72,0)+IF(ISNUMBER(CSVデータ2!AB72),CSVデータ2!AB72,0)+IF(ISNUMBER(CSVデータ3!AB72),CSVデータ3!AB72,0)+IF(ISNUMBER(CSVデータ4!AB72),CSVデータ4!AB72,0)","v":0},null,{"$f":"IF(ISNUMBER(CSVデータ1!AD72),CSVデータ1!AD72,0)+IF(ISNUMBER(CSVデータ2!AD72),CSVデータ2!AD72,0)+IF(ISNUMBER(CSVデータ3!AD72),CSVデータ3!AD72,0)+IF(ISNUMBER(CSVデータ4!AD72),CSVデータ4!AD72,0)","v":0},null,{"$f":"IF(ISNUMBER(CSVデータ1!AF72),CSVデータ1!AF72,0)+IF(ISNUMBER(CSVデータ2!AF72),CSVデータ2!AF72,0)+IF(ISNUMBER(CSVデータ3!AF72),CSVデータ3!AF72,0)+IF(ISNUMBER(CSVデータ4!AF72),CSVデータ4!AF72,0)","v":0},null,{"$f":"IF(ISNUMBER(CSVデータ1!AH72),CSVデータ1!AH72,0)+IF(ISNUMBER(CSVデータ2!AH72),CSVデータ2!AH72,0)+IF(ISNUMBER(CSVデータ3!AH72),CSVデータ3!AH72,0)+IF(ISNUMBER(CSVデータ4!AH72),CSVデータ4!AH72,0)","v":0},null,{"$f":"IF(ISNUMBER(CSVデータ1!AJ72),CSVデータ1!AJ72,0)+IF(ISNUMBER(CSVデータ2!AJ72),CSVデータ2!AJ72,0)+IF(ISNUMBER(CSVデータ3!AJ72),CSVデータ3!AJ72,0)+IF(ISNUMBER(CSVデータ4!AJ72),CSVデータ4!AJ72,0)","v":0},null,{"$f":"IF(ISNUMBER(CSVデータ1!AL72),CSVデータ1!AL72,0)+IF(ISNUMBER(CSVデータ2!AL72),CSVデータ2!AL72,0)+IF(ISNUMBER(CSVデータ3!AL72),CSVデータ3!AL72,0)+IF(ISNUMBER(CSVデータ4!AL72),CSVデータ4!AL72,0)","v":0},null,{"$f":"IF(ISNUMBER(CSVデータ1!AN72),CSVデータ1!AN72,0)+IF(ISNUMBER(CSVデータ2!AN72),CSVデータ2!AN72,0)+IF(ISNUMBER(CSVデータ3!AN72),CSVデータ3!AN72,0)+IF(ISNUMBER(CSVデータ4!AN72),CSVデータ4!AN72,0)","v":0}]
[{"$f":"CSVデータ1!A73","v":"明細部"},{"$f":"CSVデータ1!B73","v":"国"},{"$f":"CSVデータ1!C73","v":74},{"$f":"CSVデータ1!D73","v":"女"},{"$f":"IF(ISNUMBER(CSVデータ1!E73),CSVデータ1!E73,0)+IF(ISNUMBER(CSVデータ2!E73),CSVデータ2!E73,0)+IF(ISNUMBER(CSVデータ3!E73),CSVデータ3!E73,0)+IF(ISNUMBER(CSVデータ4!E73),CSVデータ4!E73,0)","v":0},{"$f":"IF(ISNUMBER(CSVデータ1!F73),CSVデータ1!F73,0)+IF(ISNUMBER(CSVデータ2!F73),CSVデータ2!F73,0)+IF(ISNUMBER(CSVデータ3!F73),CSVデータ3!F73,0)+IF(ISNUMBER(CSVデータ4!F73),CSVデータ4!F73,0)","v":0},null,{"$f":"IF(ISNUMBER(CSVデータ1!H73),CSVデータ1!H73,0)+IF(ISNUMBER(CSVデータ2!H73),CSVデータ2!H73,0)+IF(ISNUMBER(CSVデータ3!H73),CSVデータ3!H73,0)+IF(ISNUMBER(CSVデータ4!H73),CSVデータ4!H73,0)","v":0},null,{"$f":"IF(ISNUMBER(CSVデータ1!J73),CSVデータ1!J73,0)+IF(ISNUMBER(CSVデータ2!J73),CSVデータ2!J73,0)+IF(ISNUMBER(CSVデータ3!J73),CSVデータ3!J73,0)+IF(ISNUMBER(CSVデータ4!J73),CSVデータ4!J73,0)","v":0},null,{"$f":"IF(ISNUMBER(CSVデータ1!L73),CSVデータ1!L73,0)+IF(ISNUMBER(CSVデータ2!L73),CSVデータ2!L73,0)+IF(ISNUMBER(CSVデータ3!L73),CSVデータ3!L73,0)+IF(ISNUMBER(CSVデータ4!L73),CSVデータ4!L73,0)","v":0},null,{"$f":"IF(ISNUMBER(CSVデータ1!N73),CSVデータ1!N73,0)+IF(ISNUMBER(CSVデータ2!N73),CSVデータ2!N73,0)+IF(ISNUMBER(CSVデータ3!N73),CSVデータ3!N73,0)+IF(ISNUMBER(CSVデータ4!N73),CSVデータ4!N73,0)","v":0},null,{"$f":"IF(ISNUMBER(CSVデータ1!P73),CSVデータ1!P73,0)+IF(ISNUMBER(CSVデータ2!P73),CSVデータ2!P73,0)+IF(ISNUMBER(CSVデータ3!P73),CSVデータ3!P73,0)+IF(ISNUMBER(CSVデータ4!P73),CSVデータ4!P73,0)","v":0},null,{"$f":"IF(ISNUMBER(CSVデータ1!R73),CSVデータ1!R73,0)+IF(ISNUMBER(CSVデータ2!R73),CSVデータ2!R73,0)+IF(ISNUMBER(CSVデータ3!R73),CSVデータ3!R73,0)+IF(ISNUMBER(CSVデータ4!R73),CSVデータ4!R73,0)","v":0},null,{"$f":"IF(ISNUMBER(CSVデータ1!T73),CSVデータ1!T73,0)+IF(ISNUMBER(CSVデータ2!T73),CSVデータ2!T73,0)+IF(ISNUMBER(CSVデータ3!T73),CSVデータ3!T73,0)+IF(ISNUMBER(CSVデータ4!T73),CSVデータ4!T73,0)","v":0},null,{"$f":"IF(ISNUMBER(CSVデータ1!V73),CSVデータ1!V73,0)+IF(ISNUMBER(CSVデータ2!V73),CSVデータ2!V73,0)+IF(ISNUMBER(CSVデータ3!V73),CSVデータ3!V73,0)+IF(ISNUMBER(CSVデータ4!V73),CSVデータ4!V73,0)","v":0},null,{"$f":"IF(ISNUMBER(CSVデータ1!X73),CSVデータ1!X73,0)+IF(ISNUMBER(CSVデータ2!X73),CSVデータ2!X73,0)+IF(ISNUMBER(CSVデータ3!X73),CSVデータ3!X73,0)+IF(ISNUMBER(CSVデータ4!X73),CSVデータ4!X73,0)","v":0},null,{"$f":"IF(ISNUMBER(CSVデータ1!Z73),CSVデータ1!Z73,0)+IF(ISNUMBER(CSVデータ2!Z73),CSVデータ2!Z73,0)+IF(ISNUMBER(CSVデータ3!Z73),CSVデータ3!Z73,0)+IF(ISNUMBER(CSVデータ4!Z73),CSVデータ4!Z73,0)","v":0},null,{"$f":"IF(ISNUMBER(CSVデータ1!AB73),CSVデータ1!AB73,0)+IF(ISNUMBER(CSVデータ2!AB73),CSVデータ2!AB73,0)+IF(ISNUMBER(CSVデータ3!AB73),CSVデータ3!AB73,0)+IF(ISNUMBER(CSVデータ4!AB73),CSVデータ4!AB73,0)","v":0},null,{"$f":"IF(ISNUMBER(CSVデータ1!AD73),CSVデータ1!AD73,0)+IF(ISNUMBER(CSVデータ2!AD73),CSVデータ2!AD73,0)+IF(ISNUMBER(CSVデータ3!AD73),CSVデータ3!AD73,0)+IF(ISNUMBER(CSVデータ4!AD73),CSVデータ4!AD73,0)","v":0},null,{"$f":"IF(ISNUMBER(CSVデータ1!AF73),CSVデータ1!AF73,0)+IF(ISNUMBER(CSVデータ2!AF73),CSVデータ2!AF73,0)+IF(ISNUMBER(CSVデータ3!AF73),CSVデータ3!AF73,0)+IF(ISNUMBER(CSVデータ4!AF73),CSVデータ4!AF73,0)","v":0},null,{"$f":"IF(ISNUMBER(CSVデータ1!AH73),CSVデータ1!AH73,0)+IF(ISNUMBER(CSVデータ2!AH73),CSVデータ2!AH73,0)+IF(ISNUMBER(CSVデータ3!AH73),CSVデータ3!AH73,0)+IF(ISNUMBER(CSVデータ4!AH73),CSVデータ4!AH73,0)","v":0},null,{"$f":"IF(ISNUMBER(CSVデータ1!AJ73),CSVデータ1!AJ73,0)+IF(ISNUMBER(CSVデータ2!AJ73),CSVデータ2!AJ73,0)+IF(ISNUMBER(CSVデータ3!AJ73),CSVデータ3!AJ73,0)+IF(ISNUMBER(CSVデータ4!AJ73),CSVデータ4!AJ73,0)","v":0},null,{"$f":"IF(ISNUMBER(CSVデータ1!AL73),CSVデータ1!AL73,0)+IF(ISNUMBER(CSVデータ2!AL73),CSVデータ2!AL73,0)+IF(ISNUMBER(CSVデータ3!AL73),CSVデータ3!AL73,0)+IF(ISNUMBER(CSVデータ4!AL73),CSVデータ4!AL73,0)","v":0},null,{"$f":"IF(ISNUMBER(CSVデータ1!AN73),CSVデータ1!AN73,0)+IF(ISNUMBER(CSVデータ2!AN73),CSVデータ2!AN73,0)+IF(ISNUMBER(CSVデータ3!AN73),CSVデータ3!AN73,0)+IF(ISNUMBER(CSVデータ4!AN73),CSVデータ4!AN73,0)","v":0}]
[{"$f":"CSVデータ1!A74","v":"明細部"},{"$f":"CSVデータ1!B74","v":"県"},{"$f":"CSVデータ1!C74","v":40},{"$f":"CSVデータ1!D74","v":"男"},{"$f":"IF(ISNUMBER(CSVデータ1!E74),CSVデータ1!E74,0)+IF(ISNUMBER(CSVデータ2!E74),CSVデータ2!E74,0)+IF(ISNUMBER(CSVデータ3!E74),CSVデータ3!E74,0)+IF(ISNUMBER(CSVデータ4!E74),CSVデータ4!E74,0)","v":0},{"$f":"IF(ISNUMBER(CSVデータ1!F74),CSVデータ1!F74,0)+IF(ISNUMBER(CSVデータ2!F74),CSVデータ2!F74,0)+IF(ISNUMBER(CSVデータ3!F74),CSVデータ3!F74,0)+IF(ISNUMBER(CSVデータ4!F74),CSVデータ4!F74,0)","v":0},null,{"$f":"IF(ISNUMBER(CSVデータ1!H74),CSVデータ1!H74,0)+IF(ISNUMBER(CSVデータ2!H74),CSVデータ2!H74,0)+IF(ISNUMBER(CSVデータ3!H74),CSVデータ3!H74,0)+IF(ISNUMBER(CSVデータ4!H74),CSVデータ4!H74,0)","v":0},null,{"$f":"IF(ISNUMBER(CSVデータ1!J74),CSVデータ1!J74,0)+IF(ISNUMBER(CSVデータ2!J74),CSVデータ2!J74,0)+IF(ISNUMBER(CSVデータ3!J74),CSVデータ3!J74,0)+IF(ISNUMBER(CSVデータ4!J74),CSVデータ4!J74,0)","v":0},null,{"$f":"IF(ISNUMBER(CSVデータ1!L74),CSVデータ1!L74,0)+IF(ISNUMBER(CSVデータ2!L74),CSVデータ2!L74,0)+IF(ISNUMBER(CSVデータ3!L74),CSVデータ3!L74,0)+IF(ISNUMBER(CSVデータ4!L74),CSVデータ4!L74,0)","v":0},null,{"$f":"IF(ISNUMBER(CSVデータ1!N74),CSVデータ1!N74,0)+IF(ISNUMBER(CSVデータ2!N74),CSVデータ2!N74,0)+IF(ISNUMBER(CSVデータ3!N74),CSVデータ3!N74,0)+IF(ISNUMBER(CSVデータ4!N74),CSVデータ4!N74,0)","v":0},null,{"$f":"IF(ISNUMBER(CSVデータ1!P74),CSVデータ1!P74,0)+IF(ISNUMBER(CSVデータ2!P74),CSVデータ2!P74,0)+IF(ISNUMBER(CSVデータ3!P74),CSVデータ3!P74,0)+IF(ISNUMBER(CSVデータ4!P74),CSVデータ4!P74,0)","v":0},null,{"$f":"IF(ISNUMBER(CSVデータ1!R74),CSVデータ1!R74,0)+IF(ISNUMBER(CSVデータ2!R74),CSVデータ2!R74,0)+IF(ISNUMBER(CSVデータ3!R74),CSVデータ3!R74,0)+IF(ISNUMBER(CSVデータ4!R74),CSVデータ4!R74,0)","v":0},null,{"$f":"IF(ISNUMBER(CSVデータ1!T74),CSVデータ1!T74,0)+IF(ISNUMBER(CSVデータ2!T74),CSVデータ2!T74,0)+IF(ISNUMBER(CSVデータ3!T74),CSVデータ3!T74,0)+IF(ISNUMBER(CSVデータ4!T74),CSVデータ4!T74,0)","v":0},null,{"$f":"IF(ISNUMBER(CSVデータ1!V74),CSVデータ1!V74,0)+IF(ISNUMBER(CSVデータ2!V74),CSVデータ2!V74,0)+IF(ISNUMBER(CSVデータ3!V74),CSVデータ3!V74,0)+IF(ISNUMBER(CSVデータ4!V74),CSVデータ4!V74,0)","v":0},null,{"$f":"IF(ISNUMBER(CSVデータ1!X74),CSVデータ1!X74,0)+IF(ISNUMBER(CSVデータ2!X74),CSVデータ2!X74,0)+IF(ISNUMBER(CSVデータ3!X74),CSVデータ3!X74,0)+IF(ISNUMBER(CSVデータ4!X74),CSVデータ4!X74,0)","v":0},null,{"$f":"IF(ISNUMBER(CSVデータ1!Z74),CSVデータ1!Z74,0)+IF(ISNUMBER(CSVデータ2!Z74),CSVデータ2!Z74,0)+IF(ISNUMBER(CSVデータ3!Z74),CSVデータ3!Z74,0)+IF(ISNUMBER(CSVデータ4!Z74),CSVデータ4!Z74,0)","v":0},null,{"$f":"IF(ISNUMBER(CSVデータ1!AB74),CSVデータ1!AB74,0)+IF(ISNUMBER(CSVデータ2!AB74),CSVデータ2!AB74,0)+IF(ISNUMBER(CSVデータ3!AB74),CSVデータ3!AB74,0)+IF(ISNUMBER(CSVデータ4!AB74),CSVデータ4!AB74,0)","v":0},null,{"$f":"IF(ISNUMBER(CSVデータ1!AD74),CSVデータ1!AD74,0)+IF(ISNUMBER(CSVデータ2!AD74),CSVデータ2!AD74,0)+IF(ISNUMBER(CSVデータ3!AD74),CSVデータ3!AD74,0)+IF(ISNUMBER(CSVデータ4!AD74),CSVデータ4!AD74,0)","v":0},null,{"$f":"IF(ISNUMBER(CSVデータ1!AF74),CSVデータ1!AF74,0)+IF(ISNUMBER(CSVデータ2!AF74),CSVデータ2!AF74,0)+IF(ISNUMBER(CSVデータ3!AF74),CSVデータ3!AF74,0)+IF(ISNUMBER(CSVデータ4!AF74),CSVデータ4!AF74,0)","v":0},null,{"$f":"IF(ISNUMBER(CSVデータ1!AH74),CSVデータ1!AH74,0)+IF(ISNUMBER(CSVデータ2!AH74),CSVデータ2!AH74,0)+IF(ISNUMBER(CSVデータ3!AH74),CSVデータ3!AH74,0)+IF(ISNUMBER(CSVデータ4!AH74),CSVデータ4!AH74,0)","v":0},null,{"$f":"IF(ISNUMBER(CSVデータ1!AJ74),CSVデータ1!AJ74,0)+IF(ISNUMBER(CSVデータ2!AJ74),CSVデータ2!AJ74,0)+IF(ISNUMBER(CSVデータ3!AJ74),CSVデータ3!AJ74,0)+IF(ISNUMBER(CSVデータ4!AJ74),CSVデータ4!AJ74,0)","v":0},null,{"$f":"IF(ISNUMBER(CSVデータ1!AL74),CSVデータ1!AL74,0)+IF(ISNUMBER(CSVデータ2!AL74),CSVデータ2!AL74,0)+IF(ISNUMBER(CSVデータ3!AL74),CSVデータ3!AL74,0)+IF(ISNUMBER(CSVデータ4!AL74),CSVデータ4!AL74,0)","v":0},null,{"$f":"IF(ISNUMBER(CSVデータ1!AN74),CSVデータ1!AN74,0)+IF(ISNUMBER(CSVデータ2!AN74),CSVデータ2!AN74,0)+IF(ISNUMBER(CSVデータ3!AN74),CSVデータ3!AN74,0)+IF(ISNUMBER(CSVデータ4!AN74),CSVデータ4!AN74,0)","v":0}]
[{"$f":"CSVデータ1!A75","v":"明細部"},{"$f":"CSVデータ1!B75","v":"県"},{"$f":"CSVデータ1!C75","v":41},{"$f":"CSVデータ1!D75","v":"男"},{"$f":"IF(ISNUMBER(CSVデータ1!E75),CSVデータ1!E75,0)+IF(ISNUMBER(CSVデータ2!E75),CSVデータ2!E75,0)+IF(ISNUMBER(CSVデータ3!E75),CSVデータ3!E75,0)+IF(ISNUMBER(CSVデータ4!E75),CSVデータ4!E75,0)","v":0},{"$f":"IF(ISNUMBER(CSVデータ1!F75),CSVデータ1!F75,0)+IF(ISNUMBER(CSVデータ2!F75),CSVデータ2!F75,0)+IF(ISNUMBER(CSVデータ3!F75),CSVデータ3!F75,0)+IF(ISNUMBER(CSVデータ4!F75),CSVデータ4!F75,0)","v":0},null,{"$f":"IF(ISNUMBER(CSVデータ1!H75),CSVデータ1!H75,0)+IF(ISNUMBER(CSVデータ2!H75),CSVデータ2!H75,0)+IF(ISNUMBER(CSVデータ3!H75),CSVデータ3!H75,0)+IF(ISNUMBER(CSVデータ4!H75),CSVデータ4!H75,0)","v":0},null,{"$f":"IF(ISNUMBER(CSVデータ1!J75),CSVデータ1!J75,0)+IF(ISNUMBER(CSVデータ2!J75),CSVデータ2!J75,0)+IF(ISNUMBER(CSVデータ3!J75),CSVデータ3!J75,0)+IF(ISNUMBER(CSVデータ4!J75),CSVデータ4!J75,0)","v":0},null,{"$f":"IF(ISNUMBER(CSVデータ1!L75),CSVデータ1!L75,0)+IF(ISNUMBER(CSVデータ2!L75),CSVデータ2!L75,0)+IF(ISNUMBER(CSVデータ3!L75),CSVデータ3!L75,0)+IF(ISNUMBER(CSVデータ4!L75),CSVデータ4!L75,0)","v":0},null,{"$f":"IF(ISNUMBER(CSVデータ1!N75),CSVデータ1!N75,0)+IF(ISNUMBER(CSVデータ2!N75),CSVデータ2!N75,0)+IF(ISNUMBER(CSVデータ3!N75),CSVデータ3!N75,0)+IF(ISNUMBER(CSVデータ4!N75),CSVデータ4!N75,0)","v":0},null,{"$f":"IF(ISNUMBER(CSVデータ1!P75),CSVデータ1!P75,0)+IF(ISNUMBER(CSVデータ2!P75),CSVデータ2!P75,0)+IF(ISNUMBER(CSVデータ3!P75),CSVデータ3!P75,0)+IF(ISNUMBER(CSVデータ4!P75),CSVデータ4!P75,0)","v":0},null,{"$f":"IF(ISNUMBER(CSVデータ1!R75),CSVデータ1!R75,0)+IF(ISNUMBER(CSVデータ2!R75),CSVデータ2!R75,0)+IF(ISNUMBER(CSVデータ3!R75),CSVデータ3!R75,0)+IF(ISNUMBER(CSVデータ4!R75),CSVデータ4!R75,0)","v":0},null,{"$f":"IF(ISNUMBER(CSVデータ1!T75),CSVデータ1!T75,0)+IF(ISNUMBER(CSVデータ2!T75),CSVデータ2!T75,0)+IF(ISNUMBER(CSVデータ3!T75),CSVデータ3!T75,0)+IF(ISNUMBER(CSVデータ4!T75),CSVデータ4!T75,0)","v":0},null,{"$f":"IF(ISNUMBER(CSVデータ1!V75),CSVデータ1!V75,0)+IF(ISNUMBER(CSVデータ2!V75),CSVデータ2!V75,0)+IF(ISNUMBER(CSVデータ3!V75),CSVデータ3!V75,0)+IF(ISNUMBER(CSVデータ4!V75),CSVデータ4!V75,0)","v":0},null,{"$f":"IF(ISNUMBER(CSVデータ1!X75),CSVデータ1!X75,0)+IF(ISNUMBER(CSVデータ2!X75),CSVデータ2!X75,0)+IF(ISNUMBER(CSVデータ3!X75),CSVデータ3!X75,0)+IF(ISNUMBER(CSVデータ4!X75),CSVデータ4!X75,0)","v":0},null,{"$f":"IF(ISNUMBER(CSVデータ1!Z75),CSVデータ1!Z75,0)+IF(ISNUMBER(CSVデータ2!Z75),CSVデータ2!Z75,0)+IF(ISNUMBER(CSVデータ3!Z75),CSVデータ3!Z75,0)+IF(ISNUMBER(CSVデータ4!Z75),CSVデータ4!Z75,0)","v":0},null,{"$f":"IF(ISNUMBER(CSVデータ1!AB75),CSVデータ1!AB75,0)+IF(ISNUMBER(CSVデータ2!AB75),CSVデータ2!AB75,0)+IF(ISNUMBER(CSVデータ3!AB75),CSVデータ3!AB75,0)+IF(ISNUMBER(CSVデータ4!AB75),CSVデータ4!AB75,0)","v":0},null,{"$f":"IF(ISNUMBER(CSVデータ1!AD75),CSVデータ1!AD75,0)+IF(ISNUMBER(CSVデータ2!AD75),CSVデータ2!AD75,0)+IF(ISNUMBER(CSVデータ3!AD75),CSVデータ3!AD75,0)+IF(ISNUMBER(CSVデータ4!AD75),CSVデータ4!AD75,0)","v":0},null,{"$f":"IF(ISNUMBER(CSVデータ1!AF75),CSVデータ1!AF75,0)+IF(ISNUMBER(CSVデータ2!AF75),CSVデータ2!AF75,0)+IF(ISNUMBER(CSVデータ3!AF75),CSVデータ3!AF75,0)+IF(ISNUMBER(CSVデータ4!AF75),CSVデータ4!AF75,0)","v":0},null,{"$f":"IF(ISNUMBER(CSVデータ1!AH75),CSVデータ1!AH75,0)+IF(ISNUMBER(CSVデータ2!AH75),CSVデータ2!AH75,0)+IF(ISNUMBER(CSVデータ3!AH75),CSVデータ3!AH75,0)+IF(ISNUMBER(CSVデータ4!AH75),CSVデータ4!AH75,0)","v":0},null,{"$f":"IF(ISNUMBER(CSVデータ1!AJ75),CSVデータ1!AJ75,0)+IF(ISNUMBER(CSVデータ2!AJ75),CSVデータ2!AJ75,0)+IF(ISNUMBER(CSVデータ3!AJ75),CSVデータ3!AJ75,0)+IF(ISNUMBER(CSVデータ4!AJ75),CSVデータ4!AJ75,0)","v":0},null,{"$f":"IF(ISNUMBER(CSVデータ1!AL75),CSVデータ1!AL75,0)+IF(ISNUMBER(CSVデータ2!AL75),CSVデータ2!AL75,0)+IF(ISNUMBER(CSVデータ3!AL75),CSVデータ3!AL75,0)+IF(ISNUMBER(CSVデータ4!AL75),CSVデータ4!AL75,0)","v":0},null,{"$f":"IF(ISNUMBER(CSVデータ1!AN75),CSVデータ1!AN75,0)+IF(ISNUMBER(CSVデータ2!AN75),CSVデータ2!AN75,0)+IF(ISNUMBER(CSVデータ3!AN75),CSVデータ3!AN75,0)+IF(ISNUMBER(CSVデータ4!AN75),CSVデータ4!AN75,0)","v":0}]
[{"$f":"CSVデータ1!A76","v":"明細部"},{"$f":"CSVデータ1!B76","v":"県"},{"$f":"CSVデータ1!C76","v":42},{"$f":"CSVデータ1!D76","v":"男"},{"$f":"IF(ISNUMBER(CSVデータ1!E76),CSVデータ1!E76,0)+IF(ISNUMBER(CSVデータ2!E76),CSVデータ2!E76,0)+IF(ISNUMBER(CSVデータ3!E76),CSVデータ3!E76,0)+IF(ISNUMBER(CSVデータ4!E76),CSVデータ4!E76,0)","v":0},{"$f":"IF(ISNUMBER(CSVデータ1!F76),CSVデータ1!F76,0)+IF(ISNUMBER(CSVデータ2!F76),CSVデータ2!F76,0)+IF(ISNUMBER(CSVデータ3!F76),CSVデータ3!F76,0)+IF(ISNUMBER(CSVデータ4!F76),CSVデータ4!F76,0)","v":0},null,{"$f":"IF(ISNUMBER(CSVデータ1!H76),CSVデータ1!H76,0)+IF(ISNUMBER(CSVデータ2!H76),CSVデータ2!H76,0)+IF(ISNUMBER(CSVデータ3!H76),CSVデータ3!H76,0)+IF(ISNUMBER(CSVデータ4!H76),CSVデータ4!H76,0)","v":0},null,{"$f":"IF(ISNUMBER(CSVデータ1!J76),CSVデータ1!J76,0)+IF(ISNUMBER(CSVデータ2!J76),CSVデータ2!J76,0)+IF(ISNUMBER(CSVデータ3!J76),CSVデータ3!J76,0)+IF(ISNUMBER(CSVデータ4!J76),CSVデータ4!J76,0)","v":0},null,{"$f":"IF(ISNUMBER(CSVデータ1!L76),CSVデータ1!L76,0)+IF(ISNUMBER(CSVデータ2!L76),CSVデータ2!L76,0)+IF(ISNUMBER(CSVデータ3!L76),CSVデータ3!L76,0)+IF(ISNUMBER(CSVデータ4!L76),CSVデータ4!L76,0)","v":0},null,{"$f":"IF(ISNUMBER(CSVデータ1!N76),CSVデータ1!N76,0)+IF(ISNUMBER(CSVデータ2!N76),CSVデータ2!N76,0)+IF(ISNUMBER(CSVデータ3!N76),CSVデータ3!N76,0)+IF(ISNUMBER(CSVデータ4!N76),CSVデータ4!N76,0)","v":0},null,{"$f":"IF(ISNUMBER(CSVデータ1!P76),CSVデータ1!P76,0)+IF(ISNUMBER(CSVデータ2!P76),CSVデータ2!P76,0)+IF(ISNUMBER(CSVデータ3!P76),CSVデータ3!P76,0)+IF(ISNUMBER(CSVデータ4!P76),CSVデータ4!P76,0)","v":0},null,{"$f":"IF(ISNUMBER(CSVデータ1!R76),CSVデータ1!R76,0)+IF(ISNUMBER(CSVデータ2!R76),CSVデータ2!R76,0)+IF(ISNUMBER(CSVデータ3!R76),CSVデータ3!R76,0)+IF(ISNUMBER(CSVデータ4!R76),CSVデータ4!R76,0)","v":0},null,{"$f":"IF(ISNUMBER(CSVデータ1!T76),CSVデータ1!T76,0)+IF(ISNUMBER(CSVデータ2!T76),CSVデータ2!T76,0)+IF(ISNUMBER(CSVデータ3!T76),CSVデータ3!T76,0)+IF(ISNUMBER(CSVデータ4!T76),CSVデータ4!T76,0)","v":0},null,{"$f":"IF(ISNUMBER(CSVデータ1!V76),CSVデータ1!V76,0)+IF(ISNUMBER(CSVデータ2!V76),CSVデータ2!V76,0)+IF(ISNUMBER(CSVデータ3!V76),CSVデータ3!V76,0)+IF(ISNUMBER(CSVデータ4!V76),CSVデータ4!V76,0)","v":0},null,{"$f":"IF(ISNUMBER(CSVデータ1!X76),CSVデータ1!X76,0)+IF(ISNUMBER(CSVデータ2!X76),CSVデータ2!X76,0)+IF(ISNUMBER(CSVデータ3!X76),CSVデータ3!X76,0)+IF(ISNUMBER(CSVデータ4!X76),CSVデータ4!X76,0)","v":0},null,{"$f":"IF(ISNUMBER(CSVデータ1!Z76),CSVデータ1!Z76,0)+IF(ISNUMBER(CSVデータ2!Z76),CSVデータ2!Z76,0)+IF(ISNUMBER(CSVデータ3!Z76),CSVデータ3!Z76,0)+IF(ISNUMBER(CSVデータ4!Z76),CSVデータ4!Z76,0)","v":0},null,{"$f":"IF(ISNUMBER(CSVデータ1!AB76),CSVデータ1!AB76,0)+IF(ISNUMBER(CSVデータ2!AB76),CSVデータ2!AB76,0)+IF(ISNUMBER(CSVデータ3!AB76),CSVデータ3!AB76,0)+IF(ISNUMBER(CSVデータ4!AB76),CSVデータ4!AB76,0)","v":0},null,{"$f":"IF(ISNUMBER(CSVデータ1!AD76),CSVデータ1!AD76,0)+IF(ISNUMBER(CSVデータ2!AD76),CSVデータ2!AD76,0)+IF(ISNUMBER(CSVデータ3!AD76),CSVデータ3!AD76,0)+IF(ISNUMBER(CSVデータ4!AD76),CSVデータ4!AD76,0)","v":0},null,{"$f":"IF(ISNUMBER(CSVデータ1!AF76),CSVデータ1!AF76,0)+IF(ISNUMBER(CSVデータ2!AF76),CSVデータ2!AF76,0)+IF(ISNUMBER(CSVデータ3!AF76),CSVデータ3!AF76,0)+IF(ISNUMBER(CSVデータ4!AF76),CSVデータ4!AF76,0)","v":0},null,{"$f":"IF(ISNUMBER(CSVデータ1!AH76),CSVデータ1!AH76,0)+IF(ISNUMBER(CSVデータ2!AH76),CSVデータ2!AH76,0)+IF(ISNUMBER(CSVデータ3!AH76),CSVデータ3!AH76,0)+IF(ISNUMBER(CSVデータ4!AH76),CSVデータ4!AH76,0)","v":0},null,{"$f":"IF(ISNUMBER(CSVデータ1!AJ76),CSVデータ1!AJ76,0)+IF(ISNUMBER(CSVデータ2!AJ76),CSVデータ2!AJ76,0)+IF(ISNUMBER(CSVデータ3!AJ76),CSVデータ3!AJ76,0)+IF(ISNUMBER(CSVデータ4!AJ76),CSVデータ4!AJ76,0)","v":0},null,{"$f":"IF(ISNUMBER(CSVデータ1!AL76),CSVデータ1!AL76,0)+IF(ISNUMBER(CSVデータ2!AL76),CSVデータ2!AL76,0)+IF(ISNUMBER(CSVデータ3!AL76),CSVデータ3!AL76,0)+IF(ISNUMBER(CSVデータ4!AL76),CSVデータ4!AL76,0)","v":0},null,{"$f":"IF(ISNUMBER(CSVデータ1!AN76),CSVデータ1!AN76,0)+IF(ISNUMBER(CSVデータ2!AN76),CSVデータ2!AN76,0)+IF(ISNUMBER(CSVデータ3!AN76),CSVデータ3!AN76,0)+IF(ISNUMBER(CSVデータ4!AN76),CSVデータ4!AN76,0)","v":0}]
[{"$f":"CSVデータ1!A77","v":"明細部"},{"$f":"CSVデータ1!B77","v":"県"},{"$f":"CSVデータ1!C77","v":43},{"$f":"CSVデータ1!D77","v":"男"},{"$f":"IF(ISNUMBER(CSVデータ1!E77),CSVデータ1!E77,0)+IF(ISNUMBER(CSVデータ2!E77),CSVデータ2!E77,0)+IF(ISNUMBER(CSVデータ3!E77),CSVデータ3!E77,0)+IF(ISNUMBER(CSVデータ4!E77),CSVデータ4!E77,0)","v":0},{"$f":"IF(ISNUMBER(CSVデータ1!F77),CSVデータ1!F77,0)+IF(ISNUMBER(CSVデータ2!F77),CSVデータ2!F77,0)+IF(ISNUMBER(CSVデータ3!F77),CSVデータ3!F77,0)+IF(ISNUMBER(CSVデータ4!F77),CSVデータ4!F77,0)","v":0},null,{"$f":"IF(ISNUMBER(CSVデータ1!H77),CSVデータ1!H77,0)+IF(ISNUMBER(CSVデータ2!H77),CSVデータ2!H77,0)+IF(ISNUMBER(CSVデータ3!H77),CSVデータ3!H77,0)+IF(ISNUMBER(CSVデータ4!H77),CSVデータ4!H77,0)","v":0},null,{"$f":"IF(ISNUMBER(CSVデータ1!J77),CSVデータ1!J77,0)+IF(ISNUMBER(CSVデータ2!J77),CSVデータ2!J77,0)+IF(ISNUMBER(CSVデータ3!J77),CSVデータ3!J77,0)+IF(ISNUMBER(CSVデータ4!J77),CSVデータ4!J77,0)","v":0},null,{"$f":"IF(ISNUMBER(CSVデータ1!L77),CSVデータ1!L77,0)+IF(ISNUMBER(CSVデータ2!L77),CSVデータ2!L77,0)+IF(ISNUMBER(CSVデータ3!L77),CSVデータ3!L77,0)+IF(ISNUMBER(CSVデータ4!L77),CSVデータ4!L77,0)","v":0},null,{"$f":"IF(ISNUMBER(CSVデータ1!N77),CSVデータ1!N77,0)+IF(ISNUMBER(CSVデータ2!N77),CSVデータ2!N77,0)+IF(ISNUMBER(CSVデータ3!N77),CSVデータ3!N77,0)+IF(ISNUMBER(CSVデータ4!N77),CSVデータ4!N77,0)","v":0},null,{"$f":"IF(ISNUMBER(CSVデータ1!P77),CSVデータ1!P77,0)+IF(ISNUMBER(CSVデータ2!P77),CSVデータ2!P77,0)+IF(ISNUMBER(CSVデータ3!P77),CSVデータ3!P77,0)+IF(ISNUMBER(CSVデータ4!P77),CSVデータ4!P77,0)","v":0},null,{"$f":"IF(ISNUMBER(CSVデータ1!R77),CSVデータ1!R77,0)+IF(ISNUMBER(CSVデータ2!R77),CSVデータ2!R77,0)+IF(ISNUMBER(CSVデータ3!R77),CSVデータ3!R77,0)+IF(ISNUMBER(CSVデータ4!R77),CSVデータ4!R77,0)","v":0},null,{"$f":"IF(ISNUMBER(CSVデータ1!T77),CSVデータ1!T77,0)+IF(ISNUMBER(CSVデータ2!T77),CSVデータ2!T77,0)+IF(ISNUMBER(CSVデータ3!T77),CSVデータ3!T77,0)+IF(ISNUMBER(CSVデータ4!T77),CSVデータ4!T77,0)","v":0},null,{"$f":"IF(ISNUMBER(CSVデータ1!V77),CSVデータ1!V77,0)+IF(ISNUMBER(CSVデータ2!V77),CSVデータ2!V77,0)+IF(ISNUMBER(CSVデータ3!V77),CSVデータ3!V77,0)+IF(ISNUMBER(CSVデータ4!V77),CSVデータ4!V77,0)","v":0},null,{"$f":"IF(ISNUMBER(CSVデータ1!X77),CSVデータ1!X77,0)+IF(ISNUMBER(CSVデータ2!X77),CSVデータ2!X77,0)+IF(ISNUMBER(CSVデータ3!X77),CSVデータ3!X77,0)+IF(ISNUMBER(CSVデータ4!X77),CSVデータ4!X77,0)","v":0},null,{"$f":"IF(ISNUMBER(CSVデータ1!Z77),CSVデータ1!Z77,0)+IF(ISNUMBER(CSVデータ2!Z77),CSVデータ2!Z77,0)+IF(ISNUMBER(CSVデータ3!Z77),CSVデータ3!Z77,0)+IF(ISNUMBER(CSVデータ4!Z77),CSVデータ4!Z77,0)","v":0},null,{"$f":"IF(ISNUMBER(CSVデータ1!AB77),CSVデータ1!AB77,0)+IF(ISNUMBER(CSVデータ2!AB77),CSVデータ2!AB77,0)+IF(ISNUMBER(CSVデータ3!AB77),CSVデータ3!AB77,0)+IF(ISNUMBER(CSVデータ4!AB77),CSVデータ4!AB77,0)","v":0},null,{"$f":"IF(ISNUMBER(CSVデータ1!AD77),CSVデータ1!AD77,0)+IF(ISNUMBER(CSVデータ2!AD77),CSVデータ2!AD77,0)+IF(ISNUMBER(CSVデータ3!AD77),CSVデータ3!AD77,0)+IF(ISNUMBER(CSVデータ4!AD77),CSVデータ4!AD77,0)","v":0},null,{"$f":"IF(ISNUMBER(CSVデータ1!AF77),CSVデータ1!AF77,0)+IF(ISNUMBER(CSVデータ2!AF77),CSVデータ2!AF77,0)+IF(ISNUMBER(CSVデータ3!AF77),CSVデータ3!AF77,0)+IF(ISNUMBER(CSVデータ4!AF77),CSVデータ4!AF77,0)","v":0},null,{"$f":"IF(ISNUMBER(CSVデータ1!AH77),CSVデータ1!AH77,0)+IF(ISNUMBER(CSVデータ2!AH77),CSVデータ2!AH77,0)+IF(ISNUMBER(CSVデータ3!AH77),CSVデータ3!AH77,0)+IF(ISNUMBER(CSVデータ4!AH77),CSVデータ4!AH77,0)","v":0},null,{"$f":"IF(ISNUMBER(CSVデータ1!AJ77),CSVデータ1!AJ77,0)+IF(ISNUMBER(CSVデータ2!AJ77),CSVデータ2!AJ77,0)+IF(ISNUMBER(CSVデータ3!AJ77),CSVデータ3!AJ77,0)+IF(ISNUMBER(CSVデータ4!AJ77),CSVデータ4!AJ77,0)","v":0},null,{"$f":"IF(ISNUMBER(CSVデータ1!AL77),CSVデータ1!AL77,0)+IF(ISNUMBER(CSVデータ2!AL77),CSVデータ2!AL77,0)+IF(ISNUMBER(CSVデータ3!AL77),CSVデータ3!AL77,0)+IF(ISNUMBER(CSVデータ4!AL77),CSVデータ4!AL77,0)","v":0},null,{"$f":"IF(ISNUMBER(CSVデータ1!AN77),CSVデータ1!AN77,0)+IF(ISNUMBER(CSVデータ2!AN77),CSVデータ2!AN77,0)+IF(ISNUMBER(CSVデータ3!AN77),CSVデータ3!AN77,0)+IF(ISNUMBER(CSVデータ4!AN77),CSVデータ4!AN77,0)","v":0}]
[{"$f":"CSVデータ1!A78","v":"明細部"},{"$f":"CSVデータ1!B78","v":"県"},{"$f":"CSVデータ1!C78","v":44},{"$f":"CSVデータ1!D78","v":"男"},{"$f":"IF(ISNUMBER(CSVデータ1!E78),CSVデータ1!E78,0)+IF(ISNUMBER(CSVデータ2!E78),CSVデータ2!E78,0)+IF(ISNUMBER(CSVデータ3!E78),CSVデータ3!E78,0)+IF(ISNUMBER(CSVデータ4!E78),CSVデータ4!E78,0)","v":0},{"$f":"IF(ISNUMBER(CSVデータ1!F78),CSVデータ1!F78,0)+IF(ISNUMBER(CSVデータ2!F78),CSVデータ2!F78,0)+IF(ISNUMBER(CSVデータ3!F78),CSVデータ3!F78,0)+IF(ISNUMBER(CSVデータ4!F78),CSVデータ4!F78,0)","v":0},null,{"$f":"IF(ISNUMBER(CSVデータ1!H78),CSVデータ1!H78,0)+IF(ISNUMBER(CSVデータ2!H78),CSVデータ2!H78,0)+IF(ISNUMBER(CSVデータ3!H78),CSVデータ3!H78,0)+IF(ISNUMBER(CSVデータ4!H78),CSVデータ4!H78,0)","v":0},null,{"$f":"IF(ISNUMBER(CSVデータ1!J78),CSVデータ1!J78,0)+IF(ISNUMBER(CSVデータ2!J78),CSVデータ2!J78,0)+IF(ISNUMBER(CSVデータ3!J78),CSVデータ3!J78,0)+IF(ISNUMBER(CSVデータ4!J78),CSVデータ4!J78,0)","v":0},null,{"$f":"IF(ISNUMBER(CSVデータ1!L78),CSVデータ1!L78,0)+IF(ISNUMBER(CSVデータ2!L78),CSVデータ2!L78,0)+IF(ISNUMBER(CSVデータ3!L78),CSVデータ3!L78,0)+IF(ISNUMBER(CSVデータ4!L78),CSVデータ4!L78,0)","v":0},null,{"$f":"IF(ISNUMBER(CSVデータ1!N78),CSVデータ1!N78,0)+IF(ISNUMBER(CSVデータ2!N78),CSVデータ2!N78,0)+IF(ISNUMBER(CSVデータ3!N78),CSVデータ3!N78,0)+IF(ISNUMBER(CSVデータ4!N78),CSVデータ4!N78,0)","v":0},null,{"$f":"IF(ISNUMBER(CSVデータ1!P78),CSVデータ1!P78,0)+IF(ISNUMBER(CSVデータ2!P78),CSVデータ2!P78,0)+IF(ISNUMBER(CSVデータ3!P78),CSVデータ3!P78,0)+IF(ISNUMBER(CSVデータ4!P78),CSVデータ4!P78,0)","v":0},null,{"$f":"IF(ISNUMBER(CSVデータ1!R78),CSVデータ1!R78,0)+IF(ISNUMBER(CSVデータ2!R78),CSVデータ2!R78,0)+IF(ISNUMBER(CSVデータ3!R78),CSVデータ3!R78,0)+IF(ISNUMBER(CSVデータ4!R78),CSVデータ4!R78,0)","v":0},null,{"$f":"IF(ISNUMBER(CSVデータ1!T78),CSVデータ1!T78,0)+IF(ISNUMBER(CSVデータ2!T78),CSVデータ2!T78,0)+IF(ISNUMBER(CSVデータ3!T78),CSVデータ3!T78,0)+IF(ISNUMBER(CSVデータ4!T78),CSVデータ4!T78,0)","v":0},null,{"$f":"IF(ISNUMBER(CSVデータ1!V78),CSVデータ1!V78,0)+IF(ISNUMBER(CSVデータ2!V78),CSVデータ2!V78,0)+IF(ISNUMBER(CSVデータ3!V78),CSVデータ3!V78,0)+IF(ISNUMBER(CSVデータ4!V78),CSVデータ4!V78,0)","v":0},null,{"$f":"IF(ISNUMBER(CSVデータ1!X78),CSVデータ1!X78,0)+IF(ISNUMBER(CSVデータ2!X78),CSVデータ2!X78,0)+IF(ISNUMBER(CSVデータ3!X78),CSVデータ3!X78,0)+IF(ISNUMBER(CSVデータ4!X78),CSVデータ4!X78,0)","v":0},null,{"$f":"IF(ISNUMBER(CSVデータ1!Z78),CSVデータ1!Z78,0)+IF(ISNUMBER(CSVデータ2!Z78),CSVデータ2!Z78,0)+IF(ISNUMBER(CSVデータ3!Z78),CSVデータ3!Z78,0)+IF(ISNUMBER(CSVデータ4!Z78),CSVデータ4!Z78,0)","v":0},null,{"$f":"IF(ISNUMBER(CSVデータ1!AB78),CSVデータ1!AB78,0)+IF(ISNUMBER(CSVデータ2!AB78),CSVデータ2!AB78,0)+IF(ISNUMBER(CSVデータ3!AB78),CSVデータ3!AB78,0)+IF(ISNUMBER(CSVデータ4!AB78),CSVデータ4!AB78,0)","v":0},null,{"$f":"IF(ISNUMBER(CSVデータ1!AD78),CSVデータ1!AD78,0)+IF(ISNUMBER(CSVデータ2!AD78),CSVデータ2!AD78,0)+IF(ISNUMBER(CSVデータ3!AD78),CSVデータ3!AD78,0)+IF(ISNUMBER(CSVデータ4!AD78),CSVデータ4!AD78,0)","v":0},null,{"$f":"IF(ISNUMBER(CSVデータ1!AF78),CSVデータ1!AF78,0)+IF(ISNUMBER(CSVデータ2!AF78),CSVデータ2!AF78,0)+IF(ISNUMBER(CSVデータ3!AF78),CSVデータ3!AF78,0)+IF(ISNUMBER(CSVデータ4!AF78),CSVデータ4!AF78,0)","v":0},null,{"$f":"IF(ISNUMBER(CSVデータ1!AH78),CSVデータ1!AH78,0)+IF(ISNUMBER(CSVデータ2!AH78),CSVデータ2!AH78,0)+IF(ISNUMBER(CSVデータ3!AH78),CSVデータ3!AH78,0)+IF(ISNUMBER(CSVデータ4!AH78),CSVデータ4!AH78,0)","v":0},null,{"$f":"IF(ISNUMBER(CSVデータ1!AJ78),CSVデータ1!AJ78,0)+IF(ISNUMBER(CSVデータ2!AJ78),CSVデータ2!AJ78,0)+IF(ISNUMBER(CSVデータ3!AJ78),CSVデータ3!AJ78,0)+IF(ISNUMBER(CSVデータ4!AJ78),CSVデータ4!AJ78,0)","v":0},null,{"$f":"IF(ISNUMBER(CSVデータ1!AL78),CSVデータ1!AL78,0)+IF(ISNUMBER(CSVデータ2!AL78),CSVデータ2!AL78,0)+IF(ISNUMBER(CSVデータ3!AL78),CSVデータ3!AL78,0)+IF(ISNUMBER(CSVデータ4!AL78),CSVデータ4!AL78,0)","v":0},null,{"$f":"IF(ISNUMBER(CSVデータ1!AN78),CSVデータ1!AN78,0)+IF(ISNUMBER(CSVデータ2!AN78),CSVデータ2!AN78,0)+IF(ISNUMBER(CSVデータ3!AN78),CSVデータ3!AN78,0)+IF(ISNUMBER(CSVデータ4!AN78),CSVデータ4!AN78,0)","v":0}]
[{"$f":"CSVデータ1!A79","v":"明細部"},{"$f":"CSVデータ1!B79","v":"県"},{"$f":"CSVデータ1!C79","v":45},{"$f":"CSVデータ1!D79","v":"男"},{"$f":"IF(ISNUMBER(CSVデータ1!E79),CSVデータ1!E79,0)+IF(ISNUMBER(CSVデータ2!E79),CSVデータ2!E79,0)+IF(ISNUMBER(CSVデータ3!E79),CSVデータ3!E79,0)+IF(ISNUMBER(CSVデータ4!E79),CSVデータ4!E79,0)","v":0},{"$f":"IF(ISNUMBER(CSVデータ1!F79),CSVデータ1!F79,0)+IF(ISNUMBER(CSVデータ2!F79),CSVデータ2!F79,0)+IF(ISNUMBER(CSVデータ3!F79),CSVデータ3!F79,0)+IF(ISNUMBER(CSVデータ4!F79),CSVデータ4!F79,0)","v":0},null,{"$f":"IF(ISNUMBER(CSVデータ1!H79),CSVデータ1!H79,0)+IF(ISNUMBER(CSVデータ2!H79),CSVデータ2!H79,0)+IF(ISNUMBER(CSVデータ3!H79),CSVデータ3!H79,0)+IF(ISNUMBER(CSVデータ4!H79),CSVデータ4!H79,0)","v":0},null,{"$f":"IF(ISNUMBER(CSVデータ1!J79),CSVデータ1!J79,0)+IF(ISNUMBER(CSVデータ2!J79),CSVデータ2!J79,0)+IF(ISNUMBER(CSVデータ3!J79),CSVデータ3!J79,0)+IF(ISNUMBER(CSVデータ4!J79),CSVデータ4!J79,0)","v":0},null,{"$f":"IF(ISNUMBER(CSVデータ1!L79),CSVデータ1!L79,0)+IF(ISNUMBER(CSVデータ2!L79),CSVデータ2!L79,0)+IF(ISNUMBER(CSVデータ3!L79),CSVデータ3!L79,0)+IF(ISNUMBER(CSVデータ4!L79),CSVデータ4!L79,0)","v":0},null,{"$f":"IF(ISNUMBER(CSVデータ1!N79),CSVデータ1!N79,0)+IF(ISNUMBER(CSVデータ2!N79),CSVデータ2!N79,0)+IF(ISNUMBER(CSVデータ3!N79),CSVデータ3!N79,0)+IF(ISNUMBER(CSVデータ4!N79),CSVデータ4!N79,0)","v":0},null,{"$f":"IF(ISNUMBER(CSVデータ1!P79),CSVデータ1!P79,0)+IF(ISNUMBER(CSVデータ2!P79),CSVデータ2!P79,0)+IF(ISNUMBER(CSVデータ3!P79),CSVデータ3!P79,0)+IF(ISNUMBER(CSVデータ4!P79),CSVデータ4!P79,0)","v":0},null,{"$f":"IF(ISNUMBER(CSVデータ1!R79),CSVデータ1!R79,0)+IF(ISNUMBER(CSVデータ2!R79),CSVデータ2!R79,0)+IF(ISNUMBER(CSVデータ3!R79),CSVデータ3!R79,0)+IF(ISNUMBER(CSVデータ4!R79),CSVデータ4!R79,0)","v":0},null,{"$f":"IF(ISNUMBER(CSVデータ1!T79),CSVデータ1!T79,0)+IF(ISNUMBER(CSVデータ2!T79),CSVデータ2!T79,0)+IF(ISNUMBER(CSVデータ3!T79),CSVデータ3!T79,0)+IF(ISNUMBER(CSVデータ4!T79),CSVデータ4!T79,0)","v":0},null,{"$f":"IF(ISNUMBER(CSVデータ1!V79),CSVデータ1!V79,0)+IF(ISNUMBER(CSVデータ2!V79),CSVデータ2!V79,0)+IF(ISNUMBER(CSVデータ3!V79),CSVデータ3!V79,0)+IF(ISNUMBER(CSVデータ4!V79),CSVデータ4!V79,0)","v":0},null,{"$f":"IF(ISNUMBER(CSVデータ1!X79),CSVデータ1!X79,0)+IF(ISNUMBER(CSVデータ2!X79),CSVデータ2!X79,0)+IF(ISNUMBER(CSVデータ3!X79),CSVデータ3!X79,0)+IF(ISNUMBER(CSVデータ4!X79),CSVデータ4!X79,0)","v":0},null,{"$f":"IF(ISNUMBER(CSVデータ1!Z79),CSVデータ1!Z79,0)+IF(ISNUMBER(CSVデータ2!Z79),CSVデータ2!Z79,0)+IF(ISNUMBER(CSVデータ3!Z79),CSVデータ3!Z79,0)+IF(ISNUMBER(CSVデータ4!Z79),CSVデータ4!Z79,0)","v":0},null,{"$f":"IF(ISNUMBER(CSVデータ1!AB79),CSVデータ1!AB79,0)+IF(ISNUMBER(CSVデータ2!AB79),CSVデータ2!AB79,0)+IF(ISNUMBER(CSVデータ3!AB79),CSVデータ3!AB79,0)+IF(ISNUMBER(CSVデータ4!AB79),CSVデータ4!AB79,0)","v":0},null,{"$f":"IF(ISNUMBER(CSVデータ1!AD79),CSVデータ1!AD79,0)+IF(ISNUMBER(CSVデータ2!AD79),CSVデータ2!AD79,0)+IF(ISNUMBER(CSVデータ3!AD79),CSVデータ3!AD79,0)+IF(ISNUMBER(CSVデータ4!AD79),CSVデータ4!AD79,0)","v":0},null,{"$f":"IF(ISNUMBER(CSVデータ1!AF79),CSVデータ1!AF79,0)+IF(ISNUMBER(CSVデータ2!AF79),CSVデータ2!AF79,0)+IF(ISNUMBER(CSVデータ3!AF79),CSVデータ3!AF79,0)+IF(ISNUMBER(CSVデータ4!AF79),CSVデータ4!AF79,0)","v":0},null,{"$f":"IF(ISNUMBER(CSVデータ1!AH79),CSVデータ1!AH79,0)+IF(ISNUMBER(CSVデータ2!AH79),CSVデータ2!AH79,0)+IF(ISNUMBER(CSVデータ3!AH79),CSVデータ3!AH79,0)+IF(ISNUMBER(CSVデータ4!AH79),CSVデータ4!AH79,0)","v":0},null,{"$f":"IF(ISNUMBER(CSVデータ1!AJ79),CSVデータ1!AJ79,0)+IF(ISNUMBER(CSVデータ2!AJ79),CSVデータ2!AJ79,0)+IF(ISNUMBER(CSVデータ3!AJ79),CSVデータ3!AJ79,0)+IF(ISNUMBER(CSVデータ4!AJ79),CSVデータ4!AJ79,0)","v":0},null,{"$f":"IF(ISNUMBER(CSVデータ1!AL79),CSVデータ1!AL79,0)+IF(ISNUMBER(CSVデータ2!AL79),CSVデータ2!AL79,0)+IF(ISNUMBER(CSVデータ3!AL79),CSVデータ3!AL79,0)+IF(ISNUMBER(CSVデータ4!AL79),CSVデータ4!AL79,0)","v":0},null,{"$f":"IF(ISNUMBER(CSVデータ1!AN79),CSVデータ1!AN79,0)+IF(ISNUMBER(CSVデータ2!AN79),CSVデータ2!AN79,0)+IF(ISNUMBER(CSVデータ3!AN79),CSVデータ3!AN79,0)+IF(ISNUMBER(CSVデータ4!AN79),CSVデータ4!AN79,0)","v":0}]
[{"$f":"CSVデータ1!A80","v":"明細部"},{"$f":"CSVデータ1!B80","v":"県"},{"$f":"CSVデータ1!C80","v":46},{"$f":"CSVデータ1!D80","v":"男"},{"$f":"IF(ISNUMBER(CSVデータ1!E80),CSVデータ1!E80,0)+IF(ISNUMBER(CSVデータ2!E80),CSVデータ2!E80,0)+IF(ISNUMBER(CSVデータ3!E80),CSVデータ3!E80,0)+IF(ISNUMBER(CSVデータ4!E80),CSVデータ4!E80,0)","v":0},{"$f":"IF(ISNUMBER(CSVデータ1!F80),CSVデータ1!F80,0)+IF(ISNUMBER(CSVデータ2!F80),CSVデータ2!F80,0)+IF(ISNUMBER(CSVデータ3!F80),CSVデータ3!F80,0)+IF(ISNUMBER(CSVデータ4!F80),CSVデータ4!F80,0)","v":0},null,{"$f":"IF(ISNUMBER(CSVデータ1!H80),CSVデータ1!H80,0)+IF(ISNUMBER(CSVデータ2!H80),CSVデータ2!H80,0)+IF(ISNUMBER(CSVデータ3!H80),CSVデータ3!H80,0)+IF(ISNUMBER(CSVデータ4!H80),CSVデータ4!H80,0)","v":0},null,{"$f":"IF(ISNUMBER(CSVデータ1!J80),CSVデータ1!J80,0)+IF(ISNUMBER(CSVデータ2!J80),CSVデータ2!J80,0)+IF(ISNUMBER(CSVデータ3!J80),CSVデータ3!J80,0)+IF(ISNUMBER(CSVデータ4!J80),CSVデータ4!J80,0)","v":0},null,{"$f":"IF(ISNUMBER(CSVデータ1!L80),CSVデータ1!L80,0)+IF(ISNUMBER(CSVデータ2!L80),CSVデータ2!L80,0)+IF(ISNUMBER(CSVデータ3!L80),CSVデータ3!L80,0)+IF(ISNUMBER(CSVデータ4!L80),CSVデータ4!L80,0)","v":0},null,{"$f":"IF(ISNUMBER(CSVデータ1!N80),CSVデータ1!N80,0)+IF(ISNUMBER(CSVデータ2!N80),CSVデータ2!N80,0)+IF(ISNUMBER(CSVデータ3!N80),CSVデータ3!N80,0)+IF(ISNUMBER(CSVデータ4!N80),CSVデータ4!N80,0)","v":0},null,{"$f":"IF(ISNUMBER(CSVデータ1!P80),CSVデータ1!P80,0)+IF(ISNUMBER(CSVデータ2!P80),CSVデータ2!P80,0)+IF(ISNUMBER(CSVデータ3!P80),CSVデータ3!P80,0)+IF(ISNUMBER(CSVデータ4!P80),CSVデータ4!P80,0)","v":0},null,{"$f":"IF(ISNUMBER(CSVデータ1!R80),CSVデータ1!R80,0)+IF(ISNUMBER(CSVデータ2!R80),CSVデータ2!R80,0)+IF(ISNUMBER(CSVデータ3!R80),CSVデータ3!R80,0)+IF(ISNUMBER(CSVデータ4!R80),CSVデータ4!R80,0)","v":0},null,{"$f":"IF(ISNUMBER(CSVデータ1!T80),CSVデータ1!T80,0)+IF(ISNUMBER(CSVデータ2!T80),CSVデータ2!T80,0)+IF(ISNUMBER(CSVデータ3!T80),CSVデータ3!T80,0)+IF(ISNUMBER(CSVデータ4!T80),CSVデータ4!T80,0)","v":0},null,{"$f":"IF(ISNUMBER(CSVデータ1!V80),CSVデータ1!V80,0)+IF(ISNUMBER(CSVデータ2!V80),CSVデータ2!V80,0)+IF(ISNUMBER(CSVデータ3!V80),CSVデータ3!V80,0)+IF(ISNUMBER(CSVデータ4!V80),CSVデータ4!V80,0)","v":0},null,{"$f":"IF(ISNUMBER(CSVデータ1!X80),CSVデータ1!X80,0)+IF(ISNUMBER(CSVデータ2!X80),CSVデータ2!X80,0)+IF(ISNUMBER(CSVデータ3!X80),CSVデータ3!X80,0)+IF(ISNUMBER(CSVデータ4!X80),CSVデータ4!X80,0)","v":0},null,{"$f":"IF(ISNUMBER(CSVデータ1!Z80),CSVデータ1!Z80,0)+IF(ISNUMBER(CSVデータ2!Z80),CSVデータ2!Z80,0)+IF(ISNUMBER(CSVデータ3!Z80),CSVデータ3!Z80,0)+IF(ISNUMBER(CSVデータ4!Z80),CSVデータ4!Z80,0)","v":0},null,{"$f":"IF(ISNUMBER(CSVデータ1!AB80),CSVデータ1!AB80,0)+IF(ISNUMBER(CSVデータ2!AB80),CSVデータ2!AB80,0)+IF(ISNUMBER(CSVデータ3!AB80),CSVデータ3!AB80,0)+IF(ISNUMBER(CSVデータ4!AB80),CSVデータ4!AB80,0)","v":0},null,{"$f":"IF(ISNUMBER(CSVデータ1!AD80),CSVデータ1!AD80,0)+IF(ISNUMBER(CSVデータ2!AD80),CSVデータ2!AD80,0)+IF(ISNUMBER(CSVデータ3!AD80),CSVデータ3!AD80,0)+IF(ISNUMBER(CSVデータ4!AD80),CSVデータ4!AD80,0)","v":0},null,{"$f":"IF(ISNUMBER(CSVデータ1!AF80),CSVデータ1!AF80,0)+IF(ISNUMBER(CSVデータ2!AF80),CSVデータ2!AF80,0)+IF(ISNUMBER(CSVデータ3!AF80),CSVデータ3!AF80,0)+IF(ISNUMBER(CSVデータ4!AF80),CSVデータ4!AF80,0)","v":0},null,{"$f":"IF(ISNUMBER(CSVデータ1!AH80),CSVデータ1!AH80,0)+IF(ISNUMBER(CSVデータ2!AH80),CSVデータ2!AH80,0)+IF(ISNUMBER(CSVデータ3!AH80),CSVデータ3!AH80,0)+IF(ISNUMBER(CSVデータ4!AH80),CSVデータ4!AH80,0)","v":0},null,{"$f":"IF(ISNUMBER(CSVデータ1!AJ80),CSVデータ1!AJ80,0)+IF(ISNUMBER(CSVデータ2!AJ80),CSVデータ2!AJ80,0)+IF(ISNUMBER(CSVデータ3!AJ80),CSVデータ3!AJ80,0)+IF(ISNUMBER(CSVデータ4!AJ80),CSVデータ4!AJ80,0)","v":0},null,{"$f":"IF(ISNUMBER(CSVデータ1!AL80),CSVデータ1!AL80,0)+IF(ISNUMBER(CSVデータ2!AL80),CSVデータ2!AL80,0)+IF(ISNUMBER(CSVデータ3!AL80),CSVデータ3!AL80,0)+IF(ISNUMBER(CSVデータ4!AL80),CSVデータ4!AL80,0)","v":0},null,{"$f":"IF(ISNUMBER(CSVデータ1!AN80),CSVデータ1!AN80,0)+IF(ISNUMBER(CSVデータ2!AN80),CSVデータ2!AN80,0)+IF(ISNUMBER(CSVデータ3!AN80),CSVデータ3!AN80,0)+IF(ISNUMBER(CSVデータ4!AN80),CSVデータ4!AN80,0)","v":0}]
[{"$f":"CSVデータ1!A81","v":"明細部"},{"$f":"CSVデータ1!B81","v":"県"},{"$f":"CSVデータ1!C81","v":47},{"$f":"CSVデータ1!D81","v":"男"},{"$f":"IF(ISNUMBER(CSVデータ1!E81),CSVデータ1!E81,0)+IF(ISNUMBER(CSVデータ2!E81),CSVデータ2!E81,0)+IF(ISNUMBER(CSVデータ3!E81),CSVデータ3!E81,0)+IF(ISNUMBER(CSVデータ4!E81),CSVデータ4!E81,0)","v":0},{"$f":"IF(ISNUMBER(CSVデータ1!F81),CSVデータ1!F81,0)+IF(ISNUMBER(CSVデータ2!F81),CSVデータ2!F81,0)+IF(ISNUMBER(CSVデータ3!F81),CSVデータ3!F81,0)+IF(ISNUMBER(CSVデータ4!F81),CSVデータ4!F81,0)","v":0},null,{"$f":"IF(ISNUMBER(CSVデータ1!H81),CSVデータ1!H81,0)+IF(ISNUMBER(CSVデータ2!H81),CSVデータ2!H81,0)+IF(ISNUMBER(CSVデータ3!H81),CSVデータ3!H81,0)+IF(ISNUMBER(CSVデータ4!H81),CSVデータ4!H81,0)","v":0},null,{"$f":"IF(ISNUMBER(CSVデータ1!J81),CSVデータ1!J81,0)+IF(ISNUMBER(CSVデータ2!J81),CSVデータ2!J81,0)+IF(ISNUMBER(CSVデータ3!J81),CSVデータ3!J81,0)+IF(ISNUMBER(CSVデータ4!J81),CSVデータ4!J81,0)","v":0},null,{"$f":"IF(ISNUMBER(CSVデータ1!L81),CSVデータ1!L81,0)+IF(ISNUMBER(CSVデータ2!L81),CSVデータ2!L81,0)+IF(ISNUMBER(CSVデータ3!L81),CSVデータ3!L81,0)+IF(ISNUMBER(CSVデータ4!L81),CSVデータ4!L81,0)","v":0},null,{"$f":"IF(ISNUMBER(CSVデータ1!N81),CSVデータ1!N81,0)+IF(ISNUMBER(CSVデータ2!N81),CSVデータ2!N81,0)+IF(ISNUMBER(CSVデータ3!N81),CSVデータ3!N81,0)+IF(ISNUMBER(CSVデータ4!N81),CSVデータ4!N81,0)","v":0},null,{"$f":"IF(ISNUMBER(CSVデータ1!P81),CSVデータ1!P81,0)+IF(ISNUMBER(CSVデータ2!P81),CSVデータ2!P81,0)+IF(ISNUMBER(CSVデータ3!P81),CSVデータ3!P81,0)+IF(ISNUMBER(CSVデータ4!P81),CSVデータ4!P81,0)","v":0},null,{"$f":"IF(ISNUMBER(CSVデータ1!R81),CSVデータ1!R81,0)+IF(ISNUMBER(CSVデータ2!R81),CSVデータ2!R81,0)+IF(ISNUMBER(CSVデータ3!R81),CSVデータ3!R81,0)+IF(ISNUMBER(CSVデータ4!R81),CSVデータ4!R81,0)","v":0},null,{"$f":"IF(ISNUMBER(CSVデータ1!T81),CSVデータ1!T81,0)+IF(ISNUMBER(CSVデータ2!T81),CSVデータ2!T81,0)+IF(ISNUMBER(CSVデータ3!T81),CSVデータ3!T81,0)+IF(ISNUMBER(CSVデータ4!T81),CSVデータ4!T81,0)","v":0},null,{"$f":"IF(ISNUMBER(CSVデータ1!V81),CSVデータ1!V81,0)+IF(ISNUMBER(CSVデータ2!V81),CSVデータ2!V81,0)+IF(ISNUMBER(CSVデータ3!V81),CSVデータ3!V81,0)+IF(ISNUMBER(CSVデータ4!V81),CSVデータ4!V81,0)","v":0},null,{"$f":"IF(ISNUMBER(CSVデータ1!X81),CSVデータ1!X81,0)+IF(ISNUMBER(CSVデータ2!X81),CSVデータ2!X81,0)+IF(ISNUMBER(CSVデータ3!X81),CSVデータ3!X81,0)+IF(ISNUMBER(CSVデータ4!X81),CSVデータ4!X81,0)","v":0},null,{"$f":"IF(ISNUMBER(CSVデータ1!Z81),CSVデータ1!Z81,0)+IF(ISNUMBER(CSVデータ2!Z81),CSVデータ2!Z81,0)+IF(ISNUMBER(CSVデータ3!Z81),CSVデータ3!Z81,0)+IF(ISNUMBER(CSVデータ4!Z81),CSVデータ4!Z81,0)","v":0},null,{"$f":"IF(ISNUMBER(CSVデータ1!AB81),CSVデータ1!AB81,0)+IF(ISNUMBER(CSVデータ2!AB81),CSVデータ2!AB81,0)+IF(ISNUMBER(CSVデータ3!AB81),CSVデータ3!AB81,0)+IF(ISNUMBER(CSVデータ4!AB81),CSVデータ4!AB81,0)","v":0},null,{"$f":"IF(ISNUMBER(CSVデータ1!AD81),CSVデータ1!AD81,0)+IF(ISNUMBER(CSVデータ2!AD81),CSVデータ2!AD81,0)+IF(ISNUMBER(CSVデータ3!AD81),CSVデータ3!AD81,0)+IF(ISNUMBER(CSVデータ4!AD81),CSVデータ4!AD81,0)","v":0},null,{"$f":"IF(ISNUMBER(CSVデータ1!AF81),CSVデータ1!AF81,0)+IF(ISNUMBER(CSVデータ2!AF81),CSVデータ2!AF81,0)+IF(ISNUMBER(CSVデータ3!AF81),CSVデータ3!AF81,0)+IF(ISNUMBER(CSVデータ4!AF81),CSVデータ4!AF81,0)","v":0},null,{"$f":"IF(ISNUMBER(CSVデータ1!AH81),CSVデータ1!AH81,0)+IF(ISNUMBER(CSVデータ2!AH81),CSVデータ2!AH81,0)+IF(ISNUMBER(CSVデータ3!AH81),CSVデータ3!AH81,0)+IF(ISNUMBER(CSVデータ4!AH81),CSVデータ4!AH81,0)","v":0},null,{"$f":"IF(ISNUMBER(CSVデータ1!AJ81),CSVデータ1!AJ81,0)+IF(ISNUMBER(CSVデータ2!AJ81),CSVデータ2!AJ81,0)+IF(ISNUMBER(CSVデータ3!AJ81),CSVデータ3!AJ81,0)+IF(ISNUMBER(CSVデータ4!AJ81),CSVデータ4!AJ81,0)","v":0},null,{"$f":"IF(ISNUMBER(CSVデータ1!AL81),CSVデータ1!AL81,0)+IF(ISNUMBER(CSVデータ2!AL81),CSVデータ2!AL81,0)+IF(ISNUMBER(CSVデータ3!AL81),CSVデータ3!AL81,0)+IF(ISNUMBER(CSVデータ4!AL81),CSVデータ4!AL81,0)","v":0},null,{"$f":"IF(ISNUMBER(CSVデータ1!AN81),CSVデータ1!AN81,0)+IF(ISNUMBER(CSVデータ2!AN81),CSVデータ2!AN81,0)+IF(ISNUMBER(CSVデータ3!AN81),CSVデータ3!AN81,0)+IF(ISNUMBER(CSVデータ4!AN81),CSVデータ4!AN81,0)","v":0}]
[{"$f":"CSVデータ1!A82","v":"明細部"},{"$f":"CSVデータ1!B82","v":"県"},{"$f":"CSVデータ1!C82","v":48},{"$f":"CSVデータ1!D82","v":"男"},{"$f":"IF(ISNUMBER(CSVデータ1!E82),CSVデータ1!E82,0)+IF(ISNUMBER(CSVデータ2!E82),CSVデータ2!E82,0)+IF(ISNUMBER(CSVデータ3!E82),CSVデータ3!E82,0)+IF(ISNUMBER(CSVデータ4!E82),CSVデータ4!E82,0)","v":0},{"$f":"IF(ISNUMBER(CSVデータ1!F82),CSVデータ1!F82,0)+IF(ISNUMBER(CSVデータ2!F82),CSVデータ2!F82,0)+IF(ISNUMBER(CSVデータ3!F82),CSVデータ3!F82,0)+IF(ISNUMBER(CSVデータ4!F82),CSVデータ4!F82,0)","v":0},null,{"$f":"IF(ISNUMBER(CSVデータ1!H82),CSVデータ1!H82,0)+IF(ISNUMBER(CSVデータ2!H82),CSVデータ2!H82,0)+IF(ISNUMBER(CSVデータ3!H82),CSVデータ3!H82,0)+IF(ISNUMBER(CSVデータ4!H82),CSVデータ4!H82,0)","v":0},null,{"$f":"IF(ISNUMBER(CSVデータ1!J82),CSVデータ1!J82,0)+IF(ISNUMBER(CSVデータ2!J82),CSVデータ2!J82,0)+IF(ISNUMBER(CSVデータ3!J82),CSVデータ3!J82,0)+IF(ISNUMBER(CSVデータ4!J82),CSVデータ4!J82,0)","v":0},null,{"$f":"IF(ISNUMBER(CSVデータ1!L82),CSVデータ1!L82,0)+IF(ISNUMBER(CSVデータ2!L82),CSVデータ2!L82,0)+IF(ISNUMBER(CSVデータ3!L82),CSVデータ3!L82,0)+IF(ISNUMBER(CSVデータ4!L82),CSVデータ4!L82,0)","v":0},null,{"$f":"IF(ISNUMBER(CSVデータ1!N82),CSVデータ1!N82,0)+IF(ISNUMBER(CSVデータ2!N82),CSVデータ2!N82,0)+IF(ISNUMBER(CSVデータ3!N82),CSVデータ3!N82,0)+IF(ISNUMBER(CSVデータ4!N82),CSVデータ4!N82,0)","v":0},null,{"$f":"IF(ISNUMBER(CSVデータ1!P82),CSVデータ1!P82,0)+IF(ISNUMBER(CSVデータ2!P82),CSVデータ2!P82,0)+IF(ISNUMBER(CSVデータ3!P82),CSVデータ3!P82,0)+IF(ISNUMBER(CSVデータ4!P82),CSVデータ4!P82,0)","v":0},null,{"$f":"IF(ISNUMBER(CSVデータ1!R82),CSVデータ1!R82,0)+IF(ISNUMBER(CSVデータ2!R82),CSVデータ2!R82,0)+IF(ISNUMBER(CSVデータ3!R82),CSVデータ3!R82,0)+IF(ISNUMBER(CSVデータ4!R82),CSVデータ4!R82,0)","v":0},null,{"$f":"IF(ISNUMBER(CSVデータ1!T82),CSVデータ1!T82,0)+IF(ISNUMBER(CSVデータ2!T82),CSVデータ2!T82,0)+IF(ISNUMBER(CSVデータ3!T82),CSVデータ3!T82,0)+IF(ISNUMBER(CSVデータ4!T82),CSVデータ4!T82,0)","v":0},null,{"$f":"IF(ISNUMBER(CSVデータ1!V82),CSVデータ1!V82,0)+IF(ISNUMBER(CSVデータ2!V82),CSVデータ2!V82,0)+IF(ISNUMBER(CSVデータ3!V82),CSVデータ3!V82,0)+IF(ISNUMBER(CSVデータ4!V82),CSVデータ4!V82,0)","v":0},null,{"$f":"IF(ISNUMBER(CSVデータ1!X82),CSVデータ1!X82,0)+IF(ISNUMBER(CSVデータ2!X82),CSVデータ2!X82,0)+IF(ISNUMBER(CSVデータ3!X82),CSVデータ3!X82,0)+IF(ISNUMBER(CSVデータ4!X82),CSVデータ4!X82,0)","v":0},null,{"$f":"IF(ISNUMBER(CSVデータ1!Z82),CSVデータ1!Z82,0)+IF(ISNUMBER(CSVデータ2!Z82),CSVデータ2!Z82,0)+IF(ISNUMBER(CSVデータ3!Z82),CSVデータ3!Z82,0)+IF(ISNUMBER(CSVデータ4!Z82),CSVデータ4!Z82,0)","v":0},null,{"$f":"IF(ISNUMBER(CSVデータ1!AB82),CSVデータ1!AB82,0)+IF(ISNUMBER(CSVデータ2!AB82),CSVデータ2!AB82,0)+IF(ISNUMBER(CSVデータ3!AB82),CSVデータ3!AB82,0)+IF(ISNUMBER(CSVデータ4!AB82),CSVデータ4!AB82,0)","v":0},null,{"$f":"IF(ISNUMBER(CSVデータ1!AD82),CSVデータ1!AD82,0)+IF(ISNUMBER(CSVデータ2!AD82),CSVデータ2!AD82,0)+IF(ISNUMBER(CSVデータ3!AD82),CSVデータ3!AD82,0)+IF(ISNUMBER(CSVデータ4!AD82),CSVデータ4!AD82,0)","v":0},null,{"$f":"IF(ISNUMBER(CSVデータ1!AF82),CSVデータ1!AF82,0)+IF(ISNUMBER(CSVデータ2!AF82),CSVデータ2!AF82,0)+IF(ISNUMBER(CSVデータ3!AF82),CSVデータ3!AF82,0)+IF(ISNUMBER(CSVデータ4!AF82),CSVデータ4!AF82,0)","v":0},null,{"$f":"IF(ISNUMBER(CSVデータ1!AH82),CSVデータ1!AH82,0)+IF(ISNUMBER(CSVデータ2!AH82),CSVデータ2!AH82,0)+IF(ISNUMBER(CSVデータ3!AH82),CSVデータ3!AH82,0)+IF(ISNUMBER(CSVデータ4!AH82),CSVデータ4!AH82,0)","v":0},null,{"$f":"IF(ISNUMBER(CSVデータ1!AJ82),CSVデータ1!AJ82,0)+IF(ISNUMBER(CSVデータ2!AJ82),CSVデータ2!AJ82,0)+IF(ISNUMBER(CSVデータ3!AJ82),CSVデータ3!AJ82,0)+IF(ISNUMBER(CSVデータ4!AJ82),CSVデータ4!AJ82,0)","v":0},null,{"$f":"IF(ISNUMBER(CSVデータ1!AL82),CSVデータ1!AL82,0)+IF(ISNUMBER(CSVデータ2!AL82),CSVデータ2!AL82,0)+IF(ISNUMBER(CSVデータ3!AL82),CSVデータ3!AL82,0)+IF(ISNUMBER(CSVデータ4!AL82),CSVデータ4!AL82,0)","v":0},null,{"$f":"IF(ISNUMBER(CSVデータ1!AN82),CSVデータ1!AN82,0)+IF(ISNUMBER(CSVデータ2!AN82),CSVデータ2!AN82,0)+IF(ISNUMBER(CSVデータ3!AN82),CSVデータ3!AN82,0)+IF(ISNUMBER(CSVデータ4!AN82),CSVデータ4!AN82,0)","v":0}]
[{"$f":"CSVデータ1!A83","v":"明細部"},{"$f":"CSVデータ1!B83","v":"県"},{"$f":"CSVデータ1!C83","v":49},{"$f":"CSVデータ1!D83","v":"男"},{"$f":"IF(ISNUMBER(CSVデータ1!E83),CSVデータ1!E83,0)+IF(ISNUMBER(CSVデータ2!E83),CSVデータ2!E83,0)+IF(ISNUMBER(CSVデータ3!E83),CSVデータ3!E83,0)+IF(ISNUMBER(CSVデータ4!E83),CSVデータ4!E83,0)","v":0},{"$f":"IF(ISNUMBER(CSVデータ1!F83),CSVデータ1!F83,0)+IF(ISNUMBER(CSVデータ2!F83),CSVデータ2!F83,0)+IF(ISNUMBER(CSVデータ3!F83),CSVデータ3!F83,0)+IF(ISNUMBER(CSVデータ4!F83),CSVデータ4!F83,0)","v":0},null,{"$f":"IF(ISNUMBER(CSVデータ1!H83),CSVデータ1!H83,0)+IF(ISNUMBER(CSVデータ2!H83),CSVデータ2!H83,0)+IF(ISNUMBER(CSVデータ3!H83),CSVデータ3!H83,0)+IF(ISNUMBER(CSVデータ4!H83),CSVデータ4!H83,0)","v":0},null,{"$f":"IF(ISNUMBER(CSVデータ1!J83),CSVデータ1!J83,0)+IF(ISNUMBER(CSVデータ2!J83),CSVデータ2!J83,0)+IF(ISNUMBER(CSVデータ3!J83),CSVデータ3!J83,0)+IF(ISNUMBER(CSVデータ4!J83),CSVデータ4!J83,0)","v":0},null,{"$f":"IF(ISNUMBER(CSVデータ1!L83),CSVデータ1!L83,0)+IF(ISNUMBER(CSVデータ2!L83),CSVデータ2!L83,0)+IF(ISNUMBER(CSVデータ3!L83),CSVデータ3!L83,0)+IF(ISNUMBER(CSVデータ4!L83),CSVデータ4!L83,0)","v":0},null,{"$f":"IF(ISNUMBER(CSVデータ1!N83),CSVデータ1!N83,0)+IF(ISNUMBER(CSVデータ2!N83),CSVデータ2!N83,0)+IF(ISNUMBER(CSVデータ3!N83),CSVデータ3!N83,0)+IF(ISNUMBER(CSVデータ4!N83),CSVデータ4!N83,0)","v":0},null,{"$f":"IF(ISNUMBER(CSVデータ1!P83),CSVデータ1!P83,0)+IF(ISNUMBER(CSVデータ2!P83),CSVデータ2!P83,0)+IF(ISNUMBER(CSVデータ3!P83),CSVデータ3!P83,0)+IF(ISNUMBER(CSVデータ4!P83),CSVデータ4!P83,0)","v":0},null,{"$f":"IF(ISNUMBER(CSVデータ1!R83),CSVデータ1!R83,0)+IF(ISNUMBER(CSVデータ2!R83),CSVデータ2!R83,0)+IF(ISNUMBER(CSVデータ3!R83),CSVデータ3!R83,0)+IF(ISNUMBER(CSVデータ4!R83),CSVデータ4!R83,0)","v":0},null,{"$f":"IF(ISNUMBER(CSVデータ1!T83),CSVデータ1!T83,0)+IF(ISNUMBER(CSVデータ2!T83),CSVデータ2!T83,0)+IF(ISNUMBER(CSVデータ3!T83),CSVデータ3!T83,0)+IF(ISNUMBER(CSVデータ4!T83),CSVデータ4!T83,0)","v":0},null,{"$f":"IF(ISNUMBER(CSVデータ1!V83),CSVデータ1!V83,0)+IF(ISNUMBER(CSVデータ2!V83),CSVデータ2!V83,0)+IF(ISNUMBER(CSVデータ3!V83),CSVデータ3!V83,0)+IF(ISNUMBER(CSVデータ4!V83),CSVデータ4!V83,0)","v":0},null,{"$f":"IF(ISNUMBER(CSVデータ1!X83),CSVデータ1!X83,0)+IF(ISNUMBER(CSVデータ2!X83),CSVデータ2!X83,0)+IF(ISNUMBER(CSVデータ3!X83),CSVデータ3!X83,0)+IF(ISNUMBER(CSVデータ4!X83),CSVデータ4!X83,0)","v":0},null,{"$f":"IF(ISNUMBER(CSVデータ1!Z83),CSVデータ1!Z83,0)+IF(ISNUMBER(CSVデータ2!Z83),CSVデータ2!Z83,0)+IF(ISNUMBER(CSVデータ3!Z83),CSVデータ3!Z83,0)+IF(ISNUMBER(CSVデータ4!Z83),CSVデータ4!Z83,0)","v":0},null,{"$f":"IF(ISNUMBER(CSVデータ1!AB83),CSVデータ1!AB83,0)+IF(ISNUMBER(CSVデータ2!AB83),CSVデータ2!AB83,0)+IF(ISNUMBER(CSVデータ3!AB83),CSVデータ3!AB83,0)+IF(ISNUMBER(CSVデータ4!AB83),CSVデータ4!AB83,0)","v":0},null,{"$f":"IF(ISNUMBER(CSVデータ1!AD83),CSVデータ1!AD83,0)+IF(ISNUMBER(CSVデータ2!AD83),CSVデータ2!AD83,0)+IF(ISNUMBER(CSVデータ3!AD83),CSVデータ3!AD83,0)+IF(ISNUMBER(CSVデータ4!AD83),CSVデータ4!AD83,0)","v":0},null,{"$f":"IF(ISNUMBER(CSVデータ1!AF83),CSVデータ1!AF83,0)+IF(ISNUMBER(CSVデータ2!AF83),CSVデータ2!AF83,0)+IF(ISNUMBER(CSVデータ3!AF83),CSVデータ3!AF83,0)+IF(ISNUMBER(CSVデータ4!AF83),CSVデータ4!AF83,0)","v":0},null,{"$f":"IF(ISNUMBER(CSVデータ1!AH83),CSVデータ1!AH83,0)+IF(ISNUMBER(CSVデータ2!AH83),CSVデータ2!AH83,0)+IF(ISNUMBER(CSVデータ3!AH83),CSVデータ3!AH83,0)+IF(ISNUMBER(CSVデータ4!AH83),CSVデータ4!AH83,0)","v":0},null,{"$f":"IF(ISNUMBER(CSVデータ1!AJ83),CSVデータ1!AJ83,0)+IF(ISNUMBER(CSVデータ2!AJ83),CSVデータ2!AJ83,0)+IF(ISNUMBER(CSVデータ3!AJ83),CSVデータ3!AJ83,0)+IF(ISNUMBER(CSVデータ4!AJ83),CSVデータ4!AJ83,0)","v":0},null,{"$f":"IF(ISNUMBER(CSVデータ1!AL83),CSVデータ1!AL83,0)+IF(ISNUMBER(CSVデータ2!AL83),CSVデータ2!AL83,0)+IF(ISNUMBER(CSVデータ3!AL83),CSVデータ3!AL83,0)+IF(ISNUMBER(CSVデータ4!AL83),CSVデータ4!AL83,0)","v":0},null,{"$f":"IF(ISNUMBER(CSVデータ1!AN83),CSVデータ1!AN83,0)+IF(ISNUMBER(CSVデータ2!AN83),CSVデータ2!AN83,0)+IF(ISNUMBER(CSVデータ3!AN83),CSVデータ3!AN83,0)+IF(ISNUMBER(CSVデータ4!AN83),CSVデータ4!AN83,0)","v":0}]
[{"$f":"CSVデータ1!A84","v":"明細部"},{"$f":"CSVデータ1!B84","v":"県"},{"$f":"CSVデータ1!C84","v":50},{"$f":"CSVデータ1!D84","v":"男"},{"$f":"IF(ISNUMBER(CSVデータ1!E84),CSVデータ1!E84,0)+IF(ISNUMBER(CSVデータ2!E84),CSVデータ2!E84,0)+IF(ISNUMBER(CSVデータ3!E84),CSVデータ3!E84,0)+IF(ISNUMBER(CSVデータ4!E84),CSVデータ4!E84,0)","v":0},{"$f":"IF(ISNUMBER(CSVデータ1!F84),CSVデータ1!F84,0)+IF(ISNUMBER(CSVデータ2!F84),CSVデータ2!F84,0)+IF(ISNUMBER(CSVデータ3!F84),CSVデータ3!F84,0)+IF(ISNUMBER(CSVデータ4!F84),CSVデータ4!F84,0)","v":0},null,{"$f":"IF(ISNUMBER(CSVデータ1!H84),CSVデータ1!H84,0)+IF(ISNUMBER(CSVデータ2!H84),CSVデータ2!H84,0)+IF(ISNUMBER(CSVデータ3!H84),CSVデータ3!H84,0)+IF(ISNUMBER(CSVデータ4!H84),CSVデータ4!H84,0)","v":0},null,{"$f":"IF(ISNUMBER(CSVデータ1!J84),CSVデータ1!J84,0)+IF(ISNUMBER(CSVデータ2!J84),CSVデータ2!J84,0)+IF(ISNUMBER(CSVデータ3!J84),CSVデータ3!J84,0)+IF(ISNUMBER(CSVデータ4!J84),CSVデータ4!J84,0)","v":0},null,{"$f":"IF(ISNUMBER(CSVデータ1!L84),CSVデータ1!L84,0)+IF(ISNUMBER(CSVデータ2!L84),CSVデータ2!L84,0)+IF(ISNUMBER(CSVデータ3!L84),CSVデータ3!L84,0)+IF(ISNUMBER(CSVデータ4!L84),CSVデータ4!L84,0)","v":0},null,{"$f":"IF(ISNUMBER(CSVデータ1!N84),CSVデータ1!N84,0)+IF(ISNUMBER(CSVデータ2!N84),CSVデータ2!N84,0)+IF(ISNUMBER(CSVデータ3!N84),CSVデータ3!N84,0)+IF(ISNUMBER(CSVデータ4!N84),CSVデータ4!N84,0)","v":0},null,{"$f":"IF(ISNUMBER(CSVデータ1!P84),CSVデータ1!P84,0)+IF(ISNUMBER(CSVデータ2!P84),CSVデータ2!P84,0)+IF(ISNUMBER(CSVデータ3!P84),CSVデータ3!P84,0)+IF(ISNUMBER(CSVデータ4!P84),CSVデータ4!P84,0)","v":0},null,{"$f":"IF(ISNUMBER(CSVデータ1!R84),CSVデータ1!R84,0)+IF(ISNUMBER(CSVデータ2!R84),CSVデータ2!R84,0)+IF(ISNUMBER(CSVデータ3!R84),CSVデータ3!R84,0)+IF(ISNUMBER(CSVデータ4!R84),CSVデータ4!R84,0)","v":0},null,{"$f":"IF(ISNUMBER(CSVデータ1!T84),CSVデータ1!T84,0)+IF(ISNUMBER(CSVデータ2!T84),CSVデータ2!T84,0)+IF(ISNUMBER(CSVデータ3!T84),CSVデータ3!T84,0)+IF(ISNUMBER(CSVデータ4!T84),CSVデータ4!T84,0)","v":0},null,{"$f":"IF(ISNUMBER(CSVデータ1!V84),CSVデータ1!V84,0)+IF(ISNUMBER(CSVデータ2!V84),CSVデータ2!V84,0)+IF(ISNUMBER(CSVデータ3!V84),CSVデータ3!V84,0)+IF(ISNUMBER(CSVデータ4!V84),CSVデータ4!V84,0)","v":0},null,{"$f":"IF(ISNUMBER(CSVデータ1!X84),CSVデータ1!X84,0)+IF(ISNUMBER(CSVデータ2!X84),CSVデータ2!X84,0)+IF(ISNUMBER(CSVデータ3!X84),CSVデータ3!X84,0)+IF(ISNUMBER(CSVデータ4!X84),CSVデータ4!X84,0)","v":0},null,{"$f":"IF(ISNUMBER(CSVデータ1!Z84),CSVデータ1!Z84,0)+IF(ISNUMBER(CSVデータ2!Z84),CSVデータ2!Z84,0)+IF(ISNUMBER(CSVデータ3!Z84),CSVデータ3!Z84,0)+IF(ISNUMBER(CSVデータ4!Z84),CSVデータ4!Z84,0)","v":0},null,{"$f":"IF(ISNUMBER(CSVデータ1!AB84),CSVデータ1!AB84,0)+IF(ISNUMBER(CSVデータ2!AB84),CSVデータ2!AB84,0)+IF(ISNUMBER(CSVデータ3!AB84),CSVデータ3!AB84,0)+IF(ISNUMBER(CSVデータ4!AB84),CSVデータ4!AB84,0)","v":0},null,{"$f":"IF(ISNUMBER(CSVデータ1!AD84),CSVデータ1!AD84,0)+IF(ISNUMBER(CSVデータ2!AD84),CSVデータ2!AD84,0)+IF(ISNUMBER(CSVデータ3!AD84),CSVデータ3!AD84,0)+IF(ISNUMBER(CSVデータ4!AD84),CSVデータ4!AD84,0)","v":0},null,{"$f":"IF(ISNUMBER(CSVデータ1!AF84),CSVデータ1!AF84,0)+IF(ISNUMBER(CSVデータ2!AF84),CSVデータ2!AF84,0)+IF(ISNUMBER(CSVデータ3!AF84),CSVデータ3!AF84,0)+IF(ISNUMBER(CSVデータ4!AF84),CSVデータ4!AF84,0)","v":0},null,{"$f":"IF(ISNUMBER(CSVデータ1!AH84),CSVデータ1!AH84,0)+IF(ISNUMBER(CSVデータ2!AH84),CSVデータ2!AH84,0)+IF(ISNUMBER(CSVデータ3!AH84),CSVデータ3!AH84,0)+IF(ISNUMBER(CSVデータ4!AH84),CSVデータ4!AH84,0)","v":0},null,{"$f":"IF(ISNUMBER(CSVデータ1!AJ84),CSVデータ1!AJ84,0)+IF(ISNUMBER(CSVデータ2!AJ84),CSVデータ2!AJ84,0)+IF(ISNUMBER(CSVデータ3!AJ84),CSVデータ3!AJ84,0)+IF(ISNUMBER(CSVデータ4!AJ84),CSVデータ4!AJ84,0)","v":0},null,{"$f":"IF(ISNUMBER(CSVデータ1!AL84),CSVデータ1!AL84,0)+IF(ISNUMBER(CSVデータ2!AL84),CSVデータ2!AL84,0)+IF(ISNUMBER(CSVデータ3!AL84),CSVデータ3!AL84,0)+IF(ISNUMBER(CSVデータ4!AL84),CSVデータ4!AL84,0)","v":0},null,{"$f":"IF(ISNUMBER(CSVデータ1!AN84),CSVデータ1!AN84,0)+IF(ISNUMBER(CSVデータ2!AN84),CSVデータ2!AN84,0)+IF(ISNUMBER(CSVデータ3!AN84),CSVデータ3!AN84,0)+IF(ISNUMBER(CSVデータ4!AN84),CSVデータ4!AN84,0)","v":0}]
[{"$f":"CSVデータ1!A85","v":"明細部"},{"$f":"CSVデータ1!B85","v":"県"},{"$f":"CSVデータ1!C85","v":51},{"$f":"CSVデータ1!D85","v":"男"},{"$f":"IF(ISNUMBER(CSVデータ1!E85),CSVデータ1!E85,0)+IF(ISNUMBER(CSVデータ2!E85),CSVデータ2!E85,0)+IF(ISNUMBER(CSVデータ3!E85),CSVデータ3!E85,0)+IF(ISNUMBER(CSVデータ4!E85),CSVデータ4!E85,0)","v":0},{"$f":"IF(ISNUMBER(CSVデータ1!F85),CSVデータ1!F85,0)+IF(ISNUMBER(CSVデータ2!F85),CSVデータ2!F85,0)+IF(ISNUMBER(CSVデータ3!F85),CSVデータ3!F85,0)+IF(ISNUMBER(CSVデータ4!F85),CSVデータ4!F85,0)","v":0},null,{"$f":"IF(ISNUMBER(CSVデータ1!H85),CSVデータ1!H85,0)+IF(ISNUMBER(CSVデータ2!H85),CSVデータ2!H85,0)+IF(ISNUMBER(CSVデータ3!H85),CSVデータ3!H85,0)+IF(ISNUMBER(CSVデータ4!H85),CSVデータ4!H85,0)","v":0},null,{"$f":"IF(ISNUMBER(CSVデータ1!J85),CSVデータ1!J85,0)+IF(ISNUMBER(CSVデータ2!J85),CSVデータ2!J85,0)+IF(ISNUMBER(CSVデータ3!J85),CSVデータ3!J85,0)+IF(ISNUMBER(CSVデータ4!J85),CSVデータ4!J85,0)","v":0},null,{"$f":"IF(ISNUMBER(CSVデータ1!L85),CSVデータ1!L85,0)+IF(ISNUMBER(CSVデータ2!L85),CSVデータ2!L85,0)+IF(ISNUMBER(CSVデータ3!L85),CSVデータ3!L85,0)+IF(ISNUMBER(CSVデータ4!L85),CSVデータ4!L85,0)","v":0},null,{"$f":"IF(ISNUMBER(CSVデータ1!N85),CSVデータ1!N85,0)+IF(ISNUMBER(CSVデータ2!N85),CSVデータ2!N85,0)+IF(ISNUMBER(CSVデータ3!N85),CSVデータ3!N85,0)+IF(ISNUMBER(CSVデータ4!N85),CSVデータ4!N85,0)","v":0},null,{"$f":"IF(ISNUMBER(CSVデータ1!P85),CSVデータ1!P85,0)+IF(ISNUMBER(CSVデータ2!P85),CSVデータ2!P85,0)+IF(ISNUMBER(CSVデータ3!P85),CSVデータ3!P85,0)+IF(ISNUMBER(CSVデータ4!P85),CSVデータ4!P85,0)","v":0},null,{"$f":"IF(ISNUMBER(CSVデータ1!R85),CSVデータ1!R85,0)+IF(ISNUMBER(CSVデータ2!R85),CSVデータ2!R85,0)+IF(ISNUMBER(CSVデータ3!R85),CSVデータ3!R85,0)+IF(ISNUMBER(CSVデータ4!R85),CSVデータ4!R85,0)","v":0},null,{"$f":"IF(ISNUMBER(CSVデータ1!T85),CSVデータ1!T85,0)+IF(ISNUMBER(CSVデータ2!T85),CSVデータ2!T85,0)+IF(ISNUMBER(CSVデータ3!T85),CSVデータ3!T85,0)+IF(ISNUMBER(CSVデータ4!T85),CSVデータ4!T85,0)","v":0},null,{"$f":"IF(ISNUMBER(CSVデータ1!V85),CSVデータ1!V85,0)+IF(ISNUMBER(CSVデータ2!V85),CSVデータ2!V85,0)+IF(ISNUMBER(CSVデータ3!V85),CSVデータ3!V85,0)+IF(ISNUMBER(CSVデータ4!V85),CSVデータ4!V85,0)","v":0},null,{"$f":"IF(ISNUMBER(CSVデータ1!X85),CSVデータ1!X85,0)+IF(ISNUMBER(CSVデータ2!X85),CSVデータ2!X85,0)+IF(ISNUMBER(CSVデータ3!X85),CSVデータ3!X85,0)+IF(ISNUMBER(CSVデータ4!X85),CSVデータ4!X85,0)","v":0},null,{"$f":"IF(ISNUMBER(CSVデータ1!Z85),CSVデータ1!Z85,0)+IF(ISNUMBER(CSVデータ2!Z85),CSVデータ2!Z85,0)+IF(ISNUMBER(CSVデータ3!Z85),CSVデータ3!Z85,0)+IF(ISNUMBER(CSVデータ4!Z85),CSVデータ4!Z85,0)","v":0},null,{"$f":"IF(ISNUMBER(CSVデータ1!AB85),CSVデータ1!AB85,0)+IF(ISNUMBER(CSVデータ2!AB85),CSVデータ2!AB85,0)+IF(ISNUMBER(CSVデータ3!AB85),CSVデータ3!AB85,0)+IF(ISNUMBER(CSVデータ4!AB85),CSVデータ4!AB85,0)","v":0},null,{"$f":"IF(ISNUMBER(CSVデータ1!AD85),CSVデータ1!AD85,0)+IF(ISNUMBER(CSVデータ2!AD85),CSVデータ2!AD85,0)+IF(ISNUMBER(CSVデータ3!AD85),CSVデータ3!AD85,0)+IF(ISNUMBER(CSVデータ4!AD85),CSVデータ4!AD85,0)","v":0},null,{"$f":"IF(ISNUMBER(CSVデータ1!AF85),CSVデータ1!AF85,0)+IF(ISNUMBER(CSVデータ2!AF85),CSVデータ2!AF85,0)+IF(ISNUMBER(CSVデータ3!AF85),CSVデータ3!AF85,0)+IF(ISNUMBER(CSVデータ4!AF85),CSVデータ4!AF85,0)","v":0},null,{"$f":"IF(ISNUMBER(CSVデータ1!AH85),CSVデータ1!AH85,0)+IF(ISNUMBER(CSVデータ2!AH85),CSVデータ2!AH85,0)+IF(ISNUMBER(CSVデータ3!AH85),CSVデータ3!AH85,0)+IF(ISNUMBER(CSVデータ4!AH85),CSVデータ4!AH85,0)","v":0},null,{"$f":"IF(ISNUMBER(CSVデータ1!AJ85),CSVデータ1!AJ85,0)+IF(ISNUMBER(CSVデータ2!AJ85),CSVデータ2!AJ85,0)+IF(ISNUMBER(CSVデータ3!AJ85),CSVデータ3!AJ85,0)+IF(ISNUMBER(CSVデータ4!AJ85),CSVデータ4!AJ85,0)","v":0},null,{"$f":"IF(ISNUMBER(CSVデータ1!AL85),CSVデータ1!AL85,0)+IF(ISNUMBER(CSVデータ2!AL85),CSVデータ2!AL85,0)+IF(ISNUMBER(CSVデータ3!AL85),CSVデータ3!AL85,0)+IF(ISNUMBER(CSVデータ4!AL85),CSVデータ4!AL85,0)","v":0},null,{"$f":"IF(ISNUMBER(CSVデータ1!AN85),CSVデータ1!AN85,0)+IF(ISNUMBER(CSVデータ2!AN85),CSVデータ2!AN85,0)+IF(ISNUMBER(CSVデータ3!AN85),CSVデータ3!AN85,0)+IF(ISNUMBER(CSVデータ4!AN85),CSVデータ4!AN85,0)","v":0}]
[{"$f":"CSVデータ1!A86","v":"明細部"},{"$f":"CSVデータ1!B86","v":"県"},{"$f":"CSVデータ1!C86","v":52},{"$f":"CSVデータ1!D86","v":"男"},{"$f":"IF(ISNUMBER(CSVデータ1!E86),CSVデータ1!E86,0)+IF(ISNUMBER(CSVデータ2!E86),CSVデータ2!E86,0)+IF(ISNUMBER(CSVデータ3!E86),CSVデータ3!E86,0)+IF(ISNUMBER(CSVデータ4!E86),CSVデータ4!E86,0)","v":0},{"$f":"IF(ISNUMBER(CSVデータ1!F86),CSVデータ1!F86,0)+IF(ISNUMBER(CSVデータ2!F86),CSVデータ2!F86,0)+IF(ISNUMBER(CSVデータ3!F86),CSVデータ3!F86,0)+IF(ISNUMBER(CSVデータ4!F86),CSVデータ4!F86,0)","v":0},null,{"$f":"IF(ISNUMBER(CSVデータ1!H86),CSVデータ1!H86,0)+IF(ISNUMBER(CSVデータ2!H86),CSVデータ2!H86,0)+IF(ISNUMBER(CSVデータ3!H86),CSVデータ3!H86,0)+IF(ISNUMBER(CSVデータ4!H86),CSVデータ4!H86,0)","v":0},null,{"$f":"IF(ISNUMBER(CSVデータ1!J86),CSVデータ1!J86,0)+IF(ISNUMBER(CSVデータ2!J86),CSVデータ2!J86,0)+IF(ISNUMBER(CSVデータ3!J86),CSVデータ3!J86,0)+IF(ISNUMBER(CSVデータ4!J86),CSVデータ4!J86,0)","v":0},null,{"$f":"IF(ISNUMBER(CSVデータ1!L86),CSVデータ1!L86,0)+IF(ISNUMBER(CSVデータ2!L86),CSVデータ2!L86,0)+IF(ISNUMBER(CSVデータ3!L86),CSVデータ3!L86,0)+IF(ISNUMBER(CSVデータ4!L86),CSVデータ4!L86,0)","v":0},null,{"$f":"IF(ISNUMBER(CSVデータ1!N86),CSVデータ1!N86,0)+IF(ISNUMBER(CSVデータ2!N86),CSVデータ2!N86,0)+IF(ISNUMBER(CSVデータ3!N86),CSVデータ3!N86,0)+IF(ISNUMBER(CSVデータ4!N86),CSVデータ4!N86,0)","v":0},null,{"$f":"IF(ISNUMBER(CSVデータ1!P86),CSVデータ1!P86,0)+IF(ISNUMBER(CSVデータ2!P86),CSVデータ2!P86,0)+IF(ISNUMBER(CSVデータ3!P86),CSVデータ3!P86,0)+IF(ISNUMBER(CSVデータ4!P86),CSVデータ4!P86,0)","v":0},null,{"$f":"IF(ISNUMBER(CSVデータ1!R86),CSVデータ1!R86,0)+IF(ISNUMBER(CSVデータ2!R86),CSVデータ2!R86,0)+IF(ISNUMBER(CSVデータ3!R86),CSVデータ3!R86,0)+IF(ISNUMBER(CSVデータ4!R86),CSVデータ4!R86,0)","v":0},null,{"$f":"IF(ISNUMBER(CSVデータ1!T86),CSVデータ1!T86,0)+IF(ISNUMBER(CSVデータ2!T86),CSVデータ2!T86,0)+IF(ISNUMBER(CSVデータ3!T86),CSVデータ3!T86,0)+IF(ISNUMBER(CSVデータ4!T86),CSVデータ4!T86,0)","v":0},null,{"$f":"IF(ISNUMBER(CSVデータ1!V86),CSVデータ1!V86,0)+IF(ISNUMBER(CSVデータ2!V86),CSVデータ2!V86,0)+IF(ISNUMBER(CSVデータ3!V86),CSVデータ3!V86,0)+IF(ISNUMBER(CSVデータ4!V86),CSVデータ4!V86,0)","v":0},null,{"$f":"IF(ISNUMBER(CSVデータ1!X86),CSVデータ1!X86,0)+IF(ISNUMBER(CSVデータ2!X86),CSVデータ2!X86,0)+IF(ISNUMBER(CSVデータ3!X86),CSVデータ3!X86,0)+IF(ISNUMBER(CSVデータ4!X86),CSVデータ4!X86,0)","v":0},null,{"$f":"IF(ISNUMBER(CSVデータ1!Z86),CSVデータ1!Z86,0)+IF(ISNUMBER(CSVデータ2!Z86),CSVデータ2!Z86,0)+IF(ISNUMBER(CSVデータ3!Z86),CSVデータ3!Z86,0)+IF(ISNUMBER(CSVデータ4!Z86),CSVデータ4!Z86,0)","v":0},null,{"$f":"IF(ISNUMBER(CSVデータ1!AB86),CSVデータ1!AB86,0)+IF(ISNUMBER(CSVデータ2!AB86),CSVデータ2!AB86,0)+IF(ISNUMBER(CSVデータ3!AB86),CSVデータ3!AB86,0)+IF(ISNUMBER(CSVデータ4!AB86),CSVデータ4!AB86,0)","v":0},null,{"$f":"IF(ISNUMBER(CSVデータ1!AD86),CSVデータ1!AD86,0)+IF(ISNUMBER(CSVデータ2!AD86),CSVデータ2!AD86,0)+IF(ISNUMBER(CSVデータ3!AD86),CSVデータ3!AD86,0)+IF(ISNUMBER(CSVデータ4!AD86),CSVデータ4!AD86,0)","v":0},null,{"$f":"IF(ISNUMBER(CSVデータ1!AF86),CSVデータ1!AF86,0)+IF(ISNUMBER(CSVデータ2!AF86),CSVデータ2!AF86,0)+IF(ISNUMBER(CSVデータ3!AF86),CSVデータ3!AF86,0)+IF(ISNUMBER(CSVデータ4!AF86),CSVデータ4!AF86,0)","v":0},null,{"$f":"IF(ISNUMBER(CSVデータ1!AH86),CSVデータ1!AH86,0)+IF(ISNUMBER(CSVデータ2!AH86),CSVデータ2!AH86,0)+IF(ISNUMBER(CSVデータ3!AH86),CSVデータ3!AH86,0)+IF(ISNUMBER(CSVデータ4!AH86),CSVデータ4!AH86,0)","v":0},null,{"$f":"IF(ISNUMBER(CSVデータ1!AJ86),CSVデータ1!AJ86,0)+IF(ISNUMBER(CSVデータ2!AJ86),CSVデータ2!AJ86,0)+IF(ISNUMBER(CSVデータ3!AJ86),CSVデータ3!AJ86,0)+IF(ISNUMBER(CSVデータ4!AJ86),CSVデータ4!AJ86,0)","v":0},null,{"$f":"IF(ISNUMBER(CSVデータ1!AL86),CSVデータ1!AL86,0)+IF(ISNUMBER(CSVデータ2!AL86),CSVデータ2!AL86,0)+IF(ISNUMBER(CSVデータ3!AL86),CSVデータ3!AL86,0)+IF(ISNUMBER(CSVデータ4!AL86),CSVデータ4!AL86,0)","v":0},null,{"$f":"IF(ISNUMBER(CSVデータ1!AN86),CSVデータ1!AN86,0)+IF(ISNUMBER(CSVデータ2!AN86),CSVデータ2!AN86,0)+IF(ISNUMBER(CSVデータ3!AN86),CSVデータ3!AN86,0)+IF(ISNUMBER(CSVデータ4!AN86),CSVデータ4!AN86,0)","v":0}]
[{"$f":"CSVデータ1!A87","v":"明細部"},{"$f":"CSVデータ1!B87","v":"県"},{"$f":"CSVデータ1!C87","v":53},{"$f":"CSVデータ1!D87","v":"男"},{"$f":"IF(ISNUMBER(CSVデータ1!E87),CSVデータ1!E87,0)+IF(ISNUMBER(CSVデータ2!E87),CSVデータ2!E87,0)+IF(ISNUMBER(CSVデータ3!E87),CSVデータ3!E87,0)+IF(ISNUMBER(CSVデータ4!E87),CSVデータ4!E87,0)","v":0},{"$f":"IF(ISNUMBER(CSVデータ1!F87),CSVデータ1!F87,0)+IF(ISNUMBER(CSVデータ2!F87),CSVデータ2!F87,0)+IF(ISNUMBER(CSVデータ3!F87),CSVデータ3!F87,0)+IF(ISNUMBER(CSVデータ4!F87),CSVデータ4!F87,0)","v":0},null,{"$f":"IF(ISNUMBER(CSVデータ1!H87),CSVデータ1!H87,0)+IF(ISNUMBER(CSVデータ2!H87),CSVデータ2!H87,0)+IF(ISNUMBER(CSVデータ3!H87),CSVデータ3!H87,0)+IF(ISNUMBER(CSVデータ4!H87),CSVデータ4!H87,0)","v":0},null,{"$f":"IF(ISNUMBER(CSVデータ1!J87),CSVデータ1!J87,0)+IF(ISNUMBER(CSVデータ2!J87),CSVデータ2!J87,0)+IF(ISNUMBER(CSVデータ3!J87),CSVデータ3!J87,0)+IF(ISNUMBER(CSVデータ4!J87),CSVデータ4!J87,0)","v":0},null,{"$f":"IF(ISNUMBER(CSVデータ1!L87),CSVデータ1!L87,0)+IF(ISNUMBER(CSVデータ2!L87),CSVデータ2!L87,0)+IF(ISNUMBER(CSVデータ3!L87),CSVデータ3!L87,0)+IF(ISNUMBER(CSVデータ4!L87),CSVデータ4!L87,0)","v":0},null,{"$f":"IF(ISNUMBER(CSVデータ1!N87),CSVデータ1!N87,0)+IF(ISNUMBER(CSVデータ2!N87),CSVデータ2!N87,0)+IF(ISNUMBER(CSVデータ3!N87),CSVデータ3!N87,0)+IF(ISNUMBER(CSVデータ4!N87),CSVデータ4!N87,0)","v":0},null,{"$f":"IF(ISNUMBER(CSVデータ1!P87),CSVデータ1!P87,0)+IF(ISNUMBER(CSVデータ2!P87),CSVデータ2!P87,0)+IF(ISNUMBER(CSVデータ3!P87),CSVデータ3!P87,0)+IF(ISNUMBER(CSVデータ4!P87),CSVデータ4!P87,0)","v":0},null,{"$f":"IF(ISNUMBER(CSVデータ1!R87),CSVデータ1!R87,0)+IF(ISNUMBER(CSVデータ2!R87),CSVデータ2!R87,0)+IF(ISNUMBER(CSVデータ3!R87),CSVデータ3!R87,0)+IF(ISNUMBER(CSVデータ4!R87),CSVデータ4!R87,0)","v":0},null,{"$f":"IF(ISNUMBER(CSVデータ1!T87),CSVデータ1!T87,0)+IF(ISNUMBER(CSVデータ2!T87),CSVデータ2!T87,0)+IF(ISNUMBER(CSVデータ3!T87),CSVデータ3!T87,0)+IF(ISNUMBER(CSVデータ4!T87),CSVデータ4!T87,0)","v":0},null,{"$f":"IF(ISNUMBER(CSVデータ1!V87),CSVデータ1!V87,0)+IF(ISNUMBER(CSVデータ2!V87),CSVデータ2!V87,0)+IF(ISNUMBER(CSVデータ3!V87),CSVデータ3!V87,0)+IF(ISNUMBER(CSVデータ4!V87),CSVデータ4!V87,0)","v":0},null,{"$f":"IF(ISNUMBER(CSVデータ1!X87),CSVデータ1!X87,0)+IF(ISNUMBER(CSVデータ2!X87),CSVデータ2!X87,0)+IF(ISNUMBER(CSVデータ3!X87),CSVデータ3!X87,0)+IF(ISNUMBER(CSVデータ4!X87),CSVデータ4!X87,0)","v":0},null,{"$f":"IF(ISNUMBER(CSVデータ1!Z87),CSVデータ1!Z87,0)+IF(ISNUMBER(CSVデータ2!Z87),CSVデータ2!Z87,0)+IF(ISNUMBER(CSVデータ3!Z87),CSVデータ3!Z87,0)+IF(ISNUMBER(CSVデータ4!Z87),CSVデータ4!Z87,0)","v":0},null,{"$f":"IF(ISNUMBER(CSVデータ1!AB87),CSVデータ1!AB87,0)+IF(ISNUMBER(CSVデータ2!AB87),CSVデータ2!AB87,0)+IF(ISNUMBER(CSVデータ3!AB87),CSVデータ3!AB87,0)+IF(ISNUMBER(CSVデータ4!AB87),CSVデータ4!AB87,0)","v":0},null,{"$f":"IF(ISNUMBER(CSVデータ1!AD87),CSVデータ1!AD87,0)+IF(ISNUMBER(CSVデータ2!AD87),CSVデータ2!AD87,0)+IF(ISNUMBER(CSVデータ3!AD87),CSVデータ3!AD87,0)+IF(ISNUMBER(CSVデータ4!AD87),CSVデータ4!AD87,0)","v":0},null,{"$f":"IF(ISNUMBER(CSVデータ1!AF87),CSVデータ1!AF87,0)+IF(ISNUMBER(CSVデータ2!AF87),CSVデータ2!AF87,0)+IF(ISNUMBER(CSVデータ3!AF87),CSVデータ3!AF87,0)+IF(ISNUMBER(CSVデータ4!AF87),CSVデータ4!AF87,0)","v":0},null,{"$f":"IF(ISNUMBER(CSVデータ1!AH87),CSVデータ1!AH87,0)+IF(ISNUMBER(CSVデータ2!AH87),CSVデータ2!AH87,0)+IF(ISNUMBER(CSVデータ3!AH87),CSVデータ3!AH87,0)+IF(ISNUMBER(CSVデータ4!AH87),CSVデータ4!AH87,0)","v":0},null,{"$f":"IF(ISNUMBER(CSVデータ1!AJ87),CSVデータ1!AJ87,0)+IF(ISNUMBER(CSVデータ2!AJ87),CSVデータ2!AJ87,0)+IF(ISNUMBER(CSVデータ3!AJ87),CSVデータ3!AJ87,0)+IF(ISNUMBER(CSVデータ4!AJ87),CSVデータ4!AJ87,0)","v":0},null,{"$f":"IF(ISNUMBER(CSVデータ1!AL87),CSVデータ1!AL87,0)+IF(ISNUMBER(CSVデータ2!AL87),CSVデータ2!AL87,0)+IF(ISNUMBER(CSVデータ3!AL87),CSVデータ3!AL87,0)+IF(ISNUMBER(CSVデータ4!AL87),CSVデータ4!AL87,0)","v":0},null,{"$f":"IF(ISNUMBER(CSVデータ1!AN87),CSVデータ1!AN87,0)+IF(ISNUMBER(CSVデータ2!AN87),CSVデータ2!AN87,0)+IF(ISNUMBER(CSVデータ3!AN87),CSVデータ3!AN87,0)+IF(ISNUMBER(CSVデータ4!AN87),CSVデータ4!AN87,0)","v":0}]
[{"$f":"CSVデータ1!A88","v":"明細部"},{"$f":"CSVデータ1!B88","v":"県"},{"$f":"CSVデータ1!C88","v":54},{"$f":"CSVデータ1!D88","v":"男"},{"$f":"IF(ISNUMBER(CSVデータ1!E88),CSVデータ1!E88,0)+IF(ISNUMBER(CSVデータ2!E88),CSVデータ2!E88,0)+IF(ISNUMBER(CSVデータ3!E88),CSVデータ3!E88,0)+IF(ISNUMBER(CSVデータ4!E88),CSVデータ4!E88,0)","v":0},{"$f":"IF(ISNUMBER(CSVデータ1!F88),CSVデータ1!F88,0)+IF(ISNUMBER(CSVデータ2!F88),CSVデータ2!F88,0)+IF(ISNUMBER(CSVデータ3!F88),CSVデータ3!F88,0)+IF(ISNUMBER(CSVデータ4!F88),CSVデータ4!F88,0)","v":0},null,{"$f":"IF(ISNUMBER(CSVデータ1!H88),CSVデータ1!H88,0)+IF(ISNUMBER(CSVデータ2!H88),CSVデータ2!H88,0)+IF(ISNUMBER(CSVデータ3!H88),CSVデータ3!H88,0)+IF(ISNUMBER(CSVデータ4!H88),CSVデータ4!H88,0)","v":0},null,{"$f":"IF(ISNUMBER(CSVデータ1!J88),CSVデータ1!J88,0)+IF(ISNUMBER(CSVデータ2!J88),CSVデータ2!J88,0)+IF(ISNUMBER(CSVデータ3!J88),CSVデータ3!J88,0)+IF(ISNUMBER(CSVデータ4!J88),CSVデータ4!J88,0)","v":0},null,{"$f":"IF(ISNUMBER(CSVデータ1!L88),CSVデータ1!L88,0)+IF(ISNUMBER(CSVデータ2!L88),CSVデータ2!L88,0)+IF(ISNUMBER(CSVデータ3!L88),CSVデータ3!L88,0)+IF(ISNUMBER(CSVデータ4!L88),CSVデータ4!L88,0)","v":0},null,{"$f":"IF(ISNUMBER(CSVデータ1!N88),CSVデータ1!N88,0)+IF(ISNUMBER(CSVデータ2!N88),CSVデータ2!N88,0)+IF(ISNUMBER(CSVデータ3!N88),CSVデータ3!N88,0)+IF(ISNUMBER(CSVデータ4!N88),CSVデータ4!N88,0)","v":0},null,{"$f":"IF(ISNUMBER(CSVデータ1!P88),CSVデータ1!P88,0)+IF(ISNUMBER(CSVデータ2!P88),CSVデータ2!P88,0)+IF(ISNUMBER(CSVデータ3!P88),CSVデータ3!P88,0)+IF(ISNUMBER(CSVデータ4!P88),CSVデータ4!P88,0)","v":0},null,{"$f":"IF(ISNUMBER(CSVデータ1!R88),CSVデータ1!R88,0)+IF(ISNUMBER(CSVデータ2!R88),CSVデータ2!R88,0)+IF(ISNUMBER(CSVデータ3!R88),CSVデータ3!R88,0)+IF(ISNUMBER(CSVデータ4!R88),CSVデータ4!R88,0)","v":0},null,{"$f":"IF(ISNUMBER(CSVデータ1!T88),CSVデータ1!T88,0)+IF(ISNUMBER(CSVデータ2!T88),CSVデータ2!T88,0)+IF(ISNUMBER(CSVデータ3!T88),CSVデータ3!T88,0)+IF(ISNUMBER(CSVデータ4!T88),CSVデータ4!T88,0)","v":0},null,{"$f":"IF(ISNUMBER(CSVデータ1!V88),CSVデータ1!V88,0)+IF(ISNUMBER(CSVデータ2!V88),CSVデータ2!V88,0)+IF(ISNUMBER(CSVデータ3!V88),CSVデータ3!V88,0)+IF(ISNUMBER(CSVデータ4!V88),CSVデータ4!V88,0)","v":0},null,{"$f":"IF(ISNUMBER(CSVデータ1!X88),CSVデータ1!X88,0)+IF(ISNUMBER(CSVデータ2!X88),CSVデータ2!X88,0)+IF(ISNUMBER(CSVデータ3!X88),CSVデータ3!X88,0)+IF(ISNUMBER(CSVデータ4!X88),CSVデータ4!X88,0)","v":0},null,{"$f":"IF(ISNUMBER(CSVデータ1!Z88),CSVデータ1!Z88,0)+IF(ISNUMBER(CSVデータ2!Z88),CSVデータ2!Z88,0)+IF(ISNUMBER(CSVデータ3!Z88),CSVデータ3!Z88,0)+IF(ISNUMBER(CSVデータ4!Z88),CSVデータ4!Z88,0)","v":0},null,{"$f":"IF(ISNUMBER(CSVデータ1!AB88),CSVデータ1!AB88,0)+IF(ISNUMBER(CSVデータ2!AB88),CSVデータ2!AB88,0)+IF(ISNUMBER(CSVデータ3!AB88),CSVデータ3!AB88,0)+IF(ISNUMBER(CSVデータ4!AB88),CSVデータ4!AB88,0)","v":0},null,{"$f":"IF(ISNUMBER(CSVデータ1!AD88),CSVデータ1!AD88,0)+IF(ISNUMBER(CSVデータ2!AD88),CSVデータ2!AD88,0)+IF(ISNUMBER(CSVデータ3!AD88),CSVデータ3!AD88,0)+IF(ISNUMBER(CSVデータ4!AD88),CSVデータ4!AD88,0)","v":0},null,{"$f":"IF(ISNUMBER(CSVデータ1!AF88),CSVデータ1!AF88,0)+IF(ISNUMBER(CSVデータ2!AF88),CSVデータ2!AF88,0)+IF(ISNUMBER(CSVデータ3!AF88),CSVデータ3!AF88,0)+IF(ISNUMBER(CSVデータ4!AF88),CSVデータ4!AF88,0)","v":0},null,{"$f":"IF(ISNUMBER(CSVデータ1!AH88),CSVデータ1!AH88,0)+IF(ISNUMBER(CSVデータ2!AH88),CSVデータ2!AH88,0)+IF(ISNUMBER(CSVデータ3!AH88),CSVデータ3!AH88,0)+IF(ISNUMBER(CSVデータ4!AH88),CSVデータ4!AH88,0)","v":0},null,{"$f":"IF(ISNUMBER(CSVデータ1!AJ88),CSVデータ1!AJ88,0)+IF(ISNUMBER(CSVデータ2!AJ88),CSVデータ2!AJ88,0)+IF(ISNUMBER(CSVデータ3!AJ88),CSVデータ3!AJ88,0)+IF(ISNUMBER(CSVデータ4!AJ88),CSVデータ4!AJ88,0)","v":0},null,{"$f":"IF(ISNUMBER(CSVデータ1!AL88),CSVデータ1!AL88,0)+IF(ISNUMBER(CSVデータ2!AL88),CSVデータ2!AL88,0)+IF(ISNUMBER(CSVデータ3!AL88),CSVデータ3!AL88,0)+IF(ISNUMBER(CSVデータ4!AL88),CSVデータ4!AL88,0)","v":0},null,{"$f":"IF(ISNUMBER(CSVデータ1!AN88),CSVデータ1!AN88,0)+IF(ISNUMBER(CSVデータ2!AN88),CSVデータ2!AN88,0)+IF(ISNUMBER(CSVデータ3!AN88),CSVデータ3!AN88,0)+IF(ISNUMBER(CSVデータ4!AN88),CSVデータ4!AN88,0)","v":0}]
[{"$f":"CSVデータ1!A89","v":"明細部"},{"$f":"CSVデータ1!B89","v":"県"},{"$f":"CSVデータ1!C89","v":55},{"$f":"CSVデータ1!D89","v":"男"},{"$f":"IF(ISNUMBER(CSVデータ1!E89),CSVデータ1!E89,0)+IF(ISNUMBER(CSVデータ2!E89),CSVデータ2!E89,0)+IF(ISNUMBER(CSVデータ3!E89),CSVデータ3!E89,0)+IF(ISNUMBER(CSVデータ4!E89),CSVデータ4!E89,0)","v":0},{"$f":"IF(ISNUMBER(CSVデータ1!F89),CSVデータ1!F89,0)+IF(ISNUMBER(CSVデータ2!F89),CSVデータ2!F89,0)+IF(ISNUMBER(CSVデータ3!F89),CSVデータ3!F89,0)+IF(ISNUMBER(CSVデータ4!F89),CSVデータ4!F89,0)","v":0},null,{"$f":"IF(ISNUMBER(CSVデータ1!H89),CSVデータ1!H89,0)+IF(ISNUMBER(CSVデータ2!H89),CSVデータ2!H89,0)+IF(ISNUMBER(CSVデータ3!H89),CSVデータ3!H89,0)+IF(ISNUMBER(CSVデータ4!H89),CSVデータ4!H89,0)","v":0},null,{"$f":"IF(ISNUMBER(CSVデータ1!J89),CSVデータ1!J89,0)+IF(ISNUMBER(CSVデータ2!J89),CSVデータ2!J89,0)+IF(ISNUMBER(CSVデータ3!J89),CSVデータ3!J89,0)+IF(ISNUMBER(CSVデータ4!J89),CSVデータ4!J89,0)","v":0},null,{"$f":"IF(ISNUMBER(CSVデータ1!L89),CSVデータ1!L89,0)+IF(ISNUMBER(CSVデータ2!L89),CSVデータ2!L89,0)+IF(ISNUMBER(CSVデータ3!L89),CSVデータ3!L89,0)+IF(ISNUMBER(CSVデータ4!L89),CSVデータ4!L89,0)","v":0},null,{"$f":"IF(ISNUMBER(CSVデータ1!N89),CSVデータ1!N89,0)+IF(ISNUMBER(CSVデータ2!N89),CSVデータ2!N89,0)+IF(ISNUMBER(CSVデータ3!N89),CSVデータ3!N89,0)+IF(ISNUMBER(CSVデータ4!N89),CSVデータ4!N89,0)","v":0},null,{"$f":"IF(ISNUMBER(CSVデータ1!P89),CSVデータ1!P89,0)+IF(ISNUMBER(CSVデータ2!P89),CSVデータ2!P89,0)+IF(ISNUMBER(CSVデータ3!P89),CSVデータ3!P89,0)+IF(ISNUMBER(CSVデータ4!P89),CSVデータ4!P89,0)","v":0},null,{"$f":"IF(ISNUMBER(CSVデータ1!R89),CSVデータ1!R89,0)+IF(ISNUMBER(CSVデータ2!R89),CSVデータ2!R89,0)+IF(ISNUMBER(CSVデータ3!R89),CSVデータ3!R89,0)+IF(ISNUMBER(CSVデータ4!R89),CSVデータ4!R89,0)","v":0},null,{"$f":"IF(ISNUMBER(CSVデータ1!T89),CSVデータ1!T89,0)+IF(ISNUMBER(CSVデータ2!T89),CSVデータ2!T89,0)+IF(ISNUMBER(CSVデータ3!T89),CSVデータ3!T89,0)+IF(ISNUMBER(CSVデータ4!T89),CSVデータ4!T89,0)","v":0},null,{"$f":"IF(ISNUMBER(CSVデータ1!V89),CSVデータ1!V89,0)+IF(ISNUMBER(CSVデータ2!V89),CSVデータ2!V89,0)+IF(ISNUMBER(CSVデータ3!V89),CSVデータ3!V89,0)+IF(ISNUMBER(CSVデータ4!V89),CSVデータ4!V89,0)","v":0},null,{"$f":"IF(ISNUMBER(CSVデータ1!X89),CSVデータ1!X89,0)+IF(ISNUMBER(CSVデータ2!X89),CSVデータ2!X89,0)+IF(ISNUMBER(CSVデータ3!X89),CSVデータ3!X89,0)+IF(ISNUMBER(CSVデータ4!X89),CSVデータ4!X89,0)","v":0},null,{"$f":"IF(ISNUMBER(CSVデータ1!Z89),CSVデータ1!Z89,0)+IF(ISNUMBER(CSVデータ2!Z89),CSVデータ2!Z89,0)+IF(ISNUMBER(CSVデータ3!Z89),CSVデータ3!Z89,0)+IF(ISNUMBER(CSVデータ4!Z89),CSVデータ4!Z89,0)","v":0},null,{"$f":"IF(ISNUMBER(CSVデータ1!AB89),CSVデータ1!AB89,0)+IF(ISNUMBER(CSVデータ2!AB89),CSVデータ2!AB89,0)+IF(ISNUMBER(CSVデータ3!AB89),CSVデータ3!AB89,0)+IF(ISNUMBER(CSVデータ4!AB89),CSVデータ4!AB89,0)","v":0},null,{"$f":"IF(ISNUMBER(CSVデータ1!AD89),CSVデータ1!AD89,0)+IF(ISNUMBER(CSVデータ2!AD89),CSVデータ2!AD89,0)+IF(ISNUMBER(CSVデータ3!AD89),CSVデータ3!AD89,0)+IF(ISNUMBER(CSVデータ4!AD89),CSVデータ4!AD89,0)","v":0},null,{"$f":"IF(ISNUMBER(CSVデータ1!AF89),CSVデータ1!AF89,0)+IF(ISNUMBER(CSVデータ2!AF89),CSVデータ2!AF89,0)+IF(ISNUMBER(CSVデータ3!AF89),CSVデータ3!AF89,0)+IF(ISNUMBER(CSVデータ4!AF89),CSVデータ4!AF89,0)","v":0},null,{"$f":"IF(ISNUMBER(CSVデータ1!AH89),CSVデータ1!AH89,0)+IF(ISNUMBER(CSVデータ2!AH89),CSVデータ2!AH89,0)+IF(ISNUMBER(CSVデータ3!AH89),CSVデータ3!AH89,0)+IF(ISNUMBER(CSVデータ4!AH89),CSVデータ4!AH89,0)","v":0},null,{"$f":"IF(ISNUMBER(CSVデータ1!AJ89),CSVデータ1!AJ89,0)+IF(ISNUMBER(CSVデータ2!AJ89),CSVデータ2!AJ89,0)+IF(ISNUMBER(CSVデータ3!AJ89),CSVデータ3!AJ89,0)+IF(ISNUMBER(CSVデータ4!AJ89),CSVデータ4!AJ89,0)","v":0},null,{"$f":"IF(ISNUMBER(CSVデータ1!AL89),CSVデータ1!AL89,0)+IF(ISNUMBER(CSVデータ2!AL89),CSVデータ2!AL89,0)+IF(ISNUMBER(CSVデータ3!AL89),CSVデータ3!AL89,0)+IF(ISNUMBER(CSVデータ4!AL89),CSVデータ4!AL89,0)","v":0},null,{"$f":"IF(ISNUMBER(CSVデータ1!AN89),CSVデータ1!AN89,0)+IF(ISNUMBER(CSVデータ2!AN89),CSVデータ2!AN89,0)+IF(ISNUMBER(CSVデータ3!AN89),CSVデータ3!AN89,0)+IF(ISNUMBER(CSVデータ4!AN89),CSVデータ4!AN89,0)","v":0}]
[{"$f":"CSVデータ1!A90","v":"明細部"},{"$f":"CSVデータ1!B90","v":"県"},{"$f":"CSVデータ1!C90","v":56},{"$f":"CSVデータ1!D90","v":"男"},{"$f":"IF(ISNUMBER(CSVデータ1!E90),CSVデータ1!E90,0)+IF(ISNUMBER(CSVデータ2!E90),CSVデータ2!E90,0)+IF(ISNUMBER(CSVデータ3!E90),CSVデータ3!E90,0)+IF(ISNUMBER(CSVデータ4!E90),CSVデータ4!E90,0)","v":0},{"$f":"IF(ISNUMBER(CSVデータ1!F90),CSVデータ1!F90,0)+IF(ISNUMBER(CSVデータ2!F90),CSVデータ2!F90,0)+IF(ISNUMBER(CSVデータ3!F90),CSVデータ3!F90,0)+IF(ISNUMBER(CSVデータ4!F90),CSVデータ4!F90,0)","v":0},null,{"$f":"IF(ISNUMBER(CSVデータ1!H90),CSVデータ1!H90,0)+IF(ISNUMBER(CSVデータ2!H90),CSVデータ2!H90,0)+IF(ISNUMBER(CSVデータ3!H90),CSVデータ3!H90,0)+IF(ISNUMBER(CSVデータ4!H90),CSVデータ4!H90,0)","v":0},null,{"$f":"IF(ISNUMBER(CSVデータ1!J90),CSVデータ1!J90,0)+IF(ISNUMBER(CSVデータ2!J90),CSVデータ2!J90,0)+IF(ISNUMBER(CSVデータ3!J90),CSVデータ3!J90,0)+IF(ISNUMBER(CSVデータ4!J90),CSVデータ4!J90,0)","v":0},null,{"$f":"IF(ISNUMBER(CSVデータ1!L90),CSVデータ1!L90,0)+IF(ISNUMBER(CSVデータ2!L90),CSVデータ2!L90,0)+IF(ISNUMBER(CSVデータ3!L90),CSVデータ3!L90,0)+IF(ISNUMBER(CSVデータ4!L90),CSVデータ4!L90,0)","v":0},null,{"$f":"IF(ISNUMBER(CSVデータ1!N90),CSVデータ1!N90,0)+IF(ISNUMBER(CSVデータ2!N90),CSVデータ2!N90,0)+IF(ISNUMBER(CSVデータ3!N90),CSVデータ3!N90,0)+IF(ISNUMBER(CSVデータ4!N90),CSVデータ4!N90,0)","v":0},null,{"$f":"IF(ISNUMBER(CSVデータ1!P90),CSVデータ1!P90,0)+IF(ISNUMBER(CSVデータ2!P90),CSVデータ2!P90,0)+IF(ISNUMBER(CSVデータ3!P90),CSVデータ3!P90,0)+IF(ISNUMBER(CSVデータ4!P90),CSVデータ4!P90,0)","v":0},null,{"$f":"IF(ISNUMBER(CSVデータ1!R90),CSVデータ1!R90,0)+IF(ISNUMBER(CSVデータ2!R90),CSVデータ2!R90,0)+IF(ISNUMBER(CSVデータ3!R90),CSVデータ3!R90,0)+IF(ISNUMBER(CSVデータ4!R90),CSVデータ4!R90,0)","v":0},null,{"$f":"IF(ISNUMBER(CSVデータ1!T90),CSVデータ1!T90,0)+IF(ISNUMBER(CSVデータ2!T90),CSVデータ2!T90,0)+IF(ISNUMBER(CSVデータ3!T90),CSVデータ3!T90,0)+IF(ISNUMBER(CSVデータ4!T90),CSVデータ4!T90,0)","v":0},null,{"$f":"IF(ISNUMBER(CSVデータ1!V90),CSVデータ1!V90,0)+IF(ISNUMBER(CSVデータ2!V90),CSVデータ2!V90,0)+IF(ISNUMBER(CSVデータ3!V90),CSVデータ3!V90,0)+IF(ISNUMBER(CSVデータ4!V90),CSVデータ4!V90,0)","v":0},null,{"$f":"IF(ISNUMBER(CSVデータ1!X90),CSVデータ1!X90,0)+IF(ISNUMBER(CSVデータ2!X90),CSVデータ2!X90,0)+IF(ISNUMBER(CSVデータ3!X90),CSVデータ3!X90,0)+IF(ISNUMBER(CSVデータ4!X90),CSVデータ4!X90,0)","v":0},null,{"$f":"IF(ISNUMBER(CSVデータ1!Z90),CSVデータ1!Z90,0)+IF(ISNUMBER(CSVデータ2!Z90),CSVデータ2!Z90,0)+IF(ISNUMBER(CSVデータ3!Z90),CSVデータ3!Z90,0)+IF(ISNUMBER(CSVデータ4!Z90),CSVデータ4!Z90,0)","v":0},null,{"$f":"IF(ISNUMBER(CSVデータ1!AB90),CSVデータ1!AB90,0)+IF(ISNUMBER(CSVデータ2!AB90),CSVデータ2!AB90,0)+IF(ISNUMBER(CSVデータ3!AB90),CSVデータ3!AB90,0)+IF(ISNUMBER(CSVデータ4!AB90),CSVデータ4!AB90,0)","v":0},null,{"$f":"IF(ISNUMBER(CSVデータ1!AD90),CSVデータ1!AD90,0)+IF(ISNUMBER(CSVデータ2!AD90),CSVデータ2!AD90,0)+IF(ISNUMBER(CSVデータ3!AD90),CSVデータ3!AD90,0)+IF(ISNUMBER(CSVデータ4!AD90),CSVデータ4!AD90,0)","v":0},null,{"$f":"IF(ISNUMBER(CSVデータ1!AF90),CSVデータ1!AF90,0)+IF(ISNUMBER(CSVデータ2!AF90),CSVデータ2!AF90,0)+IF(ISNUMBER(CSVデータ3!AF90),CSVデータ3!AF90,0)+IF(ISNUMBER(CSVデータ4!AF90),CSVデータ4!AF90,0)","v":0},null,{"$f":"IF(ISNUMBER(CSVデータ1!AH90),CSVデータ1!AH90,0)+IF(ISNUMBER(CSVデータ2!AH90),CSVデータ2!AH90,0)+IF(ISNUMBER(CSVデータ3!AH90),CSVデータ3!AH90,0)+IF(ISNUMBER(CSVデータ4!AH90),CSVデータ4!AH90,0)","v":0},null,{"$f":"IF(ISNUMBER(CSVデータ1!AJ90),CSVデータ1!AJ90,0)+IF(ISNUMBER(CSVデータ2!AJ90),CSVデータ2!AJ90,0)+IF(ISNUMBER(CSVデータ3!AJ90),CSVデータ3!AJ90,0)+IF(ISNUMBER(CSVデータ4!AJ90),CSVデータ4!AJ90,0)","v":0},null,{"$f":"IF(ISNUMBER(CSVデータ1!AL90),CSVデータ1!AL90,0)+IF(ISNUMBER(CSVデータ2!AL90),CSVデータ2!AL90,0)+IF(ISNUMBER(CSVデータ3!AL90),CSVデータ3!AL90,0)+IF(ISNUMBER(CSVデータ4!AL90),CSVデータ4!AL90,0)","v":0},null,{"$f":"IF(ISNUMBER(CSVデータ1!AN90),CSVデータ1!AN90,0)+IF(ISNUMBER(CSVデータ2!AN90),CSVデータ2!AN90,0)+IF(ISNUMBER(CSVデータ3!AN90),CSVデータ3!AN90,0)+IF(ISNUMBER(CSVデータ4!AN90),CSVデータ4!AN90,0)","v":0}]
[{"$f":"CSVデータ1!A91","v":"明細部"},{"$f":"CSVデータ1!B91","v":"県"},{"$f":"CSVデータ1!C91","v":57},{"$f":"CSVデータ1!D91","v":"男"},{"$f":"IF(ISNUMBER(CSVデータ1!E91),CSVデータ1!E91,0)+IF(ISNUMBER(CSVデータ2!E91),CSVデータ2!E91,0)+IF(ISNUMBER(CSVデータ3!E91),CSVデータ3!E91,0)+IF(ISNUMBER(CSVデータ4!E91),CSVデータ4!E91,0)","v":0},{"$f":"IF(ISNUMBER(CSVデータ1!F91),CSVデータ1!F91,0)+IF(ISNUMBER(CSVデータ2!F91),CSVデータ2!F91,0)+IF(ISNUMBER(CSVデータ3!F91),CSVデータ3!F91,0)+IF(ISNUMBER(CSVデータ4!F91),CSVデータ4!F91,0)","v":0},null,{"$f":"IF(ISNUMBER(CSVデータ1!H91),CSVデータ1!H91,0)+IF(ISNUMBER(CSVデータ2!H91),CSVデータ2!H91,0)+IF(ISNUMBER(CSVデータ3!H91),CSVデータ3!H91,0)+IF(ISNUMBER(CSVデータ4!H91),CSVデータ4!H91,0)","v":0},null,{"$f":"IF(ISNUMBER(CSVデータ1!J91),CSVデータ1!J91,0)+IF(ISNUMBER(CSVデータ2!J91),CSVデータ2!J91,0)+IF(ISNUMBER(CSVデータ3!J91),CSVデータ3!J91,0)+IF(ISNUMBER(CSVデータ4!J91),CSVデータ4!J91,0)","v":0},null,{"$f":"IF(ISNUMBER(CSVデータ1!L91),CSVデータ1!L91,0)+IF(ISNUMBER(CSVデータ2!L91),CSVデータ2!L91,0)+IF(ISNUMBER(CSVデータ3!L91),CSVデータ3!L91,0)+IF(ISNUMBER(CSVデータ4!L91),CSVデータ4!L91,0)","v":0},null,{"$f":"IF(ISNUMBER(CSVデータ1!N91),CSVデータ1!N91,0)+IF(ISNUMBER(CSVデータ2!N91),CSVデータ2!N91,0)+IF(ISNUMBER(CSVデータ3!N91),CSVデータ3!N91,0)+IF(ISNUMBER(CSVデータ4!N91),CSVデータ4!N91,0)","v":0},null,{"$f":"IF(ISNUMBER(CSVデータ1!P91),CSVデータ1!P91,0)+IF(ISNUMBER(CSVデータ2!P91),CSVデータ2!P91,0)+IF(ISNUMBER(CSVデータ3!P91),CSVデータ3!P91,0)+IF(ISNUMBER(CSVデータ4!P91),CSVデータ4!P91,0)","v":0},null,{"$f":"IF(ISNUMBER(CSVデータ1!R91),CSVデータ1!R91,0)+IF(ISNUMBER(CSVデータ2!R91),CSVデータ2!R91,0)+IF(ISNUMBER(CSVデータ3!R91),CSVデータ3!R91,0)+IF(ISNUMBER(CSVデータ4!R91),CSVデータ4!R91,0)","v":0},null,{"$f":"IF(ISNUMBER(CSVデータ1!T91),CSVデータ1!T91,0)+IF(ISNUMBER(CSVデータ2!T91),CSVデータ2!T91,0)+IF(ISNUMBER(CSVデータ3!T91),CSVデータ3!T91,0)+IF(ISNUMBER(CSVデータ4!T91),CSVデータ4!T91,0)","v":0},null,{"$f":"IF(ISNUMBER(CSVデータ1!V91),CSVデータ1!V91,0)+IF(ISNUMBER(CSVデータ2!V91),CSVデータ2!V91,0)+IF(ISNUMBER(CSVデータ3!V91),CSVデータ3!V91,0)+IF(ISNUMBER(CSVデータ4!V91),CSVデータ4!V91,0)","v":0},null,{"$f":"IF(ISNUMBER(CSVデータ1!X91),CSVデータ1!X91,0)+IF(ISNUMBER(CSVデータ2!X91),CSVデータ2!X91,0)+IF(ISNUMBER(CSVデータ3!X91),CSVデータ3!X91,0)+IF(ISNUMBER(CSVデータ4!X91),CSVデータ4!X91,0)","v":0},null,{"$f":"IF(ISNUMBER(CSVデータ1!Z91),CSVデータ1!Z91,0)+IF(ISNUMBER(CSVデータ2!Z91),CSVデータ2!Z91,0)+IF(ISNUMBER(CSVデータ3!Z91),CSVデータ3!Z91,0)+IF(ISNUMBER(CSVデータ4!Z91),CSVデータ4!Z91,0)","v":0},null,{"$f":"IF(ISNUMBER(CSVデータ1!AB91),CSVデータ1!AB91,0)+IF(ISNUMBER(CSVデータ2!AB91),CSVデータ2!AB91,0)+IF(ISNUMBER(CSVデータ3!AB91),CSVデータ3!AB91,0)+IF(ISNUMBER(CSVデータ4!AB91),CSVデータ4!AB91,0)","v":0},null,{"$f":"IF(ISNUMBER(CSVデータ1!AD91),CSVデータ1!AD91,0)+IF(ISNUMBER(CSVデータ2!AD91),CSVデータ2!AD91,0)+IF(ISNUMBER(CSVデータ3!AD91),CSVデータ3!AD91,0)+IF(ISNUMBER(CSVデータ4!AD91),CSVデータ4!AD91,0)","v":0},null,{"$f":"IF(ISNUMBER(CSVデータ1!AF91),CSVデータ1!AF91,0)+IF(ISNUMBER(CSVデータ2!AF91),CSVデータ2!AF91,0)+IF(ISNUMBER(CSVデータ3!AF91),CSVデータ3!AF91,0)+IF(ISNUMBER(CSVデータ4!AF91),CSVデータ4!AF91,0)","v":0},null,{"$f":"IF(ISNUMBER(CSVデータ1!AH91),CSVデータ1!AH91,0)+IF(ISNUMBER(CSVデータ2!AH91),CSVデータ2!AH91,0)+IF(ISNUMBER(CSVデータ3!AH91),CSVデータ3!AH91,0)+IF(ISNUMBER(CSVデータ4!AH91),CSVデータ4!AH91,0)","v":0},null,{"$f":"IF(ISNUMBER(CSVデータ1!AJ91),CSVデータ1!AJ91,0)+IF(ISNUMBER(CSVデータ2!AJ91),CSVデータ2!AJ91,0)+IF(ISNUMBER(CSVデータ3!AJ91),CSVデータ3!AJ91,0)+IF(ISNUMBER(CSVデータ4!AJ91),CSVデータ4!AJ91,0)","v":0},null,{"$f":"IF(ISNUMBER(CSVデータ1!AL91),CSVデータ1!AL91,0)+IF(ISNUMBER(CSVデータ2!AL91),CSVデータ2!AL91,0)+IF(ISNUMBER(CSVデータ3!AL91),CSVデータ3!AL91,0)+IF(ISNUMBER(CSVデータ4!AL91),CSVデータ4!AL91,0)","v":0},null,{"$f":"IF(ISNUMBER(CSVデータ1!AN91),CSVデータ1!AN91,0)+IF(ISNUMBER(CSVデータ2!AN91),CSVデータ2!AN91,0)+IF(ISNUMBER(CSVデータ3!AN91),CSVデータ3!AN91,0)+IF(ISNUMBER(CSVデータ4!AN91),CSVデータ4!AN91,0)","v":0}]
[{"$f":"CSVデータ1!A92","v":"明細部"},{"$f":"CSVデータ1!B92","v":"県"},{"$f":"CSVデータ1!C92","v":58},{"$f":"CSVデータ1!D92","v":"男"},{"$f":"IF(ISNUMBER(CSVデータ1!E92),CSVデータ1!E92,0)+IF(ISNUMBER(CSVデータ2!E92),CSVデータ2!E92,0)+IF(ISNUMBER(CSVデータ3!E92),CSVデータ3!E92,0)+IF(ISNUMBER(CSVデータ4!E92),CSVデータ4!E92,0)","v":0},{"$f":"IF(ISNUMBER(CSVデータ1!F92),CSVデータ1!F92,0)+IF(ISNUMBER(CSVデータ2!F92),CSVデータ2!F92,0)+IF(ISNUMBER(CSVデータ3!F92),CSVデータ3!F92,0)+IF(ISNUMBER(CSVデータ4!F92),CSVデータ4!F92,0)","v":0},null,{"$f":"IF(ISNUMBER(CSVデータ1!H92),CSVデータ1!H92,0)+IF(ISNUMBER(CSVデータ2!H92),CSVデータ2!H92,0)+IF(ISNUMBER(CSVデータ3!H92),CSVデータ3!H92,0)+IF(ISNUMBER(CSVデータ4!H92),CSVデータ4!H92,0)","v":0},null,{"$f":"IF(ISNUMBER(CSVデータ1!J92),CSVデータ1!J92,0)+IF(ISNUMBER(CSVデータ2!J92),CSVデータ2!J92,0)+IF(ISNUMBER(CSVデータ3!J92),CSVデータ3!J92,0)+IF(ISNUMBER(CSVデータ4!J92),CSVデータ4!J92,0)","v":0},null,{"$f":"IF(ISNUMBER(CSVデータ1!L92),CSVデータ1!L92,0)+IF(ISNUMBER(CSVデータ2!L92),CSVデータ2!L92,0)+IF(ISNUMBER(CSVデータ3!L92),CSVデータ3!L92,0)+IF(ISNUMBER(CSVデータ4!L92),CSVデータ4!L92,0)","v":0},null,{"$f":"IF(ISNUMBER(CSVデータ1!N92),CSVデータ1!N92,0)+IF(ISNUMBER(CSVデータ2!N92),CSVデータ2!N92,0)+IF(ISNUMBER(CSVデータ3!N92),CSVデータ3!N92,0)+IF(ISNUMBER(CSVデータ4!N92),CSVデータ4!N92,0)","v":0},null,{"$f":"IF(ISNUMBER(CSVデータ1!P92),CSVデータ1!P92,0)+IF(ISNUMBER(CSVデータ2!P92),CSVデータ2!P92,0)+IF(ISNUMBER(CSVデータ3!P92),CSVデータ3!P92,0)+IF(ISNUMBER(CSVデータ4!P92),CSVデータ4!P92,0)","v":0},null,{"$f":"IF(ISNUMBER(CSVデータ1!R92),CSVデータ1!R92,0)+IF(ISNUMBER(CSVデータ2!R92),CSVデータ2!R92,0)+IF(ISNUMBER(CSVデータ3!R92),CSVデータ3!R92,0)+IF(ISNUMBER(CSVデータ4!R92),CSVデータ4!R92,0)","v":0},null,{"$f":"IF(ISNUMBER(CSVデータ1!T92),CSVデータ1!T92,0)+IF(ISNUMBER(CSVデータ2!T92),CSVデータ2!T92,0)+IF(ISNUMBER(CSVデータ3!T92),CSVデータ3!T92,0)+IF(ISNUMBER(CSVデータ4!T92),CSVデータ4!T92,0)","v":0},null,{"$f":"IF(ISNUMBER(CSVデータ1!V92),CSVデータ1!V92,0)+IF(ISNUMBER(CSVデータ2!V92),CSVデータ2!V92,0)+IF(ISNUMBER(CSVデータ3!V92),CSVデータ3!V92,0)+IF(ISNUMBER(CSVデータ4!V92),CSVデータ4!V92,0)","v":0},null,{"$f":"IF(ISNUMBER(CSVデータ1!X92),CSVデータ1!X92,0)+IF(ISNUMBER(CSVデータ2!X92),CSVデータ2!X92,0)+IF(ISNUMBER(CSVデータ3!X92),CSVデータ3!X92,0)+IF(ISNUMBER(CSVデータ4!X92),CSVデータ4!X92,0)","v":0},null,{"$f":"IF(ISNUMBER(CSVデータ1!Z92),CSVデータ1!Z92,0)+IF(ISNUMBER(CSVデータ2!Z92),CSVデータ2!Z92,0)+IF(ISNUMBER(CSVデータ3!Z92),CSVデータ3!Z92,0)+IF(ISNUMBER(CSVデータ4!Z92),CSVデータ4!Z92,0)","v":0},null,{"$f":"IF(ISNUMBER(CSVデータ1!AB92),CSVデータ1!AB92,0)+IF(ISNUMBER(CSVデータ2!AB92),CSVデータ2!AB92,0)+IF(ISNUMBER(CSVデータ3!AB92),CSVデータ3!AB92,0)+IF(ISNUMBER(CSVデータ4!AB92),CSVデータ4!AB92,0)","v":0},null,{"$f":"IF(ISNUMBER(CSVデータ1!AD92),CSVデータ1!AD92,0)+IF(ISNUMBER(CSVデータ2!AD92),CSVデータ2!AD92,0)+IF(ISNUMBER(CSVデータ3!AD92),CSVデータ3!AD92,0)+IF(ISNUMBER(CSVデータ4!AD92),CSVデータ4!AD92,0)","v":0},null,{"$f":"IF(ISNUMBER(CSVデータ1!AF92),CSVデータ1!AF92,0)+IF(ISNUMBER(CSVデータ2!AF92),CSVデータ2!AF92,0)+IF(ISNUMBER(CSVデータ3!AF92),CSVデータ3!AF92,0)+IF(ISNUMBER(CSVデータ4!AF92),CSVデータ4!AF92,0)","v":0},null,{"$f":"IF(ISNUMBER(CSVデータ1!AH92),CSVデータ1!AH92,0)+IF(ISNUMBER(CSVデータ2!AH92),CSVデータ2!AH92,0)+IF(ISNUMBER(CSVデータ3!AH92),CSVデータ3!AH92,0)+IF(ISNUMBER(CSVデータ4!AH92),CSVデータ4!AH92,0)","v":0},null,{"$f":"IF(ISNUMBER(CSVデータ1!AJ92),CSVデータ1!AJ92,0)+IF(ISNUMBER(CSVデータ2!AJ92),CSVデータ2!AJ92,0)+IF(ISNUMBER(CSVデータ3!AJ92),CSVデータ3!AJ92,0)+IF(ISNUMBER(CSVデータ4!AJ92),CSVデータ4!AJ92,0)","v":0},null,{"$f":"IF(ISNUMBER(CSVデータ1!AL92),CSVデータ1!AL92,0)+IF(ISNUMBER(CSVデータ2!AL92),CSVデータ2!AL92,0)+IF(ISNUMBER(CSVデータ3!AL92),CSVデータ3!AL92,0)+IF(ISNUMBER(CSVデータ4!AL92),CSVデータ4!AL92,0)","v":0},null,{"$f":"IF(ISNUMBER(CSVデータ1!AN92),CSVデータ1!AN92,0)+IF(ISNUMBER(CSVデータ2!AN92),CSVデータ2!AN92,0)+IF(ISNUMBER(CSVデータ3!AN92),CSVデータ3!AN92,0)+IF(ISNUMBER(CSVデータ4!AN92),CSVデータ4!AN92,0)","v":0}]
[{"$f":"CSVデータ1!A93","v":"明細部"},{"$f":"CSVデータ1!B93","v":"県"},{"$f":"CSVデータ1!C93","v":59},{"$f":"CSVデータ1!D93","v":"男"},{"$f":"IF(ISNUMBER(CSVデータ1!E93),CSVデータ1!E93,0)+IF(ISNUMBER(CSVデータ2!E93),CSVデータ2!E93,0)+IF(ISNUMBER(CSVデータ3!E93),CSVデータ3!E93,0)+IF(ISNUMBER(CSVデータ4!E93),CSVデータ4!E93,0)","v":0},{"$f":"IF(ISNUMBER(CSVデータ1!F93),CSVデータ1!F93,0)+IF(ISNUMBER(CSVデータ2!F93),CSVデータ2!F93,0)+IF(ISNUMBER(CSVデータ3!F93),CSVデータ3!F93,0)+IF(ISNUMBER(CSVデータ4!F93),CSVデータ4!F93,0)","v":0},null,{"$f":"IF(ISNUMBER(CSVデータ1!H93),CSVデータ1!H93,0)+IF(ISNUMBER(CSVデータ2!H93),CSVデータ2!H93,0)+IF(ISNUMBER(CSVデータ3!H93),CSVデータ3!H93,0)+IF(ISNUMBER(CSVデータ4!H93),CSVデータ4!H93,0)","v":0},null,{"$f":"IF(ISNUMBER(CSVデータ1!J93),CSVデータ1!J93,0)+IF(ISNUMBER(CSVデータ2!J93),CSVデータ2!J93,0)+IF(ISNUMBER(CSVデータ3!J93),CSVデータ3!J93,0)+IF(ISNUMBER(CSVデータ4!J93),CSVデータ4!J93,0)","v":0},null,{"$f":"IF(ISNUMBER(CSVデータ1!L93),CSVデータ1!L93,0)+IF(ISNUMBER(CSVデータ2!L93),CSVデータ2!L93,0)+IF(ISNUMBER(CSVデータ3!L93),CSVデータ3!L93,0)+IF(ISNUMBER(CSVデータ4!L93),CSVデータ4!L93,0)","v":0},null,{"$f":"IF(ISNUMBER(CSVデータ1!N93),CSVデータ1!N93,0)+IF(ISNUMBER(CSVデータ2!N93),CSVデータ2!N93,0)+IF(ISNUMBER(CSVデータ3!N93),CSVデータ3!N93,0)+IF(ISNUMBER(CSVデータ4!N93),CSVデータ4!N93,0)","v":0},null,{"$f":"IF(ISNUMBER(CSVデータ1!P93),CSVデータ1!P93,0)+IF(ISNUMBER(CSVデータ2!P93),CSVデータ2!P93,0)+IF(ISNUMBER(CSVデータ3!P93),CSVデータ3!P93,0)+IF(ISNUMBER(CSVデータ4!P93),CSVデータ4!P93,0)","v":0},null,{"$f":"IF(ISNUMBER(CSVデータ1!R93),CSVデータ1!R93,0)+IF(ISNUMBER(CSVデータ2!R93),CSVデータ2!R93,0)+IF(ISNUMBER(CSVデータ3!R93),CSVデータ3!R93,0)+IF(ISNUMBER(CSVデータ4!R93),CSVデータ4!R93,0)","v":0},null,{"$f":"IF(ISNUMBER(CSVデータ1!T93),CSVデータ1!T93,0)+IF(ISNUMBER(CSVデータ2!T93),CSVデータ2!T93,0)+IF(ISNUMBER(CSVデータ3!T93),CSVデータ3!T93,0)+IF(ISNUMBER(CSVデータ4!T93),CSVデータ4!T93,0)","v":0},null,{"$f":"IF(ISNUMBER(CSVデータ1!V93),CSVデータ1!V93,0)+IF(ISNUMBER(CSVデータ2!V93),CSVデータ2!V93,0)+IF(ISNUMBER(CSVデータ3!V93),CSVデータ3!V93,0)+IF(ISNUMBER(CSVデータ4!V93),CSVデータ4!V93,0)","v":0},null,{"$f":"IF(ISNUMBER(CSVデータ1!X93),CSVデータ1!X93,0)+IF(ISNUMBER(CSVデータ2!X93),CSVデータ2!X93,0)+IF(ISNUMBER(CSVデータ3!X93),CSVデータ3!X93,0)+IF(ISNUMBER(CSVデータ4!X93),CSVデータ4!X93,0)","v":0},null,{"$f":"IF(ISNUMBER(CSVデータ1!Z93),CSVデータ1!Z93,0)+IF(ISNUMBER(CSVデータ2!Z93),CSVデータ2!Z93,0)+IF(ISNUMBER(CSVデータ3!Z93),CSVデータ3!Z93,0)+IF(ISNUMBER(CSVデータ4!Z93),CSVデータ4!Z93,0)","v":0},null,{"$f":"IF(ISNUMBER(CSVデータ1!AB93),CSVデータ1!AB93,0)+IF(ISNUMBER(CSVデータ2!AB93),CSVデータ2!AB93,0)+IF(ISNUMBER(CSVデータ3!AB93),CSVデータ3!AB93,0)+IF(ISNUMBER(CSVデータ4!AB93),CSVデータ4!AB93,0)","v":0},null,{"$f":"IF(ISNUMBER(CSVデータ1!AD93),CSVデータ1!AD93,0)+IF(ISNUMBER(CSVデータ2!AD93),CSVデータ2!AD93,0)+IF(ISNUMBER(CSVデータ3!AD93),CSVデータ3!AD93,0)+IF(ISNUMBER(CSVデータ4!AD93),CSVデータ4!AD93,0)","v":0},null,{"$f":"IF(ISNUMBER(CSVデータ1!AF93),CSVデータ1!AF93,0)+IF(ISNUMBER(CSVデータ2!AF93),CSVデータ2!AF93,0)+IF(ISNUMBER(CSVデータ3!AF93),CSVデータ3!AF93,0)+IF(ISNUMBER(CSVデータ4!AF93),CSVデータ4!AF93,0)","v":0},null,{"$f":"IF(ISNUMBER(CSVデータ1!AH93),CSVデータ1!AH93,0)+IF(ISNUMBER(CSVデータ2!AH93),CSVデータ2!AH93,0)+IF(ISNUMBER(CSVデータ3!AH93),CSVデータ3!AH93,0)+IF(ISNUMBER(CSVデータ4!AH93),CSVデータ4!AH93,0)","v":0},null,{"$f":"IF(ISNUMBER(CSVデータ1!AJ93),CSVデータ1!AJ93,0)+IF(ISNUMBER(CSVデータ2!AJ93),CSVデータ2!AJ93,0)+IF(ISNUMBER(CSVデータ3!AJ93),CSVデータ3!AJ93,0)+IF(ISNUMBER(CSVデータ4!AJ93),CSVデータ4!AJ93,0)","v":0},null,{"$f":"IF(ISNUMBER(CSVデータ1!AL93),CSVデータ1!AL93,0)+IF(ISNUMBER(CSVデータ2!AL93),CSVデータ2!AL93,0)+IF(ISNUMBER(CSVデータ3!AL93),CSVデータ3!AL93,0)+IF(ISNUMBER(CSVデータ4!AL93),CSVデータ4!AL93,0)","v":0},null,{"$f":"IF(ISNUMBER(CSVデータ1!AN93),CSVデータ1!AN93,0)+IF(ISNUMBER(CSVデータ2!AN93),CSVデータ2!AN93,0)+IF(ISNUMBER(CSVデータ3!AN93),CSVデータ3!AN93,0)+IF(ISNUMBER(CSVデータ4!AN93),CSVデータ4!AN93,0)","v":0}]
[{"$f":"CSVデータ1!A94","v":"明細部"},{"$f":"CSVデータ1!B94","v":"県"},{"$f":"CSVデータ1!C94","v":60},{"$f":"CSVデータ1!D94","v":"男"},{"$f":"IF(ISNUMBER(CSVデータ1!E94),CSVデータ1!E94,0)+IF(ISNUMBER(CSVデータ2!E94),CSVデータ2!E94,0)+IF(ISNUMBER(CSVデータ3!E94),CSVデータ3!E94,0)+IF(ISNUMBER(CSVデータ4!E94),CSVデータ4!E94,0)","v":0},{"$f":"IF(ISNUMBER(CSVデータ1!F94),CSVデータ1!F94,0)+IF(ISNUMBER(CSVデータ2!F94),CSVデータ2!F94,0)+IF(ISNUMBER(CSVデータ3!F94),CSVデータ3!F94,0)+IF(ISNUMBER(CSVデータ4!F94),CSVデータ4!F94,0)","v":0},null,{"$f":"IF(ISNUMBER(CSVデータ1!H94),CSVデータ1!H94,0)+IF(ISNUMBER(CSVデータ2!H94),CSVデータ2!H94,0)+IF(ISNUMBER(CSVデータ3!H94),CSVデータ3!H94,0)+IF(ISNUMBER(CSVデータ4!H94),CSVデータ4!H94,0)","v":0},null,{"$f":"IF(ISNUMBER(CSVデータ1!J94),CSVデータ1!J94,0)+IF(ISNUMBER(CSVデータ2!J94),CSVデータ2!J94,0)+IF(ISNUMBER(CSVデータ3!J94),CSVデータ3!J94,0)+IF(ISNUMBER(CSVデータ4!J94),CSVデータ4!J94,0)","v":0},null,{"$f":"IF(ISNUMBER(CSVデータ1!L94),CSVデータ1!L94,0)+IF(ISNUMBER(CSVデータ2!L94),CSVデータ2!L94,0)+IF(ISNUMBER(CSVデータ3!L94),CSVデータ3!L94,0)+IF(ISNUMBER(CSVデータ4!L94),CSVデータ4!L94,0)","v":0},null,{"$f":"IF(ISNUMBER(CSVデータ1!N94),CSVデータ1!N94,0)+IF(ISNUMBER(CSVデータ2!N94),CSVデータ2!N94,0)+IF(ISNUMBER(CSVデータ3!N94),CSVデータ3!N94,0)+IF(ISNUMBER(CSVデータ4!N94),CSVデータ4!N94,0)","v":0},null,{"$f":"IF(ISNUMBER(CSVデータ1!P94),CSVデータ1!P94,0)+IF(ISNUMBER(CSVデータ2!P94),CSVデータ2!P94,0)+IF(ISNUMBER(CSVデータ3!P94),CSVデータ3!P94,0)+IF(ISNUMBER(CSVデータ4!P94),CSVデータ4!P94,0)","v":0},null,{"$f":"IF(ISNUMBER(CSVデータ1!R94),CSVデータ1!R94,0)+IF(ISNUMBER(CSVデータ2!R94),CSVデータ2!R94,0)+IF(ISNUMBER(CSVデータ3!R94),CSVデータ3!R94,0)+IF(ISNUMBER(CSVデータ4!R94),CSVデータ4!R94,0)","v":0},null,{"$f":"IF(ISNUMBER(CSVデータ1!T94),CSVデータ1!T94,0)+IF(ISNUMBER(CSVデータ2!T94),CSVデータ2!T94,0)+IF(ISNUMBER(CSVデータ3!T94),CSVデータ3!T94,0)+IF(ISNUMBER(CSVデータ4!T94),CSVデータ4!T94,0)","v":0},null,{"$f":"IF(ISNUMBER(CSVデータ1!V94),CSVデータ1!V94,0)+IF(ISNUMBER(CSVデータ2!V94),CSVデータ2!V94,0)+IF(ISNUMBER(CSVデータ3!V94),CSVデータ3!V94,0)+IF(ISNUMBER(CSVデータ4!V94),CSVデータ4!V94,0)","v":0},null,{"$f":"IF(ISNUMBER(CSVデータ1!X94),CSVデータ1!X94,0)+IF(ISNUMBER(CSVデータ2!X94),CSVデータ2!X94,0)+IF(ISNUMBER(CSVデータ3!X94),CSVデータ3!X94,0)+IF(ISNUMBER(CSVデータ4!X94),CSVデータ4!X94,0)","v":0},null,{"$f":"IF(ISNUMBER(CSVデータ1!Z94),CSVデータ1!Z94,0)+IF(ISNUMBER(CSVデータ2!Z94),CSVデータ2!Z94,0)+IF(ISNUMBER(CSVデータ3!Z94),CSVデータ3!Z94,0)+IF(ISNUMBER(CSVデータ4!Z94),CSVデータ4!Z94,0)","v":0},null,{"$f":"IF(ISNUMBER(CSVデータ1!AB94),CSVデータ1!AB94,0)+IF(ISNUMBER(CSVデータ2!AB94),CSVデータ2!AB94,0)+IF(ISNUMBER(CSVデータ3!AB94),CSVデータ3!AB94,0)+IF(ISNUMBER(CSVデータ4!AB94),CSVデータ4!AB94,0)","v":0},null,{"$f":"IF(ISNUMBER(CSVデータ1!AD94),CSVデータ1!AD94,0)+IF(ISNUMBER(CSVデータ2!AD94),CSVデータ2!AD94,0)+IF(ISNUMBER(CSVデータ3!AD94),CSVデータ3!AD94,0)+IF(ISNUMBER(CSVデータ4!AD94),CSVデータ4!AD94,0)","v":0},null,{"$f":"IF(ISNUMBER(CSVデータ1!AF94),CSVデータ1!AF94,0)+IF(ISNUMBER(CSVデータ2!AF94),CSVデータ2!AF94,0)+IF(ISNUMBER(CSVデータ3!AF94),CSVデータ3!AF94,0)+IF(ISNUMBER(CSVデータ4!AF94),CSVデータ4!AF94,0)","v":0},null,{"$f":"IF(ISNUMBER(CSVデータ1!AH94),CSVデータ1!AH94,0)+IF(ISNUMBER(CSVデータ2!AH94),CSVデータ2!AH94,0)+IF(ISNUMBER(CSVデータ3!AH94),CSVデータ3!AH94,0)+IF(ISNUMBER(CSVデータ4!AH94),CSVデータ4!AH94,0)","v":0},null,{"$f":"IF(ISNUMBER(CSVデータ1!AJ94),CSVデータ1!AJ94,0)+IF(ISNUMBER(CSVデータ2!AJ94),CSVデータ2!AJ94,0)+IF(ISNUMBER(CSVデータ3!AJ94),CSVデータ3!AJ94,0)+IF(ISNUMBER(CSVデータ4!AJ94),CSVデータ4!AJ94,0)","v":0},null,{"$f":"IF(ISNUMBER(CSVデータ1!AL94),CSVデータ1!AL94,0)+IF(ISNUMBER(CSVデータ2!AL94),CSVデータ2!AL94,0)+IF(ISNUMBER(CSVデータ3!AL94),CSVデータ3!AL94,0)+IF(ISNUMBER(CSVデータ4!AL94),CSVデータ4!AL94,0)","v":0},null,{"$f":"IF(ISNUMBER(CSVデータ1!AN94),CSVデータ1!AN94,0)+IF(ISNUMBER(CSVデータ2!AN94),CSVデータ2!AN94,0)+IF(ISNUMBER(CSVデータ3!AN94),CSVデータ3!AN94,0)+IF(ISNUMBER(CSVデータ4!AN94),CSVデータ4!AN94,0)","v":0}]
[{"$f":"CSVデータ1!A95","v":"明細部"},{"$f":"CSVデータ1!B95","v":"県"},{"$f":"CSVデータ1!C95","v":61},{"$f":"CSVデータ1!D95","v":"男"},{"$f":"IF(ISNUMBER(CSVデータ1!E95),CSVデータ1!E95,0)+IF(ISNUMBER(CSVデータ2!E95),CSVデータ2!E95,0)+IF(ISNUMBER(CSVデータ3!E95),CSVデータ3!E95,0)+IF(ISNUMBER(CSVデータ4!E95),CSVデータ4!E95,0)","v":0},{"$f":"IF(ISNUMBER(CSVデータ1!F95),CSVデータ1!F95,0)+IF(ISNUMBER(CSVデータ2!F95),CSVデータ2!F95,0)+IF(ISNUMBER(CSVデータ3!F95),CSVデータ3!F95,0)+IF(ISNUMBER(CSVデータ4!F95),CSVデータ4!F95,0)","v":0},null,{"$f":"IF(ISNUMBER(CSVデータ1!H95),CSVデータ1!H95,0)+IF(ISNUMBER(CSVデータ2!H95),CSVデータ2!H95,0)+IF(ISNUMBER(CSVデータ3!H95),CSVデータ3!H95,0)+IF(ISNUMBER(CSVデータ4!H95),CSVデータ4!H95,0)","v":0},null,{"$f":"IF(ISNUMBER(CSVデータ1!J95),CSVデータ1!J95,0)+IF(ISNUMBER(CSVデータ2!J95),CSVデータ2!J95,0)+IF(ISNUMBER(CSVデータ3!J95),CSVデータ3!J95,0)+IF(ISNUMBER(CSVデータ4!J95),CSVデータ4!J95,0)","v":0},null,{"$f":"IF(ISNUMBER(CSVデータ1!L95),CSVデータ1!L95,0)+IF(ISNUMBER(CSVデータ2!L95),CSVデータ2!L95,0)+IF(ISNUMBER(CSVデータ3!L95),CSVデータ3!L95,0)+IF(ISNUMBER(CSVデータ4!L95),CSVデータ4!L95,0)","v":0},null,{"$f":"IF(ISNUMBER(CSVデータ1!N95),CSVデータ1!N95,0)+IF(ISNUMBER(CSVデータ2!N95),CSVデータ2!N95,0)+IF(ISNUMBER(CSVデータ3!N95),CSVデータ3!N95,0)+IF(ISNUMBER(CSVデータ4!N95),CSVデータ4!N95,0)","v":0},null,{"$f":"IF(ISNUMBER(CSVデータ1!P95),CSVデータ1!P95,0)+IF(ISNUMBER(CSVデータ2!P95),CSVデータ2!P95,0)+IF(ISNUMBER(CSVデータ3!P95),CSVデータ3!P95,0)+IF(ISNUMBER(CSVデータ4!P95),CSVデータ4!P95,0)","v":0},null,{"$f":"IF(ISNUMBER(CSVデータ1!R95),CSVデータ1!R95,0)+IF(ISNUMBER(CSVデータ2!R95),CSVデータ2!R95,0)+IF(ISNUMBER(CSVデータ3!R95),CSVデータ3!R95,0)+IF(ISNUMBER(CSVデータ4!R95),CSVデータ4!R95,0)","v":0},null,{"$f":"IF(ISNUMBER(CSVデータ1!T95),CSVデータ1!T95,0)+IF(ISNUMBER(CSVデータ2!T95),CSVデータ2!T95,0)+IF(ISNUMBER(CSVデータ3!T95),CSVデータ3!T95,0)+IF(ISNUMBER(CSVデータ4!T95),CSVデータ4!T95,0)","v":0},null,{"$f":"IF(ISNUMBER(CSVデータ1!V95),CSVデータ1!V95,0)+IF(ISNUMBER(CSVデータ2!V95),CSVデータ2!V95,0)+IF(ISNUMBER(CSVデータ3!V95),CSVデータ3!V95,0)+IF(ISNUMBER(CSVデータ4!V95),CSVデータ4!V95,0)","v":0},null,{"$f":"IF(ISNUMBER(CSVデータ1!X95),CSVデータ1!X95,0)+IF(ISNUMBER(CSVデータ2!X95),CSVデータ2!X95,0)+IF(ISNUMBER(CSVデータ3!X95),CSVデータ3!X95,0)+IF(ISNUMBER(CSVデータ4!X95),CSVデータ4!X95,0)","v":0},null,{"$f":"IF(ISNUMBER(CSVデータ1!Z95),CSVデータ1!Z95,0)+IF(ISNUMBER(CSVデータ2!Z95),CSVデータ2!Z95,0)+IF(ISNUMBER(CSVデータ3!Z95),CSVデータ3!Z95,0)+IF(ISNUMBER(CSVデータ4!Z95),CSVデータ4!Z95,0)","v":0},null,{"$f":"IF(ISNUMBER(CSVデータ1!AB95),CSVデータ1!AB95,0)+IF(ISNUMBER(CSVデータ2!AB95),CSVデータ2!AB95,0)+IF(ISNUMBER(CSVデータ3!AB95),CSVデータ3!AB95,0)+IF(ISNUMBER(CSVデータ4!AB95),CSVデータ4!AB95,0)","v":0},null,{"$f":"IF(ISNUMBER(CSVデータ1!AD95),CSVデータ1!AD95,0)+IF(ISNUMBER(CSVデータ2!AD95),CSVデータ2!AD95,0)+IF(ISNUMBER(CSVデータ3!AD95),CSVデータ3!AD95,0)+IF(ISNUMBER(CSVデータ4!AD95),CSVデータ4!AD95,0)","v":0},null,{"$f":"IF(ISNUMBER(CSVデータ1!AF95),CSVデータ1!AF95,0)+IF(ISNUMBER(CSVデータ2!AF95),CSVデータ2!AF95,0)+IF(ISNUMBER(CSVデータ3!AF95),CSVデータ3!AF95,0)+IF(ISNUMBER(CSVデータ4!AF95),CSVデータ4!AF95,0)","v":0},null,{"$f":"IF(ISNUMBER(CSVデータ1!AH95),CSVデータ1!AH95,0)+IF(ISNUMBER(CSVデータ2!AH95),CSVデータ2!AH95,0)+IF(ISNUMBER(CSVデータ3!AH95),CSVデータ3!AH95,0)+IF(ISNUMBER(CSVデータ4!AH95),CSVデータ4!AH95,0)","v":0},null,{"$f":"IF(ISNUMBER(CSVデータ1!AJ95),CSVデータ1!AJ95,0)+IF(ISNUMBER(CSVデータ2!AJ95),CSVデータ2!AJ95,0)+IF(ISNUMBER(CSVデータ3!AJ95),CSVデータ3!AJ95,0)+IF(ISNUMBER(CSVデータ4!AJ95),CSVデータ4!AJ95,0)","v":0},null,{"$f":"IF(ISNUMBER(CSVデータ1!AL95),CSVデータ1!AL95,0)+IF(ISNUMBER(CSVデータ2!AL95),CSVデータ2!AL95,0)+IF(ISNUMBER(CSVデータ3!AL95),CSVデータ3!AL95,0)+IF(ISNUMBER(CSVデータ4!AL95),CSVデータ4!AL95,0)","v":0},null,{"$f":"IF(ISNUMBER(CSVデータ1!AN95),CSVデータ1!AN95,0)+IF(ISNUMBER(CSVデータ2!AN95),CSVデータ2!AN95,0)+IF(ISNUMBER(CSVデータ3!AN95),CSVデータ3!AN95,0)+IF(ISNUMBER(CSVデータ4!AN95),CSVデータ4!AN95,0)","v":0}]
[{"$f":"CSVデータ1!A96","v":"明細部"},{"$f":"CSVデータ1!B96","v":"県"},{"$f":"CSVデータ1!C96","v":62},{"$f":"CSVデータ1!D96","v":"男"},{"$f":"IF(ISNUMBER(CSVデータ1!E96),CSVデータ1!E96,0)+IF(ISNUMBER(CSVデータ2!E96),CSVデータ2!E96,0)+IF(ISNUMBER(CSVデータ3!E96),CSVデータ3!E96,0)+IF(ISNUMBER(CSVデータ4!E96),CSVデータ4!E96,0)","v":0},{"$f":"IF(ISNUMBER(CSVデータ1!F96),CSVデータ1!F96,0)+IF(ISNUMBER(CSVデータ2!F96),CSVデータ2!F96,0)+IF(ISNUMBER(CSVデータ3!F96),CSVデータ3!F96,0)+IF(ISNUMBER(CSVデータ4!F96),CSVデータ4!F96,0)","v":0},null,{"$f":"IF(ISNUMBER(CSVデータ1!H96),CSVデータ1!H96,0)+IF(ISNUMBER(CSVデータ2!H96),CSVデータ2!H96,0)+IF(ISNUMBER(CSVデータ3!H96),CSVデータ3!H96,0)+IF(ISNUMBER(CSVデータ4!H96),CSVデータ4!H96,0)","v":0},null,{"$f":"IF(ISNUMBER(CSVデータ1!J96),CSVデータ1!J96,0)+IF(ISNUMBER(CSVデータ2!J96),CSVデータ2!J96,0)+IF(ISNUMBER(CSVデータ3!J96),CSVデータ3!J96,0)+IF(ISNUMBER(CSVデータ4!J96),CSVデータ4!J96,0)","v":0},null,{"$f":"IF(ISNUMBER(CSVデータ1!L96),CSVデータ1!L96,0)+IF(ISNUMBER(CSVデータ2!L96),CSVデータ2!L96,0)+IF(ISNUMBER(CSVデータ3!L96),CSVデータ3!L96,0)+IF(ISNUMBER(CSVデータ4!L96),CSVデータ4!L96,0)","v":0},null,{"$f":"IF(ISNUMBER(CSVデータ1!N96),CSVデータ1!N96,0)+IF(ISNUMBER(CSVデータ2!N96),CSVデータ2!N96,0)+IF(ISNUMBER(CSVデータ3!N96),CSVデータ3!N96,0)+IF(ISNUMBER(CSVデータ4!N96),CSVデータ4!N96,0)","v":0},null,{"$f":"IF(ISNUMBER(CSVデータ1!P96),CSVデータ1!P96,0)+IF(ISNUMBER(CSVデータ2!P96),CSVデータ2!P96,0)+IF(ISNUMBER(CSVデータ3!P96),CSVデータ3!P96,0)+IF(ISNUMBER(CSVデータ4!P96),CSVデータ4!P96,0)","v":0},null,{"$f":"IF(ISNUMBER(CSVデータ1!R96),CSVデータ1!R96,0)+IF(ISNUMBER(CSVデータ2!R96),CSVデータ2!R96,0)+IF(ISNUMBER(CSVデータ3!R96),CSVデータ3!R96,0)+IF(ISNUMBER(CSVデータ4!R96),CSVデータ4!R96,0)","v":0},null,{"$f":"IF(ISNUMBER(CSVデータ1!T96),CSVデータ1!T96,0)+IF(ISNUMBER(CSVデータ2!T96),CSVデータ2!T96,0)+IF(ISNUMBER(CSVデータ3!T96),CSVデータ3!T96,0)+IF(ISNUMBER(CSVデータ4!T96),CSVデータ4!T96,0)","v":0},null,{"$f":"IF(ISNUMBER(CSVデータ1!V96),CSVデータ1!V96,0)+IF(ISNUMBER(CSVデータ2!V96),CSVデータ2!V96,0)+IF(ISNUMBER(CSVデータ3!V96),CSVデータ3!V96,0)+IF(ISNUMBER(CSVデータ4!V96),CSVデータ4!V96,0)","v":0},null,{"$f":"IF(ISNUMBER(CSVデータ1!X96),CSVデータ1!X96,0)+IF(ISNUMBER(CSVデータ2!X96),CSVデータ2!X96,0)+IF(ISNUMBER(CSVデータ3!X96),CSVデータ3!X96,0)+IF(ISNUMBER(CSVデータ4!X96),CSVデータ4!X96,0)","v":0},null,{"$f":"IF(ISNUMBER(CSVデータ1!Z96),CSVデータ1!Z96,0)+IF(ISNUMBER(CSVデータ2!Z96),CSVデータ2!Z96,0)+IF(ISNUMBER(CSVデータ3!Z96),CSVデータ3!Z96,0)+IF(ISNUMBER(CSVデータ4!Z96),CSVデータ4!Z96,0)","v":0},null,{"$f":"IF(ISNUMBER(CSVデータ1!AB96),CSVデータ1!AB96,0)+IF(ISNUMBER(CSVデータ2!AB96),CSVデータ2!AB96,0)+IF(ISNUMBER(CSVデータ3!AB96),CSVデータ3!AB96,0)+IF(ISNUMBER(CSVデータ4!AB96),CSVデータ4!AB96,0)","v":0},null,{"$f":"IF(ISNUMBER(CSVデータ1!AD96),CSVデータ1!AD96,0)+IF(ISNUMBER(CSVデータ2!AD96),CSVデータ2!AD96,0)+IF(ISNUMBER(CSVデータ3!AD96),CSVデータ3!AD96,0)+IF(ISNUMBER(CSVデータ4!AD96),CSVデータ4!AD96,0)","v":0},null,{"$f":"IF(ISNUMBER(CSVデータ1!AF96),CSVデータ1!AF96,0)+IF(ISNUMBER(CSVデータ2!AF96),CSVデータ2!AF96,0)+IF(ISNUMBER(CSVデータ3!AF96),CSVデータ3!AF96,0)+IF(ISNUMBER(CSVデータ4!AF96),CSVデータ4!AF96,0)","v":0},null,{"$f":"IF(ISNUMBER(CSVデータ1!AH96),CSVデータ1!AH96,0)+IF(ISNUMBER(CSVデータ2!AH96),CSVデータ2!AH96,0)+IF(ISNUMBER(CSVデータ3!AH96),CSVデータ3!AH96,0)+IF(ISNUMBER(CSVデータ4!AH96),CSVデータ4!AH96,0)","v":0},null,{"$f":"IF(ISNUMBER(CSVデータ1!AJ96),CSVデータ1!AJ96,0)+IF(ISNUMBER(CSVデータ2!AJ96),CSVデータ2!AJ96,0)+IF(ISNUMBER(CSVデータ3!AJ96),CSVデータ3!AJ96,0)+IF(ISNUMBER(CSVデータ4!AJ96),CSVデータ4!AJ96,0)","v":0},null,{"$f":"IF(ISNUMBER(CSVデータ1!AL96),CSVデータ1!AL96,0)+IF(ISNUMBER(CSVデータ2!AL96),CSVデータ2!AL96,0)+IF(ISNUMBER(CSVデータ3!AL96),CSVデータ3!AL96,0)+IF(ISNUMBER(CSVデータ4!AL96),CSVデータ4!AL96,0)","v":0},null,{"$f":"IF(ISNUMBER(CSVデータ1!AN96),CSVデータ1!AN96,0)+IF(ISNUMBER(CSVデータ2!AN96),CSVデータ2!AN96,0)+IF(ISNUMBER(CSVデータ3!AN96),CSVデータ3!AN96,0)+IF(ISNUMBER(CSVデータ4!AN96),CSVデータ4!AN96,0)","v":0}]
[{"$f":"CSVデータ1!A97","v":"明細部"},{"$f":"CSVデータ1!B97","v":"県"},{"$f":"CSVデータ1!C97","v":63},{"$f":"CSVデータ1!D97","v":"男"},{"$f":"IF(ISNUMBER(CSVデータ1!E97),CSVデータ1!E97,0)+IF(ISNUMBER(CSVデータ2!E97),CSVデータ2!E97,0)+IF(ISNUMBER(CSVデータ3!E97),CSVデータ3!E97,0)+IF(ISNUMBER(CSVデータ4!E97),CSVデータ4!E97,0)","v":0},{"$f":"IF(ISNUMBER(CSVデータ1!F97),CSVデータ1!F97,0)+IF(ISNUMBER(CSVデータ2!F97),CSVデータ2!F97,0)+IF(ISNUMBER(CSVデータ3!F97),CSVデータ3!F97,0)+IF(ISNUMBER(CSVデータ4!F97),CSVデータ4!F97,0)","v":0},null,{"$f":"IF(ISNUMBER(CSVデータ1!H97),CSVデータ1!H97,0)+IF(ISNUMBER(CSVデータ2!H97),CSVデータ2!H97,0)+IF(ISNUMBER(CSVデータ3!H97),CSVデータ3!H97,0)+IF(ISNUMBER(CSVデータ4!H97),CSVデータ4!H97,0)","v":0},null,{"$f":"IF(ISNUMBER(CSVデータ1!J97),CSVデータ1!J97,0)+IF(ISNUMBER(CSVデータ2!J97),CSVデータ2!J97,0)+IF(ISNUMBER(CSVデータ3!J97),CSVデータ3!J97,0)+IF(ISNUMBER(CSVデータ4!J97),CSVデータ4!J97,0)","v":0},null,{"$f":"IF(ISNUMBER(CSVデータ1!L97),CSVデータ1!L97,0)+IF(ISNUMBER(CSVデータ2!L97),CSVデータ2!L97,0)+IF(ISNUMBER(CSVデータ3!L97),CSVデータ3!L97,0)+IF(ISNUMBER(CSVデータ4!L97),CSVデータ4!L97,0)","v":0},null,{"$f":"IF(ISNUMBER(CSVデータ1!N97),CSVデータ1!N97,0)+IF(ISNUMBER(CSVデータ2!N97),CSVデータ2!N97,0)+IF(ISNUMBER(CSVデータ3!N97),CSVデータ3!N97,0)+IF(ISNUMBER(CSVデータ4!N97),CSVデータ4!N97,0)","v":0},null,{"$f":"IF(ISNUMBER(CSVデータ1!P97),CSVデータ1!P97,0)+IF(ISNUMBER(CSVデータ2!P97),CSVデータ2!P97,0)+IF(ISNUMBER(CSVデータ3!P97),CSVデータ3!P97,0)+IF(ISNUMBER(CSVデータ4!P97),CSVデータ4!P97,0)","v":0},null,{"$f":"IF(ISNUMBER(CSVデータ1!R97),CSVデータ1!R97,0)+IF(ISNUMBER(CSVデータ2!R97),CSVデータ2!R97,0)+IF(ISNUMBER(CSVデータ3!R97),CSVデータ3!R97,0)+IF(ISNUMBER(CSVデータ4!R97),CSVデータ4!R97,0)","v":0},null,{"$f":"IF(ISNUMBER(CSVデータ1!T97),CSVデータ1!T97,0)+IF(ISNUMBER(CSVデータ2!T97),CSVデータ2!T97,0)+IF(ISNUMBER(CSVデータ3!T97),CSVデータ3!T97,0)+IF(ISNUMBER(CSVデータ4!T97),CSVデータ4!T97,0)","v":0},null,{"$f":"IF(ISNUMBER(CSVデータ1!V97),CSVデータ1!V97,0)+IF(ISNUMBER(CSVデータ2!V97),CSVデータ2!V97,0)+IF(ISNUMBER(CSVデータ3!V97),CSVデータ3!V97,0)+IF(ISNUMBER(CSVデータ4!V97),CSVデータ4!V97,0)","v":0},null,{"$f":"IF(ISNUMBER(CSVデータ1!X97),CSVデータ1!X97,0)+IF(ISNUMBER(CSVデータ2!X97),CSVデータ2!X97,0)+IF(ISNUMBER(CSVデータ3!X97),CSVデータ3!X97,0)+IF(ISNUMBER(CSVデータ4!X97),CSVデータ4!X97,0)","v":0},null,{"$f":"IF(ISNUMBER(CSVデータ1!Z97),CSVデータ1!Z97,0)+IF(ISNUMBER(CSVデータ2!Z97),CSVデータ2!Z97,0)+IF(ISNUMBER(CSVデータ3!Z97),CSVデータ3!Z97,0)+IF(ISNUMBER(CSVデータ4!Z97),CSVデータ4!Z97,0)","v":0},null,{"$f":"IF(ISNUMBER(CSVデータ1!AB97),CSVデータ1!AB97,0)+IF(ISNUMBER(CSVデータ2!AB97),CSVデータ2!AB97,0)+IF(ISNUMBER(CSVデータ3!AB97),CSVデータ3!AB97,0)+IF(ISNUMBER(CSVデータ4!AB97),CSVデータ4!AB97,0)","v":0},null,{"$f":"IF(ISNUMBER(CSVデータ1!AD97),CSVデータ1!AD97,0)+IF(ISNUMBER(CSVデータ2!AD97),CSVデータ2!AD97,0)+IF(ISNUMBER(CSVデータ3!AD97),CSVデータ3!AD97,0)+IF(ISNUMBER(CSVデータ4!AD97),CSVデータ4!AD97,0)","v":0},null,{"$f":"IF(ISNUMBER(CSVデータ1!AF97),CSVデータ1!AF97,0)+IF(ISNUMBER(CSVデータ2!AF97),CSVデータ2!AF97,0)+IF(ISNUMBER(CSVデータ3!AF97),CSVデータ3!AF97,0)+IF(ISNUMBER(CSVデータ4!AF97),CSVデータ4!AF97,0)","v":0},null,{"$f":"IF(ISNUMBER(CSVデータ1!AH97),CSVデータ1!AH97,0)+IF(ISNUMBER(CSVデータ2!AH97),CSVデータ2!AH97,0)+IF(ISNUMBER(CSVデータ3!AH97),CSVデータ3!AH97,0)+IF(ISNUMBER(CSVデータ4!AH97),CSVデータ4!AH97,0)","v":0},null,{"$f":"IF(ISNUMBER(CSVデータ1!AJ97),CSVデータ1!AJ97,0)+IF(ISNUMBER(CSVデータ2!AJ97),CSVデータ2!AJ97,0)+IF(ISNUMBER(CSVデータ3!AJ97),CSVデータ3!AJ97,0)+IF(ISNUMBER(CSVデータ4!AJ97),CSVデータ4!AJ97,0)","v":0},null,{"$f":"IF(ISNUMBER(CSVデータ1!AL97),CSVデータ1!AL97,0)+IF(ISNUMBER(CSVデータ2!AL97),CSVデータ2!AL97,0)+IF(ISNUMBER(CSVデータ3!AL97),CSVデータ3!AL97,0)+IF(ISNUMBER(CSVデータ4!AL97),CSVデータ4!AL97,0)","v":0},null,{"$f":"IF(ISNUMBER(CSVデータ1!AN97),CSVデータ1!AN97,0)+IF(ISNUMBER(CSVデータ2!AN97),CSVデータ2!AN97,0)+IF(ISNUMBER(CSVデータ3!AN97),CSVデータ3!AN97,0)+IF(ISNUMBER(CSVデータ4!AN97),CSVデータ4!AN97,0)","v":0}]
[{"$f":"CSVデータ1!A98","v":"明細部"},{"$f":"CSVデータ1!B98","v":"県"},{"$f":"CSVデータ1!C98","v":64},{"$f":"CSVデータ1!D98","v":"男"},{"$f":"IF(ISNUMBER(CSVデータ1!E98),CSVデータ1!E98,0)+IF(ISNUMBER(CSVデータ2!E98),CSVデータ2!E98,0)+IF(ISNUMBER(CSVデータ3!E98),CSVデータ3!E98,0)+IF(ISNUMBER(CSVデータ4!E98),CSVデータ4!E98,0)","v":0},{"$f":"IF(ISNUMBER(CSVデータ1!F98),CSVデータ1!F98,0)+IF(ISNUMBER(CSVデータ2!F98),CSVデータ2!F98,0)+IF(ISNUMBER(CSVデータ3!F98),CSVデータ3!F98,0)+IF(ISNUMBER(CSVデータ4!F98),CSVデータ4!F98,0)","v":0},null,{"$f":"IF(ISNUMBER(CSVデータ1!H98),CSVデータ1!H98,0)+IF(ISNUMBER(CSVデータ2!H98),CSVデータ2!H98,0)+IF(ISNUMBER(CSVデータ3!H98),CSVデータ3!H98,0)+IF(ISNUMBER(CSVデータ4!H98),CSVデータ4!H98,0)","v":0},null,{"$f":"IF(ISNUMBER(CSVデータ1!J98),CSVデータ1!J98,0)+IF(ISNUMBER(CSVデータ2!J98),CSVデータ2!J98,0)+IF(ISNUMBER(CSVデータ3!J98),CSVデータ3!J98,0)+IF(ISNUMBER(CSVデータ4!J98),CSVデータ4!J98,0)","v":0},null,{"$f":"IF(ISNUMBER(CSVデータ1!L98),CSVデータ1!L98,0)+IF(ISNUMBER(CSVデータ2!L98),CSVデータ2!L98,0)+IF(ISNUMBER(CSVデータ3!L98),CSVデータ3!L98,0)+IF(ISNUMBER(CSVデータ4!L98),CSVデータ4!L98,0)","v":0},null,{"$f":"IF(ISNUMBER(CSVデータ1!N98),CSVデータ1!N98,0)+IF(ISNUMBER(CSVデータ2!N98),CSVデータ2!N98,0)+IF(ISNUMBER(CSVデータ3!N98),CSVデータ3!N98,0)+IF(ISNUMBER(CSVデータ4!N98),CSVデータ4!N98,0)","v":0},null,{"$f":"IF(ISNUMBER(CSVデータ1!P98),CSVデータ1!P98,0)+IF(ISNUMBER(CSVデータ2!P98),CSVデータ2!P98,0)+IF(ISNUMBER(CSVデータ3!P98),CSVデータ3!P98,0)+IF(ISNUMBER(CSVデータ4!P98),CSVデータ4!P98,0)","v":0},null,{"$f":"IF(ISNUMBER(CSVデータ1!R98),CSVデータ1!R98,0)+IF(ISNUMBER(CSVデータ2!R98),CSVデータ2!R98,0)+IF(ISNUMBER(CSVデータ3!R98),CSVデータ3!R98,0)+IF(ISNUMBER(CSVデータ4!R98),CSVデータ4!R98,0)","v":0},null,{"$f":"IF(ISNUMBER(CSVデータ1!T98),CSVデータ1!T98,0)+IF(ISNUMBER(CSVデータ2!T98),CSVデータ2!T98,0)+IF(ISNUMBER(CSVデータ3!T98),CSVデータ3!T98,0)+IF(ISNUMBER(CSVデータ4!T98),CSVデータ4!T98,0)","v":0},null,{"$f":"IF(ISNUMBER(CSVデータ1!V98),CSVデータ1!V98,0)+IF(ISNUMBER(CSVデータ2!V98),CSVデータ2!V98,0)+IF(ISNUMBER(CSVデータ3!V98),CSVデータ3!V98,0)+IF(ISNUMBER(CSVデータ4!V98),CSVデータ4!V98,0)","v":0},null,{"$f":"IF(ISNUMBER(CSVデータ1!X98),CSVデータ1!X98,0)+IF(ISNUMBER(CSVデータ2!X98),CSVデータ2!X98,0)+IF(ISNUMBER(CSVデータ3!X98),CSVデータ3!X98,0)+IF(ISNUMBER(CSVデータ4!X98),CSVデータ4!X98,0)","v":0},null,{"$f":"IF(ISNUMBER(CSVデータ1!Z98),CSVデータ1!Z98,0)+IF(ISNUMBER(CSVデータ2!Z98),CSVデータ2!Z98,0)+IF(ISNUMBER(CSVデータ3!Z98),CSVデータ3!Z98,0)+IF(ISNUMBER(CSVデータ4!Z98),CSVデータ4!Z98,0)","v":0},null,{"$f":"IF(ISNUMBER(CSVデータ1!AB98),CSVデータ1!AB98,0)+IF(ISNUMBER(CSVデータ2!AB98),CSVデータ2!AB98,0)+IF(ISNUMBER(CSVデータ3!AB98),CSVデータ3!AB98,0)+IF(ISNUMBER(CSVデータ4!AB98),CSVデータ4!AB98,0)","v":0},null,{"$f":"IF(ISNUMBER(CSVデータ1!AD98),CSVデータ1!AD98,0)+IF(ISNUMBER(CSVデータ2!AD98),CSVデータ2!AD98,0)+IF(ISNUMBER(CSVデータ3!AD98),CSVデータ3!AD98,0)+IF(ISNUMBER(CSVデータ4!AD98),CSVデータ4!AD98,0)","v":0},null,{"$f":"IF(ISNUMBER(CSVデータ1!AF98),CSVデータ1!AF98,0)+IF(ISNUMBER(CSVデータ2!AF98),CSVデータ2!AF98,0)+IF(ISNUMBER(CSVデータ3!AF98),CSVデータ3!AF98,0)+IF(ISNUMBER(CSVデータ4!AF98),CSVデータ4!AF98,0)","v":0},null,{"$f":"IF(ISNUMBER(CSVデータ1!AH98),CSVデータ1!AH98,0)+IF(ISNUMBER(CSVデータ2!AH98),CSVデータ2!AH98,0)+IF(ISNUMBER(CSVデータ3!AH98),CSVデータ3!AH98,0)+IF(ISNUMBER(CSVデータ4!AH98),CSVデータ4!AH98,0)","v":0},null,{"$f":"IF(ISNUMBER(CSVデータ1!AJ98),CSVデータ1!AJ98,0)+IF(ISNUMBER(CSVデータ2!AJ98),CSVデータ2!AJ98,0)+IF(ISNUMBER(CSVデータ3!AJ98),CSVデータ3!AJ98,0)+IF(ISNUMBER(CSVデータ4!AJ98),CSVデータ4!AJ98,0)","v":0},null,{"$f":"IF(ISNUMBER(CSVデータ1!AL98),CSVデータ1!AL98,0)+IF(ISNUMBER(CSVデータ2!AL98),CSVデータ2!AL98,0)+IF(ISNUMBER(CSVデータ3!AL98),CSVデータ3!AL98,0)+IF(ISNUMBER(CSVデータ4!AL98),CSVデータ4!AL98,0)","v":0},null,{"$f":"IF(ISNUMBER(CSVデータ1!AN98),CSVデータ1!AN98,0)+IF(ISNUMBER(CSVデータ2!AN98),CSVデータ2!AN98,0)+IF(ISNUMBER(CSVデータ3!AN98),CSVデータ3!AN98,0)+IF(ISNUMBER(CSVデータ4!AN98),CSVデータ4!AN98,0)","v":0}]
[{"$f":"CSVデータ1!A99","v":"明細部"},{"$f":"CSVデータ1!B99","v":"県"},{"$f":"CSVデータ1!C99","v":65},{"$f":"CSVデータ1!D99","v":"男"},{"$f":"IF(ISNUMBER(CSVデータ1!E99),CSVデータ1!E99,0)+IF(ISNUMBER(CSVデータ2!E99),CSVデータ2!E99,0)+IF(ISNUMBER(CSVデータ3!E99),CSVデータ3!E99,0)+IF(ISNUMBER(CSVデータ4!E99),CSVデータ4!E99,0)","v":0},{"$f":"IF(ISNUMBER(CSVデータ1!F99),CSVデータ1!F99,0)+IF(ISNUMBER(CSVデータ2!F99),CSVデータ2!F99,0)+IF(ISNUMBER(CSVデータ3!F99),CSVデータ3!F99,0)+IF(ISNUMBER(CSVデータ4!F99),CSVデータ4!F99,0)","v":0},null,{"$f":"IF(ISNUMBER(CSVデータ1!H99),CSVデータ1!H99,0)+IF(ISNUMBER(CSVデータ2!H99),CSVデータ2!H99,0)+IF(ISNUMBER(CSVデータ3!H99),CSVデータ3!H99,0)+IF(ISNUMBER(CSVデータ4!H99),CSVデータ4!H99,0)","v":0},null,{"$f":"IF(ISNUMBER(CSVデータ1!J99),CSVデータ1!J99,0)+IF(ISNUMBER(CSVデータ2!J99),CSVデータ2!J99,0)+IF(ISNUMBER(CSVデータ3!J99),CSVデータ3!J99,0)+IF(ISNUMBER(CSVデータ4!J99),CSVデータ4!J99,0)","v":0},null,{"$f":"IF(ISNUMBER(CSVデータ1!L99),CSVデータ1!L99,0)+IF(ISNUMBER(CSVデータ2!L99),CSVデータ2!L99,0)+IF(ISNUMBER(CSVデータ3!L99),CSVデータ3!L99,0)+IF(ISNUMBER(CSVデータ4!L99),CSVデータ4!L99,0)","v":0},null,{"$f":"IF(ISNUMBER(CSVデータ1!N99),CSVデータ1!N99,0)+IF(ISNUMBER(CSVデータ2!N99),CSVデータ2!N99,0)+IF(ISNUMBER(CSVデータ3!N99),CSVデータ3!N99,0)+IF(ISNUMBER(CSVデータ4!N99),CSVデータ4!N99,0)","v":0},null,{"$f":"IF(ISNUMBER(CSVデータ1!P99),CSVデータ1!P99,0)+IF(ISNUMBER(CSVデータ2!P99),CSVデータ2!P99,0)+IF(ISNUMBER(CSVデータ3!P99),CSVデータ3!P99,0)+IF(ISNUMBER(CSVデータ4!P99),CSVデータ4!P99,0)","v":0},null,{"$f":"IF(ISNUMBER(CSVデータ1!R99),CSVデータ1!R99,0)+IF(ISNUMBER(CSVデータ2!R99),CSVデータ2!R99,0)+IF(ISNUMBER(CSVデータ3!R99),CSVデータ3!R99,0)+IF(ISNUMBER(CSVデータ4!R99),CSVデータ4!R99,0)","v":0},null,{"$f":"IF(ISNUMBER(CSVデータ1!T99),CSVデータ1!T99,0)+IF(ISNUMBER(CSVデータ2!T99),CSVデータ2!T99,0)+IF(ISNUMBER(CSVデータ3!T99),CSVデータ3!T99,0)+IF(ISNUMBER(CSVデータ4!T99),CSVデータ4!T99,0)","v":0},null,{"$f":"IF(ISNUMBER(CSVデータ1!V99),CSVデータ1!V99,0)+IF(ISNUMBER(CSVデータ2!V99),CSVデータ2!V99,0)+IF(ISNUMBER(CSVデータ3!V99),CSVデータ3!V99,0)+IF(ISNUMBER(CSVデータ4!V99),CSVデータ4!V99,0)","v":0},null,{"$f":"IF(ISNUMBER(CSVデータ1!X99),CSVデータ1!X99,0)+IF(ISNUMBER(CSVデータ2!X99),CSVデータ2!X99,0)+IF(ISNUMBER(CSVデータ3!X99),CSVデータ3!X99,0)+IF(ISNUMBER(CSVデータ4!X99),CSVデータ4!X99,0)","v":0},null,{"$f":"IF(ISNUMBER(CSVデータ1!Z99),CSVデータ1!Z99,0)+IF(ISNUMBER(CSVデータ2!Z99),CSVデータ2!Z99,0)+IF(ISNUMBER(CSVデータ3!Z99),CSVデータ3!Z99,0)+IF(ISNUMBER(CSVデータ4!Z99),CSVデータ4!Z99,0)","v":0},null,{"$f":"IF(ISNUMBER(CSVデータ1!AB99),CSVデータ1!AB99,0)+IF(ISNUMBER(CSVデータ2!AB99),CSVデータ2!AB99,0)+IF(ISNUMBER(CSVデータ3!AB99),CSVデータ3!AB99,0)+IF(ISNUMBER(CSVデータ4!AB99),CSVデータ4!AB99,0)","v":0},null,{"$f":"IF(ISNUMBER(CSVデータ1!AD99),CSVデータ1!AD99,0)+IF(ISNUMBER(CSVデータ2!AD99),CSVデータ2!AD99,0)+IF(ISNUMBER(CSVデータ3!AD99),CSVデータ3!AD99,0)+IF(ISNUMBER(CSVデータ4!AD99),CSVデータ4!AD99,0)","v":0},null,{"$f":"IF(ISNUMBER(CSVデータ1!AF99),CSVデータ1!AF99,0)+IF(ISNUMBER(CSVデータ2!AF99),CSVデータ2!AF99,0)+IF(ISNUMBER(CSVデータ3!AF99),CSVデータ3!AF99,0)+IF(ISNUMBER(CSVデータ4!AF99),CSVデータ4!AF99,0)","v":0},null,{"$f":"IF(ISNUMBER(CSVデータ1!AH99),CSVデータ1!AH99,0)+IF(ISNUMBER(CSVデータ2!AH99),CSVデータ2!AH99,0)+IF(ISNUMBER(CSVデータ3!AH99),CSVデータ3!AH99,0)+IF(ISNUMBER(CSVデータ4!AH99),CSVデータ4!AH99,0)","v":0},null,{"$f":"IF(ISNUMBER(CSVデータ1!AJ99),CSVデータ1!AJ99,0)+IF(ISNUMBER(CSVデータ2!AJ99),CSVデータ2!AJ99,0)+IF(ISNUMBER(CSVデータ3!AJ99),CSVデータ3!AJ99,0)+IF(ISNUMBER(CSVデータ4!AJ99),CSVデータ4!AJ99,0)","v":0},null,{"$f":"IF(ISNUMBER(CSVデータ1!AL99),CSVデータ1!AL99,0)+IF(ISNUMBER(CSVデータ2!AL99),CSVデータ2!AL99,0)+IF(ISNUMBER(CSVデータ3!AL99),CSVデータ3!AL99,0)+IF(ISNUMBER(CSVデータ4!AL99),CSVデータ4!AL99,0)","v":0},null,{"$f":"IF(ISNUMBER(CSVデータ1!AN99),CSVデータ1!AN99,0)+IF(ISNUMBER(CSVデータ2!AN99),CSVデータ2!AN99,0)+IF(ISNUMBER(CSVデータ3!AN99),CSVデータ3!AN99,0)+IF(ISNUMBER(CSVデータ4!AN99),CSVデータ4!AN99,0)","v":0}]
[{"$f":"CSVデータ1!A100","v":"明細部"},{"$f":"CSVデータ1!B100","v":"県"},{"$f":"CSVデータ1!C100","v":66},{"$f":"CSVデータ1!D100","v":"男"},{"$f":"IF(ISNUMBER(CSVデータ1!E100),CSVデータ1!E100,0)+IF(ISNUMBER(CSVデータ2!E100),CSVデータ2!E100,0)+IF(ISNUMBER(CSVデータ3!E100),CSVデータ3!E100,0)+IF(ISNUMBER(CSVデータ4!E100),CSVデータ4!E100,0)","v":0},{"$f":"IF(ISNUMBER(CSVデータ1!F100),CSVデータ1!F100,0)+IF(ISNUMBER(CSVデータ2!F100),CSVデータ2!F100,0)+IF(ISNUMBER(CSVデータ3!F100),CSVデータ3!F100,0)+IF(ISNUMBER(CSVデータ4!F100),CSVデータ4!F100,0)","v":0},null,{"$f":"IF(ISNUMBER(CSVデータ1!H100),CSVデータ1!H100,0)+IF(ISNUMBER(CSVデータ2!H100),CSVデータ2!H100,0)+IF(ISNUMBER(CSVデータ3!H100),CSVデータ3!H100,0)+IF(ISNUMBER(CSVデータ4!H100),CSVデータ4!H100,0)","v":0},null,{"$f":"IF(ISNUMBER(CSVデータ1!J100),CSVデータ1!J100,0)+IF(ISNUMBER(CSVデータ2!J100),CSVデータ2!J100,0)+IF(ISNUMBER(CSVデータ3!J100),CSVデータ3!J100,0)+IF(ISNUMBER(CSVデータ4!J100),CSVデータ4!J100,0)","v":0},null,{"$f":"IF(ISNUMBER(CSVデータ1!L100),CSVデータ1!L100,0)+IF(ISNUMBER(CSVデータ2!L100),CSVデータ2!L100,0)+IF(ISNUMBER(CSVデータ3!L100),CSVデータ3!L100,0)+IF(ISNUMBER(CSVデータ4!L100),CSVデータ4!L100,0)","v":0},null,{"$f":"IF(ISNUMBER(CSVデータ1!N100),CSVデータ1!N100,0)+IF(ISNUMBER(CSVデータ2!N100),CSVデータ2!N100,0)+IF(ISNUMBER(CSVデータ3!N100),CSVデータ3!N100,0)+IF(ISNUMBER(CSVデータ4!N100),CSVデータ4!N100,0)","v":0},null,{"$f":"IF(ISNUMBER(CSVデータ1!P100),CSVデータ1!P100,0)+IF(ISNUMBER(CSVデータ2!P100),CSVデータ2!P100,0)+IF(ISNUMBER(CSVデータ3!P100),CSVデータ3!P100,0)+IF(ISNUMBER(CSVデータ4!P100),CSVデータ4!P100,0)","v":0},null,{"$f":"IF(ISNUMBER(CSVデータ1!R100),CSVデータ1!R100,0)+IF(ISNUMBER(CSVデータ2!R100),CSVデータ2!R100,0)+IF(ISNUMBER(CSVデータ3!R100),CSVデータ3!R100,0)+IF(ISNUMBER(CSVデータ4!R100),CSVデータ4!R100,0)","v":0},null,{"$f":"IF(ISNUMBER(CSVデータ1!T100),CSVデータ1!T100,0)+IF(ISNUMBER(CSVデータ2!T100),CSVデータ2!T100,0)+IF(ISNUMBER(CSVデータ3!T100),CSVデータ3!T100,0)+IF(ISNUMBER(CSVデータ4!T100),CSVデータ4!T100,0)","v":0},null,{"$f":"IF(ISNUMBER(CSVデータ1!V100),CSVデータ1!V100,0)+IF(ISNUMBER(CSVデータ2!V100),CSVデータ2!V100,0)+IF(ISNUMBER(CSVデータ3!V100),CSVデータ3!V100,0)+IF(ISNUMBER(CSVデータ4!V100),CSVデータ4!V100,0)","v":0},null,{"$f":"IF(ISNUMBER(CSVデータ1!X100),CSVデータ1!X100,0)+IF(ISNUMBER(CSVデータ2!X100),CSVデータ2!X100,0)+IF(ISNUMBER(CSVデータ3!X100),CSVデータ3!X100,0)+IF(ISNUMBER(CSVデータ4!X100),CSVデータ4!X100,0)","v":0},null,{"$f":"IF(ISNUMBER(CSVデータ1!Z100),CSVデータ1!Z100,0)+IF(ISNUMBER(CSVデータ2!Z100),CSVデータ2!Z100,0)+IF(ISNUMBER(CSVデータ3!Z100),CSVデータ3!Z100,0)+IF(ISNUMBER(CSVデータ4!Z100),CSVデータ4!Z100,0)","v":0},null,{"$f":"IF(ISNUMBER(CSVデータ1!AB100),CSVデータ1!AB100,0)+IF(ISNUMBER(CSVデータ2!AB100),CSVデータ2!AB100,0)+IF(ISNUMBER(CSVデータ3!AB100),CSVデータ3!AB100,0)+IF(ISNUMBER(CSVデータ4!AB100),CSVデータ4!AB100,0)","v":0},null,{"$f":"IF(ISNUMBER(CSVデータ1!AD100),CSVデータ1!AD100,0)+IF(ISNUMBER(CSVデータ2!AD100),CSVデータ2!AD100,0)+IF(ISNUMBER(CSVデータ3!AD100),CSVデータ3!AD100,0)+IF(ISNUMBER(CSVデータ4!AD100),CSVデータ4!AD100,0)","v":0},null,{"$f":"IF(ISNUMBER(CSVデータ1!AF100),CSVデータ1!AF100,0)+IF(ISNUMBER(CSVデータ2!AF100),CSVデータ2!AF100,0)+IF(ISNUMBER(CSVデータ3!AF100),CSVデータ3!AF100,0)+IF(ISNUMBER(CSVデータ4!AF100),CSVデータ4!AF100,0)","v":0},null,{"$f":"IF(ISNUMBER(CSVデータ1!AH100),CSVデータ1!AH100,0)+IF(ISNUMBER(CSVデータ2!AH100),CSVデータ2!AH100,0)+IF(ISNUMBER(CSVデータ3!AH100),CSVデータ3!AH100,0)+IF(ISNUMBER(CSVデータ4!AH100),CSVデータ4!AH100,0)","v":0},null,{"$f":"IF(ISNUMBER(CSVデータ1!AJ100),CSVデータ1!AJ100,0)+IF(ISNUMBER(CSVデータ2!AJ100),CSVデータ2!AJ100,0)+IF(ISNUMBER(CSVデータ3!AJ100),CSVデータ3!AJ100,0)+IF(ISNUMBER(CSVデータ4!AJ100),CSVデータ4!AJ100,0)","v":0},null,{"$f":"IF(ISNUMBER(CSVデータ1!AL100),CSVデータ1!AL100,0)+IF(ISNUMBER(CSVデータ2!AL100),CSVデータ2!AL100,0)+IF(ISNUMBER(CSVデータ3!AL100),CSVデータ3!AL100,0)+IF(ISNUMBER(CSVデータ4!AL100),CSVデータ4!AL100,0)","v":0},null,{"$f":"IF(ISNUMBER(CSVデータ1!AN100),CSVデータ1!AN100,0)+IF(ISNUMBER(CSVデータ2!AN100),CSVデータ2!AN100,0)+IF(ISNUMBER(CSVデータ3!AN100),CSVデータ3!AN100,0)+IF(ISNUMBER(CSVデータ4!AN100),CSVデータ4!AN100,0)","v":0}]
[{"$f":"CSVデータ1!A101","v":"明細部"},{"$f":"CSVデータ1!B101","v":"県"},{"$f":"CSVデータ1!C101","v":67},{"$f":"CSVデータ1!D101","v":"男"},{"$f":"IF(ISNUMBER(CSVデータ1!E101),CSVデータ1!E101,0)+IF(ISNUMBER(CSVデータ2!E101),CSVデータ2!E101,0)+IF(ISNUMBER(CSVデータ3!E101),CSVデータ3!E101,0)+IF(ISNUMBER(CSVデータ4!E101),CSVデータ4!E101,0)","v":0},{"$f":"IF(ISNUMBER(CSVデータ1!F101),CSVデータ1!F101,0)+IF(ISNUMBER(CSVデータ2!F101),CSVデータ2!F101,0)+IF(ISNUMBER(CSVデータ3!F101),CSVデータ3!F101,0)+IF(ISNUMBER(CSVデータ4!F101),CSVデータ4!F101,0)","v":0},null,{"$f":"IF(ISNUMBER(CSVデータ1!H101),CSVデータ1!H101,0)+IF(ISNUMBER(CSVデータ2!H101),CSVデータ2!H101,0)+IF(ISNUMBER(CSVデータ3!H101),CSVデータ3!H101,0)+IF(ISNUMBER(CSVデータ4!H101),CSVデータ4!H101,0)","v":0},null,{"$f":"IF(ISNUMBER(CSVデータ1!J101),CSVデータ1!J101,0)+IF(ISNUMBER(CSVデータ2!J101),CSVデータ2!J101,0)+IF(ISNUMBER(CSVデータ3!J101),CSVデータ3!J101,0)+IF(ISNUMBER(CSVデータ4!J101),CSVデータ4!J101,0)","v":0},null,{"$f":"IF(ISNUMBER(CSVデータ1!L101),CSVデータ1!L101,0)+IF(ISNUMBER(CSVデータ2!L101),CSVデータ2!L101,0)+IF(ISNUMBER(CSVデータ3!L101),CSVデータ3!L101,0)+IF(ISNUMBER(CSVデータ4!L101),CSVデータ4!L101,0)","v":0},null,{"$f":"IF(ISNUMBER(CSVデータ1!N101),CSVデータ1!N101,0)+IF(ISNUMBER(CSVデータ2!N101),CSVデータ2!N101,0)+IF(ISNUMBER(CSVデータ3!N101),CSVデータ3!N101,0)+IF(ISNUMBER(CSVデータ4!N101),CSVデータ4!N101,0)","v":0},null,{"$f":"IF(ISNUMBER(CSVデータ1!P101),CSVデータ1!P101,0)+IF(ISNUMBER(CSVデータ2!P101),CSVデータ2!P101,0)+IF(ISNUMBER(CSVデータ3!P101),CSVデータ3!P101,0)+IF(ISNUMBER(CSVデータ4!P101),CSVデータ4!P101,0)","v":0},null,{"$f":"IF(ISNUMBER(CSVデータ1!R101),CSVデータ1!R101,0)+IF(ISNUMBER(CSVデータ2!R101),CSVデータ2!R101,0)+IF(ISNUMBER(CSVデータ3!R101),CSVデータ3!R101,0)+IF(ISNUMBER(CSVデータ4!R101),CSVデータ4!R101,0)","v":0},null,{"$f":"IF(ISNUMBER(CSVデータ1!T101),CSVデータ1!T101,0)+IF(ISNUMBER(CSVデータ2!T101),CSVデータ2!T101,0)+IF(ISNUMBER(CSVデータ3!T101),CSVデータ3!T101,0)+IF(ISNUMBER(CSVデータ4!T101),CSVデータ4!T101,0)","v":0},null,{"$f":"IF(ISNUMBER(CSVデータ1!V101),CSVデータ1!V101,0)+IF(ISNUMBER(CSVデータ2!V101),CSVデータ2!V101,0)+IF(ISNUMBER(CSVデータ3!V101),CSVデータ3!V101,0)+IF(ISNUMBER(CSVデータ4!V101),CSVデータ4!V101,0)","v":0},null,{"$f":"IF(ISNUMBER(CSVデータ1!X101),CSVデータ1!X101,0)+IF(ISNUMBER(CSVデータ2!X101),CSVデータ2!X101,0)+IF(ISNUMBER(CSVデータ3!X101),CSVデータ3!X101,0)+IF(ISNUMBER(CSVデータ4!X101),CSVデータ4!X101,0)","v":0},null,{"$f":"IF(ISNUMBER(CSVデータ1!Z101),CSVデータ1!Z101,0)+IF(ISNUMBER(CSVデータ2!Z101),CSVデータ2!Z101,0)+IF(ISNUMBER(CSVデータ3!Z101),CSVデータ3!Z101,0)+IF(ISNUMBER(CSVデータ4!Z101),CSVデータ4!Z101,0)","v":0},null,{"$f":"IF(ISNUMBER(CSVデータ1!AB101),CSVデータ1!AB101,0)+IF(ISNUMBER(CSVデータ2!AB101),CSVデータ2!AB101,0)+IF(ISNUMBER(CSVデータ3!AB101),CSVデータ3!AB101,0)+IF(ISNUMBER(CSVデータ4!AB101),CSVデータ4!AB101,0)","v":0},null,{"$f":"IF(ISNUMBER(CSVデータ1!AD101),CSVデータ1!AD101,0)+IF(ISNUMBER(CSVデータ2!AD101),CSVデータ2!AD101,0)+IF(ISNUMBER(CSVデータ3!AD101),CSVデータ3!AD101,0)+IF(ISNUMBER(CSVデータ4!AD101),CSVデータ4!AD101,0)","v":0},null,{"$f":"IF(ISNUMBER(CSVデータ1!AF101),CSVデータ1!AF101,0)+IF(ISNUMBER(CSVデータ2!AF101),CSVデータ2!AF101,0)+IF(ISNUMBER(CSVデータ3!AF101),CSVデータ3!AF101,0)+IF(ISNUMBER(CSVデータ4!AF101),CSVデータ4!AF101,0)","v":0},null,{"$f":"IF(ISNUMBER(CSVデータ1!AH101),CSVデータ1!AH101,0)+IF(ISNUMBER(CSVデータ2!AH101),CSVデータ2!AH101,0)+IF(ISNUMBER(CSVデータ3!AH101),CSVデータ3!AH101,0)+IF(ISNUMBER(CSVデータ4!AH101),CSVデータ4!AH101,0)","v":0},null,{"$f":"IF(ISNUMBER(CSVデータ1!AJ101),CSVデータ1!AJ101,0)+IF(ISNUMBER(CSVデータ2!AJ101),CSVデータ2!AJ101,0)+IF(ISNUMBER(CSVデータ3!AJ101),CSVデータ3!AJ101,0)+IF(ISNUMBER(CSVデータ4!AJ101),CSVデータ4!AJ101,0)","v":0},null,{"$f":"IF(ISNUMBER(CSVデータ1!AL101),CSVデータ1!AL101,0)+IF(ISNUMBER(CSVデータ2!AL101),CSVデータ2!AL101,0)+IF(ISNUMBER(CSVデータ3!AL101),CSVデータ3!AL101,0)+IF(ISNUMBER(CSVデータ4!AL101),CSVデータ4!AL101,0)","v":0},null,{"$f":"IF(ISNUMBER(CSVデータ1!AN101),CSVデータ1!AN101,0)+IF(ISNUMBER(CSVデータ2!AN101),CSVデータ2!AN101,0)+IF(ISNUMBER(CSVデータ3!AN101),CSVデータ3!AN101,0)+IF(ISNUMBER(CSVデータ4!AN101),CSVデータ4!AN101,0)","v":0}]
[{"$f":"CSVデータ1!A102","v":"明細部"},{"$f":"CSVデータ1!B102","v":"県"},{"$f":"CSVデータ1!C102","v":68},{"$f":"CSVデータ1!D102","v":"男"},{"$f":"IF(ISNUMBER(CSVデータ1!E102),CSVデータ1!E102,0)+IF(ISNUMBER(CSVデータ2!E102),CSVデータ2!E102,0)+IF(ISNUMBER(CSVデータ3!E102),CSVデータ3!E102,0)+IF(ISNUMBER(CSVデータ4!E102),CSVデータ4!E102,0)","v":0},{"$f":"IF(ISNUMBER(CSVデータ1!F102),CSVデータ1!F102,0)+IF(ISNUMBER(CSVデータ2!F102),CSVデータ2!F102,0)+IF(ISNUMBER(CSVデータ3!F102),CSVデータ3!F102,0)+IF(ISNUMBER(CSVデータ4!F102),CSVデータ4!F102,0)","v":0},null,{"$f":"IF(ISNUMBER(CSVデータ1!H102),CSVデータ1!H102,0)+IF(ISNUMBER(CSVデータ2!H102),CSVデータ2!H102,0)+IF(ISNUMBER(CSVデータ3!H102),CSVデータ3!H102,0)+IF(ISNUMBER(CSVデータ4!H102),CSVデータ4!H102,0)","v":0},null,{"$f":"IF(ISNUMBER(CSVデータ1!J102),CSVデータ1!J102,0)+IF(ISNUMBER(CSVデータ2!J102),CSVデータ2!J102,0)+IF(ISNUMBER(CSVデータ3!J102),CSVデータ3!J102,0)+IF(ISNUMBER(CSVデータ4!J102),CSVデータ4!J102,0)","v":0},null,{"$f":"IF(ISNUMBER(CSVデータ1!L102),CSVデータ1!L102,0)+IF(ISNUMBER(CSVデータ2!L102),CSVデータ2!L102,0)+IF(ISNUMBER(CSVデータ3!L102),CSVデータ3!L102,0)+IF(ISNUMBER(CSVデータ4!L102),CSVデータ4!L102,0)","v":0},null,{"$f":"IF(ISNUMBER(CSVデータ1!N102),CSVデータ1!N102,0)+IF(ISNUMBER(CSVデータ2!N102),CSVデータ2!N102,0)+IF(ISNUMBER(CSVデータ3!N102),CSVデータ3!N102,0)+IF(ISNUMBER(CSVデータ4!N102),CSVデータ4!N102,0)","v":0},null,{"$f":"IF(ISNUMBER(CSVデータ1!P102),CSVデータ1!P102,0)+IF(ISNUMBER(CSVデータ2!P102),CSVデータ2!P102,0)+IF(ISNUMBER(CSVデータ3!P102),CSVデータ3!P102,0)+IF(ISNUMBER(CSVデータ4!P102),CSVデータ4!P102,0)","v":0},null,{"$f":"IF(ISNUMBER(CSVデータ1!R102),CSVデータ1!R102,0)+IF(ISNUMBER(CSVデータ2!R102),CSVデータ2!R102,0)+IF(ISNUMBER(CSVデータ3!R102),CSVデータ3!R102,0)+IF(ISNUMBER(CSVデータ4!R102),CSVデータ4!R102,0)","v":0},null,{"$f":"IF(ISNUMBER(CSVデータ1!T102),CSVデータ1!T102,0)+IF(ISNUMBER(CSVデータ2!T102),CSVデータ2!T102,0)+IF(ISNUMBER(CSVデータ3!T102),CSVデータ3!T102,0)+IF(ISNUMBER(CSVデータ4!T102),CSVデータ4!T102,0)","v":0},null,{"$f":"IF(ISNUMBER(CSVデータ1!V102),CSVデータ1!V102,0)+IF(ISNUMBER(CSVデータ2!V102),CSVデータ2!V102,0)+IF(ISNUMBER(CSVデータ3!V102),CSVデータ3!V102,0)+IF(ISNUMBER(CSVデータ4!V102),CSVデータ4!V102,0)","v":0},null,{"$f":"IF(ISNUMBER(CSVデータ1!X102),CSVデータ1!X102,0)+IF(ISNUMBER(CSVデータ2!X102),CSVデータ2!X102,0)+IF(ISNUMBER(CSVデータ3!X102),CSVデータ3!X102,0)+IF(ISNUMBER(CSVデータ4!X102),CSVデータ4!X102,0)","v":0},null,{"$f":"IF(ISNUMBER(CSVデータ1!Z102),CSVデータ1!Z102,0)+IF(ISNUMBER(CSVデータ2!Z102),CSVデータ2!Z102,0)+IF(ISNUMBER(CSVデータ3!Z102),CSVデータ3!Z102,0)+IF(ISNUMBER(CSVデータ4!Z102),CSVデータ4!Z102,0)","v":0},null,{"$f":"IF(ISNUMBER(CSVデータ1!AB102),CSVデータ1!AB102,0)+IF(ISNUMBER(CSVデータ2!AB102),CSVデータ2!AB102,0)+IF(ISNUMBER(CSVデータ3!AB102),CSVデータ3!AB102,0)+IF(ISNUMBER(CSVデータ4!AB102),CSVデータ4!AB102,0)","v":0},null,{"$f":"IF(ISNUMBER(CSVデータ1!AD102),CSVデータ1!AD102,0)+IF(ISNUMBER(CSVデータ2!AD102),CSVデータ2!AD102,0)+IF(ISNUMBER(CSVデータ3!AD102),CSVデータ3!AD102,0)+IF(ISNUMBER(CSVデータ4!AD102),CSVデータ4!AD102,0)","v":0},null,{"$f":"IF(ISNUMBER(CSVデータ1!AF102),CSVデータ1!AF102,0)+IF(ISNUMBER(CSVデータ2!AF102),CSVデータ2!AF102,0)+IF(ISNUMBER(CSVデータ3!AF102),CSVデータ3!AF102,0)+IF(ISNUMBER(CSVデータ4!AF102),CSVデータ4!AF102,0)","v":0},null,{"$f":"IF(ISNUMBER(CSVデータ1!AH102),CSVデータ1!AH102,0)+IF(ISNUMBER(CSVデータ2!AH102),CSVデータ2!AH102,0)+IF(ISNUMBER(CSVデータ3!AH102),CSVデータ3!AH102,0)+IF(ISNUMBER(CSVデータ4!AH102),CSVデータ4!AH102,0)","v":0},null,{"$f":"IF(ISNUMBER(CSVデータ1!AJ102),CSVデータ1!AJ102,0)+IF(ISNUMBER(CSVデータ2!AJ102),CSVデータ2!AJ102,0)+IF(ISNUMBER(CSVデータ3!AJ102),CSVデータ3!AJ102,0)+IF(ISNUMBER(CSVデータ4!AJ102),CSVデータ4!AJ102,0)","v":0},null,{"$f":"IF(ISNUMBER(CSVデータ1!AL102),CSVデータ1!AL102,0)+IF(ISNUMBER(CSVデータ2!AL102),CSVデータ2!AL102,0)+IF(ISNUMBER(CSVデータ3!AL102),CSVデータ3!AL102,0)+IF(ISNUMBER(CSVデータ4!AL102),CSVデータ4!AL102,0)","v":0},null,{"$f":"IF(ISNUMBER(CSVデータ1!AN102),CSVデータ1!AN102,0)+IF(ISNUMBER(CSVデータ2!AN102),CSVデータ2!AN102,0)+IF(ISNUMBER(CSVデータ3!AN102),CSVデータ3!AN102,0)+IF(ISNUMBER(CSVデータ4!AN102),CSVデータ4!AN102,0)","v":0}]
[{"$f":"CSVデータ1!A103","v":"明細部"},{"$f":"CSVデータ1!B103","v":"県"},{"$f":"CSVデータ1!C103","v":69},{"$f":"CSVデータ1!D103","v":"男"},{"$f":"IF(ISNUMBER(CSVデータ1!E103),CSVデータ1!E103,0)+IF(ISNUMBER(CSVデータ2!E103),CSVデータ2!E103,0)+IF(ISNUMBER(CSVデータ3!E103),CSVデータ3!E103,0)+IF(ISNUMBER(CSVデータ4!E103),CSVデータ4!E103,0)","v":0},{"$f":"IF(ISNUMBER(CSVデータ1!F103),CSVデータ1!F103,0)+IF(ISNUMBER(CSVデータ2!F103),CSVデータ2!F103,0)+IF(ISNUMBER(CSVデータ3!F103),CSVデータ3!F103,0)+IF(ISNUMBER(CSVデータ4!F103),CSVデータ4!F103,0)","v":0},null,{"$f":"IF(ISNUMBER(CSVデータ1!H103),CSVデータ1!H103,0)+IF(ISNUMBER(CSVデータ2!H103),CSVデータ2!H103,0)+IF(ISNUMBER(CSVデータ3!H103),CSVデータ3!H103,0)+IF(ISNUMBER(CSVデータ4!H103),CSVデータ4!H103,0)","v":0},null,{"$f":"IF(ISNUMBER(CSVデータ1!J103),CSVデータ1!J103,0)+IF(ISNUMBER(CSVデータ2!J103),CSVデータ2!J103,0)+IF(ISNUMBER(CSVデータ3!J103),CSVデータ3!J103,0)+IF(ISNUMBER(CSVデータ4!J103),CSVデータ4!J103,0)","v":0},null,{"$f":"IF(ISNUMBER(CSVデータ1!L103),CSVデータ1!L103,0)+IF(ISNUMBER(CSVデータ2!L103),CSVデータ2!L103,0)+IF(ISNUMBER(CSVデータ3!L103),CSVデータ3!L103,0)+IF(ISNUMBER(CSVデータ4!L103),CSVデータ4!L103,0)","v":0},null,{"$f":"IF(ISNUMBER(CSVデータ1!N103),CSVデータ1!N103,0)+IF(ISNUMBER(CSVデータ2!N103),CSVデータ2!N103,0)+IF(ISNUMBER(CSVデータ3!N103),CSVデータ3!N103,0)+IF(ISNUMBER(CSVデータ4!N103),CSVデータ4!N103,0)","v":0},null,{"$f":"IF(ISNUMBER(CSVデータ1!P103),CSVデータ1!P103,0)+IF(ISNUMBER(CSVデータ2!P103),CSVデータ2!P103,0)+IF(ISNUMBER(CSVデータ3!P103),CSVデータ3!P103,0)+IF(ISNUMBER(CSVデータ4!P103),CSVデータ4!P103,0)","v":0},null,{"$f":"IF(ISNUMBER(CSVデータ1!R103),CSVデータ1!R103,0)+IF(ISNUMBER(CSVデータ2!R103),CSVデータ2!R103,0)+IF(ISNUMBER(CSVデータ3!R103),CSVデータ3!R103,0)+IF(ISNUMBER(CSVデータ4!R103),CSVデータ4!R103,0)","v":0},null,{"$f":"IF(ISNUMBER(CSVデータ1!T103),CSVデータ1!T103,0)+IF(ISNUMBER(CSVデータ2!T103),CSVデータ2!T103,0)+IF(ISNUMBER(CSVデータ3!T103),CSVデータ3!T103,0)+IF(ISNUMBER(CSVデータ4!T103),CSVデータ4!T103,0)","v":0},null,{"$f":"IF(ISNUMBER(CSVデータ1!V103),CSVデータ1!V103,0)+IF(ISNUMBER(CSVデータ2!V103),CSVデータ2!V103,0)+IF(ISNUMBER(CSVデータ3!V103),CSVデータ3!V103,0)+IF(ISNUMBER(CSVデータ4!V103),CSVデータ4!V103,0)","v":0},null,{"$f":"IF(ISNUMBER(CSVデータ1!X103),CSVデータ1!X103,0)+IF(ISNUMBER(CSVデータ2!X103),CSVデータ2!X103,0)+IF(ISNUMBER(CSVデータ3!X103),CSVデータ3!X103,0)+IF(ISNUMBER(CSVデータ4!X103),CSVデータ4!X103,0)","v":0},null,{"$f":"IF(ISNUMBER(CSVデータ1!Z103),CSVデータ1!Z103,0)+IF(ISNUMBER(CSVデータ2!Z103),CSVデータ2!Z103,0)+IF(ISNUMBER(CSVデータ3!Z103),CSVデータ3!Z103,0)+IF(ISNUMBER(CSVデータ4!Z103),CSVデータ4!Z103,0)","v":0},null,{"$f":"IF(ISNUMBER(CSVデータ1!AB103),CSVデータ1!AB103,0)+IF(ISNUMBER(CSVデータ2!AB103),CSVデータ2!AB103,0)+IF(ISNUMBER(CSVデータ3!AB103),CSVデータ3!AB103,0)+IF(ISNUMBER(CSVデータ4!AB103),CSVデータ4!AB103,0)","v":0},null,{"$f":"IF(ISNUMBER(CSVデータ1!AD103),CSVデータ1!AD103,0)+IF(ISNUMBER(CSVデータ2!AD103),CSVデータ2!AD103,0)+IF(ISNUMBER(CSVデータ3!AD103),CSVデータ3!AD103,0)+IF(ISNUMBER(CSVデータ4!AD103),CSVデータ4!AD103,0)","v":0},null,{"$f":"IF(ISNUMBER(CSVデータ1!AF103),CSVデータ1!AF103,0)+IF(ISNUMBER(CSVデータ2!AF103),CSVデータ2!AF103,0)+IF(ISNUMBER(CSVデータ3!AF103),CSVデータ3!AF103,0)+IF(ISNUMBER(CSVデータ4!AF103),CSVデータ4!AF103,0)","v":0},null,{"$f":"IF(ISNUMBER(CSVデータ1!AH103),CSVデータ1!AH103,0)+IF(ISNUMBER(CSVデータ2!AH103),CSVデータ2!AH103,0)+IF(ISNUMBER(CSVデータ3!AH103),CSVデータ3!AH103,0)+IF(ISNUMBER(CSVデータ4!AH103),CSVデータ4!AH103,0)","v":0},null,{"$f":"IF(ISNUMBER(CSVデータ1!AJ103),CSVデータ1!AJ103,0)+IF(ISNUMBER(CSVデータ2!AJ103),CSVデータ2!AJ103,0)+IF(ISNUMBER(CSVデータ3!AJ103),CSVデータ3!AJ103,0)+IF(ISNUMBER(CSVデータ4!AJ103),CSVデータ4!AJ103,0)","v":0},null,{"$f":"IF(ISNUMBER(CSVデータ1!AL103),CSVデータ1!AL103,0)+IF(ISNUMBER(CSVデータ2!AL103),CSVデータ2!AL103,0)+IF(ISNUMBER(CSVデータ3!AL103),CSVデータ3!AL103,0)+IF(ISNUMBER(CSVデータ4!AL103),CSVデータ4!AL103,0)","v":0},null,{"$f":"IF(ISNUMBER(CSVデータ1!AN103),CSVデータ1!AN103,0)+IF(ISNUMBER(CSVデータ2!AN103),CSVデータ2!AN103,0)+IF(ISNUMBER(CSVデータ3!AN103),CSVデータ3!AN103,0)+IF(ISNUMBER(CSVデータ4!AN103),CSVデータ4!AN103,0)","v":0}]
[{"$f":"CSVデータ1!A104","v":"明細部"},{"$f":"CSVデータ1!B104","v":"県"},{"$f":"CSVデータ1!C104","v":70},{"$f":"CSVデータ1!D104","v":"男"},{"$f":"IF(ISNUMBER(CSVデータ1!E104),CSVデータ1!E104,0)+IF(ISNUMBER(CSVデータ2!E104),CSVデータ2!E104,0)+IF(ISNUMBER(CSVデータ3!E104),CSVデータ3!E104,0)+IF(ISNUMBER(CSVデータ4!E104),CSVデータ4!E104,0)","v":0},{"$f":"IF(ISNUMBER(CSVデータ1!F104),CSVデータ1!F104,0)+IF(ISNUMBER(CSVデータ2!F104),CSVデータ2!F104,0)+IF(ISNUMBER(CSVデータ3!F104),CSVデータ3!F104,0)+IF(ISNUMBER(CSVデータ4!F104),CSVデータ4!F104,0)","v":0},null,{"$f":"IF(ISNUMBER(CSVデータ1!H104),CSVデータ1!H104,0)+IF(ISNUMBER(CSVデータ2!H104),CSVデータ2!H104,0)+IF(ISNUMBER(CSVデータ3!H104),CSVデータ3!H104,0)+IF(ISNUMBER(CSVデータ4!H104),CSVデータ4!H104,0)","v":0},null,{"$f":"IF(ISNUMBER(CSVデータ1!J104),CSVデータ1!J104,0)+IF(ISNUMBER(CSVデータ2!J104),CSVデータ2!J104,0)+IF(ISNUMBER(CSVデータ3!J104),CSVデータ3!J104,0)+IF(ISNUMBER(CSVデータ4!J104),CSVデータ4!J104,0)","v":0},null,{"$f":"IF(ISNUMBER(CSVデータ1!L104),CSVデータ1!L104,0)+IF(ISNUMBER(CSVデータ2!L104),CSVデータ2!L104,0)+IF(ISNUMBER(CSVデータ3!L104),CSVデータ3!L104,0)+IF(ISNUMBER(CSVデータ4!L104),CSVデータ4!L104,0)","v":0},null,{"$f":"IF(ISNUMBER(CSVデータ1!N104),CSVデータ1!N104,0)+IF(ISNUMBER(CSVデータ2!N104),CSVデータ2!N104,0)+IF(ISNUMBER(CSVデータ3!N104),CSVデータ3!N104,0)+IF(ISNUMBER(CSVデータ4!N104),CSVデータ4!N104,0)","v":0},null,{"$f":"IF(ISNUMBER(CSVデータ1!P104),CSVデータ1!P104,0)+IF(ISNUMBER(CSVデータ2!P104),CSVデータ2!P104,0)+IF(ISNUMBER(CSVデータ3!P104),CSVデータ3!P104,0)+IF(ISNUMBER(CSVデータ4!P104),CSVデータ4!P104,0)","v":0},null,{"$f":"IF(ISNUMBER(CSVデータ1!R104),CSVデータ1!R104,0)+IF(ISNUMBER(CSVデータ2!R104),CSVデータ2!R104,0)+IF(ISNUMBER(CSVデータ3!R104),CSVデータ3!R104,0)+IF(ISNUMBER(CSVデータ4!R104),CSVデータ4!R104,0)","v":0},null,{"$f":"IF(ISNUMBER(CSVデータ1!T104),CSVデータ1!T104,0)+IF(ISNUMBER(CSVデータ2!T104),CSVデータ2!T104,0)+IF(ISNUMBER(CSVデータ3!T104),CSVデータ3!T104,0)+IF(ISNUMBER(CSVデータ4!T104),CSVデータ4!T104,0)","v":0},null,{"$f":"IF(ISNUMBER(CSVデータ1!V104),CSVデータ1!V104,0)+IF(ISNUMBER(CSVデータ2!V104),CSVデータ2!V104,0)+IF(ISNUMBER(CSVデータ3!V104),CSVデータ3!V104,0)+IF(ISNUMBER(CSVデータ4!V104),CSVデータ4!V104,0)","v":0},null,{"$f":"IF(ISNUMBER(CSVデータ1!X104),CSVデータ1!X104,0)+IF(ISNUMBER(CSVデータ2!X104),CSVデータ2!X104,0)+IF(ISNUMBER(CSVデータ3!X104),CSVデータ3!X104,0)+IF(ISNUMBER(CSVデータ4!X104),CSVデータ4!X104,0)","v":0},null,{"$f":"IF(ISNUMBER(CSVデータ1!Z104),CSVデータ1!Z104,0)+IF(ISNUMBER(CSVデータ2!Z104),CSVデータ2!Z104,0)+IF(ISNUMBER(CSVデータ3!Z104),CSVデータ3!Z104,0)+IF(ISNUMBER(CSVデータ4!Z104),CSVデータ4!Z104,0)","v":0},null,{"$f":"IF(ISNUMBER(CSVデータ1!AB104),CSVデータ1!AB104,0)+IF(ISNUMBER(CSVデータ2!AB104),CSVデータ2!AB104,0)+IF(ISNUMBER(CSVデータ3!AB104),CSVデータ3!AB104,0)+IF(ISNUMBER(CSVデータ4!AB104),CSVデータ4!AB104,0)","v":0},null,{"$f":"IF(ISNUMBER(CSVデータ1!AD104),CSVデータ1!AD104,0)+IF(ISNUMBER(CSVデータ2!AD104),CSVデータ2!AD104,0)+IF(ISNUMBER(CSVデータ3!AD104),CSVデータ3!AD104,0)+IF(ISNUMBER(CSVデータ4!AD104),CSVデータ4!AD104,0)","v":0},null,{"$f":"IF(ISNUMBER(CSVデータ1!AF104),CSVデータ1!AF104,0)+IF(ISNUMBER(CSVデータ2!AF104),CSVデータ2!AF104,0)+IF(ISNUMBER(CSVデータ3!AF104),CSVデータ3!AF104,0)+IF(ISNUMBER(CSVデータ4!AF104),CSVデータ4!AF104,0)","v":0},null,{"$f":"IF(ISNUMBER(CSVデータ1!AH104),CSVデータ1!AH104,0)+IF(ISNUMBER(CSVデータ2!AH104),CSVデータ2!AH104,0)+IF(ISNUMBER(CSVデータ3!AH104),CSVデータ3!AH104,0)+IF(ISNUMBER(CSVデータ4!AH104),CSVデータ4!AH104,0)","v":0},null,{"$f":"IF(ISNUMBER(CSVデータ1!AJ104),CSVデータ1!AJ104,0)+IF(ISNUMBER(CSVデータ2!AJ104),CSVデータ2!AJ104,0)+IF(ISNUMBER(CSVデータ3!AJ104),CSVデータ3!AJ104,0)+IF(ISNUMBER(CSVデータ4!AJ104),CSVデータ4!AJ104,0)","v":0},null,{"$f":"IF(ISNUMBER(CSVデータ1!AL104),CSVデータ1!AL104,0)+IF(ISNUMBER(CSVデータ2!AL104),CSVデータ2!AL104,0)+IF(ISNUMBER(CSVデータ3!AL104),CSVデータ3!AL104,0)+IF(ISNUMBER(CSVデータ4!AL104),CSVデータ4!AL104,0)","v":0},null,{"$f":"IF(ISNUMBER(CSVデータ1!AN104),CSVデータ1!AN104,0)+IF(ISNUMBER(CSVデータ2!AN104),CSVデータ2!AN104,0)+IF(ISNUMBER(CSVデータ3!AN104),CSVデータ3!AN104,0)+IF(ISNUMBER(CSVデータ4!AN104),CSVデータ4!AN104,0)","v":0}]
[{"$f":"CSVデータ1!A105","v":"明細部"},{"$f":"CSVデータ1!B105","v":"県"},{"$f":"CSVデータ1!C105","v":71},{"$f":"CSVデータ1!D105","v":"男"},{"$f":"IF(ISNUMBER(CSVデータ1!E105),CSVデータ1!E105,0)+IF(ISNUMBER(CSVデータ2!E105),CSVデータ2!E105,0)+IF(ISNUMBER(CSVデータ3!E105),CSVデータ3!E105,0)+IF(ISNUMBER(CSVデータ4!E105),CSVデータ4!E105,0)","v":0},{"$f":"IF(ISNUMBER(CSVデータ1!F105),CSVデータ1!F105,0)+IF(ISNUMBER(CSVデータ2!F105),CSVデータ2!F105,0)+IF(ISNUMBER(CSVデータ3!F105),CSVデータ3!F105,0)+IF(ISNUMBER(CSVデータ4!F105),CSVデータ4!F105,0)","v":0},null,{"$f":"IF(ISNUMBER(CSVデータ1!H105),CSVデータ1!H105,0)+IF(ISNUMBER(CSVデータ2!H105),CSVデータ2!H105,0)+IF(ISNUMBER(CSVデータ3!H105),CSVデータ3!H105,0)+IF(ISNUMBER(CSVデータ4!H105),CSVデータ4!H105,0)","v":0},null,{"$f":"IF(ISNUMBER(CSVデータ1!J105),CSVデータ1!J105,0)+IF(ISNUMBER(CSVデータ2!J105),CSVデータ2!J105,0)+IF(ISNUMBER(CSVデータ3!J105),CSVデータ3!J105,0)+IF(ISNUMBER(CSVデータ4!J105),CSVデータ4!J105,0)","v":0},null,{"$f":"IF(ISNUMBER(CSVデータ1!L105),CSVデータ1!L105,0)+IF(ISNUMBER(CSVデータ2!L105),CSVデータ2!L105,0)+IF(ISNUMBER(CSVデータ3!L105),CSVデータ3!L105,0)+IF(ISNUMBER(CSVデータ4!L105),CSVデータ4!L105,0)","v":0},null,{"$f":"IF(ISNUMBER(CSVデータ1!N105),CSVデータ1!N105,0)+IF(ISNUMBER(CSVデータ2!N105),CSVデータ2!N105,0)+IF(ISNUMBER(CSVデータ3!N105),CSVデータ3!N105,0)+IF(ISNUMBER(CSVデータ4!N105),CSVデータ4!N105,0)","v":0},null,{"$f":"IF(ISNUMBER(CSVデータ1!P105),CSVデータ1!P105,0)+IF(ISNUMBER(CSVデータ2!P105),CSVデータ2!P105,0)+IF(ISNUMBER(CSVデータ3!P105),CSVデータ3!P105,0)+IF(ISNUMBER(CSVデータ4!P105),CSVデータ4!P105,0)","v":0},null,{"$f":"IF(ISNUMBER(CSVデータ1!R105),CSVデータ1!R105,0)+IF(ISNUMBER(CSVデータ2!R105),CSVデータ2!R105,0)+IF(ISNUMBER(CSVデータ3!R105),CSVデータ3!R105,0)+IF(ISNUMBER(CSVデータ4!R105),CSVデータ4!R105,0)","v":0},null,{"$f":"IF(ISNUMBER(CSVデータ1!T105),CSVデータ1!T105,0)+IF(ISNUMBER(CSVデータ2!T105),CSVデータ2!T105,0)+IF(ISNUMBER(CSVデータ3!T105),CSVデータ3!T105,0)+IF(ISNUMBER(CSVデータ4!T105),CSVデータ4!T105,0)","v":0},null,{"$f":"IF(ISNUMBER(CSVデータ1!V105),CSVデータ1!V105,0)+IF(ISNUMBER(CSVデータ2!V105),CSVデータ2!V105,0)+IF(ISNUMBER(CSVデータ3!V105),CSVデータ3!V105,0)+IF(ISNUMBER(CSVデータ4!V105),CSVデータ4!V105,0)","v":0},null,{"$f":"IF(ISNUMBER(CSVデータ1!X105),CSVデータ1!X105,0)+IF(ISNUMBER(CSVデータ2!X105),CSVデータ2!X105,0)+IF(ISNUMBER(CSVデータ3!X105),CSVデータ3!X105,0)+IF(ISNUMBER(CSVデータ4!X105),CSVデータ4!X105,0)","v":0},null,{"$f":"IF(ISNUMBER(CSVデータ1!Z105),CSVデータ1!Z105,0)+IF(ISNUMBER(CSVデータ2!Z105),CSVデータ2!Z105,0)+IF(ISNUMBER(CSVデータ3!Z105),CSVデータ3!Z105,0)+IF(ISNUMBER(CSVデータ4!Z105),CSVデータ4!Z105,0)","v":0},null,{"$f":"IF(ISNUMBER(CSVデータ1!AB105),CSVデータ1!AB105,0)+IF(ISNUMBER(CSVデータ2!AB105),CSVデータ2!AB105,0)+IF(ISNUMBER(CSVデータ3!AB105),CSVデータ3!AB105,0)+IF(ISNUMBER(CSVデータ4!AB105),CSVデータ4!AB105,0)","v":0},null,{"$f":"IF(ISNUMBER(CSVデータ1!AD105),CSVデータ1!AD105,0)+IF(ISNUMBER(CSVデータ2!AD105),CSVデータ2!AD105,0)+IF(ISNUMBER(CSVデータ3!AD105),CSVデータ3!AD105,0)+IF(ISNUMBER(CSVデータ4!AD105),CSVデータ4!AD105,0)","v":0},null,{"$f":"IF(ISNUMBER(CSVデータ1!AF105),CSVデータ1!AF105,0)+IF(ISNUMBER(CSVデータ2!AF105),CSVデータ2!AF105,0)+IF(ISNUMBER(CSVデータ3!AF105),CSVデータ3!AF105,0)+IF(ISNUMBER(CSVデータ4!AF105),CSVデータ4!AF105,0)","v":0},null,{"$f":"IF(ISNUMBER(CSVデータ1!AH105),CSVデータ1!AH105,0)+IF(ISNUMBER(CSVデータ2!AH105),CSVデータ2!AH105,0)+IF(ISNUMBER(CSVデータ3!AH105),CSVデータ3!AH105,0)+IF(ISNUMBER(CSVデータ4!AH105),CSVデータ4!AH105,0)","v":0},null,{"$f":"IF(ISNUMBER(CSVデータ1!AJ105),CSVデータ1!AJ105,0)+IF(ISNUMBER(CSVデータ2!AJ105),CSVデータ2!AJ105,0)+IF(ISNUMBER(CSVデータ3!AJ105),CSVデータ3!AJ105,0)+IF(ISNUMBER(CSVデータ4!AJ105),CSVデータ4!AJ105,0)","v":0},null,{"$f":"IF(ISNUMBER(CSVデータ1!AL105),CSVデータ1!AL105,0)+IF(ISNUMBER(CSVデータ2!AL105),CSVデータ2!AL105,0)+IF(ISNUMBER(CSVデータ3!AL105),CSVデータ3!AL105,0)+IF(ISNUMBER(CSVデータ4!AL105),CSVデータ4!AL105,0)","v":0},null,{"$f":"IF(ISNUMBER(CSVデータ1!AN105),CSVデータ1!AN105,0)+IF(ISNUMBER(CSVデータ2!AN105),CSVデータ2!AN105,0)+IF(ISNUMBER(CSVデータ3!AN105),CSVデータ3!AN105,0)+IF(ISNUMBER(CSVデータ4!AN105),CSVデータ4!AN105,0)","v":0}]
[{"$f":"CSVデータ1!A106","v":"明細部"},{"$f":"CSVデータ1!B106","v":"県"},{"$f":"CSVデータ1!C106","v":72},{"$f":"CSVデータ1!D106","v":"男"},{"$f":"IF(ISNUMBER(CSVデータ1!E106),CSVデータ1!E106,0)+IF(ISNUMBER(CSVデータ2!E106),CSVデータ2!E106,0)+IF(ISNUMBER(CSVデータ3!E106),CSVデータ3!E106,0)+IF(ISNUMBER(CSVデータ4!E106),CSVデータ4!E106,0)","v":0},{"$f":"IF(ISNUMBER(CSVデータ1!F106),CSVデータ1!F106,0)+IF(ISNUMBER(CSVデータ2!F106),CSVデータ2!F106,0)+IF(ISNUMBER(CSVデータ3!F106),CSVデータ3!F106,0)+IF(ISNUMBER(CSVデータ4!F106),CSVデータ4!F106,0)","v":0},null,{"$f":"IF(ISNUMBER(CSVデータ1!H106),CSVデータ1!H106,0)+IF(ISNUMBER(CSVデータ2!H106),CSVデータ2!H106,0)+IF(ISNUMBER(CSVデータ3!H106),CSVデータ3!H106,0)+IF(ISNUMBER(CSVデータ4!H106),CSVデータ4!H106,0)","v":0},null,{"$f":"IF(ISNUMBER(CSVデータ1!J106),CSVデータ1!J106,0)+IF(ISNUMBER(CSVデータ2!J106),CSVデータ2!J106,0)+IF(ISNUMBER(CSVデータ3!J106),CSVデータ3!J106,0)+IF(ISNUMBER(CSVデータ4!J106),CSVデータ4!J106,0)","v":0},null,{"$f":"IF(ISNUMBER(CSVデータ1!L106),CSVデータ1!L106,0)+IF(ISNUMBER(CSVデータ2!L106),CSVデータ2!L106,0)+IF(ISNUMBER(CSVデータ3!L106),CSVデータ3!L106,0)+IF(ISNUMBER(CSVデータ4!L106),CSVデータ4!L106,0)","v":0},null,{"$f":"IF(ISNUMBER(CSVデータ1!N106),CSVデータ1!N106,0)+IF(ISNUMBER(CSVデータ2!N106),CSVデータ2!N106,0)+IF(ISNUMBER(CSVデータ3!N106),CSVデータ3!N106,0)+IF(ISNUMBER(CSVデータ4!N106),CSVデータ4!N106,0)","v":0},null,{"$f":"IF(ISNUMBER(CSVデータ1!P106),CSVデータ1!P106,0)+IF(ISNUMBER(CSVデータ2!P106),CSVデータ2!P106,0)+IF(ISNUMBER(CSVデータ3!P106),CSVデータ3!P106,0)+IF(ISNUMBER(CSVデータ4!P106),CSVデータ4!P106,0)","v":0},null,{"$f":"IF(ISNUMBER(CSVデータ1!R106),CSVデータ1!R106,0)+IF(ISNUMBER(CSVデータ2!R106),CSVデータ2!R106,0)+IF(ISNUMBER(CSVデータ3!R106),CSVデータ3!R106,0)+IF(ISNUMBER(CSVデータ4!R106),CSVデータ4!R106,0)","v":0},null,{"$f":"IF(ISNUMBER(CSVデータ1!T106),CSVデータ1!T106,0)+IF(ISNUMBER(CSVデータ2!T106),CSVデータ2!T106,0)+IF(ISNUMBER(CSVデータ3!T106),CSVデータ3!T106,0)+IF(ISNUMBER(CSVデータ4!T106),CSVデータ4!T106,0)","v":0},null,{"$f":"IF(ISNUMBER(CSVデータ1!V106),CSVデータ1!V106,0)+IF(ISNUMBER(CSVデータ2!V106),CSVデータ2!V106,0)+IF(ISNUMBER(CSVデータ3!V106),CSVデータ3!V106,0)+IF(ISNUMBER(CSVデータ4!V106),CSVデータ4!V106,0)","v":0},null,{"$f":"IF(ISNUMBER(CSVデータ1!X106),CSVデータ1!X106,0)+IF(ISNUMBER(CSVデータ2!X106),CSVデータ2!X106,0)+IF(ISNUMBER(CSVデータ3!X106),CSVデータ3!X106,0)+IF(ISNUMBER(CSVデータ4!X106),CSVデータ4!X106,0)","v":0},null,{"$f":"IF(ISNUMBER(CSVデータ1!Z106),CSVデータ1!Z106,0)+IF(ISNUMBER(CSVデータ2!Z106),CSVデータ2!Z106,0)+IF(ISNUMBER(CSVデータ3!Z106),CSVデータ3!Z106,0)+IF(ISNUMBER(CSVデータ4!Z106),CSVデータ4!Z106,0)","v":0},null,{"$f":"IF(ISNUMBER(CSVデータ1!AB106),CSVデータ1!AB106,0)+IF(ISNUMBER(CSVデータ2!AB106),CSVデータ2!AB106,0)+IF(ISNUMBER(CSVデータ3!AB106),CSVデータ3!AB106,0)+IF(ISNUMBER(CSVデータ4!AB106),CSVデータ4!AB106,0)","v":0},null,{"$f":"IF(ISNUMBER(CSVデータ1!AD106),CSVデータ1!AD106,0)+IF(ISNUMBER(CSVデータ2!AD106),CSVデータ2!AD106,0)+IF(ISNUMBER(CSVデータ3!AD106),CSVデータ3!AD106,0)+IF(ISNUMBER(CSVデータ4!AD106),CSVデータ4!AD106,0)","v":0},null,{"$f":"IF(ISNUMBER(CSVデータ1!AF106),CSVデータ1!AF106,0)+IF(ISNUMBER(CSVデータ2!AF106),CSVデータ2!AF106,0)+IF(ISNUMBER(CSVデータ3!AF106),CSVデータ3!AF106,0)+IF(ISNUMBER(CSVデータ4!AF106),CSVデータ4!AF106,0)","v":0},null,{"$f":"IF(ISNUMBER(CSVデータ1!AH106),CSVデータ1!AH106,0)+IF(ISNUMBER(CSVデータ2!AH106),CSVデータ2!AH106,0)+IF(ISNUMBER(CSVデータ3!AH106),CSVデータ3!AH106,0)+IF(ISNUMBER(CSVデータ4!AH106),CSVデータ4!AH106,0)","v":0},null,{"$f":"IF(ISNUMBER(CSVデータ1!AJ106),CSVデータ1!AJ106,0)+IF(ISNUMBER(CSVデータ2!AJ106),CSVデータ2!AJ106,0)+IF(ISNUMBER(CSVデータ3!AJ106),CSVデータ3!AJ106,0)+IF(ISNUMBER(CSVデータ4!AJ106),CSVデータ4!AJ106,0)","v":0},null,{"$f":"IF(ISNUMBER(CSVデータ1!AL106),CSVデータ1!AL106,0)+IF(ISNUMBER(CSVデータ2!AL106),CSVデータ2!AL106,0)+IF(ISNUMBER(CSVデータ3!AL106),CSVデータ3!AL106,0)+IF(ISNUMBER(CSVデータ4!AL106),CSVデータ4!AL106,0)","v":0},null,{"$f":"IF(ISNUMBER(CSVデータ1!AN106),CSVデータ1!AN106,0)+IF(ISNUMBER(CSVデータ2!AN106),CSVデータ2!AN106,0)+IF(ISNUMBER(CSVデータ3!AN106),CSVデータ3!AN106,0)+IF(ISNUMBER(CSVデータ4!AN106),CSVデータ4!AN106,0)","v":0}]
[{"$f":"CSVデータ1!A107","v":"明細部"},{"$f":"CSVデータ1!B107","v":"県"},{"$f":"CSVデータ1!C107","v":73},{"$f":"CSVデータ1!D107","v":"男"},{"$f":"IF(ISNUMBER(CSVデータ1!E107),CSVデータ1!E107,0)+IF(ISNUMBER(CSVデータ2!E107),CSVデータ2!E107,0)+IF(ISNUMBER(CSVデータ3!E107),CSVデータ3!E107,0)+IF(ISNUMBER(CSVデータ4!E107),CSVデータ4!E107,0)","v":0},{"$f":"IF(ISNUMBER(CSVデータ1!F107),CSVデータ1!F107,0)+IF(ISNUMBER(CSVデータ2!F107),CSVデータ2!F107,0)+IF(ISNUMBER(CSVデータ3!F107),CSVデータ3!F107,0)+IF(ISNUMBER(CSVデータ4!F107),CSVデータ4!F107,0)","v":0},null,{"$f":"IF(ISNUMBER(CSVデータ1!H107),CSVデータ1!H107,0)+IF(ISNUMBER(CSVデータ2!H107),CSVデータ2!H107,0)+IF(ISNUMBER(CSVデータ3!H107),CSVデータ3!H107,0)+IF(ISNUMBER(CSVデータ4!H107),CSVデータ4!H107,0)","v":0},null,{"$f":"IF(ISNUMBER(CSVデータ1!J107),CSVデータ1!J107,0)+IF(ISNUMBER(CSVデータ2!J107),CSVデータ2!J107,0)+IF(ISNUMBER(CSVデータ3!J107),CSVデータ3!J107,0)+IF(ISNUMBER(CSVデータ4!J107),CSVデータ4!J107,0)","v":0},null,{"$f":"IF(ISNUMBER(CSVデータ1!L107),CSVデータ1!L107,0)+IF(ISNUMBER(CSVデータ2!L107),CSVデータ2!L107,0)+IF(ISNUMBER(CSVデータ3!L107),CSVデータ3!L107,0)+IF(ISNUMBER(CSVデータ4!L107),CSVデータ4!L107,0)","v":0},null,{"$f":"IF(ISNUMBER(CSVデータ1!N107),CSVデータ1!N107,0)+IF(ISNUMBER(CSVデータ2!N107),CSVデータ2!N107,0)+IF(ISNUMBER(CSVデータ3!N107),CSVデータ3!N107,0)+IF(ISNUMBER(CSVデータ4!N107),CSVデータ4!N107,0)","v":0},null,{"$f":"IF(ISNUMBER(CSVデータ1!P107),CSVデータ1!P107,0)+IF(ISNUMBER(CSVデータ2!P107),CSVデータ2!P107,0)+IF(ISNUMBER(CSVデータ3!P107),CSVデータ3!P107,0)+IF(ISNUMBER(CSVデータ4!P107),CSVデータ4!P107,0)","v":0},null,{"$f":"IF(ISNUMBER(CSVデータ1!R107),CSVデータ1!R107,0)+IF(ISNUMBER(CSVデータ2!R107),CSVデータ2!R107,0)+IF(ISNUMBER(CSVデータ3!R107),CSVデータ3!R107,0)+IF(ISNUMBER(CSVデータ4!R107),CSVデータ4!R107,0)","v":0},null,{"$f":"IF(ISNUMBER(CSVデータ1!T107),CSVデータ1!T107,0)+IF(ISNUMBER(CSVデータ2!T107),CSVデータ2!T107,0)+IF(ISNUMBER(CSVデータ3!T107),CSVデータ3!T107,0)+IF(ISNUMBER(CSVデータ4!T107),CSVデータ4!T107,0)","v":0},null,{"$f":"IF(ISNUMBER(CSVデータ1!V107),CSVデータ1!V107,0)+IF(ISNUMBER(CSVデータ2!V107),CSVデータ2!V107,0)+IF(ISNUMBER(CSVデータ3!V107),CSVデータ3!V107,0)+IF(ISNUMBER(CSVデータ4!V107),CSVデータ4!V107,0)","v":0},null,{"$f":"IF(ISNUMBER(CSVデータ1!X107),CSVデータ1!X107,0)+IF(ISNUMBER(CSVデータ2!X107),CSVデータ2!X107,0)+IF(ISNUMBER(CSVデータ3!X107),CSVデータ3!X107,0)+IF(ISNUMBER(CSVデータ4!X107),CSVデータ4!X107,0)","v":0},null,{"$f":"IF(ISNUMBER(CSVデータ1!Z107),CSVデータ1!Z107,0)+IF(ISNUMBER(CSVデータ2!Z107),CSVデータ2!Z107,0)+IF(ISNUMBER(CSVデータ3!Z107),CSVデータ3!Z107,0)+IF(ISNUMBER(CSVデータ4!Z107),CSVデータ4!Z107,0)","v":0},null,{"$f":"IF(ISNUMBER(CSVデータ1!AB107),CSVデータ1!AB107,0)+IF(ISNUMBER(CSVデータ2!AB107),CSVデータ2!AB107,0)+IF(ISNUMBER(CSVデータ3!AB107),CSVデータ3!AB107,0)+IF(ISNUMBER(CSVデータ4!AB107),CSVデータ4!AB107,0)","v":0},null,{"$f":"IF(ISNUMBER(CSVデータ1!AD107),CSVデータ1!AD107,0)+IF(ISNUMBER(CSVデータ2!AD107),CSVデータ2!AD107,0)+IF(ISNUMBER(CSVデータ3!AD107),CSVデータ3!AD107,0)+IF(ISNUMBER(CSVデータ4!AD107),CSVデータ4!AD107,0)","v":0},null,{"$f":"IF(ISNUMBER(CSVデータ1!AF107),CSVデータ1!AF107,0)+IF(ISNUMBER(CSVデータ2!AF107),CSVデータ2!AF107,0)+IF(ISNUMBER(CSVデータ3!AF107),CSVデータ3!AF107,0)+IF(ISNUMBER(CSVデータ4!AF107),CSVデータ4!AF107,0)","v":0},null,{"$f":"IF(ISNUMBER(CSVデータ1!AH107),CSVデータ1!AH107,0)+IF(ISNUMBER(CSVデータ2!AH107),CSVデータ2!AH107,0)+IF(ISNUMBER(CSVデータ3!AH107),CSVデータ3!AH107,0)+IF(ISNUMBER(CSVデータ4!AH107),CSVデータ4!AH107,0)","v":0},null,{"$f":"IF(ISNUMBER(CSVデータ1!AJ107),CSVデータ1!AJ107,0)+IF(ISNUMBER(CSVデータ2!AJ107),CSVデータ2!AJ107,0)+IF(ISNUMBER(CSVデータ3!AJ107),CSVデータ3!AJ107,0)+IF(ISNUMBER(CSVデータ4!AJ107),CSVデータ4!AJ107,0)","v":0},null,{"$f":"IF(ISNUMBER(CSVデータ1!AL107),CSVデータ1!AL107,0)+IF(ISNUMBER(CSVデータ2!AL107),CSVデータ2!AL107,0)+IF(ISNUMBER(CSVデータ3!AL107),CSVデータ3!AL107,0)+IF(ISNUMBER(CSVデータ4!AL107),CSVデータ4!AL107,0)","v":0},null,{"$f":"IF(ISNUMBER(CSVデータ1!AN107),CSVデータ1!AN107,0)+IF(ISNUMBER(CSVデータ2!AN107),CSVデータ2!AN107,0)+IF(ISNUMBER(CSVデータ3!AN107),CSVデータ3!AN107,0)+IF(ISNUMBER(CSVデータ4!AN107),CSVデータ4!AN107,0)","v":0}]
[{"$f":"CSVデータ1!A108","v":"明細部"},{"$f":"CSVデータ1!B108","v":"県"},{"$f":"CSVデータ1!C108","v":74},{"$f":"CSVデータ1!D108","v":"男"},{"$f":"IF(ISNUMBER(CSVデータ1!E108),CSVデータ1!E108,0)+IF(ISNUMBER(CSVデータ2!E108),CSVデータ2!E108,0)+IF(ISNUMBER(CSVデータ3!E108),CSVデータ3!E108,0)+IF(ISNUMBER(CSVデータ4!E108),CSVデータ4!E108,0)","v":0},{"$f":"IF(ISNUMBER(CSVデータ1!F108),CSVデータ1!F108,0)+IF(ISNUMBER(CSVデータ2!F108),CSVデータ2!F108,0)+IF(ISNUMBER(CSVデータ3!F108),CSVデータ3!F108,0)+IF(ISNUMBER(CSVデータ4!F108),CSVデータ4!F108,0)","v":0},null,{"$f":"IF(ISNUMBER(CSVデータ1!H108),CSVデータ1!H108,0)+IF(ISNUMBER(CSVデータ2!H108),CSVデータ2!H108,0)+IF(ISNUMBER(CSVデータ3!H108),CSVデータ3!H108,0)+IF(ISNUMBER(CSVデータ4!H108),CSVデータ4!H108,0)","v":0},null,{"$f":"IF(ISNUMBER(CSVデータ1!J108),CSVデータ1!J108,0)+IF(ISNUMBER(CSVデータ2!J108),CSVデータ2!J108,0)+IF(ISNUMBER(CSVデータ3!J108),CSVデータ3!J108,0)+IF(ISNUMBER(CSVデータ4!J108),CSVデータ4!J108,0)","v":0},null,{"$f":"IF(ISNUMBER(CSVデータ1!L108),CSVデータ1!L108,0)+IF(ISNUMBER(CSVデータ2!L108),CSVデータ2!L108,0)+IF(ISNUMBER(CSVデータ3!L108),CSVデータ3!L108,0)+IF(ISNUMBER(CSVデータ4!L108),CSVデータ4!L108,0)","v":0},null,{"$f":"IF(ISNUMBER(CSVデータ1!N108),CSVデータ1!N108,0)+IF(ISNUMBER(CSVデータ2!N108),CSVデータ2!N108,0)+IF(ISNUMBER(CSVデータ3!N108),CSVデータ3!N108,0)+IF(ISNUMBER(CSVデータ4!N108),CSVデータ4!N108,0)","v":0},null,{"$f":"IF(ISNUMBER(CSVデータ1!P108),CSVデータ1!P108,0)+IF(ISNUMBER(CSVデータ2!P108),CSVデータ2!P108,0)+IF(ISNUMBER(CSVデータ3!P108),CSVデータ3!P108,0)+IF(ISNUMBER(CSVデータ4!P108),CSVデータ4!P108,0)","v":0},null,{"$f":"IF(ISNUMBER(CSVデータ1!R108),CSVデータ1!R108,0)+IF(ISNUMBER(CSVデータ2!R108),CSVデータ2!R108,0)+IF(ISNUMBER(CSVデータ3!R108),CSVデータ3!R108,0)+IF(ISNUMBER(CSVデータ4!R108),CSVデータ4!R108,0)","v":0},null,{"$f":"IF(ISNUMBER(CSVデータ1!T108),CSVデータ1!T108,0)+IF(ISNUMBER(CSVデータ2!T108),CSVデータ2!T108,0)+IF(ISNUMBER(CSVデータ3!T108),CSVデータ3!T108,0)+IF(ISNUMBER(CSVデータ4!T108),CSVデータ4!T108,0)","v":0},null,{"$f":"IF(ISNUMBER(CSVデータ1!V108),CSVデータ1!V108,0)+IF(ISNUMBER(CSVデータ2!V108),CSVデータ2!V108,0)+IF(ISNUMBER(CSVデータ3!V108),CSVデータ3!V108,0)+IF(ISNUMBER(CSVデータ4!V108),CSVデータ4!V108,0)","v":0},null,{"$f":"IF(ISNUMBER(CSVデータ1!X108),CSVデータ1!X108,0)+IF(ISNUMBER(CSVデータ2!X108),CSVデータ2!X108,0)+IF(ISNUMBER(CSVデータ3!X108),CSVデータ3!X108,0)+IF(ISNUMBER(CSVデータ4!X108),CSVデータ4!X108,0)","v":0},null,{"$f":"IF(ISNUMBER(CSVデータ1!Z108),CSVデータ1!Z108,0)+IF(ISNUMBER(CSVデータ2!Z108),CSVデータ2!Z108,0)+IF(ISNUMBER(CSVデータ3!Z108),CSVデータ3!Z108,0)+IF(ISNUMBER(CSVデータ4!Z108),CSVデータ4!Z108,0)","v":0},null,{"$f":"IF(ISNUMBER(CSVデータ1!AB108),CSVデータ1!AB108,0)+IF(ISNUMBER(CSVデータ2!AB108),CSVデータ2!AB108,0)+IF(ISNUMBER(CSVデータ3!AB108),CSVデータ3!AB108,0)+IF(ISNUMBER(CSVデータ4!AB108),CSVデータ4!AB108,0)","v":0},null,{"$f":"IF(ISNUMBER(CSVデータ1!AD108),CSVデータ1!AD108,0)+IF(ISNUMBER(CSVデータ2!AD108),CSVデータ2!AD108,0)+IF(ISNUMBER(CSVデータ3!AD108),CSVデータ3!AD108,0)+IF(ISNUMBER(CSVデータ4!AD108),CSVデータ4!AD108,0)","v":0},null,{"$f":"IF(ISNUMBER(CSVデータ1!AF108),CSVデータ1!AF108,0)+IF(ISNUMBER(CSVデータ2!AF108),CSVデータ2!AF108,0)+IF(ISNUMBER(CSVデータ3!AF108),CSVデータ3!AF108,0)+IF(ISNUMBER(CSVデータ4!AF108),CSVデータ4!AF108,0)","v":0},null,{"$f":"IF(ISNUMBER(CSVデータ1!AH108),CSVデータ1!AH108,0)+IF(ISNUMBER(CSVデータ2!AH108),CSVデータ2!AH108,0)+IF(ISNUMBER(CSVデータ3!AH108),CSVデータ3!AH108,0)+IF(ISNUMBER(CSVデータ4!AH108),CSVデータ4!AH108,0)","v":0},null,{"$f":"IF(ISNUMBER(CSVデータ1!AJ108),CSVデータ1!AJ108,0)+IF(ISNUMBER(CSVデータ2!AJ108),CSVデータ2!AJ108,0)+IF(ISNUMBER(CSVデータ3!AJ108),CSVデータ3!AJ108,0)+IF(ISNUMBER(CSVデータ4!AJ108),CSVデータ4!AJ108,0)","v":0},null,{"$f":"IF(ISNUMBER(CSVデータ1!AL108),CSVデータ1!AL108,0)+IF(ISNUMBER(CSVデータ2!AL108),CSVデータ2!AL108,0)+IF(ISNUMBER(CSVデータ3!AL108),CSVデータ3!AL108,0)+IF(ISNUMBER(CSVデータ4!AL108),CSVデータ4!AL108,0)","v":0},null,{"$f":"IF(ISNUMBER(CSVデータ1!AN108),CSVデータ1!AN108,0)+IF(ISNUMBER(CSVデータ2!AN108),CSVデータ2!AN108,0)+IF(ISNUMBER(CSVデータ3!AN108),CSVデータ3!AN108,0)+IF(ISNUMBER(CSVデータ4!AN108),CSVデータ4!AN108,0)","v":0}]
[{"$f":"CSVデータ1!A109","v":"明細部"},{"$f":"CSVデータ1!B109","v":"県"},{"$f":"CSVデータ1!C109","v":40},{"$f":"CSVデータ1!D109","v":"女"},{"$f":"IF(ISNUMBER(CSVデータ1!E109),CSVデータ1!E109,0)+IF(ISNUMBER(CSVデータ2!E109),CSVデータ2!E109,0)+IF(ISNUMBER(CSVデータ3!E109),CSVデータ3!E109,0)+IF(ISNUMBER(CSVデータ4!E109),CSVデータ4!E109,0)","v":0},{"$f":"IF(ISNUMBER(CSVデータ1!F109),CSVデータ1!F109,0)+IF(ISNUMBER(CSVデータ2!F109),CSVデータ2!F109,0)+IF(ISNUMBER(CSVデータ3!F109),CSVデータ3!F109,0)+IF(ISNUMBER(CSVデータ4!F109),CSVデータ4!F109,0)","v":0},null,{"$f":"IF(ISNUMBER(CSVデータ1!H109),CSVデータ1!H109,0)+IF(ISNUMBER(CSVデータ2!H109),CSVデータ2!H109,0)+IF(ISNUMBER(CSVデータ3!H109),CSVデータ3!H109,0)+IF(ISNUMBER(CSVデータ4!H109),CSVデータ4!H109,0)","v":0},null,{"$f":"IF(ISNUMBER(CSVデータ1!J109),CSVデータ1!J109,0)+IF(ISNUMBER(CSVデータ2!J109),CSVデータ2!J109,0)+IF(ISNUMBER(CSVデータ3!J109),CSVデータ3!J109,0)+IF(ISNUMBER(CSVデータ4!J109),CSVデータ4!J109,0)","v":0},null,{"$f":"IF(ISNUMBER(CSVデータ1!L109),CSVデータ1!L109,0)+IF(ISNUMBER(CSVデータ2!L109),CSVデータ2!L109,0)+IF(ISNUMBER(CSVデータ3!L109),CSVデータ3!L109,0)+IF(ISNUMBER(CSVデータ4!L109),CSVデータ4!L109,0)","v":0},null,{"$f":"IF(ISNUMBER(CSVデータ1!N109),CSVデータ1!N109,0)+IF(ISNUMBER(CSVデータ2!N109),CSVデータ2!N109,0)+IF(ISNUMBER(CSVデータ3!N109),CSVデータ3!N109,0)+IF(ISNUMBER(CSVデータ4!N109),CSVデータ4!N109,0)","v":0},null,{"$f":"IF(ISNUMBER(CSVデータ1!P109),CSVデータ1!P109,0)+IF(ISNUMBER(CSVデータ2!P109),CSVデータ2!P109,0)+IF(ISNUMBER(CSVデータ3!P109),CSVデータ3!P109,0)+IF(ISNUMBER(CSVデータ4!P109),CSVデータ4!P109,0)","v":0},null,{"$f":"IF(ISNUMBER(CSVデータ1!R109),CSVデータ1!R109,0)+IF(ISNUMBER(CSVデータ2!R109),CSVデータ2!R109,0)+IF(ISNUMBER(CSVデータ3!R109),CSVデータ3!R109,0)+IF(ISNUMBER(CSVデータ4!R109),CSVデータ4!R109,0)","v":0},null,{"$f":"IF(ISNUMBER(CSVデータ1!T109),CSVデータ1!T109,0)+IF(ISNUMBER(CSVデータ2!T109),CSVデータ2!T109,0)+IF(ISNUMBER(CSVデータ3!T109),CSVデータ3!T109,0)+IF(ISNUMBER(CSVデータ4!T109),CSVデータ4!T109,0)","v":0},null,{"$f":"IF(ISNUMBER(CSVデータ1!V109),CSVデータ1!V109,0)+IF(ISNUMBER(CSVデータ2!V109),CSVデータ2!V109,0)+IF(ISNUMBER(CSVデータ3!V109),CSVデータ3!V109,0)+IF(ISNUMBER(CSVデータ4!V109),CSVデータ4!V109,0)","v":0},null,{"$f":"IF(ISNUMBER(CSVデータ1!X109),CSVデータ1!X109,0)+IF(ISNUMBER(CSVデータ2!X109),CSVデータ2!X109,0)+IF(ISNUMBER(CSVデータ3!X109),CSVデータ3!X109,0)+IF(ISNUMBER(CSVデータ4!X109),CSVデータ4!X109,0)","v":0},null,{"$f":"IF(ISNUMBER(CSVデータ1!Z109),CSVデータ1!Z109,0)+IF(ISNUMBER(CSVデータ2!Z109),CSVデータ2!Z109,0)+IF(ISNUMBER(CSVデータ3!Z109),CSVデータ3!Z109,0)+IF(ISNUMBER(CSVデータ4!Z109),CSVデータ4!Z109,0)","v":0},null,{"$f":"IF(ISNUMBER(CSVデータ1!AB109),CSVデータ1!AB109,0)+IF(ISNUMBER(CSVデータ2!AB109),CSVデータ2!AB109,0)+IF(ISNUMBER(CSVデータ3!AB109),CSVデータ3!AB109,0)+IF(ISNUMBER(CSVデータ4!AB109),CSVデータ4!AB109,0)","v":0},null,{"$f":"IF(ISNUMBER(CSVデータ1!AD109),CSVデータ1!AD109,0)+IF(ISNUMBER(CSVデータ2!AD109),CSVデータ2!AD109,0)+IF(ISNUMBER(CSVデータ3!AD109),CSVデータ3!AD109,0)+IF(ISNUMBER(CSVデータ4!AD109),CSVデータ4!AD109,0)","v":0},null,{"$f":"IF(ISNUMBER(CSVデータ1!AF109),CSVデータ1!AF109,0)+IF(ISNUMBER(CSVデータ2!AF109),CSVデータ2!AF109,0)+IF(ISNUMBER(CSVデータ3!AF109),CSVデータ3!AF109,0)+IF(ISNUMBER(CSVデータ4!AF109),CSVデータ4!AF109,0)","v":0},null,{"$f":"IF(ISNUMBER(CSVデータ1!AH109),CSVデータ1!AH109,0)+IF(ISNUMBER(CSVデータ2!AH109),CSVデータ2!AH109,0)+IF(ISNUMBER(CSVデータ3!AH109),CSVデータ3!AH109,0)+IF(ISNUMBER(CSVデータ4!AH109),CSVデータ4!AH109,0)","v":0},null,{"$f":"IF(ISNUMBER(CSVデータ1!AJ109),CSVデータ1!AJ109,0)+IF(ISNUMBER(CSVデータ2!AJ109),CSVデータ2!AJ109,0)+IF(ISNUMBER(CSVデータ3!AJ109),CSVデータ3!AJ109,0)+IF(ISNUMBER(CSVデータ4!AJ109),CSVデータ4!AJ109,0)","v":0},null,{"$f":"IF(ISNUMBER(CSVデータ1!AL109),CSVデータ1!AL109,0)+IF(ISNUMBER(CSVデータ2!AL109),CSVデータ2!AL109,0)+IF(ISNUMBER(CSVデータ3!AL109),CSVデータ3!AL109,0)+IF(ISNUMBER(CSVデータ4!AL109),CSVデータ4!AL109,0)","v":0},null,{"$f":"IF(ISNUMBER(CSVデータ1!AN109),CSVデータ1!AN109,0)+IF(ISNUMBER(CSVデータ2!AN109),CSVデータ2!AN109,0)+IF(ISNUMBER(CSVデータ3!AN109),CSVデータ3!AN109,0)+IF(ISNUMBER(CSVデータ4!AN109),CSVデータ4!AN109,0)","v":0}]
[{"$f":"CSVデータ1!A110","v":"明細部"},{"$f":"CSVデータ1!B110","v":"県"},{"$f":"CSVデータ1!C110","v":41},{"$f":"CSVデータ1!D110","v":"女"},{"$f":"IF(ISNUMBER(CSVデータ1!E110),CSVデータ1!E110,0)+IF(ISNUMBER(CSVデータ2!E110),CSVデータ2!E110,0)+IF(ISNUMBER(CSVデータ3!E110),CSVデータ3!E110,0)+IF(ISNUMBER(CSVデータ4!E110),CSVデータ4!E110,0)","v":0},{"$f":"IF(ISNUMBER(CSVデータ1!F110),CSVデータ1!F110,0)+IF(ISNUMBER(CSVデータ2!F110),CSVデータ2!F110,0)+IF(ISNUMBER(CSVデータ3!F110),CSVデータ3!F110,0)+IF(ISNUMBER(CSVデータ4!F110),CSVデータ4!F110,0)","v":0},null,{"$f":"IF(ISNUMBER(CSVデータ1!H110),CSVデータ1!H110,0)+IF(ISNUMBER(CSVデータ2!H110),CSVデータ2!H110,0)+IF(ISNUMBER(CSVデータ3!H110),CSVデータ3!H110,0)+IF(ISNUMBER(CSVデータ4!H110),CSVデータ4!H110,0)","v":0},null,{"$f":"IF(ISNUMBER(CSVデータ1!J110),CSVデータ1!J110,0)+IF(ISNUMBER(CSVデータ2!J110),CSVデータ2!J110,0)+IF(ISNUMBER(CSVデータ3!J110),CSVデータ3!J110,0)+IF(ISNUMBER(CSVデータ4!J110),CSVデータ4!J110,0)","v":0},null,{"$f":"IF(ISNUMBER(CSVデータ1!L110),CSVデータ1!L110,0)+IF(ISNUMBER(CSVデータ2!L110),CSVデータ2!L110,0)+IF(ISNUMBER(CSVデータ3!L110),CSVデータ3!L110,0)+IF(ISNUMBER(CSVデータ4!L110),CSVデータ4!L110,0)","v":0},null,{"$f":"IF(ISNUMBER(CSVデータ1!N110),CSVデータ1!N110,0)+IF(ISNUMBER(CSVデータ2!N110),CSVデータ2!N110,0)+IF(ISNUMBER(CSVデータ3!N110),CSVデータ3!N110,0)+IF(ISNUMBER(CSVデータ4!N110),CSVデータ4!N110,0)","v":0},null,{"$f":"IF(ISNUMBER(CSVデータ1!P110),CSVデータ1!P110,0)+IF(ISNUMBER(CSVデータ2!P110),CSVデータ2!P110,0)+IF(ISNUMBER(CSVデータ3!P110),CSVデータ3!P110,0)+IF(ISNUMBER(CSVデータ4!P110),CSVデータ4!P110,0)","v":0},null,{"$f":"IF(ISNUMBER(CSVデータ1!R110),CSVデータ1!R110,0)+IF(ISNUMBER(CSVデータ2!R110),CSVデータ2!R110,0)+IF(ISNUMBER(CSVデータ3!R110),CSVデータ3!R110,0)+IF(ISNUMBER(CSVデータ4!R110),CSVデータ4!R110,0)","v":0},null,{"$f":"IF(ISNUMBER(CSVデータ1!T110),CSVデータ1!T110,0)+IF(ISNUMBER(CSVデータ2!T110),CSVデータ2!T110,0)+IF(ISNUMBER(CSVデータ3!T110),CSVデータ3!T110,0)+IF(ISNUMBER(CSVデータ4!T110),CSVデータ4!T110,0)","v":0},null,{"$f":"IF(ISNUMBER(CSVデータ1!V110),CSVデータ1!V110,0)+IF(ISNUMBER(CSVデータ2!V110),CSVデータ2!V110,0)+IF(ISNUMBER(CSVデータ3!V110),CSVデータ3!V110,0)+IF(ISNUMBER(CSVデータ4!V110),CSVデータ4!V110,0)","v":0},null,{"$f":"IF(ISNUMBER(CSVデータ1!X110),CSVデータ1!X110,0)+IF(ISNUMBER(CSVデータ2!X110),CSVデータ2!X110,0)+IF(ISNUMBER(CSVデータ3!X110),CSVデータ3!X110,0)+IF(ISNUMBER(CSVデータ4!X110),CSVデータ4!X110,0)","v":0},null,{"$f":"IF(ISNUMBER(CSVデータ1!Z110),CSVデータ1!Z110,0)+IF(ISNUMBER(CSVデータ2!Z110),CSVデータ2!Z110,0)+IF(ISNUMBER(CSVデータ3!Z110),CSVデータ3!Z110,0)+IF(ISNUMBER(CSVデータ4!Z110),CSVデータ4!Z110,0)","v":0},null,{"$f":"IF(ISNUMBER(CSVデータ1!AB110),CSVデータ1!AB110,0)+IF(ISNUMBER(CSVデータ2!AB110),CSVデータ2!AB110,0)+IF(ISNUMBER(CSVデータ3!AB110),CSVデータ3!AB110,0)+IF(ISNUMBER(CSVデータ4!AB110),CSVデータ4!AB110,0)","v":0},null,{"$f":"IF(ISNUMBER(CSVデータ1!AD110),CSVデータ1!AD110,0)+IF(ISNUMBER(CSVデータ2!AD110),CSVデータ2!AD110,0)+IF(ISNUMBER(CSVデータ3!AD110),CSVデータ3!AD110,0)+IF(ISNUMBER(CSVデータ4!AD110),CSVデータ4!AD110,0)","v":0},null,{"$f":"IF(ISNUMBER(CSVデータ1!AF110),CSVデータ1!AF110,0)+IF(ISNUMBER(CSVデータ2!AF110),CSVデータ2!AF110,0)+IF(ISNUMBER(CSVデータ3!AF110),CSVデータ3!AF110,0)+IF(ISNUMBER(CSVデータ4!AF110),CSVデータ4!AF110,0)","v":0},null,{"$f":"IF(ISNUMBER(CSVデータ1!AH110),CSVデータ1!AH110,0)+IF(ISNUMBER(CSVデータ2!AH110),CSVデータ2!AH110,0)+IF(ISNUMBER(CSVデータ3!AH110),CSVデータ3!AH110,0)+IF(ISNUMBER(CSVデータ4!AH110),CSVデータ4!AH110,0)","v":0},null,{"$f":"IF(ISNUMBER(CSVデータ1!AJ110),CSVデータ1!AJ110,0)+IF(ISNUMBER(CSVデータ2!AJ110),CSVデータ2!AJ110,0)+IF(ISNUMBER(CSVデータ3!AJ110),CSVデータ3!AJ110,0)+IF(ISNUMBER(CSVデータ4!AJ110),CSVデータ4!AJ110,0)","v":0},null,{"$f":"IF(ISNUMBER(CSVデータ1!AL110),CSVデータ1!AL110,0)+IF(ISNUMBER(CSVデータ2!AL110),CSVデータ2!AL110,0)+IF(ISNUMBER(CSVデータ3!AL110),CSVデータ3!AL110,0)+IF(ISNUMBER(CSVデータ4!AL110),CSVデータ4!AL110,0)","v":0},null,{"$f":"IF(ISNUMBER(CSVデータ1!AN110),CSVデータ1!AN110,0)+IF(ISNUMBER(CSVデータ2!AN110),CSVデータ2!AN110,0)+IF(ISNUMBER(CSVデータ3!AN110),CSVデータ3!AN110,0)+IF(ISNUMBER(CSVデータ4!AN110),CSVデータ4!AN110,0)","v":0}]
[{"$f":"CSVデータ1!A111","v":"明細部"},{"$f":"CSVデータ1!B111","v":"県"},{"$f":"CSVデータ1!C111","v":42},{"$f":"CSVデータ1!D111","v":"女"},{"$f":"IF(ISNUMBER(CSVデータ1!E111),CSVデータ1!E111,0)+IF(ISNUMBER(CSVデータ2!E111),CSVデータ2!E111,0)+IF(ISNUMBER(CSVデータ3!E111),CSVデータ3!E111,0)+IF(ISNUMBER(CSVデータ4!E111),CSVデータ4!E111,0)","v":0},{"$f":"IF(ISNUMBER(CSVデータ1!F111),CSVデータ1!F111,0)+IF(ISNUMBER(CSVデータ2!F111),CSVデータ2!F111,0)+IF(ISNUMBER(CSVデータ3!F111),CSVデータ3!F111,0)+IF(ISNUMBER(CSVデータ4!F111),CSVデータ4!F111,0)","v":0},null,{"$f":"IF(ISNUMBER(CSVデータ1!H111),CSVデータ1!H111,0)+IF(ISNUMBER(CSVデータ2!H111),CSVデータ2!H111,0)+IF(ISNUMBER(CSVデータ3!H111),CSVデータ3!H111,0)+IF(ISNUMBER(CSVデータ4!H111),CSVデータ4!H111,0)","v":0},null,{"$f":"IF(ISNUMBER(CSVデータ1!J111),CSVデータ1!J111,0)+IF(ISNUMBER(CSVデータ2!J111),CSVデータ2!J111,0)+IF(ISNUMBER(CSVデータ3!J111),CSVデータ3!J111,0)+IF(ISNUMBER(CSVデータ4!J111),CSVデータ4!J111,0)","v":0},null,{"$f":"IF(ISNUMBER(CSVデータ1!L111),CSVデータ1!L111,0)+IF(ISNUMBER(CSVデータ2!L111),CSVデータ2!L111,0)+IF(ISNUMBER(CSVデータ3!L111),CSVデータ3!L111,0)+IF(ISNUMBER(CSVデータ4!L111),CSVデータ4!L111,0)","v":0},null,{"$f":"IF(ISNUMBER(CSVデータ1!N111),CSVデータ1!N111,0)+IF(ISNUMBER(CSVデータ2!N111),CSVデータ2!N111,0)+IF(ISNUMBER(CSVデータ3!N111),CSVデータ3!N111,0)+IF(ISNUMBER(CSVデータ4!N111),CSVデータ4!N111,0)","v":0},null,{"$f":"IF(ISNUMBER(CSVデータ1!P111),CSVデータ1!P111,0)+IF(ISNUMBER(CSVデータ2!P111),CSVデータ2!P111,0)+IF(ISNUMBER(CSVデータ3!P111),CSVデータ3!P111,0)+IF(ISNUMBER(CSVデータ4!P111),CSVデータ4!P111,0)","v":0},null,{"$f":"IF(ISNUMBER(CSVデータ1!R111),CSVデータ1!R111,0)+IF(ISNUMBER(CSVデータ2!R111),CSVデータ2!R111,0)+IF(ISNUMBER(CSVデータ3!R111),CSVデータ3!R111,0)+IF(ISNUMBER(CSVデータ4!R111),CSVデータ4!R111,0)","v":0},null,{"$f":"IF(ISNUMBER(CSVデータ1!T111),CSVデータ1!T111,0)+IF(ISNUMBER(CSVデータ2!T111),CSVデータ2!T111,0)+IF(ISNUMBER(CSVデータ3!T111),CSVデータ3!T111,0)+IF(ISNUMBER(CSVデータ4!T111),CSVデータ4!T111,0)","v":0},null,{"$f":"IF(ISNUMBER(CSVデータ1!V111),CSVデータ1!V111,0)+IF(ISNUMBER(CSVデータ2!V111),CSVデータ2!V111,0)+IF(ISNUMBER(CSVデータ3!V111),CSVデータ3!V111,0)+IF(ISNUMBER(CSVデータ4!V111),CSVデータ4!V111,0)","v":0},null,{"$f":"IF(ISNUMBER(CSVデータ1!X111),CSVデータ1!X111,0)+IF(ISNUMBER(CSVデータ2!X111),CSVデータ2!X111,0)+IF(ISNUMBER(CSVデータ3!X111),CSVデータ3!X111,0)+IF(ISNUMBER(CSVデータ4!X111),CSVデータ4!X111,0)","v":0},null,{"$f":"IF(ISNUMBER(CSVデータ1!Z111),CSVデータ1!Z111,0)+IF(ISNUMBER(CSVデータ2!Z111),CSVデータ2!Z111,0)+IF(ISNUMBER(CSVデータ3!Z111),CSVデータ3!Z111,0)+IF(ISNUMBER(CSVデータ4!Z111),CSVデータ4!Z111,0)","v":0},null,{"$f":"IF(ISNUMBER(CSVデータ1!AB111),CSVデータ1!AB111,0)+IF(ISNUMBER(CSVデータ2!AB111),CSVデータ2!AB111,0)+IF(ISNUMBER(CSVデータ3!AB111),CSVデータ3!AB111,0)+IF(ISNUMBER(CSVデータ4!AB111),CSVデータ4!AB111,0)","v":0},null,{"$f":"IF(ISNUMBER(CSVデータ1!AD111),CSVデータ1!AD111,0)+IF(ISNUMBER(CSVデータ2!AD111),CSVデータ2!AD111,0)+IF(ISNUMBER(CSVデータ3!AD111),CSVデータ3!AD111,0)+IF(ISNUMBER(CSVデータ4!AD111),CSVデータ4!AD111,0)","v":0},null,{"$f":"IF(ISNUMBER(CSVデータ1!AF111),CSVデータ1!AF111,0)+IF(ISNUMBER(CSVデータ2!AF111),CSVデータ2!AF111,0)+IF(ISNUMBER(CSVデータ3!AF111),CSVデータ3!AF111,0)+IF(ISNUMBER(CSVデータ4!AF111),CSVデータ4!AF111,0)","v":0},null,{"$f":"IF(ISNUMBER(CSVデータ1!AH111),CSVデータ1!AH111,0)+IF(ISNUMBER(CSVデータ2!AH111),CSVデータ2!AH111,0)+IF(ISNUMBER(CSVデータ3!AH111),CSVデータ3!AH111,0)+IF(ISNUMBER(CSVデータ4!AH111),CSVデータ4!AH111,0)","v":0},null,{"$f":"IF(ISNUMBER(CSVデータ1!AJ111),CSVデータ1!AJ111,0)+IF(ISNUMBER(CSVデータ2!AJ111),CSVデータ2!AJ111,0)+IF(ISNUMBER(CSVデータ3!AJ111),CSVデータ3!AJ111,0)+IF(ISNUMBER(CSVデータ4!AJ111),CSVデータ4!AJ111,0)","v":0},null,{"$f":"IF(ISNUMBER(CSVデータ1!AL111),CSVデータ1!AL111,0)+IF(ISNUMBER(CSVデータ2!AL111),CSVデータ2!AL111,0)+IF(ISNUMBER(CSVデータ3!AL111),CSVデータ3!AL111,0)+IF(ISNUMBER(CSVデータ4!AL111),CSVデータ4!AL111,0)","v":0},null,{"$f":"IF(ISNUMBER(CSVデータ1!AN111),CSVデータ1!AN111,0)+IF(ISNUMBER(CSVデータ2!AN111),CSVデータ2!AN111,0)+IF(ISNUMBER(CSVデータ3!AN111),CSVデータ3!AN111,0)+IF(ISNUMBER(CSVデータ4!AN111),CSVデータ4!AN111,0)","v":0}]
[{"$f":"CSVデータ1!A112","v":"明細部"},{"$f":"CSVデータ1!B112","v":"県"},{"$f":"CSVデータ1!C112","v":43},{"$f":"CSVデータ1!D112","v":"女"},{"$f":"IF(ISNUMBER(CSVデータ1!E112),CSVデータ1!E112,0)+IF(ISNUMBER(CSVデータ2!E112),CSVデータ2!E112,0)+IF(ISNUMBER(CSVデータ3!E112),CSVデータ3!E112,0)+IF(ISNUMBER(CSVデータ4!E112),CSVデータ4!E112,0)","v":0},{"$f":"IF(ISNUMBER(CSVデータ1!F112),CSVデータ1!F112,0)+IF(ISNUMBER(CSVデータ2!F112),CSVデータ2!F112,0)+IF(ISNUMBER(CSVデータ3!F112),CSVデータ3!F112,0)+IF(ISNUMBER(CSVデータ4!F112),CSVデータ4!F112,0)","v":0},null,{"$f":"IF(ISNUMBER(CSVデータ1!H112),CSVデータ1!H112,0)+IF(ISNUMBER(CSVデータ2!H112),CSVデータ2!H112,0)+IF(ISNUMBER(CSVデータ3!H112),CSVデータ3!H112,0)+IF(ISNUMBER(CSVデータ4!H112),CSVデータ4!H112,0)","v":0},null,{"$f":"IF(ISNUMBER(CSVデータ1!J112),CSVデータ1!J112,0)+IF(ISNUMBER(CSVデータ2!J112),CSVデータ2!J112,0)+IF(ISNUMBER(CSVデータ3!J112),CSVデータ3!J112,0)+IF(ISNUMBER(CSVデータ4!J112),CSVデータ4!J112,0)","v":0},null,{"$f":"IF(ISNUMBER(CSVデータ1!L112),CSVデータ1!L112,0)+IF(ISNUMBER(CSVデータ2!L112),CSVデータ2!L112,0)+IF(ISNUMBER(CSVデータ3!L112),CSVデータ3!L112,0)+IF(ISNUMBER(CSVデータ4!L112),CSVデータ4!L112,0)","v":0},null,{"$f":"IF(ISNUMBER(CSVデータ1!N112),CSVデータ1!N112,0)+IF(ISNUMBER(CSVデータ2!N112),CSVデータ2!N112,0)+IF(ISNUMBER(CSVデータ3!N112),CSVデータ3!N112,0)+IF(ISNUMBER(CSVデータ4!N112),CSVデータ4!N112,0)","v":0},null,{"$f":"IF(ISNUMBER(CSVデータ1!P112),CSVデータ1!P112,0)+IF(ISNUMBER(CSVデータ2!P112),CSVデータ2!P112,0)+IF(ISNUMBER(CSVデータ3!P112),CSVデータ3!P112,0)+IF(ISNUMBER(CSVデータ4!P112),CSVデータ4!P112,0)","v":0},null,{"$f":"IF(ISNUMBER(CSVデータ1!R112),CSVデータ1!R112,0)+IF(ISNUMBER(CSVデータ2!R112),CSVデータ2!R112,0)+IF(ISNUMBER(CSVデータ3!R112),CSVデータ3!R112,0)+IF(ISNUMBER(CSVデータ4!R112),CSVデータ4!R112,0)","v":0},null,{"$f":"IF(ISNUMBER(CSVデータ1!T112),CSVデータ1!T112,0)+IF(ISNUMBER(CSVデータ2!T112),CSVデータ2!T112,0)+IF(ISNUMBER(CSVデータ3!T112),CSVデータ3!T112,0)+IF(ISNUMBER(CSVデータ4!T112),CSVデータ4!T112,0)","v":0},null,{"$f":"IF(ISNUMBER(CSVデータ1!V112),CSVデータ1!V112,0)+IF(ISNUMBER(CSVデータ2!V112),CSVデータ2!V112,0)+IF(ISNUMBER(CSVデータ3!V112),CSVデータ3!V112,0)+IF(ISNUMBER(CSVデータ4!V112),CSVデータ4!V112,0)","v":0},null,{"$f":"IF(ISNUMBER(CSVデータ1!X112),CSVデータ1!X112,0)+IF(ISNUMBER(CSVデータ2!X112),CSVデータ2!X112,0)+IF(ISNUMBER(CSVデータ3!X112),CSVデータ3!X112,0)+IF(ISNUMBER(CSVデータ4!X112),CSVデータ4!X112,0)","v":0},null,{"$f":"IF(ISNUMBER(CSVデータ1!Z112),CSVデータ1!Z112,0)+IF(ISNUMBER(CSVデータ2!Z112),CSVデータ2!Z112,0)+IF(ISNUMBER(CSVデータ3!Z112),CSVデータ3!Z112,0)+IF(ISNUMBER(CSVデータ4!Z112),CSVデータ4!Z112,0)","v":0},null,{"$f":"IF(ISNUMBER(CSVデータ1!AB112),CSVデータ1!AB112,0)+IF(ISNUMBER(CSVデータ2!AB112),CSVデータ2!AB112,0)+IF(ISNUMBER(CSVデータ3!AB112),CSVデータ3!AB112,0)+IF(ISNUMBER(CSVデータ4!AB112),CSVデータ4!AB112,0)","v":0},null,{"$f":"IF(ISNUMBER(CSVデータ1!AD112),CSVデータ1!AD112,0)+IF(ISNUMBER(CSVデータ2!AD112),CSVデータ2!AD112,0)+IF(ISNUMBER(CSVデータ3!AD112),CSVデータ3!AD112,0)+IF(ISNUMBER(CSVデータ4!AD112),CSVデータ4!AD112,0)","v":0},null,{"$f":"IF(ISNUMBER(CSVデータ1!AF112),CSVデータ1!AF112,0)+IF(ISNUMBER(CSVデータ2!AF112),CSVデータ2!AF112,0)+IF(ISNUMBER(CSVデータ3!AF112),CSVデータ3!AF112,0)+IF(ISNUMBER(CSVデータ4!AF112),CSVデータ4!AF112,0)","v":0},null,{"$f":"IF(ISNUMBER(CSVデータ1!AH112),CSVデータ1!AH112,0)+IF(ISNUMBER(CSVデータ2!AH112),CSVデータ2!AH112,0)+IF(ISNUMBER(CSVデータ3!AH112),CSVデータ3!AH112,0)+IF(ISNUMBER(CSVデータ4!AH112),CSVデータ4!AH112,0)","v":0},null,{"$f":"IF(ISNUMBER(CSVデータ1!AJ112),CSVデータ1!AJ112,0)+IF(ISNUMBER(CSVデータ2!AJ112),CSVデータ2!AJ112,0)+IF(ISNUMBER(CSVデータ3!AJ112),CSVデータ3!AJ112,0)+IF(ISNUMBER(CSVデータ4!AJ112),CSVデータ4!AJ112,0)","v":0},null,{"$f":"IF(ISNUMBER(CSVデータ1!AL112),CSVデータ1!AL112,0)+IF(ISNUMBER(CSVデータ2!AL112),CSVデータ2!AL112,0)+IF(ISNUMBER(CSVデータ3!AL112),CSVデータ3!AL112,0)+IF(ISNUMBER(CSVデータ4!AL112),CSVデータ4!AL112,0)","v":0},null,{"$f":"IF(ISNUMBER(CSVデータ1!AN112),CSVデータ1!AN112,0)+IF(ISNUMBER(CSVデータ2!AN112),CSVデータ2!AN112,0)+IF(ISNUMBER(CSVデータ3!AN112),CSVデータ3!AN112,0)+IF(ISNUMBER(CSVデータ4!AN112),CSVデータ4!AN112,0)","v":0}]
[{"$f":"CSVデータ1!A113","v":"明細部"},{"$f":"CSVデータ1!B113","v":"県"},{"$f":"CSVデータ1!C113","v":44},{"$f":"CSVデータ1!D113","v":"女"},{"$f":"IF(ISNUMBER(CSVデータ1!E113),CSVデータ1!E113,0)+IF(ISNUMBER(CSVデータ2!E113),CSVデータ2!E113,0)+IF(ISNUMBER(CSVデータ3!E113),CSVデータ3!E113,0)+IF(ISNUMBER(CSVデータ4!E113),CSVデータ4!E113,0)","v":0},{"$f":"IF(ISNUMBER(CSVデータ1!F113),CSVデータ1!F113,0)+IF(ISNUMBER(CSVデータ2!F113),CSVデータ2!F113,0)+IF(ISNUMBER(CSVデータ3!F113),CSVデータ3!F113,0)+IF(ISNUMBER(CSVデータ4!F113),CSVデータ4!F113,0)","v":0},null,{"$f":"IF(ISNUMBER(CSVデータ1!H113),CSVデータ1!H113,0)+IF(ISNUMBER(CSVデータ2!H113),CSVデータ2!H113,0)+IF(ISNUMBER(CSVデータ3!H113),CSVデータ3!H113,0)+IF(ISNUMBER(CSVデータ4!H113),CSVデータ4!H113,0)","v":0},null,{"$f":"IF(ISNUMBER(CSVデータ1!J113),CSVデータ1!J113,0)+IF(ISNUMBER(CSVデータ2!J113),CSVデータ2!J113,0)+IF(ISNUMBER(CSVデータ3!J113),CSVデータ3!J113,0)+IF(ISNUMBER(CSVデータ4!J113),CSVデータ4!J113,0)","v":0},null,{"$f":"IF(ISNUMBER(CSVデータ1!L113),CSVデータ1!L113,0)+IF(ISNUMBER(CSVデータ2!L113),CSVデータ2!L113,0)+IF(ISNUMBER(CSVデータ3!L113),CSVデータ3!L113,0)+IF(ISNUMBER(CSVデータ4!L113),CSVデータ4!L113,0)","v":0},null,{"$f":"IF(ISNUMBER(CSVデータ1!N113),CSVデータ1!N113,0)+IF(ISNUMBER(CSVデータ2!N113),CSVデータ2!N113,0)+IF(ISNUMBER(CSVデータ3!N113),CSVデータ3!N113,0)+IF(ISNUMBER(CSVデータ4!N113),CSVデータ4!N113,0)","v":0},null,{"$f":"IF(ISNUMBER(CSVデータ1!P113),CSVデータ1!P113,0)+IF(ISNUMBER(CSVデータ2!P113),CSVデータ2!P113,0)+IF(ISNUMBER(CSVデータ3!P113),CSVデータ3!P113,0)+IF(ISNUMBER(CSVデータ4!P113),CSVデータ4!P113,0)","v":0},null,{"$f":"IF(ISNUMBER(CSVデータ1!R113),CSVデータ1!R113,0)+IF(ISNUMBER(CSVデータ2!R113),CSVデータ2!R113,0)+IF(ISNUMBER(CSVデータ3!R113),CSVデータ3!R113,0)+IF(ISNUMBER(CSVデータ4!R113),CSVデータ4!R113,0)","v":0},null,{"$f":"IF(ISNUMBER(CSVデータ1!T113),CSVデータ1!T113,0)+IF(ISNUMBER(CSVデータ2!T113),CSVデータ2!T113,0)+IF(ISNUMBER(CSVデータ3!T113),CSVデータ3!T113,0)+IF(ISNUMBER(CSVデータ4!T113),CSVデータ4!T113,0)","v":0},null,{"$f":"IF(ISNUMBER(CSVデータ1!V113),CSVデータ1!V113,0)+IF(ISNUMBER(CSVデータ2!V113),CSVデータ2!V113,0)+IF(ISNUMBER(CSVデータ3!V113),CSVデータ3!V113,0)+IF(ISNUMBER(CSVデータ4!V113),CSVデータ4!V113,0)","v":0},null,{"$f":"IF(ISNUMBER(CSVデータ1!X113),CSVデータ1!X113,0)+IF(ISNUMBER(CSVデータ2!X113),CSVデータ2!X113,0)+IF(ISNUMBER(CSVデータ3!X113),CSVデータ3!X113,0)+IF(ISNUMBER(CSVデータ4!X113),CSVデータ4!X113,0)","v":0},null,{"$f":"IF(ISNUMBER(CSVデータ1!Z113),CSVデータ1!Z113,0)+IF(ISNUMBER(CSVデータ2!Z113),CSVデータ2!Z113,0)+IF(ISNUMBER(CSVデータ3!Z113),CSVデータ3!Z113,0)+IF(ISNUMBER(CSVデータ4!Z113),CSVデータ4!Z113,0)","v":0},null,{"$f":"IF(ISNUMBER(CSVデータ1!AB113),CSVデータ1!AB113,0)+IF(ISNUMBER(CSVデータ2!AB113),CSVデータ2!AB113,0)+IF(ISNUMBER(CSVデータ3!AB113),CSVデータ3!AB113,0)+IF(ISNUMBER(CSVデータ4!AB113),CSVデータ4!AB113,0)","v":0},null,{"$f":"IF(ISNUMBER(CSVデータ1!AD113),CSVデータ1!AD113,0)+IF(ISNUMBER(CSVデータ2!AD113),CSVデータ2!AD113,0)+IF(ISNUMBER(CSVデータ3!AD113),CSVデータ3!AD113,0)+IF(ISNUMBER(CSVデータ4!AD113),CSVデータ4!AD113,0)","v":0},null,{"$f":"IF(ISNUMBER(CSVデータ1!AF113),CSVデータ1!AF113,0)+IF(ISNUMBER(CSVデータ2!AF113),CSVデータ2!AF113,0)+IF(ISNUMBER(CSVデータ3!AF113),CSVデータ3!AF113,0)+IF(ISNUMBER(CSVデータ4!AF113),CSVデータ4!AF113,0)","v":0},null,{"$f":"IF(ISNUMBER(CSVデータ1!AH113),CSVデータ1!AH113,0)+IF(ISNUMBER(CSVデータ2!AH113),CSVデータ2!AH113,0)+IF(ISNUMBER(CSVデータ3!AH113),CSVデータ3!AH113,0)+IF(ISNUMBER(CSVデータ4!AH113),CSVデータ4!AH113,0)","v":0},null,{"$f":"IF(ISNUMBER(CSVデータ1!AJ113),CSVデータ1!AJ113,0)+IF(ISNUMBER(CSVデータ2!AJ113),CSVデータ2!AJ113,0)+IF(ISNUMBER(CSVデータ3!AJ113),CSVデータ3!AJ113,0)+IF(ISNUMBER(CSVデータ4!AJ113),CSVデータ4!AJ113,0)","v":0},null,{"$f":"IF(ISNUMBER(CSVデータ1!AL113),CSVデータ1!AL113,0)+IF(ISNUMBER(CSVデータ2!AL113),CSVデータ2!AL113,0)+IF(ISNUMBER(CSVデータ3!AL113),CSVデータ3!AL113,0)+IF(ISNUMBER(CSVデータ4!AL113),CSVデータ4!AL113,0)","v":0},null,{"$f":"IF(ISNUMBER(CSVデータ1!AN113),CSVデータ1!AN113,0)+IF(ISNUMBER(CSVデータ2!AN113),CSVデータ2!AN113,0)+IF(ISNUMBER(CSVデータ3!AN113),CSVデータ3!AN113,0)+IF(ISNUMBER(CSVデータ4!AN113),CSVデータ4!AN113,0)","v":0}]
[{"$f":"CSVデータ1!A114","v":"明細部"},{"$f":"CSVデータ1!B114","v":"県"},{"$f":"CSVデータ1!C114","v":45},{"$f":"CSVデータ1!D114","v":"女"},{"$f":"IF(ISNUMBER(CSVデータ1!E114),CSVデータ1!E114,0)+IF(ISNUMBER(CSVデータ2!E114),CSVデータ2!E114,0)+IF(ISNUMBER(CSVデータ3!E114),CSVデータ3!E114,0)+IF(ISNUMBER(CSVデータ4!E114),CSVデータ4!E114,0)","v":0},{"$f":"IF(ISNUMBER(CSVデータ1!F114),CSVデータ1!F114,0)+IF(ISNUMBER(CSVデータ2!F114),CSVデータ2!F114,0)+IF(ISNUMBER(CSVデータ3!F114),CSVデータ3!F114,0)+IF(ISNUMBER(CSVデータ4!F114),CSVデータ4!F114,0)","v":0},null,{"$f":"IF(ISNUMBER(CSVデータ1!H114),CSVデータ1!H114,0)+IF(ISNUMBER(CSVデータ2!H114),CSVデータ2!H114,0)+IF(ISNUMBER(CSVデータ3!H114),CSVデータ3!H114,0)+IF(ISNUMBER(CSVデータ4!H114),CSVデータ4!H114,0)","v":0},null,{"$f":"IF(ISNUMBER(CSVデータ1!J114),CSVデータ1!J114,0)+IF(ISNUMBER(CSVデータ2!J114),CSVデータ2!J114,0)+IF(ISNUMBER(CSVデータ3!J114),CSVデータ3!J114,0)+IF(ISNUMBER(CSVデータ4!J114),CSVデータ4!J114,0)","v":0},null,{"$f":"IF(ISNUMBER(CSVデータ1!L114),CSVデータ1!L114,0)+IF(ISNUMBER(CSVデータ2!L114),CSVデータ2!L114,0)+IF(ISNUMBER(CSVデータ3!L114),CSVデータ3!L114,0)+IF(ISNUMBER(CSVデータ4!L114),CSVデータ4!L114,0)","v":0},null,{"$f":"IF(ISNUMBER(CSVデータ1!N114),CSVデータ1!N114,0)+IF(ISNUMBER(CSVデータ2!N114),CSVデータ2!N114,0)+IF(ISNUMBER(CSVデータ3!N114),CSVデータ3!N114,0)+IF(ISNUMBER(CSVデータ4!N114),CSVデータ4!N114,0)","v":0},null,{"$f":"IF(ISNUMBER(CSVデータ1!P114),CSVデータ1!P114,0)+IF(ISNUMBER(CSVデータ2!P114),CSVデータ2!P114,0)+IF(ISNUMBER(CSVデータ3!P114),CSVデータ3!P114,0)+IF(ISNUMBER(CSVデータ4!P114),CSVデータ4!P114,0)","v":0},null,{"$f":"IF(ISNUMBER(CSVデータ1!R114),CSVデータ1!R114,0)+IF(ISNUMBER(CSVデータ2!R114),CSVデータ2!R114,0)+IF(ISNUMBER(CSVデータ3!R114),CSVデータ3!R114,0)+IF(ISNUMBER(CSVデータ4!R114),CSVデータ4!R114,0)","v":0},null,{"$f":"IF(ISNUMBER(CSVデータ1!T114),CSVデータ1!T114,0)+IF(ISNUMBER(CSVデータ2!T114),CSVデータ2!T114,0)+IF(ISNUMBER(CSVデータ3!T114),CSVデータ3!T114,0)+IF(ISNUMBER(CSVデータ4!T114),CSVデータ4!T114,0)","v":0},null,{"$f":"IF(ISNUMBER(CSVデータ1!V114),CSVデータ1!V114,0)+IF(ISNUMBER(CSVデータ2!V114),CSVデータ2!V114,0)+IF(ISNUMBER(CSVデータ3!V114),CSVデータ3!V114,0)+IF(ISNUMBER(CSVデータ4!V114),CSVデータ4!V114,0)","v":0},null,{"$f":"IF(ISNUMBER(CSVデータ1!X114),CSVデータ1!X114,0)+IF(ISNUMBER(CSVデータ2!X114),CSVデータ2!X114,0)+IF(ISNUMBER(CSVデータ3!X114),CSVデータ3!X114,0)+IF(ISNUMBER(CSVデータ4!X114),CSVデータ4!X114,0)","v":0},null,{"$f":"IF(ISNUMBER(CSVデータ1!Z114),CSVデータ1!Z114,0)+IF(ISNUMBER(CSVデータ2!Z114),CSVデータ2!Z114,0)+IF(ISNUMBER(CSVデータ3!Z114),CSVデータ3!Z114,0)+IF(ISNUMBER(CSVデータ4!Z114),CSVデータ4!Z114,0)","v":0},null,{"$f":"IF(ISNUMBER(CSVデータ1!AB114),CSVデータ1!AB114,0)+IF(ISNUMBER(CSVデータ2!AB114),CSVデータ2!AB114,0)+IF(ISNUMBER(CSVデータ3!AB114),CSVデータ3!AB114,0)+IF(ISNUMBER(CSVデータ4!AB114),CSVデータ4!AB114,0)","v":0},null,{"$f":"IF(ISNUMBER(CSVデータ1!AD114),CSVデータ1!AD114,0)+IF(ISNUMBER(CSVデータ2!AD114),CSVデータ2!AD114,0)+IF(ISNUMBER(CSVデータ3!AD114),CSVデータ3!AD114,0)+IF(ISNUMBER(CSVデータ4!AD114),CSVデータ4!AD114,0)","v":0},null,{"$f":"IF(ISNUMBER(CSVデータ1!AF114),CSVデータ1!AF114,0)+IF(ISNUMBER(CSVデータ2!AF114),CSVデータ2!AF114,0)+IF(ISNUMBER(CSVデータ3!AF114),CSVデータ3!AF114,0)+IF(ISNUMBER(CSVデータ4!AF114),CSVデータ4!AF114,0)","v":0},null,{"$f":"IF(ISNUMBER(CSVデータ1!AH114),CSVデータ1!AH114,0)+IF(ISNUMBER(CSVデータ2!AH114),CSVデータ2!AH114,0)+IF(ISNUMBER(CSVデータ3!AH114),CSVデータ3!AH114,0)+IF(ISNUMBER(CSVデータ4!AH114),CSVデータ4!AH114,0)","v":0},null,{"$f":"IF(ISNUMBER(CSVデータ1!AJ114),CSVデータ1!AJ114,0)+IF(ISNUMBER(CSVデータ2!AJ114),CSVデータ2!AJ114,0)+IF(ISNUMBER(CSVデータ3!AJ114),CSVデータ3!AJ114,0)+IF(ISNUMBER(CSVデータ4!AJ114),CSVデータ4!AJ114,0)","v":0},null,{"$f":"IF(ISNUMBER(CSVデータ1!AL114),CSVデータ1!AL114,0)+IF(ISNUMBER(CSVデータ2!AL114),CSVデータ2!AL114,0)+IF(ISNUMBER(CSVデータ3!AL114),CSVデータ3!AL114,0)+IF(ISNUMBER(CSVデータ4!AL114),CSVデータ4!AL114,0)","v":0},null,{"$f":"IF(ISNUMBER(CSVデータ1!AN114),CSVデータ1!AN114,0)+IF(ISNUMBER(CSVデータ2!AN114),CSVデータ2!AN114,0)+IF(ISNUMBER(CSVデータ3!AN114),CSVデータ3!AN114,0)+IF(ISNUMBER(CSVデータ4!AN114),CSVデータ4!AN114,0)","v":0}]
[{"$f":"CSVデータ1!A115","v":"明細部"},{"$f":"CSVデータ1!B115","v":"県"},{"$f":"CSVデータ1!C115","v":46},{"$f":"CSVデータ1!D115","v":"女"},{"$f":"IF(ISNUMBER(CSVデータ1!E115),CSVデータ1!E115,0)+IF(ISNUMBER(CSVデータ2!E115),CSVデータ2!E115,0)+IF(ISNUMBER(CSVデータ3!E115),CSVデータ3!E115,0)+IF(ISNUMBER(CSVデータ4!E115),CSVデータ4!E115,0)","v":0},{"$f":"IF(ISNUMBER(CSVデータ1!F115),CSVデータ1!F115,0)+IF(ISNUMBER(CSVデータ2!F115),CSVデータ2!F115,0)+IF(ISNUMBER(CSVデータ3!F115),CSVデータ3!F115,0)+IF(ISNUMBER(CSVデータ4!F115),CSVデータ4!F115,0)","v":0},null,{"$f":"IF(ISNUMBER(CSVデータ1!H115),CSVデータ1!H115,0)+IF(ISNUMBER(CSVデータ2!H115),CSVデータ2!H115,0)+IF(ISNUMBER(CSVデータ3!H115),CSVデータ3!H115,0)+IF(ISNUMBER(CSVデータ4!H115),CSVデータ4!H115,0)","v":0},null,{"$f":"IF(ISNUMBER(CSVデータ1!J115),CSVデータ1!J115,0)+IF(ISNUMBER(CSVデータ2!J115),CSVデータ2!J115,0)+IF(ISNUMBER(CSVデータ3!J115),CSVデータ3!J115,0)+IF(ISNUMBER(CSVデータ4!J115),CSVデータ4!J115,0)","v":0},null,{"$f":"IF(ISNUMBER(CSVデータ1!L115),CSVデータ1!L115,0)+IF(ISNUMBER(CSVデータ2!L115),CSVデータ2!L115,0)+IF(ISNUMBER(CSVデータ3!L115),CSVデータ3!L115,0)+IF(ISNUMBER(CSVデータ4!L115),CSVデータ4!L115,0)","v":0},null,{"$f":"IF(ISNUMBER(CSVデータ1!N115),CSVデータ1!N115,0)+IF(ISNUMBER(CSVデータ2!N115),CSVデータ2!N115,0)+IF(ISNUMBER(CSVデータ3!N115),CSVデータ3!N115,0)+IF(ISNUMBER(CSVデータ4!N115),CSVデータ4!N115,0)","v":0},null,{"$f":"IF(ISNUMBER(CSVデータ1!P115),CSVデータ1!P115,0)+IF(ISNUMBER(CSVデータ2!P115),CSVデータ2!P115,0)+IF(ISNUMBER(CSVデータ3!P115),CSVデータ3!P115,0)+IF(ISNUMBER(CSVデータ4!P115),CSVデータ4!P115,0)","v":0},null,{"$f":"IF(ISNUMBER(CSVデータ1!R115),CSVデータ1!R115,0)+IF(ISNUMBER(CSVデータ2!R115),CSVデータ2!R115,0)+IF(ISNUMBER(CSVデータ3!R115),CSVデータ3!R115,0)+IF(ISNUMBER(CSVデータ4!R115),CSVデータ4!R115,0)","v":0},null,{"$f":"IF(ISNUMBER(CSVデータ1!T115),CSVデータ1!T115,0)+IF(ISNUMBER(CSVデータ2!T115),CSVデータ2!T115,0)+IF(ISNUMBER(CSVデータ3!T115),CSVデータ3!T115,0)+IF(ISNUMBER(CSVデータ4!T115),CSVデータ4!T115,0)","v":0},null,{"$f":"IF(ISNUMBER(CSVデータ1!V115),CSVデータ1!V115,0)+IF(ISNUMBER(CSVデータ2!V115),CSVデータ2!V115,0)+IF(ISNUMBER(CSVデータ3!V115),CSVデータ3!V115,0)+IF(ISNUMBER(CSVデータ4!V115),CSVデータ4!V115,0)","v":0},null,{"$f":"IF(ISNUMBER(CSVデータ1!X115),CSVデータ1!X115,0)+IF(ISNUMBER(CSVデータ2!X115),CSVデータ2!X115,0)+IF(ISNUMBER(CSVデータ3!X115),CSVデータ3!X115,0)+IF(ISNUMBER(CSVデータ4!X115),CSVデータ4!X115,0)","v":0},null,{"$f":"IF(ISNUMBER(CSVデータ1!Z115),CSVデータ1!Z115,0)+IF(ISNUMBER(CSVデータ2!Z115),CSVデータ2!Z115,0)+IF(ISNUMBER(CSVデータ3!Z115),CSVデータ3!Z115,0)+IF(ISNUMBER(CSVデータ4!Z115),CSVデータ4!Z115,0)","v":0},null,{"$f":"IF(ISNUMBER(CSVデータ1!AB115),CSVデータ1!AB115,0)+IF(ISNUMBER(CSVデータ2!AB115),CSVデータ2!AB115,0)+IF(ISNUMBER(CSVデータ3!AB115),CSVデータ3!AB115,0)+IF(ISNUMBER(CSVデータ4!AB115),CSVデータ4!AB115,0)","v":0},null,{"$f":"IF(ISNUMBER(CSVデータ1!AD115),CSVデータ1!AD115,0)+IF(ISNUMBER(CSVデータ2!AD115),CSVデータ2!AD115,0)+IF(ISNUMBER(CSVデータ3!AD115),CSVデータ3!AD115,0)+IF(ISNUMBER(CSVデータ4!AD115),CSVデータ4!AD115,0)","v":0},null,{"$f":"IF(ISNUMBER(CSVデータ1!AF115),CSVデータ1!AF115,0)+IF(ISNUMBER(CSVデータ2!AF115),CSVデータ2!AF115,0)+IF(ISNUMBER(CSVデータ3!AF115),CSVデータ3!AF115,0)+IF(ISNUMBER(CSVデータ4!AF115),CSVデータ4!AF115,0)","v":0},null,{"$f":"IF(ISNUMBER(CSVデータ1!AH115),CSVデータ1!AH115,0)+IF(ISNUMBER(CSVデータ2!AH115),CSVデータ2!AH115,0)+IF(ISNUMBER(CSVデータ3!AH115),CSVデータ3!AH115,0)+IF(ISNUMBER(CSVデータ4!AH115),CSVデータ4!AH115,0)","v":0},null,{"$f":"IF(ISNUMBER(CSVデータ1!AJ115),CSVデータ1!AJ115,0)+IF(ISNUMBER(CSVデータ2!AJ115),CSVデータ2!AJ115,0)+IF(ISNUMBER(CSVデータ3!AJ115),CSVデータ3!AJ115,0)+IF(ISNUMBER(CSVデータ4!AJ115),CSVデータ4!AJ115,0)","v":0},null,{"$f":"IF(ISNUMBER(CSVデータ1!AL115),CSVデータ1!AL115,0)+IF(ISNUMBER(CSVデータ2!AL115),CSVデータ2!AL115,0)+IF(ISNUMBER(CSVデータ3!AL115),CSVデータ3!AL115,0)+IF(ISNUMBER(CSVデータ4!AL115),CSVデータ4!AL115,0)","v":0},null,{"$f":"IF(ISNUMBER(CSVデータ1!AN115),CSVデータ1!AN115,0)+IF(ISNUMBER(CSVデータ2!AN115),CSVデータ2!AN115,0)+IF(ISNUMBER(CSVデータ3!AN115),CSVデータ3!AN115,0)+IF(ISNUMBER(CSVデータ4!AN115),CSVデータ4!AN115,0)","v":0}]
[{"$f":"CSVデータ1!A116","v":"明細部"},{"$f":"CSVデータ1!B116","v":"県"},{"$f":"CSVデータ1!C116","v":47},{"$f":"CSVデータ1!D116","v":"女"},{"$f":"IF(ISNUMBER(CSVデータ1!E116),CSVデータ1!E116,0)+IF(ISNUMBER(CSVデータ2!E116),CSVデータ2!E116,0)+IF(ISNUMBER(CSVデータ3!E116),CSVデータ3!E116,0)+IF(ISNUMBER(CSVデータ4!E116),CSVデータ4!E116,0)","v":0},{"$f":"IF(ISNUMBER(CSVデータ1!F116),CSVデータ1!F116,0)+IF(ISNUMBER(CSVデータ2!F116),CSVデータ2!F116,0)+IF(ISNUMBER(CSVデータ3!F116),CSVデータ3!F116,0)+IF(ISNUMBER(CSVデータ4!F116),CSVデータ4!F116,0)","v":0},null,{"$f":"IF(ISNUMBER(CSVデータ1!H116),CSVデータ1!H116,0)+IF(ISNUMBER(CSVデータ2!H116),CSVデータ2!H116,0)+IF(ISNUMBER(CSVデータ3!H116),CSVデータ3!H116,0)+IF(ISNUMBER(CSVデータ4!H116),CSVデータ4!H116,0)","v":0},null,{"$f":"IF(ISNUMBER(CSVデータ1!J116),CSVデータ1!J116,0)+IF(ISNUMBER(CSVデータ2!J116),CSVデータ2!J116,0)+IF(ISNUMBER(CSVデータ3!J116),CSVデータ3!J116,0)+IF(ISNUMBER(CSVデータ4!J116),CSVデータ4!J116,0)","v":0},null,{"$f":"IF(ISNUMBER(CSVデータ1!L116),CSVデータ1!L116,0)+IF(ISNUMBER(CSVデータ2!L116),CSVデータ2!L116,0)+IF(ISNUMBER(CSVデータ3!L116),CSVデータ3!L116,0)+IF(ISNUMBER(CSVデータ4!L116),CSVデータ4!L116,0)","v":0},null,{"$f":"IF(ISNUMBER(CSVデータ1!N116),CSVデータ1!N116,0)+IF(ISNUMBER(CSVデータ2!N116),CSVデータ2!N116,0)+IF(ISNUMBER(CSVデータ3!N116),CSVデータ3!N116,0)+IF(ISNUMBER(CSVデータ4!N116),CSVデータ4!N116,0)","v":0},null,{"$f":"IF(ISNUMBER(CSVデータ1!P116),CSVデータ1!P116,0)+IF(ISNUMBER(CSVデータ2!P116),CSVデータ2!P116,0)+IF(ISNUMBER(CSVデータ3!P116),CSVデータ3!P116,0)+IF(ISNUMBER(CSVデータ4!P116),CSVデータ4!P116,0)","v":0},null,{"$f":"IF(ISNUMBER(CSVデータ1!R116),CSVデータ1!R116,0)+IF(ISNUMBER(CSVデータ2!R116),CSVデータ2!R116,0)+IF(ISNUMBER(CSVデータ3!R116),CSVデータ3!R116,0)+IF(ISNUMBER(CSVデータ4!R116),CSVデータ4!R116,0)","v":0},null,{"$f":"IF(ISNUMBER(CSVデータ1!T116),CSVデータ1!T116,0)+IF(ISNUMBER(CSVデータ2!T116),CSVデータ2!T116,0)+IF(ISNUMBER(CSVデータ3!T116),CSVデータ3!T116,0)+IF(ISNUMBER(CSVデータ4!T116),CSVデータ4!T116,0)","v":0},null,{"$f":"IF(ISNUMBER(CSVデータ1!V116),CSVデータ1!V116,0)+IF(ISNUMBER(CSVデータ2!V116),CSVデータ2!V116,0)+IF(ISNUMBER(CSVデータ3!V116),CSVデータ3!V116,0)+IF(ISNUMBER(CSVデータ4!V116),CSVデータ4!V116,0)","v":0},null,{"$f":"IF(ISNUMBER(CSVデータ1!X116),CSVデータ1!X116,0)+IF(ISNUMBER(CSVデータ2!X116),CSVデータ2!X116,0)+IF(ISNUMBER(CSVデータ3!X116),CSVデータ3!X116,0)+IF(ISNUMBER(CSVデータ4!X116),CSVデータ4!X116,0)","v":0},null,{"$f":"IF(ISNUMBER(CSVデータ1!Z116),CSVデータ1!Z116,0)+IF(ISNUMBER(CSVデータ2!Z116),CSVデータ2!Z116,0)+IF(ISNUMBER(CSVデータ3!Z116),CSVデータ3!Z116,0)+IF(ISNUMBER(CSVデータ4!Z116),CSVデータ4!Z116,0)","v":0},null,{"$f":"IF(ISNUMBER(CSVデータ1!AB116),CSVデータ1!AB116,0)+IF(ISNUMBER(CSVデータ2!AB116),CSVデータ2!AB116,0)+IF(ISNUMBER(CSVデータ3!AB116),CSVデータ3!AB116,0)+IF(ISNUMBER(CSVデータ4!AB116),CSVデータ4!AB116,0)","v":0},null,{"$f":"IF(ISNUMBER(CSVデータ1!AD116),CSVデータ1!AD116,0)+IF(ISNUMBER(CSVデータ2!AD116),CSVデータ2!AD116,0)+IF(ISNUMBER(CSVデータ3!AD116),CSVデータ3!AD116,0)+IF(ISNUMBER(CSVデータ4!AD116),CSVデータ4!AD116,0)","v":0},null,{"$f":"IF(ISNUMBER(CSVデータ1!AF116),CSVデータ1!AF116,0)+IF(ISNUMBER(CSVデータ2!AF116),CSVデータ2!AF116,0)+IF(ISNUMBER(CSVデータ3!AF116),CSVデータ3!AF116,0)+IF(ISNUMBER(CSVデータ4!AF116),CSVデータ4!AF116,0)","v":0},null,{"$f":"IF(ISNUMBER(CSVデータ1!AH116),CSVデータ1!AH116,0)+IF(ISNUMBER(CSVデータ2!AH116),CSVデータ2!AH116,0)+IF(ISNUMBER(CSVデータ3!AH116),CSVデータ3!AH116,0)+IF(ISNUMBER(CSVデータ4!AH116),CSVデータ4!AH116,0)","v":0},null,{"$f":"IF(ISNUMBER(CSVデータ1!AJ116),CSVデータ1!AJ116,0)+IF(ISNUMBER(CSVデータ2!AJ116),CSVデータ2!AJ116,0)+IF(ISNUMBER(CSVデータ3!AJ116),CSVデータ3!AJ116,0)+IF(ISNUMBER(CSVデータ4!AJ116),CSVデータ4!AJ116,0)","v":0},null,{"$f":"IF(ISNUMBER(CSVデータ1!AL116),CSVデータ1!AL116,0)+IF(ISNUMBER(CSVデータ2!AL116),CSVデータ2!AL116,0)+IF(ISNUMBER(CSVデータ3!AL116),CSVデータ3!AL116,0)+IF(ISNUMBER(CSVデータ4!AL116),CSVデータ4!AL116,0)","v":0},null,{"$f":"IF(ISNUMBER(CSVデータ1!AN116),CSVデータ1!AN116,0)+IF(ISNUMBER(CSVデータ2!AN116),CSVデータ2!AN116,0)+IF(ISNUMBER(CSVデータ3!AN116),CSVデータ3!AN116,0)+IF(ISNUMBER(CSVデータ4!AN116),CSVデータ4!AN116,0)","v":0}]
[{"$f":"CSVデータ1!A117","v":"明細部"},{"$f":"CSVデータ1!B117","v":"県"},{"$f":"CSVデータ1!C117","v":48},{"$f":"CSVデータ1!D117","v":"女"},{"$f":"IF(ISNUMBER(CSVデータ1!E117),CSVデータ1!E117,0)+IF(ISNUMBER(CSVデータ2!E117),CSVデータ2!E117,0)+IF(ISNUMBER(CSVデータ3!E117),CSVデータ3!E117,0)+IF(ISNUMBER(CSVデータ4!E117),CSVデータ4!E117,0)","v":0},{"$f":"IF(ISNUMBER(CSVデータ1!F117),CSVデータ1!F117,0)+IF(ISNUMBER(CSVデータ2!F117),CSVデータ2!F117,0)+IF(ISNUMBER(CSVデータ3!F117),CSVデータ3!F117,0)+IF(ISNUMBER(CSVデータ4!F117),CSVデータ4!F117,0)","v":0},null,{"$f":"IF(ISNUMBER(CSVデータ1!H117),CSVデータ1!H117,0)+IF(ISNUMBER(CSVデータ2!H117),CSVデータ2!H117,0)+IF(ISNUMBER(CSVデータ3!H117),CSVデータ3!H117,0)+IF(ISNUMBER(CSVデータ4!H117),CSVデータ4!H117,0)","v":0},null,{"$f":"IF(ISNUMBER(CSVデータ1!J117),CSVデータ1!J117,0)+IF(ISNUMBER(CSVデータ2!J117),CSVデータ2!J117,0)+IF(ISNUMBER(CSVデータ3!J117),CSVデータ3!J117,0)+IF(ISNUMBER(CSVデータ4!J117),CSVデータ4!J117,0)","v":0},null,{"$f":"IF(ISNUMBER(CSVデータ1!L117),CSVデータ1!L117,0)+IF(ISNUMBER(CSVデータ2!L117),CSVデータ2!L117,0)+IF(ISNUMBER(CSVデータ3!L117),CSVデータ3!L117,0)+IF(ISNUMBER(CSVデータ4!L117),CSVデータ4!L117,0)","v":0},null,{"$f":"IF(ISNUMBER(CSVデータ1!N117),CSVデータ1!N117,0)+IF(ISNUMBER(CSVデータ2!N117),CSVデータ2!N117,0)+IF(ISNUMBER(CSVデータ3!N117),CSVデータ3!N117,0)+IF(ISNUMBER(CSVデータ4!N117),CSVデータ4!N117,0)","v":0},null,{"$f":"IF(ISNUMBER(CSVデータ1!P117),CSVデータ1!P117,0)+IF(ISNUMBER(CSVデータ2!P117),CSVデータ2!P117,0)+IF(ISNUMBER(CSVデータ3!P117),CSVデータ3!P117,0)+IF(ISNUMBER(CSVデータ4!P117),CSVデータ4!P117,0)","v":0},null,{"$f":"IF(ISNUMBER(CSVデータ1!R117),CSVデータ1!R117,0)+IF(ISNUMBER(CSVデータ2!R117),CSVデータ2!R117,0)+IF(ISNUMBER(CSVデータ3!R117),CSVデータ3!R117,0)+IF(ISNUMBER(CSVデータ4!R117),CSVデータ4!R117,0)","v":0},null,{"$f":"IF(ISNUMBER(CSVデータ1!T117),CSVデータ1!T117,0)+IF(ISNUMBER(CSVデータ2!T117),CSVデータ2!T117,0)+IF(ISNUMBER(CSVデータ3!T117),CSVデータ3!T117,0)+IF(ISNUMBER(CSVデータ4!T117),CSVデータ4!T117,0)","v":0},null,{"$f":"IF(ISNUMBER(CSVデータ1!V117),CSVデータ1!V117,0)+IF(ISNUMBER(CSVデータ2!V117),CSVデータ2!V117,0)+IF(ISNUMBER(CSVデータ3!V117),CSVデータ3!V117,0)+IF(ISNUMBER(CSVデータ4!V117),CSVデータ4!V117,0)","v":0},null,{"$f":"IF(ISNUMBER(CSVデータ1!X117),CSVデータ1!X117,0)+IF(ISNUMBER(CSVデータ2!X117),CSVデータ2!X117,0)+IF(ISNUMBER(CSVデータ3!X117),CSVデータ3!X117,0)+IF(ISNUMBER(CSVデータ4!X117),CSVデータ4!X117,0)","v":0},null,{"$f":"IF(ISNUMBER(CSVデータ1!Z117),CSVデータ1!Z117,0)+IF(ISNUMBER(CSVデータ2!Z117),CSVデータ2!Z117,0)+IF(ISNUMBER(CSVデータ3!Z117),CSVデータ3!Z117,0)+IF(ISNUMBER(CSVデータ4!Z117),CSVデータ4!Z117,0)","v":0},null,{"$f":"IF(ISNUMBER(CSVデータ1!AB117),CSVデータ1!AB117,0)+IF(ISNUMBER(CSVデータ2!AB117),CSVデータ2!AB117,0)+IF(ISNUMBER(CSVデータ3!AB117),CSVデータ3!AB117,0)+IF(ISNUMBER(CSVデータ4!AB117),CSVデータ4!AB117,0)","v":0},null,{"$f":"IF(ISNUMBER(CSVデータ1!AD117),CSVデータ1!AD117,0)+IF(ISNUMBER(CSVデータ2!AD117),CSVデータ2!AD117,0)+IF(ISNUMBER(CSVデータ3!AD117),CSVデータ3!AD117,0)+IF(ISNUMBER(CSVデータ4!AD117),CSVデータ4!AD117,0)","v":0},null,{"$f":"IF(ISNUMBER(CSVデータ1!AF117),CSVデータ1!AF117,0)+IF(ISNUMBER(CSVデータ2!AF117),CSVデータ2!AF117,0)+IF(ISNUMBER(CSVデータ3!AF117),CSVデータ3!AF117,0)+IF(ISNUMBER(CSVデータ4!AF117),CSVデータ4!AF117,0)","v":0},null,{"$f":"IF(ISNUMBER(CSVデータ1!AH117),CSVデータ1!AH117,0)+IF(ISNUMBER(CSVデータ2!AH117),CSVデータ2!AH117,0)+IF(ISNUMBER(CSVデータ3!AH117),CSVデータ3!AH117,0)+IF(ISNUMBER(CSVデータ4!AH117),CSVデータ4!AH117,0)","v":0},null,{"$f":"IF(ISNUMBER(CSVデータ1!AJ117),CSVデータ1!AJ117,0)+IF(ISNUMBER(CSVデータ2!AJ117),CSVデータ2!AJ117,0)+IF(ISNUMBER(CSVデータ3!AJ117),CSVデータ3!AJ117,0)+IF(ISNUMBER(CSVデータ4!AJ117),CSVデータ4!AJ117,0)","v":0},null,{"$f":"IF(ISNUMBER(CSVデータ1!AL117),CSVデータ1!AL117,0)+IF(ISNUMBER(CSVデータ2!AL117),CSVデータ2!AL117,0)+IF(ISNUMBER(CSVデータ3!AL117),CSVデータ3!AL117,0)+IF(ISNUMBER(CSVデータ4!AL117),CSVデータ4!AL117,0)","v":0},null,{"$f":"IF(ISNUMBER(CSVデータ1!AN117),CSVデータ1!AN117,0)+IF(ISNUMBER(CSVデータ2!AN117),CSVデータ2!AN117,0)+IF(ISNUMBER(CSVデータ3!AN117),CSVデータ3!AN117,0)+IF(ISNUMBER(CSVデータ4!AN117),CSVデータ4!AN117,0)","v":0}]
[{"$f":"CSVデータ1!A118","v":"明細部"},{"$f":"CSVデータ1!B118","v":"県"},{"$f":"CSVデータ1!C118","v":49},{"$f":"CSVデータ1!D118","v":"女"},{"$f":"IF(ISNUMBER(CSVデータ1!E118),CSVデータ1!E118,0)+IF(ISNUMBER(CSVデータ2!E118),CSVデータ2!E118,0)+IF(ISNUMBER(CSVデータ3!E118),CSVデータ3!E118,0)+IF(ISNUMBER(CSVデータ4!E118),CSVデータ4!E118,0)","v":0},{"$f":"IF(ISNUMBER(CSVデータ1!F118),CSVデータ1!F118,0)+IF(ISNUMBER(CSVデータ2!F118),CSVデータ2!F118,0)+IF(ISNUMBER(CSVデータ3!F118),CSVデータ3!F118,0)+IF(ISNUMBER(CSVデータ4!F118),CSVデータ4!F118,0)","v":0},null,{"$f":"IF(ISNUMBER(CSVデータ1!H118),CSVデータ1!H118,0)+IF(ISNUMBER(CSVデータ2!H118),CSVデータ2!H118,0)+IF(ISNUMBER(CSVデータ3!H118),CSVデータ3!H118,0)+IF(ISNUMBER(CSVデータ4!H118),CSVデータ4!H118,0)","v":0},null,{"$f":"IF(ISNUMBER(CSVデータ1!J118),CSVデータ1!J118,0)+IF(ISNUMBER(CSVデータ2!J118),CSVデータ2!J118,0)+IF(ISNUMBER(CSVデータ3!J118),CSVデータ3!J118,0)+IF(ISNUMBER(CSVデータ4!J118),CSVデータ4!J118,0)","v":0},null,{"$f":"IF(ISNUMBER(CSVデータ1!L118),CSVデータ1!L118,0)+IF(ISNUMBER(CSVデータ2!L118),CSVデータ2!L118,0)+IF(ISNUMBER(CSVデータ3!L118),CSVデータ3!L118,0)+IF(ISNUMBER(CSVデータ4!L118),CSVデータ4!L118,0)","v":0},null,{"$f":"IF(ISNUMBER(CSVデータ1!N118),CSVデータ1!N118,0)+IF(ISNUMBER(CSVデータ2!N118),CSVデータ2!N118,0)+IF(ISNUMBER(CSVデータ3!N118),CSVデータ3!N118,0)+IF(ISNUMBER(CSVデータ4!N118),CSVデータ4!N118,0)","v":0},null,{"$f":"IF(ISNUMBER(CSVデータ1!P118),CSVデータ1!P118,0)+IF(ISNUMBER(CSVデータ2!P118),CSVデータ2!P118,0)+IF(ISNUMBER(CSVデータ3!P118),CSVデータ3!P118,0)+IF(ISNUMBER(CSVデータ4!P118),CSVデータ4!P118,0)","v":0},null,{"$f":"IF(ISNUMBER(CSVデータ1!R118),CSVデータ1!R118,0)+IF(ISNUMBER(CSVデータ2!R118),CSVデータ2!R118,0)+IF(ISNUMBER(CSVデータ3!R118),CSVデータ3!R118,0)+IF(ISNUMBER(CSVデータ4!R118),CSVデータ4!R118,0)","v":0},null,{"$f":"IF(ISNUMBER(CSVデータ1!T118),CSVデータ1!T118,0)+IF(ISNUMBER(CSVデータ2!T118),CSVデータ2!T118,0)+IF(ISNUMBER(CSVデータ3!T118),CSVデータ3!T118,0)+IF(ISNUMBER(CSVデータ4!T118),CSVデータ4!T118,0)","v":0},null,{"$f":"IF(ISNUMBER(CSVデータ1!V118),CSVデータ1!V118,0)+IF(ISNUMBER(CSVデータ2!V118),CSVデータ2!V118,0)+IF(ISNUMBER(CSVデータ3!V118),CSVデータ3!V118,0)+IF(ISNUMBER(CSVデータ4!V118),CSVデータ4!V118,0)","v":0},null,{"$f":"IF(ISNUMBER(CSVデータ1!X118),CSVデータ1!X118,0)+IF(ISNUMBER(CSVデータ2!X118),CSVデータ2!X118,0)+IF(ISNUMBER(CSVデータ3!X118),CSVデータ3!X118,0)+IF(ISNUMBER(CSVデータ4!X118),CSVデータ4!X118,0)","v":0},null,{"$f":"IF(ISNUMBER(CSVデータ1!Z118),CSVデータ1!Z118,0)+IF(ISNUMBER(CSVデータ2!Z118),CSVデータ2!Z118,0)+IF(ISNUMBER(CSVデータ3!Z118),CSVデータ3!Z118,0)+IF(ISNUMBER(CSVデータ4!Z118),CSVデータ4!Z118,0)","v":0},null,{"$f":"IF(ISNUMBER(CSVデータ1!AB118),CSVデータ1!AB118,0)+IF(ISNUMBER(CSVデータ2!AB118),CSVデータ2!AB118,0)+IF(ISNUMBER(CSVデータ3!AB118),CSVデータ3!AB118,0)+IF(ISNUMBER(CSVデータ4!AB118),CSVデータ4!AB118,0)","v":0},null,{"$f":"IF(ISNUMBER(CSVデータ1!AD118),CSVデータ1!AD118,0)+IF(ISNUMBER(CSVデータ2!AD118),CSVデータ2!AD118,0)+IF(ISNUMBER(CSVデータ3!AD118),CSVデータ3!AD118,0)+IF(ISNUMBER(CSVデータ4!AD118),CSVデータ4!AD118,0)","v":0},null,{"$f":"IF(ISNUMBER(CSVデータ1!AF118),CSVデータ1!AF118,0)+IF(ISNUMBER(CSVデータ2!AF118),CSVデータ2!AF118,0)+IF(ISNUMBER(CSVデータ3!AF118),CSVデータ3!AF118,0)+IF(ISNUMBER(CSVデータ4!AF118),CSVデータ4!AF118,0)","v":0},null,{"$f":"IF(ISNUMBER(CSVデータ1!AH118),CSVデータ1!AH118,0)+IF(ISNUMBER(CSVデータ2!AH118),CSVデータ2!AH118,0)+IF(ISNUMBER(CSVデータ3!AH118),CSVデータ3!AH118,0)+IF(ISNUMBER(CSVデータ4!AH118),CSVデータ4!AH118,0)","v":0},null,{"$f":"IF(ISNUMBER(CSVデータ1!AJ118),CSVデータ1!AJ118,0)+IF(ISNUMBER(CSVデータ2!AJ118),CSVデータ2!AJ118,0)+IF(ISNUMBER(CSVデータ3!AJ118),CSVデータ3!AJ118,0)+IF(ISNUMBER(CSVデータ4!AJ118),CSVデータ4!AJ118,0)","v":0},null,{"$f":"IF(ISNUMBER(CSVデータ1!AL118),CSVデータ1!AL118,0)+IF(ISNUMBER(CSVデータ2!AL118),CSVデータ2!AL118,0)+IF(ISNUMBER(CSVデータ3!AL118),CSVデータ3!AL118,0)+IF(ISNUMBER(CSVデータ4!AL118),CSVデータ4!AL118,0)","v":0},null,{"$f":"IF(ISNUMBER(CSVデータ1!AN118),CSVデータ1!AN118,0)+IF(ISNUMBER(CSVデータ2!AN118),CSVデータ2!AN118,0)+IF(ISNUMBER(CSVデータ3!AN118),CSVデータ3!AN118,0)+IF(ISNUMBER(CSVデータ4!AN118),CSVデータ4!AN118,0)","v":0}]
[{"$f":"CSVデータ1!A119","v":"明細部"},{"$f":"CSVデータ1!B119","v":"県"},{"$f":"CSVデータ1!C119","v":50},{"$f":"CSVデータ1!D119","v":"女"},{"$f":"IF(ISNUMBER(CSVデータ1!E119),CSVデータ1!E119,0)+IF(ISNUMBER(CSVデータ2!E119),CSVデータ2!E119,0)+IF(ISNUMBER(CSVデータ3!E119),CSVデータ3!E119,0)+IF(ISNUMBER(CSVデータ4!E119),CSVデータ4!E119,0)","v":0},{"$f":"IF(ISNUMBER(CSVデータ1!F119),CSVデータ1!F119,0)+IF(ISNUMBER(CSVデータ2!F119),CSVデータ2!F119,0)+IF(ISNUMBER(CSVデータ3!F119),CSVデータ3!F119,0)+IF(ISNUMBER(CSVデータ4!F119),CSVデータ4!F119,0)","v":0},null,{"$f":"IF(ISNUMBER(CSVデータ1!H119),CSVデータ1!H119,0)+IF(ISNUMBER(CSVデータ2!H119),CSVデータ2!H119,0)+IF(ISNUMBER(CSVデータ3!H119),CSVデータ3!H119,0)+IF(ISNUMBER(CSVデータ4!H119),CSVデータ4!H119,0)","v":0},null,{"$f":"IF(ISNUMBER(CSVデータ1!J119),CSVデータ1!J119,0)+IF(ISNUMBER(CSVデータ2!J119),CSVデータ2!J119,0)+IF(ISNUMBER(CSVデータ3!J119),CSVデータ3!J119,0)+IF(ISNUMBER(CSVデータ4!J119),CSVデータ4!J119,0)","v":0},null,{"$f":"IF(ISNUMBER(CSVデータ1!L119),CSVデータ1!L119,0)+IF(ISNUMBER(CSVデータ2!L119),CSVデータ2!L119,0)+IF(ISNUMBER(CSVデータ3!L119),CSVデータ3!L119,0)+IF(ISNUMBER(CSVデータ4!L119),CSVデータ4!L119,0)","v":0},null,{"$f":"IF(ISNUMBER(CSVデータ1!N119),CSVデータ1!N119,0)+IF(ISNUMBER(CSVデータ2!N119),CSVデータ2!N119,0)+IF(ISNUMBER(CSVデータ3!N119),CSVデータ3!N119,0)+IF(ISNUMBER(CSVデータ4!N119),CSVデータ4!N119,0)","v":0},null,{"$f":"IF(ISNUMBER(CSVデータ1!P119),CSVデータ1!P119,0)+IF(ISNUMBER(CSVデータ2!P119),CSVデータ2!P119,0)+IF(ISNUMBER(CSVデータ3!P119),CSVデータ3!P119,0)+IF(ISNUMBER(CSVデータ4!P119),CSVデータ4!P119,0)","v":0},null,{"$f":"IF(ISNUMBER(CSVデータ1!R119),CSVデータ1!R119,0)+IF(ISNUMBER(CSVデータ2!R119),CSVデータ2!R119,0)+IF(ISNUMBER(CSVデータ3!R119),CSVデータ3!R119,0)+IF(ISNUMBER(CSVデータ4!R119),CSVデータ4!R119,0)","v":0},null,{"$f":"IF(ISNUMBER(CSVデータ1!T119),CSVデータ1!T119,0)+IF(ISNUMBER(CSVデータ2!T119),CSVデータ2!T119,0)+IF(ISNUMBER(CSVデータ3!T119),CSVデータ3!T119,0)+IF(ISNUMBER(CSVデータ4!T119),CSVデータ4!T119,0)","v":0},null,{"$f":"IF(ISNUMBER(CSVデータ1!V119),CSVデータ1!V119,0)+IF(ISNUMBER(CSVデータ2!V119),CSVデータ2!V119,0)+IF(ISNUMBER(CSVデータ3!V119),CSVデータ3!V119,0)+IF(ISNUMBER(CSVデータ4!V119),CSVデータ4!V119,0)","v":0},null,{"$f":"IF(ISNUMBER(CSVデータ1!X119),CSVデータ1!X119,0)+IF(ISNUMBER(CSVデータ2!X119),CSVデータ2!X119,0)+IF(ISNUMBER(CSVデータ3!X119),CSVデータ3!X119,0)+IF(ISNUMBER(CSVデータ4!X119),CSVデータ4!X119,0)","v":0},null,{"$f":"IF(ISNUMBER(CSVデータ1!Z119),CSVデータ1!Z119,0)+IF(ISNUMBER(CSVデータ2!Z119),CSVデータ2!Z119,0)+IF(ISNUMBER(CSVデータ3!Z119),CSVデータ3!Z119,0)+IF(ISNUMBER(CSVデータ4!Z119),CSVデータ4!Z119,0)","v":0},null,{"$f":"IF(ISNUMBER(CSVデータ1!AB119),CSVデータ1!AB119,0)+IF(ISNUMBER(CSVデータ2!AB119),CSVデータ2!AB119,0)+IF(ISNUMBER(CSVデータ3!AB119),CSVデータ3!AB119,0)+IF(ISNUMBER(CSVデータ4!AB119),CSVデータ4!AB119,0)","v":0},null,{"$f":"IF(ISNUMBER(CSVデータ1!AD119),CSVデータ1!AD119,0)+IF(ISNUMBER(CSVデータ2!AD119),CSVデータ2!AD119,0)+IF(ISNUMBER(CSVデータ3!AD119),CSVデータ3!AD119,0)+IF(ISNUMBER(CSVデータ4!AD119),CSVデータ4!AD119,0)","v":0},null,{"$f":"IF(ISNUMBER(CSVデータ1!AF119),CSVデータ1!AF119,0)+IF(ISNUMBER(CSVデータ2!AF119),CSVデータ2!AF119,0)+IF(ISNUMBER(CSVデータ3!AF119),CSVデータ3!AF119,0)+IF(ISNUMBER(CSVデータ4!AF119),CSVデータ4!AF119,0)","v":0},null,{"$f":"IF(ISNUMBER(CSVデータ1!AH119),CSVデータ1!AH119,0)+IF(ISNUMBER(CSVデータ2!AH119),CSVデータ2!AH119,0)+IF(ISNUMBER(CSVデータ3!AH119),CSVデータ3!AH119,0)+IF(ISNUMBER(CSVデータ4!AH119),CSVデータ4!AH119,0)","v":0},null,{"$f":"IF(ISNUMBER(CSVデータ1!AJ119),CSVデータ1!AJ119,0)+IF(ISNUMBER(CSVデータ2!AJ119),CSVデータ2!AJ119,0)+IF(ISNUMBER(CSVデータ3!AJ119),CSVデータ3!AJ119,0)+IF(ISNUMBER(CSVデータ4!AJ119),CSVデータ4!AJ119,0)","v":0},null,{"$f":"IF(ISNUMBER(CSVデータ1!AL119),CSVデータ1!AL119,0)+IF(ISNUMBER(CSVデータ2!AL119),CSVデータ2!AL119,0)+IF(ISNUMBER(CSVデータ3!AL119),CSVデータ3!AL119,0)+IF(ISNUMBER(CSVデータ4!AL119),CSVデータ4!AL119,0)","v":0},null,{"$f":"IF(ISNUMBER(CSVデータ1!AN119),CSVデータ1!AN119,0)+IF(ISNUMBER(CSVデータ2!AN119),CSVデータ2!AN119,0)+IF(ISNUMBER(CSVデータ3!AN119),CSVデータ3!AN119,0)+IF(ISNUMBER(CSVデータ4!AN119),CSVデータ4!AN119,0)","v":0}]
[{"$f":"CSVデータ1!A120","v":"明細部"},{"$f":"CSVデータ1!B120","v":"県"},{"$f":"CSVデータ1!C120","v":51},{"$f":"CSVデータ1!D120","v":"女"},{"$f":"IF(ISNUMBER(CSVデータ1!E120),CSVデータ1!E120,0)+IF(ISNUMBER(CSVデータ2!E120),CSVデータ2!E120,0)+IF(ISNUMBER(CSVデータ3!E120),CSVデータ3!E120,0)+IF(ISNUMBER(CSVデータ4!E120),CSVデータ4!E120,0)","v":0},{"$f":"IF(ISNUMBER(CSVデータ1!F120),CSVデータ1!F120,0)+IF(ISNUMBER(CSVデータ2!F120),CSVデータ2!F120,0)+IF(ISNUMBER(CSVデータ3!F120),CSVデータ3!F120,0)+IF(ISNUMBER(CSVデータ4!F120),CSVデータ4!F120,0)","v":0},null,{"$f":"IF(ISNUMBER(CSVデータ1!H120),CSVデータ1!H120,0)+IF(ISNUMBER(CSVデータ2!H120),CSVデータ2!H120,0)+IF(ISNUMBER(CSVデータ3!H120),CSVデータ3!H120,0)+IF(ISNUMBER(CSVデータ4!H120),CSVデータ4!H120,0)","v":0},null,{"$f":"IF(ISNUMBER(CSVデータ1!J120),CSVデータ1!J120,0)+IF(ISNUMBER(CSVデータ2!J120),CSVデータ2!J120,0)+IF(ISNUMBER(CSVデータ3!J120),CSVデータ3!J120,0)+IF(ISNUMBER(CSVデータ4!J120),CSVデータ4!J120,0)","v":0},null,{"$f":"IF(ISNUMBER(CSVデータ1!L120),CSVデータ1!L120,0)+IF(ISNUMBER(CSVデータ2!L120),CSVデータ2!L120,0)+IF(ISNUMBER(CSVデータ3!L120),CSVデータ3!L120,0)+IF(ISNUMBER(CSVデータ4!L120),CSVデータ4!L120,0)","v":0},null,{"$f":"IF(ISNUMBER(CSVデータ1!N120),CSVデータ1!N120,0)+IF(ISNUMBER(CSVデータ2!N120),CSVデータ2!N120,0)+IF(ISNUMBER(CSVデータ3!N120),CSVデータ3!N120,0)+IF(ISNUMBER(CSVデータ4!N120),CSVデータ4!N120,0)","v":0},null,{"$f":"IF(ISNUMBER(CSVデータ1!P120),CSVデータ1!P120,0)+IF(ISNUMBER(CSVデータ2!P120),CSVデータ2!P120,0)+IF(ISNUMBER(CSVデータ3!P120),CSVデータ3!P120,0)+IF(ISNUMBER(CSVデータ4!P120),CSVデータ4!P120,0)","v":0},null,{"$f":"IF(ISNUMBER(CSVデータ1!R120),CSVデータ1!R120,0)+IF(ISNUMBER(CSVデータ2!R120),CSVデータ2!R120,0)+IF(ISNUMBER(CSVデータ3!R120),CSVデータ3!R120,0)+IF(ISNUMBER(CSVデータ4!R120),CSVデータ4!R120,0)","v":0},null,{"$f":"IF(ISNUMBER(CSVデータ1!T120),CSVデータ1!T120,0)+IF(ISNUMBER(CSVデータ2!T120),CSVデータ2!T120,0)+IF(ISNUMBER(CSVデータ3!T120),CSVデータ3!T120,0)+IF(ISNUMBER(CSVデータ4!T120),CSVデータ4!T120,0)","v":0},null,{"$f":"IF(ISNUMBER(CSVデータ1!V120),CSVデータ1!V120,0)+IF(ISNUMBER(CSVデータ2!V120),CSVデータ2!V120,0)+IF(ISNUMBER(CSVデータ3!V120),CSVデータ3!V120,0)+IF(ISNUMBER(CSVデータ4!V120),CSVデータ4!V120,0)","v":0},null,{"$f":"IF(ISNUMBER(CSVデータ1!X120),CSVデータ1!X120,0)+IF(ISNUMBER(CSVデータ2!X120),CSVデータ2!X120,0)+IF(ISNUMBER(CSVデータ3!X120),CSVデータ3!X120,0)+IF(ISNUMBER(CSVデータ4!X120),CSVデータ4!X120,0)","v":0},null,{"$f":"IF(ISNUMBER(CSVデータ1!Z120),CSVデータ1!Z120,0)+IF(ISNUMBER(CSVデータ2!Z120),CSVデータ2!Z120,0)+IF(ISNUMBER(CSVデータ3!Z120),CSVデータ3!Z120,0)+IF(ISNUMBER(CSVデータ4!Z120),CSVデータ4!Z120,0)","v":0},null,{"$f":"IF(ISNUMBER(CSVデータ1!AB120),CSVデータ1!AB120,0)+IF(ISNUMBER(CSVデータ2!AB120),CSVデータ2!AB120,0)+IF(ISNUMBER(CSVデータ3!AB120),CSVデータ3!AB120,0)+IF(ISNUMBER(CSVデータ4!AB120),CSVデータ4!AB120,0)","v":0},null,{"$f":"IF(ISNUMBER(CSVデータ1!AD120),CSVデータ1!AD120,0)+IF(ISNUMBER(CSVデータ2!AD120),CSVデータ2!AD120,0)+IF(ISNUMBER(CSVデータ3!AD120),CSVデータ3!AD120,0)+IF(ISNUMBER(CSVデータ4!AD120),CSVデータ4!AD120,0)","v":0},null,{"$f":"IF(ISNUMBER(CSVデータ1!AF120),CSVデータ1!AF120,0)+IF(ISNUMBER(CSVデータ2!AF120),CSVデータ2!AF120,0)+IF(ISNUMBER(CSVデータ3!AF120),CSVデータ3!AF120,0)+IF(ISNUMBER(CSVデータ4!AF120),CSVデータ4!AF120,0)","v":0},null,{"$f":"IF(ISNUMBER(CSVデータ1!AH120),CSVデータ1!AH120,0)+IF(ISNUMBER(CSVデータ2!AH120),CSVデータ2!AH120,0)+IF(ISNUMBER(CSVデータ3!AH120),CSVデータ3!AH120,0)+IF(ISNUMBER(CSVデータ4!AH120),CSVデータ4!AH120,0)","v":0},null,{"$f":"IF(ISNUMBER(CSVデータ1!AJ120),CSVデータ1!AJ120,0)+IF(ISNUMBER(CSVデータ2!AJ120),CSVデータ2!AJ120,0)+IF(ISNUMBER(CSVデータ3!AJ120),CSVデータ3!AJ120,0)+IF(ISNUMBER(CSVデータ4!AJ120),CSVデータ4!AJ120,0)","v":0},null,{"$f":"IF(ISNUMBER(CSVデータ1!AL120),CSVデータ1!AL120,0)+IF(ISNUMBER(CSVデータ2!AL120),CSVデータ2!AL120,0)+IF(ISNUMBER(CSVデータ3!AL120),CSVデータ3!AL120,0)+IF(ISNUMBER(CSVデータ4!AL120),CSVデータ4!AL120,0)","v":0},null,{"$f":"IF(ISNUMBER(CSVデータ1!AN120),CSVデータ1!AN120,0)+IF(ISNUMBER(CSVデータ2!AN120),CSVデータ2!AN120,0)+IF(ISNUMBER(CSVデータ3!AN120),CSVデータ3!AN120,0)+IF(ISNUMBER(CSVデータ4!AN120),CSVデータ4!AN120,0)","v":0}]
[{"$f":"CSVデータ1!A121","v":"明細部"},{"$f":"CSVデータ1!B121","v":"県"},{"$f":"CSVデータ1!C121","v":52},{"$f":"CSVデータ1!D121","v":"女"},{"$f":"IF(ISNUMBER(CSVデータ1!E121),CSVデータ1!E121,0)+IF(ISNUMBER(CSVデータ2!E121),CSVデータ2!E121,0)+IF(ISNUMBER(CSVデータ3!E121),CSVデータ3!E121,0)+IF(ISNUMBER(CSVデータ4!E121),CSVデータ4!E121,0)","v":0},{"$f":"IF(ISNUMBER(CSVデータ1!F121),CSVデータ1!F121,0)+IF(ISNUMBER(CSVデータ2!F121),CSVデータ2!F121,0)+IF(ISNUMBER(CSVデータ3!F121),CSVデータ3!F121,0)+IF(ISNUMBER(CSVデータ4!F121),CSVデータ4!F121,0)","v":0},null,{"$f":"IF(ISNUMBER(CSVデータ1!H121),CSVデータ1!H121,0)+IF(ISNUMBER(CSVデータ2!H121),CSVデータ2!H121,0)+IF(ISNUMBER(CSVデータ3!H121),CSVデータ3!H121,0)+IF(ISNUMBER(CSVデータ4!H121),CSVデータ4!H121,0)","v":0},null,{"$f":"IF(ISNUMBER(CSVデータ1!J121),CSVデータ1!J121,0)+IF(ISNUMBER(CSVデータ2!J121),CSVデータ2!J121,0)+IF(ISNUMBER(CSVデータ3!J121),CSVデータ3!J121,0)+IF(ISNUMBER(CSVデータ4!J121),CSVデータ4!J121,0)","v":0},null,{"$f":"IF(ISNUMBER(CSVデータ1!L121),CSVデータ1!L121,0)+IF(ISNUMBER(CSVデータ2!L121),CSVデータ2!L121,0)+IF(ISNUMBER(CSVデータ3!L121),CSVデータ3!L121,0)+IF(ISNUMBER(CSVデータ4!L121),CSVデータ4!L121,0)","v":0},null,{"$f":"IF(ISNUMBER(CSVデータ1!N121),CSVデータ1!N121,0)+IF(ISNUMBER(CSVデータ2!N121),CSVデータ2!N121,0)+IF(ISNUMBER(CSVデータ3!N121),CSVデータ3!N121,0)+IF(ISNUMBER(CSVデータ4!N121),CSVデータ4!N121,0)","v":0},null,{"$f":"IF(ISNUMBER(CSVデータ1!P121),CSVデータ1!P121,0)+IF(ISNUMBER(CSVデータ2!P121),CSVデータ2!P121,0)+IF(ISNUMBER(CSVデータ3!P121),CSVデータ3!P121,0)+IF(ISNUMBER(CSVデータ4!P121),CSVデータ4!P121,0)","v":0},null,{"$f":"IF(ISNUMBER(CSVデータ1!R121),CSVデータ1!R121,0)+IF(ISNUMBER(CSVデータ2!R121),CSVデータ2!R121,0)+IF(ISNUMBER(CSVデータ3!R121),CSVデータ3!R121,0)+IF(ISNUMBER(CSVデータ4!R121),CSVデータ4!R121,0)","v":0},null,{"$f":"IF(ISNUMBER(CSVデータ1!T121),CSVデータ1!T121,0)+IF(ISNUMBER(CSVデータ2!T121),CSVデータ2!T121,0)+IF(ISNUMBER(CSVデータ3!T121),CSVデータ3!T121,0)+IF(ISNUMBER(CSVデータ4!T121),CSVデータ4!T121,0)","v":0},null,{"$f":"IF(ISNUMBER(CSVデータ1!V121),CSVデータ1!V121,0)+IF(ISNUMBER(CSVデータ2!V121),CSVデータ2!V121,0)+IF(ISNUMBER(CSVデータ3!V121),CSVデータ3!V121,0)+IF(ISNUMBER(CSVデータ4!V121),CSVデータ4!V121,0)","v":0},null,{"$f":"IF(ISNUMBER(CSVデータ1!X121),CSVデータ1!X121,0)+IF(ISNUMBER(CSVデータ2!X121),CSVデータ2!X121,0)+IF(ISNUMBER(CSVデータ3!X121),CSVデータ3!X121,0)+IF(ISNUMBER(CSVデータ4!X121),CSVデータ4!X121,0)","v":0},null,{"$f":"IF(ISNUMBER(CSVデータ1!Z121),CSVデータ1!Z121,0)+IF(ISNUMBER(CSVデータ2!Z121),CSVデータ2!Z121,0)+IF(ISNUMBER(CSVデータ3!Z121),CSVデータ3!Z121,0)+IF(ISNUMBER(CSVデータ4!Z121),CSVデータ4!Z121,0)","v":0},null,{"$f":"IF(ISNUMBER(CSVデータ1!AB121),CSVデータ1!AB121,0)+IF(ISNUMBER(CSVデータ2!AB121),CSVデータ2!AB121,0)+IF(ISNUMBER(CSVデータ3!AB121),CSVデータ3!AB121,0)+IF(ISNUMBER(CSVデータ4!AB121),CSVデータ4!AB121,0)","v":0},null,{"$f":"IF(ISNUMBER(CSVデータ1!AD121),CSVデータ1!AD121,0)+IF(ISNUMBER(CSVデータ2!AD121),CSVデータ2!AD121,0)+IF(ISNUMBER(CSVデータ3!AD121),CSVデータ3!AD121,0)+IF(ISNUMBER(CSVデータ4!AD121),CSVデータ4!AD121,0)","v":0},null,{"$f":"IF(ISNUMBER(CSVデータ1!AF121),CSVデータ1!AF121,0)+IF(ISNUMBER(CSVデータ2!AF121),CSVデータ2!AF121,0)+IF(ISNUMBER(CSVデータ3!AF121),CSVデータ3!AF121,0)+IF(ISNUMBER(CSVデータ4!AF121),CSVデータ4!AF121,0)","v":0},null,{"$f":"IF(ISNUMBER(CSVデータ1!AH121),CSVデータ1!AH121,0)+IF(ISNUMBER(CSVデータ2!AH121),CSVデータ2!AH121,0)+IF(ISNUMBER(CSVデータ3!AH121),CSVデータ3!AH121,0)+IF(ISNUMBER(CSVデータ4!AH121),CSVデータ4!AH121,0)","v":0},null,{"$f":"IF(ISNUMBER(CSVデータ1!AJ121),CSVデータ1!AJ121,0)+IF(ISNUMBER(CSVデータ2!AJ121),CSVデータ2!AJ121,0)+IF(ISNUMBER(CSVデータ3!AJ121),CSVデータ3!AJ121,0)+IF(ISNUMBER(CSVデータ4!AJ121),CSVデータ4!AJ121,0)","v":0},null,{"$f":"IF(ISNUMBER(CSVデータ1!AL121),CSVデータ1!AL121,0)+IF(ISNUMBER(CSVデータ2!AL121),CSVデータ2!AL121,0)+IF(ISNUMBER(CSVデータ3!AL121),CSVデータ3!AL121,0)+IF(ISNUMBER(CSVデータ4!AL121),CSVデータ4!AL121,0)","v":0},null,{"$f":"IF(ISNUMBER(CSVデータ1!AN121),CSVデータ1!AN121,0)+IF(ISNUMBER(CSVデータ2!AN121),CSVデータ2!AN121,0)+IF(ISNUMBER(CSVデータ3!AN121),CSVデータ3!AN121,0)+IF(ISNUMBER(CSVデータ4!AN121),CSVデータ4!AN121,0)","v":0}]
[{"$f":"CSVデータ1!A122","v":"明細部"},{"$f":"CSVデータ1!B122","v":"県"},{"$f":"CSVデータ1!C122","v":53},{"$f":"CSVデータ1!D122","v":"女"},{"$f":"IF(ISNUMBER(CSVデータ1!E122),CSVデータ1!E122,0)+IF(ISNUMBER(CSVデータ2!E122),CSVデータ2!E122,0)+IF(ISNUMBER(CSVデータ3!E122),CSVデータ3!E122,0)+IF(ISNUMBER(CSVデータ4!E122),CSVデータ4!E122,0)","v":0},{"$f":"IF(ISNUMBER(CSVデータ1!F122),CSVデータ1!F122,0)+IF(ISNUMBER(CSVデータ2!F122),CSVデータ2!F122,0)+IF(ISNUMBER(CSVデータ3!F122),CSVデータ3!F122,0)+IF(ISNUMBER(CSVデータ4!F122),CSVデータ4!F122,0)","v":0},null,{"$f":"IF(ISNUMBER(CSVデータ1!H122),CSVデータ1!H122,0)+IF(ISNUMBER(CSVデータ2!H122),CSVデータ2!H122,0)+IF(ISNUMBER(CSVデータ3!H122),CSVデータ3!H122,0)+IF(ISNUMBER(CSVデータ4!H122),CSVデータ4!H122,0)","v":0},null,{"$f":"IF(ISNUMBER(CSVデータ1!J122),CSVデータ1!J122,0)+IF(ISNUMBER(CSVデータ2!J122),CSVデータ2!J122,0)+IF(ISNUMBER(CSVデータ3!J122),CSVデータ3!J122,0)+IF(ISNUMBER(CSVデータ4!J122),CSVデータ4!J122,0)","v":0},null,{"$f":"IF(ISNUMBER(CSVデータ1!L122),CSVデータ1!L122,0)+IF(ISNUMBER(CSVデータ2!L122),CSVデータ2!L122,0)+IF(ISNUMBER(CSVデータ3!L122),CSVデータ3!L122,0)+IF(ISNUMBER(CSVデータ4!L122),CSVデータ4!L122,0)","v":0},null,{"$f":"IF(ISNUMBER(CSVデータ1!N122),CSVデータ1!N122,0)+IF(ISNUMBER(CSVデータ2!N122),CSVデータ2!N122,0)+IF(ISNUMBER(CSVデータ3!N122),CSVデータ3!N122,0)+IF(ISNUMBER(CSVデータ4!N122),CSVデータ4!N122,0)","v":0},null,{"$f":"IF(ISNUMBER(CSVデータ1!P122),CSVデータ1!P122,0)+IF(ISNUMBER(CSVデータ2!P122),CSVデータ2!P122,0)+IF(ISNUMBER(CSVデータ3!P122),CSVデータ3!P122,0)+IF(ISNUMBER(CSVデータ4!P122),CSVデータ4!P122,0)","v":0},null,{"$f":"IF(ISNUMBER(CSVデータ1!R122),CSVデータ1!R122,0)+IF(ISNUMBER(CSVデータ2!R122),CSVデータ2!R122,0)+IF(ISNUMBER(CSVデータ3!R122),CSVデータ3!R122,0)+IF(ISNUMBER(CSVデータ4!R122),CSVデータ4!R122,0)","v":0},null,{"$f":"IF(ISNUMBER(CSVデータ1!T122),CSVデータ1!T122,0)+IF(ISNUMBER(CSVデータ2!T122),CSVデータ2!T122,0)+IF(ISNUMBER(CSVデータ3!T122),CSVデータ3!T122,0)+IF(ISNUMBER(CSVデータ4!T122),CSVデータ4!T122,0)","v":0},null,{"$f":"IF(ISNUMBER(CSVデータ1!V122),CSVデータ1!V122,0)+IF(ISNUMBER(CSVデータ2!V122),CSVデータ2!V122,0)+IF(ISNUMBER(CSVデータ3!V122),CSVデータ3!V122,0)+IF(ISNUMBER(CSVデータ4!V122),CSVデータ4!V122,0)","v":0},null,{"$f":"IF(ISNUMBER(CSVデータ1!X122),CSVデータ1!X122,0)+IF(ISNUMBER(CSVデータ2!X122),CSVデータ2!X122,0)+IF(ISNUMBER(CSVデータ3!X122),CSVデータ3!X122,0)+IF(ISNUMBER(CSVデータ4!X122),CSVデータ4!X122,0)","v":0},null,{"$f":"IF(ISNUMBER(CSVデータ1!Z122),CSVデータ1!Z122,0)+IF(ISNUMBER(CSVデータ2!Z122),CSVデータ2!Z122,0)+IF(ISNUMBER(CSVデータ3!Z122),CSVデータ3!Z122,0)+IF(ISNUMBER(CSVデータ4!Z122),CSVデータ4!Z122,0)","v":0},null,{"$f":"IF(ISNUMBER(CSVデータ1!AB122),CSVデータ1!AB122,0)+IF(ISNUMBER(CSVデータ2!AB122),CSVデータ2!AB122,0)+IF(ISNUMBER(CSVデータ3!AB122),CSVデータ3!AB122,0)+IF(ISNUMBER(CSVデータ4!AB122),CSVデータ4!AB122,0)","v":0},null,{"$f":"IF(ISNUMBER(CSVデータ1!AD122),CSVデータ1!AD122,0)+IF(ISNUMBER(CSVデータ2!AD122),CSVデータ2!AD122,0)+IF(ISNUMBER(CSVデータ3!AD122),CSVデータ3!AD122,0)+IF(ISNUMBER(CSVデータ4!AD122),CSVデータ4!AD122,0)","v":0},null,{"$f":"IF(ISNUMBER(CSVデータ1!AF122),CSVデータ1!AF122,0)+IF(ISNUMBER(CSVデータ2!AF122),CSVデータ2!AF122,0)+IF(ISNUMBER(CSVデータ3!AF122),CSVデータ3!AF122,0)+IF(ISNUMBER(CSVデータ4!AF122),CSVデータ4!AF122,0)","v":0},null,{"$f":"IF(ISNUMBER(CSVデータ1!AH122),CSVデータ1!AH122,0)+IF(ISNUMBER(CSVデータ2!AH122),CSVデータ2!AH122,0)+IF(ISNUMBER(CSVデータ3!AH122),CSVデータ3!AH122,0)+IF(ISNUMBER(CSVデータ4!AH122),CSVデータ4!AH122,0)","v":0},null,{"$f":"IF(ISNUMBER(CSVデータ1!AJ122),CSVデータ1!AJ122,0)+IF(ISNUMBER(CSVデータ2!AJ122),CSVデータ2!AJ122,0)+IF(ISNUMBER(CSVデータ3!AJ122),CSVデータ3!AJ122,0)+IF(ISNUMBER(CSVデータ4!AJ122),CSVデータ4!AJ122,0)","v":0},null,{"$f":"IF(ISNUMBER(CSVデータ1!AL122),CSVデータ1!AL122,0)+IF(ISNUMBER(CSVデータ2!AL122),CSVデータ2!AL122,0)+IF(ISNUMBER(CSVデータ3!AL122),CSVデータ3!AL122,0)+IF(ISNUMBER(CSVデータ4!AL122),CSVデータ4!AL122,0)","v":0},null,{"$f":"IF(ISNUMBER(CSVデータ1!AN122),CSVデータ1!AN122,0)+IF(ISNUMBER(CSVデータ2!AN122),CSVデータ2!AN122,0)+IF(ISNUMBER(CSVデータ3!AN122),CSVデータ3!AN122,0)+IF(ISNUMBER(CSVデータ4!AN122),CSVデータ4!AN122,0)","v":0}]
[{"$f":"CSVデータ1!A123","v":"明細部"},{"$f":"CSVデータ1!B123","v":"県"},{"$f":"CSVデータ1!C123","v":54},{"$f":"CSVデータ1!D123","v":"女"},{"$f":"IF(ISNUMBER(CSVデータ1!E123),CSVデータ1!E123,0)+IF(ISNUMBER(CSVデータ2!E123),CSVデータ2!E123,0)+IF(ISNUMBER(CSVデータ3!E123),CSVデータ3!E123,0)+IF(ISNUMBER(CSVデータ4!E123),CSVデータ4!E123,0)","v":0},{"$f":"IF(ISNUMBER(CSVデータ1!F123),CSVデータ1!F123,0)+IF(ISNUMBER(CSVデータ2!F123),CSVデータ2!F123,0)+IF(ISNUMBER(CSVデータ3!F123),CSVデータ3!F123,0)+IF(ISNUMBER(CSVデータ4!F123),CSVデータ4!F123,0)","v":0},null,{"$f":"IF(ISNUMBER(CSVデータ1!H123),CSVデータ1!H123,0)+IF(ISNUMBER(CSVデータ2!H123),CSVデータ2!H123,0)+IF(ISNUMBER(CSVデータ3!H123),CSVデータ3!H123,0)+IF(ISNUMBER(CSVデータ4!H123),CSVデータ4!H123,0)","v":0},null,{"$f":"IF(ISNUMBER(CSVデータ1!J123),CSVデータ1!J123,0)+IF(ISNUMBER(CSVデータ2!J123),CSVデータ2!J123,0)+IF(ISNUMBER(CSVデータ3!J123),CSVデータ3!J123,0)+IF(ISNUMBER(CSVデータ4!J123),CSVデータ4!J123,0)","v":0},null,{"$f":"IF(ISNUMBER(CSVデータ1!L123),CSVデータ1!L123,0)+IF(ISNUMBER(CSVデータ2!L123),CSVデータ2!L123,0)+IF(ISNUMBER(CSVデータ3!L123),CSVデータ3!L123,0)+IF(ISNUMBER(CSVデータ4!L123),CSVデータ4!L123,0)","v":0},null,{"$f":"IF(ISNUMBER(CSVデータ1!N123),CSVデータ1!N123,0)+IF(ISNUMBER(CSVデータ2!N123),CSVデータ2!N123,0)+IF(ISNUMBER(CSVデータ3!N123),CSVデータ3!N123,0)+IF(ISNUMBER(CSVデータ4!N123),CSVデータ4!N123,0)","v":0},null,{"$f":"IF(ISNUMBER(CSVデータ1!P123),CSVデータ1!P123,0)+IF(ISNUMBER(CSVデータ2!P123),CSVデータ2!P123,0)+IF(ISNUMBER(CSVデータ3!P123),CSVデータ3!P123,0)+IF(ISNUMBER(CSVデータ4!P123),CSVデータ4!P123,0)","v":0},null,{"$f":"IF(ISNUMBER(CSVデータ1!R123),CSVデータ1!R123,0)+IF(ISNUMBER(CSVデータ2!R123),CSVデータ2!R123,0)+IF(ISNUMBER(CSVデータ3!R123),CSVデータ3!R123,0)+IF(ISNUMBER(CSVデータ4!R123),CSVデータ4!R123,0)","v":0},null,{"$f":"IF(ISNUMBER(CSVデータ1!T123),CSVデータ1!T123,0)+IF(ISNUMBER(CSVデータ2!T123),CSVデータ2!T123,0)+IF(ISNUMBER(CSVデータ3!T123),CSVデータ3!T123,0)+IF(ISNUMBER(CSVデータ4!T123),CSVデータ4!T123,0)","v":0},null,{"$f":"IF(ISNUMBER(CSVデータ1!V123),CSVデータ1!V123,0)+IF(ISNUMBER(CSVデータ2!V123),CSVデータ2!V123,0)+IF(ISNUMBER(CSVデータ3!V123),CSVデータ3!V123,0)+IF(ISNUMBER(CSVデータ4!V123),CSVデータ4!V123,0)","v":0},null,{"$f":"IF(ISNUMBER(CSVデータ1!X123),CSVデータ1!X123,0)+IF(ISNUMBER(CSVデータ2!X123),CSVデータ2!X123,0)+IF(ISNUMBER(CSVデータ3!X123),CSVデータ3!X123,0)+IF(ISNUMBER(CSVデータ4!X123),CSVデータ4!X123,0)","v":0},null,{"$f":"IF(ISNUMBER(CSVデータ1!Z123),CSVデータ1!Z123,0)+IF(ISNUMBER(CSVデータ2!Z123),CSVデータ2!Z123,0)+IF(ISNUMBER(CSVデータ3!Z123),CSVデータ3!Z123,0)+IF(ISNUMBER(CSVデータ4!Z123),CSVデータ4!Z123,0)","v":0},null,{"$f":"IF(ISNUMBER(CSVデータ1!AB123),CSVデータ1!AB123,0)+IF(ISNUMBER(CSVデータ2!AB123),CSVデータ2!AB123,0)+IF(ISNUMBER(CSVデータ3!AB123),CSVデータ3!AB123,0)+IF(ISNUMBER(CSVデータ4!AB123),CSVデータ4!AB123,0)","v":0},null,{"$f":"IF(ISNUMBER(CSVデータ1!AD123),CSVデータ1!AD123,0)+IF(ISNUMBER(CSVデータ2!AD123),CSVデータ2!AD123,0)+IF(ISNUMBER(CSVデータ3!AD123),CSVデータ3!AD123,0)+IF(ISNUMBER(CSVデータ4!AD123),CSVデータ4!AD123,0)","v":0},null,{"$f":"IF(ISNUMBER(CSVデータ1!AF123),CSVデータ1!AF123,0)+IF(ISNUMBER(CSVデータ2!AF123),CSVデータ2!AF123,0)+IF(ISNUMBER(CSVデータ3!AF123),CSVデータ3!AF123,0)+IF(ISNUMBER(CSVデータ4!AF123),CSVデータ4!AF123,0)","v":0},null,{"$f":"IF(ISNUMBER(CSVデータ1!AH123),CSVデータ1!AH123,0)+IF(ISNUMBER(CSVデータ2!AH123),CSVデータ2!AH123,0)+IF(ISNUMBER(CSVデータ3!AH123),CSVデータ3!AH123,0)+IF(ISNUMBER(CSVデータ4!AH123),CSVデータ4!AH123,0)","v":0},null,{"$f":"IF(ISNUMBER(CSVデータ1!AJ123),CSVデータ1!AJ123,0)+IF(ISNUMBER(CSVデータ2!AJ123),CSVデータ2!AJ123,0)+IF(ISNUMBER(CSVデータ3!AJ123),CSVデータ3!AJ123,0)+IF(ISNUMBER(CSVデータ4!AJ123),CSVデータ4!AJ123,0)","v":0},null,{"$f":"IF(ISNUMBER(CSVデータ1!AL123),CSVデータ1!AL123,0)+IF(ISNUMBER(CSVデータ2!AL123),CSVデータ2!AL123,0)+IF(ISNUMBER(CSVデータ3!AL123),CSVデータ3!AL123,0)+IF(ISNUMBER(CSVデータ4!AL123),CSVデータ4!AL123,0)","v":0},null,{"$f":"IF(ISNUMBER(CSVデータ1!AN123),CSVデータ1!AN123,0)+IF(ISNUMBER(CSVデータ2!AN123),CSVデータ2!AN123,0)+IF(ISNUMBER(CSVデータ3!AN123),CSVデータ3!AN123,0)+IF(ISNUMBER(CSVデータ4!AN123),CSVデータ4!AN123,0)","v":0}]
[{"$f":"CSVデータ1!A124","v":"明細部"},{"$f":"CSVデータ1!B124","v":"県"},{"$f":"CSVデータ1!C124","v":55},{"$f":"CSVデータ1!D124","v":"女"},{"$f":"IF(ISNUMBER(CSVデータ1!E124),CSVデータ1!E124,0)+IF(ISNUMBER(CSVデータ2!E124),CSVデータ2!E124,0)+IF(ISNUMBER(CSVデータ3!E124),CSVデータ3!E124,0)+IF(ISNUMBER(CSVデータ4!E124),CSVデータ4!E124,0)","v":0},{"$f":"IF(ISNUMBER(CSVデータ1!F124),CSVデータ1!F124,0)+IF(ISNUMBER(CSVデータ2!F124),CSVデータ2!F124,0)+IF(ISNUMBER(CSVデータ3!F124),CSVデータ3!F124,0)+IF(ISNUMBER(CSVデータ4!F124),CSVデータ4!F124,0)","v":0},null,{"$f":"IF(ISNUMBER(CSVデータ1!H124),CSVデータ1!H124,0)+IF(ISNUMBER(CSVデータ2!H124),CSVデータ2!H124,0)+IF(ISNUMBER(CSVデータ3!H124),CSVデータ3!H124,0)+IF(ISNUMBER(CSVデータ4!H124),CSVデータ4!H124,0)","v":0},null,{"$f":"IF(ISNUMBER(CSVデータ1!J124),CSVデータ1!J124,0)+IF(ISNUMBER(CSVデータ2!J124),CSVデータ2!J124,0)+IF(ISNUMBER(CSVデータ3!J124),CSVデータ3!J124,0)+IF(ISNUMBER(CSVデータ4!J124),CSVデータ4!J124,0)","v":0},null,{"$f":"IF(ISNUMBER(CSVデータ1!L124),CSVデータ1!L124,0)+IF(ISNUMBER(CSVデータ2!L124),CSVデータ2!L124,0)+IF(ISNUMBER(CSVデータ3!L124),CSVデータ3!L124,0)+IF(ISNUMBER(CSVデータ4!L124),CSVデータ4!L124,0)","v":0},null,{"$f":"IF(ISNUMBER(CSVデータ1!N124),CSVデータ1!N124,0)+IF(ISNUMBER(CSVデータ2!N124),CSVデータ2!N124,0)+IF(ISNUMBER(CSVデータ3!N124),CSVデータ3!N124,0)+IF(ISNUMBER(CSVデータ4!N124),CSVデータ4!N124,0)","v":0},null,{"$f":"IF(ISNUMBER(CSVデータ1!P124),CSVデータ1!P124,0)+IF(ISNUMBER(CSVデータ2!P124),CSVデータ2!P124,0)+IF(ISNUMBER(CSVデータ3!P124),CSVデータ3!P124,0)+IF(ISNUMBER(CSVデータ4!P124),CSVデータ4!P124,0)","v":0},null,{"$f":"IF(ISNUMBER(CSVデータ1!R124),CSVデータ1!R124,0)+IF(ISNUMBER(CSVデータ2!R124),CSVデータ2!R124,0)+IF(ISNUMBER(CSVデータ3!R124),CSVデータ3!R124,0)+IF(ISNUMBER(CSVデータ4!R124),CSVデータ4!R124,0)","v":0},null,{"$f":"IF(ISNUMBER(CSVデータ1!T124),CSVデータ1!T124,0)+IF(ISNUMBER(CSVデータ2!T124),CSVデータ2!T124,0)+IF(ISNUMBER(CSVデータ3!T124),CSVデータ3!T124,0)+IF(ISNUMBER(CSVデータ4!T124),CSVデータ4!T124,0)","v":0},null,{"$f":"IF(ISNUMBER(CSVデータ1!V124),CSVデータ1!V124,0)+IF(ISNUMBER(CSVデータ2!V124),CSVデータ2!V124,0)+IF(ISNUMBER(CSVデータ3!V124),CSVデータ3!V124,0)+IF(ISNUMBER(CSVデータ4!V124),CSVデータ4!V124,0)","v":0},null,{"$f":"IF(ISNUMBER(CSVデータ1!X124),CSVデータ1!X124,0)+IF(ISNUMBER(CSVデータ2!X124),CSVデータ2!X124,0)+IF(ISNUMBER(CSVデータ3!X124),CSVデータ3!X124,0)+IF(ISNUMBER(CSVデータ4!X124),CSVデータ4!X124,0)","v":0},null,{"$f":"IF(ISNUMBER(CSVデータ1!Z124),CSVデータ1!Z124,0)+IF(ISNUMBER(CSVデータ2!Z124),CSVデータ2!Z124,0)+IF(ISNUMBER(CSVデータ3!Z124),CSVデータ3!Z124,0)+IF(ISNUMBER(CSVデータ4!Z124),CSVデータ4!Z124,0)","v":0},null,{"$f":"IF(ISNUMBER(CSVデータ1!AB124),CSVデータ1!AB124,0)+IF(ISNUMBER(CSVデータ2!AB124),CSVデータ2!AB124,0)+IF(ISNUMBER(CSVデータ3!AB124),CSVデータ3!AB124,0)+IF(ISNUMBER(CSVデータ4!AB124),CSVデータ4!AB124,0)","v":0},null,{"$f":"IF(ISNUMBER(CSVデータ1!AD124),CSVデータ1!AD124,0)+IF(ISNUMBER(CSVデータ2!AD124),CSVデータ2!AD124,0)+IF(ISNUMBER(CSVデータ3!AD124),CSVデータ3!AD124,0)+IF(ISNUMBER(CSVデータ4!AD124),CSVデータ4!AD124,0)","v":0},null,{"$f":"IF(ISNUMBER(CSVデータ1!AF124),CSVデータ1!AF124,0)+IF(ISNUMBER(CSVデータ2!AF124),CSVデータ2!AF124,0)+IF(ISNUMBER(CSVデータ3!AF124),CSVデータ3!AF124,0)+IF(ISNUMBER(CSVデータ4!AF124),CSVデータ4!AF124,0)","v":0},null,{"$f":"IF(ISNUMBER(CSVデータ1!AH124),CSVデータ1!AH124,0)+IF(ISNUMBER(CSVデータ2!AH124),CSVデータ2!AH124,0)+IF(ISNUMBER(CSVデータ3!AH124),CSVデータ3!AH124,0)+IF(ISNUMBER(CSVデータ4!AH124),CSVデータ4!AH124,0)","v":0},null,{"$f":"IF(ISNUMBER(CSVデータ1!AJ124),CSVデータ1!AJ124,0)+IF(ISNUMBER(CSVデータ2!AJ124),CSVデータ2!AJ124,0)+IF(ISNUMBER(CSVデータ3!AJ124),CSVデータ3!AJ124,0)+IF(ISNUMBER(CSVデータ4!AJ124),CSVデータ4!AJ124,0)","v":0},null,{"$f":"IF(ISNUMBER(CSVデータ1!AL124),CSVデータ1!AL124,0)+IF(ISNUMBER(CSVデータ2!AL124),CSVデータ2!AL124,0)+IF(ISNUMBER(CSVデータ3!AL124),CSVデータ3!AL124,0)+IF(ISNUMBER(CSVデータ4!AL124),CSVデータ4!AL124,0)","v":0},null,{"$f":"IF(ISNUMBER(CSVデータ1!AN124),CSVデータ1!AN124,0)+IF(ISNUMBER(CSVデータ2!AN124),CSVデータ2!AN124,0)+IF(ISNUMBER(CSVデータ3!AN124),CSVデータ3!AN124,0)+IF(ISNUMBER(CSVデータ4!AN124),CSVデータ4!AN124,0)","v":0}]
[{"$f":"CSVデータ1!A125","v":"明細部"},{"$f":"CSVデータ1!B125","v":"県"},{"$f":"CSVデータ1!C125","v":56},{"$f":"CSVデータ1!D125","v":"女"},{"$f":"IF(ISNUMBER(CSVデータ1!E125),CSVデータ1!E125,0)+IF(ISNUMBER(CSVデータ2!E125),CSVデータ2!E125,0)+IF(ISNUMBER(CSVデータ3!E125),CSVデータ3!E125,0)+IF(ISNUMBER(CSVデータ4!E125),CSVデータ4!E125,0)","v":0},{"$f":"IF(ISNUMBER(CSVデータ1!F125),CSVデータ1!F125,0)+IF(ISNUMBER(CSVデータ2!F125),CSVデータ2!F125,0)+IF(ISNUMBER(CSVデータ3!F125),CSVデータ3!F125,0)+IF(ISNUMBER(CSVデータ4!F125),CSVデータ4!F125,0)","v":0},null,{"$f":"IF(ISNUMBER(CSVデータ1!H125),CSVデータ1!H125,0)+IF(ISNUMBER(CSVデータ2!H125),CSVデータ2!H125,0)+IF(ISNUMBER(CSVデータ3!H125),CSVデータ3!H125,0)+IF(ISNUMBER(CSVデータ4!H125),CSVデータ4!H125,0)","v":0},null,{"$f":"IF(ISNUMBER(CSVデータ1!J125),CSVデータ1!J125,0)+IF(ISNUMBER(CSVデータ2!J125),CSVデータ2!J125,0)+IF(ISNUMBER(CSVデータ3!J125),CSVデータ3!J125,0)+IF(ISNUMBER(CSVデータ4!J125),CSVデータ4!J125,0)","v":0},null,{"$f":"IF(ISNUMBER(CSVデータ1!L125),CSVデータ1!L125,0)+IF(ISNUMBER(CSVデータ2!L125),CSVデータ2!L125,0)+IF(ISNUMBER(CSVデータ3!L125),CSVデータ3!L125,0)+IF(ISNUMBER(CSVデータ4!L125),CSVデータ4!L125,0)","v":0},null,{"$f":"IF(ISNUMBER(CSVデータ1!N125),CSVデータ1!N125,0)+IF(ISNUMBER(CSVデータ2!N125),CSVデータ2!N125,0)+IF(ISNUMBER(CSVデータ3!N125),CSVデータ3!N125,0)+IF(ISNUMBER(CSVデータ4!N125),CSVデータ4!N125,0)","v":0},null,{"$f":"IF(ISNUMBER(CSVデータ1!P125),CSVデータ1!P125,0)+IF(ISNUMBER(CSVデータ2!P125),CSVデータ2!P125,0)+IF(ISNUMBER(CSVデータ3!P125),CSVデータ3!P125,0)+IF(ISNUMBER(CSVデータ4!P125),CSVデータ4!P125,0)","v":0},null,{"$f":"IF(ISNUMBER(CSVデータ1!R125),CSVデータ1!R125,0)+IF(ISNUMBER(CSVデータ2!R125),CSVデータ2!R125,0)+IF(ISNUMBER(CSVデータ3!R125),CSVデータ3!R125,0)+IF(ISNUMBER(CSVデータ4!R125),CSVデータ4!R125,0)","v":0},null,{"$f":"IF(ISNUMBER(CSVデータ1!T125),CSVデータ1!T125,0)+IF(ISNUMBER(CSVデータ2!T125),CSVデータ2!T125,0)+IF(ISNUMBER(CSVデータ3!T125),CSVデータ3!T125,0)+IF(ISNUMBER(CSVデータ4!T125),CSVデータ4!T125,0)","v":0},null,{"$f":"IF(ISNUMBER(CSVデータ1!V125),CSVデータ1!V125,0)+IF(ISNUMBER(CSVデータ2!V125),CSVデータ2!V125,0)+IF(ISNUMBER(CSVデータ3!V125),CSVデータ3!V125,0)+IF(ISNUMBER(CSVデータ4!V125),CSVデータ4!V125,0)","v":0},null,{"$f":"IF(ISNUMBER(CSVデータ1!X125),CSVデータ1!X125,0)+IF(ISNUMBER(CSVデータ2!X125),CSVデータ2!X125,0)+IF(ISNUMBER(CSVデータ3!X125),CSVデータ3!X125,0)+IF(ISNUMBER(CSVデータ4!X125),CSVデータ4!X125,0)","v":0},null,{"$f":"IF(ISNUMBER(CSVデータ1!Z125),CSVデータ1!Z125,0)+IF(ISNUMBER(CSVデータ2!Z125),CSVデータ2!Z125,0)+IF(ISNUMBER(CSVデータ3!Z125),CSVデータ3!Z125,0)+IF(ISNUMBER(CSVデータ4!Z125),CSVデータ4!Z125,0)","v":0},null,{"$f":"IF(ISNUMBER(CSVデータ1!AB125),CSVデータ1!AB125,0)+IF(ISNUMBER(CSVデータ2!AB125),CSVデータ2!AB125,0)+IF(ISNUMBER(CSVデータ3!AB125),CSVデータ3!AB125,0)+IF(ISNUMBER(CSVデータ4!AB125),CSVデータ4!AB125,0)","v":0},null,{"$f":"IF(ISNUMBER(CSVデータ1!AD125),CSVデータ1!AD125,0)+IF(ISNUMBER(CSVデータ2!AD125),CSVデータ2!AD125,0)+IF(ISNUMBER(CSVデータ3!AD125),CSVデータ3!AD125,0)+IF(ISNUMBER(CSVデータ4!AD125),CSVデータ4!AD125,0)","v":0},null,{"$f":"IF(ISNUMBER(CSVデータ1!AF125),CSVデータ1!AF125,0)+IF(ISNUMBER(CSVデータ2!AF125),CSVデータ2!AF125,0)+IF(ISNUMBER(CSVデータ3!AF125),CSVデータ3!AF125,0)+IF(ISNUMBER(CSVデータ4!AF125),CSVデータ4!AF125,0)","v":0},null,{"$f":"IF(ISNUMBER(CSVデータ1!AH125),CSVデータ1!AH125,0)+IF(ISNUMBER(CSVデータ2!AH125),CSVデータ2!AH125,0)+IF(ISNUMBER(CSVデータ3!AH125),CSVデータ3!AH125,0)+IF(ISNUMBER(CSVデータ4!AH125),CSVデータ4!AH125,0)","v":0},null,{"$f":"IF(ISNUMBER(CSVデータ1!AJ125),CSVデータ1!AJ125,0)+IF(ISNUMBER(CSVデータ2!AJ125),CSVデータ2!AJ125,0)+IF(ISNUMBER(CSVデータ3!AJ125),CSVデータ3!AJ125,0)+IF(ISNUMBER(CSVデータ4!AJ125),CSVデータ4!AJ125,0)","v":0},null,{"$f":"IF(ISNUMBER(CSVデータ1!AL125),CSVデータ1!AL125,0)+IF(ISNUMBER(CSVデータ2!AL125),CSVデータ2!AL125,0)+IF(ISNUMBER(CSVデータ3!AL125),CSVデータ3!AL125,0)+IF(ISNUMBER(CSVデータ4!AL125),CSVデータ4!AL125,0)","v":0},null,{"$f":"IF(ISNUMBER(CSVデータ1!AN125),CSVデータ1!AN125,0)+IF(ISNUMBER(CSVデータ2!AN125),CSVデータ2!AN125,0)+IF(ISNUMBER(CSVデータ3!AN125),CSVデータ3!AN125,0)+IF(ISNUMBER(CSVデータ4!AN125),CSVデータ4!AN125,0)","v":0}]
[{"$f":"CSVデータ1!A126","v":"明細部"},{"$f":"CSVデータ1!B126","v":"県"},{"$f":"CSVデータ1!C126","v":57},{"$f":"CSVデータ1!D126","v":"女"},{"$f":"IF(ISNUMBER(CSVデータ1!E126),CSVデータ1!E126,0)+IF(ISNUMBER(CSVデータ2!E126),CSVデータ2!E126,0)+IF(ISNUMBER(CSVデータ3!E126),CSVデータ3!E126,0)+IF(ISNUMBER(CSVデータ4!E126),CSVデータ4!E126,0)","v":0},{"$f":"IF(ISNUMBER(CSVデータ1!F126),CSVデータ1!F126,0)+IF(ISNUMBER(CSVデータ2!F126),CSVデータ2!F126,0)+IF(ISNUMBER(CSVデータ3!F126),CSVデータ3!F126,0)+IF(ISNUMBER(CSVデータ4!F126),CSVデータ4!F126,0)","v":0},null,{"$f":"IF(ISNUMBER(CSVデータ1!H126),CSVデータ1!H126,0)+IF(ISNUMBER(CSVデータ2!H126),CSVデータ2!H126,0)+IF(ISNUMBER(CSVデータ3!H126),CSVデータ3!H126,0)+IF(ISNUMBER(CSVデータ4!H126),CSVデータ4!H126,0)","v":0},null,{"$f":"IF(ISNUMBER(CSVデータ1!J126),CSVデータ1!J126,0)+IF(ISNUMBER(CSVデータ2!J126),CSVデータ2!J126,0)+IF(ISNUMBER(CSVデータ3!J126),CSVデータ3!J126,0)+IF(ISNUMBER(CSVデータ4!J126),CSVデータ4!J126,0)","v":0},null,{"$f":"IF(ISNUMBER(CSVデータ1!L126),CSVデータ1!L126,0)+IF(ISNUMBER(CSVデータ2!L126),CSVデータ2!L126,0)+IF(ISNUMBER(CSVデータ3!L126),CSVデータ3!L126,0)+IF(ISNUMBER(CSVデータ4!L126),CSVデータ4!L126,0)","v":0},null,{"$f":"IF(ISNUMBER(CSVデータ1!N126),CSVデータ1!N126,0)+IF(ISNUMBER(CSVデータ2!N126),CSVデータ2!N126,0)+IF(ISNUMBER(CSVデータ3!N126),CSVデータ3!N126,0)+IF(ISNUMBER(CSVデータ4!N126),CSVデータ4!N126,0)","v":0},null,{"$f":"IF(ISNUMBER(CSVデータ1!P126),CSVデータ1!P126,0)+IF(ISNUMBER(CSVデータ2!P126),CSVデータ2!P126,0)+IF(ISNUMBER(CSVデータ3!P126),CSVデータ3!P126,0)+IF(ISNUMBER(CSVデータ4!P126),CSVデータ4!P126,0)","v":0},null,{"$f":"IF(ISNUMBER(CSVデータ1!R126),CSVデータ1!R126,0)+IF(ISNUMBER(CSVデータ2!R126),CSVデータ2!R126,0)+IF(ISNUMBER(CSVデータ3!R126),CSVデータ3!R126,0)+IF(ISNUMBER(CSVデータ4!R126),CSVデータ4!R126,0)","v":0},null,{"$f":"IF(ISNUMBER(CSVデータ1!T126),CSVデータ1!T126,0)+IF(ISNUMBER(CSVデータ2!T126),CSVデータ2!T126,0)+IF(ISNUMBER(CSVデータ3!T126),CSVデータ3!T126,0)+IF(ISNUMBER(CSVデータ4!T126),CSVデータ4!T126,0)","v":0},null,{"$f":"IF(ISNUMBER(CSVデータ1!V126),CSVデータ1!V126,0)+IF(ISNUMBER(CSVデータ2!V126),CSVデータ2!V126,0)+IF(ISNUMBER(CSVデータ3!V126),CSVデータ3!V126,0)+IF(ISNUMBER(CSVデータ4!V126),CSVデータ4!V126,0)","v":0},null,{"$f":"IF(ISNUMBER(CSVデータ1!X126),CSVデータ1!X126,0)+IF(ISNUMBER(CSVデータ2!X126),CSVデータ2!X126,0)+IF(ISNUMBER(CSVデータ3!X126),CSVデータ3!X126,0)+IF(ISNUMBER(CSVデータ4!X126),CSVデータ4!X126,0)","v":0},null,{"$f":"IF(ISNUMBER(CSVデータ1!Z126),CSVデータ1!Z126,0)+IF(ISNUMBER(CSVデータ2!Z126),CSVデータ2!Z126,0)+IF(ISNUMBER(CSVデータ3!Z126),CSVデータ3!Z126,0)+IF(ISNUMBER(CSVデータ4!Z126),CSVデータ4!Z126,0)","v":0},null,{"$f":"IF(ISNUMBER(CSVデータ1!AB126),CSVデータ1!AB126,0)+IF(ISNUMBER(CSVデータ2!AB126),CSVデータ2!AB126,0)+IF(ISNUMBER(CSVデータ3!AB126),CSVデータ3!AB126,0)+IF(ISNUMBER(CSVデータ4!AB126),CSVデータ4!AB126,0)","v":0},null,{"$f":"IF(ISNUMBER(CSVデータ1!AD126),CSVデータ1!AD126,0)+IF(ISNUMBER(CSVデータ2!AD126),CSVデータ2!AD126,0)+IF(ISNUMBER(CSVデータ3!AD126),CSVデータ3!AD126,0)+IF(ISNUMBER(CSVデータ4!AD126),CSVデータ4!AD126,0)","v":0},null,{"$f":"IF(ISNUMBER(CSVデータ1!AF126),CSVデータ1!AF126,0)+IF(ISNUMBER(CSVデータ2!AF126),CSVデータ2!AF126,0)+IF(ISNUMBER(CSVデータ3!AF126),CSVデータ3!AF126,0)+IF(ISNUMBER(CSVデータ4!AF126),CSVデータ4!AF126,0)","v":0},null,{"$f":"IF(ISNUMBER(CSVデータ1!AH126),CSVデータ1!AH126,0)+IF(ISNUMBER(CSVデータ2!AH126),CSVデータ2!AH126,0)+IF(ISNUMBER(CSVデータ3!AH126),CSVデータ3!AH126,0)+IF(ISNUMBER(CSVデータ4!AH126),CSVデータ4!AH126,0)","v":0},null,{"$f":"IF(ISNUMBER(CSVデータ1!AJ126),CSVデータ1!AJ126,0)+IF(ISNUMBER(CSVデータ2!AJ126),CSVデータ2!AJ126,0)+IF(ISNUMBER(CSVデータ3!AJ126),CSVデータ3!AJ126,0)+IF(ISNUMBER(CSVデータ4!AJ126),CSVデータ4!AJ126,0)","v":0},null,{"$f":"IF(ISNUMBER(CSVデータ1!AL126),CSVデータ1!AL126,0)+IF(ISNUMBER(CSVデータ2!AL126),CSVデータ2!AL126,0)+IF(ISNUMBER(CSVデータ3!AL126),CSVデータ3!AL126,0)+IF(ISNUMBER(CSVデータ4!AL126),CSVデータ4!AL126,0)","v":0},null,{"$f":"IF(ISNUMBER(CSVデータ1!AN126),CSVデータ1!AN126,0)+IF(ISNUMBER(CSVデータ2!AN126),CSVデータ2!AN126,0)+IF(ISNUMBER(CSVデータ3!AN126),CSVデータ3!AN126,0)+IF(ISNUMBER(CSVデータ4!AN126),CSVデータ4!AN126,0)","v":0}]
[{"$f":"CSVデータ1!A127","v":"明細部"},{"$f":"CSVデータ1!B127","v":"県"},{"$f":"CSVデータ1!C127","v":58},{"$f":"CSVデータ1!D127","v":"女"},{"$f":"IF(ISNUMBER(CSVデータ1!E127),CSVデータ1!E127,0)+IF(ISNUMBER(CSVデータ2!E127),CSVデータ2!E127,0)+IF(ISNUMBER(CSVデータ3!E127),CSVデータ3!E127,0)+IF(ISNUMBER(CSVデータ4!E127),CSVデータ4!E127,0)","v":0},{"$f":"IF(ISNUMBER(CSVデータ1!F127),CSVデータ1!F127,0)+IF(ISNUMBER(CSVデータ2!F127),CSVデータ2!F127,0)+IF(ISNUMBER(CSVデータ3!F127),CSVデータ3!F127,0)+IF(ISNUMBER(CSVデータ4!F127),CSVデータ4!F127,0)","v":0},null,{"$f":"IF(ISNUMBER(CSVデータ1!H127),CSVデータ1!H127,0)+IF(ISNUMBER(CSVデータ2!H127),CSVデータ2!H127,0)+IF(ISNUMBER(CSVデータ3!H127),CSVデータ3!H127,0)+IF(ISNUMBER(CSVデータ4!H127),CSVデータ4!H127,0)","v":0},null,{"$f":"IF(ISNUMBER(CSVデータ1!J127),CSVデータ1!J127,0)+IF(ISNUMBER(CSVデータ2!J127),CSVデータ2!J127,0)+IF(ISNUMBER(CSVデータ3!J127),CSVデータ3!J127,0)+IF(ISNUMBER(CSVデータ4!J127),CSVデータ4!J127,0)","v":0},null,{"$f":"IF(ISNUMBER(CSVデータ1!L127),CSVデータ1!L127,0)+IF(ISNUMBER(CSVデータ2!L127),CSVデータ2!L127,0)+IF(ISNUMBER(CSVデータ3!L127),CSVデータ3!L127,0)+IF(ISNUMBER(CSVデータ4!L127),CSVデータ4!L127,0)","v":0},null,{"$f":"IF(ISNUMBER(CSVデータ1!N127),CSVデータ1!N127,0)+IF(ISNUMBER(CSVデータ2!N127),CSVデータ2!N127,0)+IF(ISNUMBER(CSVデータ3!N127),CSVデータ3!N127,0)+IF(ISNUMBER(CSVデータ4!N127),CSVデータ4!N127,0)","v":0},null,{"$f":"IF(ISNUMBER(CSVデータ1!P127),CSVデータ1!P127,0)+IF(ISNUMBER(CSVデータ2!P127),CSVデータ2!P127,0)+IF(ISNUMBER(CSVデータ3!P127),CSVデータ3!P127,0)+IF(ISNUMBER(CSVデータ4!P127),CSVデータ4!P127,0)","v":0},null,{"$f":"IF(ISNUMBER(CSVデータ1!R127),CSVデータ1!R127,0)+IF(ISNUMBER(CSVデータ2!R127),CSVデータ2!R127,0)+IF(ISNUMBER(CSVデータ3!R127),CSVデータ3!R127,0)+IF(ISNUMBER(CSVデータ4!R127),CSVデータ4!R127,0)","v":0},null,{"$f":"IF(ISNUMBER(CSVデータ1!T127),CSVデータ1!T127,0)+IF(ISNUMBER(CSVデータ2!T127),CSVデータ2!T127,0)+IF(ISNUMBER(CSVデータ3!T127),CSVデータ3!T127,0)+IF(ISNUMBER(CSVデータ4!T127),CSVデータ4!T127,0)","v":0},null,{"$f":"IF(ISNUMBER(CSVデータ1!V127),CSVデータ1!V127,0)+IF(ISNUMBER(CSVデータ2!V127),CSVデータ2!V127,0)+IF(ISNUMBER(CSVデータ3!V127),CSVデータ3!V127,0)+IF(ISNUMBER(CSVデータ4!V127),CSVデータ4!V127,0)","v":0},null,{"$f":"IF(ISNUMBER(CSVデータ1!X127),CSVデータ1!X127,0)+IF(ISNUMBER(CSVデータ2!X127),CSVデータ2!X127,0)+IF(ISNUMBER(CSVデータ3!X127),CSVデータ3!X127,0)+IF(ISNUMBER(CSVデータ4!X127),CSVデータ4!X127,0)","v":0},null,{"$f":"IF(ISNUMBER(CSVデータ1!Z127),CSVデータ1!Z127,0)+IF(ISNUMBER(CSVデータ2!Z127),CSVデータ2!Z127,0)+IF(ISNUMBER(CSVデータ3!Z127),CSVデータ3!Z127,0)+IF(ISNUMBER(CSVデータ4!Z127),CSVデータ4!Z127,0)","v":0},null,{"$f":"IF(ISNUMBER(CSVデータ1!AB127),CSVデータ1!AB127,0)+IF(ISNUMBER(CSVデータ2!AB127),CSVデータ2!AB127,0)+IF(ISNUMBER(CSVデータ3!AB127),CSVデータ3!AB127,0)+IF(ISNUMBER(CSVデータ4!AB127),CSVデータ4!AB127,0)","v":0},null,{"$f":"IF(ISNUMBER(CSVデータ1!AD127),CSVデータ1!AD127,0)+IF(ISNUMBER(CSVデータ2!AD127),CSVデータ2!AD127,0)+IF(ISNUMBER(CSVデータ3!AD127),CSVデータ3!AD127,0)+IF(ISNUMBER(CSVデータ4!AD127),CSVデータ4!AD127,0)","v":0},null,{"$f":"IF(ISNUMBER(CSVデータ1!AF127),CSVデータ1!AF127,0)+IF(ISNUMBER(CSVデータ2!AF127),CSVデータ2!AF127,0)+IF(ISNUMBER(CSVデータ3!AF127),CSVデータ3!AF127,0)+IF(ISNUMBER(CSVデータ4!AF127),CSVデータ4!AF127,0)","v":0},null,{"$f":"IF(ISNUMBER(CSVデータ1!AH127),CSVデータ1!AH127,0)+IF(ISNUMBER(CSVデータ2!AH127),CSVデータ2!AH127,0)+IF(ISNUMBER(CSVデータ3!AH127),CSVデータ3!AH127,0)+IF(ISNUMBER(CSVデータ4!AH127),CSVデータ4!AH127,0)","v":0},null,{"$f":"IF(ISNUMBER(CSVデータ1!AJ127),CSVデータ1!AJ127,0)+IF(ISNUMBER(CSVデータ2!AJ127),CSVデータ2!AJ127,0)+IF(ISNUMBER(CSVデータ3!AJ127),CSVデータ3!AJ127,0)+IF(ISNUMBER(CSVデータ4!AJ127),CSVデータ4!AJ127,0)","v":0},null,{"$f":"IF(ISNUMBER(CSVデータ1!AL127),CSVデータ1!AL127,0)+IF(ISNUMBER(CSVデータ2!AL127),CSVデータ2!AL127,0)+IF(ISNUMBER(CSVデータ3!AL127),CSVデータ3!AL127,0)+IF(ISNUMBER(CSVデータ4!AL127),CSVデータ4!AL127,0)","v":0},null,{"$f":"IF(ISNUMBER(CSVデータ1!AN127),CSVデータ1!AN127,0)+IF(ISNUMBER(CSVデータ2!AN127),CSVデータ2!AN127,0)+IF(ISNUMBER(CSVデータ3!AN127),CSVデータ3!AN127,0)+IF(ISNUMBER(CSVデータ4!AN127),CSVデータ4!AN127,0)","v":0}]
[{"$f":"CSVデータ1!A128","v":"明細部"},{"$f":"CSVデータ1!B128","v":"県"},{"$f":"CSVデータ1!C128","v":59},{"$f":"CSVデータ1!D128","v":"女"},{"$f":"IF(ISNUMBER(CSVデータ1!E128),CSVデータ1!E128,0)+IF(ISNUMBER(CSVデータ2!E128),CSVデータ2!E128,0)+IF(ISNUMBER(CSVデータ3!E128),CSVデータ3!E128,0)+IF(ISNUMBER(CSVデータ4!E128),CSVデータ4!E128,0)","v":0},{"$f":"IF(ISNUMBER(CSVデータ1!F128),CSVデータ1!F128,0)+IF(ISNUMBER(CSVデータ2!F128),CSVデータ2!F128,0)+IF(ISNUMBER(CSVデータ3!F128),CSVデータ3!F128,0)+IF(ISNUMBER(CSVデータ4!F128),CSVデータ4!F128,0)","v":0},null,{"$f":"IF(ISNUMBER(CSVデータ1!H128),CSVデータ1!H128,0)+IF(ISNUMBER(CSVデータ2!H128),CSVデータ2!H128,0)+IF(ISNUMBER(CSVデータ3!H128),CSVデータ3!H128,0)+IF(ISNUMBER(CSVデータ4!H128),CSVデータ4!H128,0)","v":0},null,{"$f":"IF(ISNUMBER(CSVデータ1!J128),CSVデータ1!J128,0)+IF(ISNUMBER(CSVデータ2!J128),CSVデータ2!J128,0)+IF(ISNUMBER(CSVデータ3!J128),CSVデータ3!J128,0)+IF(ISNUMBER(CSVデータ4!J128),CSVデータ4!J128,0)","v":0},null,{"$f":"IF(ISNUMBER(CSVデータ1!L128),CSVデータ1!L128,0)+IF(ISNUMBER(CSVデータ2!L128),CSVデータ2!L128,0)+IF(ISNUMBER(CSVデータ3!L128),CSVデータ3!L128,0)+IF(ISNUMBER(CSVデータ4!L128),CSVデータ4!L128,0)","v":0},null,{"$f":"IF(ISNUMBER(CSVデータ1!N128),CSVデータ1!N128,0)+IF(ISNUMBER(CSVデータ2!N128),CSVデータ2!N128,0)+IF(ISNUMBER(CSVデータ3!N128),CSVデータ3!N128,0)+IF(ISNUMBER(CSVデータ4!N128),CSVデータ4!N128,0)","v":0},null,{"$f":"IF(ISNUMBER(CSVデータ1!P128),CSVデータ1!P128,0)+IF(ISNUMBER(CSVデータ2!P128),CSVデータ2!P128,0)+IF(ISNUMBER(CSVデータ3!P128),CSVデータ3!P128,0)+IF(ISNUMBER(CSVデータ4!P128),CSVデータ4!P128,0)","v":0},null,{"$f":"IF(ISNUMBER(CSVデータ1!R128),CSVデータ1!R128,0)+IF(ISNUMBER(CSVデータ2!R128),CSVデータ2!R128,0)+IF(ISNUMBER(CSVデータ3!R128),CSVデータ3!R128,0)+IF(ISNUMBER(CSVデータ4!R128),CSVデータ4!R128,0)","v":0},null,{"$f":"IF(ISNUMBER(CSVデータ1!T128),CSVデータ1!T128,0)+IF(ISNUMBER(CSVデータ2!T128),CSVデータ2!T128,0)+IF(ISNUMBER(CSVデータ3!T128),CSVデータ3!T128,0)+IF(ISNUMBER(CSVデータ4!T128),CSVデータ4!T128,0)","v":0},null,{"$f":"IF(ISNUMBER(CSVデータ1!V128),CSVデータ1!V128,0)+IF(ISNUMBER(CSVデータ2!V128),CSVデータ2!V128,0)+IF(ISNUMBER(CSVデータ3!V128),CSVデータ3!V128,0)+IF(ISNUMBER(CSVデータ4!V128),CSVデータ4!V128,0)","v":0},null,{"$f":"IF(ISNUMBER(CSVデータ1!X128),CSVデータ1!X128,0)+IF(ISNUMBER(CSVデータ2!X128),CSVデータ2!X128,0)+IF(ISNUMBER(CSVデータ3!X128),CSVデータ3!X128,0)+IF(ISNUMBER(CSVデータ4!X128),CSVデータ4!X128,0)","v":0},null,{"$f":"IF(ISNUMBER(CSVデータ1!Z128),CSVデータ1!Z128,0)+IF(ISNUMBER(CSVデータ2!Z128),CSVデータ2!Z128,0)+IF(ISNUMBER(CSVデータ3!Z128),CSVデータ3!Z128,0)+IF(ISNUMBER(CSVデータ4!Z128),CSVデータ4!Z128,0)","v":0},null,{"$f":"IF(ISNUMBER(CSVデータ1!AB128),CSVデータ1!AB128,0)+IF(ISNUMBER(CSVデータ2!AB128),CSVデータ2!AB128,0)+IF(ISNUMBER(CSVデータ3!AB128),CSVデータ3!AB128,0)+IF(ISNUMBER(CSVデータ4!AB128),CSVデータ4!AB128,0)","v":0},null,{"$f":"IF(ISNUMBER(CSVデータ1!AD128),CSVデータ1!AD128,0)+IF(ISNUMBER(CSVデータ2!AD128),CSVデータ2!AD128,0)+IF(ISNUMBER(CSVデータ3!AD128),CSVデータ3!AD128,0)+IF(ISNUMBER(CSVデータ4!AD128),CSVデータ4!AD128,0)","v":0},null,{"$f":"IF(ISNUMBER(CSVデータ1!AF128),CSVデータ1!AF128,0)+IF(ISNUMBER(CSVデータ2!AF128),CSVデータ2!AF128,0)+IF(ISNUMBER(CSVデータ3!AF128),CSVデータ3!AF128,0)+IF(ISNUMBER(CSVデータ4!AF128),CSVデータ4!AF128,0)","v":0},null,{"$f":"IF(ISNUMBER(CSVデータ1!AH128),CSVデータ1!AH128,0)+IF(ISNUMBER(CSVデータ2!AH128),CSVデータ2!AH128,0)+IF(ISNUMBER(CSVデータ3!AH128),CSVデータ3!AH128,0)+IF(ISNUMBER(CSVデータ4!AH128),CSVデータ4!AH128,0)","v":0},null,{"$f":"IF(ISNUMBER(CSVデータ1!AJ128),CSVデータ1!AJ128,0)+IF(ISNUMBER(CSVデータ2!AJ128),CSVデータ2!AJ128,0)+IF(ISNUMBER(CSVデータ3!AJ128),CSVデータ3!AJ128,0)+IF(ISNUMBER(CSVデータ4!AJ128),CSVデータ4!AJ128,0)","v":0},null,{"$f":"IF(ISNUMBER(CSVデータ1!AL128),CSVデータ1!AL128,0)+IF(ISNUMBER(CSVデータ2!AL128),CSVデータ2!AL128,0)+IF(ISNUMBER(CSVデータ3!AL128),CSVデータ3!AL128,0)+IF(ISNUMBER(CSVデータ4!AL128),CSVデータ4!AL128,0)","v":0},null,{"$f":"IF(ISNUMBER(CSVデータ1!AN128),CSVデータ1!AN128,0)+IF(ISNUMBER(CSVデータ2!AN128),CSVデータ2!AN128,0)+IF(ISNUMBER(CSVデータ3!AN128),CSVデータ3!AN128,0)+IF(ISNUMBER(CSVデータ4!AN128),CSVデータ4!AN128,0)","v":0}]
[{"$f":"CSVデータ1!A129","v":"明細部"},{"$f":"CSVデータ1!B129","v":"県"},{"$f":"CSVデータ1!C129","v":60},{"$f":"CSVデータ1!D129","v":"女"},{"$f":"IF(ISNUMBER(CSVデータ1!E129),CSVデータ1!E129,0)+IF(ISNUMBER(CSVデータ2!E129),CSVデータ2!E129,0)+IF(ISNUMBER(CSVデータ3!E129),CSVデータ3!E129,0)+IF(ISNUMBER(CSVデータ4!E129),CSVデータ4!E129,0)","v":0},{"$f":"IF(ISNUMBER(CSVデータ1!F129),CSVデータ1!F129,0)+IF(ISNUMBER(CSVデータ2!F129),CSVデータ2!F129,0)+IF(ISNUMBER(CSVデータ3!F129),CSVデータ3!F129,0)+IF(ISNUMBER(CSVデータ4!F129),CSVデータ4!F129,0)","v":0},null,{"$f":"IF(ISNUMBER(CSVデータ1!H129),CSVデータ1!H129,0)+IF(ISNUMBER(CSVデータ2!H129),CSVデータ2!H129,0)+IF(ISNUMBER(CSVデータ3!H129),CSVデータ3!H129,0)+IF(ISNUMBER(CSVデータ4!H129),CSVデータ4!H129,0)","v":0},null,{"$f":"IF(ISNUMBER(CSVデータ1!J129),CSVデータ1!J129,0)+IF(ISNUMBER(CSVデータ2!J129),CSVデータ2!J129,0)+IF(ISNUMBER(CSVデータ3!J129),CSVデータ3!J129,0)+IF(ISNUMBER(CSVデータ4!J129),CSVデータ4!J129,0)","v":0},null,{"$f":"IF(ISNUMBER(CSVデータ1!L129),CSVデータ1!L129,0)+IF(ISNUMBER(CSVデータ2!L129),CSVデータ2!L129,0)+IF(ISNUMBER(CSVデータ3!L129),CSVデータ3!L129,0)+IF(ISNUMBER(CSVデータ4!L129),CSVデータ4!L129,0)","v":0},null,{"$f":"IF(ISNUMBER(CSVデータ1!N129),CSVデータ1!N129,0)+IF(ISNUMBER(CSVデータ2!N129),CSVデータ2!N129,0)+IF(ISNUMBER(CSVデータ3!N129),CSVデータ3!N129,0)+IF(ISNUMBER(CSVデータ4!N129),CSVデータ4!N129,0)","v":0},null,{"$f":"IF(ISNUMBER(CSVデータ1!P129),CSVデータ1!P129,0)+IF(ISNUMBER(CSVデータ2!P129),CSVデータ2!P129,0)+IF(ISNUMBER(CSVデータ3!P129),CSVデータ3!P129,0)+IF(ISNUMBER(CSVデータ4!P129),CSVデータ4!P129,0)","v":0},null,{"$f":"IF(ISNUMBER(CSVデータ1!R129),CSVデータ1!R129,0)+IF(ISNUMBER(CSVデータ2!R129),CSVデータ2!R129,0)+IF(ISNUMBER(CSVデータ3!R129),CSVデータ3!R129,0)+IF(ISNUMBER(CSVデータ4!R129),CSVデータ4!R129,0)","v":0},null,{"$f":"IF(ISNUMBER(CSVデータ1!T129),CSVデータ1!T129,0)+IF(ISNUMBER(CSVデータ2!T129),CSVデータ2!T129,0)+IF(ISNUMBER(CSVデータ3!T129),CSVデータ3!T129,0)+IF(ISNUMBER(CSVデータ4!T129),CSVデータ4!T129,0)","v":0},null,{"$f":"IF(ISNUMBER(CSVデータ1!V129),CSVデータ1!V129,0)+IF(ISNUMBER(CSVデータ2!V129),CSVデータ2!V129,0)+IF(ISNUMBER(CSVデータ3!V129),CSVデータ3!V129,0)+IF(ISNUMBER(CSVデータ4!V129),CSVデータ4!V129,0)","v":0},null,{"$f":"IF(ISNUMBER(CSVデータ1!X129),CSVデータ1!X129,0)+IF(ISNUMBER(CSVデータ2!X129),CSVデータ2!X129,0)+IF(ISNUMBER(CSVデータ3!X129),CSVデータ3!X129,0)+IF(ISNUMBER(CSVデータ4!X129),CSVデータ4!X129,0)","v":0},null,{"$f":"IF(ISNUMBER(CSVデータ1!Z129),CSVデータ1!Z129,0)+IF(ISNUMBER(CSVデータ2!Z129),CSVデータ2!Z129,0)+IF(ISNUMBER(CSVデータ3!Z129),CSVデータ3!Z129,0)+IF(ISNUMBER(CSVデータ4!Z129),CSVデータ4!Z129,0)","v":0},null,{"$f":"IF(ISNUMBER(CSVデータ1!AB129),CSVデータ1!AB129,0)+IF(ISNUMBER(CSVデータ2!AB129),CSVデータ2!AB129,0)+IF(ISNUMBER(CSVデータ3!AB129),CSVデータ3!AB129,0)+IF(ISNUMBER(CSVデータ4!AB129),CSVデータ4!AB129,0)","v":0},null,{"$f":"IF(ISNUMBER(CSVデータ1!AD129),CSVデータ1!AD129,0)+IF(ISNUMBER(CSVデータ2!AD129),CSVデータ2!AD129,0)+IF(ISNUMBER(CSVデータ3!AD129),CSVデータ3!AD129,0)+IF(ISNUMBER(CSVデータ4!AD129),CSVデータ4!AD129,0)","v":0},null,{"$f":"IF(ISNUMBER(CSVデータ1!AF129),CSVデータ1!AF129,0)+IF(ISNUMBER(CSVデータ2!AF129),CSVデータ2!AF129,0)+IF(ISNUMBER(CSVデータ3!AF129),CSVデータ3!AF129,0)+IF(ISNUMBER(CSVデータ4!AF129),CSVデータ4!AF129,0)","v":0},null,{"$f":"IF(ISNUMBER(CSVデータ1!AH129),CSVデータ1!AH129,0)+IF(ISNUMBER(CSVデータ2!AH129),CSVデータ2!AH129,0)+IF(ISNUMBER(CSVデータ3!AH129),CSVデータ3!AH129,0)+IF(ISNUMBER(CSVデータ4!AH129),CSVデータ4!AH129,0)","v":0},null,{"$f":"IF(ISNUMBER(CSVデータ1!AJ129),CSVデータ1!AJ129,0)+IF(ISNUMBER(CSVデータ2!AJ129),CSVデータ2!AJ129,0)+IF(ISNUMBER(CSVデータ3!AJ129),CSVデータ3!AJ129,0)+IF(ISNUMBER(CSVデータ4!AJ129),CSVデータ4!AJ129,0)","v":0},null,{"$f":"IF(ISNUMBER(CSVデータ1!AL129),CSVデータ1!AL129,0)+IF(ISNUMBER(CSVデータ2!AL129),CSVデータ2!AL129,0)+IF(ISNUMBER(CSVデータ3!AL129),CSVデータ3!AL129,0)+IF(ISNUMBER(CSVデータ4!AL129),CSVデータ4!AL129,0)","v":0},null,{"$f":"IF(ISNUMBER(CSVデータ1!AN129),CSVデータ1!AN129,0)+IF(ISNUMBER(CSVデータ2!AN129),CSVデータ2!AN129,0)+IF(ISNUMBER(CSVデータ3!AN129),CSVデータ3!AN129,0)+IF(ISNUMBER(CSVデータ4!AN129),CSVデータ4!AN129,0)","v":0}]
[{"$f":"CSVデータ1!A130","v":"明細部"},{"$f":"CSVデータ1!B130","v":"県"},{"$f":"CSVデータ1!C130","v":61},{"$f":"CSVデータ1!D130","v":"女"},{"$f":"IF(ISNUMBER(CSVデータ1!E130),CSVデータ1!E130,0)+IF(ISNUMBER(CSVデータ2!E130),CSVデータ2!E130,0)+IF(ISNUMBER(CSVデータ3!E130),CSVデータ3!E130,0)+IF(ISNUMBER(CSVデータ4!E130),CSVデータ4!E130,0)","v":0},{"$f":"IF(ISNUMBER(CSVデータ1!F130),CSVデータ1!F130,0)+IF(ISNUMBER(CSVデータ2!F130),CSVデータ2!F130,0)+IF(ISNUMBER(CSVデータ3!F130),CSVデータ3!F130,0)+IF(ISNUMBER(CSVデータ4!F130),CSVデータ4!F130,0)","v":0},null,{"$f":"IF(ISNUMBER(CSVデータ1!H130),CSVデータ1!H130,0)+IF(ISNUMBER(CSVデータ2!H130),CSVデータ2!H130,0)+IF(ISNUMBER(CSVデータ3!H130),CSVデータ3!H130,0)+IF(ISNUMBER(CSVデータ4!H130),CSVデータ4!H130,0)","v":0},null,{"$f":"IF(ISNUMBER(CSVデータ1!J130),CSVデータ1!J130,0)+IF(ISNUMBER(CSVデータ2!J130),CSVデータ2!J130,0)+IF(ISNUMBER(CSVデータ3!J130),CSVデータ3!J130,0)+IF(ISNUMBER(CSVデータ4!J130),CSVデータ4!J130,0)","v":0},null,{"$f":"IF(ISNUMBER(CSVデータ1!L130),CSVデータ1!L130,0)+IF(ISNUMBER(CSVデータ2!L130),CSVデータ2!L130,0)+IF(ISNUMBER(CSVデータ3!L130),CSVデータ3!L130,0)+IF(ISNUMBER(CSVデータ4!L130),CSVデータ4!L130,0)","v":0},null,{"$f":"IF(ISNUMBER(CSVデータ1!N130),CSVデータ1!N130,0)+IF(ISNUMBER(CSVデータ2!N130),CSVデータ2!N130,0)+IF(ISNUMBER(CSVデータ3!N130),CSVデータ3!N130,0)+IF(ISNUMBER(CSVデータ4!N130),CSVデータ4!N130,0)","v":0},null,{"$f":"IF(ISNUMBER(CSVデータ1!P130),CSVデータ1!P130,0)+IF(ISNUMBER(CSVデータ2!P130),CSVデータ2!P130,0)+IF(ISNUMBER(CSVデータ3!P130),CSVデータ3!P130,0)+IF(ISNUMBER(CSVデータ4!P130),CSVデータ4!P130,0)","v":0},null,{"$f":"IF(ISNUMBER(CSVデータ1!R130),CSVデータ1!R130,0)+IF(ISNUMBER(CSVデータ2!R130),CSVデータ2!R130,0)+IF(ISNUMBER(CSVデータ3!R130),CSVデータ3!R130,0)+IF(ISNUMBER(CSVデータ4!R130),CSVデータ4!R130,0)","v":0},null,{"$f":"IF(ISNUMBER(CSVデータ1!T130),CSVデータ1!T130,0)+IF(ISNUMBER(CSVデータ2!T130),CSVデータ2!T130,0)+IF(ISNUMBER(CSVデータ3!T130),CSVデータ3!T130,0)+IF(ISNUMBER(CSVデータ4!T130),CSVデータ4!T130,0)","v":0},null,{"$f":"IF(ISNUMBER(CSVデータ1!V130),CSVデータ1!V130,0)+IF(ISNUMBER(CSVデータ2!V130),CSVデータ2!V130,0)+IF(ISNUMBER(CSVデータ3!V130),CSVデータ3!V130,0)+IF(ISNUMBER(CSVデータ4!V130),CSVデータ4!V130,0)","v":0},null,{"$f":"IF(ISNUMBER(CSVデータ1!X130),CSVデータ1!X130,0)+IF(ISNUMBER(CSVデータ2!X130),CSVデータ2!X130,0)+IF(ISNUMBER(CSVデータ3!X130),CSVデータ3!X130,0)+IF(ISNUMBER(CSVデータ4!X130),CSVデータ4!X130,0)","v":0},null,{"$f":"IF(ISNUMBER(CSVデータ1!Z130),CSVデータ1!Z130,0)+IF(ISNUMBER(CSVデータ2!Z130),CSVデータ2!Z130,0)+IF(ISNUMBER(CSVデータ3!Z130),CSVデータ3!Z130,0)+IF(ISNUMBER(CSVデータ4!Z130),CSVデータ4!Z130,0)","v":0},null,{"$f":"IF(ISNUMBER(CSVデータ1!AB130),CSVデータ1!AB130,0)+IF(ISNUMBER(CSVデータ2!AB130),CSVデータ2!AB130,0)+IF(ISNUMBER(CSVデータ3!AB130),CSVデータ3!AB130,0)+IF(ISNUMBER(CSVデータ4!AB130),CSVデータ4!AB130,0)","v":0},null,{"$f":"IF(ISNUMBER(CSVデータ1!AD130),CSVデータ1!AD130,0)+IF(ISNUMBER(CSVデータ2!AD130),CSVデータ2!AD130,0)+IF(ISNUMBER(CSVデータ3!AD130),CSVデータ3!AD130,0)+IF(ISNUMBER(CSVデータ4!AD130),CSVデータ4!AD130,0)","v":0},null,{"$f":"IF(ISNUMBER(CSVデータ1!AF130),CSVデータ1!AF130,0)+IF(ISNUMBER(CSVデータ2!AF130),CSVデータ2!AF130,0)+IF(ISNUMBER(CSVデータ3!AF130),CSVデータ3!AF130,0)+IF(ISNUMBER(CSVデータ4!AF130),CSVデータ4!AF130,0)","v":0},null,{"$f":"IF(ISNUMBER(CSVデータ1!AH130),CSVデータ1!AH130,0)+IF(ISNUMBER(CSVデータ2!AH130),CSVデータ2!AH130,0)+IF(ISNUMBER(CSVデータ3!AH130),CSVデータ3!AH130,0)+IF(ISNUMBER(CSVデータ4!AH130),CSVデータ4!AH130,0)","v":0},null,{"$f":"IF(ISNUMBER(CSVデータ1!AJ130),CSVデータ1!AJ130,0)+IF(ISNUMBER(CSVデータ2!AJ130),CSVデータ2!AJ130,0)+IF(ISNUMBER(CSVデータ3!AJ130),CSVデータ3!AJ130,0)+IF(ISNUMBER(CSVデータ4!AJ130),CSVデータ4!AJ130,0)","v":0},null,{"$f":"IF(ISNUMBER(CSVデータ1!AL130),CSVデータ1!AL130,0)+IF(ISNUMBER(CSVデータ2!AL130),CSVデータ2!AL130,0)+IF(ISNUMBER(CSVデータ3!AL130),CSVデータ3!AL130,0)+IF(ISNUMBER(CSVデータ4!AL130),CSVデータ4!AL130,0)","v":0},null,{"$f":"IF(ISNUMBER(CSVデータ1!AN130),CSVデータ1!AN130,0)+IF(ISNUMBER(CSVデータ2!AN130),CSVデータ2!AN130,0)+IF(ISNUMBER(CSVデータ3!AN130),CSVデータ3!AN130,0)+IF(ISNUMBER(CSVデータ4!AN130),CSVデータ4!AN130,0)","v":0}]
[{"$f":"CSVデータ1!A131","v":"明細部"},{"$f":"CSVデータ1!B131","v":"県"},{"$f":"CSVデータ1!C131","v":62},{"$f":"CSVデータ1!D131","v":"女"},{"$f":"IF(ISNUMBER(CSVデータ1!E131),CSVデータ1!E131,0)+IF(ISNUMBER(CSVデータ2!E131),CSVデータ2!E131,0)+IF(ISNUMBER(CSVデータ3!E131),CSVデータ3!E131,0)+IF(ISNUMBER(CSVデータ4!E131),CSVデータ4!E131,0)","v":0},{"$f":"IF(ISNUMBER(CSVデータ1!F131),CSVデータ1!F131,0)+IF(ISNUMBER(CSVデータ2!F131),CSVデータ2!F131,0)+IF(ISNUMBER(CSVデータ3!F131),CSVデータ3!F131,0)+IF(ISNUMBER(CSVデータ4!F131),CSVデータ4!F131,0)","v":0},null,{"$f":"IF(ISNUMBER(CSVデータ1!H131),CSVデータ1!H131,0)+IF(ISNUMBER(CSVデータ2!H131),CSVデータ2!H131,0)+IF(ISNUMBER(CSVデータ3!H131),CSVデータ3!H131,0)+IF(ISNUMBER(CSVデータ4!H131),CSVデータ4!H131,0)","v":0},null,{"$f":"IF(ISNUMBER(CSVデータ1!J131),CSVデータ1!J131,0)+IF(ISNUMBER(CSVデータ2!J131),CSVデータ2!J131,0)+IF(ISNUMBER(CSVデータ3!J131),CSVデータ3!J131,0)+IF(ISNUMBER(CSVデータ4!J131),CSVデータ4!J131,0)","v":0},null,{"$f":"IF(ISNUMBER(CSVデータ1!L131),CSVデータ1!L131,0)+IF(ISNUMBER(CSVデータ2!L131),CSVデータ2!L131,0)+IF(ISNUMBER(CSVデータ3!L131),CSVデータ3!L131,0)+IF(ISNUMBER(CSVデータ4!L131),CSVデータ4!L131,0)","v":0},null,{"$f":"IF(ISNUMBER(CSVデータ1!N131),CSVデータ1!N131,0)+IF(ISNUMBER(CSVデータ2!N131),CSVデータ2!N131,0)+IF(ISNUMBER(CSVデータ3!N131),CSVデータ3!N131,0)+IF(ISNUMBER(CSVデータ4!N131),CSVデータ4!N131,0)","v":0},null,{"$f":"IF(ISNUMBER(CSVデータ1!P131),CSVデータ1!P131,0)+IF(ISNUMBER(CSVデータ2!P131),CSVデータ2!P131,0)+IF(ISNUMBER(CSVデータ3!P131),CSVデータ3!P131,0)+IF(ISNUMBER(CSVデータ4!P131),CSVデータ4!P131,0)","v":0},null,{"$f":"IF(ISNUMBER(CSVデータ1!R131),CSVデータ1!R131,0)+IF(ISNUMBER(CSVデータ2!R131),CSVデータ2!R131,0)+IF(ISNUMBER(CSVデータ3!R131),CSVデータ3!R131,0)+IF(ISNUMBER(CSVデータ4!R131),CSVデータ4!R131,0)","v":0},null,{"$f":"IF(ISNUMBER(CSVデータ1!T131),CSVデータ1!T131,0)+IF(ISNUMBER(CSVデータ2!T131),CSVデータ2!T131,0)+IF(ISNUMBER(CSVデータ3!T131),CSVデータ3!T131,0)+IF(ISNUMBER(CSVデータ4!T131),CSVデータ4!T131,0)","v":0},null,{"$f":"IF(ISNUMBER(CSVデータ1!V131),CSVデータ1!V131,0)+IF(ISNUMBER(CSVデータ2!V131),CSVデータ2!V131,0)+IF(ISNUMBER(CSVデータ3!V131),CSVデータ3!V131,0)+IF(ISNUMBER(CSVデータ4!V131),CSVデータ4!V131,0)","v":0},null,{"$f":"IF(ISNUMBER(CSVデータ1!X131),CSVデータ1!X131,0)+IF(ISNUMBER(CSVデータ2!X131),CSVデータ2!X131,0)+IF(ISNUMBER(CSVデータ3!X131),CSVデータ3!X131,0)+IF(ISNUMBER(CSVデータ4!X131),CSVデータ4!X131,0)","v":0},null,{"$f":"IF(ISNUMBER(CSVデータ1!Z131),CSVデータ1!Z131,0)+IF(ISNUMBER(CSVデータ2!Z131),CSVデータ2!Z131,0)+IF(ISNUMBER(CSVデータ3!Z131),CSVデータ3!Z131,0)+IF(ISNUMBER(CSVデータ4!Z131),CSVデータ4!Z131,0)","v":0},null,{"$f":"IF(ISNUMBER(CSVデータ1!AB131),CSVデータ1!AB131,0)+IF(ISNUMBER(CSVデータ2!AB131),CSVデータ2!AB131,0)+IF(ISNUMBER(CSVデータ3!AB131),CSVデータ3!AB131,0)+IF(ISNUMBER(CSVデータ4!AB131),CSVデータ4!AB131,0)","v":0},null,{"$f":"IF(ISNUMBER(CSVデータ1!AD131),CSVデータ1!AD131,0)+IF(ISNUMBER(CSVデータ2!AD131),CSVデータ2!AD131,0)+IF(ISNUMBER(CSVデータ3!AD131),CSVデータ3!AD131,0)+IF(ISNUMBER(CSVデータ4!AD131),CSVデータ4!AD131,0)","v":0},null,{"$f":"IF(ISNUMBER(CSVデータ1!AF131),CSVデータ1!AF131,0)+IF(ISNUMBER(CSVデータ2!AF131),CSVデータ2!AF131,0)+IF(ISNUMBER(CSVデータ3!AF131),CSVデータ3!AF131,0)+IF(ISNUMBER(CSVデータ4!AF131),CSVデータ4!AF131,0)","v":0},null,{"$f":"IF(ISNUMBER(CSVデータ1!AH131),CSVデータ1!AH131,0)+IF(ISNUMBER(CSVデータ2!AH131),CSVデータ2!AH131,0)+IF(ISNUMBER(CSVデータ3!AH131),CSVデータ3!AH131,0)+IF(ISNUMBER(CSVデータ4!AH131),CSVデータ4!AH131,0)","v":0},null,{"$f":"IF(ISNUMBER(CSVデータ1!AJ131),CSVデータ1!AJ131,0)+IF(ISNUMBER(CSVデータ2!AJ131),CSVデータ2!AJ131,0)+IF(ISNUMBER(CSVデータ3!AJ131),CSVデータ3!AJ131,0)+IF(ISNUMBER(CSVデータ4!AJ131),CSVデータ4!AJ131,0)","v":0},null,{"$f":"IF(ISNUMBER(CSVデータ1!AL131),CSVデータ1!AL131,0)+IF(ISNUMBER(CSVデータ2!AL131),CSVデータ2!AL131,0)+IF(ISNUMBER(CSVデータ3!AL131),CSVデータ3!AL131,0)+IF(ISNUMBER(CSVデータ4!AL131),CSVデータ4!AL131,0)","v":0},null,{"$f":"IF(ISNUMBER(CSVデータ1!AN131),CSVデータ1!AN131,0)+IF(ISNUMBER(CSVデータ2!AN131),CSVデータ2!AN131,0)+IF(ISNUMBER(CSVデータ3!AN131),CSVデータ3!AN131,0)+IF(ISNUMBER(CSVデータ4!AN131),CSVデータ4!AN131,0)","v":0}]
[{"$f":"CSVデータ1!A132","v":"明細部"},{"$f":"CSVデータ1!B132","v":"県"},{"$f":"CSVデータ1!C132","v":63},{"$f":"CSVデータ1!D132","v":"女"},{"$f":"IF(ISNUMBER(CSVデータ1!E132),CSVデータ1!E132,0)+IF(ISNUMBER(CSVデータ2!E132),CSVデータ2!E132,0)+IF(ISNUMBER(CSVデータ3!E132),CSVデータ3!E132,0)+IF(ISNUMBER(CSVデータ4!E132),CSVデータ4!E132,0)","v":0},{"$f":"IF(ISNUMBER(CSVデータ1!F132),CSVデータ1!F132,0)+IF(ISNUMBER(CSVデータ2!F132),CSVデータ2!F132,0)+IF(ISNUMBER(CSVデータ3!F132),CSVデータ3!F132,0)+IF(ISNUMBER(CSVデータ4!F132),CSVデータ4!F132,0)","v":0},null,{"$f":"IF(ISNUMBER(CSVデータ1!H132),CSVデータ1!H132,0)+IF(ISNUMBER(CSVデータ2!H132),CSVデータ2!H132,0)+IF(ISNUMBER(CSVデータ3!H132),CSVデータ3!H132,0)+IF(ISNUMBER(CSVデータ4!H132),CSVデータ4!H132,0)","v":0},null,{"$f":"IF(ISNUMBER(CSVデータ1!J132),CSVデータ1!J132,0)+IF(ISNUMBER(CSVデータ2!J132),CSVデータ2!J132,0)+IF(ISNUMBER(CSVデータ3!J132),CSVデータ3!J132,0)+IF(ISNUMBER(CSVデータ4!J132),CSVデータ4!J132,0)","v":0},null,{"$f":"IF(ISNUMBER(CSVデータ1!L132),CSVデータ1!L132,0)+IF(ISNUMBER(CSVデータ2!L132),CSVデータ2!L132,0)+IF(ISNUMBER(CSVデータ3!L132),CSVデータ3!L132,0)+IF(ISNUMBER(CSVデータ4!L132),CSVデータ4!L132,0)","v":0},null,{"$f":"IF(ISNUMBER(CSVデータ1!N132),CSVデータ1!N132,0)+IF(ISNUMBER(CSVデータ2!N132),CSVデータ2!N132,0)+IF(ISNUMBER(CSVデータ3!N132),CSVデータ3!N132,0)+IF(ISNUMBER(CSVデータ4!N132),CSVデータ4!N132,0)","v":0},null,{"$f":"IF(ISNUMBER(CSVデータ1!P132),CSVデータ1!P132,0)+IF(ISNUMBER(CSVデータ2!P132),CSVデータ2!P132,0)+IF(ISNUMBER(CSVデータ3!P132),CSVデータ3!P132,0)+IF(ISNUMBER(CSVデータ4!P132),CSVデータ4!P132,0)","v":0},null,{"$f":"IF(ISNUMBER(CSVデータ1!R132),CSVデータ1!R132,0)+IF(ISNUMBER(CSVデータ2!R132),CSVデータ2!R132,0)+IF(ISNUMBER(CSVデータ3!R132),CSVデータ3!R132,0)+IF(ISNUMBER(CSVデータ4!R132),CSVデータ4!R132,0)","v":0},null,{"$f":"IF(ISNUMBER(CSVデータ1!T132),CSVデータ1!T132,0)+IF(ISNUMBER(CSVデータ2!T132),CSVデータ2!T132,0)+IF(ISNUMBER(CSVデータ3!T132),CSVデータ3!T132,0)+IF(ISNUMBER(CSVデータ4!T132),CSVデータ4!T132,0)","v":0},null,{"$f":"IF(ISNUMBER(CSVデータ1!V132),CSVデータ1!V132,0)+IF(ISNUMBER(CSVデータ2!V132),CSVデータ2!V132,0)+IF(ISNUMBER(CSVデータ3!V132),CSVデータ3!V132,0)+IF(ISNUMBER(CSVデータ4!V132),CSVデータ4!V132,0)","v":0},null,{"$f":"IF(ISNUMBER(CSVデータ1!X132),CSVデータ1!X132,0)+IF(ISNUMBER(CSVデータ2!X132),CSVデータ2!X132,0)+IF(ISNUMBER(CSVデータ3!X132),CSVデータ3!X132,0)+IF(ISNUMBER(CSVデータ4!X132),CSVデータ4!X132,0)","v":0},null,{"$f":"IF(ISNUMBER(CSVデータ1!Z132),CSVデータ1!Z132,0)+IF(ISNUMBER(CSVデータ2!Z132),CSVデータ2!Z132,0)+IF(ISNUMBER(CSVデータ3!Z132),CSVデータ3!Z132,0)+IF(ISNUMBER(CSVデータ4!Z132),CSVデータ4!Z132,0)","v":0},null,{"$f":"IF(ISNUMBER(CSVデータ1!AB132),CSVデータ1!AB132,0)+IF(ISNUMBER(CSVデータ2!AB132),CSVデータ2!AB132,0)+IF(ISNUMBER(CSVデータ3!AB132),CSVデータ3!AB132,0)+IF(ISNUMBER(CSVデータ4!AB132),CSVデータ4!AB132,0)","v":0},null,{"$f":"IF(ISNUMBER(CSVデータ1!AD132),CSVデータ1!AD132,0)+IF(ISNUMBER(CSVデータ2!AD132),CSVデータ2!AD132,0)+IF(ISNUMBER(CSVデータ3!AD132),CSVデータ3!AD132,0)+IF(ISNUMBER(CSVデータ4!AD132),CSVデータ4!AD132,0)","v":0},null,{"$f":"IF(ISNUMBER(CSVデータ1!AF132),CSVデータ1!AF132,0)+IF(ISNUMBER(CSVデータ2!AF132),CSVデータ2!AF132,0)+IF(ISNUMBER(CSVデータ3!AF132),CSVデータ3!AF132,0)+IF(ISNUMBER(CSVデータ4!AF132),CSVデータ4!AF132,0)","v":0},null,{"$f":"IF(ISNUMBER(CSVデータ1!AH132),CSVデータ1!AH132,0)+IF(ISNUMBER(CSVデータ2!AH132),CSVデータ2!AH132,0)+IF(ISNUMBER(CSVデータ3!AH132),CSVデータ3!AH132,0)+IF(ISNUMBER(CSVデータ4!AH132),CSVデータ4!AH132,0)","v":0},null,{"$f":"IF(ISNUMBER(CSVデータ1!AJ132),CSVデータ1!AJ132,0)+IF(ISNUMBER(CSVデータ2!AJ132),CSVデータ2!AJ132,0)+IF(ISNUMBER(CSVデータ3!AJ132),CSVデータ3!AJ132,0)+IF(ISNUMBER(CSVデータ4!AJ132),CSVデータ4!AJ132,0)","v":0},null,{"$f":"IF(ISNUMBER(CSVデータ1!AL132),CSVデータ1!AL132,0)+IF(ISNUMBER(CSVデータ2!AL132),CSVデータ2!AL132,0)+IF(ISNUMBER(CSVデータ3!AL132),CSVデータ3!AL132,0)+IF(ISNUMBER(CSVデータ4!AL132),CSVデータ4!AL132,0)","v":0},null,{"$f":"IF(ISNUMBER(CSVデータ1!AN132),CSVデータ1!AN132,0)+IF(ISNUMBER(CSVデータ2!AN132),CSVデータ2!AN132,0)+IF(ISNUMBER(CSVデータ3!AN132),CSVデータ3!AN132,0)+IF(ISNUMBER(CSVデータ4!AN132),CSVデータ4!AN132,0)","v":0}]
[{"$f":"CSVデータ1!A133","v":"明細部"},{"$f":"CSVデータ1!B133","v":"県"},{"$f":"CSVデータ1!C133","v":64},{"$f":"CSVデータ1!D133","v":"女"},{"$f":"IF(ISNUMBER(CSVデータ1!E133),CSVデータ1!E133,0)+IF(ISNUMBER(CSVデータ2!E133),CSVデータ2!E133,0)+IF(ISNUMBER(CSVデータ3!E133),CSVデータ3!E133,0)+IF(ISNUMBER(CSVデータ4!E133),CSVデータ4!E133,0)","v":0},{"$f":"IF(ISNUMBER(CSVデータ1!F133),CSVデータ1!F133,0)+IF(ISNUMBER(CSVデータ2!F133),CSVデータ2!F133,0)+IF(ISNUMBER(CSVデータ3!F133),CSVデータ3!F133,0)+IF(ISNUMBER(CSVデータ4!F133),CSVデータ4!F133,0)","v":0},null,{"$f":"IF(ISNUMBER(CSVデータ1!H133),CSVデータ1!H133,0)+IF(ISNUMBER(CSVデータ2!H133),CSVデータ2!H133,0)+IF(ISNUMBER(CSVデータ3!H133),CSVデータ3!H133,0)+IF(ISNUMBER(CSVデータ4!H133),CSVデータ4!H133,0)","v":0},null,{"$f":"IF(ISNUMBER(CSVデータ1!J133),CSVデータ1!J133,0)+IF(ISNUMBER(CSVデータ2!J133),CSVデータ2!J133,0)+IF(ISNUMBER(CSVデータ3!J133),CSVデータ3!J133,0)+IF(ISNUMBER(CSVデータ4!J133),CSVデータ4!J133,0)","v":0},null,{"$f":"IF(ISNUMBER(CSVデータ1!L133),CSVデータ1!L133,0)+IF(ISNUMBER(CSVデータ2!L133),CSVデータ2!L133,0)+IF(ISNUMBER(CSVデータ3!L133),CSVデータ3!L133,0)+IF(ISNUMBER(CSVデータ4!L133),CSVデータ4!L133,0)","v":0},null,{"$f":"IF(ISNUMBER(CSVデータ1!N133),CSVデータ1!N133,0)+IF(ISNUMBER(CSVデータ2!N133),CSVデータ2!N133,0)+IF(ISNUMBER(CSVデータ3!N133),CSVデータ3!N133,0)+IF(ISNUMBER(CSVデータ4!N133),CSVデータ4!N133,0)","v":0},null,{"$f":"IF(ISNUMBER(CSVデータ1!P133),CSVデータ1!P133,0)+IF(ISNUMBER(CSVデータ2!P133),CSVデータ2!P133,0)+IF(ISNUMBER(CSVデータ3!P133),CSVデータ3!P133,0)+IF(ISNUMBER(CSVデータ4!P133),CSVデータ4!P133,0)","v":0},null,{"$f":"IF(ISNUMBER(CSVデータ1!R133),CSVデータ1!R133,0)+IF(ISNUMBER(CSVデータ2!R133),CSVデータ2!R133,0)+IF(ISNUMBER(CSVデータ3!R133),CSVデータ3!R133,0)+IF(ISNUMBER(CSVデータ4!R133),CSVデータ4!R133,0)","v":0},null,{"$f":"IF(ISNUMBER(CSVデータ1!T133),CSVデータ1!T133,0)+IF(ISNUMBER(CSVデータ2!T133),CSVデータ2!T133,0)+IF(ISNUMBER(CSVデータ3!T133),CSVデータ3!T133,0)+IF(ISNUMBER(CSVデータ4!T133),CSVデータ4!T133,0)","v":0},null,{"$f":"IF(ISNUMBER(CSVデータ1!V133),CSVデータ1!V133,0)+IF(ISNUMBER(CSVデータ2!V133),CSVデータ2!V133,0)+IF(ISNUMBER(CSVデータ3!V133),CSVデータ3!V133,0)+IF(ISNUMBER(CSVデータ4!V133),CSVデータ4!V133,0)","v":0},null,{"$f":"IF(ISNUMBER(CSVデータ1!X133),CSVデータ1!X133,0)+IF(ISNUMBER(CSVデータ2!X133),CSVデータ2!X133,0)+IF(ISNUMBER(CSVデータ3!X133),CSVデータ3!X133,0)+IF(ISNUMBER(CSVデータ4!X133),CSVデータ4!X133,0)","v":0},null,{"$f":"IF(ISNUMBER(CSVデータ1!Z133),CSVデータ1!Z133,0)+IF(ISNUMBER(CSVデータ2!Z133),CSVデータ2!Z133,0)+IF(ISNUMBER(CSVデータ3!Z133),CSVデータ3!Z133,0)+IF(ISNUMBER(CSVデータ4!Z133),CSVデータ4!Z133,0)","v":0},null,{"$f":"IF(ISNUMBER(CSVデータ1!AB133),CSVデータ1!AB133,0)+IF(ISNUMBER(CSVデータ2!AB133),CSVデータ2!AB133,0)+IF(ISNUMBER(CSVデータ3!AB133),CSVデータ3!AB133,0)+IF(ISNUMBER(CSVデータ4!AB133),CSVデータ4!AB133,0)","v":0},null,{"$f":"IF(ISNUMBER(CSVデータ1!AD133),CSVデータ1!AD133,0)+IF(ISNUMBER(CSVデータ2!AD133),CSVデータ2!AD133,0)+IF(ISNUMBER(CSVデータ3!AD133),CSVデータ3!AD133,0)+IF(ISNUMBER(CSVデータ4!AD133),CSVデータ4!AD133,0)","v":0},null,{"$f":"IF(ISNUMBER(CSVデータ1!AF133),CSVデータ1!AF133,0)+IF(ISNUMBER(CSVデータ2!AF133),CSVデータ2!AF133,0)+IF(ISNUMBER(CSVデータ3!AF133),CSVデータ3!AF133,0)+IF(ISNUMBER(CSVデータ4!AF133),CSVデータ4!AF133,0)","v":0},null,{"$f":"IF(ISNUMBER(CSVデータ1!AH133),CSVデータ1!AH133,0)+IF(ISNUMBER(CSVデータ2!AH133),CSVデータ2!AH133,0)+IF(ISNUMBER(CSVデータ3!AH133),CSVデータ3!AH133,0)+IF(ISNUMBER(CSVデータ4!AH133),CSVデータ4!AH133,0)","v":0},null,{"$f":"IF(ISNUMBER(CSVデータ1!AJ133),CSVデータ1!AJ133,0)+IF(ISNUMBER(CSVデータ2!AJ133),CSVデータ2!AJ133,0)+IF(ISNUMBER(CSVデータ3!AJ133),CSVデータ3!AJ133,0)+IF(ISNUMBER(CSVデータ4!AJ133),CSVデータ4!AJ133,0)","v":0},null,{"$f":"IF(ISNUMBER(CSVデータ1!AL133),CSVデータ1!AL133,0)+IF(ISNUMBER(CSVデータ2!AL133),CSVデータ2!AL133,0)+IF(ISNUMBER(CSVデータ3!AL133),CSVデータ3!AL133,0)+IF(ISNUMBER(CSVデータ4!AL133),CSVデータ4!AL133,0)","v":0},null,{"$f":"IF(ISNUMBER(CSVデータ1!AN133),CSVデータ1!AN133,0)+IF(ISNUMBER(CSVデータ2!AN133),CSVデータ2!AN133,0)+IF(ISNUMBER(CSVデータ3!AN133),CSVデータ3!AN133,0)+IF(ISNUMBER(CSVデータ4!AN133),CSVデータ4!AN133,0)","v":0}]
[{"$f":"CSVデータ1!A134","v":"明細部"},{"$f":"CSVデータ1!B134","v":"県"},{"$f":"CSVデータ1!C134","v":65},{"$f":"CSVデータ1!D134","v":"女"},{"$f":"IF(ISNUMBER(CSVデータ1!E134),CSVデータ1!E134,0)+IF(ISNUMBER(CSVデータ2!E134),CSVデータ2!E134,0)+IF(ISNUMBER(CSVデータ3!E134),CSVデータ3!E134,0)+IF(ISNUMBER(CSVデータ4!E134),CSVデータ4!E134,0)","v":0},{"$f":"IF(ISNUMBER(CSVデータ1!F134),CSVデータ1!F134,0)+IF(ISNUMBER(CSVデータ2!F134),CSVデータ2!F134,0)+IF(ISNUMBER(CSVデータ3!F134),CSVデータ3!F134,0)+IF(ISNUMBER(CSVデータ4!F134),CSVデータ4!F134,0)","v":0},null,{"$f":"IF(ISNUMBER(CSVデータ1!H134),CSVデータ1!H134,0)+IF(ISNUMBER(CSVデータ2!H134),CSVデータ2!H134,0)+IF(ISNUMBER(CSVデータ3!H134),CSVデータ3!H134,0)+IF(ISNUMBER(CSVデータ4!H134),CSVデータ4!H134,0)","v":0},null,{"$f":"IF(ISNUMBER(CSVデータ1!J134),CSVデータ1!J134,0)+IF(ISNUMBER(CSVデータ2!J134),CSVデータ2!J134,0)+IF(ISNUMBER(CSVデータ3!J134),CSVデータ3!J134,0)+IF(ISNUMBER(CSVデータ4!J134),CSVデータ4!J134,0)","v":0},null,{"$f":"IF(ISNUMBER(CSVデータ1!L134),CSVデータ1!L134,0)+IF(ISNUMBER(CSVデータ2!L134),CSVデータ2!L134,0)+IF(ISNUMBER(CSVデータ3!L134),CSVデータ3!L134,0)+IF(ISNUMBER(CSVデータ4!L134),CSVデータ4!L134,0)","v":0},null,{"$f":"IF(ISNUMBER(CSVデータ1!N134),CSVデータ1!N134,0)+IF(ISNUMBER(CSVデータ2!N134),CSVデータ2!N134,0)+IF(ISNUMBER(CSVデータ3!N134),CSVデータ3!N134,0)+IF(ISNUMBER(CSVデータ4!N134),CSVデータ4!N134,0)","v":0},null,{"$f":"IF(ISNUMBER(CSVデータ1!P134),CSVデータ1!P134,0)+IF(ISNUMBER(CSVデータ2!P134),CSVデータ2!P134,0)+IF(ISNUMBER(CSVデータ3!P134),CSVデータ3!P134,0)+IF(ISNUMBER(CSVデータ4!P134),CSVデータ4!P134,0)","v":0},null,{"$f":"IF(ISNUMBER(CSVデータ1!R134),CSVデータ1!R134,0)+IF(ISNUMBER(CSVデータ2!R134),CSVデータ2!R134,0)+IF(ISNUMBER(CSVデータ3!R134),CSVデータ3!R134,0)+IF(ISNUMBER(CSVデータ4!R134),CSVデータ4!R134,0)","v":0},null,{"$f":"IF(ISNUMBER(CSVデータ1!T134),CSVデータ1!T134,0)+IF(ISNUMBER(CSVデータ2!T134),CSVデータ2!T134,0)+IF(ISNUMBER(CSVデータ3!T134),CSVデータ3!T134,0)+IF(ISNUMBER(CSVデータ4!T134),CSVデータ4!T134,0)","v":0},null,{"$f":"IF(ISNUMBER(CSVデータ1!V134),CSVデータ1!V134,0)+IF(ISNUMBER(CSVデータ2!V134),CSVデータ2!V134,0)+IF(ISNUMBER(CSVデータ3!V134),CSVデータ3!V134,0)+IF(ISNUMBER(CSVデータ4!V134),CSVデータ4!V134,0)","v":0},null,{"$f":"IF(ISNUMBER(CSVデータ1!X134),CSVデータ1!X134,0)+IF(ISNUMBER(CSVデータ2!X134),CSVデータ2!X134,0)+IF(ISNUMBER(CSVデータ3!X134),CSVデータ3!X134,0)+IF(ISNUMBER(CSVデータ4!X134),CSVデータ4!X134,0)","v":0},null,{"$f":"IF(ISNUMBER(CSVデータ1!Z134),CSVデータ1!Z134,0)+IF(ISNUMBER(CSVデータ2!Z134),CSVデータ2!Z134,0)+IF(ISNUMBER(CSVデータ3!Z134),CSVデータ3!Z134,0)+IF(ISNUMBER(CSVデータ4!Z134),CSVデータ4!Z134,0)","v":0},null,{"$f":"IF(ISNUMBER(CSVデータ1!AB134),CSVデータ1!AB134,0)+IF(ISNUMBER(CSVデータ2!AB134),CSVデータ2!AB134,0)+IF(ISNUMBER(CSVデータ3!AB134),CSVデータ3!AB134,0)+IF(ISNUMBER(CSVデータ4!AB134),CSVデータ4!AB134,0)","v":0},null,{"$f":"IF(ISNUMBER(CSVデータ1!AD134),CSVデータ1!AD134,0)+IF(ISNUMBER(CSVデータ2!AD134),CSVデータ2!AD134,0)+IF(ISNUMBER(CSVデータ3!AD134),CSVデータ3!AD134,0)+IF(ISNUMBER(CSVデータ4!AD134),CSVデータ4!AD134,0)","v":0},null,{"$f":"IF(ISNUMBER(CSVデータ1!AF134),CSVデータ1!AF134,0)+IF(ISNUMBER(CSVデータ2!AF134),CSVデータ2!AF134,0)+IF(ISNUMBER(CSVデータ3!AF134),CSVデータ3!AF134,0)+IF(ISNUMBER(CSVデータ4!AF134),CSVデータ4!AF134,0)","v":0},null,{"$f":"IF(ISNUMBER(CSVデータ1!AH134),CSVデータ1!AH134,0)+IF(ISNUMBER(CSVデータ2!AH134),CSVデータ2!AH134,0)+IF(ISNUMBER(CSVデータ3!AH134),CSVデータ3!AH134,0)+IF(ISNUMBER(CSVデータ4!AH134),CSVデータ4!AH134,0)","v":0},null,{"$f":"IF(ISNUMBER(CSVデータ1!AJ134),CSVデータ1!AJ134,0)+IF(ISNUMBER(CSVデータ2!AJ134),CSVデータ2!AJ134,0)+IF(ISNUMBER(CSVデータ3!AJ134),CSVデータ3!AJ134,0)+IF(ISNUMBER(CSVデータ4!AJ134),CSVデータ4!AJ134,0)","v":0},null,{"$f":"IF(ISNUMBER(CSVデータ1!AL134),CSVデータ1!AL134,0)+IF(ISNUMBER(CSVデータ2!AL134),CSVデータ2!AL134,0)+IF(ISNUMBER(CSVデータ3!AL134),CSVデータ3!AL134,0)+IF(ISNUMBER(CSVデータ4!AL134),CSVデータ4!AL134,0)","v":0},null,{"$f":"IF(ISNUMBER(CSVデータ1!AN134),CSVデータ1!AN134,0)+IF(ISNUMBER(CSVデータ2!AN134),CSVデータ2!AN134,0)+IF(ISNUMBER(CSVデータ3!AN134),CSVデータ3!AN134,0)+IF(ISNUMBER(CSVデータ4!AN134),CSVデータ4!AN134,0)","v":0}]
[{"$f":"CSVデータ1!A135","v":"明細部"},{"$f":"CSVデータ1!B135","v":"県"},{"$f":"CSVデータ1!C135","v":66},{"$f":"CSVデータ1!D135","v":"女"},{"$f":"IF(ISNUMBER(CSVデータ1!E135),CSVデータ1!E135,0)+IF(ISNUMBER(CSVデータ2!E135),CSVデータ2!E135,0)+IF(ISNUMBER(CSVデータ3!E135),CSVデータ3!E135,0)+IF(ISNUMBER(CSVデータ4!E135),CSVデータ4!E135,0)","v":0},{"$f":"IF(ISNUMBER(CSVデータ1!F135),CSVデータ1!F135,0)+IF(ISNUMBER(CSVデータ2!F135),CSVデータ2!F135,0)+IF(ISNUMBER(CSVデータ3!F135),CSVデータ3!F135,0)+IF(ISNUMBER(CSVデータ4!F135),CSVデータ4!F135,0)","v":0},null,{"$f":"IF(ISNUMBER(CSVデータ1!H135),CSVデータ1!H135,0)+IF(ISNUMBER(CSVデータ2!H135),CSVデータ2!H135,0)+IF(ISNUMBER(CSVデータ3!H135),CSVデータ3!H135,0)+IF(ISNUMBER(CSVデータ4!H135),CSVデータ4!H135,0)","v":0},null,{"$f":"IF(ISNUMBER(CSVデータ1!J135),CSVデータ1!J135,0)+IF(ISNUMBER(CSVデータ2!J135),CSVデータ2!J135,0)+IF(ISNUMBER(CSVデータ3!J135),CSVデータ3!J135,0)+IF(ISNUMBER(CSVデータ4!J135),CSVデータ4!J135,0)","v":0},null,{"$f":"IF(ISNUMBER(CSVデータ1!L135),CSVデータ1!L135,0)+IF(ISNUMBER(CSVデータ2!L135),CSVデータ2!L135,0)+IF(ISNUMBER(CSVデータ3!L135),CSVデータ3!L135,0)+IF(ISNUMBER(CSVデータ4!L135),CSVデータ4!L135,0)","v":0},null,{"$f":"IF(ISNUMBER(CSVデータ1!N135),CSVデータ1!N135,0)+IF(ISNUMBER(CSVデータ2!N135),CSVデータ2!N135,0)+IF(ISNUMBER(CSVデータ3!N135),CSVデータ3!N135,0)+IF(ISNUMBER(CSVデータ4!N135),CSVデータ4!N135,0)","v":0},null,{"$f":"IF(ISNUMBER(CSVデータ1!P135),CSVデータ1!P135,0)+IF(ISNUMBER(CSVデータ2!P135),CSVデータ2!P135,0)+IF(ISNUMBER(CSVデータ3!P135),CSVデータ3!P135,0)+IF(ISNUMBER(CSVデータ4!P135),CSVデータ4!P135,0)","v":0},null,{"$f":"IF(ISNUMBER(CSVデータ1!R135),CSVデータ1!R135,0)+IF(ISNUMBER(CSVデータ2!R135),CSVデータ2!R135,0)+IF(ISNUMBER(CSVデータ3!R135),CSVデータ3!R135,0)+IF(ISNUMBER(CSVデータ4!R135),CSVデータ4!R135,0)","v":0},null,{"$f":"IF(ISNUMBER(CSVデータ1!T135),CSVデータ1!T135,0)+IF(ISNUMBER(CSVデータ2!T135),CSVデータ2!T135,0)+IF(ISNUMBER(CSVデータ3!T135),CSVデータ3!T135,0)+IF(ISNUMBER(CSVデータ4!T135),CSVデータ4!T135,0)","v":0},null,{"$f":"IF(ISNUMBER(CSVデータ1!V135),CSVデータ1!V135,0)+IF(ISNUMBER(CSVデータ2!V135),CSVデータ2!V135,0)+IF(ISNUMBER(CSVデータ3!V135),CSVデータ3!V135,0)+IF(ISNUMBER(CSVデータ4!V135),CSVデータ4!V135,0)","v":0},null,{"$f":"IF(ISNUMBER(CSVデータ1!X135),CSVデータ1!X135,0)+IF(ISNUMBER(CSVデータ2!X135),CSVデータ2!X135,0)+IF(ISNUMBER(CSVデータ3!X135),CSVデータ3!X135,0)+IF(ISNUMBER(CSVデータ4!X135),CSVデータ4!X135,0)","v":0},null,{"$f":"IF(ISNUMBER(CSVデータ1!Z135),CSVデータ1!Z135,0)+IF(ISNUMBER(CSVデータ2!Z135),CSVデータ2!Z135,0)+IF(ISNUMBER(CSVデータ3!Z135),CSVデータ3!Z135,0)+IF(ISNUMBER(CSVデータ4!Z135),CSVデータ4!Z135,0)","v":0},null,{"$f":"IF(ISNUMBER(CSVデータ1!AB135),CSVデータ1!AB135,0)+IF(ISNUMBER(CSVデータ2!AB135),CSVデータ2!AB135,0)+IF(ISNUMBER(CSVデータ3!AB135),CSVデータ3!AB135,0)+IF(ISNUMBER(CSVデータ4!AB135),CSVデータ4!AB135,0)","v":0},null,{"$f":"IF(ISNUMBER(CSVデータ1!AD135),CSVデータ1!AD135,0)+IF(ISNUMBER(CSVデータ2!AD135),CSVデータ2!AD135,0)+IF(ISNUMBER(CSVデータ3!AD135),CSVデータ3!AD135,0)+IF(ISNUMBER(CSVデータ4!AD135),CSVデータ4!AD135,0)","v":0},null,{"$f":"IF(ISNUMBER(CSVデータ1!AF135),CSVデータ1!AF135,0)+IF(ISNUMBER(CSVデータ2!AF135),CSVデータ2!AF135,0)+IF(ISNUMBER(CSVデータ3!AF135),CSVデータ3!AF135,0)+IF(ISNUMBER(CSVデータ4!AF135),CSVデータ4!AF135,0)","v":0},null,{"$f":"IF(ISNUMBER(CSVデータ1!AH135),CSVデータ1!AH135,0)+IF(ISNUMBER(CSVデータ2!AH135),CSVデータ2!AH135,0)+IF(ISNUMBER(CSVデータ3!AH135),CSVデータ3!AH135,0)+IF(ISNUMBER(CSVデータ4!AH135),CSVデータ4!AH135,0)","v":0},null,{"$f":"IF(ISNUMBER(CSVデータ1!AJ135),CSVデータ1!AJ135,0)+IF(ISNUMBER(CSVデータ2!AJ135),CSVデータ2!AJ135,0)+IF(ISNUMBER(CSVデータ3!AJ135),CSVデータ3!AJ135,0)+IF(ISNUMBER(CSVデータ4!AJ135),CSVデータ4!AJ135,0)","v":0},null,{"$f":"IF(ISNUMBER(CSVデータ1!AL135),CSVデータ1!AL135,0)+IF(ISNUMBER(CSVデータ2!AL135),CSVデータ2!AL135,0)+IF(ISNUMBER(CSVデータ3!AL135),CSVデータ3!AL135,0)+IF(ISNUMBER(CSVデータ4!AL135),CSVデータ4!AL135,0)","v":0},null,{"$f":"IF(ISNUMBER(CSVデータ1!AN135),CSVデータ1!AN135,0)+IF(ISNUMBER(CSVデータ2!AN135),CSVデータ2!AN135,0)+IF(ISNUMBER(CSVデータ3!AN135),CSVデータ3!AN135,0)+IF(ISNUMBER(CSVデータ4!AN135),CSVデータ4!AN135,0)","v":0}]
[{"$f":"CSVデータ1!A136","v":"明細部"},{"$f":"CSVデータ1!B136","v":"県"},{"$f":"CSVデータ1!C136","v":67},{"$f":"CSVデータ1!D136","v":"女"},{"$f":"IF(ISNUMBER(CSVデータ1!E136),CSVデータ1!E136,0)+IF(ISNUMBER(CSVデータ2!E136),CSVデータ2!E136,0)+IF(ISNUMBER(CSVデータ3!E136),CSVデータ3!E136,0)+IF(ISNUMBER(CSVデータ4!E136),CSVデータ4!E136,0)","v":0},{"$f":"IF(ISNUMBER(CSVデータ1!F136),CSVデータ1!F136,0)+IF(ISNUMBER(CSVデータ2!F136),CSVデータ2!F136,0)+IF(ISNUMBER(CSVデータ3!F136),CSVデータ3!F136,0)+IF(ISNUMBER(CSVデータ4!F136),CSVデータ4!F136,0)","v":0},null,{"$f":"IF(ISNUMBER(CSVデータ1!H136),CSVデータ1!H136,0)+IF(ISNUMBER(CSVデータ2!H136),CSVデータ2!H136,0)+IF(ISNUMBER(CSVデータ3!H136),CSVデータ3!H136,0)+IF(ISNUMBER(CSVデータ4!H136),CSVデータ4!H136,0)","v":0},null,{"$f":"IF(ISNUMBER(CSVデータ1!J136),CSVデータ1!J136,0)+IF(ISNUMBER(CSVデータ2!J136),CSVデータ2!J136,0)+IF(ISNUMBER(CSVデータ3!J136),CSVデータ3!J136,0)+IF(ISNUMBER(CSVデータ4!J136),CSVデータ4!J136,0)","v":0},null,{"$f":"IF(ISNUMBER(CSVデータ1!L136),CSVデータ1!L136,0)+IF(ISNUMBER(CSVデータ2!L136),CSVデータ2!L136,0)+IF(ISNUMBER(CSVデータ3!L136),CSVデータ3!L136,0)+IF(ISNUMBER(CSVデータ4!L136),CSVデータ4!L136,0)","v":0},null,{"$f":"IF(ISNUMBER(CSVデータ1!N136),CSVデータ1!N136,0)+IF(ISNUMBER(CSVデータ2!N136),CSVデータ2!N136,0)+IF(ISNUMBER(CSVデータ3!N136),CSVデータ3!N136,0)+IF(ISNUMBER(CSVデータ4!N136),CSVデータ4!N136,0)","v":0},null,{"$f":"IF(ISNUMBER(CSVデータ1!P136),CSVデータ1!P136,0)+IF(ISNUMBER(CSVデータ2!P136),CSVデータ2!P136,0)+IF(ISNUMBER(CSVデータ3!P136),CSVデータ3!P136,0)+IF(ISNUMBER(CSVデータ4!P136),CSVデータ4!P136,0)","v":0},null,{"$f":"IF(ISNUMBER(CSVデータ1!R136),CSVデータ1!R136,0)+IF(ISNUMBER(CSVデータ2!R136),CSVデータ2!R136,0)+IF(ISNUMBER(CSVデータ3!R136),CSVデータ3!R136,0)+IF(ISNUMBER(CSVデータ4!R136),CSVデータ4!R136,0)","v":0},null,{"$f":"IF(ISNUMBER(CSVデータ1!T136),CSVデータ1!T136,0)+IF(ISNUMBER(CSVデータ2!T136),CSVデータ2!T136,0)+IF(ISNUMBER(CSVデータ3!T136),CSVデータ3!T136,0)+IF(ISNUMBER(CSVデータ4!T136),CSVデータ4!T136,0)","v":0},null,{"$f":"IF(ISNUMBER(CSVデータ1!V136),CSVデータ1!V136,0)+IF(ISNUMBER(CSVデータ2!V136),CSVデータ2!V136,0)+IF(ISNUMBER(CSVデータ3!V136),CSVデータ3!V136,0)+IF(ISNUMBER(CSVデータ4!V136),CSVデータ4!V136,0)","v":0},null,{"$f":"IF(ISNUMBER(CSVデータ1!X136),CSVデータ1!X136,0)+IF(ISNUMBER(CSVデータ2!X136),CSVデータ2!X136,0)+IF(ISNUMBER(CSVデータ3!X136),CSVデータ3!X136,0)+IF(ISNUMBER(CSVデータ4!X136),CSVデータ4!X136,0)","v":0},null,{"$f":"IF(ISNUMBER(CSVデータ1!Z136),CSVデータ1!Z136,0)+IF(ISNUMBER(CSVデータ2!Z136),CSVデータ2!Z136,0)+IF(ISNUMBER(CSVデータ3!Z136),CSVデータ3!Z136,0)+IF(ISNUMBER(CSVデータ4!Z136),CSVデータ4!Z136,0)","v":0},null,{"$f":"IF(ISNUMBER(CSVデータ1!AB136),CSVデータ1!AB136,0)+IF(ISNUMBER(CSVデータ2!AB136),CSVデータ2!AB136,0)+IF(ISNUMBER(CSVデータ3!AB136),CSVデータ3!AB136,0)+IF(ISNUMBER(CSVデータ4!AB136),CSVデータ4!AB136,0)","v":0},null,{"$f":"IF(ISNUMBER(CSVデータ1!AD136),CSVデータ1!AD136,0)+IF(ISNUMBER(CSVデータ2!AD136),CSVデータ2!AD136,0)+IF(ISNUMBER(CSVデータ3!AD136),CSVデータ3!AD136,0)+IF(ISNUMBER(CSVデータ4!AD136),CSVデータ4!AD136,0)","v":0},null,{"$f":"IF(ISNUMBER(CSVデータ1!AF136),CSVデータ1!AF136,0)+IF(ISNUMBER(CSVデータ2!AF136),CSVデータ2!AF136,0)+IF(ISNUMBER(CSVデータ3!AF136),CSVデータ3!AF136,0)+IF(ISNUMBER(CSVデータ4!AF136),CSVデータ4!AF136,0)","v":0},null,{"$f":"IF(ISNUMBER(CSVデータ1!AH136),CSVデータ1!AH136,0)+IF(ISNUMBER(CSVデータ2!AH136),CSVデータ2!AH136,0)+IF(ISNUMBER(CSVデータ3!AH136),CSVデータ3!AH136,0)+IF(ISNUMBER(CSVデータ4!AH136),CSVデータ4!AH136,0)","v":0},null,{"$f":"IF(ISNUMBER(CSVデータ1!AJ136),CSVデータ1!AJ136,0)+IF(ISNUMBER(CSVデータ2!AJ136),CSVデータ2!AJ136,0)+IF(ISNUMBER(CSVデータ3!AJ136),CSVデータ3!AJ136,0)+IF(ISNUMBER(CSVデータ4!AJ136),CSVデータ4!AJ136,0)","v":0},null,{"$f":"IF(ISNUMBER(CSVデータ1!AL136),CSVデータ1!AL136,0)+IF(ISNUMBER(CSVデータ2!AL136),CSVデータ2!AL136,0)+IF(ISNUMBER(CSVデータ3!AL136),CSVデータ3!AL136,0)+IF(ISNUMBER(CSVデータ4!AL136),CSVデータ4!AL136,0)","v":0},null,{"$f":"IF(ISNUMBER(CSVデータ1!AN136),CSVデータ1!AN136,0)+IF(ISNUMBER(CSVデータ2!AN136),CSVデータ2!AN136,0)+IF(ISNUMBER(CSVデータ3!AN136),CSVデータ3!AN136,0)+IF(ISNUMBER(CSVデータ4!AN136),CSVデータ4!AN136,0)","v":0}]
[{"$f":"CSVデータ1!A137","v":"明細部"},{"$f":"CSVデータ1!B137","v":"県"},{"$f":"CSVデータ1!C137","v":68},{"$f":"CSVデータ1!D137","v":"女"},{"$f":"IF(ISNUMBER(CSVデータ1!E137),CSVデータ1!E137,0)+IF(ISNUMBER(CSVデータ2!E137),CSVデータ2!E137,0)+IF(ISNUMBER(CSVデータ3!E137),CSVデータ3!E137,0)+IF(ISNUMBER(CSVデータ4!E137),CSVデータ4!E137,0)","v":0},{"$f":"IF(ISNUMBER(CSVデータ1!F137),CSVデータ1!F137,0)+IF(ISNUMBER(CSVデータ2!F137),CSVデータ2!F137,0)+IF(ISNUMBER(CSVデータ3!F137),CSVデータ3!F137,0)+IF(ISNUMBER(CSVデータ4!F137),CSVデータ4!F137,0)","v":0},null,{"$f":"IF(ISNUMBER(CSVデータ1!H137),CSVデータ1!H137,0)+IF(ISNUMBER(CSVデータ2!H137),CSVデータ2!H137,0)+IF(ISNUMBER(CSVデータ3!H137),CSVデータ3!H137,0)+IF(ISNUMBER(CSVデータ4!H137),CSVデータ4!H137,0)","v":0},null,{"$f":"IF(ISNUMBER(CSVデータ1!J137),CSVデータ1!J137,0)+IF(ISNUMBER(CSVデータ2!J137),CSVデータ2!J137,0)+IF(ISNUMBER(CSVデータ3!J137),CSVデータ3!J137,0)+IF(ISNUMBER(CSVデータ4!J137),CSVデータ4!J137,0)","v":0},null,{"$f":"IF(ISNUMBER(CSVデータ1!L137),CSVデータ1!L137,0)+IF(ISNUMBER(CSVデータ2!L137),CSVデータ2!L137,0)+IF(ISNUMBER(CSVデータ3!L137),CSVデータ3!L137,0)+IF(ISNUMBER(CSVデータ4!L137),CSVデータ4!L137,0)","v":0},null,{"$f":"IF(ISNUMBER(CSVデータ1!N137),CSVデータ1!N137,0)+IF(ISNUMBER(CSVデータ2!N137),CSVデータ2!N137,0)+IF(ISNUMBER(CSVデータ3!N137),CSVデータ3!N137,0)+IF(ISNUMBER(CSVデータ4!N137),CSVデータ4!N137,0)","v":0},null,{"$f":"IF(ISNUMBER(CSVデータ1!P137),CSVデータ1!P137,0)+IF(ISNUMBER(CSVデータ2!P137),CSVデータ2!P137,0)+IF(ISNUMBER(CSVデータ3!P137),CSVデータ3!P137,0)+IF(ISNUMBER(CSVデータ4!P137),CSVデータ4!P137,0)","v":0},null,{"$f":"IF(ISNUMBER(CSVデータ1!R137),CSVデータ1!R137,0)+IF(ISNUMBER(CSVデータ2!R137),CSVデータ2!R137,0)+IF(ISNUMBER(CSVデータ3!R137),CSVデータ3!R137,0)+IF(ISNUMBER(CSVデータ4!R137),CSVデータ4!R137,0)","v":0},null,{"$f":"IF(ISNUMBER(CSVデータ1!T137),CSVデータ1!T137,0)+IF(ISNUMBER(CSVデータ2!T137),CSVデータ2!T137,0)+IF(ISNUMBER(CSVデータ3!T137),CSVデータ3!T137,0)+IF(ISNUMBER(CSVデータ4!T137),CSVデータ4!T137,0)","v":0},null,{"$f":"IF(ISNUMBER(CSVデータ1!V137),CSVデータ1!V137,0)+IF(ISNUMBER(CSVデータ2!V137),CSVデータ2!V137,0)+IF(ISNUMBER(CSVデータ3!V137),CSVデータ3!V137,0)+IF(ISNUMBER(CSVデータ4!V137),CSVデータ4!V137,0)","v":0},null,{"$f":"IF(ISNUMBER(CSVデータ1!X137),CSVデータ1!X137,0)+IF(ISNUMBER(CSVデータ2!X137),CSVデータ2!X137,0)+IF(ISNUMBER(CSVデータ3!X137),CSVデータ3!X137,0)+IF(ISNUMBER(CSVデータ4!X137),CSVデータ4!X137,0)","v":0},null,{"$f":"IF(ISNUMBER(CSVデータ1!Z137),CSVデータ1!Z137,0)+IF(ISNUMBER(CSVデータ2!Z137),CSVデータ2!Z137,0)+IF(ISNUMBER(CSVデータ3!Z137),CSVデータ3!Z137,0)+IF(ISNUMBER(CSVデータ4!Z137),CSVデータ4!Z137,0)","v":0},null,{"$f":"IF(ISNUMBER(CSVデータ1!AB137),CSVデータ1!AB137,0)+IF(ISNUMBER(CSVデータ2!AB137),CSVデータ2!AB137,0)+IF(ISNUMBER(CSVデータ3!AB137),CSVデータ3!AB137,0)+IF(ISNUMBER(CSVデータ4!AB137),CSVデータ4!AB137,0)","v":0},null,{"$f":"IF(ISNUMBER(CSVデータ1!AD137),CSVデータ1!AD137,0)+IF(ISNUMBER(CSVデータ2!AD137),CSVデータ2!AD137,0)+IF(ISNUMBER(CSVデータ3!AD137),CSVデータ3!AD137,0)+IF(ISNUMBER(CSVデータ4!AD137),CSVデータ4!AD137,0)","v":0},null,{"$f":"IF(ISNUMBER(CSVデータ1!AF137),CSVデータ1!AF137,0)+IF(ISNUMBER(CSVデータ2!AF137),CSVデータ2!AF137,0)+IF(ISNUMBER(CSVデータ3!AF137),CSVデータ3!AF137,0)+IF(ISNUMBER(CSVデータ4!AF137),CSVデータ4!AF137,0)","v":0},null,{"$f":"IF(ISNUMBER(CSVデータ1!AH137),CSVデータ1!AH137,0)+IF(ISNUMBER(CSVデータ2!AH137),CSVデータ2!AH137,0)+IF(ISNUMBER(CSVデータ3!AH137),CSVデータ3!AH137,0)+IF(ISNUMBER(CSVデータ4!AH137),CSVデータ4!AH137,0)","v":0},null,{"$f":"IF(ISNUMBER(CSVデータ1!AJ137),CSVデータ1!AJ137,0)+IF(ISNUMBER(CSVデータ2!AJ137),CSVデータ2!AJ137,0)+IF(ISNUMBER(CSVデータ3!AJ137),CSVデータ3!AJ137,0)+IF(ISNUMBER(CSVデータ4!AJ137),CSVデータ4!AJ137,0)","v":0},null,{"$f":"IF(ISNUMBER(CSVデータ1!AL137),CSVデータ1!AL137,0)+IF(ISNUMBER(CSVデータ2!AL137),CSVデータ2!AL137,0)+IF(ISNUMBER(CSVデータ3!AL137),CSVデータ3!AL137,0)+IF(ISNUMBER(CSVデータ4!AL137),CSVデータ4!AL137,0)","v":0},null,{"$f":"IF(ISNUMBER(CSVデータ1!AN137),CSVデータ1!AN137,0)+IF(ISNUMBER(CSVデータ2!AN137),CSVデータ2!AN137,0)+IF(ISNUMBER(CSVデータ3!AN137),CSVデータ3!AN137,0)+IF(ISNUMBER(CSVデータ4!AN137),CSVデータ4!AN137,0)","v":0}]
[{"$f":"CSVデータ1!A138","v":"明細部"},{"$f":"CSVデータ1!B138","v":"県"},{"$f":"CSVデータ1!C138","v":69},{"$f":"CSVデータ1!D138","v":"女"},{"$f":"IF(ISNUMBER(CSVデータ1!E138),CSVデータ1!E138,0)+IF(ISNUMBER(CSVデータ2!E138),CSVデータ2!E138,0)+IF(ISNUMBER(CSVデータ3!E138),CSVデータ3!E138,0)+IF(ISNUMBER(CSVデータ4!E138),CSVデータ4!E138,0)","v":0},{"$f":"IF(ISNUMBER(CSVデータ1!F138),CSVデータ1!F138,0)+IF(ISNUMBER(CSVデータ2!F138),CSVデータ2!F138,0)+IF(ISNUMBER(CSVデータ3!F138),CSVデータ3!F138,0)+IF(ISNUMBER(CSVデータ4!F138),CSVデータ4!F138,0)","v":0},null,{"$f":"IF(ISNUMBER(CSVデータ1!H138),CSVデータ1!H138,0)+IF(ISNUMBER(CSVデータ2!H138),CSVデータ2!H138,0)+IF(ISNUMBER(CSVデータ3!H138),CSVデータ3!H138,0)+IF(ISNUMBER(CSVデータ4!H138),CSVデータ4!H138,0)","v":0},null,{"$f":"IF(ISNUMBER(CSVデータ1!J138),CSVデータ1!J138,0)+IF(ISNUMBER(CSVデータ2!J138),CSVデータ2!J138,0)+IF(ISNUMBER(CSVデータ3!J138),CSVデータ3!J138,0)+IF(ISNUMBER(CSVデータ4!J138),CSVデータ4!J138,0)","v":0},null,{"$f":"IF(ISNUMBER(CSVデータ1!L138),CSVデータ1!L138,0)+IF(ISNUMBER(CSVデータ2!L138),CSVデータ2!L138,0)+IF(ISNUMBER(CSVデータ3!L138),CSVデータ3!L138,0)+IF(ISNUMBER(CSVデータ4!L138),CSVデータ4!L138,0)","v":0},null,{"$f":"IF(ISNUMBER(CSVデータ1!N138),CSVデータ1!N138,0)+IF(ISNUMBER(CSVデータ2!N138),CSVデータ2!N138,0)+IF(ISNUMBER(CSVデータ3!N138),CSVデータ3!N138,0)+IF(ISNUMBER(CSVデータ4!N138),CSVデータ4!N138,0)","v":0},null,{"$f":"IF(ISNUMBER(CSVデータ1!P138),CSVデータ1!P138,0)+IF(ISNUMBER(CSVデータ2!P138),CSVデータ2!P138,0)+IF(ISNUMBER(CSVデータ3!P138),CSVデータ3!P138,0)+IF(ISNUMBER(CSVデータ4!P138),CSVデータ4!P138,0)","v":0},null,{"$f":"IF(ISNUMBER(CSVデータ1!R138),CSVデータ1!R138,0)+IF(ISNUMBER(CSVデータ2!R138),CSVデータ2!R138,0)+IF(ISNUMBER(CSVデータ3!R138),CSVデータ3!R138,0)+IF(ISNUMBER(CSVデータ4!R138),CSVデータ4!R138,0)","v":0},null,{"$f":"IF(ISNUMBER(CSVデータ1!T138),CSVデータ1!T138,0)+IF(ISNUMBER(CSVデータ2!T138),CSVデータ2!T138,0)+IF(ISNUMBER(CSVデータ3!T138),CSVデータ3!T138,0)+IF(ISNUMBER(CSVデータ4!T138),CSVデータ4!T138,0)","v":0},null,{"$f":"IF(ISNUMBER(CSVデータ1!V138),CSVデータ1!V138,0)+IF(ISNUMBER(CSVデータ2!V138),CSVデータ2!V138,0)+IF(ISNUMBER(CSVデータ3!V138),CSVデータ3!V138,0)+IF(ISNUMBER(CSVデータ4!V138),CSVデータ4!V138,0)","v":0},null,{"$f":"IF(ISNUMBER(CSVデータ1!X138),CSVデータ1!X138,0)+IF(ISNUMBER(CSVデータ2!X138),CSVデータ2!X138,0)+IF(ISNUMBER(CSVデータ3!X138),CSVデータ3!X138,0)+IF(ISNUMBER(CSVデータ4!X138),CSVデータ4!X138,0)","v":0},null,{"$f":"IF(ISNUMBER(CSVデータ1!Z138),CSVデータ1!Z138,0)+IF(ISNUMBER(CSVデータ2!Z138),CSVデータ2!Z138,0)+IF(ISNUMBER(CSVデータ3!Z138),CSVデータ3!Z138,0)+IF(ISNUMBER(CSVデータ4!Z138),CSVデータ4!Z138,0)","v":0},null,{"$f":"IF(ISNUMBER(CSVデータ1!AB138),CSVデータ1!AB138,0)+IF(ISNUMBER(CSVデータ2!AB138),CSVデータ2!AB138,0)+IF(ISNUMBER(CSVデータ3!AB138),CSVデータ3!AB138,0)+IF(ISNUMBER(CSVデータ4!AB138),CSVデータ4!AB138,0)","v":0},null,{"$f":"IF(ISNUMBER(CSVデータ1!AD138),CSVデータ1!AD138,0)+IF(ISNUMBER(CSVデータ2!AD138),CSVデータ2!AD138,0)+IF(ISNUMBER(CSVデータ3!AD138),CSVデータ3!AD138,0)+IF(ISNUMBER(CSVデータ4!AD138),CSVデータ4!AD138,0)","v":0},null,{"$f":"IF(ISNUMBER(CSVデータ1!AF138),CSVデータ1!AF138,0)+IF(ISNUMBER(CSVデータ2!AF138),CSVデータ2!AF138,0)+IF(ISNUMBER(CSVデータ3!AF138),CSVデータ3!AF138,0)+IF(ISNUMBER(CSVデータ4!AF138),CSVデータ4!AF138,0)","v":0},null,{"$f":"IF(ISNUMBER(CSVデータ1!AH138),CSVデータ1!AH138,0)+IF(ISNUMBER(CSVデータ2!AH138),CSVデータ2!AH138,0)+IF(ISNUMBER(CSVデータ3!AH138),CSVデータ3!AH138,0)+IF(ISNUMBER(CSVデータ4!AH138),CSVデータ4!AH138,0)","v":0},null,{"$f":"IF(ISNUMBER(CSVデータ1!AJ138),CSVデータ1!AJ138,0)+IF(ISNUMBER(CSVデータ2!AJ138),CSVデータ2!AJ138,0)+IF(ISNUMBER(CSVデータ3!AJ138),CSVデータ3!AJ138,0)+IF(ISNUMBER(CSVデータ4!AJ138),CSVデータ4!AJ138,0)","v":0},null,{"$f":"IF(ISNUMBER(CSVデータ1!AL138),CSVデータ1!AL138,0)+IF(ISNUMBER(CSVデータ2!AL138),CSVデータ2!AL138,0)+IF(ISNUMBER(CSVデータ3!AL138),CSVデータ3!AL138,0)+IF(ISNUMBER(CSVデータ4!AL138),CSVデータ4!AL138,0)","v":0},null,{"$f":"IF(ISNUMBER(CSVデータ1!AN138),CSVデータ1!AN138,0)+IF(ISNUMBER(CSVデータ2!AN138),CSVデータ2!AN138,0)+IF(ISNUMBER(CSVデータ3!AN138),CSVデータ3!AN138,0)+IF(ISNUMBER(CSVデータ4!AN138),CSVデータ4!AN138,0)","v":0}]
[{"$f":"CSVデータ1!A139","v":"明細部"},{"$f":"CSVデータ1!B139","v":"県"},{"$f":"CSVデータ1!C139","v":70},{"$f":"CSVデータ1!D139","v":"女"},{"$f":"IF(ISNUMBER(CSVデータ1!E139),CSVデータ1!E139,0)+IF(ISNUMBER(CSVデータ2!E139),CSVデータ2!E139,0)+IF(ISNUMBER(CSVデータ3!E139),CSVデータ3!E139,0)+IF(ISNUMBER(CSVデータ4!E139),CSVデータ4!E139,0)","v":0},{"$f":"IF(ISNUMBER(CSVデータ1!F139),CSVデータ1!F139,0)+IF(ISNUMBER(CSVデータ2!F139),CSVデータ2!F139,0)+IF(ISNUMBER(CSVデータ3!F139),CSVデータ3!F139,0)+IF(ISNUMBER(CSVデータ4!F139),CSVデータ4!F139,0)","v":0},null,{"$f":"IF(ISNUMBER(CSVデータ1!H139),CSVデータ1!H139,0)+IF(ISNUMBER(CSVデータ2!H139),CSVデータ2!H139,0)+IF(ISNUMBER(CSVデータ3!H139),CSVデータ3!H139,0)+IF(ISNUMBER(CSVデータ4!H139),CSVデータ4!H139,0)","v":0},null,{"$f":"IF(ISNUMBER(CSVデータ1!J139),CSVデータ1!J139,0)+IF(ISNUMBER(CSVデータ2!J139),CSVデータ2!J139,0)+IF(ISNUMBER(CSVデータ3!J139),CSVデータ3!J139,0)+IF(ISNUMBER(CSVデータ4!J139),CSVデータ4!J139,0)","v":0},null,{"$f":"IF(ISNUMBER(CSVデータ1!L139),CSVデータ1!L139,0)+IF(ISNUMBER(CSVデータ2!L139),CSVデータ2!L139,0)+IF(ISNUMBER(CSVデータ3!L139),CSVデータ3!L139,0)+IF(ISNUMBER(CSVデータ4!L139),CSVデータ4!L139,0)","v":0},null,{"$f":"IF(ISNUMBER(CSVデータ1!N139),CSVデータ1!N139,0)+IF(ISNUMBER(CSVデータ2!N139),CSVデータ2!N139,0)+IF(ISNUMBER(CSVデータ3!N139),CSVデータ3!N139,0)+IF(ISNUMBER(CSVデータ4!N139),CSVデータ4!N139,0)","v":0},null,{"$f":"IF(ISNUMBER(CSVデータ1!P139),CSVデータ1!P139,0)+IF(ISNUMBER(CSVデータ2!P139),CSVデータ2!P139,0)+IF(ISNUMBER(CSVデータ3!P139),CSVデータ3!P139,0)+IF(ISNUMBER(CSVデータ4!P139),CSVデータ4!P139,0)","v":0},null,{"$f":"IF(ISNUMBER(CSVデータ1!R139),CSVデータ1!R139,0)+IF(ISNUMBER(CSVデータ2!R139),CSVデータ2!R139,0)+IF(ISNUMBER(CSVデータ3!R139),CSVデータ3!R139,0)+IF(ISNUMBER(CSVデータ4!R139),CSVデータ4!R139,0)","v":0},null,{"$f":"IF(ISNUMBER(CSVデータ1!T139),CSVデータ1!T139,0)+IF(ISNUMBER(CSVデータ2!T139),CSVデータ2!T139,0)+IF(ISNUMBER(CSVデータ3!T139),CSVデータ3!T139,0)+IF(ISNUMBER(CSVデータ4!T139),CSVデータ4!T139,0)","v":0},null,{"$f":"IF(ISNUMBER(CSVデータ1!V139),CSVデータ1!V139,0)+IF(ISNUMBER(CSVデータ2!V139),CSVデータ2!V139,0)+IF(ISNUMBER(CSVデータ3!V139),CSVデータ3!V139,0)+IF(ISNUMBER(CSVデータ4!V139),CSVデータ4!V139,0)","v":0},null,{"$f":"IF(ISNUMBER(CSVデータ1!X139),CSVデータ1!X139,0)+IF(ISNUMBER(CSVデータ2!X139),CSVデータ2!X139,0)+IF(ISNUMBER(CSVデータ3!X139),CSVデータ3!X139,0)+IF(ISNUMBER(CSVデータ4!X139),CSVデータ4!X139,0)","v":0},null,{"$f":"IF(ISNUMBER(CSVデータ1!Z139),CSVデータ1!Z139,0)+IF(ISNUMBER(CSVデータ2!Z139),CSVデータ2!Z139,0)+IF(ISNUMBER(CSVデータ3!Z139),CSVデータ3!Z139,0)+IF(ISNUMBER(CSVデータ4!Z139),CSVデータ4!Z139,0)","v":0},null,{"$f":"IF(ISNUMBER(CSVデータ1!AB139),CSVデータ1!AB139,0)+IF(ISNUMBER(CSVデータ2!AB139),CSVデータ2!AB139,0)+IF(ISNUMBER(CSVデータ3!AB139),CSVデータ3!AB139,0)+IF(ISNUMBER(CSVデータ4!AB139),CSVデータ4!AB139,0)","v":0},null,{"$f":"IF(ISNUMBER(CSVデータ1!AD139),CSVデータ1!AD139,0)+IF(ISNUMBER(CSVデータ2!AD139),CSVデータ2!AD139,0)+IF(ISNUMBER(CSVデータ3!AD139),CSVデータ3!AD139,0)+IF(ISNUMBER(CSVデータ4!AD139),CSVデータ4!AD139,0)","v":0},null,{"$f":"IF(ISNUMBER(CSVデータ1!AF139),CSVデータ1!AF139,0)+IF(ISNUMBER(CSVデータ2!AF139),CSVデータ2!AF139,0)+IF(ISNUMBER(CSVデータ3!AF139),CSVデータ3!AF139,0)+IF(ISNUMBER(CSVデータ4!AF139),CSVデータ4!AF139,0)","v":0},null,{"$f":"IF(ISNUMBER(CSVデータ1!AH139),CSVデータ1!AH139,0)+IF(ISNUMBER(CSVデータ2!AH139),CSVデータ2!AH139,0)+IF(ISNUMBER(CSVデータ3!AH139),CSVデータ3!AH139,0)+IF(ISNUMBER(CSVデータ4!AH139),CSVデータ4!AH139,0)","v":0},null,{"$f":"IF(ISNUMBER(CSVデータ1!AJ139),CSVデータ1!AJ139,0)+IF(ISNUMBER(CSVデータ2!AJ139),CSVデータ2!AJ139,0)+IF(ISNUMBER(CSVデータ3!AJ139),CSVデータ3!AJ139,0)+IF(ISNUMBER(CSVデータ4!AJ139),CSVデータ4!AJ139,0)","v":0},null,{"$f":"IF(ISNUMBER(CSVデータ1!AL139),CSVデータ1!AL139,0)+IF(ISNUMBER(CSVデータ2!AL139),CSVデータ2!AL139,0)+IF(ISNUMBER(CSVデータ3!AL139),CSVデータ3!AL139,0)+IF(ISNUMBER(CSVデータ4!AL139),CSVデータ4!AL139,0)","v":0},null,{"$f":"IF(ISNUMBER(CSVデータ1!AN139),CSVデータ1!AN139,0)+IF(ISNUMBER(CSVデータ2!AN139),CSVデータ2!AN139,0)+IF(ISNUMBER(CSVデータ3!AN139),CSVデータ3!AN139,0)+IF(ISNUMBER(CSVデータ4!AN139),CSVデータ4!AN139,0)","v":0}]
[{"$f":"CSVデータ1!A140","v":"明細部"},{"$f":"CSVデータ1!B140","v":"県"},{"$f":"CSVデータ1!C140","v":71},{"$f":"CSVデータ1!D140","v":"女"},{"$f":"IF(ISNUMBER(CSVデータ1!E140),CSVデータ1!E140,0)+IF(ISNUMBER(CSVデータ2!E140),CSVデータ2!E140,0)+IF(ISNUMBER(CSVデータ3!E140),CSVデータ3!E140,0)+IF(ISNUMBER(CSVデータ4!E140),CSVデータ4!E140,0)","v":0},{"$f":"IF(ISNUMBER(CSVデータ1!F140),CSVデータ1!F140,0)+IF(ISNUMBER(CSVデータ2!F140),CSVデータ2!F140,0)+IF(ISNUMBER(CSVデータ3!F140),CSVデータ3!F140,0)+IF(ISNUMBER(CSVデータ4!F140),CSVデータ4!F140,0)","v":0},null,{"$f":"IF(ISNUMBER(CSVデータ1!H140),CSVデータ1!H140,0)+IF(ISNUMBER(CSVデータ2!H140),CSVデータ2!H140,0)+IF(ISNUMBER(CSVデータ3!H140),CSVデータ3!H140,0)+IF(ISNUMBER(CSVデータ4!H140),CSVデータ4!H140,0)","v":0},null,{"$f":"IF(ISNUMBER(CSVデータ1!J140),CSVデータ1!J140,0)+IF(ISNUMBER(CSVデータ2!J140),CSVデータ2!J140,0)+IF(ISNUMBER(CSVデータ3!J140),CSVデータ3!J140,0)+IF(ISNUMBER(CSVデータ4!J140),CSVデータ4!J140,0)","v":0},null,{"$f":"IF(ISNUMBER(CSVデータ1!L140),CSVデータ1!L140,0)+IF(ISNUMBER(CSVデータ2!L140),CSVデータ2!L140,0)+IF(ISNUMBER(CSVデータ3!L140),CSVデータ3!L140,0)+IF(ISNUMBER(CSVデータ4!L140),CSVデータ4!L140,0)","v":0},null,{"$f":"IF(ISNUMBER(CSVデータ1!N140),CSVデータ1!N140,0)+IF(ISNUMBER(CSVデータ2!N140),CSVデータ2!N140,0)+IF(ISNUMBER(CSVデータ3!N140),CSVデータ3!N140,0)+IF(ISNUMBER(CSVデータ4!N140),CSVデータ4!N140,0)","v":0},null,{"$f":"IF(ISNUMBER(CSVデータ1!P140),CSVデータ1!P140,0)+IF(ISNUMBER(CSVデータ2!P140),CSVデータ2!P140,0)+IF(ISNUMBER(CSVデータ3!P140),CSVデータ3!P140,0)+IF(ISNUMBER(CSVデータ4!P140),CSVデータ4!P140,0)","v":0},null,{"$f":"IF(ISNUMBER(CSVデータ1!R140),CSVデータ1!R140,0)+IF(ISNUMBER(CSVデータ2!R140),CSVデータ2!R140,0)+IF(ISNUMBER(CSVデータ3!R140),CSVデータ3!R140,0)+IF(ISNUMBER(CSVデータ4!R140),CSVデータ4!R140,0)","v":0},null,{"$f":"IF(ISNUMBER(CSVデータ1!T140),CSVデータ1!T140,0)+IF(ISNUMBER(CSVデータ2!T140),CSVデータ2!T140,0)+IF(ISNUMBER(CSVデータ3!T140),CSVデータ3!T140,0)+IF(ISNUMBER(CSVデータ4!T140),CSVデータ4!T140,0)","v":0},null,{"$f":"IF(ISNUMBER(CSVデータ1!V140),CSVデータ1!V140,0)+IF(ISNUMBER(CSVデータ2!V140),CSVデータ2!V140,0)+IF(ISNUMBER(CSVデータ3!V140),CSVデータ3!V140,0)+IF(ISNUMBER(CSVデータ4!V140),CSVデータ4!V140,0)","v":0},null,{"$f":"IF(ISNUMBER(CSVデータ1!X140),CSVデータ1!X140,0)+IF(ISNUMBER(CSVデータ2!X140),CSVデータ2!X140,0)+IF(ISNUMBER(CSVデータ3!X140),CSVデータ3!X140,0)+IF(ISNUMBER(CSVデータ4!X140),CSVデータ4!X140,0)","v":0},null,{"$f":"IF(ISNUMBER(CSVデータ1!Z140),CSVデータ1!Z140,0)+IF(ISNUMBER(CSVデータ2!Z140),CSVデータ2!Z140,0)+IF(ISNUMBER(CSVデータ3!Z140),CSVデータ3!Z140,0)+IF(ISNUMBER(CSVデータ4!Z140),CSVデータ4!Z140,0)","v":0},null,{"$f":"IF(ISNUMBER(CSVデータ1!AB140),CSVデータ1!AB140,0)+IF(ISNUMBER(CSVデータ2!AB140),CSVデータ2!AB140,0)+IF(ISNUMBER(CSVデータ3!AB140),CSVデータ3!AB140,0)+IF(ISNUMBER(CSVデータ4!AB140),CSVデータ4!AB140,0)","v":0},null,{"$f":"IF(ISNUMBER(CSVデータ1!AD140),CSVデータ1!AD140,0)+IF(ISNUMBER(CSVデータ2!AD140),CSVデータ2!AD140,0)+IF(ISNUMBER(CSVデータ3!AD140),CSVデータ3!AD140,0)+IF(ISNUMBER(CSVデータ4!AD140),CSVデータ4!AD140,0)","v":0},null,{"$f":"IF(ISNUMBER(CSVデータ1!AF140),CSVデータ1!AF140,0)+IF(ISNUMBER(CSVデータ2!AF140),CSVデータ2!AF140,0)+IF(ISNUMBER(CSVデータ3!AF140),CSVデータ3!AF140,0)+IF(ISNUMBER(CSVデータ4!AF140),CSVデータ4!AF140,0)","v":0},null,{"$f":"IF(ISNUMBER(CSVデータ1!AH140),CSVデータ1!AH140,0)+IF(ISNUMBER(CSVデータ2!AH140),CSVデータ2!AH140,0)+IF(ISNUMBER(CSVデータ3!AH140),CSVデータ3!AH140,0)+IF(ISNUMBER(CSVデータ4!AH140),CSVデータ4!AH140,0)","v":0},null,{"$f":"IF(ISNUMBER(CSVデータ1!AJ140),CSVデータ1!AJ140,0)+IF(ISNUMBER(CSVデータ2!AJ140),CSVデータ2!AJ140,0)+IF(ISNUMBER(CSVデータ3!AJ140),CSVデータ3!AJ140,0)+IF(ISNUMBER(CSVデータ4!AJ140),CSVデータ4!AJ140,0)","v":0},null,{"$f":"IF(ISNUMBER(CSVデータ1!AL140),CSVデータ1!AL140,0)+IF(ISNUMBER(CSVデータ2!AL140),CSVデータ2!AL140,0)+IF(ISNUMBER(CSVデータ3!AL140),CSVデータ3!AL140,0)+IF(ISNUMBER(CSVデータ4!AL140),CSVデータ4!AL140,0)","v":0},null,{"$f":"IF(ISNUMBER(CSVデータ1!AN140),CSVデータ1!AN140,0)+IF(ISNUMBER(CSVデータ2!AN140),CSVデータ2!AN140,0)+IF(ISNUMBER(CSVデータ3!AN140),CSVデータ3!AN140,0)+IF(ISNUMBER(CSVデータ4!AN140),CSVデータ4!AN140,0)","v":0}]
[{"$f":"CSVデータ1!A141","v":"明細部"},{"$f":"CSVデータ1!B141","v":"県"},{"$f":"CSVデータ1!C141","v":72},{"$f":"CSVデータ1!D141","v":"女"},{"$f":"IF(ISNUMBER(CSVデータ1!E141),CSVデータ1!E141,0)+IF(ISNUMBER(CSVデータ2!E141),CSVデータ2!E141,0)+IF(ISNUMBER(CSVデータ3!E141),CSVデータ3!E141,0)+IF(ISNUMBER(CSVデータ4!E141),CSVデータ4!E141,0)","v":0},{"$f":"IF(ISNUMBER(CSVデータ1!F141),CSVデータ1!F141,0)+IF(ISNUMBER(CSVデータ2!F141),CSVデータ2!F141,0)+IF(ISNUMBER(CSVデータ3!F141),CSVデータ3!F141,0)+IF(ISNUMBER(CSVデータ4!F141),CSVデータ4!F141,0)","v":0},null,{"$f":"IF(ISNUMBER(CSVデータ1!H141),CSVデータ1!H141,0)+IF(ISNUMBER(CSVデータ2!H141),CSVデータ2!H141,0)+IF(ISNUMBER(CSVデータ3!H141),CSVデータ3!H141,0)+IF(ISNUMBER(CSVデータ4!H141),CSVデータ4!H141,0)","v":0},null,{"$f":"IF(ISNUMBER(CSVデータ1!J141),CSVデータ1!J141,0)+IF(ISNUMBER(CSVデータ2!J141),CSVデータ2!J141,0)+IF(ISNUMBER(CSVデータ3!J141),CSVデータ3!J141,0)+IF(ISNUMBER(CSVデータ4!J141),CSVデータ4!J141,0)","v":0},null,{"$f":"IF(ISNUMBER(CSVデータ1!L141),CSVデータ1!L141,0)+IF(ISNUMBER(CSVデータ2!L141),CSVデータ2!L141,0)+IF(ISNUMBER(CSVデータ3!L141),CSVデータ3!L141,0)+IF(ISNUMBER(CSVデータ4!L141),CSVデータ4!L141,0)","v":0},null,{"$f":"IF(ISNUMBER(CSVデータ1!N141),CSVデータ1!N141,0)+IF(ISNUMBER(CSVデータ2!N141),CSVデータ2!N141,0)+IF(ISNUMBER(CSVデータ3!N141),CSVデータ3!N141,0)+IF(ISNUMBER(CSVデータ4!N141),CSVデータ4!N141,0)","v":0},null,{"$f":"IF(ISNUMBER(CSVデータ1!P141),CSVデータ1!P141,0)+IF(ISNUMBER(CSVデータ2!P141),CSVデータ2!P141,0)+IF(ISNUMBER(CSVデータ3!P141),CSVデータ3!P141,0)+IF(ISNUMBER(CSVデータ4!P141),CSVデータ4!P141,0)","v":0},null,{"$f":"IF(ISNUMBER(CSVデータ1!R141),CSVデータ1!R141,0)+IF(ISNUMBER(CSVデータ2!R141),CSVデータ2!R141,0)+IF(ISNUMBER(CSVデータ3!R141),CSVデータ3!R141,0)+IF(ISNUMBER(CSVデータ4!R141),CSVデータ4!R141,0)","v":0},null,{"$f":"IF(ISNUMBER(CSVデータ1!T141),CSVデータ1!T141,0)+IF(ISNUMBER(CSVデータ2!T141),CSVデータ2!T141,0)+IF(ISNUMBER(CSVデータ3!T141),CSVデータ3!T141,0)+IF(ISNUMBER(CSVデータ4!T141),CSVデータ4!T141,0)","v":0},null,{"$f":"IF(ISNUMBER(CSVデータ1!V141),CSVデータ1!V141,0)+IF(ISNUMBER(CSVデータ2!V141),CSVデータ2!V141,0)+IF(ISNUMBER(CSVデータ3!V141),CSVデータ3!V141,0)+IF(ISNUMBER(CSVデータ4!V141),CSVデータ4!V141,0)","v":0},null,{"$f":"IF(ISNUMBER(CSVデータ1!X141),CSVデータ1!X141,0)+IF(ISNUMBER(CSVデータ2!X141),CSVデータ2!X141,0)+IF(ISNUMBER(CSVデータ3!X141),CSVデータ3!X141,0)+IF(ISNUMBER(CSVデータ4!X141),CSVデータ4!X141,0)","v":0},null,{"$f":"IF(ISNUMBER(CSVデータ1!Z141),CSVデータ1!Z141,0)+IF(ISNUMBER(CSVデータ2!Z141),CSVデータ2!Z141,0)+IF(ISNUMBER(CSVデータ3!Z141),CSVデータ3!Z141,0)+IF(ISNUMBER(CSVデータ4!Z141),CSVデータ4!Z141,0)","v":0},null,{"$f":"IF(ISNUMBER(CSVデータ1!AB141),CSVデータ1!AB141,0)+IF(ISNUMBER(CSVデータ2!AB141),CSVデータ2!AB141,0)+IF(ISNUMBER(CSVデータ3!AB141),CSVデータ3!AB141,0)+IF(ISNUMBER(CSVデータ4!AB141),CSVデータ4!AB141,0)","v":0},null,{"$f":"IF(ISNUMBER(CSVデータ1!AD141),CSVデータ1!AD141,0)+IF(ISNUMBER(CSVデータ2!AD141),CSVデータ2!AD141,0)+IF(ISNUMBER(CSVデータ3!AD141),CSVデータ3!AD141,0)+IF(ISNUMBER(CSVデータ4!AD141),CSVデータ4!AD141,0)","v":0},null,{"$f":"IF(ISNUMBER(CSVデータ1!AF141),CSVデータ1!AF141,0)+IF(ISNUMBER(CSVデータ2!AF141),CSVデータ2!AF141,0)+IF(ISNUMBER(CSVデータ3!AF141),CSVデータ3!AF141,0)+IF(ISNUMBER(CSVデータ4!AF141),CSVデータ4!AF141,0)","v":0},null,{"$f":"IF(ISNUMBER(CSVデータ1!AH141),CSVデータ1!AH141,0)+IF(ISNUMBER(CSVデータ2!AH141),CSVデータ2!AH141,0)+IF(ISNUMBER(CSVデータ3!AH141),CSVデータ3!AH141,0)+IF(ISNUMBER(CSVデータ4!AH141),CSVデータ4!AH141,0)","v":0},null,{"$f":"IF(ISNUMBER(CSVデータ1!AJ141),CSVデータ1!AJ141,0)+IF(ISNUMBER(CSVデータ2!AJ141),CSVデータ2!AJ141,0)+IF(ISNUMBER(CSVデータ3!AJ141),CSVデータ3!AJ141,0)+IF(ISNUMBER(CSVデータ4!AJ141),CSVデータ4!AJ141,0)","v":0},null,{"$f":"IF(ISNUMBER(CSVデータ1!AL141),CSVデータ1!AL141,0)+IF(ISNUMBER(CSVデータ2!AL141),CSVデータ2!AL141,0)+IF(ISNUMBER(CSVデータ3!AL141),CSVデータ3!AL141,0)+IF(ISNUMBER(CSVデータ4!AL141),CSVデータ4!AL141,0)","v":0},null,{"$f":"IF(ISNUMBER(CSVデータ1!AN141),CSVデータ1!AN141,0)+IF(ISNUMBER(CSVデータ2!AN141),CSVデータ2!AN141,0)+IF(ISNUMBER(CSVデータ3!AN141),CSVデータ3!AN141,0)+IF(ISNUMBER(CSVデータ4!AN141),CSVデータ4!AN141,0)","v":0}]
[{"$f":"CSVデータ1!A142","v":"明細部"},{"$f":"CSVデータ1!B142","v":"県"},{"$f":"CSVデータ1!C142","v":73},{"$f":"CSVデータ1!D142","v":"女"},{"$f":"IF(ISNUMBER(CSVデータ1!E142),CSVデータ1!E142,0)+IF(ISNUMBER(CSVデータ2!E142),CSVデータ2!E142,0)+IF(ISNUMBER(CSVデータ3!E142),CSVデータ3!E142,0)+IF(ISNUMBER(CSVデータ4!E142),CSVデータ4!E142,0)","v":0},{"$f":"IF(ISNUMBER(CSVデータ1!F142),CSVデータ1!F142,0)+IF(ISNUMBER(CSVデータ2!F142),CSVデータ2!F142,0)+IF(ISNUMBER(CSVデータ3!F142),CSVデータ3!F142,0)+IF(ISNUMBER(CSVデータ4!F142),CSVデータ4!F142,0)","v":0},null,{"$f":"IF(ISNUMBER(CSVデータ1!H142),CSVデータ1!H142,0)+IF(ISNUMBER(CSVデータ2!H142),CSVデータ2!H142,0)+IF(ISNUMBER(CSVデータ3!H142),CSVデータ3!H142,0)+IF(ISNUMBER(CSVデータ4!H142),CSVデータ4!H142,0)","v":0},null,{"$f":"IF(ISNUMBER(CSVデータ1!J142),CSVデータ1!J142,0)+IF(ISNUMBER(CSVデータ2!J142),CSVデータ2!J142,0)+IF(ISNUMBER(CSVデータ3!J142),CSVデータ3!J142,0)+IF(ISNUMBER(CSVデータ4!J142),CSVデータ4!J142,0)","v":0},null,{"$f":"IF(ISNUMBER(CSVデータ1!L142),CSVデータ1!L142,0)+IF(ISNUMBER(CSVデータ2!L142),CSVデータ2!L142,0)+IF(ISNUMBER(CSVデータ3!L142),CSVデータ3!L142,0)+IF(ISNUMBER(CSVデータ4!L142),CSVデータ4!L142,0)","v":0},null,{"$f":"IF(ISNUMBER(CSVデータ1!N142),CSVデータ1!N142,0)+IF(ISNUMBER(CSVデータ2!N142),CSVデータ2!N142,0)+IF(ISNUMBER(CSVデータ3!N142),CSVデータ3!N142,0)+IF(ISNUMBER(CSVデータ4!N142),CSVデータ4!N142,0)","v":0},null,{"$f":"IF(ISNUMBER(CSVデータ1!P142),CSVデータ1!P142,0)+IF(ISNUMBER(CSVデータ2!P142),CSVデータ2!P142,0)+IF(ISNUMBER(CSVデータ3!P142),CSVデータ3!P142,0)+IF(ISNUMBER(CSVデータ4!P142),CSVデータ4!P142,0)","v":0},null,{"$f":"IF(ISNUMBER(CSVデータ1!R142),CSVデータ1!R142,0)+IF(ISNUMBER(CSVデータ2!R142),CSVデータ2!R142,0)+IF(ISNUMBER(CSVデータ3!R142),CSVデータ3!R142,0)+IF(ISNUMBER(CSVデータ4!R142),CSVデータ4!R142,0)","v":0},null,{"$f":"IF(ISNUMBER(CSVデータ1!T142),CSVデータ1!T142,0)+IF(ISNUMBER(CSVデータ2!T142),CSVデータ2!T142,0)+IF(ISNUMBER(CSVデータ3!T142),CSVデータ3!T142,0)+IF(ISNUMBER(CSVデータ4!T142),CSVデータ4!T142,0)","v":0},null,{"$f":"IF(ISNUMBER(CSVデータ1!V142),CSVデータ1!V142,0)+IF(ISNUMBER(CSVデータ2!V142),CSVデータ2!V142,0)+IF(ISNUMBER(CSVデータ3!V142),CSVデータ3!V142,0)+IF(ISNUMBER(CSVデータ4!V142),CSVデータ4!V142,0)","v":0},null,{"$f":"IF(ISNUMBER(CSVデータ1!X142),CSVデータ1!X142,0)+IF(ISNUMBER(CSVデータ2!X142),CSVデータ2!X142,0)+IF(ISNUMBER(CSVデータ3!X142),CSVデータ3!X142,0)+IF(ISNUMBER(CSVデータ4!X142),CSVデータ4!X142,0)","v":0},null,{"$f":"IF(ISNUMBER(CSVデータ1!Z142),CSVデータ1!Z142,0)+IF(ISNUMBER(CSVデータ2!Z142),CSVデータ2!Z142,0)+IF(ISNUMBER(CSVデータ3!Z142),CSVデータ3!Z142,0)+IF(ISNUMBER(CSVデータ4!Z142),CSVデータ4!Z142,0)","v":0},null,{"$f":"IF(ISNUMBER(CSVデータ1!AB142),CSVデータ1!AB142,0)+IF(ISNUMBER(CSVデータ2!AB142),CSVデータ2!AB142,0)+IF(ISNUMBER(CSVデータ3!AB142),CSVデータ3!AB142,0)+IF(ISNUMBER(CSVデータ4!AB142),CSVデータ4!AB142,0)","v":0},null,{"$f":"IF(ISNUMBER(CSVデータ1!AD142),CSVデータ1!AD142,0)+IF(ISNUMBER(CSVデータ2!AD142),CSVデータ2!AD142,0)+IF(ISNUMBER(CSVデータ3!AD142),CSVデータ3!AD142,0)+IF(ISNUMBER(CSVデータ4!AD142),CSVデータ4!AD142,0)","v":0},null,{"$f":"IF(ISNUMBER(CSVデータ1!AF142),CSVデータ1!AF142,0)+IF(ISNUMBER(CSVデータ2!AF142),CSVデータ2!AF142,0)+IF(ISNUMBER(CSVデータ3!AF142),CSVデータ3!AF142,0)+IF(ISNUMBER(CSVデータ4!AF142),CSVデータ4!AF142,0)","v":0},null,{"$f":"IF(ISNUMBER(CSVデータ1!AH142),CSVデータ1!AH142,0)+IF(ISNUMBER(CSVデータ2!AH142),CSVデータ2!AH142,0)+IF(ISNUMBER(CSVデータ3!AH142),CSVデータ3!AH142,0)+IF(ISNUMBER(CSVデータ4!AH142),CSVデータ4!AH142,0)","v":0},null,{"$f":"IF(ISNUMBER(CSVデータ1!AJ142),CSVデータ1!AJ142,0)+IF(ISNUMBER(CSVデータ2!AJ142),CSVデータ2!AJ142,0)+IF(ISNUMBER(CSVデータ3!AJ142),CSVデータ3!AJ142,0)+IF(ISNUMBER(CSVデータ4!AJ142),CSVデータ4!AJ142,0)","v":0},null,{"$f":"IF(ISNUMBER(CSVデータ1!AL142),CSVデータ1!AL142,0)+IF(ISNUMBER(CSVデータ2!AL142),CSVデータ2!AL142,0)+IF(ISNUMBER(CSVデータ3!AL142),CSVデータ3!AL142,0)+IF(ISNUMBER(CSVデータ4!AL142),CSVデータ4!AL142,0)","v":0},null,{"$f":"IF(ISNUMBER(CSVデータ1!AN142),CSVデータ1!AN142,0)+IF(ISNUMBER(CSVデータ2!AN142),CSVデータ2!AN142,0)+IF(ISNUMBER(CSVデータ3!AN142),CSVデータ3!AN142,0)+IF(ISNUMBER(CSVデータ4!AN142),CSVデータ4!AN142,0)","v":0}]
[{"$f":"CSVデータ1!A143","v":"明細部"},{"$f":"CSVデータ1!B143","v":"県"},{"$f":"CSVデータ1!C143","v":74},{"$f":"CSVデータ1!D143","v":"女"},{"$f":"IF(ISNUMBER(CSVデータ1!E143),CSVデータ1!E143,0)+IF(ISNUMBER(CSVデータ2!E143),CSVデータ2!E143,0)+IF(ISNUMBER(CSVデータ3!E143),CSVデータ3!E143,0)+IF(ISNUMBER(CSVデータ4!E143),CSVデータ4!E143,0)","v":0},{"$f":"IF(ISNUMBER(CSVデータ1!F143),CSVデータ1!F143,0)+IF(ISNUMBER(CSVデータ2!F143),CSVデータ2!F143,0)+IF(ISNUMBER(CSVデータ3!F143),CSVデータ3!F143,0)+IF(ISNUMBER(CSVデータ4!F143),CSVデータ4!F143,0)","v":0},null,{"$f":"IF(ISNUMBER(CSVデータ1!H143),CSVデータ1!H143,0)+IF(ISNUMBER(CSVデータ2!H143),CSVデータ2!H143,0)+IF(ISNUMBER(CSVデータ3!H143),CSVデータ3!H143,0)+IF(ISNUMBER(CSVデータ4!H143),CSVデータ4!H143,0)","v":0},null,{"$f":"IF(ISNUMBER(CSVデータ1!J143),CSVデータ1!J143,0)+IF(ISNUMBER(CSVデータ2!J143),CSVデータ2!J143,0)+IF(ISNUMBER(CSVデータ3!J143),CSVデータ3!J143,0)+IF(ISNUMBER(CSVデータ4!J143),CSVデータ4!J143,0)","v":0},null,{"$f":"IF(ISNUMBER(CSVデータ1!L143),CSVデータ1!L143,0)+IF(ISNUMBER(CSVデータ2!L143),CSVデータ2!L143,0)+IF(ISNUMBER(CSVデータ3!L143),CSVデータ3!L143,0)+IF(ISNUMBER(CSVデータ4!L143),CSVデータ4!L143,0)","v":0},null,{"$f":"IF(ISNUMBER(CSVデータ1!N143),CSVデータ1!N143,0)+IF(ISNUMBER(CSVデータ2!N143),CSVデータ2!N143,0)+IF(ISNUMBER(CSVデータ3!N143),CSVデータ3!N143,0)+IF(ISNUMBER(CSVデータ4!N143),CSVデータ4!N143,0)","v":0},null,{"$f":"IF(ISNUMBER(CSVデータ1!P143),CSVデータ1!P143,0)+IF(ISNUMBER(CSVデータ2!P143),CSVデータ2!P143,0)+IF(ISNUMBER(CSVデータ3!P143),CSVデータ3!P143,0)+IF(ISNUMBER(CSVデータ4!P143),CSVデータ4!P143,0)","v":0},null,{"$f":"IF(ISNUMBER(CSVデータ1!R143),CSVデータ1!R143,0)+IF(ISNUMBER(CSVデータ2!R143),CSVデータ2!R143,0)+IF(ISNUMBER(CSVデータ3!R143),CSVデータ3!R143,0)+IF(ISNUMBER(CSVデータ4!R143),CSVデータ4!R143,0)","v":0},null,{"$f":"IF(ISNUMBER(CSVデータ1!T143),CSVデータ1!T143,0)+IF(ISNUMBER(CSVデータ2!T143),CSVデータ2!T143,0)+IF(ISNUMBER(CSVデータ3!T143),CSVデータ3!T143,0)+IF(ISNUMBER(CSVデータ4!T143),CSVデータ4!T143,0)","v":0},null,{"$f":"IF(ISNUMBER(CSVデータ1!V143),CSVデータ1!V143,0)+IF(ISNUMBER(CSVデータ2!V143),CSVデータ2!V143,0)+IF(ISNUMBER(CSVデータ3!V143),CSVデータ3!V143,0)+IF(ISNUMBER(CSVデータ4!V143),CSVデータ4!V143,0)","v":0},null,{"$f":"IF(ISNUMBER(CSVデータ1!X143),CSVデータ1!X143,0)+IF(ISNUMBER(CSVデータ2!X143),CSVデータ2!X143,0)+IF(ISNUMBER(CSVデータ3!X143),CSVデータ3!X143,0)+IF(ISNUMBER(CSVデータ4!X143),CSVデータ4!X143,0)","v":0},null,{"$f":"IF(ISNUMBER(CSVデータ1!Z143),CSVデータ1!Z143,0)+IF(ISNUMBER(CSVデータ2!Z143),CSVデータ2!Z143,0)+IF(ISNUMBER(CSVデータ3!Z143),CSVデータ3!Z143,0)+IF(ISNUMBER(CSVデータ4!Z143),CSVデータ4!Z143,0)","v":0},null,{"$f":"IF(ISNUMBER(CSVデータ1!AB143),CSVデータ1!AB143,0)+IF(ISNUMBER(CSVデータ2!AB143),CSVデータ2!AB143,0)+IF(ISNUMBER(CSVデータ3!AB143),CSVデータ3!AB143,0)+IF(ISNUMBER(CSVデータ4!AB143),CSVデータ4!AB143,0)","v":0},null,{"$f":"IF(ISNUMBER(CSVデータ1!AD143),CSVデータ1!AD143,0)+IF(ISNUMBER(CSVデータ2!AD143),CSVデータ2!AD143,0)+IF(ISNUMBER(CSVデータ3!AD143),CSVデータ3!AD143,0)+IF(ISNUMBER(CSVデータ4!AD143),CSVデータ4!AD143,0)","v":0},null,{"$f":"IF(ISNUMBER(CSVデータ1!AF143),CSVデータ1!AF143,0)+IF(ISNUMBER(CSVデータ2!AF143),CSVデータ2!AF143,0)+IF(ISNUMBER(CSVデータ3!AF143),CSVデータ3!AF143,0)+IF(ISNUMBER(CSVデータ4!AF143),CSVデータ4!AF143,0)","v":0},null,{"$f":"IF(ISNUMBER(CSVデータ1!AH143),CSVデータ1!AH143,0)+IF(ISNUMBER(CSVデータ2!AH143),CSVデータ2!AH143,0)+IF(ISNUMBER(CSVデータ3!AH143),CSVデータ3!AH143,0)+IF(ISNUMBER(CSVデータ4!AH143),CSVデータ4!AH143,0)","v":0},null,{"$f":"IF(ISNUMBER(CSVデータ1!AJ143),CSVデータ1!AJ143,0)+IF(ISNUMBER(CSVデータ2!AJ143),CSVデータ2!AJ143,0)+IF(ISNUMBER(CSVデータ3!AJ143),CSVデータ3!AJ143,0)+IF(ISNUMBER(CSVデータ4!AJ143),CSVデータ4!AJ143,0)","v":0},null,{"$f":"IF(ISNUMBER(CSVデータ1!AL143),CSVデータ1!AL143,0)+IF(ISNUMBER(CSVデータ2!AL143),CSVデータ2!AL143,0)+IF(ISNUMBER(CSVデータ3!AL143),CSVデータ3!AL143,0)+IF(ISNUMBER(CSVデータ4!AL143),CSVデータ4!AL143,0)","v":0},null,{"$f":"IF(ISNUMBER(CSVデータ1!AN143),CSVデータ1!AN143,0)+IF(ISNUMBER(CSVデータ2!AN143),CSVデータ2!AN143,0)+IF(ISNUMBER(CSVデータ3!AN143),CSVデータ3!AN143,0)+IF(ISNUMBER(CSVデータ4!AN143),CSVデータ4!AN143,0)","v":0}]
[{"$f":"CSVデータ1!A144","v":"明細部"},{"$f":"CSVデータ1!B144","v":"保険者（地区）"},{"$f":"CSVデータ1!C144","v":40},{"$f":"CSVデータ1!D144","v":"男"},{"$f":"IF(ISNUMBER(CSVデータ1!E144),CSVデータ1!E144,0)+IF(ISNUMBER(CSVデータ2!E144),CSVデータ2!E144,0)+IF(ISNUMBER(CSVデータ3!E144),CSVデータ3!E144,0)+IF(ISNUMBER(CSVデータ4!E144),CSVデータ4!E144,0)","v":0},{"$f":"IF(ISNUMBER(CSVデータ1!F144),CSVデータ1!F144,0)+IF(ISNUMBER(CSVデータ2!F144),CSVデータ2!F144,0)+IF(ISNUMBER(CSVデータ3!F144),CSVデータ3!F144,0)+IF(ISNUMBER(CSVデータ4!F144),CSVデータ4!F144,0)","v":0},null,{"$f":"IF(ISNUMBER(CSVデータ1!H144),CSVデータ1!H144,0)+IF(ISNUMBER(CSVデータ2!H144),CSVデータ2!H144,0)+IF(ISNUMBER(CSVデータ3!H144),CSVデータ3!H144,0)+IF(ISNUMBER(CSVデータ4!H144),CSVデータ4!H144,0)","v":0},null,{"$f":"IF(ISNUMBER(CSVデータ1!J144),CSVデータ1!J144,0)+IF(ISNUMBER(CSVデータ2!J144),CSVデータ2!J144,0)+IF(ISNUMBER(CSVデータ3!J144),CSVデータ3!J144,0)+IF(ISNUMBER(CSVデータ4!J144),CSVデータ4!J144,0)","v":0},null,{"$f":"IF(ISNUMBER(CSVデータ1!L144),CSVデータ1!L144,0)+IF(ISNUMBER(CSVデータ2!L144),CSVデータ2!L144,0)+IF(ISNUMBER(CSVデータ3!L144),CSVデータ3!L144,0)+IF(ISNUMBER(CSVデータ4!L144),CSVデータ4!L144,0)","v":0},null,{"$f":"IF(ISNUMBER(CSVデータ1!N144),CSVデータ1!N144,0)+IF(ISNUMBER(CSVデータ2!N144),CSVデータ2!N144,0)+IF(ISNUMBER(CSVデータ3!N144),CSVデータ3!N144,0)+IF(ISNUMBER(CSVデータ4!N144),CSVデータ4!N144,0)","v":0},null,{"$f":"IF(ISNUMBER(CSVデータ1!P144),CSVデータ1!P144,0)+IF(ISNUMBER(CSVデータ2!P144),CSVデータ2!P144,0)+IF(ISNUMBER(CSVデータ3!P144),CSVデータ3!P144,0)+IF(ISNUMBER(CSVデータ4!P144),CSVデータ4!P144,0)","v":0},null,{"$f":"IF(ISNUMBER(CSVデータ1!R144),CSVデータ1!R144,0)+IF(ISNUMBER(CSVデータ2!R144),CSVデータ2!R144,0)+IF(ISNUMBER(CSVデータ3!R144),CSVデータ3!R144,0)+IF(ISNUMBER(CSVデータ4!R144),CSVデータ4!R144,0)","v":0},null,{"$f":"IF(ISNUMBER(CSVデータ1!T144),CSVデータ1!T144,0)+IF(ISNUMBER(CSVデータ2!T144),CSVデータ2!T144,0)+IF(ISNUMBER(CSVデータ3!T144),CSVデータ3!T144,0)+IF(ISNUMBER(CSVデータ4!T144),CSVデータ4!T144,0)","v":0},null,{"$f":"IF(ISNUMBER(CSVデータ1!V144),CSVデータ1!V144,0)+IF(ISNUMBER(CSVデータ2!V144),CSVデータ2!V144,0)+IF(ISNUMBER(CSVデータ3!V144),CSVデータ3!V144,0)+IF(ISNUMBER(CSVデータ4!V144),CSVデータ4!V144,0)","v":0},null,{"$f":"IF(ISNUMBER(CSVデータ1!X144),CSVデータ1!X144,0)+IF(ISNUMBER(CSVデータ2!X144),CSVデータ2!X144,0)+IF(ISNUMBER(CSVデータ3!X144),CSVデータ3!X144,0)+IF(ISNUMBER(CSVデータ4!X144),CSVデータ4!X144,0)","v":0},null,{"$f":"IF(ISNUMBER(CSVデータ1!Z144),CSVデータ1!Z144,0)+IF(ISNUMBER(CSVデータ2!Z144),CSVデータ2!Z144,0)+IF(ISNUMBER(CSVデータ3!Z144),CSVデータ3!Z144,0)+IF(ISNUMBER(CSVデータ4!Z144),CSVデータ4!Z144,0)","v":0},null,{"$f":"IF(ISNUMBER(CSVデータ1!AB144),CSVデータ1!AB144,0)+IF(ISNUMBER(CSVデータ2!AB144),CSVデータ2!AB144,0)+IF(ISNUMBER(CSVデータ3!AB144),CSVデータ3!AB144,0)+IF(ISNUMBER(CSVデータ4!AB144),CSVデータ4!AB144,0)","v":0},null,{"$f":"IF(ISNUMBER(CSVデータ1!AD144),CSVデータ1!AD144,0)+IF(ISNUMBER(CSVデータ2!AD144),CSVデータ2!AD144,0)+IF(ISNUMBER(CSVデータ3!AD144),CSVデータ3!AD144,0)+IF(ISNUMBER(CSVデータ4!AD144),CSVデータ4!AD144,0)","v":0},null,{"$f":"IF(ISNUMBER(CSVデータ1!AF144),CSVデータ1!AF144,0)+IF(ISNUMBER(CSVデータ2!AF144),CSVデータ2!AF144,0)+IF(ISNUMBER(CSVデータ3!AF144),CSVデータ3!AF144,0)+IF(ISNUMBER(CSVデータ4!AF144),CSVデータ4!AF144,0)","v":0},null,{"$f":"IF(ISNUMBER(CSVデータ1!AH144),CSVデータ1!AH144,0)+IF(ISNUMBER(CSVデータ2!AH144),CSVデータ2!AH144,0)+IF(ISNUMBER(CSVデータ3!AH144),CSVデータ3!AH144,0)+IF(ISNUMBER(CSVデータ4!AH144),CSVデータ4!AH144,0)","v":0},null,{"$f":"IF(ISNUMBER(CSVデータ1!AJ144),CSVデータ1!AJ144,0)+IF(ISNUMBER(CSVデータ2!AJ144),CSVデータ2!AJ144,0)+IF(ISNUMBER(CSVデータ3!AJ144),CSVデータ3!AJ144,0)+IF(ISNUMBER(CSVデータ4!AJ144),CSVデータ4!AJ144,0)","v":0},null,{"$f":"IF(ISNUMBER(CSVデータ1!AL144),CSVデータ1!AL144,0)+IF(ISNUMBER(CSVデータ2!AL144),CSVデータ2!AL144,0)+IF(ISNUMBER(CSVデータ3!AL144),CSVデータ3!AL144,0)+IF(ISNUMBER(CSVデータ4!AL144),CSVデータ4!AL144,0)","v":0},null,{"$f":"IF(ISNUMBER(CSVデータ1!AN144),CSVデータ1!AN144,0)+IF(ISNUMBER(CSVデータ2!AN144),CSVデータ2!AN144,0)+IF(ISNUMBER(CSVデータ3!AN144),CSVデータ3!AN144,0)+IF(ISNUMBER(CSVデータ4!AN144),CSVデータ4!AN144,0)","v":0}]
[{"$f":"CSVデータ1!A145","v":"明細部"},{"$f":"CSVデータ1!B145","v":"保険者（地区）"},{"$f":"CSVデータ1!C145","v":41},{"$f":"CSVデータ1!D145","v":"男"},{"$f":"IF(ISNUMBER(CSVデータ1!E145),CSVデータ1!E145,0)+IF(ISNUMBER(CSVデータ2!E145),CSVデータ2!E145,0)+IF(ISNUMBER(CSVデータ3!E145),CSVデータ3!E145,0)+IF(ISNUMBER(CSVデータ4!E145),CSVデータ4!E145,0)","v":0},{"$f":"IF(ISNUMBER(CSVデータ1!F145),CSVデータ1!F145,0)+IF(ISNUMBER(CSVデータ2!F145),CSVデータ2!F145,0)+IF(ISNUMBER(CSVデータ3!F145),CSVデータ3!F145,0)+IF(ISNUMBER(CSVデータ4!F145),CSVデータ4!F145,0)","v":0},null,{"$f":"IF(ISNUMBER(CSVデータ1!H145),CSVデータ1!H145,0)+IF(ISNUMBER(CSVデータ2!H145),CSVデータ2!H145,0)+IF(ISNUMBER(CSVデータ3!H145),CSVデータ3!H145,0)+IF(ISNUMBER(CSVデータ4!H145),CSVデータ4!H145,0)","v":0},null,{"$f":"IF(ISNUMBER(CSVデータ1!J145),CSVデータ1!J145,0)+IF(ISNUMBER(CSVデータ2!J145),CSVデータ2!J145,0)+IF(ISNUMBER(CSVデータ3!J145),CSVデータ3!J145,0)+IF(ISNUMBER(CSVデータ4!J145),CSVデータ4!J145,0)","v":0},null,{"$f":"IF(ISNUMBER(CSVデータ1!L145),CSVデータ1!L145,0)+IF(ISNUMBER(CSVデータ2!L145),CSVデータ2!L145,0)+IF(ISNUMBER(CSVデータ3!L145),CSVデータ3!L145,0)+IF(ISNUMBER(CSVデータ4!L145),CSVデータ4!L145,0)","v":0},null,{"$f":"IF(ISNUMBER(CSVデータ1!N145),CSVデータ1!N145,0)+IF(ISNUMBER(CSVデータ2!N145),CSVデータ2!N145,0)+IF(ISNUMBER(CSVデータ3!N145),CSVデータ3!N145,0)+IF(ISNUMBER(CSVデータ4!N145),CSVデータ4!N145,0)","v":0},null,{"$f":"IF(ISNUMBER(CSVデータ1!P145),CSVデータ1!P145,0)+IF(ISNUMBER(CSVデータ2!P145),CSVデータ2!P145,0)+IF(ISNUMBER(CSVデータ3!P145),CSVデータ3!P145,0)+IF(ISNUMBER(CSVデータ4!P145),CSVデータ4!P145,0)","v":0},null,{"$f":"IF(ISNUMBER(CSVデータ1!R145),CSVデータ1!R145,0)+IF(ISNUMBER(CSVデータ2!R145),CSVデータ2!R145,0)+IF(ISNUMBER(CSVデータ3!R145),CSVデータ3!R145,0)+IF(ISNUMBER(CSVデータ4!R145),CSVデータ4!R145,0)","v":0},null,{"$f":"IF(ISNUMBER(CSVデータ1!T145),CSVデータ1!T145,0)+IF(ISNUMBER(CSVデータ2!T145),CSVデータ2!T145,0)+IF(ISNUMBER(CSVデータ3!T145),CSVデータ3!T145,0)+IF(ISNUMBER(CSVデータ4!T145),CSVデータ4!T145,0)","v":0},null,{"$f":"IF(ISNUMBER(CSVデータ1!V145),CSVデータ1!V145,0)+IF(ISNUMBER(CSVデータ2!V145),CSVデータ2!V145,0)+IF(ISNUMBER(CSVデータ3!V145),CSVデータ3!V145,0)+IF(ISNUMBER(CSVデータ4!V145),CSVデータ4!V145,0)","v":0},null,{"$f":"IF(ISNUMBER(CSVデータ1!X145),CSVデータ1!X145,0)+IF(ISNUMBER(CSVデータ2!X145),CSVデータ2!X145,0)+IF(ISNUMBER(CSVデータ3!X145),CSVデータ3!X145,0)+IF(ISNUMBER(CSVデータ4!X145),CSVデータ4!X145,0)","v":0},null,{"$f":"IF(ISNUMBER(CSVデータ1!Z145),CSVデータ1!Z145,0)+IF(ISNUMBER(CSVデータ2!Z145),CSVデータ2!Z145,0)+IF(ISNUMBER(CSVデータ3!Z145),CSVデータ3!Z145,0)+IF(ISNUMBER(CSVデータ4!Z145),CSVデータ4!Z145,0)","v":0},null,{"$f":"IF(ISNUMBER(CSVデータ1!AB145),CSVデータ1!AB145,0)+IF(ISNUMBER(CSVデータ2!AB145),CSVデータ2!AB145,0)+IF(ISNUMBER(CSVデータ3!AB145),CSVデータ3!AB145,0)+IF(ISNUMBER(CSVデータ4!AB145),CSVデータ4!AB145,0)","v":0},null,{"$f":"IF(ISNUMBER(CSVデータ1!AD145),CSVデータ1!AD145,0)+IF(ISNUMBER(CSVデータ2!AD145),CSVデータ2!AD145,0)+IF(ISNUMBER(CSVデータ3!AD145),CSVデータ3!AD145,0)+IF(ISNUMBER(CSVデータ4!AD145),CSVデータ4!AD145,0)","v":0},null,{"$f":"IF(ISNUMBER(CSVデータ1!AF145),CSVデータ1!AF145,0)+IF(ISNUMBER(CSVデータ2!AF145),CSVデータ2!AF145,0)+IF(ISNUMBER(CSVデータ3!AF145),CSVデータ3!AF145,0)+IF(ISNUMBER(CSVデータ4!AF145),CSVデータ4!AF145,0)","v":0},null,{"$f":"IF(ISNUMBER(CSVデータ1!AH145),CSVデータ1!AH145,0)+IF(ISNUMBER(CSVデータ2!AH145),CSVデータ2!AH145,0)+IF(ISNUMBER(CSVデータ3!AH145),CSVデータ3!AH145,0)+IF(ISNUMBER(CSVデータ4!AH145),CSVデータ4!AH145,0)","v":0},null,{"$f":"IF(ISNUMBER(CSVデータ1!AJ145),CSVデータ1!AJ145,0)+IF(ISNUMBER(CSVデータ2!AJ145),CSVデータ2!AJ145,0)+IF(ISNUMBER(CSVデータ3!AJ145),CSVデータ3!AJ145,0)+IF(ISNUMBER(CSVデータ4!AJ145),CSVデータ4!AJ145,0)","v":0},null,{"$f":"IF(ISNUMBER(CSVデータ1!AL145),CSVデータ1!AL145,0)+IF(ISNUMBER(CSVデータ2!AL145),CSVデータ2!AL145,0)+IF(ISNUMBER(CSVデータ3!AL145),CSVデータ3!AL145,0)+IF(ISNUMBER(CSVデータ4!AL145),CSVデータ4!AL145,0)","v":0},null,{"$f":"IF(ISNUMBER(CSVデータ1!AN145),CSVデータ1!AN145,0)+IF(ISNUMBER(CSVデータ2!AN145),CSVデータ2!AN145,0)+IF(ISNUMBER(CSVデータ3!AN145),CSVデータ3!AN145,0)+IF(ISNUMBER(CSVデータ4!AN145),CSVデータ4!AN145,0)","v":0}]
[{"$f":"CSVデータ1!A146","v":"明細部"},{"$f":"CSVデータ1!B146","v":"保険者（地区）"},{"$f":"CSVデータ1!C146","v":42},{"$f":"CSVデータ1!D146","v":"男"},{"$f":"IF(ISNUMBER(CSVデータ1!E146),CSVデータ1!E146,0)+IF(ISNUMBER(CSVデータ2!E146),CSVデータ2!E146,0)+IF(ISNUMBER(CSVデータ3!E146),CSVデータ3!E146,0)+IF(ISNUMBER(CSVデータ4!E146),CSVデータ4!E146,0)","v":0},{"$f":"IF(ISNUMBER(CSVデータ1!F146),CSVデータ1!F146,0)+IF(ISNUMBER(CSVデータ2!F146),CSVデータ2!F146,0)+IF(ISNUMBER(CSVデータ3!F146),CSVデータ3!F146,0)+IF(ISNUMBER(CSVデータ4!F146),CSVデータ4!F146,0)","v":0},null,{"$f":"IF(ISNUMBER(CSVデータ1!H146),CSVデータ1!H146,0)+IF(ISNUMBER(CSVデータ2!H146),CSVデータ2!H146,0)+IF(ISNUMBER(CSVデータ3!H146),CSVデータ3!H146,0)+IF(ISNUMBER(CSVデータ4!H146),CSVデータ4!H146,0)","v":0},null,{"$f":"IF(ISNUMBER(CSVデータ1!J146),CSVデータ1!J146,0)+IF(ISNUMBER(CSVデータ2!J146),CSVデータ2!J146,0)+IF(ISNUMBER(CSVデータ3!J146),CSVデータ3!J146,0)+IF(ISNUMBER(CSVデータ4!J146),CSVデータ4!J146,0)","v":0},null,{"$f":"IF(ISNUMBER(CSVデータ1!L146),CSVデータ1!L146,0)+IF(ISNUMBER(CSVデータ2!L146),CSVデータ2!L146,0)+IF(ISNUMBER(CSVデータ3!L146),CSVデータ3!L146,0)+IF(ISNUMBER(CSVデータ4!L146),CSVデータ4!L146,0)","v":0},null,{"$f":"IF(ISNUMBER(CSVデータ1!N146),CSVデータ1!N146,0)+IF(ISNUMBER(CSVデータ2!N146),CSVデータ2!N146,0)+IF(ISNUMBER(CSVデータ3!N146),CSVデータ3!N146,0)+IF(ISNUMBER(CSVデータ4!N146),CSVデータ4!N146,0)","v":0},null,{"$f":"IF(ISNUMBER(CSVデータ1!P146),CSVデータ1!P146,0)+IF(ISNUMBER(CSVデータ2!P146),CSVデータ2!P146,0)+IF(ISNUMBER(CSVデータ3!P146),CSVデータ3!P146,0)+IF(ISNUMBER(CSVデータ4!P146),CSVデータ4!P146,0)","v":0},null,{"$f":"IF(ISNUMBER(CSVデータ1!R146),CSVデータ1!R146,0)+IF(ISNUMBER(CSVデータ2!R146),CSVデータ2!R146,0)+IF(ISNUMBER(CSVデータ3!R146),CSVデータ3!R146,0)+IF(ISNUMBER(CSVデータ4!R146),CSVデータ4!R146,0)","v":0},null,{"$f":"IF(ISNUMBER(CSVデータ1!T146),CSVデータ1!T146,0)+IF(ISNUMBER(CSVデータ2!T146),CSVデータ2!T146,0)+IF(ISNUMBER(CSVデータ3!T146),CSVデータ3!T146,0)+IF(ISNUMBER(CSVデータ4!T146),CSVデータ4!T146,0)","v":0},null,{"$f":"IF(ISNUMBER(CSVデータ1!V146),CSVデータ1!V146,0)+IF(ISNUMBER(CSVデータ2!V146),CSVデータ2!V146,0)+IF(ISNUMBER(CSVデータ3!V146),CSVデータ3!V146,0)+IF(ISNUMBER(CSVデータ4!V146),CSVデータ4!V146,0)","v":0},null,{"$f":"IF(ISNUMBER(CSVデータ1!X146),CSVデータ1!X146,0)+IF(ISNUMBER(CSVデータ2!X146),CSVデータ2!X146,0)+IF(ISNUMBER(CSVデータ3!X146),CSVデータ3!X146,0)+IF(ISNUMBER(CSVデータ4!X146),CSVデータ4!X146,0)","v":0},null,{"$f":"IF(ISNUMBER(CSVデータ1!Z146),CSVデータ1!Z146,0)+IF(ISNUMBER(CSVデータ2!Z146),CSVデータ2!Z146,0)+IF(ISNUMBER(CSVデータ3!Z146),CSVデータ3!Z146,0)+IF(ISNUMBER(CSVデータ4!Z146),CSVデータ4!Z146,0)","v":0},null,{"$f":"IF(ISNUMBER(CSVデータ1!AB146),CSVデータ1!AB146,0)+IF(ISNUMBER(CSVデータ2!AB146),CSVデータ2!AB146,0)+IF(ISNUMBER(CSVデータ3!AB146),CSVデータ3!AB146,0)+IF(ISNUMBER(CSVデータ4!AB146),CSVデータ4!AB146,0)","v":0},null,{"$f":"IF(ISNUMBER(CSVデータ1!AD146),CSVデータ1!AD146,0)+IF(ISNUMBER(CSVデータ2!AD146),CSVデータ2!AD146,0)+IF(ISNUMBER(CSVデータ3!AD146),CSVデータ3!AD146,0)+IF(ISNUMBER(CSVデータ4!AD146),CSVデータ4!AD146,0)","v":0},null,{"$f":"IF(ISNUMBER(CSVデータ1!AF146),CSVデータ1!AF146,0)+IF(ISNUMBER(CSVデータ2!AF146),CSVデータ2!AF146,0)+IF(ISNUMBER(CSVデータ3!AF146),CSVデータ3!AF146,0)+IF(ISNUMBER(CSVデータ4!AF146),CSVデータ4!AF146,0)","v":0},null,{"$f":"IF(ISNUMBER(CSVデータ1!AH146),CSVデータ1!AH146,0)+IF(ISNUMBER(CSVデータ2!AH146),CSVデータ2!AH146,0)+IF(ISNUMBER(CSVデータ3!AH146),CSVデータ3!AH146,0)+IF(ISNUMBER(CSVデータ4!AH146),CSVデータ4!AH146,0)","v":0},null,{"$f":"IF(ISNUMBER(CSVデータ1!AJ146),CSVデータ1!AJ146,0)+IF(ISNUMBER(CSVデータ2!AJ146),CSVデータ2!AJ146,0)+IF(ISNUMBER(CSVデータ3!AJ146),CSVデータ3!AJ146,0)+IF(ISNUMBER(CSVデータ4!AJ146),CSVデータ4!AJ146,0)","v":0},null,{"$f":"IF(ISNUMBER(CSVデータ1!AL146),CSVデータ1!AL146,0)+IF(ISNUMBER(CSVデータ2!AL146),CSVデータ2!AL146,0)+IF(ISNUMBER(CSVデータ3!AL146),CSVデータ3!AL146,0)+IF(ISNUMBER(CSVデータ4!AL146),CSVデータ4!AL146,0)","v":0},null,{"$f":"IF(ISNUMBER(CSVデータ1!AN146),CSVデータ1!AN146,0)+IF(ISNUMBER(CSVデータ2!AN146),CSVデータ2!AN146,0)+IF(ISNUMBER(CSVデータ3!AN146),CSVデータ3!AN146,0)+IF(ISNUMBER(CSVデータ4!AN146),CSVデータ4!AN146,0)","v":0}]
[{"$f":"CSVデータ1!A147","v":"明細部"},{"$f":"CSVデータ1!B147","v":"保険者（地区）"},{"$f":"CSVデータ1!C147","v":43},{"$f":"CSVデータ1!D147","v":"男"},{"$f":"IF(ISNUMBER(CSVデータ1!E147),CSVデータ1!E147,0)+IF(ISNUMBER(CSVデータ2!E147),CSVデータ2!E147,0)+IF(ISNUMBER(CSVデータ3!E147),CSVデータ3!E147,0)+IF(ISNUMBER(CSVデータ4!E147),CSVデータ4!E147,0)","v":0},{"$f":"IF(ISNUMBER(CSVデータ1!F147),CSVデータ1!F147,0)+IF(ISNUMBER(CSVデータ2!F147),CSVデータ2!F147,0)+IF(ISNUMBER(CSVデータ3!F147),CSVデータ3!F147,0)+IF(ISNUMBER(CSVデータ4!F147),CSVデータ4!F147,0)","v":0},null,{"$f":"IF(ISNUMBER(CSVデータ1!H147),CSVデータ1!H147,0)+IF(ISNUMBER(CSVデータ2!H147),CSVデータ2!H147,0)+IF(ISNUMBER(CSVデータ3!H147),CSVデータ3!H147,0)+IF(ISNUMBER(CSVデータ4!H147),CSVデータ4!H147,0)","v":0},null,{"$f":"IF(ISNUMBER(CSVデータ1!J147),CSVデータ1!J147,0)+IF(ISNUMBER(CSVデータ2!J147),CSVデータ2!J147,0)+IF(ISNUMBER(CSVデータ3!J147),CSVデータ3!J147,0)+IF(ISNUMBER(CSVデータ4!J147),CSVデータ4!J147,0)","v":0},null,{"$f":"IF(ISNUMBER(CSVデータ1!L147),CSVデータ1!L147,0)+IF(ISNUMBER(CSVデータ2!L147),CSVデータ2!L147,0)+IF(ISNUMBER(CSVデータ3!L147),CSVデータ3!L147,0)+IF(ISNUMBER(CSVデータ4!L147),CSVデータ4!L147,0)","v":0},null,{"$f":"IF(ISNUMBER(CSVデータ1!N147),CSVデータ1!N147,0)+IF(ISNUMBER(CSVデータ2!N147),CSVデータ2!N147,0)+IF(ISNUMBER(CSVデータ3!N147),CSVデータ3!N147,0)+IF(ISNUMBER(CSVデータ4!N147),CSVデータ4!N147,0)","v":0},null,{"$f":"IF(ISNUMBER(CSVデータ1!P147),CSVデータ1!P147,0)+IF(ISNUMBER(CSVデータ2!P147),CSVデータ2!P147,0)+IF(ISNUMBER(CSVデータ3!P147),CSVデータ3!P147,0)+IF(ISNUMBER(CSVデータ4!P147),CSVデータ4!P147,0)","v":0},null,{"$f":"IF(ISNUMBER(CSVデータ1!R147),CSVデータ1!R147,0)+IF(ISNUMBER(CSVデータ2!R147),CSVデータ2!R147,0)+IF(ISNUMBER(CSVデータ3!R147),CSVデータ3!R147,0)+IF(ISNUMBER(CSVデータ4!R147),CSVデータ4!R147,0)","v":0},null,{"$f":"IF(ISNUMBER(CSVデータ1!T147),CSVデータ1!T147,0)+IF(ISNUMBER(CSVデータ2!T147),CSVデータ2!T147,0)+IF(ISNUMBER(CSVデータ3!T147),CSVデータ3!T147,0)+IF(ISNUMBER(CSVデータ4!T147),CSVデータ4!T147,0)","v":0},null,{"$f":"IF(ISNUMBER(CSVデータ1!V147),CSVデータ1!V147,0)+IF(ISNUMBER(CSVデータ2!V147),CSVデータ2!V147,0)+IF(ISNUMBER(CSVデータ3!V147),CSVデータ3!V147,0)+IF(ISNUMBER(CSVデータ4!V147),CSVデータ4!V147,0)","v":0},null,{"$f":"IF(ISNUMBER(CSVデータ1!X147),CSVデータ1!X147,0)+IF(ISNUMBER(CSVデータ2!X147),CSVデータ2!X147,0)+IF(ISNUMBER(CSVデータ3!X147),CSVデータ3!X147,0)+IF(ISNUMBER(CSVデータ4!X147),CSVデータ4!X147,0)","v":0},null,{"$f":"IF(ISNUMBER(CSVデータ1!Z147),CSVデータ1!Z147,0)+IF(ISNUMBER(CSVデータ2!Z147),CSVデータ2!Z147,0)+IF(ISNUMBER(CSVデータ3!Z147),CSVデータ3!Z147,0)+IF(ISNUMBER(CSVデータ4!Z147),CSVデータ4!Z147,0)","v":0},null,{"$f":"IF(ISNUMBER(CSVデータ1!AB147),CSVデータ1!AB147,0)+IF(ISNUMBER(CSVデータ2!AB147),CSVデータ2!AB147,0)+IF(ISNUMBER(CSVデータ3!AB147),CSVデータ3!AB147,0)+IF(ISNUMBER(CSVデータ4!AB147),CSVデータ4!AB147,0)","v":0},null,{"$f":"IF(ISNUMBER(CSVデータ1!AD147),CSVデータ1!AD147,0)+IF(ISNUMBER(CSVデータ2!AD147),CSVデータ2!AD147,0)+IF(ISNUMBER(CSVデータ3!AD147),CSVデータ3!AD147,0)+IF(ISNUMBER(CSVデータ4!AD147),CSVデータ4!AD147,0)","v":0},null,{"$f":"IF(ISNUMBER(CSVデータ1!AF147),CSVデータ1!AF147,0)+IF(ISNUMBER(CSVデータ2!AF147),CSVデータ2!AF147,0)+IF(ISNUMBER(CSVデータ3!AF147),CSVデータ3!AF147,0)+IF(ISNUMBER(CSVデータ4!AF147),CSVデータ4!AF147,0)","v":0},null,{"$f":"IF(ISNUMBER(CSVデータ1!AH147),CSVデータ1!AH147,0)+IF(ISNUMBER(CSVデータ2!AH147),CSVデータ2!AH147,0)+IF(ISNUMBER(CSVデータ3!AH147),CSVデータ3!AH147,0)+IF(ISNUMBER(CSVデータ4!AH147),CSVデータ4!AH147,0)","v":0},null,{"$f":"IF(ISNUMBER(CSVデータ1!AJ147),CSVデータ1!AJ147,0)+IF(ISNUMBER(CSVデータ2!AJ147),CSVデータ2!AJ147,0)+IF(ISNUMBER(CSVデータ3!AJ147),CSVデータ3!AJ147,0)+IF(ISNUMBER(CSVデータ4!AJ147),CSVデータ4!AJ147,0)","v":0},null,{"$f":"IF(ISNUMBER(CSVデータ1!AL147),CSVデータ1!AL147,0)+IF(ISNUMBER(CSVデータ2!AL147),CSVデータ2!AL147,0)+IF(ISNUMBER(CSVデータ3!AL147),CSVデータ3!AL147,0)+IF(ISNUMBER(CSVデータ4!AL147),CSVデータ4!AL147,0)","v":0},null,{"$f":"IF(ISNUMBER(CSVデータ1!AN147),CSVデータ1!AN147,0)+IF(ISNUMBER(CSVデータ2!AN147),CSVデータ2!AN147,0)+IF(ISNUMBER(CSVデータ3!AN147),CSVデータ3!AN147,0)+IF(ISNUMBER(CSVデータ4!AN147),CSVデータ4!AN147,0)","v":0}]
[{"$f":"CSVデータ1!A148","v":"明細部"},{"$f":"CSVデータ1!B148","v":"保険者（地区）"},{"$f":"CSVデータ1!C148","v":44},{"$f":"CSVデータ1!D148","v":"男"},{"$f":"IF(ISNUMBER(CSVデータ1!E148),CSVデータ1!E148,0)+IF(ISNUMBER(CSVデータ2!E148),CSVデータ2!E148,0)+IF(ISNUMBER(CSVデータ3!E148),CSVデータ3!E148,0)+IF(ISNUMBER(CSVデータ4!E148),CSVデータ4!E148,0)","v":0},{"$f":"IF(ISNUMBER(CSVデータ1!F148),CSVデータ1!F148,0)+IF(ISNUMBER(CSVデータ2!F148),CSVデータ2!F148,0)+IF(ISNUMBER(CSVデータ3!F148),CSVデータ3!F148,0)+IF(ISNUMBER(CSVデータ4!F148),CSVデータ4!F148,0)","v":0},null,{"$f":"IF(ISNUMBER(CSVデータ1!H148),CSVデータ1!H148,0)+IF(ISNUMBER(CSVデータ2!H148),CSVデータ2!H148,0)+IF(ISNUMBER(CSVデータ3!H148),CSVデータ3!H148,0)+IF(ISNUMBER(CSVデータ4!H148),CSVデータ4!H148,0)","v":0},null,{"$f":"IF(ISNUMBER(CSVデータ1!J148),CSVデータ1!J148,0)+IF(ISNUMBER(CSVデータ2!J148),CSVデータ2!J148,0)+IF(ISNUMBER(CSVデータ3!J148),CSVデータ3!J148,0)+IF(ISNUMBER(CSVデータ4!J148),CSVデータ4!J148,0)","v":0},null,{"$f":"IF(ISNUMBER(CSVデータ1!L148),CSVデータ1!L148,0)+IF(ISNUMBER(CSVデータ2!L148),CSVデータ2!L148,0)+IF(ISNUMBER(CSVデータ3!L148),CSVデータ3!L148,0)+IF(ISNUMBER(CSVデータ4!L148),CSVデータ4!L148,0)","v":0},null,{"$f":"IF(ISNUMBER(CSVデータ1!N148),CSVデータ1!N148,0)+IF(ISNUMBER(CSVデータ2!N148),CSVデータ2!N148,0)+IF(ISNUMBER(CSVデータ3!N148),CSVデータ3!N148,0)+IF(ISNUMBER(CSVデータ4!N148),CSVデータ4!N148,0)","v":0},null,{"$f":"IF(ISNUMBER(CSVデータ1!P148),CSVデータ1!P148,0)+IF(ISNUMBER(CSVデータ2!P148),CSVデータ2!P148,0)+IF(ISNUMBER(CSVデータ3!P148),CSVデータ3!P148,0)+IF(ISNUMBER(CSVデータ4!P148),CSVデータ4!P148,0)","v":0},null,{"$f":"IF(ISNUMBER(CSVデータ1!R148),CSVデータ1!R148,0)+IF(ISNUMBER(CSVデータ2!R148),CSVデータ2!R148,0)+IF(ISNUMBER(CSVデータ3!R148),CSVデータ3!R148,0)+IF(ISNUMBER(CSVデータ4!R148),CSVデータ4!R148,0)","v":0},null,{"$f":"IF(ISNUMBER(CSVデータ1!T148),CSVデータ1!T148,0)+IF(ISNUMBER(CSVデータ2!T148),CSVデータ2!T148,0)+IF(ISNUMBER(CSVデータ3!T148),CSVデータ3!T148,0)+IF(ISNUMBER(CSVデータ4!T148),CSVデータ4!T148,0)","v":0},null,{"$f":"IF(ISNUMBER(CSVデータ1!V148),CSVデータ1!V148,0)+IF(ISNUMBER(CSVデータ2!V148),CSVデータ2!V148,0)+IF(ISNUMBER(CSVデータ3!V148),CSVデータ3!V148,0)+IF(ISNUMBER(CSVデータ4!V148),CSVデータ4!V148,0)","v":0},null,{"$f":"IF(ISNUMBER(CSVデータ1!X148),CSVデータ1!X148,0)+IF(ISNUMBER(CSVデータ2!X148),CSVデータ2!X148,0)+IF(ISNUMBER(CSVデータ3!X148),CSVデータ3!X148,0)+IF(ISNUMBER(CSVデータ4!X148),CSVデータ4!X148,0)","v":0},null,{"$f":"IF(ISNUMBER(CSVデータ1!Z148),CSVデータ1!Z148,0)+IF(ISNUMBER(CSVデータ2!Z148),CSVデータ2!Z148,0)+IF(ISNUMBER(CSVデータ3!Z148),CSVデータ3!Z148,0)+IF(ISNUMBER(CSVデータ4!Z148),CSVデータ4!Z148,0)","v":0},null,{"$f":"IF(ISNUMBER(CSVデータ1!AB148),CSVデータ1!AB148,0)+IF(ISNUMBER(CSVデータ2!AB148),CSVデータ2!AB148,0)+IF(ISNUMBER(CSVデータ3!AB148),CSVデータ3!AB148,0)+IF(ISNUMBER(CSVデータ4!AB148),CSVデータ4!AB148,0)","v":0},null,{"$f":"IF(ISNUMBER(CSVデータ1!AD148),CSVデータ1!AD148,0)+IF(ISNUMBER(CSVデータ2!AD148),CSVデータ2!AD148,0)+IF(ISNUMBER(CSVデータ3!AD148),CSVデータ3!AD148,0)+IF(ISNUMBER(CSVデータ4!AD148),CSVデータ4!AD148,0)","v":0},null,{"$f":"IF(ISNUMBER(CSVデータ1!AF148),CSVデータ1!AF148,0)+IF(ISNUMBER(CSVデータ2!AF148),CSVデータ2!AF148,0)+IF(ISNUMBER(CSVデータ3!AF148),CSVデータ3!AF148,0)+IF(ISNUMBER(CSVデータ4!AF148),CSVデータ4!AF148,0)","v":0},null,{"$f":"IF(ISNUMBER(CSVデータ1!AH148),CSVデータ1!AH148,0)+IF(ISNUMBER(CSVデータ2!AH148),CSVデータ2!AH148,0)+IF(ISNUMBER(CSVデータ3!AH148),CSVデータ3!AH148,0)+IF(ISNUMBER(CSVデータ4!AH148),CSVデータ4!AH148,0)","v":0},null,{"$f":"IF(ISNUMBER(CSVデータ1!AJ148),CSVデータ1!AJ148,0)+IF(ISNUMBER(CSVデータ2!AJ148),CSVデータ2!AJ148,0)+IF(ISNUMBER(CSVデータ3!AJ148),CSVデータ3!AJ148,0)+IF(ISNUMBER(CSVデータ4!AJ148),CSVデータ4!AJ148,0)","v":0},null,{"$f":"IF(ISNUMBER(CSVデータ1!AL148),CSVデータ1!AL148,0)+IF(ISNUMBER(CSVデータ2!AL148),CSVデータ2!AL148,0)+IF(ISNUMBER(CSVデータ3!AL148),CSVデータ3!AL148,0)+IF(ISNUMBER(CSVデータ4!AL148),CSVデータ4!AL148,0)","v":0},null,{"$f":"IF(ISNUMBER(CSVデータ1!AN148),CSVデータ1!AN148,0)+IF(ISNUMBER(CSVデータ2!AN148),CSVデータ2!AN148,0)+IF(ISNUMBER(CSVデータ3!AN148),CSVデータ3!AN148,0)+IF(ISNUMBER(CSVデータ4!AN148),CSVデータ4!AN148,0)","v":0}]
[{"$f":"CSVデータ1!A149","v":"明細部"},{"$f":"CSVデータ1!B149","v":"保険者（地区）"},{"$f":"CSVデータ1!C149","v":45},{"$f":"CSVデータ1!D149","v":"男"},{"$f":"IF(ISNUMBER(CSVデータ1!E149),CSVデータ1!E149,0)+IF(ISNUMBER(CSVデータ2!E149),CSVデータ2!E149,0)+IF(ISNUMBER(CSVデータ3!E149),CSVデータ3!E149,0)+IF(ISNUMBER(CSVデータ4!E149),CSVデータ4!E149,0)","v":0},{"$f":"IF(ISNUMBER(CSVデータ1!F149),CSVデータ1!F149,0)+IF(ISNUMBER(CSVデータ2!F149),CSVデータ2!F149,0)+IF(ISNUMBER(CSVデータ3!F149),CSVデータ3!F149,0)+IF(ISNUMBER(CSVデータ4!F149),CSVデータ4!F149,0)","v":0},null,{"$f":"IF(ISNUMBER(CSVデータ1!H149),CSVデータ1!H149,0)+IF(ISNUMBER(CSVデータ2!H149),CSVデータ2!H149,0)+IF(ISNUMBER(CSVデータ3!H149),CSVデータ3!H149,0)+IF(ISNUMBER(CSVデータ4!H149),CSVデータ4!H149,0)","v":0},null,{"$f":"IF(ISNUMBER(CSVデータ1!J149),CSVデータ1!J149,0)+IF(ISNUMBER(CSVデータ2!J149),CSVデータ2!J149,0)+IF(ISNUMBER(CSVデータ3!J149),CSVデータ3!J149,0)+IF(ISNUMBER(CSVデータ4!J149),CSVデータ4!J149,0)","v":0},null,{"$f":"IF(ISNUMBER(CSVデータ1!L149),CSVデータ1!L149,0)+IF(ISNUMBER(CSVデータ2!L149),CSVデータ2!L149,0)+IF(ISNUMBER(CSVデータ3!L149),CSVデータ3!L149,0)+IF(ISNUMBER(CSVデータ4!L149),CSVデータ4!L149,0)","v":0},null,{"$f":"IF(ISNUMBER(CSVデータ1!N149),CSVデータ1!N149,0)+IF(ISNUMBER(CSVデータ2!N149),CSVデータ2!N149,0)+IF(ISNUMBER(CSVデータ3!N149),CSVデータ3!N149,0)+IF(ISNUMBER(CSVデータ4!N149),CSVデータ4!N149,0)","v":0},null,{"$f":"IF(ISNUMBER(CSVデータ1!P149),CSVデータ1!P149,0)+IF(ISNUMBER(CSVデータ2!P149),CSVデータ2!P149,0)+IF(ISNUMBER(CSVデータ3!P149),CSVデータ3!P149,0)+IF(ISNUMBER(CSVデータ4!P149),CSVデータ4!P149,0)","v":0},null,{"$f":"IF(ISNUMBER(CSVデータ1!R149),CSVデータ1!R149,0)+IF(ISNUMBER(CSVデータ2!R149),CSVデータ2!R149,0)+IF(ISNUMBER(CSVデータ3!R149),CSVデータ3!R149,0)+IF(ISNUMBER(CSVデータ4!R149),CSVデータ4!R149,0)","v":0},null,{"$f":"IF(ISNUMBER(CSVデータ1!T149),CSVデータ1!T149,0)+IF(ISNUMBER(CSVデータ2!T149),CSVデータ2!T149,0)+IF(ISNUMBER(CSVデータ3!T149),CSVデータ3!T149,0)+IF(ISNUMBER(CSVデータ4!T149),CSVデータ4!T149,0)","v":0},null,{"$f":"IF(ISNUMBER(CSVデータ1!V149),CSVデータ1!V149,0)+IF(ISNUMBER(CSVデータ2!V149),CSVデータ2!V149,0)+IF(ISNUMBER(CSVデータ3!V149),CSVデータ3!V149,0)+IF(ISNUMBER(CSVデータ4!V149),CSVデータ4!V149,0)","v":0},null,{"$f":"IF(ISNUMBER(CSVデータ1!X149),CSVデータ1!X149,0)+IF(ISNUMBER(CSVデータ2!X149),CSVデータ2!X149,0)+IF(ISNUMBER(CSVデータ3!X149),CSVデータ3!X149,0)+IF(ISNUMBER(CSVデータ4!X149),CSVデータ4!X149,0)","v":0},null,{"$f":"IF(ISNUMBER(CSVデータ1!Z149),CSVデータ1!Z149,0)+IF(ISNUMBER(CSVデータ2!Z149),CSVデータ2!Z149,0)+IF(ISNUMBER(CSVデータ3!Z149),CSVデータ3!Z149,0)+IF(ISNUMBER(CSVデータ4!Z149),CSVデータ4!Z149,0)","v":0},null,{"$f":"IF(ISNUMBER(CSVデータ1!AB149),CSVデータ1!AB149,0)+IF(ISNUMBER(CSVデータ2!AB149),CSVデータ2!AB149,0)+IF(ISNUMBER(CSVデータ3!AB149),CSVデータ3!AB149,0)+IF(ISNUMBER(CSVデータ4!AB149),CSVデータ4!AB149,0)","v":0},null,{"$f":"IF(ISNUMBER(CSVデータ1!AD149),CSVデータ1!AD149,0)+IF(ISNUMBER(CSVデータ2!AD149),CSVデータ2!AD149,0)+IF(ISNUMBER(CSVデータ3!AD149),CSVデータ3!AD149,0)+IF(ISNUMBER(CSVデータ4!AD149),CSVデータ4!AD149,0)","v":0},null,{"$f":"IF(ISNUMBER(CSVデータ1!AF149),CSVデータ1!AF149,0)+IF(ISNUMBER(CSVデータ2!AF149),CSVデータ2!AF149,0)+IF(ISNUMBER(CSVデータ3!AF149),CSVデータ3!AF149,0)+IF(ISNUMBER(CSVデータ4!AF149),CSVデータ4!AF149,0)","v":0},null,{"$f":"IF(ISNUMBER(CSVデータ1!AH149),CSVデータ1!AH149,0)+IF(ISNUMBER(CSVデータ2!AH149),CSVデータ2!AH149,0)+IF(ISNUMBER(CSVデータ3!AH149),CSVデータ3!AH149,0)+IF(ISNUMBER(CSVデータ4!AH149),CSVデータ4!AH149,0)","v":0},null,{"$f":"IF(ISNUMBER(CSVデータ1!AJ149),CSVデータ1!AJ149,0)+IF(ISNUMBER(CSVデータ2!AJ149),CSVデータ2!AJ149,0)+IF(ISNUMBER(CSVデータ3!AJ149),CSVデータ3!AJ149,0)+IF(ISNUMBER(CSVデータ4!AJ149),CSVデータ4!AJ149,0)","v":0},null,{"$f":"IF(ISNUMBER(CSVデータ1!AL149),CSVデータ1!AL149,0)+IF(ISNUMBER(CSVデータ2!AL149),CSVデータ2!AL149,0)+IF(ISNUMBER(CSVデータ3!AL149),CSVデータ3!AL149,0)+IF(ISNUMBER(CSVデータ4!AL149),CSVデータ4!AL149,0)","v":0},null,{"$f":"IF(ISNUMBER(CSVデータ1!AN149),CSVデータ1!AN149,0)+IF(ISNUMBER(CSVデータ2!AN149),CSVデータ2!AN149,0)+IF(ISNUMBER(CSVデータ3!AN149),CSVデータ3!AN149,0)+IF(ISNUMBER(CSVデータ4!AN149),CSVデータ4!AN149,0)","v":0}]
[{"$f":"CSVデータ1!A150","v":"明細部"},{"$f":"CSVデータ1!B150","v":"保険者（地区）"},{"$f":"CSVデータ1!C150","v":46},{"$f":"CSVデータ1!D150","v":"男"},{"$f":"IF(ISNUMBER(CSVデータ1!E150),CSVデータ1!E150,0)+IF(ISNUMBER(CSVデータ2!E150),CSVデータ2!E150,0)+IF(ISNUMBER(CSVデータ3!E150),CSVデータ3!E150,0)+IF(ISNUMBER(CSVデータ4!E150),CSVデータ4!E150,0)","v":0},{"$f":"IF(ISNUMBER(CSVデータ1!F150),CSVデータ1!F150,0)+IF(ISNUMBER(CSVデータ2!F150),CSVデータ2!F150,0)+IF(ISNUMBER(CSVデータ3!F150),CSVデータ3!F150,0)+IF(ISNUMBER(CSVデータ4!F150),CSVデータ4!F150,0)","v":0},null,{"$f":"IF(ISNUMBER(CSVデータ1!H150),CSVデータ1!H150,0)+IF(ISNUMBER(CSVデータ2!H150),CSVデータ2!H150,0)+IF(ISNUMBER(CSVデータ3!H150),CSVデータ3!H150,0)+IF(ISNUMBER(CSVデータ4!H150),CSVデータ4!H150,0)","v":0},null,{"$f":"IF(ISNUMBER(CSVデータ1!J150),CSVデータ1!J150,0)+IF(ISNUMBER(CSVデータ2!J150),CSVデータ2!J150,0)+IF(ISNUMBER(CSVデータ3!J150),CSVデータ3!J150,0)+IF(ISNUMBER(CSVデータ4!J150),CSVデータ4!J150,0)","v":0},null,{"$f":"IF(ISNUMBER(CSVデータ1!L150),CSVデータ1!L150,0)+IF(ISNUMBER(CSVデータ2!L150),CSVデータ2!L150,0)+IF(ISNUMBER(CSVデータ3!L150),CSVデータ3!L150,0)+IF(ISNUMBER(CSVデータ4!L150),CSVデータ4!L150,0)","v":0},null,{"$f":"IF(ISNUMBER(CSVデータ1!N150),CSVデータ1!N150,0)+IF(ISNUMBER(CSVデータ2!N150),CSVデータ2!N150,0)+IF(ISNUMBER(CSVデータ3!N150),CSVデータ3!N150,0)+IF(ISNUMBER(CSVデータ4!N150),CSVデータ4!N150,0)","v":0},null,{"$f":"IF(ISNUMBER(CSVデータ1!P150),CSVデータ1!P150,0)+IF(ISNUMBER(CSVデータ2!P150),CSVデータ2!P150,0)+IF(ISNUMBER(CSVデータ3!P150),CSVデータ3!P150,0)+IF(ISNUMBER(CSVデータ4!P150),CSVデータ4!P150,0)","v":0},null,{"$f":"IF(ISNUMBER(CSVデータ1!R150),CSVデータ1!R150,0)+IF(ISNUMBER(CSVデータ2!R150),CSVデータ2!R150,0)+IF(ISNUMBER(CSVデータ3!R150),CSVデータ3!R150,0)+IF(ISNUMBER(CSVデータ4!R150),CSVデータ4!R150,0)","v":0},null,{"$f":"IF(ISNUMBER(CSVデータ1!T150),CSVデータ1!T150,0)+IF(ISNUMBER(CSVデータ2!T150),CSVデータ2!T150,0)+IF(ISNUMBER(CSVデータ3!T150),CSVデータ3!T150,0)+IF(ISNUMBER(CSVデータ4!T150),CSVデータ4!T150,0)","v":0},null,{"$f":"IF(ISNUMBER(CSVデータ1!V150),CSVデータ1!V150,0)+IF(ISNUMBER(CSVデータ2!V150),CSVデータ2!V150,0)+IF(ISNUMBER(CSVデータ3!V150),CSVデータ3!V150,0)+IF(ISNUMBER(CSVデータ4!V150),CSVデータ4!V150,0)","v":0},null,{"$f":"IF(ISNUMBER(CSVデータ1!X150),CSVデータ1!X150,0)+IF(ISNUMBER(CSVデータ2!X150),CSVデータ2!X150,0)+IF(ISNUMBER(CSVデータ3!X150),CSVデータ3!X150,0)+IF(ISNUMBER(CSVデータ4!X150),CSVデータ4!X150,0)","v":0},null,{"$f":"IF(ISNUMBER(CSVデータ1!Z150),CSVデータ1!Z150,0)+IF(ISNUMBER(CSVデータ2!Z150),CSVデータ2!Z150,0)+IF(ISNUMBER(CSVデータ3!Z150),CSVデータ3!Z150,0)+IF(ISNUMBER(CSVデータ4!Z150),CSVデータ4!Z150,0)","v":0},null,{"$f":"IF(ISNUMBER(CSVデータ1!AB150),CSVデータ1!AB150,0)+IF(ISNUMBER(CSVデータ2!AB150),CSVデータ2!AB150,0)+IF(ISNUMBER(CSVデータ3!AB150),CSVデータ3!AB150,0)+IF(ISNUMBER(CSVデータ4!AB150),CSVデータ4!AB150,0)","v":0},null,{"$f":"IF(ISNUMBER(CSVデータ1!AD150),CSVデータ1!AD150,0)+IF(ISNUMBER(CSVデータ2!AD150),CSVデータ2!AD150,0)+IF(ISNUMBER(CSVデータ3!AD150),CSVデータ3!AD150,0)+IF(ISNUMBER(CSVデータ4!AD150),CSVデータ4!AD150,0)","v":0},null,{"$f":"IF(ISNUMBER(CSVデータ1!AF150),CSVデータ1!AF150,0)+IF(ISNUMBER(CSVデータ2!AF150),CSVデータ2!AF150,0)+IF(ISNUMBER(CSVデータ3!AF150),CSVデータ3!AF150,0)+IF(ISNUMBER(CSVデータ4!AF150),CSVデータ4!AF150,0)","v":0},null,{"$f":"IF(ISNUMBER(CSVデータ1!AH150),CSVデータ1!AH150,0)+IF(ISNUMBER(CSVデータ2!AH150),CSVデータ2!AH150,0)+IF(ISNUMBER(CSVデータ3!AH150),CSVデータ3!AH150,0)+IF(ISNUMBER(CSVデータ4!AH150),CSVデータ4!AH150,0)","v":0},null,{"$f":"IF(ISNUMBER(CSVデータ1!AJ150),CSVデータ1!AJ150,0)+IF(ISNUMBER(CSVデータ2!AJ150),CSVデータ2!AJ150,0)+IF(ISNUMBER(CSVデータ3!AJ150),CSVデータ3!AJ150,0)+IF(ISNUMBER(CSVデータ4!AJ150),CSVデータ4!AJ150,0)","v":0},null,{"$f":"IF(ISNUMBER(CSVデータ1!AL150),CSVデータ1!AL150,0)+IF(ISNUMBER(CSVデータ2!AL150),CSVデータ2!AL150,0)+IF(ISNUMBER(CSVデータ3!AL150),CSVデータ3!AL150,0)+IF(ISNUMBER(CSVデータ4!AL150),CSVデータ4!AL150,0)","v":0},null,{"$f":"IF(ISNUMBER(CSVデータ1!AN150),CSVデータ1!AN150,0)+IF(ISNUMBER(CSVデータ2!AN150),CSVデータ2!AN150,0)+IF(ISNUMBER(CSVデータ3!AN150),CSVデータ3!AN150,0)+IF(ISNUMBER(CSVデータ4!AN150),CSVデータ4!AN150,0)","v":0}]
[{"$f":"CSVデータ1!A151","v":"明細部"},{"$f":"CSVデータ1!B151","v":"保険者（地区）"},{"$f":"CSVデータ1!C151","v":47},{"$f":"CSVデータ1!D151","v":"男"},{"$f":"IF(ISNUMBER(CSVデータ1!E151),CSVデータ1!E151,0)+IF(ISNUMBER(CSVデータ2!E151),CSVデータ2!E151,0)+IF(ISNUMBER(CSVデータ3!E151),CSVデータ3!E151,0)+IF(ISNUMBER(CSVデータ4!E151),CSVデータ4!E151,0)","v":0},{"$f":"IF(ISNUMBER(CSVデータ1!F151),CSVデータ1!F151,0)+IF(ISNUMBER(CSVデータ2!F151),CSVデータ2!F151,0)+IF(ISNUMBER(CSVデータ3!F151),CSVデータ3!F151,0)+IF(ISNUMBER(CSVデータ4!F151),CSVデータ4!F151,0)","v":0},null,{"$f":"IF(ISNUMBER(CSVデータ1!H151),CSVデータ1!H151,0)+IF(ISNUMBER(CSVデータ2!H151),CSVデータ2!H151,0)+IF(ISNUMBER(CSVデータ3!H151),CSVデータ3!H151,0)+IF(ISNUMBER(CSVデータ4!H151),CSVデータ4!H151,0)","v":0},null,{"$f":"IF(ISNUMBER(CSVデータ1!J151),CSVデータ1!J151,0)+IF(ISNUMBER(CSVデータ2!J151),CSVデータ2!J151,0)+IF(ISNUMBER(CSVデータ3!J151),CSVデータ3!J151,0)+IF(ISNUMBER(CSVデータ4!J151),CSVデータ4!J151,0)","v":0},null,{"$f":"IF(ISNUMBER(CSVデータ1!L151),CSVデータ1!L151,0)+IF(ISNUMBER(CSVデータ2!L151),CSVデータ2!L151,0)+IF(ISNUMBER(CSVデータ3!L151),CSVデータ3!L151,0)+IF(ISNUMBER(CSVデータ4!L151),CSVデータ4!L151,0)","v":0},null,{"$f":"IF(ISNUMBER(CSVデータ1!N151),CSVデータ1!N151,0)+IF(ISNUMBER(CSVデータ2!N151),CSVデータ2!N151,0)+IF(ISNUMBER(CSVデータ3!N151),CSVデータ3!N151,0)+IF(ISNUMBER(CSVデータ4!N151),CSVデータ4!N151,0)","v":0},null,{"$f":"IF(ISNUMBER(CSVデータ1!P151),CSVデータ1!P151,0)+IF(ISNUMBER(CSVデータ2!P151),CSVデータ2!P151,0)+IF(ISNUMBER(CSVデータ3!P151),CSVデータ3!P151,0)+IF(ISNUMBER(CSVデータ4!P151),CSVデータ4!P151,0)","v":0},null,{"$f":"IF(ISNUMBER(CSVデータ1!R151),CSVデータ1!R151,0)+IF(ISNUMBER(CSVデータ2!R151),CSVデータ2!R151,0)+IF(ISNUMBER(CSVデータ3!R151),CSVデータ3!R151,0)+IF(ISNUMBER(CSVデータ4!R151),CSVデータ4!R151,0)","v":0},null,{"$f":"IF(ISNUMBER(CSVデータ1!T151),CSVデータ1!T151,0)+IF(ISNUMBER(CSVデータ2!T151),CSVデータ2!T151,0)+IF(ISNUMBER(CSVデータ3!T151),CSVデータ3!T151,0)+IF(ISNUMBER(CSVデータ4!T151),CSVデータ4!T151,0)","v":0},null,{"$f":"IF(ISNUMBER(CSVデータ1!V151),CSVデータ1!V151,0)+IF(ISNUMBER(CSVデータ2!V151),CSVデータ2!V151,0)+IF(ISNUMBER(CSVデータ3!V151),CSVデータ3!V151,0)+IF(ISNUMBER(CSVデータ4!V151),CSVデータ4!V151,0)","v":0},null,{"$f":"IF(ISNUMBER(CSVデータ1!X151),CSVデータ1!X151,0)+IF(ISNUMBER(CSVデータ2!X151),CSVデータ2!X151,0)+IF(ISNUMBER(CSVデータ3!X151),CSVデータ3!X151,0)+IF(ISNUMBER(CSVデータ4!X151),CSVデータ4!X151,0)","v":0},null,{"$f":"IF(ISNUMBER(CSVデータ1!Z151),CSVデータ1!Z151,0)+IF(ISNUMBER(CSVデータ2!Z151),CSVデータ2!Z151,0)+IF(ISNUMBER(CSVデータ3!Z151),CSVデータ3!Z151,0)+IF(ISNUMBER(CSVデータ4!Z151),CSVデータ4!Z151,0)","v":0},null,{"$f":"IF(ISNUMBER(CSVデータ1!AB151),CSVデータ1!AB151,0)+IF(ISNUMBER(CSVデータ2!AB151),CSVデータ2!AB151,0)+IF(ISNUMBER(CSVデータ3!AB151),CSVデータ3!AB151,0)+IF(ISNUMBER(CSVデータ4!AB151),CSVデータ4!AB151,0)","v":0},null,{"$f":"IF(ISNUMBER(CSVデータ1!AD151),CSVデータ1!AD151,0)+IF(ISNUMBER(CSVデータ2!AD151),CSVデータ2!AD151,0)+IF(ISNUMBER(CSVデータ3!AD151),CSVデータ3!AD151,0)+IF(ISNUMBER(CSVデータ4!AD151),CSVデータ4!AD151,0)","v":0},null,{"$f":"IF(ISNUMBER(CSVデータ1!AF151),CSVデータ1!AF151,0)+IF(ISNUMBER(CSVデータ2!AF151),CSVデータ2!AF151,0)+IF(ISNUMBER(CSVデータ3!AF151),CSVデータ3!AF151,0)+IF(ISNUMBER(CSVデータ4!AF151),CSVデータ4!AF151,0)","v":0},null,{"$f":"IF(ISNUMBER(CSVデータ1!AH151),CSVデータ1!AH151,0)+IF(ISNUMBER(CSVデータ2!AH151),CSVデータ2!AH151,0)+IF(ISNUMBER(CSVデータ3!AH151),CSVデータ3!AH151,0)+IF(ISNUMBER(CSVデータ4!AH151),CSVデータ4!AH151,0)","v":0},null,{"$f":"IF(ISNUMBER(CSVデータ1!AJ151),CSVデータ1!AJ151,0)+IF(ISNUMBER(CSVデータ2!AJ151),CSVデータ2!AJ151,0)+IF(ISNUMBER(CSVデータ3!AJ151),CSVデータ3!AJ151,0)+IF(ISNUMBER(CSVデータ4!AJ151),CSVデータ4!AJ151,0)","v":0},null,{"$f":"IF(ISNUMBER(CSVデータ1!AL151),CSVデータ1!AL151,0)+IF(ISNUMBER(CSVデータ2!AL151),CSVデータ2!AL151,0)+IF(ISNUMBER(CSVデータ3!AL151),CSVデータ3!AL151,0)+IF(ISNUMBER(CSVデータ4!AL151),CSVデータ4!AL151,0)","v":0},null,{"$f":"IF(ISNUMBER(CSVデータ1!AN151),CSVデータ1!AN151,0)+IF(ISNUMBER(CSVデータ2!AN151),CSVデータ2!AN151,0)+IF(ISNUMBER(CSVデータ3!AN151),CSVデータ3!AN151,0)+IF(ISNUMBER(CSVデータ4!AN151),CSVデータ4!AN151,0)","v":0}]
[{"$f":"CSVデータ1!A152","v":"明細部"},{"$f":"CSVデータ1!B152","v":"保険者（地区）"},{"$f":"CSVデータ1!C152","v":48},{"$f":"CSVデータ1!D152","v":"男"},{"$f":"IF(ISNUMBER(CSVデータ1!E152),CSVデータ1!E152,0)+IF(ISNUMBER(CSVデータ2!E152),CSVデータ2!E152,0)+IF(ISNUMBER(CSVデータ3!E152),CSVデータ3!E152,0)+IF(ISNUMBER(CSVデータ4!E152),CSVデータ4!E152,0)","v":0},{"$f":"IF(ISNUMBER(CSVデータ1!F152),CSVデータ1!F152,0)+IF(ISNUMBER(CSVデータ2!F152),CSVデータ2!F152,0)+IF(ISNUMBER(CSVデータ3!F152),CSVデータ3!F152,0)+IF(ISNUMBER(CSVデータ4!F152),CSVデータ4!F152,0)","v":0},null,{"$f":"IF(ISNUMBER(CSVデータ1!H152),CSVデータ1!H152,0)+IF(ISNUMBER(CSVデータ2!H152),CSVデータ2!H152,0)+IF(ISNUMBER(CSVデータ3!H152),CSVデータ3!H152,0)+IF(ISNUMBER(CSVデータ4!H152),CSVデータ4!H152,0)","v":0},null,{"$f":"IF(ISNUMBER(CSVデータ1!J152),CSVデータ1!J152,0)+IF(ISNUMBER(CSVデータ2!J152),CSVデータ2!J152,0)+IF(ISNUMBER(CSVデータ3!J152),CSVデータ3!J152,0)+IF(ISNUMBER(CSVデータ4!J152),CSVデータ4!J152,0)","v":0},null,{"$f":"IF(ISNUMBER(CSVデータ1!L152),CSVデータ1!L152,0)+IF(ISNUMBER(CSVデータ2!L152),CSVデータ2!L152,0)+IF(ISNUMBER(CSVデータ3!L152),CSVデータ3!L152,0)+IF(ISNUMBER(CSVデータ4!L152),CSVデータ4!L152,0)","v":0},null,{"$f":"IF(ISNUMBER(CSVデータ1!N152),CSVデータ1!N152,0)+IF(ISNUMBER(CSVデータ2!N152),CSVデータ2!N152,0)+IF(ISNUMBER(CSVデータ3!N152),CSVデータ3!N152,0)+IF(ISNUMBER(CSVデータ4!N152),CSVデータ4!N152,0)","v":0},null,{"$f":"IF(ISNUMBER(CSVデータ1!P152),CSVデータ1!P152,0)+IF(ISNUMBER(CSVデータ2!P152),CSVデータ2!P152,0)+IF(ISNUMBER(CSVデータ3!P152),CSVデータ3!P152,0)+IF(ISNUMBER(CSVデータ4!P152),CSVデータ4!P152,0)","v":0},null,{"$f":"IF(ISNUMBER(CSVデータ1!R152),CSVデータ1!R152,0)+IF(ISNUMBER(CSVデータ2!R152),CSVデータ2!R152,0)+IF(ISNUMBER(CSVデータ3!R152),CSVデータ3!R152,0)+IF(ISNUMBER(CSVデータ4!R152),CSVデータ4!R152,0)","v":0},null,{"$f":"IF(ISNUMBER(CSVデータ1!T152),CSVデータ1!T152,0)+IF(ISNUMBER(CSVデータ2!T152),CSVデータ2!T152,0)+IF(ISNUMBER(CSVデータ3!T152),CSVデータ3!T152,0)+IF(ISNUMBER(CSVデータ4!T152),CSVデータ4!T152,0)","v":0},null,{"$f":"IF(ISNUMBER(CSVデータ1!V152),CSVデータ1!V152,0)+IF(ISNUMBER(CSVデータ2!V152),CSVデータ2!V152,0)+IF(ISNUMBER(CSVデータ3!V152),CSVデータ3!V152,0)+IF(ISNUMBER(CSVデータ4!V152),CSVデータ4!V152,0)","v":0},null,{"$f":"IF(ISNUMBER(CSVデータ1!X152),CSVデータ1!X152,0)+IF(ISNUMBER(CSVデータ2!X152),CSVデータ2!X152,0)+IF(ISNUMBER(CSVデータ3!X152),CSVデータ3!X152,0)+IF(ISNUMBER(CSVデータ4!X152),CSVデータ4!X152,0)","v":0},null,{"$f":"IF(ISNUMBER(CSVデータ1!Z152),CSVデータ1!Z152,0)+IF(ISNUMBER(CSVデータ2!Z152),CSVデータ2!Z152,0)+IF(ISNUMBER(CSVデータ3!Z152),CSVデータ3!Z152,0)+IF(ISNUMBER(CSVデータ4!Z152),CSVデータ4!Z152,0)","v":0},null,{"$f":"IF(ISNUMBER(CSVデータ1!AB152),CSVデータ1!AB152,0)+IF(ISNUMBER(CSVデータ2!AB152),CSVデータ2!AB152,0)+IF(ISNUMBER(CSVデータ3!AB152),CSVデータ3!AB152,0)+IF(ISNUMBER(CSVデータ4!AB152),CSVデータ4!AB152,0)","v":0},null,{"$f":"IF(ISNUMBER(CSVデータ1!AD152),CSVデータ1!AD152,0)+IF(ISNUMBER(CSVデータ2!AD152),CSVデータ2!AD152,0)+IF(ISNUMBER(CSVデータ3!AD152),CSVデータ3!AD152,0)+IF(ISNUMBER(CSVデータ4!AD152),CSVデータ4!AD152,0)","v":0},null,{"$f":"IF(ISNUMBER(CSVデータ1!AF152),CSVデータ1!AF152,0)+IF(ISNUMBER(CSVデータ2!AF152),CSVデータ2!AF152,0)+IF(ISNUMBER(CSVデータ3!AF152),CSVデータ3!AF152,0)+IF(ISNUMBER(CSVデータ4!AF152),CSVデータ4!AF152,0)","v":0},null,{"$f":"IF(ISNUMBER(CSVデータ1!AH152),CSVデータ1!AH152,0)+IF(ISNUMBER(CSVデータ2!AH152),CSVデータ2!AH152,0)+IF(ISNUMBER(CSVデータ3!AH152),CSVデータ3!AH152,0)+IF(ISNUMBER(CSVデータ4!AH152),CSVデータ4!AH152,0)","v":0},null,{"$f":"IF(ISNUMBER(CSVデータ1!AJ152),CSVデータ1!AJ152,0)+IF(ISNUMBER(CSVデータ2!AJ152),CSVデータ2!AJ152,0)+IF(ISNUMBER(CSVデータ3!AJ152),CSVデータ3!AJ152,0)+IF(ISNUMBER(CSVデータ4!AJ152),CSVデータ4!AJ152,0)","v":0},null,{"$f":"IF(ISNUMBER(CSVデータ1!AL152),CSVデータ1!AL152,0)+IF(ISNUMBER(CSVデータ2!AL152),CSVデータ2!AL152,0)+IF(ISNUMBER(CSVデータ3!AL152),CSVデータ3!AL152,0)+IF(ISNUMBER(CSVデータ4!AL152),CSVデータ4!AL152,0)","v":0},null,{"$f":"IF(ISNUMBER(CSVデータ1!AN152),CSVデータ1!AN152,0)+IF(ISNUMBER(CSVデータ2!AN152),CSVデータ2!AN152,0)+IF(ISNUMBER(CSVデータ3!AN152),CSVデータ3!AN152,0)+IF(ISNUMBER(CSVデータ4!AN152),CSVデータ4!AN152,0)","v":0}]
[{"$f":"CSVデータ1!A153","v":"明細部"},{"$f":"CSVデータ1!B153","v":"保険者（地区）"},{"$f":"CSVデータ1!C153","v":49},{"$f":"CSVデータ1!D153","v":"男"},{"$f":"IF(ISNUMBER(CSVデータ1!E153),CSVデータ1!E153,0)+IF(ISNUMBER(CSVデータ2!E153),CSVデータ2!E153,0)+IF(ISNUMBER(CSVデータ3!E153),CSVデータ3!E153,0)+IF(ISNUMBER(CSVデータ4!E153),CSVデータ4!E153,0)","v":0},{"$f":"IF(ISNUMBER(CSVデータ1!F153),CSVデータ1!F153,0)+IF(ISNUMBER(CSVデータ2!F153),CSVデータ2!F153,0)+IF(ISNUMBER(CSVデータ3!F153),CSVデータ3!F153,0)+IF(ISNUMBER(CSVデータ4!F153),CSVデータ4!F153,0)","v":0},null,{"$f":"IF(ISNUMBER(CSVデータ1!H153),CSVデータ1!H153,0)+IF(ISNUMBER(CSVデータ2!H153),CSVデータ2!H153,0)+IF(ISNUMBER(CSVデータ3!H153),CSVデータ3!H153,0)+IF(ISNUMBER(CSVデータ4!H153),CSVデータ4!H153,0)","v":0},null,{"$f":"IF(ISNUMBER(CSVデータ1!J153),CSVデータ1!J153,0)+IF(ISNUMBER(CSVデータ2!J153),CSVデータ2!J153,0)+IF(ISNUMBER(CSVデータ3!J153),CSVデータ3!J153,0)+IF(ISNUMBER(CSVデータ4!J153),CSVデータ4!J153,0)","v":0},null,{"$f":"IF(ISNUMBER(CSVデータ1!L153),CSVデータ1!L153,0)+IF(ISNUMBER(CSVデータ2!L153),CSVデータ2!L153,0)+IF(ISNUMBER(CSVデータ3!L153),CSVデータ3!L153,0)+IF(ISNUMBER(CSVデータ4!L153),CSVデータ4!L153,0)","v":0},null,{"$f":"IF(ISNUMBER(CSVデータ1!N153),CSVデータ1!N153,0)+IF(ISNUMBER(CSVデータ2!N153),CSVデータ2!N153,0)+IF(ISNUMBER(CSVデータ3!N153),CSVデータ3!N153,0)+IF(ISNUMBER(CSVデータ4!N153),CSVデータ4!N153,0)","v":0},null,{"$f":"IF(ISNUMBER(CSVデータ1!P153),CSVデータ1!P153,0)+IF(ISNUMBER(CSVデータ2!P153),CSVデータ2!P153,0)+IF(ISNUMBER(CSVデータ3!P153),CSVデータ3!P153,0)+IF(ISNUMBER(CSVデータ4!P153),CSVデータ4!P153,0)","v":0},null,{"$f":"IF(ISNUMBER(CSVデータ1!R153),CSVデータ1!R153,0)+IF(ISNUMBER(CSVデータ2!R153),CSVデータ2!R153,0)+IF(ISNUMBER(CSVデータ3!R153),CSVデータ3!R153,0)+IF(ISNUMBER(CSVデータ4!R153),CSVデータ4!R153,0)","v":0},null,{"$f":"IF(ISNUMBER(CSVデータ1!T153),CSVデータ1!T153,0)+IF(ISNUMBER(CSVデータ2!T153),CSVデータ2!T153,0)+IF(ISNUMBER(CSVデータ3!T153),CSVデータ3!T153,0)+IF(ISNUMBER(CSVデータ4!T153),CSVデータ4!T153,0)","v":0},null,{"$f":"IF(ISNUMBER(CSVデータ1!V153),CSVデータ1!V153,0)+IF(ISNUMBER(CSVデータ2!V153),CSVデータ2!V153,0)+IF(ISNUMBER(CSVデータ3!V153),CSVデータ3!V153,0)+IF(ISNUMBER(CSVデータ4!V153),CSVデータ4!V153,0)","v":0},null,{"$f":"IF(ISNUMBER(CSVデータ1!X153),CSVデータ1!X153,0)+IF(ISNUMBER(CSVデータ2!X153),CSVデータ2!X153,0)+IF(ISNUMBER(CSVデータ3!X153),CSVデータ3!X153,0)+IF(ISNUMBER(CSVデータ4!X153),CSVデータ4!X153,0)","v":0},null,{"$f":"IF(ISNUMBER(CSVデータ1!Z153),CSVデータ1!Z153,0)+IF(ISNUMBER(CSVデータ2!Z153),CSVデータ2!Z153,0)+IF(ISNUMBER(CSVデータ3!Z153),CSVデータ3!Z153,0)+IF(ISNUMBER(CSVデータ4!Z153),CSVデータ4!Z153,0)","v":0},null,{"$f":"IF(ISNUMBER(CSVデータ1!AB153),CSVデータ1!AB153,0)+IF(ISNUMBER(CSVデータ2!AB153),CSVデータ2!AB153,0)+IF(ISNUMBER(CSVデータ3!AB153),CSVデータ3!AB153,0)+IF(ISNUMBER(CSVデータ4!AB153),CSVデータ4!AB153,0)","v":0},null,{"$f":"IF(ISNUMBER(CSVデータ1!AD153),CSVデータ1!AD153,0)+IF(ISNUMBER(CSVデータ2!AD153),CSVデータ2!AD153,0)+IF(ISNUMBER(CSVデータ3!AD153),CSVデータ3!AD153,0)+IF(ISNUMBER(CSVデータ4!AD153),CSVデータ4!AD153,0)","v":0},null,{"$f":"IF(ISNUMBER(CSVデータ1!AF153),CSVデータ1!AF153,0)+IF(ISNUMBER(CSVデータ2!AF153),CSVデータ2!AF153,0)+IF(ISNUMBER(CSVデータ3!AF153),CSVデータ3!AF153,0)+IF(ISNUMBER(CSVデータ4!AF153),CSVデータ4!AF153,0)","v":0},null,{"$f":"IF(ISNUMBER(CSVデータ1!AH153),CSVデータ1!AH153,0)+IF(ISNUMBER(CSVデータ2!AH153),CSVデータ2!AH153,0)+IF(ISNUMBER(CSVデータ3!AH153),CSVデータ3!AH153,0)+IF(ISNUMBER(CSVデータ4!AH153),CSVデータ4!AH153,0)","v":0},null,{"$f":"IF(ISNUMBER(CSVデータ1!AJ153),CSVデータ1!AJ153,0)+IF(ISNUMBER(CSVデータ2!AJ153),CSVデータ2!AJ153,0)+IF(ISNUMBER(CSVデータ3!AJ153),CSVデータ3!AJ153,0)+IF(ISNUMBER(CSVデータ4!AJ153),CSVデータ4!AJ153,0)","v":0},null,{"$f":"IF(ISNUMBER(CSVデータ1!AL153),CSVデータ1!AL153,0)+IF(ISNUMBER(CSVデータ2!AL153),CSVデータ2!AL153,0)+IF(ISNUMBER(CSVデータ3!AL153),CSVデータ3!AL153,0)+IF(ISNUMBER(CSVデータ4!AL153),CSVデータ4!AL153,0)","v":0},null,{"$f":"IF(ISNUMBER(CSVデータ1!AN153),CSVデータ1!AN153,0)+IF(ISNUMBER(CSVデータ2!AN153),CSVデータ2!AN153,0)+IF(ISNUMBER(CSVデータ3!AN153),CSVデータ3!AN153,0)+IF(ISNUMBER(CSVデータ4!AN153),CSVデータ4!AN153,0)","v":0}]
[{"$f":"CSVデータ1!A154","v":"明細部"},{"$f":"CSVデータ1!B154","v":"保険者（地区）"},{"$f":"CSVデータ1!C154","v":50},{"$f":"CSVデータ1!D154","v":"男"},{"$f":"IF(ISNUMBER(CSVデータ1!E154),CSVデータ1!E154,0)+IF(ISNUMBER(CSVデータ2!E154),CSVデータ2!E154,0)+IF(ISNUMBER(CSVデータ3!E154),CSVデータ3!E154,0)+IF(ISNUMBER(CSVデータ4!E154),CSVデータ4!E154,0)","v":0},{"$f":"IF(ISNUMBER(CSVデータ1!F154),CSVデータ1!F154,0)+IF(ISNUMBER(CSVデータ2!F154),CSVデータ2!F154,0)+IF(ISNUMBER(CSVデータ3!F154),CSVデータ3!F154,0)+IF(ISNUMBER(CSVデータ4!F154),CSVデータ4!F154,0)","v":0},null,{"$f":"IF(ISNUMBER(CSVデータ1!H154),CSVデータ1!H154,0)+IF(ISNUMBER(CSVデータ2!H154),CSVデータ2!H154,0)+IF(ISNUMBER(CSVデータ3!H154),CSVデータ3!H154,0)+IF(ISNUMBER(CSVデータ4!H154),CSVデータ4!H154,0)","v":0},null,{"$f":"IF(ISNUMBER(CSVデータ1!J154),CSVデータ1!J154,0)+IF(ISNUMBER(CSVデータ2!J154),CSVデータ2!J154,0)+IF(ISNUMBER(CSVデータ3!J154),CSVデータ3!J154,0)+IF(ISNUMBER(CSVデータ4!J154),CSVデータ4!J154,0)","v":0},null,{"$f":"IF(ISNUMBER(CSVデータ1!L154),CSVデータ1!L154,0)+IF(ISNUMBER(CSVデータ2!L154),CSVデータ2!L154,0)+IF(ISNUMBER(CSVデータ3!L154),CSVデータ3!L154,0)+IF(ISNUMBER(CSVデータ4!L154),CSVデータ4!L154,0)","v":0},null,{"$f":"IF(ISNUMBER(CSVデータ1!N154),CSVデータ1!N154,0)+IF(ISNUMBER(CSVデータ2!N154),CSVデータ2!N154,0)+IF(ISNUMBER(CSVデータ3!N154),CSVデータ3!N154,0)+IF(ISNUMBER(CSVデータ4!N154),CSVデータ4!N154,0)","v":0},null,{"$f":"IF(ISNUMBER(CSVデータ1!P154),CSVデータ1!P154,0)+IF(ISNUMBER(CSVデータ2!P154),CSVデータ2!P154,0)+IF(ISNUMBER(CSVデータ3!P154),CSVデータ3!P154,0)+IF(ISNUMBER(CSVデータ4!P154),CSVデータ4!P154,0)","v":0},null,{"$f":"IF(ISNUMBER(CSVデータ1!R154),CSVデータ1!R154,0)+IF(ISNUMBER(CSVデータ2!R154),CSVデータ2!R154,0)+IF(ISNUMBER(CSVデータ3!R154),CSVデータ3!R154,0)+IF(ISNUMBER(CSVデータ4!R154),CSVデータ4!R154,0)","v":0},null,{"$f":"IF(ISNUMBER(CSVデータ1!T154),CSVデータ1!T154,0)+IF(ISNUMBER(CSVデータ2!T154),CSVデータ2!T154,0)+IF(ISNUMBER(CSVデータ3!T154),CSVデータ3!T154,0)+IF(ISNUMBER(CSVデータ4!T154),CSVデータ4!T154,0)","v":0},null,{"$f":"IF(ISNUMBER(CSVデータ1!V154),CSVデータ1!V154,0)+IF(ISNUMBER(CSVデータ2!V154),CSVデータ2!V154,0)+IF(ISNUMBER(CSVデータ3!V154),CSVデータ3!V154,0)+IF(ISNUMBER(CSVデータ4!V154),CSVデータ4!V154,0)","v":0},null,{"$f":"IF(ISNUMBER(CSVデータ1!X154),CSVデータ1!X154,0)+IF(ISNUMBER(CSVデータ2!X154),CSVデータ2!X154,0)+IF(ISNUMBER(CSVデータ3!X154),CSVデータ3!X154,0)+IF(ISNUMBER(CSVデータ4!X154),CSVデータ4!X154,0)","v":0},null,{"$f":"IF(ISNUMBER(CSVデータ1!Z154),CSVデータ1!Z154,0)+IF(ISNUMBER(CSVデータ2!Z154),CSVデータ2!Z154,0)+IF(ISNUMBER(CSVデータ3!Z154),CSVデータ3!Z154,0)+IF(ISNUMBER(CSVデータ4!Z154),CSVデータ4!Z154,0)","v":0},null,{"$f":"IF(ISNUMBER(CSVデータ1!AB154),CSVデータ1!AB154,0)+IF(ISNUMBER(CSVデータ2!AB154),CSVデータ2!AB154,0)+IF(ISNUMBER(CSVデータ3!AB154),CSVデータ3!AB154,0)+IF(ISNUMBER(CSVデータ4!AB154),CSVデータ4!AB154,0)","v":0},null,{"$f":"IF(ISNUMBER(CSVデータ1!AD154),CSVデータ1!AD154,0)+IF(ISNUMBER(CSVデータ2!AD154),CSVデータ2!AD154,0)+IF(ISNUMBER(CSVデータ3!AD154),CSVデータ3!AD154,0)+IF(ISNUMBER(CSVデータ4!AD154),CSVデータ4!AD154,0)","v":0},null,{"$f":"IF(ISNUMBER(CSVデータ1!AF154),CSVデータ1!AF154,0)+IF(ISNUMBER(CSVデータ2!AF154),CSVデータ2!AF154,0)+IF(ISNUMBER(CSVデータ3!AF154),CSVデータ3!AF154,0)+IF(ISNUMBER(CSVデータ4!AF154),CSVデータ4!AF154,0)","v":0},null,{"$f":"IF(ISNUMBER(CSVデータ1!AH154),CSVデータ1!AH154,0)+IF(ISNUMBER(CSVデータ2!AH154),CSVデータ2!AH154,0)+IF(ISNUMBER(CSVデータ3!AH154),CSVデータ3!AH154,0)+IF(ISNUMBER(CSVデータ4!AH154),CSVデータ4!AH154,0)","v":0},null,{"$f":"IF(ISNUMBER(CSVデータ1!AJ154),CSVデータ1!AJ154,0)+IF(ISNUMBER(CSVデータ2!AJ154),CSVデータ2!AJ154,0)+IF(ISNUMBER(CSVデータ3!AJ154),CSVデータ3!AJ154,0)+IF(ISNUMBER(CSVデータ4!AJ154),CSVデータ4!AJ154,0)","v":0},null,{"$f":"IF(ISNUMBER(CSVデータ1!AL154),CSVデータ1!AL154,0)+IF(ISNUMBER(CSVデータ2!AL154),CSVデータ2!AL154,0)+IF(ISNUMBER(CSVデータ3!AL154),CSVデータ3!AL154,0)+IF(ISNUMBER(CSVデータ4!AL154),CSVデータ4!AL154,0)","v":0},null,{"$f":"IF(ISNUMBER(CSVデータ1!AN154),CSVデータ1!AN154,0)+IF(ISNUMBER(CSVデータ2!AN154),CSVデータ2!AN154,0)+IF(ISNUMBER(CSVデータ3!AN154),CSVデータ3!AN154,0)+IF(ISNUMBER(CSVデータ4!AN154),CSVデータ4!AN154,0)","v":0}]
[{"$f":"CSVデータ1!A155","v":"明細部"},{"$f":"CSVデータ1!B155","v":"保険者（地区）"},{"$f":"CSVデータ1!C155","v":51},{"$f":"CSVデータ1!D155","v":"男"},{"$f":"IF(ISNUMBER(CSVデータ1!E155),CSVデータ1!E155,0)+IF(ISNUMBER(CSVデータ2!E155),CSVデータ2!E155,0)+IF(ISNUMBER(CSVデータ3!E155),CSVデータ3!E155,0)+IF(ISNUMBER(CSVデータ4!E155),CSVデータ4!E155,0)","v":0},{"$f":"IF(ISNUMBER(CSVデータ1!F155),CSVデータ1!F155,0)+IF(ISNUMBER(CSVデータ2!F155),CSVデータ2!F155,0)+IF(ISNUMBER(CSVデータ3!F155),CSVデータ3!F155,0)+IF(ISNUMBER(CSVデータ4!F155),CSVデータ4!F155,0)","v":0},null,{"$f":"IF(ISNUMBER(CSVデータ1!H155),CSVデータ1!H155,0)+IF(ISNUMBER(CSVデータ2!H155),CSVデータ2!H155,0)+IF(ISNUMBER(CSVデータ3!H155),CSVデータ3!H155,0)+IF(ISNUMBER(CSVデータ4!H155),CSVデータ4!H155,0)","v":0},null,{"$f":"IF(ISNUMBER(CSVデータ1!J155),CSVデータ1!J155,0)+IF(ISNUMBER(CSVデータ2!J155),CSVデータ2!J155,0)+IF(ISNUMBER(CSVデータ3!J155),CSVデータ3!J155,0)+IF(ISNUMBER(CSVデータ4!J155),CSVデータ4!J155,0)","v":0},null,{"$f":"IF(ISNUMBER(CSVデータ1!L155),CSVデータ1!L155,0)+IF(ISNUMBER(CSVデータ2!L155),CSVデータ2!L155,0)+IF(ISNUMBER(CSVデータ3!L155),CSVデータ3!L155,0)+IF(ISNUMBER(CSVデータ4!L155),CSVデータ4!L155,0)","v":0},null,{"$f":"IF(ISNUMBER(CSVデータ1!N155),CSVデータ1!N155,0)+IF(ISNUMBER(CSVデータ2!N155),CSVデータ2!N155,0)+IF(ISNUMBER(CSVデータ3!N155),CSVデータ3!N155,0)+IF(ISNUMBER(CSVデータ4!N155),CSVデータ4!N155,0)","v":0},null,{"$f":"IF(ISNUMBER(CSVデータ1!P155),CSVデータ1!P155,0)+IF(ISNUMBER(CSVデータ2!P155),CSVデータ2!P155,0)+IF(ISNUMBER(CSVデータ3!P155),CSVデータ3!P155,0)+IF(ISNUMBER(CSVデータ4!P155),CSVデータ4!P155,0)","v":0},null,{"$f":"IF(ISNUMBER(CSVデータ1!R155),CSVデータ1!R155,0)+IF(ISNUMBER(CSVデータ2!R155),CSVデータ2!R155,0)+IF(ISNUMBER(CSVデータ3!R155),CSVデータ3!R155,0)+IF(ISNUMBER(CSVデータ4!R155),CSVデータ4!R155,0)","v":0},null,{"$f":"IF(ISNUMBER(CSVデータ1!T155),CSVデータ1!T155,0)+IF(ISNUMBER(CSVデータ2!T155),CSVデータ2!T155,0)+IF(ISNUMBER(CSVデータ3!T155),CSVデータ3!T155,0)+IF(ISNUMBER(CSVデータ4!T155),CSVデータ4!T155,0)","v":0},null,{"$f":"IF(ISNUMBER(CSVデータ1!V155),CSVデータ1!V155,0)+IF(ISNUMBER(CSVデータ2!V155),CSVデータ2!V155,0)+IF(ISNUMBER(CSVデータ3!V155),CSVデータ3!V155,0)+IF(ISNUMBER(CSVデータ4!V155),CSVデータ4!V155,0)","v":0},null,{"$f":"IF(ISNUMBER(CSVデータ1!X155),CSVデータ1!X155,0)+IF(ISNUMBER(CSVデータ2!X155),CSVデータ2!X155,0)+IF(ISNUMBER(CSVデータ3!X155),CSVデータ3!X155,0)+IF(ISNUMBER(CSVデータ4!X155),CSVデータ4!X155,0)","v":0},null,{"$f":"IF(ISNUMBER(CSVデータ1!Z155),CSVデータ1!Z155,0)+IF(ISNUMBER(CSVデータ2!Z155),CSVデータ2!Z155,0)+IF(ISNUMBER(CSVデータ3!Z155),CSVデータ3!Z155,0)+IF(ISNUMBER(CSVデータ4!Z155),CSVデータ4!Z155,0)","v":0},null,{"$f":"IF(ISNUMBER(CSVデータ1!AB155),CSVデータ1!AB155,0)+IF(ISNUMBER(CSVデータ2!AB155),CSVデータ2!AB155,0)+IF(ISNUMBER(CSVデータ3!AB155),CSVデータ3!AB155,0)+IF(ISNUMBER(CSVデータ4!AB155),CSVデータ4!AB155,0)","v":0},null,{"$f":"IF(ISNUMBER(CSVデータ1!AD155),CSVデータ1!AD155,0)+IF(ISNUMBER(CSVデータ2!AD155),CSVデータ2!AD155,0)+IF(ISNUMBER(CSVデータ3!AD155),CSVデータ3!AD155,0)+IF(ISNUMBER(CSVデータ4!AD155),CSVデータ4!AD155,0)","v":0},null,{"$f":"IF(ISNUMBER(CSVデータ1!AF155),CSVデータ1!AF155,0)+IF(ISNUMBER(CSVデータ2!AF155),CSVデータ2!AF155,0)+IF(ISNUMBER(CSVデータ3!AF155),CSVデータ3!AF155,0)+IF(ISNUMBER(CSVデータ4!AF155),CSVデータ4!AF155,0)","v":0},null,{"$f":"IF(ISNUMBER(CSVデータ1!AH155),CSVデータ1!AH155,0)+IF(ISNUMBER(CSVデータ2!AH155),CSVデータ2!AH155,0)+IF(ISNUMBER(CSVデータ3!AH155),CSVデータ3!AH155,0)+IF(ISNUMBER(CSVデータ4!AH155),CSVデータ4!AH155,0)","v":0},null,{"$f":"IF(ISNUMBER(CSVデータ1!AJ155),CSVデータ1!AJ155,0)+IF(ISNUMBER(CSVデータ2!AJ155),CSVデータ2!AJ155,0)+IF(ISNUMBER(CSVデータ3!AJ155),CSVデータ3!AJ155,0)+IF(ISNUMBER(CSVデータ4!AJ155),CSVデータ4!AJ155,0)","v":0},null,{"$f":"IF(ISNUMBER(CSVデータ1!AL155),CSVデータ1!AL155,0)+IF(ISNUMBER(CSVデータ2!AL155),CSVデータ2!AL155,0)+IF(ISNUMBER(CSVデータ3!AL155),CSVデータ3!AL155,0)+IF(ISNUMBER(CSVデータ4!AL155),CSVデータ4!AL155,0)","v":0},null,{"$f":"IF(ISNUMBER(CSVデータ1!AN155),CSVデータ1!AN155,0)+IF(ISNUMBER(CSVデータ2!AN155),CSVデータ2!AN155,0)+IF(ISNUMBER(CSVデータ3!AN155),CSVデータ3!AN155,0)+IF(ISNUMBER(CSVデータ4!AN155),CSVデータ4!AN155,0)","v":0}]
[{"$f":"CSVデータ1!A156","v":"明細部"},{"$f":"CSVデータ1!B156","v":"保険者（地区）"},{"$f":"CSVデータ1!C156","v":52},{"$f":"CSVデータ1!D156","v":"男"},{"$f":"IF(ISNUMBER(CSVデータ1!E156),CSVデータ1!E156,0)+IF(ISNUMBER(CSVデータ2!E156),CSVデータ2!E156,0)+IF(ISNUMBER(CSVデータ3!E156),CSVデータ3!E156,0)+IF(ISNUMBER(CSVデータ4!E156),CSVデータ4!E156,0)","v":0},{"$f":"IF(ISNUMBER(CSVデータ1!F156),CSVデータ1!F156,0)+IF(ISNUMBER(CSVデータ2!F156),CSVデータ2!F156,0)+IF(ISNUMBER(CSVデータ3!F156),CSVデータ3!F156,0)+IF(ISNUMBER(CSVデータ4!F156),CSVデータ4!F156,0)","v":0},null,{"$f":"IF(ISNUMBER(CSVデータ1!H156),CSVデータ1!H156,0)+IF(ISNUMBER(CSVデータ2!H156),CSVデータ2!H156,0)+IF(ISNUMBER(CSVデータ3!H156),CSVデータ3!H156,0)+IF(ISNUMBER(CSVデータ4!H156),CSVデータ4!H156,0)","v":0},null,{"$f":"IF(ISNUMBER(CSVデータ1!J156),CSVデータ1!J156,0)+IF(ISNUMBER(CSVデータ2!J156),CSVデータ2!J156,0)+IF(ISNUMBER(CSVデータ3!J156),CSVデータ3!J156,0)+IF(ISNUMBER(CSVデータ4!J156),CSVデータ4!J156,0)","v":0},null,{"$f":"IF(ISNUMBER(CSVデータ1!L156),CSVデータ1!L156,0)+IF(ISNUMBER(CSVデータ2!L156),CSVデータ2!L156,0)+IF(ISNUMBER(CSVデータ3!L156),CSVデータ3!L156,0)+IF(ISNUMBER(CSVデータ4!L156),CSVデータ4!L156,0)","v":0},null,{"$f":"IF(ISNUMBER(CSVデータ1!N156),CSVデータ1!N156,0)+IF(ISNUMBER(CSVデータ2!N156),CSVデータ2!N156,0)+IF(ISNUMBER(CSVデータ3!N156),CSVデータ3!N156,0)+IF(ISNUMBER(CSVデータ4!N156),CSVデータ4!N156,0)","v":0},null,{"$f":"IF(ISNUMBER(CSVデータ1!P156),CSVデータ1!P156,0)+IF(ISNUMBER(CSVデータ2!P156),CSVデータ2!P156,0)+IF(ISNUMBER(CSVデータ3!P156),CSVデータ3!P156,0)+IF(ISNUMBER(CSVデータ4!P156),CSVデータ4!P156,0)","v":0},null,{"$f":"IF(ISNUMBER(CSVデータ1!R156),CSVデータ1!R156,0)+IF(ISNUMBER(CSVデータ2!R156),CSVデータ2!R156,0)+IF(ISNUMBER(CSVデータ3!R156),CSVデータ3!R156,0)+IF(ISNUMBER(CSVデータ4!R156),CSVデータ4!R156,0)","v":0},null,{"$f":"IF(ISNUMBER(CSVデータ1!T156),CSVデータ1!T156,0)+IF(ISNUMBER(CSVデータ2!T156),CSVデータ2!T156,0)+IF(ISNUMBER(CSVデータ3!T156),CSVデータ3!T156,0)+IF(ISNUMBER(CSVデータ4!T156),CSVデータ4!T156,0)","v":0},null,{"$f":"IF(ISNUMBER(CSVデータ1!V156),CSVデータ1!V156,0)+IF(ISNUMBER(CSVデータ2!V156),CSVデータ2!V156,0)+IF(ISNUMBER(CSVデータ3!V156),CSVデータ3!V156,0)+IF(ISNUMBER(CSVデータ4!V156),CSVデータ4!V156,0)","v":0},null,{"$f":"IF(ISNUMBER(CSVデータ1!X156),CSVデータ1!X156,0)+IF(ISNUMBER(CSVデータ2!X156),CSVデータ2!X156,0)+IF(ISNUMBER(CSVデータ3!X156),CSVデータ3!X156,0)+IF(ISNUMBER(CSVデータ4!X156),CSVデータ4!X156,0)","v":0},null,{"$f":"IF(ISNUMBER(CSVデータ1!Z156),CSVデータ1!Z156,0)+IF(ISNUMBER(CSVデータ2!Z156),CSVデータ2!Z156,0)+IF(ISNUMBER(CSVデータ3!Z156),CSVデータ3!Z156,0)+IF(ISNUMBER(CSVデータ4!Z156),CSVデータ4!Z156,0)","v":0},null,{"$f":"IF(ISNUMBER(CSVデータ1!AB156),CSVデータ1!AB156,0)+IF(ISNUMBER(CSVデータ2!AB156),CSVデータ2!AB156,0)+IF(ISNUMBER(CSVデータ3!AB156),CSVデータ3!AB156,0)+IF(ISNUMBER(CSVデータ4!AB156),CSVデータ4!AB156,0)","v":0},null,{"$f":"IF(ISNUMBER(CSVデータ1!AD156),CSVデータ1!AD156,0)+IF(ISNUMBER(CSVデータ2!AD156),CSVデータ2!AD156,0)+IF(ISNUMBER(CSVデータ3!AD156),CSVデータ3!AD156,0)+IF(ISNUMBER(CSVデータ4!AD156),CSVデータ4!AD156,0)","v":0},null,{"$f":"IF(ISNUMBER(CSVデータ1!AF156),CSVデータ1!AF156,0)+IF(ISNUMBER(CSVデータ2!AF156),CSVデータ2!AF156,0)+IF(ISNUMBER(CSVデータ3!AF156),CSVデータ3!AF156,0)+IF(ISNUMBER(CSVデータ4!AF156),CSVデータ4!AF156,0)","v":0},null,{"$f":"IF(ISNUMBER(CSVデータ1!AH156),CSVデータ1!AH156,0)+IF(ISNUMBER(CSVデータ2!AH156),CSVデータ2!AH156,0)+IF(ISNUMBER(CSVデータ3!AH156),CSVデータ3!AH156,0)+IF(ISNUMBER(CSVデータ4!AH156),CSVデータ4!AH156,0)","v":0},null,{"$f":"IF(ISNUMBER(CSVデータ1!AJ156),CSVデータ1!AJ156,0)+IF(ISNUMBER(CSVデータ2!AJ156),CSVデータ2!AJ156,0)+IF(ISNUMBER(CSVデータ3!AJ156),CSVデータ3!AJ156,0)+IF(ISNUMBER(CSVデータ4!AJ156),CSVデータ4!AJ156,0)","v":0},null,{"$f":"IF(ISNUMBER(CSVデータ1!AL156),CSVデータ1!AL156,0)+IF(ISNUMBER(CSVデータ2!AL156),CSVデータ2!AL156,0)+IF(ISNUMBER(CSVデータ3!AL156),CSVデータ3!AL156,0)+IF(ISNUMBER(CSVデータ4!AL156),CSVデータ4!AL156,0)","v":0},null,{"$f":"IF(ISNUMBER(CSVデータ1!AN156),CSVデータ1!AN156,0)+IF(ISNUMBER(CSVデータ2!AN156),CSVデータ2!AN156,0)+IF(ISNUMBER(CSVデータ3!AN156),CSVデータ3!AN156,0)+IF(ISNUMBER(CSVデータ4!AN156),CSVデータ4!AN156,0)","v":0}]
[{"$f":"CSVデータ1!A157","v":"明細部"},{"$f":"CSVデータ1!B157","v":"保険者（地区）"},{"$f":"CSVデータ1!C157","v":53},{"$f":"CSVデータ1!D157","v":"男"},{"$f":"IF(ISNUMBER(CSVデータ1!E157),CSVデータ1!E157,0)+IF(ISNUMBER(CSVデータ2!E157),CSVデータ2!E157,0)+IF(ISNUMBER(CSVデータ3!E157),CSVデータ3!E157,0)+IF(ISNUMBER(CSVデータ4!E157),CSVデータ4!E157,0)","v":0},{"$f":"IF(ISNUMBER(CSVデータ1!F157),CSVデータ1!F157,0)+IF(ISNUMBER(CSVデータ2!F157),CSVデータ2!F157,0)+IF(ISNUMBER(CSVデータ3!F157),CSVデータ3!F157,0)+IF(ISNUMBER(CSVデータ4!F157),CSVデータ4!F157,0)","v":0},null,{"$f":"IF(ISNUMBER(CSVデータ1!H157),CSVデータ1!H157,0)+IF(ISNUMBER(CSVデータ2!H157),CSVデータ2!H157,0)+IF(ISNUMBER(CSVデータ3!H157),CSVデータ3!H157,0)+IF(ISNUMBER(CSVデータ4!H157),CSVデータ4!H157,0)","v":0},null,{"$f":"IF(ISNUMBER(CSVデータ1!J157),CSVデータ1!J157,0)+IF(ISNUMBER(CSVデータ2!J157),CSVデータ2!J157,0)+IF(ISNUMBER(CSVデータ3!J157),CSVデータ3!J157,0)+IF(ISNUMBER(CSVデータ4!J157),CSVデータ4!J157,0)","v":0},null,{"$f":"IF(ISNUMBER(CSVデータ1!L157),CSVデータ1!L157,0)+IF(ISNUMBER(CSVデータ2!L157),CSVデータ2!L157,0)+IF(ISNUMBER(CSVデータ3!L157),CSVデータ3!L157,0)+IF(ISNUMBER(CSVデータ4!L157),CSVデータ4!L157,0)","v":0},null,{"$f":"IF(ISNUMBER(CSVデータ1!N157),CSVデータ1!N157,0)+IF(ISNUMBER(CSVデータ2!N157),CSVデータ2!N157,0)+IF(ISNUMBER(CSVデータ3!N157),CSVデータ3!N157,0)+IF(ISNUMBER(CSVデータ4!N157),CSVデータ4!N157,0)","v":0},null,{"$f":"IF(ISNUMBER(CSVデータ1!P157),CSVデータ1!P157,0)+IF(ISNUMBER(CSVデータ2!P157),CSVデータ2!P157,0)+IF(ISNUMBER(CSVデータ3!P157),CSVデータ3!P157,0)+IF(ISNUMBER(CSVデータ4!P157),CSVデータ4!P157,0)","v":0},null,{"$f":"IF(ISNUMBER(CSVデータ1!R157),CSVデータ1!R157,0)+IF(ISNUMBER(CSVデータ2!R157),CSVデータ2!R157,0)+IF(ISNUMBER(CSVデータ3!R157),CSVデータ3!R157,0)+IF(ISNUMBER(CSVデータ4!R157),CSVデータ4!R157,0)","v":0},null,{"$f":"IF(ISNUMBER(CSVデータ1!T157),CSVデータ1!T157,0)+IF(ISNUMBER(CSVデータ2!T157),CSVデータ2!T157,0)+IF(ISNUMBER(CSVデータ3!T157),CSVデータ3!T157,0)+IF(ISNUMBER(CSVデータ4!T157),CSVデータ4!T157,0)","v":0},null,{"$f":"IF(ISNUMBER(CSVデータ1!V157),CSVデータ1!V157,0)+IF(ISNUMBER(CSVデータ2!V157),CSVデータ2!V157,0)+IF(ISNUMBER(CSVデータ3!V157),CSVデータ3!V157,0)+IF(ISNUMBER(CSVデータ4!V157),CSVデータ4!V157,0)","v":0},null,{"$f":"IF(ISNUMBER(CSVデータ1!X157),CSVデータ1!X157,0)+IF(ISNUMBER(CSVデータ2!X157),CSVデータ2!X157,0)+IF(ISNUMBER(CSVデータ3!X157),CSVデータ3!X157,0)+IF(ISNUMBER(CSVデータ4!X157),CSVデータ4!X157,0)","v":0},null,{"$f":"IF(ISNUMBER(CSVデータ1!Z157),CSVデータ1!Z157,0)+IF(ISNUMBER(CSVデータ2!Z157),CSVデータ2!Z157,0)+IF(ISNUMBER(CSVデータ3!Z157),CSVデータ3!Z157,0)+IF(ISNUMBER(CSVデータ4!Z157),CSVデータ4!Z157,0)","v":0},null,{"$f":"IF(ISNUMBER(CSVデータ1!AB157),CSVデータ1!AB157,0)+IF(ISNUMBER(CSVデータ2!AB157),CSVデータ2!AB157,0)+IF(ISNUMBER(CSVデータ3!AB157),CSVデータ3!AB157,0)+IF(ISNUMBER(CSVデータ4!AB157),CSVデータ4!AB157,0)","v":0},null,{"$f":"IF(ISNUMBER(CSVデータ1!AD157),CSVデータ1!AD157,0)+IF(ISNUMBER(CSVデータ2!AD157),CSVデータ2!AD157,0)+IF(ISNUMBER(CSVデータ3!AD157),CSVデータ3!AD157,0)+IF(ISNUMBER(CSVデータ4!AD157),CSVデータ4!AD157,0)","v":0},null,{"$f":"IF(ISNUMBER(CSVデータ1!AF157),CSVデータ1!AF157,0)+IF(ISNUMBER(CSVデータ2!AF157),CSVデータ2!AF157,0)+IF(ISNUMBER(CSVデータ3!AF157),CSVデータ3!AF157,0)+IF(ISNUMBER(CSVデータ4!AF157),CSVデータ4!AF157,0)","v":0},null,{"$f":"IF(ISNUMBER(CSVデータ1!AH157),CSVデータ1!AH157,0)+IF(ISNUMBER(CSVデータ2!AH157),CSVデータ2!AH157,0)+IF(ISNUMBER(CSVデータ3!AH157),CSVデータ3!AH157,0)+IF(ISNUMBER(CSVデータ4!AH157),CSVデータ4!AH157,0)","v":0},null,{"$f":"IF(ISNUMBER(CSVデータ1!AJ157),CSVデータ1!AJ157,0)+IF(ISNUMBER(CSVデータ2!AJ157),CSVデータ2!AJ157,0)+IF(ISNUMBER(CSVデータ3!AJ157),CSVデータ3!AJ157,0)+IF(ISNUMBER(CSVデータ4!AJ157),CSVデータ4!AJ157,0)","v":0},null,{"$f":"IF(ISNUMBER(CSVデータ1!AL157),CSVデータ1!AL157,0)+IF(ISNUMBER(CSVデータ2!AL157),CSVデータ2!AL157,0)+IF(ISNUMBER(CSVデータ3!AL157),CSVデータ3!AL157,0)+IF(ISNUMBER(CSVデータ4!AL157),CSVデータ4!AL157,0)","v":0},null,{"$f":"IF(ISNUMBER(CSVデータ1!AN157),CSVデータ1!AN157,0)+IF(ISNUMBER(CSVデータ2!AN157),CSVデータ2!AN157,0)+IF(ISNUMBER(CSVデータ3!AN157),CSVデータ3!AN157,0)+IF(ISNUMBER(CSVデータ4!AN157),CSVデータ4!AN157,0)","v":0}]
[{"$f":"CSVデータ1!A158","v":"明細部"},{"$f":"CSVデータ1!B158","v":"保険者（地区）"},{"$f":"CSVデータ1!C158","v":54},{"$f":"CSVデータ1!D158","v":"男"},{"$f":"IF(ISNUMBER(CSVデータ1!E158),CSVデータ1!E158,0)+IF(ISNUMBER(CSVデータ2!E158),CSVデータ2!E158,0)+IF(ISNUMBER(CSVデータ3!E158),CSVデータ3!E158,0)+IF(ISNUMBER(CSVデータ4!E158),CSVデータ4!E158,0)","v":0},{"$f":"IF(ISNUMBER(CSVデータ1!F158),CSVデータ1!F158,0)+IF(ISNUMBER(CSVデータ2!F158),CSVデータ2!F158,0)+IF(ISNUMBER(CSVデータ3!F158),CSVデータ3!F158,0)+IF(ISNUMBER(CSVデータ4!F158),CSVデータ4!F158,0)","v":0},null,{"$f":"IF(ISNUMBER(CSVデータ1!H158),CSVデータ1!H158,0)+IF(ISNUMBER(CSVデータ2!H158),CSVデータ2!H158,0)+IF(ISNUMBER(CSVデータ3!H158),CSVデータ3!H158,0)+IF(ISNUMBER(CSVデータ4!H158),CSVデータ4!H158,0)","v":0},null,{"$f":"IF(ISNUMBER(CSVデータ1!J158),CSVデータ1!J158,0)+IF(ISNUMBER(CSVデータ2!J158),CSVデータ2!J158,0)+IF(ISNUMBER(CSVデータ3!J158),CSVデータ3!J158,0)+IF(ISNUMBER(CSVデータ4!J158),CSVデータ4!J158,0)","v":0},null,{"$f":"IF(ISNUMBER(CSVデータ1!L158),CSVデータ1!L158,0)+IF(ISNUMBER(CSVデータ2!L158),CSVデータ2!L158,0)+IF(ISNUMBER(CSVデータ3!L158),CSVデータ3!L158,0)+IF(ISNUMBER(CSVデータ4!L158),CSVデータ4!L158,0)","v":0},null,{"$f":"IF(ISNUMBER(CSVデータ1!N158),CSVデータ1!N158,0)+IF(ISNUMBER(CSVデータ2!N158),CSVデータ2!N158,0)+IF(ISNUMBER(CSVデータ3!N158),CSVデータ3!N158,0)+IF(ISNUMBER(CSVデータ4!N158),CSVデータ4!N158,0)","v":0},null,{"$f":"IF(ISNUMBER(CSVデータ1!P158),CSVデータ1!P158,0)+IF(ISNUMBER(CSVデータ2!P158),CSVデータ2!P158,0)+IF(ISNUMBER(CSVデータ3!P158),CSVデータ3!P158,0)+IF(ISNUMBER(CSVデータ4!P158),CSVデータ4!P158,0)","v":0},null,{"$f":"IF(ISNUMBER(CSVデータ1!R158),CSVデータ1!R158,0)+IF(ISNUMBER(CSVデータ2!R158),CSVデータ2!R158,0)+IF(ISNUMBER(CSVデータ3!R158),CSVデータ3!R158,0)+IF(ISNUMBER(CSVデータ4!R158),CSVデータ4!R158,0)","v":0},null,{"$f":"IF(ISNUMBER(CSVデータ1!T158),CSVデータ1!T158,0)+IF(ISNUMBER(CSVデータ2!T158),CSVデータ2!T158,0)+IF(ISNUMBER(CSVデータ3!T158),CSVデータ3!T158,0)+IF(ISNUMBER(CSVデータ4!T158),CSVデータ4!T158,0)","v":0},null,{"$f":"IF(ISNUMBER(CSVデータ1!V158),CSVデータ1!V158,0)+IF(ISNUMBER(CSVデータ2!V158),CSVデータ2!V158,0)+IF(ISNUMBER(CSVデータ3!V158),CSVデータ3!V158,0)+IF(ISNUMBER(CSVデータ4!V158),CSVデータ4!V158,0)","v":0},null,{"$f":"IF(ISNUMBER(CSVデータ1!X158),CSVデータ1!X158,0)+IF(ISNUMBER(CSVデータ2!X158),CSVデータ2!X158,0)+IF(ISNUMBER(CSVデータ3!X158),CSVデータ3!X158,0)+IF(ISNUMBER(CSVデータ4!X158),CSVデータ4!X158,0)","v":0},null,{"$f":"IF(ISNUMBER(CSVデータ1!Z158),CSVデータ1!Z158,0)+IF(ISNUMBER(CSVデータ2!Z158),CSVデータ2!Z158,0)+IF(ISNUMBER(CSVデータ3!Z158),CSVデータ3!Z158,0)+IF(ISNUMBER(CSVデータ4!Z158),CSVデータ4!Z158,0)","v":0},null,{"$f":"IF(ISNUMBER(CSVデータ1!AB158),CSVデータ1!AB158,0)+IF(ISNUMBER(CSVデータ2!AB158),CSVデータ2!AB158,0)+IF(ISNUMBER(CSVデータ3!AB158),CSVデータ3!AB158,0)+IF(ISNUMBER(CSVデータ4!AB158),CSVデータ4!AB158,0)","v":0},null,{"$f":"IF(ISNUMBER(CSVデータ1!AD158),CSVデータ1!AD158,0)+IF(ISNUMBER(CSVデータ2!AD158),CSVデータ2!AD158,0)+IF(ISNUMBER(CSVデータ3!AD158),CSVデータ3!AD158,0)+IF(ISNUMBER(CSVデータ4!AD158),CSVデータ4!AD158,0)","v":0},null,{"$f":"IF(ISNUMBER(CSVデータ1!AF158),CSVデータ1!AF158,0)+IF(ISNUMBER(CSVデータ2!AF158),CSVデータ2!AF158,0)+IF(ISNUMBER(CSVデータ3!AF158),CSVデータ3!AF158,0)+IF(ISNUMBER(CSVデータ4!AF158),CSVデータ4!AF158,0)","v":0},null,{"$f":"IF(ISNUMBER(CSVデータ1!AH158),CSVデータ1!AH158,0)+IF(ISNUMBER(CSVデータ2!AH158),CSVデータ2!AH158,0)+IF(ISNUMBER(CSVデータ3!AH158),CSVデータ3!AH158,0)+IF(ISNUMBER(CSVデータ4!AH158),CSVデータ4!AH158,0)","v":0},null,{"$f":"IF(ISNUMBER(CSVデータ1!AJ158),CSVデータ1!AJ158,0)+IF(ISNUMBER(CSVデータ2!AJ158),CSVデータ2!AJ158,0)+IF(ISNUMBER(CSVデータ3!AJ158),CSVデータ3!AJ158,0)+IF(ISNUMBER(CSVデータ4!AJ158),CSVデータ4!AJ158,0)","v":0},null,{"$f":"IF(ISNUMBER(CSVデータ1!AL158),CSVデータ1!AL158,0)+IF(ISNUMBER(CSVデータ2!AL158),CSVデータ2!AL158,0)+IF(ISNUMBER(CSVデータ3!AL158),CSVデータ3!AL158,0)+IF(ISNUMBER(CSVデータ4!AL158),CSVデータ4!AL158,0)","v":0},null,{"$f":"IF(ISNUMBER(CSVデータ1!AN158),CSVデータ1!AN158,0)+IF(ISNUMBER(CSVデータ2!AN158),CSVデータ2!AN158,0)+IF(ISNUMBER(CSVデータ3!AN158),CSVデータ3!AN158,0)+IF(ISNUMBER(CSVデータ4!AN158),CSVデータ4!AN158,0)","v":0}]
[{"$f":"CSVデータ1!A159","v":"明細部"},{"$f":"CSVデータ1!B159","v":"保険者（地区）"},{"$f":"CSVデータ1!C159","v":55},{"$f":"CSVデータ1!D159","v":"男"},{"$f":"IF(ISNUMBER(CSVデータ1!E159),CSVデータ1!E159,0)+IF(ISNUMBER(CSVデータ2!E159),CSVデータ2!E159,0)+IF(ISNUMBER(CSVデータ3!E159),CSVデータ3!E159,0)+IF(ISNUMBER(CSVデータ4!E159),CSVデータ4!E159,0)","v":0},{"$f":"IF(ISNUMBER(CSVデータ1!F159),CSVデータ1!F159,0)+IF(ISNUMBER(CSVデータ2!F159),CSVデータ2!F159,0)+IF(ISNUMBER(CSVデータ3!F159),CSVデータ3!F159,0)+IF(ISNUMBER(CSVデータ4!F159),CSVデータ4!F159,0)","v":0},null,{"$f":"IF(ISNUMBER(CSVデータ1!H159),CSVデータ1!H159,0)+IF(ISNUMBER(CSVデータ2!H159),CSVデータ2!H159,0)+IF(ISNUMBER(CSVデータ3!H159),CSVデータ3!H159,0)+IF(ISNUMBER(CSVデータ4!H159),CSVデータ4!H159,0)","v":0},null,{"$f":"IF(ISNUMBER(CSVデータ1!J159),CSVデータ1!J159,0)+IF(ISNUMBER(CSVデータ2!J159),CSVデータ2!J159,0)+IF(ISNUMBER(CSVデータ3!J159),CSVデータ3!J159,0)+IF(ISNUMBER(CSVデータ4!J159),CSVデータ4!J159,0)","v":0},null,{"$f":"IF(ISNUMBER(CSVデータ1!L159),CSVデータ1!L159,0)+IF(ISNUMBER(CSVデータ2!L159),CSVデータ2!L159,0)+IF(ISNUMBER(CSVデータ3!L159),CSVデータ3!L159,0)+IF(ISNUMBER(CSVデータ4!L159),CSVデータ4!L159,0)","v":0},null,{"$f":"IF(ISNUMBER(CSVデータ1!N159),CSVデータ1!N159,0)+IF(ISNUMBER(CSVデータ2!N159),CSVデータ2!N159,0)+IF(ISNUMBER(CSVデータ3!N159),CSVデータ3!N159,0)+IF(ISNUMBER(CSVデータ4!N159),CSVデータ4!N159,0)","v":0},null,{"$f":"IF(ISNUMBER(CSVデータ1!P159),CSVデータ1!P159,0)+IF(ISNUMBER(CSVデータ2!P159),CSVデータ2!P159,0)+IF(ISNUMBER(CSVデータ3!P159),CSVデータ3!P159,0)+IF(ISNUMBER(CSVデータ4!P159),CSVデータ4!P159,0)","v":0},null,{"$f":"IF(ISNUMBER(CSVデータ1!R159),CSVデータ1!R159,0)+IF(ISNUMBER(CSVデータ2!R159),CSVデータ2!R159,0)+IF(ISNUMBER(CSVデータ3!R159),CSVデータ3!R159,0)+IF(ISNUMBER(CSVデータ4!R159),CSVデータ4!R159,0)","v":0},null,{"$f":"IF(ISNUMBER(CSVデータ1!T159),CSVデータ1!T159,0)+IF(ISNUMBER(CSVデータ2!T159),CSVデータ2!T159,0)+IF(ISNUMBER(CSVデータ3!T159),CSVデータ3!T159,0)+IF(ISNUMBER(CSVデータ4!T159),CSVデータ4!T159,0)","v":0},null,{"$f":"IF(ISNUMBER(CSVデータ1!V159),CSVデータ1!V159,0)+IF(ISNUMBER(CSVデータ2!V159),CSVデータ2!V159,0)+IF(ISNUMBER(CSVデータ3!V159),CSVデータ3!V159,0)+IF(ISNUMBER(CSVデータ4!V159),CSVデータ4!V159,0)","v":0},null,{"$f":"IF(ISNUMBER(CSVデータ1!X159),CSVデータ1!X159,0)+IF(ISNUMBER(CSVデータ2!X159),CSVデータ2!X159,0)+IF(ISNUMBER(CSVデータ3!X159),CSVデータ3!X159,0)+IF(ISNUMBER(CSVデータ4!X159),CSVデータ4!X159,0)","v":0},null,{"$f":"IF(ISNUMBER(CSVデータ1!Z159),CSVデータ1!Z159,0)+IF(ISNUMBER(CSVデータ2!Z159),CSVデータ2!Z159,0)+IF(ISNUMBER(CSVデータ3!Z159),CSVデータ3!Z159,0)+IF(ISNUMBER(CSVデータ4!Z159),CSVデータ4!Z159,0)","v":0},null,{"$f":"IF(ISNUMBER(CSVデータ1!AB159),CSVデータ1!AB159,0)+IF(ISNUMBER(CSVデータ2!AB159),CSVデータ2!AB159,0)+IF(ISNUMBER(CSVデータ3!AB159),CSVデータ3!AB159,0)+IF(ISNUMBER(CSVデータ4!AB159),CSVデータ4!AB159,0)","v":0},null,{"$f":"IF(ISNUMBER(CSVデータ1!AD159),CSVデータ1!AD159,0)+IF(ISNUMBER(CSVデータ2!AD159),CSVデータ2!AD159,0)+IF(ISNUMBER(CSVデータ3!AD159),CSVデータ3!AD159,0)+IF(ISNUMBER(CSVデータ4!AD159),CSVデータ4!AD159,0)","v":0},null,{"$f":"IF(ISNUMBER(CSVデータ1!AF159),CSVデータ1!AF159,0)+IF(ISNUMBER(CSVデータ2!AF159),CSVデータ2!AF159,0)+IF(ISNUMBER(CSVデータ3!AF159),CSVデータ3!AF159,0)+IF(ISNUMBER(CSVデータ4!AF159),CSVデータ4!AF159,0)","v":0},null,{"$f":"IF(ISNUMBER(CSVデータ1!AH159),CSVデータ1!AH159,0)+IF(ISNUMBER(CSVデータ2!AH159),CSVデータ2!AH159,0)+IF(ISNUMBER(CSVデータ3!AH159),CSVデータ3!AH159,0)+IF(ISNUMBER(CSVデータ4!AH159),CSVデータ4!AH159,0)","v":0},null,{"$f":"IF(ISNUMBER(CSVデータ1!AJ159),CSVデータ1!AJ159,0)+IF(ISNUMBER(CSVデータ2!AJ159),CSVデータ2!AJ159,0)+IF(ISNUMBER(CSVデータ3!AJ159),CSVデータ3!AJ159,0)+IF(ISNUMBER(CSVデータ4!AJ159),CSVデータ4!AJ159,0)","v":0},null,{"$f":"IF(ISNUMBER(CSVデータ1!AL159),CSVデータ1!AL159,0)+IF(ISNUMBER(CSVデータ2!AL159),CSVデータ2!AL159,0)+IF(ISNUMBER(CSVデータ3!AL159),CSVデータ3!AL159,0)+IF(ISNUMBER(CSVデータ4!AL159),CSVデータ4!AL159,0)","v":0},null,{"$f":"IF(ISNUMBER(CSVデータ1!AN159),CSVデータ1!AN159,0)+IF(ISNUMBER(CSVデータ2!AN159),CSVデータ2!AN159,0)+IF(ISNUMBER(CSVデータ3!AN159),CSVデータ3!AN159,0)+IF(ISNUMBER(CSVデータ4!AN159),CSVデータ4!AN159,0)","v":0}]
[{"$f":"CSVデータ1!A160","v":"明細部"},{"$f":"CSVデータ1!B160","v":"保険者（地区）"},{"$f":"CSVデータ1!C160","v":56},{"$f":"CSVデータ1!D160","v":"男"},{"$f":"IF(ISNUMBER(CSVデータ1!E160),CSVデータ1!E160,0)+IF(ISNUMBER(CSVデータ2!E160),CSVデータ2!E160,0)+IF(ISNUMBER(CSVデータ3!E160),CSVデータ3!E160,0)+IF(ISNUMBER(CSVデータ4!E160),CSVデータ4!E160,0)","v":0},{"$f":"IF(ISNUMBER(CSVデータ1!F160),CSVデータ1!F160,0)+IF(ISNUMBER(CSVデータ2!F160),CSVデータ2!F160,0)+IF(ISNUMBER(CSVデータ3!F160),CSVデータ3!F160,0)+IF(ISNUMBER(CSVデータ4!F160),CSVデータ4!F160,0)","v":0},null,{"$f":"IF(ISNUMBER(CSVデータ1!H160),CSVデータ1!H160,0)+IF(ISNUMBER(CSVデータ2!H160),CSVデータ2!H160,0)+IF(ISNUMBER(CSVデータ3!H160),CSVデータ3!H160,0)+IF(ISNUMBER(CSVデータ4!H160),CSVデータ4!H160,0)","v":0},null,{"$f":"IF(ISNUMBER(CSVデータ1!J160),CSVデータ1!J160,0)+IF(ISNUMBER(CSVデータ2!J160),CSVデータ2!J160,0)+IF(ISNUMBER(CSVデータ3!J160),CSVデータ3!J160,0)+IF(ISNUMBER(CSVデータ4!J160),CSVデータ4!J160,0)","v":0},null,{"$f":"IF(ISNUMBER(CSVデータ1!L160),CSVデータ1!L160,0)+IF(ISNUMBER(CSVデータ2!L160),CSVデータ2!L160,0)+IF(ISNUMBER(CSVデータ3!L160),CSVデータ3!L160,0)+IF(ISNUMBER(CSVデータ4!L160),CSVデータ4!L160,0)","v":0},null,{"$f":"IF(ISNUMBER(CSVデータ1!N160),CSVデータ1!N160,0)+IF(ISNUMBER(CSVデータ2!N160),CSVデータ2!N160,0)+IF(ISNUMBER(CSVデータ3!N160),CSVデータ3!N160,0)+IF(ISNUMBER(CSVデータ4!N160),CSVデータ4!N160,0)","v":0},null,{"$f":"IF(ISNUMBER(CSVデータ1!P160),CSVデータ1!P160,0)+IF(ISNUMBER(CSVデータ2!P160),CSVデータ2!P160,0)+IF(ISNUMBER(CSVデータ3!P160),CSVデータ3!P160,0)+IF(ISNUMBER(CSVデータ4!P160),CSVデータ4!P160,0)","v":0},null,{"$f":"IF(ISNUMBER(CSVデータ1!R160),CSVデータ1!R160,0)+IF(ISNUMBER(CSVデータ2!R160),CSVデータ2!R160,0)+IF(ISNUMBER(CSVデータ3!R160),CSVデータ3!R160,0)+IF(ISNUMBER(CSVデータ4!R160),CSVデータ4!R160,0)","v":0},null,{"$f":"IF(ISNUMBER(CSVデータ1!T160),CSVデータ1!T160,0)+IF(ISNUMBER(CSVデータ2!T160),CSVデータ2!T160,0)+IF(ISNUMBER(CSVデータ3!T160),CSVデータ3!T160,0)+IF(ISNUMBER(CSVデータ4!T160),CSVデータ4!T160,0)","v":0},null,{"$f":"IF(ISNUMBER(CSVデータ1!V160),CSVデータ1!V160,0)+IF(ISNUMBER(CSVデータ2!V160),CSVデータ2!V160,0)+IF(ISNUMBER(CSVデータ3!V160),CSVデータ3!V160,0)+IF(ISNUMBER(CSVデータ4!V160),CSVデータ4!V160,0)","v":0},null,{"$f":"IF(ISNUMBER(CSVデータ1!X160),CSVデータ1!X160,0)+IF(ISNUMBER(CSVデータ2!X160),CSVデータ2!X160,0)+IF(ISNUMBER(CSVデータ3!X160),CSVデータ3!X160,0)+IF(ISNUMBER(CSVデータ4!X160),CSVデータ4!X160,0)","v":0},null,{"$f":"IF(ISNUMBER(CSVデータ1!Z160),CSVデータ1!Z160,0)+IF(ISNUMBER(CSVデータ2!Z160),CSVデータ2!Z160,0)+IF(ISNUMBER(CSVデータ3!Z160),CSVデータ3!Z160,0)+IF(ISNUMBER(CSVデータ4!Z160),CSVデータ4!Z160,0)","v":0},null,{"$f":"IF(ISNUMBER(CSVデータ1!AB160),CSVデータ1!AB160,0)+IF(ISNUMBER(CSVデータ2!AB160),CSVデータ2!AB160,0)+IF(ISNUMBER(CSVデータ3!AB160),CSVデータ3!AB160,0)+IF(ISNUMBER(CSVデータ4!AB160),CSVデータ4!AB160,0)","v":0},null,{"$f":"IF(ISNUMBER(CSVデータ1!AD160),CSVデータ1!AD160,0)+IF(ISNUMBER(CSVデータ2!AD160),CSVデータ2!AD160,0)+IF(ISNUMBER(CSVデータ3!AD160),CSVデータ3!AD160,0)+IF(ISNUMBER(CSVデータ4!AD160),CSVデータ4!AD160,0)","v":0},null,{"$f":"IF(ISNUMBER(CSVデータ1!AF160),CSVデータ1!AF160,0)+IF(ISNUMBER(CSVデータ2!AF160),CSVデータ2!AF160,0)+IF(ISNUMBER(CSVデータ3!AF160),CSVデータ3!AF160,0)+IF(ISNUMBER(CSVデータ4!AF160),CSVデータ4!AF160,0)","v":0},null,{"$f":"IF(ISNUMBER(CSVデータ1!AH160),CSVデータ1!AH160,0)+IF(ISNUMBER(CSVデータ2!AH160),CSVデータ2!AH160,0)+IF(ISNUMBER(CSVデータ3!AH160),CSVデータ3!AH160,0)+IF(ISNUMBER(CSVデータ4!AH160),CSVデータ4!AH160,0)","v":0},null,{"$f":"IF(ISNUMBER(CSVデータ1!AJ160),CSVデータ1!AJ160,0)+IF(ISNUMBER(CSVデータ2!AJ160),CSVデータ2!AJ160,0)+IF(ISNUMBER(CSVデータ3!AJ160),CSVデータ3!AJ160,0)+IF(ISNUMBER(CSVデータ4!AJ160),CSVデータ4!AJ160,0)","v":0},null,{"$f":"IF(ISNUMBER(CSVデータ1!AL160),CSVデータ1!AL160,0)+IF(ISNUMBER(CSVデータ2!AL160),CSVデータ2!AL160,0)+IF(ISNUMBER(CSVデータ3!AL160),CSVデータ3!AL160,0)+IF(ISNUMBER(CSVデータ4!AL160),CSVデータ4!AL160,0)","v":0},null,{"$f":"IF(ISNUMBER(CSVデータ1!AN160),CSVデータ1!AN160,0)+IF(ISNUMBER(CSVデータ2!AN160),CSVデータ2!AN160,0)+IF(ISNUMBER(CSVデータ3!AN160),CSVデータ3!AN160,0)+IF(ISNUMBER(CSVデータ4!AN160),CSVデータ4!AN160,0)","v":0}]
[{"$f":"CSVデータ1!A161","v":"明細部"},{"$f":"CSVデータ1!B161","v":"保険者（地区）"},{"$f":"CSVデータ1!C161","v":57},{"$f":"CSVデータ1!D161","v":"男"},{"$f":"IF(ISNUMBER(CSVデータ1!E161),CSVデータ1!E161,0)+IF(ISNUMBER(CSVデータ2!E161),CSVデータ2!E161,0)+IF(ISNUMBER(CSVデータ3!E161),CSVデータ3!E161,0)+IF(ISNUMBER(CSVデータ4!E161),CSVデータ4!E161,0)","v":0},{"$f":"IF(ISNUMBER(CSVデータ1!F161),CSVデータ1!F161,0)+IF(ISNUMBER(CSVデータ2!F161),CSVデータ2!F161,0)+IF(ISNUMBER(CSVデータ3!F161),CSVデータ3!F161,0)+IF(ISNUMBER(CSVデータ4!F161),CSVデータ4!F161,0)","v":0},null,{"$f":"IF(ISNUMBER(CSVデータ1!H161),CSVデータ1!H161,0)+IF(ISNUMBER(CSVデータ2!H161),CSVデータ2!H161,0)+IF(ISNUMBER(CSVデータ3!H161),CSVデータ3!H161,0)+IF(ISNUMBER(CSVデータ4!H161),CSVデータ4!H161,0)","v":0},null,{"$f":"IF(ISNUMBER(CSVデータ1!J161),CSVデータ1!J161,0)+IF(ISNUMBER(CSVデータ2!J161),CSVデータ2!J161,0)+IF(ISNUMBER(CSVデータ3!J161),CSVデータ3!J161,0)+IF(ISNUMBER(CSVデータ4!J161),CSVデータ4!J161,0)","v":0},null,{"$f":"IF(ISNUMBER(CSVデータ1!L161),CSVデータ1!L161,0)+IF(ISNUMBER(CSVデータ2!L161),CSVデータ2!L161,0)+IF(ISNUMBER(CSVデータ3!L161),CSVデータ3!L161,0)+IF(ISNUMBER(CSVデータ4!L161),CSVデータ4!L161,0)","v":0},null,{"$f":"IF(ISNUMBER(CSVデータ1!N161),CSVデータ1!N161,0)+IF(ISNUMBER(CSVデータ2!N161),CSVデータ2!N161,0)+IF(ISNUMBER(CSVデータ3!N161),CSVデータ3!N161,0)+IF(ISNUMBER(CSVデータ4!N161),CSVデータ4!N161,0)","v":0},null,{"$f":"IF(ISNUMBER(CSVデータ1!P161),CSVデータ1!P161,0)+IF(ISNUMBER(CSVデータ2!P161),CSVデータ2!P161,0)+IF(ISNUMBER(CSVデータ3!P161),CSVデータ3!P161,0)+IF(ISNUMBER(CSVデータ4!P161),CSVデータ4!P161,0)","v":0},null,{"$f":"IF(ISNUMBER(CSVデータ1!R161),CSVデータ1!R161,0)+IF(ISNUMBER(CSVデータ2!R161),CSVデータ2!R161,0)+IF(ISNUMBER(CSVデータ3!R161),CSVデータ3!R161,0)+IF(ISNUMBER(CSVデータ4!R161),CSVデータ4!R161,0)","v":0},null,{"$f":"IF(ISNUMBER(CSVデータ1!T161),CSVデータ1!T161,0)+IF(ISNUMBER(CSVデータ2!T161),CSVデータ2!T161,0)+IF(ISNUMBER(CSVデータ3!T161),CSVデータ3!T161,0)+IF(ISNUMBER(CSVデータ4!T161),CSVデータ4!T161,0)","v":0},null,{"$f":"IF(ISNUMBER(CSVデータ1!V161),CSVデータ1!V161,0)+IF(ISNUMBER(CSVデータ2!V161),CSVデータ2!V161,0)+IF(ISNUMBER(CSVデータ3!V161),CSVデータ3!V161,0)+IF(ISNUMBER(CSVデータ4!V161),CSVデータ4!V161,0)","v":0},null,{"$f":"IF(ISNUMBER(CSVデータ1!X161),CSVデータ1!X161,0)+IF(ISNUMBER(CSVデータ2!X161),CSVデータ2!X161,0)+IF(ISNUMBER(CSVデータ3!X161),CSVデータ3!X161,0)+IF(ISNUMBER(CSVデータ4!X161),CSVデータ4!X161,0)","v":0},null,{"$f":"IF(ISNUMBER(CSVデータ1!Z161),CSVデータ1!Z161,0)+IF(ISNUMBER(CSVデータ2!Z161),CSVデータ2!Z161,0)+IF(ISNUMBER(CSVデータ3!Z161),CSVデータ3!Z161,0)+IF(ISNUMBER(CSVデータ4!Z161),CSVデータ4!Z161,0)","v":0},null,{"$f":"IF(ISNUMBER(CSVデータ1!AB161),CSVデータ1!AB161,0)+IF(ISNUMBER(CSVデータ2!AB161),CSVデータ2!AB161,0)+IF(ISNUMBER(CSVデータ3!AB161),CSVデータ3!AB161,0)+IF(ISNUMBER(CSVデータ4!AB161),CSVデータ4!AB161,0)","v":0},null,{"$f":"IF(ISNUMBER(CSVデータ1!AD161),CSVデータ1!AD161,0)+IF(ISNUMBER(CSVデータ2!AD161),CSVデータ2!AD161,0)+IF(ISNUMBER(CSVデータ3!AD161),CSVデータ3!AD161,0)+IF(ISNUMBER(CSVデータ4!AD161),CSVデータ4!AD161,0)","v":0},null,{"$f":"IF(ISNUMBER(CSVデータ1!AF161),CSVデータ1!AF161,0)+IF(ISNUMBER(CSVデータ2!AF161),CSVデータ2!AF161,0)+IF(ISNUMBER(CSVデータ3!AF161),CSVデータ3!AF161,0)+IF(ISNUMBER(CSVデータ4!AF161),CSVデータ4!AF161,0)","v":0},null,{"$f":"IF(ISNUMBER(CSVデータ1!AH161),CSVデータ1!AH161,0)+IF(ISNUMBER(CSVデータ2!AH161),CSVデータ2!AH161,0)+IF(ISNUMBER(CSVデータ3!AH161),CSVデータ3!AH161,0)+IF(ISNUMBER(CSVデータ4!AH161),CSVデータ4!AH161,0)","v":0},null,{"$f":"IF(ISNUMBER(CSVデータ1!AJ161),CSVデータ1!AJ161,0)+IF(ISNUMBER(CSVデータ2!AJ161),CSVデータ2!AJ161,0)+IF(ISNUMBER(CSVデータ3!AJ161),CSVデータ3!AJ161,0)+IF(ISNUMBER(CSVデータ4!AJ161),CSVデータ4!AJ161,0)","v":0},null,{"$f":"IF(ISNUMBER(CSVデータ1!AL161),CSVデータ1!AL161,0)+IF(ISNUMBER(CSVデータ2!AL161),CSVデータ2!AL161,0)+IF(ISNUMBER(CSVデータ3!AL161),CSVデータ3!AL161,0)+IF(ISNUMBER(CSVデータ4!AL161),CSVデータ4!AL161,0)","v":0},null,{"$f":"IF(ISNUMBER(CSVデータ1!AN161),CSVデータ1!AN161,0)+IF(ISNUMBER(CSVデータ2!AN161),CSVデータ2!AN161,0)+IF(ISNUMBER(CSVデータ3!AN161),CSVデータ3!AN161,0)+IF(ISNUMBER(CSVデータ4!AN161),CSVデータ4!AN161,0)","v":0}]
[{"$f":"CSVデータ1!A162","v":"明細部"},{"$f":"CSVデータ1!B162","v":"保険者（地区）"},{"$f":"CSVデータ1!C162","v":58},{"$f":"CSVデータ1!D162","v":"男"},{"$f":"IF(ISNUMBER(CSVデータ1!E162),CSVデータ1!E162,0)+IF(ISNUMBER(CSVデータ2!E162),CSVデータ2!E162,0)+IF(ISNUMBER(CSVデータ3!E162),CSVデータ3!E162,0)+IF(ISNUMBER(CSVデータ4!E162),CSVデータ4!E162,0)","v":0},{"$f":"IF(ISNUMBER(CSVデータ1!F162),CSVデータ1!F162,0)+IF(ISNUMBER(CSVデータ2!F162),CSVデータ2!F162,0)+IF(ISNUMBER(CSVデータ3!F162),CSVデータ3!F162,0)+IF(ISNUMBER(CSVデータ4!F162),CSVデータ4!F162,0)","v":0},null,{"$f":"IF(ISNUMBER(CSVデータ1!H162),CSVデータ1!H162,0)+IF(ISNUMBER(CSVデータ2!H162),CSVデータ2!H162,0)+IF(ISNUMBER(CSVデータ3!H162),CSVデータ3!H162,0)+IF(ISNUMBER(CSVデータ4!H162),CSVデータ4!H162,0)","v":0},null,{"$f":"IF(ISNUMBER(CSVデータ1!J162),CSVデータ1!J162,0)+IF(ISNUMBER(CSVデータ2!J162),CSVデータ2!J162,0)+IF(ISNUMBER(CSVデータ3!J162),CSVデータ3!J162,0)+IF(ISNUMBER(CSVデータ4!J162),CSVデータ4!J162,0)","v":0},null,{"$f":"IF(ISNUMBER(CSVデータ1!L162),CSVデータ1!L162,0)+IF(ISNUMBER(CSVデータ2!L162),CSVデータ2!L162,0)+IF(ISNUMBER(CSVデータ3!L162),CSVデータ3!L162,0)+IF(ISNUMBER(CSVデータ4!L162),CSVデータ4!L162,0)","v":0},null,{"$f":"IF(ISNUMBER(CSVデータ1!N162),CSVデータ1!N162,0)+IF(ISNUMBER(CSVデータ2!N162),CSVデータ2!N162,0)+IF(ISNUMBER(CSVデータ3!N162),CSVデータ3!N162,0)+IF(ISNUMBER(CSVデータ4!N162),CSVデータ4!N162,0)","v":0},null,{"$f":"IF(ISNUMBER(CSVデータ1!P162),CSVデータ1!P162,0)+IF(ISNUMBER(CSVデータ2!P162),CSVデータ2!P162,0)+IF(ISNUMBER(CSVデータ3!P162),CSVデータ3!P162,0)+IF(ISNUMBER(CSVデータ4!P162),CSVデータ4!P162,0)","v":0},null,{"$f":"IF(ISNUMBER(CSVデータ1!R162),CSVデータ1!R162,0)+IF(ISNUMBER(CSVデータ2!R162),CSVデータ2!R162,0)+IF(ISNUMBER(CSVデータ3!R162),CSVデータ3!R162,0)+IF(ISNUMBER(CSVデータ4!R162),CSVデータ4!R162,0)","v":0},null,{"$f":"IF(ISNUMBER(CSVデータ1!T162),CSVデータ1!T162,0)+IF(ISNUMBER(CSVデータ2!T162),CSVデータ2!T162,0)+IF(ISNUMBER(CSVデータ3!T162),CSVデータ3!T162,0)+IF(ISNUMBER(CSVデータ4!T162),CSVデータ4!T162,0)","v":0},null,{"$f":"IF(ISNUMBER(CSVデータ1!V162),CSVデータ1!V162,0)+IF(ISNUMBER(CSVデータ2!V162),CSVデータ2!V162,0)+IF(ISNUMBER(CSVデータ3!V162),CSVデータ3!V162,0)+IF(ISNUMBER(CSVデータ4!V162),CSVデータ4!V162,0)","v":0},null,{"$f":"IF(ISNUMBER(CSVデータ1!X162),CSVデータ1!X162,0)+IF(ISNUMBER(CSVデータ2!X162),CSVデータ2!X162,0)+IF(ISNUMBER(CSVデータ3!X162),CSVデータ3!X162,0)+IF(ISNUMBER(CSVデータ4!X162),CSVデータ4!X162,0)","v":0},null,{"$f":"IF(ISNUMBER(CSVデータ1!Z162),CSVデータ1!Z162,0)+IF(ISNUMBER(CSVデータ2!Z162),CSVデータ2!Z162,0)+IF(ISNUMBER(CSVデータ3!Z162),CSVデータ3!Z162,0)+IF(ISNUMBER(CSVデータ4!Z162),CSVデータ4!Z162,0)","v":0},null,{"$f":"IF(ISNUMBER(CSVデータ1!AB162),CSVデータ1!AB162,0)+IF(ISNUMBER(CSVデータ2!AB162),CSVデータ2!AB162,0)+IF(ISNUMBER(CSVデータ3!AB162),CSVデータ3!AB162,0)+IF(ISNUMBER(CSVデータ4!AB162),CSVデータ4!AB162,0)","v":0},null,{"$f":"IF(ISNUMBER(CSVデータ1!AD162),CSVデータ1!AD162,0)+IF(ISNUMBER(CSVデータ2!AD162),CSVデータ2!AD162,0)+IF(ISNUMBER(CSVデータ3!AD162),CSVデータ3!AD162,0)+IF(ISNUMBER(CSVデータ4!AD162),CSVデータ4!AD162,0)","v":0},null,{"$f":"IF(ISNUMBER(CSVデータ1!AF162),CSVデータ1!AF162,0)+IF(ISNUMBER(CSVデータ2!AF162),CSVデータ2!AF162,0)+IF(ISNUMBER(CSVデータ3!AF162),CSVデータ3!AF162,0)+IF(ISNUMBER(CSVデータ4!AF162),CSVデータ4!AF162,0)","v":0},null,{"$f":"IF(ISNUMBER(CSVデータ1!AH162),CSVデータ1!AH162,0)+IF(ISNUMBER(CSVデータ2!AH162),CSVデータ2!AH162,0)+IF(ISNUMBER(CSVデータ3!AH162),CSVデータ3!AH162,0)+IF(ISNUMBER(CSVデータ4!AH162),CSVデータ4!AH162,0)","v":0},null,{"$f":"IF(ISNUMBER(CSVデータ1!AJ162),CSVデータ1!AJ162,0)+IF(ISNUMBER(CSVデータ2!AJ162),CSVデータ2!AJ162,0)+IF(ISNUMBER(CSVデータ3!AJ162),CSVデータ3!AJ162,0)+IF(ISNUMBER(CSVデータ4!AJ162),CSVデータ4!AJ162,0)","v":0},null,{"$f":"IF(ISNUMBER(CSVデータ1!AL162),CSVデータ1!AL162,0)+IF(ISNUMBER(CSVデータ2!AL162),CSVデータ2!AL162,0)+IF(ISNUMBER(CSVデータ3!AL162),CSVデータ3!AL162,0)+IF(ISNUMBER(CSVデータ4!AL162),CSVデータ4!AL162,0)","v":0},null,{"$f":"IF(ISNUMBER(CSVデータ1!AN162),CSVデータ1!AN162,0)+IF(ISNUMBER(CSVデータ2!AN162),CSVデータ2!AN162,0)+IF(ISNUMBER(CSVデータ3!AN162),CSVデータ3!AN162,0)+IF(ISNUMBER(CSVデータ4!AN162),CSVデータ4!AN162,0)","v":0}]
[{"$f":"CSVデータ1!A163","v":"明細部"},{"$f":"CSVデータ1!B163","v":"保険者（地区）"},{"$f":"CSVデータ1!C163","v":59},{"$f":"CSVデータ1!D163","v":"男"},{"$f":"IF(ISNUMBER(CSVデータ1!E163),CSVデータ1!E163,0)+IF(ISNUMBER(CSVデータ2!E163),CSVデータ2!E163,0)+IF(ISNUMBER(CSVデータ3!E163),CSVデータ3!E163,0)+IF(ISNUMBER(CSVデータ4!E163),CSVデータ4!E163,0)","v":0},{"$f":"IF(ISNUMBER(CSVデータ1!F163),CSVデータ1!F163,0)+IF(ISNUMBER(CSVデータ2!F163),CSVデータ2!F163,0)+IF(ISNUMBER(CSVデータ3!F163),CSVデータ3!F163,0)+IF(ISNUMBER(CSVデータ4!F163),CSVデータ4!F163,0)","v":0},null,{"$f":"IF(ISNUMBER(CSVデータ1!H163),CSVデータ1!H163,0)+IF(ISNUMBER(CSVデータ2!H163),CSVデータ2!H163,0)+IF(ISNUMBER(CSVデータ3!H163),CSVデータ3!H163,0)+IF(ISNUMBER(CSVデータ4!H163),CSVデータ4!H163,0)","v":0},null,{"$f":"IF(ISNUMBER(CSVデータ1!J163),CSVデータ1!J163,0)+IF(ISNUMBER(CSVデータ2!J163),CSVデータ2!J163,0)+IF(ISNUMBER(CSVデータ3!J163),CSVデータ3!J163,0)+IF(ISNUMBER(CSVデータ4!J163),CSVデータ4!J163,0)","v":0},null,{"$f":"IF(ISNUMBER(CSVデータ1!L163),CSVデータ1!L163,0)+IF(ISNUMBER(CSVデータ2!L163),CSVデータ2!L163,0)+IF(ISNUMBER(CSVデータ3!L163),CSVデータ3!L163,0)+IF(ISNUMBER(CSVデータ4!L163),CSVデータ4!L163,0)","v":0},null,{"$f":"IF(ISNUMBER(CSVデータ1!N163),CSVデータ1!N163,0)+IF(ISNUMBER(CSVデータ2!N163),CSVデータ2!N163,0)+IF(ISNUMBER(CSVデータ3!N163),CSVデータ3!N163,0)+IF(ISNUMBER(CSVデータ4!N163),CSVデータ4!N163,0)","v":0},null,{"$f":"IF(ISNUMBER(CSVデータ1!P163),CSVデータ1!P163,0)+IF(ISNUMBER(CSVデータ2!P163),CSVデータ2!P163,0)+IF(ISNUMBER(CSVデータ3!P163),CSVデータ3!P163,0)+IF(ISNUMBER(CSVデータ4!P163),CSVデータ4!P163,0)","v":0},null,{"$f":"IF(ISNUMBER(CSVデータ1!R163),CSVデータ1!R163,0)+IF(ISNUMBER(CSVデータ2!R163),CSVデータ2!R163,0)+IF(ISNUMBER(CSVデータ3!R163),CSVデータ3!R163,0)+IF(ISNUMBER(CSVデータ4!R163),CSVデータ4!R163,0)","v":0},null,{"$f":"IF(ISNUMBER(CSVデータ1!T163),CSVデータ1!T163,0)+IF(ISNUMBER(CSVデータ2!T163),CSVデータ2!T163,0)+IF(ISNUMBER(CSVデータ3!T163),CSVデータ3!T163,0)+IF(ISNUMBER(CSVデータ4!T163),CSVデータ4!T163,0)","v":0},null,{"$f":"IF(ISNUMBER(CSVデータ1!V163),CSVデータ1!V163,0)+IF(ISNUMBER(CSVデータ2!V163),CSVデータ2!V163,0)+IF(ISNUMBER(CSVデータ3!V163),CSVデータ3!V163,0)+IF(ISNUMBER(CSVデータ4!V163),CSVデータ4!V163,0)","v":0},null,{"$f":"IF(ISNUMBER(CSVデータ1!X163),CSVデータ1!X163,0)+IF(ISNUMBER(CSVデータ2!X163),CSVデータ2!X163,0)+IF(ISNUMBER(CSVデータ3!X163),CSVデータ3!X163,0)+IF(ISNUMBER(CSVデータ4!X163),CSVデータ4!X163,0)","v":0},null,{"$f":"IF(ISNUMBER(CSVデータ1!Z163),CSVデータ1!Z163,0)+IF(ISNUMBER(CSVデータ2!Z163),CSVデータ2!Z163,0)+IF(ISNUMBER(CSVデータ3!Z163),CSVデータ3!Z163,0)+IF(ISNUMBER(CSVデータ4!Z163),CSVデータ4!Z163,0)","v":0},null,{"$f":"IF(ISNUMBER(CSVデータ1!AB163),CSVデータ1!AB163,0)+IF(ISNUMBER(CSVデータ2!AB163),CSVデータ2!AB163,0)+IF(ISNUMBER(CSVデータ3!AB163),CSVデータ3!AB163,0)+IF(ISNUMBER(CSVデータ4!AB163),CSVデータ4!AB163,0)","v":0},null,{"$f":"IF(ISNUMBER(CSVデータ1!AD163),CSVデータ1!AD163,0)+IF(ISNUMBER(CSVデータ2!AD163),CSVデータ2!AD163,0)+IF(ISNUMBER(CSVデータ3!AD163),CSVデータ3!AD163,0)+IF(ISNUMBER(CSVデータ4!AD163),CSVデータ4!AD163,0)","v":0},null,{"$f":"IF(ISNUMBER(CSVデータ1!AF163),CSVデータ1!AF163,0)+IF(ISNUMBER(CSVデータ2!AF163),CSVデータ2!AF163,0)+IF(ISNUMBER(CSVデータ3!AF163),CSVデータ3!AF163,0)+IF(ISNUMBER(CSVデータ4!AF163),CSVデータ4!AF163,0)","v":0},null,{"$f":"IF(ISNUMBER(CSVデータ1!AH163),CSVデータ1!AH163,0)+IF(ISNUMBER(CSVデータ2!AH163),CSVデータ2!AH163,0)+IF(ISNUMBER(CSVデータ3!AH163),CSVデータ3!AH163,0)+IF(ISNUMBER(CSVデータ4!AH163),CSVデータ4!AH163,0)","v":0},null,{"$f":"IF(ISNUMBER(CSVデータ1!AJ163),CSVデータ1!AJ163,0)+IF(ISNUMBER(CSVデータ2!AJ163),CSVデータ2!AJ163,0)+IF(ISNUMBER(CSVデータ3!AJ163),CSVデータ3!AJ163,0)+IF(ISNUMBER(CSVデータ4!AJ163),CSVデータ4!AJ163,0)","v":0},null,{"$f":"IF(ISNUMBER(CSVデータ1!AL163),CSVデータ1!AL163,0)+IF(ISNUMBER(CSVデータ2!AL163),CSVデータ2!AL163,0)+IF(ISNUMBER(CSVデータ3!AL163),CSVデータ3!AL163,0)+IF(ISNUMBER(CSVデータ4!AL163),CSVデータ4!AL163,0)","v":0},null,{"$f":"IF(ISNUMBER(CSVデータ1!AN163),CSVデータ1!AN163,0)+IF(ISNUMBER(CSVデータ2!AN163),CSVデータ2!AN163,0)+IF(ISNUMBER(CSVデータ3!AN163),CSVデータ3!AN163,0)+IF(ISNUMBER(CSVデータ4!AN163),CSVデータ4!AN163,0)","v":0}]
[{"$f":"CSVデータ1!A164","v":"明細部"},{"$f":"CSVデータ1!B164","v":"保険者（地区）"},{"$f":"CSVデータ1!C164","v":60},{"$f":"CSVデータ1!D164","v":"男"},{"$f":"IF(ISNUMBER(CSVデータ1!E164),CSVデータ1!E164,0)+IF(ISNUMBER(CSVデータ2!E164),CSVデータ2!E164,0)+IF(ISNUMBER(CSVデータ3!E164),CSVデータ3!E164,0)+IF(ISNUMBER(CSVデータ4!E164),CSVデータ4!E164,0)","v":0},{"$f":"IF(ISNUMBER(CSVデータ1!F164),CSVデータ1!F164,0)+IF(ISNUMBER(CSVデータ2!F164),CSVデータ2!F164,0)+IF(ISNUMBER(CSVデータ3!F164),CSVデータ3!F164,0)+IF(ISNUMBER(CSVデータ4!F164),CSVデータ4!F164,0)","v":0},null,{"$f":"IF(ISNUMBER(CSVデータ1!H164),CSVデータ1!H164,0)+IF(ISNUMBER(CSVデータ2!H164),CSVデータ2!H164,0)+IF(ISNUMBER(CSVデータ3!H164),CSVデータ3!H164,0)+IF(ISNUMBER(CSVデータ4!H164),CSVデータ4!H164,0)","v":0},null,{"$f":"IF(ISNUMBER(CSVデータ1!J164),CSVデータ1!J164,0)+IF(ISNUMBER(CSVデータ2!J164),CSVデータ2!J164,0)+IF(ISNUMBER(CSVデータ3!J164),CSVデータ3!J164,0)+IF(ISNUMBER(CSVデータ4!J164),CSVデータ4!J164,0)","v":0},null,{"$f":"IF(ISNUMBER(CSVデータ1!L164),CSVデータ1!L164,0)+IF(ISNUMBER(CSVデータ2!L164),CSVデータ2!L164,0)+IF(ISNUMBER(CSVデータ3!L164),CSVデータ3!L164,0)+IF(ISNUMBER(CSVデータ4!L164),CSVデータ4!L164,0)","v":0},null,{"$f":"IF(ISNUMBER(CSVデータ1!N164),CSVデータ1!N164,0)+IF(ISNUMBER(CSVデータ2!N164),CSVデータ2!N164,0)+IF(ISNUMBER(CSVデータ3!N164),CSVデータ3!N164,0)+IF(ISNUMBER(CSVデータ4!N164),CSVデータ4!N164,0)","v":0},null,{"$f":"IF(ISNUMBER(CSVデータ1!P164),CSVデータ1!P164,0)+IF(ISNUMBER(CSVデータ2!P164),CSVデータ2!P164,0)+IF(ISNUMBER(CSVデータ3!P164),CSVデータ3!P164,0)+IF(ISNUMBER(CSVデータ4!P164),CSVデータ4!P164,0)","v":0},null,{"$f":"IF(ISNUMBER(CSVデータ1!R164),CSVデータ1!R164,0)+IF(ISNUMBER(CSVデータ2!R164),CSVデータ2!R164,0)+IF(ISNUMBER(CSVデータ3!R164),CSVデータ3!R164,0)+IF(ISNUMBER(CSVデータ4!R164),CSVデータ4!R164,0)","v":0},null,{"$f":"IF(ISNUMBER(CSVデータ1!T164),CSVデータ1!T164,0)+IF(ISNUMBER(CSVデータ2!T164),CSVデータ2!T164,0)+IF(ISNUMBER(CSVデータ3!T164),CSVデータ3!T164,0)+IF(ISNUMBER(CSVデータ4!T164),CSVデータ4!T164,0)","v":0},null,{"$f":"IF(ISNUMBER(CSVデータ1!V164),CSVデータ1!V164,0)+IF(ISNUMBER(CSVデータ2!V164),CSVデータ2!V164,0)+IF(ISNUMBER(CSVデータ3!V164),CSVデータ3!V164,0)+IF(ISNUMBER(CSVデータ4!V164),CSVデータ4!V164,0)","v":0},null,{"$f":"IF(ISNUMBER(CSVデータ1!X164),CSVデータ1!X164,0)+IF(ISNUMBER(CSVデータ2!X164),CSVデータ2!X164,0)+IF(ISNUMBER(CSVデータ3!X164),CSVデータ3!X164,0)+IF(ISNUMBER(CSVデータ4!X164),CSVデータ4!X164,0)","v":0},null,{"$f":"IF(ISNUMBER(CSVデータ1!Z164),CSVデータ1!Z164,0)+IF(ISNUMBER(CSVデータ2!Z164),CSVデータ2!Z164,0)+IF(ISNUMBER(CSVデータ3!Z164),CSVデータ3!Z164,0)+IF(ISNUMBER(CSVデータ4!Z164),CSVデータ4!Z164,0)","v":0},null,{"$f":"IF(ISNUMBER(CSVデータ1!AB164),CSVデータ1!AB164,0)+IF(ISNUMBER(CSVデータ2!AB164),CSVデータ2!AB164,0)+IF(ISNUMBER(CSVデータ3!AB164),CSVデータ3!AB164,0)+IF(ISNUMBER(CSVデータ4!AB164),CSVデータ4!AB164,0)","v":0},null,{"$f":"IF(ISNUMBER(CSVデータ1!AD164),CSVデータ1!AD164,0)+IF(ISNUMBER(CSVデータ2!AD164),CSVデータ2!AD164,0)+IF(ISNUMBER(CSVデータ3!AD164),CSVデータ3!AD164,0)+IF(ISNUMBER(CSVデータ4!AD164),CSVデータ4!AD164,0)","v":0},null,{"$f":"IF(ISNUMBER(CSVデータ1!AF164),CSVデータ1!AF164,0)+IF(ISNUMBER(CSVデータ2!AF164),CSVデータ2!AF164,0)+IF(ISNUMBER(CSVデータ3!AF164),CSVデータ3!AF164,0)+IF(ISNUMBER(CSVデータ4!AF164),CSVデータ4!AF164,0)","v":0},null,{"$f":"IF(ISNUMBER(CSVデータ1!AH164),CSVデータ1!AH164,0)+IF(ISNUMBER(CSVデータ2!AH164),CSVデータ2!AH164,0)+IF(ISNUMBER(CSVデータ3!AH164),CSVデータ3!AH164,0)+IF(ISNUMBER(CSVデータ4!AH164),CSVデータ4!AH164,0)","v":0},null,{"$f":"IF(ISNUMBER(CSVデータ1!AJ164),CSVデータ1!AJ164,0)+IF(ISNUMBER(CSVデータ2!AJ164),CSVデータ2!AJ164,0)+IF(ISNUMBER(CSVデータ3!AJ164),CSVデータ3!AJ164,0)+IF(ISNUMBER(CSVデータ4!AJ164),CSVデータ4!AJ164,0)","v":0},null,{"$f":"IF(ISNUMBER(CSVデータ1!AL164),CSVデータ1!AL164,0)+IF(ISNUMBER(CSVデータ2!AL164),CSVデータ2!AL164,0)+IF(ISNUMBER(CSVデータ3!AL164),CSVデータ3!AL164,0)+IF(ISNUMBER(CSVデータ4!AL164),CSVデータ4!AL164,0)","v":0},null,{"$f":"IF(ISNUMBER(CSVデータ1!AN164),CSVデータ1!AN164,0)+IF(ISNUMBER(CSVデータ2!AN164),CSVデータ2!AN164,0)+IF(ISNUMBER(CSVデータ3!AN164),CSVデータ3!AN164,0)+IF(ISNUMBER(CSVデータ4!AN164),CSVデータ4!AN164,0)","v":0}]
[{"$f":"CSVデータ1!A165","v":"明細部"},{"$f":"CSVデータ1!B165","v":"保険者（地区）"},{"$f":"CSVデータ1!C165","v":61},{"$f":"CSVデータ1!D165","v":"男"},{"$f":"IF(ISNUMBER(CSVデータ1!E165),CSVデータ1!E165,0)+IF(ISNUMBER(CSVデータ2!E165),CSVデータ2!E165,0)+IF(ISNUMBER(CSVデータ3!E165),CSVデータ3!E165,0)+IF(ISNUMBER(CSVデータ4!E165),CSVデータ4!E165,0)","v":0},{"$f":"IF(ISNUMBER(CSVデータ1!F165),CSVデータ1!F165,0)+IF(ISNUMBER(CSVデータ2!F165),CSVデータ2!F165,0)+IF(ISNUMBER(CSVデータ3!F165),CSVデータ3!F165,0)+IF(ISNUMBER(CSVデータ4!F165),CSVデータ4!F165,0)","v":0},null,{"$f":"IF(ISNUMBER(CSVデータ1!H165),CSVデータ1!H165,0)+IF(ISNUMBER(CSVデータ2!H165),CSVデータ2!H165,0)+IF(ISNUMBER(CSVデータ3!H165),CSVデータ3!H165,0)+IF(ISNUMBER(CSVデータ4!H165),CSVデータ4!H165,0)","v":0},null,{"$f":"IF(ISNUMBER(CSVデータ1!J165),CSVデータ1!J165,0)+IF(ISNUMBER(CSVデータ2!J165),CSVデータ2!J165,0)+IF(ISNUMBER(CSVデータ3!J165),CSVデータ3!J165,0)+IF(ISNUMBER(CSVデータ4!J165),CSVデータ4!J165,0)","v":0},null,{"$f":"IF(ISNUMBER(CSVデータ1!L165),CSVデータ1!L165,0)+IF(ISNUMBER(CSVデータ2!L165),CSVデータ2!L165,0)+IF(ISNUMBER(CSVデータ3!L165),CSVデータ3!L165,0)+IF(ISNUMBER(CSVデータ4!L165),CSVデータ4!L165,0)","v":0},null,{"$f":"IF(ISNUMBER(CSVデータ1!N165),CSVデータ1!N165,0)+IF(ISNUMBER(CSVデータ2!N165),CSVデータ2!N165,0)+IF(ISNUMBER(CSVデータ3!N165),CSVデータ3!N165,0)+IF(ISNUMBER(CSVデータ4!N165),CSVデータ4!N165,0)","v":0},null,{"$f":"IF(ISNUMBER(CSVデータ1!P165),CSVデータ1!P165,0)+IF(ISNUMBER(CSVデータ2!P165),CSVデータ2!P165,0)+IF(ISNUMBER(CSVデータ3!P165),CSVデータ3!P165,0)+IF(ISNUMBER(CSVデータ4!P165),CSVデータ4!P165,0)","v":0},null,{"$f":"IF(ISNUMBER(CSVデータ1!R165),CSVデータ1!R165,0)+IF(ISNUMBER(CSVデータ2!R165),CSVデータ2!R165,0)+IF(ISNUMBER(CSVデータ3!R165),CSVデータ3!R165,0)+IF(ISNUMBER(CSVデータ4!R165),CSVデータ4!R165,0)","v":0},null,{"$f":"IF(ISNUMBER(CSVデータ1!T165),CSVデータ1!T165,0)+IF(ISNUMBER(CSVデータ2!T165),CSVデータ2!T165,0)+IF(ISNUMBER(CSVデータ3!T165),CSVデータ3!T165,0)+IF(ISNUMBER(CSVデータ4!T165),CSVデータ4!T165,0)","v":0},null,{"$f":"IF(ISNUMBER(CSVデータ1!V165),CSVデータ1!V165,0)+IF(ISNUMBER(CSVデータ2!V165),CSVデータ2!V165,0)+IF(ISNUMBER(CSVデータ3!V165),CSVデータ3!V165,0)+IF(ISNUMBER(CSVデータ4!V165),CSVデータ4!V165,0)","v":0},null,{"$f":"IF(ISNUMBER(CSVデータ1!X165),CSVデータ1!X165,0)+IF(ISNUMBER(CSVデータ2!X165),CSVデータ2!X165,0)+IF(ISNUMBER(CSVデータ3!X165),CSVデータ3!X165,0)+IF(ISNUMBER(CSVデータ4!X165),CSVデータ4!X165,0)","v":0},null,{"$f":"IF(ISNUMBER(CSVデータ1!Z165),CSVデータ1!Z165,0)+IF(ISNUMBER(CSVデータ2!Z165),CSVデータ2!Z165,0)+IF(ISNUMBER(CSVデータ3!Z165),CSVデータ3!Z165,0)+IF(ISNUMBER(CSVデータ4!Z165),CSVデータ4!Z165,0)","v":0},null,{"$f":"IF(ISNUMBER(CSVデータ1!AB165),CSVデータ1!AB165,0)+IF(ISNUMBER(CSVデータ2!AB165),CSVデータ2!AB165,0)+IF(ISNUMBER(CSVデータ3!AB165),CSVデータ3!AB165,0)+IF(ISNUMBER(CSVデータ4!AB165),CSVデータ4!AB165,0)","v":0},null,{"$f":"IF(ISNUMBER(CSVデータ1!AD165),CSVデータ1!AD165,0)+IF(ISNUMBER(CSVデータ2!AD165),CSVデータ2!AD165,0)+IF(ISNUMBER(CSVデータ3!AD165),CSVデータ3!AD165,0)+IF(ISNUMBER(CSVデータ4!AD165),CSVデータ4!AD165,0)","v":0},null,{"$f":"IF(ISNUMBER(CSVデータ1!AF165),CSVデータ1!AF165,0)+IF(ISNUMBER(CSVデータ2!AF165),CSVデータ2!AF165,0)+IF(ISNUMBER(CSVデータ3!AF165),CSVデータ3!AF165,0)+IF(ISNUMBER(CSVデータ4!AF165),CSVデータ4!AF165,0)","v":0},null,{"$f":"IF(ISNUMBER(CSVデータ1!AH165),CSVデータ1!AH165,0)+IF(ISNUMBER(CSVデータ2!AH165),CSVデータ2!AH165,0)+IF(ISNUMBER(CSVデータ3!AH165),CSVデータ3!AH165,0)+IF(ISNUMBER(CSVデータ4!AH165),CSVデータ4!AH165,0)","v":0},null,{"$f":"IF(ISNUMBER(CSVデータ1!AJ165),CSVデータ1!AJ165,0)+IF(ISNUMBER(CSVデータ2!AJ165),CSVデータ2!AJ165,0)+IF(ISNUMBER(CSVデータ3!AJ165),CSVデータ3!AJ165,0)+IF(ISNUMBER(CSVデータ4!AJ165),CSVデータ4!AJ165,0)","v":0},null,{"$f":"IF(ISNUMBER(CSVデータ1!AL165),CSVデータ1!AL165,0)+IF(ISNUMBER(CSVデータ2!AL165),CSVデータ2!AL165,0)+IF(ISNUMBER(CSVデータ3!AL165),CSVデータ3!AL165,0)+IF(ISNUMBER(CSVデータ4!AL165),CSVデータ4!AL165,0)","v":0},null,{"$f":"IF(ISNUMBER(CSVデータ1!AN165),CSVデータ1!AN165,0)+IF(ISNUMBER(CSVデータ2!AN165),CSVデータ2!AN165,0)+IF(ISNUMBER(CSVデータ3!AN165),CSVデータ3!AN165,0)+IF(ISNUMBER(CSVデータ4!AN165),CSVデータ4!AN165,0)","v":0}]
[{"$f":"CSVデータ1!A166","v":"明細部"},{"$f":"CSVデータ1!B166","v":"保険者（地区）"},{"$f":"CSVデータ1!C166","v":62},{"$f":"CSVデータ1!D166","v":"男"},{"$f":"IF(ISNUMBER(CSVデータ1!E166),CSVデータ1!E166,0)+IF(ISNUMBER(CSVデータ2!E166),CSVデータ2!E166,0)+IF(ISNUMBER(CSVデータ3!E166),CSVデータ3!E166,0)+IF(ISNUMBER(CSVデータ4!E166),CSVデータ4!E166,0)","v":0},{"$f":"IF(ISNUMBER(CSVデータ1!F166),CSVデータ1!F166,0)+IF(ISNUMBER(CSVデータ2!F166),CSVデータ2!F166,0)+IF(ISNUMBER(CSVデータ3!F166),CSVデータ3!F166,0)+IF(ISNUMBER(CSVデータ4!F166),CSVデータ4!F166,0)","v":0},null,{"$f":"IF(ISNUMBER(CSVデータ1!H166),CSVデータ1!H166,0)+IF(ISNUMBER(CSVデータ2!H166),CSVデータ2!H166,0)+IF(ISNUMBER(CSVデータ3!H166),CSVデータ3!H166,0)+IF(ISNUMBER(CSVデータ4!H166),CSVデータ4!H166,0)","v":0},null,{"$f":"IF(ISNUMBER(CSVデータ1!J166),CSVデータ1!J166,0)+IF(ISNUMBER(CSVデータ2!J166),CSVデータ2!J166,0)+IF(ISNUMBER(CSVデータ3!J166),CSVデータ3!J166,0)+IF(ISNUMBER(CSVデータ4!J166),CSVデータ4!J166,0)","v":0},null,{"$f":"IF(ISNUMBER(CSVデータ1!L166),CSVデータ1!L166,0)+IF(ISNUMBER(CSVデータ2!L166),CSVデータ2!L166,0)+IF(ISNUMBER(CSVデータ3!L166),CSVデータ3!L166,0)+IF(ISNUMBER(CSVデータ4!L166),CSVデータ4!L166,0)","v":0},null,{"$f":"IF(ISNUMBER(CSVデータ1!N166),CSVデータ1!N166,0)+IF(ISNUMBER(CSVデータ2!N166),CSVデータ2!N166,0)+IF(ISNUMBER(CSVデータ3!N166),CSVデータ3!N166,0)+IF(ISNUMBER(CSVデータ4!N166),CSVデータ4!N166,0)","v":0},null,{"$f":"IF(ISNUMBER(CSVデータ1!P166),CSVデータ1!P166,0)+IF(ISNUMBER(CSVデータ2!P166),CSVデータ2!P166,0)+IF(ISNUMBER(CSVデータ3!P166),CSVデータ3!P166,0)+IF(ISNUMBER(CSVデータ4!P166),CSVデータ4!P166,0)","v":0},null,{"$f":"IF(ISNUMBER(CSVデータ1!R166),CSVデータ1!R166,0)+IF(ISNUMBER(CSVデータ2!R166),CSVデータ2!R166,0)+IF(ISNUMBER(CSVデータ3!R166),CSVデータ3!R166,0)+IF(ISNUMBER(CSVデータ4!R166),CSVデータ4!R166,0)","v":0},null,{"$f":"IF(ISNUMBER(CSVデータ1!T166),CSVデータ1!T166,0)+IF(ISNUMBER(CSVデータ2!T166),CSVデータ2!T166,0)+IF(ISNUMBER(CSVデータ3!T166),CSVデータ3!T166,0)+IF(ISNUMBER(CSVデータ4!T166),CSVデータ4!T166,0)","v":0},null,{"$f":"IF(ISNUMBER(CSVデータ1!V166),CSVデータ1!V166,0)+IF(ISNUMBER(CSVデータ2!V166),CSVデータ2!V166,0)+IF(ISNUMBER(CSVデータ3!V166),CSVデータ3!V166,0)+IF(ISNUMBER(CSVデータ4!V166),CSVデータ4!V166,0)","v":0},null,{"$f":"IF(ISNUMBER(CSVデータ1!X166),CSVデータ1!X166,0)+IF(ISNUMBER(CSVデータ2!X166),CSVデータ2!X166,0)+IF(ISNUMBER(CSVデータ3!X166),CSVデータ3!X166,0)+IF(ISNUMBER(CSVデータ4!X166),CSVデータ4!X166,0)","v":0},null,{"$f":"IF(ISNUMBER(CSVデータ1!Z166),CSVデータ1!Z166,0)+IF(ISNUMBER(CSVデータ2!Z166),CSVデータ2!Z166,0)+IF(ISNUMBER(CSVデータ3!Z166),CSVデータ3!Z166,0)+IF(ISNUMBER(CSVデータ4!Z166),CSVデータ4!Z166,0)","v":0},null,{"$f":"IF(ISNUMBER(CSVデータ1!AB166),CSVデータ1!AB166,0)+IF(ISNUMBER(CSVデータ2!AB166),CSVデータ2!AB166,0)+IF(ISNUMBER(CSVデータ3!AB166),CSVデータ3!AB166,0)+IF(ISNUMBER(CSVデータ4!AB166),CSVデータ4!AB166,0)","v":0},null,{"$f":"IF(ISNUMBER(CSVデータ1!AD166),CSVデータ1!AD166,0)+IF(ISNUMBER(CSVデータ2!AD166),CSVデータ2!AD166,0)+IF(ISNUMBER(CSVデータ3!AD166),CSVデータ3!AD166,0)+IF(ISNUMBER(CSVデータ4!AD166),CSVデータ4!AD166,0)","v":0},null,{"$f":"IF(ISNUMBER(CSVデータ1!AF166),CSVデータ1!AF166,0)+IF(ISNUMBER(CSVデータ2!AF166),CSVデータ2!AF166,0)+IF(ISNUMBER(CSVデータ3!AF166),CSVデータ3!AF166,0)+IF(ISNUMBER(CSVデータ4!AF166),CSVデータ4!AF166,0)","v":0},null,{"$f":"IF(ISNUMBER(CSVデータ1!AH166),CSVデータ1!AH166,0)+IF(ISNUMBER(CSVデータ2!AH166),CSVデータ2!AH166,0)+IF(ISNUMBER(CSVデータ3!AH166),CSVデータ3!AH166,0)+IF(ISNUMBER(CSVデータ4!AH166),CSVデータ4!AH166,0)","v":0},null,{"$f":"IF(ISNUMBER(CSVデータ1!AJ166),CSVデータ1!AJ166,0)+IF(ISNUMBER(CSVデータ2!AJ166),CSVデータ2!AJ166,0)+IF(ISNUMBER(CSVデータ3!AJ166),CSVデータ3!AJ166,0)+IF(ISNUMBER(CSVデータ4!AJ166),CSVデータ4!AJ166,0)","v":0},null,{"$f":"IF(ISNUMBER(CSVデータ1!AL166),CSVデータ1!AL166,0)+IF(ISNUMBER(CSVデータ2!AL166),CSVデータ2!AL166,0)+IF(ISNUMBER(CSVデータ3!AL166),CSVデータ3!AL166,0)+IF(ISNUMBER(CSVデータ4!AL166),CSVデータ4!AL166,0)","v":0},null,{"$f":"IF(ISNUMBER(CSVデータ1!AN166),CSVデータ1!AN166,0)+IF(ISNUMBER(CSVデータ2!AN166),CSVデータ2!AN166,0)+IF(ISNUMBER(CSVデータ3!AN166),CSVデータ3!AN166,0)+IF(ISNUMBER(CSVデータ4!AN166),CSVデータ4!AN166,0)","v":0}]
[{"$f":"CSVデータ1!A167","v":"明細部"},{"$f":"CSVデータ1!B167","v":"保険者（地区）"},{"$f":"CSVデータ1!C167","v":63},{"$f":"CSVデータ1!D167","v":"男"},{"$f":"IF(ISNUMBER(CSVデータ1!E167),CSVデータ1!E167,0)+IF(ISNUMBER(CSVデータ2!E167),CSVデータ2!E167,0)+IF(ISNUMBER(CSVデータ3!E167),CSVデータ3!E167,0)+IF(ISNUMBER(CSVデータ4!E167),CSVデータ4!E167,0)","v":0},{"$f":"IF(ISNUMBER(CSVデータ1!F167),CSVデータ1!F167,0)+IF(ISNUMBER(CSVデータ2!F167),CSVデータ2!F167,0)+IF(ISNUMBER(CSVデータ3!F167),CSVデータ3!F167,0)+IF(ISNUMBER(CSVデータ4!F167),CSVデータ4!F167,0)","v":0},null,{"$f":"IF(ISNUMBER(CSVデータ1!H167),CSVデータ1!H167,0)+IF(ISNUMBER(CSVデータ2!H167),CSVデータ2!H167,0)+IF(ISNUMBER(CSVデータ3!H167),CSVデータ3!H167,0)+IF(ISNUMBER(CSVデータ4!H167),CSVデータ4!H167,0)","v":0},null,{"$f":"IF(ISNUMBER(CSVデータ1!J167),CSVデータ1!J167,0)+IF(ISNUMBER(CSVデータ2!J167),CSVデータ2!J167,0)+IF(ISNUMBER(CSVデータ3!J167),CSVデータ3!J167,0)+IF(ISNUMBER(CSVデータ4!J167),CSVデータ4!J167,0)","v":0},null,{"$f":"IF(ISNUMBER(CSVデータ1!L167),CSVデータ1!L167,0)+IF(ISNUMBER(CSVデータ2!L167),CSVデータ2!L167,0)+IF(ISNUMBER(CSVデータ3!L167),CSVデータ3!L167,0)+IF(ISNUMBER(CSVデータ4!L167),CSVデータ4!L167,0)","v":0},null,{"$f":"IF(ISNUMBER(CSVデータ1!N167),CSVデータ1!N167,0)+IF(ISNUMBER(CSVデータ2!N167),CSVデータ2!N167,0)+IF(ISNUMBER(CSVデータ3!N167),CSVデータ3!N167,0)+IF(ISNUMBER(CSVデータ4!N167),CSVデータ4!N167,0)","v":0},null,{"$f":"IF(ISNUMBER(CSVデータ1!P167),CSVデータ1!P167,0)+IF(ISNUMBER(CSVデータ2!P167),CSVデータ2!P167,0)+IF(ISNUMBER(CSVデータ3!P167),CSVデータ3!P167,0)+IF(ISNUMBER(CSVデータ4!P167),CSVデータ4!P167,0)","v":0},null,{"$f":"IF(ISNUMBER(CSVデータ1!R167),CSVデータ1!R167,0)+IF(ISNUMBER(CSVデータ2!R167),CSVデータ2!R167,0)+IF(ISNUMBER(CSVデータ3!R167),CSVデータ3!R167,0)+IF(ISNUMBER(CSVデータ4!R167),CSVデータ4!R167,0)","v":0},null,{"$f":"IF(ISNUMBER(CSVデータ1!T167),CSVデータ1!T167,0)+IF(ISNUMBER(CSVデータ2!T167),CSVデータ2!T167,0)+IF(ISNUMBER(CSVデータ3!T167),CSVデータ3!T167,0)+IF(ISNUMBER(CSVデータ4!T167),CSVデータ4!T167,0)","v":0},null,{"$f":"IF(ISNUMBER(CSVデータ1!V167),CSVデータ1!V167,0)+IF(ISNUMBER(CSVデータ2!V167),CSVデータ2!V167,0)+IF(ISNUMBER(CSVデータ3!V167),CSVデータ3!V167,0)+IF(ISNUMBER(CSVデータ4!V167),CSVデータ4!V167,0)","v":0},null,{"$f":"IF(ISNUMBER(CSVデータ1!X167),CSVデータ1!X167,0)+IF(ISNUMBER(CSVデータ2!X167),CSVデータ2!X167,0)+IF(ISNUMBER(CSVデータ3!X167),CSVデータ3!X167,0)+IF(ISNUMBER(CSVデータ4!X167),CSVデータ4!X167,0)","v":0},null,{"$f":"IF(ISNUMBER(CSVデータ1!Z167),CSVデータ1!Z167,0)+IF(ISNUMBER(CSVデータ2!Z167),CSVデータ2!Z167,0)+IF(ISNUMBER(CSVデータ3!Z167),CSVデータ3!Z167,0)+IF(ISNUMBER(CSVデータ4!Z167),CSVデータ4!Z167,0)","v":0},null,{"$f":"IF(ISNUMBER(CSVデータ1!AB167),CSVデータ1!AB167,0)+IF(ISNUMBER(CSVデータ2!AB167),CSVデータ2!AB167,0)+IF(ISNUMBER(CSVデータ3!AB167),CSVデータ3!AB167,0)+IF(ISNUMBER(CSVデータ4!AB167),CSVデータ4!AB167,0)","v":0},null,{"$f":"IF(ISNUMBER(CSVデータ1!AD167),CSVデータ1!AD167,0)+IF(ISNUMBER(CSVデータ2!AD167),CSVデータ2!AD167,0)+IF(ISNUMBER(CSVデータ3!AD167),CSVデータ3!AD167,0)+IF(ISNUMBER(CSVデータ4!AD167),CSVデータ4!AD167,0)","v":0},null,{"$f":"IF(ISNUMBER(CSVデータ1!AF167),CSVデータ1!AF167,0)+IF(ISNUMBER(CSVデータ2!AF167),CSVデータ2!AF167,0)+IF(ISNUMBER(CSVデータ3!AF167),CSVデータ3!AF167,0)+IF(ISNUMBER(CSVデータ4!AF167),CSVデータ4!AF167,0)","v":0},null,{"$f":"IF(ISNUMBER(CSVデータ1!AH167),CSVデータ1!AH167,0)+IF(ISNUMBER(CSVデータ2!AH167),CSVデータ2!AH167,0)+IF(ISNUMBER(CSVデータ3!AH167),CSVデータ3!AH167,0)+IF(ISNUMBER(CSVデータ4!AH167),CSVデータ4!AH167,0)","v":0},null,{"$f":"IF(ISNUMBER(CSVデータ1!AJ167),CSVデータ1!AJ167,0)+IF(ISNUMBER(CSVデータ2!AJ167),CSVデータ2!AJ167,0)+IF(ISNUMBER(CSVデータ3!AJ167),CSVデータ3!AJ167,0)+IF(ISNUMBER(CSVデータ4!AJ167),CSVデータ4!AJ167,0)","v":0},null,{"$f":"IF(ISNUMBER(CSVデータ1!AL167),CSVデータ1!AL167,0)+IF(ISNUMBER(CSVデータ2!AL167),CSVデータ2!AL167,0)+IF(ISNUMBER(CSVデータ3!AL167),CSVデータ3!AL167,0)+IF(ISNUMBER(CSVデータ4!AL167),CSVデータ4!AL167,0)","v":0},null,{"$f":"IF(ISNUMBER(CSVデータ1!AN167),CSVデータ1!AN167,0)+IF(ISNUMBER(CSVデータ2!AN167),CSVデータ2!AN167,0)+IF(ISNUMBER(CSVデータ3!AN167),CSVデータ3!AN167,0)+IF(ISNUMBER(CSVデータ4!AN167),CSVデータ4!AN167,0)","v":0}]
[{"$f":"CSVデータ1!A168","v":"明細部"},{"$f":"CSVデータ1!B168","v":"保険者（地区）"},{"$f":"CSVデータ1!C168","v":64},{"$f":"CSVデータ1!D168","v":"男"},{"$f":"IF(ISNUMBER(CSVデータ1!E168),CSVデータ1!E168,0)+IF(ISNUMBER(CSVデータ2!E168),CSVデータ2!E168,0)+IF(ISNUMBER(CSVデータ3!E168),CSVデータ3!E168,0)+IF(ISNUMBER(CSVデータ4!E168),CSVデータ4!E168,0)","v":0},{"$f":"IF(ISNUMBER(CSVデータ1!F168),CSVデータ1!F168,0)+IF(ISNUMBER(CSVデータ2!F168),CSVデータ2!F168,0)+IF(ISNUMBER(CSVデータ3!F168),CSVデータ3!F168,0)+IF(ISNUMBER(CSVデータ4!F168),CSVデータ4!F168,0)","v":0},null,{"$f":"IF(ISNUMBER(CSVデータ1!H168),CSVデータ1!H168,0)+IF(ISNUMBER(CSVデータ2!H168),CSVデータ2!H168,0)+IF(ISNUMBER(CSVデータ3!H168),CSVデータ3!H168,0)+IF(ISNUMBER(CSVデータ4!H168),CSVデータ4!H168,0)","v":0},null,{"$f":"IF(ISNUMBER(CSVデータ1!J168),CSVデータ1!J168,0)+IF(ISNUMBER(CSVデータ2!J168),CSVデータ2!J168,0)+IF(ISNUMBER(CSVデータ3!J168),CSVデータ3!J168,0)+IF(ISNUMBER(CSVデータ4!J168),CSVデータ4!J168,0)","v":0},null,{"$f":"IF(ISNUMBER(CSVデータ1!L168),CSVデータ1!L168,0)+IF(ISNUMBER(CSVデータ2!L168),CSVデータ2!L168,0)+IF(ISNUMBER(CSVデータ3!L168),CSVデータ3!L168,0)+IF(ISNUMBER(CSVデータ4!L168),CSVデータ4!L168,0)","v":0},null,{"$f":"IF(ISNUMBER(CSVデータ1!N168),CSVデータ1!N168,0)+IF(ISNUMBER(CSVデータ2!N168),CSVデータ2!N168,0)+IF(ISNUMBER(CSVデータ3!N168),CSVデータ3!N168,0)+IF(ISNUMBER(CSVデータ4!N168),CSVデータ4!N168,0)","v":0},null,{"$f":"IF(ISNUMBER(CSVデータ1!P168),CSVデータ1!P168,0)+IF(ISNUMBER(CSVデータ2!P168),CSVデータ2!P168,0)+IF(ISNUMBER(CSVデータ3!P168),CSVデータ3!P168,0)+IF(ISNUMBER(CSVデータ4!P168),CSVデータ4!P168,0)","v":0},null,{"$f":"IF(ISNUMBER(CSVデータ1!R168),CSVデータ1!R168,0)+IF(ISNUMBER(CSVデータ2!R168),CSVデータ2!R168,0)+IF(ISNUMBER(CSVデータ3!R168),CSVデータ3!R168,0)+IF(ISNUMBER(CSVデータ4!R168),CSVデータ4!R168,0)","v":0},null,{"$f":"IF(ISNUMBER(CSVデータ1!T168),CSVデータ1!T168,0)+IF(ISNUMBER(CSVデータ2!T168),CSVデータ2!T168,0)+IF(ISNUMBER(CSVデータ3!T168),CSVデータ3!T168,0)+IF(ISNUMBER(CSVデータ4!T168),CSVデータ4!T168,0)","v":0},null,{"$f":"IF(ISNUMBER(CSVデータ1!V168),CSVデータ1!V168,0)+IF(ISNUMBER(CSVデータ2!V168),CSVデータ2!V168,0)+IF(ISNUMBER(CSVデータ3!V168),CSVデータ3!V168,0)+IF(ISNUMBER(CSVデータ4!V168),CSVデータ4!V168,0)","v":0},null,{"$f":"IF(ISNUMBER(CSVデータ1!X168),CSVデータ1!X168,0)+IF(ISNUMBER(CSVデータ2!X168),CSVデータ2!X168,0)+IF(ISNUMBER(CSVデータ3!X168),CSVデータ3!X168,0)+IF(ISNUMBER(CSVデータ4!X168),CSVデータ4!X168,0)","v":0},null,{"$f":"IF(ISNUMBER(CSVデータ1!Z168),CSVデータ1!Z168,0)+IF(ISNUMBER(CSVデータ2!Z168),CSVデータ2!Z168,0)+IF(ISNUMBER(CSVデータ3!Z168),CSVデータ3!Z168,0)+IF(ISNUMBER(CSVデータ4!Z168),CSVデータ4!Z168,0)","v":0},null,{"$f":"IF(ISNUMBER(CSVデータ1!AB168),CSVデータ1!AB168,0)+IF(ISNUMBER(CSVデータ2!AB168),CSVデータ2!AB168,0)+IF(ISNUMBER(CSVデータ3!AB168),CSVデータ3!AB168,0)+IF(ISNUMBER(CSVデータ4!AB168),CSVデータ4!AB168,0)","v":0},null,{"$f":"IF(ISNUMBER(CSVデータ1!AD168),CSVデータ1!AD168,0)+IF(ISNUMBER(CSVデータ2!AD168),CSVデータ2!AD168,0)+IF(ISNUMBER(CSVデータ3!AD168),CSVデータ3!AD168,0)+IF(ISNUMBER(CSVデータ4!AD168),CSVデータ4!AD168,0)","v":0},null,{"$f":"IF(ISNUMBER(CSVデータ1!AF168),CSVデータ1!AF168,0)+IF(ISNUMBER(CSVデータ2!AF168),CSVデータ2!AF168,0)+IF(ISNUMBER(CSVデータ3!AF168),CSVデータ3!AF168,0)+IF(ISNUMBER(CSVデータ4!AF168),CSVデータ4!AF168,0)","v":0},null,{"$f":"IF(ISNUMBER(CSVデータ1!AH168),CSVデータ1!AH168,0)+IF(ISNUMBER(CSVデータ2!AH168),CSVデータ2!AH168,0)+IF(ISNUMBER(CSVデータ3!AH168),CSVデータ3!AH168,0)+IF(ISNUMBER(CSVデータ4!AH168),CSVデータ4!AH168,0)","v":0},null,{"$f":"IF(ISNUMBER(CSVデータ1!AJ168),CSVデータ1!AJ168,0)+IF(ISNUMBER(CSVデータ2!AJ168),CSVデータ2!AJ168,0)+IF(ISNUMBER(CSVデータ3!AJ168),CSVデータ3!AJ168,0)+IF(ISNUMBER(CSVデータ4!AJ168),CSVデータ4!AJ168,0)","v":0},null,{"$f":"IF(ISNUMBER(CSVデータ1!AL168),CSVデータ1!AL168,0)+IF(ISNUMBER(CSVデータ2!AL168),CSVデータ2!AL168,0)+IF(ISNUMBER(CSVデータ3!AL168),CSVデータ3!AL168,0)+IF(ISNUMBER(CSVデータ4!AL168),CSVデータ4!AL168,0)","v":0},null,{"$f":"IF(ISNUMBER(CSVデータ1!AN168),CSVデータ1!AN168,0)+IF(ISNUMBER(CSVデータ2!AN168),CSVデータ2!AN168,0)+IF(ISNUMBER(CSVデータ3!AN168),CSVデータ3!AN168,0)+IF(ISNUMBER(CSVデータ4!AN168),CSVデータ4!AN168,0)","v":0}]
[{"$f":"CSVデータ1!A169","v":"明細部"},{"$f":"CSVデータ1!B169","v":"保険者（地区）"},{"$f":"CSVデータ1!C169","v":65},{"$f":"CSVデータ1!D169","v":"男"},{"$f":"IF(ISNUMBER(CSVデータ1!E169),CSVデータ1!E169,0)+IF(ISNUMBER(CSVデータ2!E169),CSVデータ2!E169,0)+IF(ISNUMBER(CSVデータ3!E169),CSVデータ3!E169,0)+IF(ISNUMBER(CSVデータ4!E169),CSVデータ4!E169,0)","v":0},{"$f":"IF(ISNUMBER(CSVデータ1!F169),CSVデータ1!F169,0)+IF(ISNUMBER(CSVデータ2!F169),CSVデータ2!F169,0)+IF(ISNUMBER(CSVデータ3!F169),CSVデータ3!F169,0)+IF(ISNUMBER(CSVデータ4!F169),CSVデータ4!F169,0)","v":0},null,{"$f":"IF(ISNUMBER(CSVデータ1!H169),CSVデータ1!H169,0)+IF(ISNUMBER(CSVデータ2!H169),CSVデータ2!H169,0)+IF(ISNUMBER(CSVデータ3!H169),CSVデータ3!H169,0)+IF(ISNUMBER(CSVデータ4!H169),CSVデータ4!H169,0)","v":0},null,{"$f":"IF(ISNUMBER(CSVデータ1!J169),CSVデータ1!J169,0)+IF(ISNUMBER(CSVデータ2!J169),CSVデータ2!J169,0)+IF(ISNUMBER(CSVデータ3!J169),CSVデータ3!J169,0)+IF(ISNUMBER(CSVデータ4!J169),CSVデータ4!J169,0)","v":0},null,{"$f":"IF(ISNUMBER(CSVデータ1!L169),CSVデータ1!L169,0)+IF(ISNUMBER(CSVデータ2!L169),CSVデータ2!L169,0)+IF(ISNUMBER(CSVデータ3!L169),CSVデータ3!L169,0)+IF(ISNUMBER(CSVデータ4!L169),CSVデータ4!L169,0)","v":0},null,{"$f":"IF(ISNUMBER(CSVデータ1!N169),CSVデータ1!N169,0)+IF(ISNUMBER(CSVデータ2!N169),CSVデータ2!N169,0)+IF(ISNUMBER(CSVデータ3!N169),CSVデータ3!N169,0)+IF(ISNUMBER(CSVデータ4!N169),CSVデータ4!N169,0)","v":0},null,{"$f":"IF(ISNUMBER(CSVデータ1!P169),CSVデータ1!P169,0)+IF(ISNUMBER(CSVデータ2!P169),CSVデータ2!P169,0)+IF(ISNUMBER(CSVデータ3!P169),CSVデータ3!P169,0)+IF(ISNUMBER(CSVデータ4!P169),CSVデータ4!P169,0)","v":0},null,{"$f":"IF(ISNUMBER(CSVデータ1!R169),CSVデータ1!R169,0)+IF(ISNUMBER(CSVデータ2!R169),CSVデータ2!R169,0)+IF(ISNUMBER(CSVデータ3!R169),CSVデータ3!R169,0)+IF(ISNUMBER(CSVデータ4!R169),CSVデータ4!R169,0)","v":0},null,{"$f":"IF(ISNUMBER(CSVデータ1!T169),CSVデータ1!T169,0)+IF(ISNUMBER(CSVデータ2!T169),CSVデータ2!T169,0)+IF(ISNUMBER(CSVデータ3!T169),CSVデータ3!T169,0)+IF(ISNUMBER(CSVデータ4!T169),CSVデータ4!T169,0)","v":0},null,{"$f":"IF(ISNUMBER(CSVデータ1!V169),CSVデータ1!V169,0)+IF(ISNUMBER(CSVデータ2!V169),CSVデータ2!V169,0)+IF(ISNUMBER(CSVデータ3!V169),CSVデータ3!V169,0)+IF(ISNUMBER(CSVデータ4!V169),CSVデータ4!V169,0)","v":0},null,{"$f":"IF(ISNUMBER(CSVデータ1!X169),CSVデータ1!X169,0)+IF(ISNUMBER(CSVデータ2!X169),CSVデータ2!X169,0)+IF(ISNUMBER(CSVデータ3!X169),CSVデータ3!X169,0)+IF(ISNUMBER(CSVデータ4!X169),CSVデータ4!X169,0)","v":0},null,{"$f":"IF(ISNUMBER(CSVデータ1!Z169),CSVデータ1!Z169,0)+IF(ISNUMBER(CSVデータ2!Z169),CSVデータ2!Z169,0)+IF(ISNUMBER(CSVデータ3!Z169),CSVデータ3!Z169,0)+IF(ISNUMBER(CSVデータ4!Z169),CSVデータ4!Z169,0)","v":0},null,{"$f":"IF(ISNUMBER(CSVデータ1!AB169),CSVデータ1!AB169,0)+IF(ISNUMBER(CSVデータ2!AB169),CSVデータ2!AB169,0)+IF(ISNUMBER(CSVデータ3!AB169),CSVデータ3!AB169,0)+IF(ISNUMBER(CSVデータ4!AB169),CSVデータ4!AB169,0)","v":0},null,{"$f":"IF(ISNUMBER(CSVデータ1!AD169),CSVデータ1!AD169,0)+IF(ISNUMBER(CSVデータ2!AD169),CSVデータ2!AD169,0)+IF(ISNUMBER(CSVデータ3!AD169),CSVデータ3!AD169,0)+IF(ISNUMBER(CSVデータ4!AD169),CSVデータ4!AD169,0)","v":0},null,{"$f":"IF(ISNUMBER(CSVデータ1!AF169),CSVデータ1!AF169,0)+IF(ISNUMBER(CSVデータ2!AF169),CSVデータ2!AF169,0)+IF(ISNUMBER(CSVデータ3!AF169),CSVデータ3!AF169,0)+IF(ISNUMBER(CSVデータ4!AF169),CSVデータ4!AF169,0)","v":0},null,{"$f":"IF(ISNUMBER(CSVデータ1!AH169),CSVデータ1!AH169,0)+IF(ISNUMBER(CSVデータ2!AH169),CSVデータ2!AH169,0)+IF(ISNUMBER(CSVデータ3!AH169),CSVデータ3!AH169,0)+IF(ISNUMBER(CSVデータ4!AH169),CSVデータ4!AH169,0)","v":0},null,{"$f":"IF(ISNUMBER(CSVデータ1!AJ169),CSVデータ1!AJ169,0)+IF(ISNUMBER(CSVデータ2!AJ169),CSVデータ2!AJ169,0)+IF(ISNUMBER(CSVデータ3!AJ169),CSVデータ3!AJ169,0)+IF(ISNUMBER(CSVデータ4!AJ169),CSVデータ4!AJ169,0)","v":0},null,{"$f":"IF(ISNUMBER(CSVデータ1!AL169),CSVデータ1!AL169,0)+IF(ISNUMBER(CSVデータ2!AL169),CSVデータ2!AL169,0)+IF(ISNUMBER(CSVデータ3!AL169),CSVデータ3!AL169,0)+IF(ISNUMBER(CSVデータ4!AL169),CSVデータ4!AL169,0)","v":0},null,{"$f":"IF(ISNUMBER(CSVデータ1!AN169),CSVデータ1!AN169,0)+IF(ISNUMBER(CSVデータ2!AN169),CSVデータ2!AN169,0)+IF(ISNUMBER(CSVデータ3!AN169),CSVデータ3!AN169,0)+IF(ISNUMBER(CSVデータ4!AN169),CSVデータ4!AN169,0)","v":0}]
[{"$f":"CSVデータ1!A170","v":"明細部"},{"$f":"CSVデータ1!B170","v":"保険者（地区）"},{"$f":"CSVデータ1!C170","v":66},{"$f":"CSVデータ1!D170","v":"男"},{"$f":"IF(ISNUMBER(CSVデータ1!E170),CSVデータ1!E170,0)+IF(ISNUMBER(CSVデータ2!E170),CSVデータ2!E170,0)+IF(ISNUMBER(CSVデータ3!E170),CSVデータ3!E170,0)+IF(ISNUMBER(CSVデータ4!E170),CSVデータ4!E170,0)","v":0},{"$f":"IF(ISNUMBER(CSVデータ1!F170),CSVデータ1!F170,0)+IF(ISNUMBER(CSVデータ2!F170),CSVデータ2!F170,0)+IF(ISNUMBER(CSVデータ3!F170),CSVデータ3!F170,0)+IF(ISNUMBER(CSVデータ4!F170),CSVデータ4!F170,0)","v":0},null,{"$f":"IF(ISNUMBER(CSVデータ1!H170),CSVデータ1!H170,0)+IF(ISNUMBER(CSVデータ2!H170),CSVデータ2!H170,0)+IF(ISNUMBER(CSVデータ3!H170),CSVデータ3!H170,0)+IF(ISNUMBER(CSVデータ4!H170),CSVデータ4!H170,0)","v":0},null,{"$f":"IF(ISNUMBER(CSVデータ1!J170),CSVデータ1!J170,0)+IF(ISNUMBER(CSVデータ2!J170),CSVデータ2!J170,0)+IF(ISNUMBER(CSVデータ3!J170),CSVデータ3!J170,0)+IF(ISNUMBER(CSVデータ4!J170),CSVデータ4!J170,0)","v":0},null,{"$f":"IF(ISNUMBER(CSVデータ1!L170),CSVデータ1!L170,0)+IF(ISNUMBER(CSVデータ2!L170),CSVデータ2!L170,0)+IF(ISNUMBER(CSVデータ3!L170),CSVデータ3!L170,0)+IF(ISNUMBER(CSVデータ4!L170),CSVデータ4!L170,0)","v":0},null,{"$f":"IF(ISNUMBER(CSVデータ1!N170),CSVデータ1!N170,0)+IF(ISNUMBER(CSVデータ2!N170),CSVデータ2!N170,0)+IF(ISNUMBER(CSVデータ3!N170),CSVデータ3!N170,0)+IF(ISNUMBER(CSVデータ4!N170),CSVデータ4!N170,0)","v":0},null,{"$f":"IF(ISNUMBER(CSVデータ1!P170),CSVデータ1!P170,0)+IF(ISNUMBER(CSVデータ2!P170),CSVデータ2!P170,0)+IF(ISNUMBER(CSVデータ3!P170),CSVデータ3!P170,0)+IF(ISNUMBER(CSVデータ4!P170),CSVデータ4!P170,0)","v":0},null,{"$f":"IF(ISNUMBER(CSVデータ1!R170),CSVデータ1!R170,0)+IF(ISNUMBER(CSVデータ2!R170),CSVデータ2!R170,0)+IF(ISNUMBER(CSVデータ3!R170),CSVデータ3!R170,0)+IF(ISNUMBER(CSVデータ4!R170),CSVデータ4!R170,0)","v":0},null,{"$f":"IF(ISNUMBER(CSVデータ1!T170),CSVデータ1!T170,0)+IF(ISNUMBER(CSVデータ2!T170),CSVデータ2!T170,0)+IF(ISNUMBER(CSVデータ3!T170),CSVデータ3!T170,0)+IF(ISNUMBER(CSVデータ4!T170),CSVデータ4!T170,0)","v":0},null,{"$f":"IF(ISNUMBER(CSVデータ1!V170),CSVデータ1!V170,0)+IF(ISNUMBER(CSVデータ2!V170),CSVデータ2!V170,0)+IF(ISNUMBER(CSVデータ3!V170),CSVデータ3!V170,0)+IF(ISNUMBER(CSVデータ4!V170),CSVデータ4!V170,0)","v":0},null,{"$f":"IF(ISNUMBER(CSVデータ1!X170),CSVデータ1!X170,0)+IF(ISNUMBER(CSVデータ2!X170),CSVデータ2!X170,0)+IF(ISNUMBER(CSVデータ3!X170),CSVデータ3!X170,0)+IF(ISNUMBER(CSVデータ4!X170),CSVデータ4!X170,0)","v":0},null,{"$f":"IF(ISNUMBER(CSVデータ1!Z170),CSVデータ1!Z170,0)+IF(ISNUMBER(CSVデータ2!Z170),CSVデータ2!Z170,0)+IF(ISNUMBER(CSVデータ3!Z170),CSVデータ3!Z170,0)+IF(ISNUMBER(CSVデータ4!Z170),CSVデータ4!Z170,0)","v":0},null,{"$f":"IF(ISNUMBER(CSVデータ1!AB170),CSVデータ1!AB170,0)+IF(ISNUMBER(CSVデータ2!AB170),CSVデータ2!AB170,0)+IF(ISNUMBER(CSVデータ3!AB170),CSVデータ3!AB170,0)+IF(ISNUMBER(CSVデータ4!AB170),CSVデータ4!AB170,0)","v":0},null,{"$f":"IF(ISNUMBER(CSVデータ1!AD170),CSVデータ1!AD170,0)+IF(ISNUMBER(CSVデータ2!AD170),CSVデータ2!AD170,0)+IF(ISNUMBER(CSVデータ3!AD170),CSVデータ3!AD170,0)+IF(ISNUMBER(CSVデータ4!AD170),CSVデータ4!AD170,0)","v":0},null,{"$f":"IF(ISNUMBER(CSVデータ1!AF170),CSVデータ1!AF170,0)+IF(ISNUMBER(CSVデータ2!AF170),CSVデータ2!AF170,0)+IF(ISNUMBER(CSVデータ3!AF170),CSVデータ3!AF170,0)+IF(ISNUMBER(CSVデータ4!AF170),CSVデータ4!AF170,0)","v":0},null,{"$f":"IF(ISNUMBER(CSVデータ1!AH170),CSVデータ1!AH170,0)+IF(ISNUMBER(CSVデータ2!AH170),CSVデータ2!AH170,0)+IF(ISNUMBER(CSVデータ3!AH170),CSVデータ3!AH170,0)+IF(ISNUMBER(CSVデータ4!AH170),CSVデータ4!AH170,0)","v":0},null,{"$f":"IF(ISNUMBER(CSVデータ1!AJ170),CSVデータ1!AJ170,0)+IF(ISNUMBER(CSVデータ2!AJ170),CSVデータ2!AJ170,0)+IF(ISNUMBER(CSVデータ3!AJ170),CSVデータ3!AJ170,0)+IF(ISNUMBER(CSVデータ4!AJ170),CSVデータ4!AJ170,0)","v":0},null,{"$f":"IF(ISNUMBER(CSVデータ1!AL170),CSVデータ1!AL170,0)+IF(ISNUMBER(CSVデータ2!AL170),CSVデータ2!AL170,0)+IF(ISNUMBER(CSVデータ3!AL170),CSVデータ3!AL170,0)+IF(ISNUMBER(CSVデータ4!AL170),CSVデータ4!AL170,0)","v":0},null,{"$f":"IF(ISNUMBER(CSVデータ1!AN170),CSVデータ1!AN170,0)+IF(ISNUMBER(CSVデータ2!AN170),CSVデータ2!AN170,0)+IF(ISNUMBER(CSVデータ3!AN170),CSVデータ3!AN170,0)+IF(ISNUMBER(CSVデータ4!AN170),CSVデータ4!AN170,0)","v":0}]
[{"$f":"CSVデータ1!A171","v":"明細部"},{"$f":"CSVデータ1!B171","v":"保険者（地区）"},{"$f":"CSVデータ1!C171","v":67},{"$f":"CSVデータ1!D171","v":"男"},{"$f":"IF(ISNUMBER(CSVデータ1!E171),CSVデータ1!E171,0)+IF(ISNUMBER(CSVデータ2!E171),CSVデータ2!E171,0)+IF(ISNUMBER(CSVデータ3!E171),CSVデータ3!E171,0)+IF(ISNUMBER(CSVデータ4!E171),CSVデータ4!E171,0)","v":0},{"$f":"IF(ISNUMBER(CSVデータ1!F171),CSVデータ1!F171,0)+IF(ISNUMBER(CSVデータ2!F171),CSVデータ2!F171,0)+IF(ISNUMBER(CSVデータ3!F171),CSVデータ3!F171,0)+IF(ISNUMBER(CSVデータ4!F171),CSVデータ4!F171,0)","v":0},null,{"$f":"IF(ISNUMBER(CSVデータ1!H171),CSVデータ1!H171,0)+IF(ISNUMBER(CSVデータ2!H171),CSVデータ2!H171,0)+IF(ISNUMBER(CSVデータ3!H171),CSVデータ3!H171,0)+IF(ISNUMBER(CSVデータ4!H171),CSVデータ4!H171,0)","v":0},null,{"$f":"IF(ISNUMBER(CSVデータ1!J171),CSVデータ1!J171,0)+IF(ISNUMBER(CSVデータ2!J171),CSVデータ2!J171,0)+IF(ISNUMBER(CSVデータ3!J171),CSVデータ3!J171,0)+IF(ISNUMBER(CSVデータ4!J171),CSVデータ4!J171,0)","v":0},null,{"$f":"IF(ISNUMBER(CSVデータ1!L171),CSVデータ1!L171,0)+IF(ISNUMBER(CSVデータ2!L171),CSVデータ2!L171,0)+IF(ISNUMBER(CSVデータ3!L171),CSVデータ3!L171,0)+IF(ISNUMBER(CSVデータ4!L171),CSVデータ4!L171,0)","v":0},null,{"$f":"IF(ISNUMBER(CSVデータ1!N171),CSVデータ1!N171,0)+IF(ISNUMBER(CSVデータ2!N171),CSVデータ2!N171,0)+IF(ISNUMBER(CSVデータ3!N171),CSVデータ3!N171,0)+IF(ISNUMBER(CSVデータ4!N171),CSVデータ4!N171,0)","v":0},null,{"$f":"IF(ISNUMBER(CSVデータ1!P171),CSVデータ1!P171,0)+IF(ISNUMBER(CSVデータ2!P171),CSVデータ2!P171,0)+IF(ISNUMBER(CSVデータ3!P171),CSVデータ3!P171,0)+IF(ISNUMBER(CSVデータ4!P171),CSVデータ4!P171,0)","v":0},null,{"$f":"IF(ISNUMBER(CSVデータ1!R171),CSVデータ1!R171,0)+IF(ISNUMBER(CSVデータ2!R171),CSVデータ2!R171,0)+IF(ISNUMBER(CSVデータ3!R171),CSVデータ3!R171,0)+IF(ISNUMBER(CSVデータ4!R171),CSVデータ4!R171,0)","v":0},null,{"$f":"IF(ISNUMBER(CSVデータ1!T171),CSVデータ1!T171,0)+IF(ISNUMBER(CSVデータ2!T171),CSVデータ2!T171,0)+IF(ISNUMBER(CSVデータ3!T171),CSVデータ3!T171,0)+IF(ISNUMBER(CSVデータ4!T171),CSVデータ4!T171,0)","v":0},null,{"$f":"IF(ISNUMBER(CSVデータ1!V171),CSVデータ1!V171,0)+IF(ISNUMBER(CSVデータ2!V171),CSVデータ2!V171,0)+IF(ISNUMBER(CSVデータ3!V171),CSVデータ3!V171,0)+IF(ISNUMBER(CSVデータ4!V171),CSVデータ4!V171,0)","v":0},null,{"$f":"IF(ISNUMBER(CSVデータ1!X171),CSVデータ1!X171,0)+IF(ISNUMBER(CSVデータ2!X171),CSVデータ2!X171,0)+IF(ISNUMBER(CSVデータ3!X171),CSVデータ3!X171,0)+IF(ISNUMBER(CSVデータ4!X171),CSVデータ4!X171,0)","v":0},null,{"$f":"IF(ISNUMBER(CSVデータ1!Z171),CSVデータ1!Z171,0)+IF(ISNUMBER(CSVデータ2!Z171),CSVデータ2!Z171,0)+IF(ISNUMBER(CSVデータ3!Z171),CSVデータ3!Z171,0)+IF(ISNUMBER(CSVデータ4!Z171),CSVデータ4!Z171,0)","v":0},null,{"$f":"IF(ISNUMBER(CSVデータ1!AB171),CSVデータ1!AB171,0)+IF(ISNUMBER(CSVデータ2!AB171),CSVデータ2!AB171,0)+IF(ISNUMBER(CSVデータ3!AB171),CSVデータ3!AB171,0)+IF(ISNUMBER(CSVデータ4!AB171),CSVデータ4!AB171,0)","v":0},null,{"$f":"IF(ISNUMBER(CSVデータ1!AD171),CSVデータ1!AD171,0)+IF(ISNUMBER(CSVデータ2!AD171),CSVデータ2!AD171,0)+IF(ISNUMBER(CSVデータ3!AD171),CSVデータ3!AD171,0)+IF(ISNUMBER(CSVデータ4!AD171),CSVデータ4!AD171,0)","v":0},null,{"$f":"IF(ISNUMBER(CSVデータ1!AF171),CSVデータ1!AF171,0)+IF(ISNUMBER(CSVデータ2!AF171),CSVデータ2!AF171,0)+IF(ISNUMBER(CSVデータ3!AF171),CSVデータ3!AF171,0)+IF(ISNUMBER(CSVデータ4!AF171),CSVデータ4!AF171,0)","v":0},null,{"$f":"IF(ISNUMBER(CSVデータ1!AH171),CSVデータ1!AH171,0)+IF(ISNUMBER(CSVデータ2!AH171),CSVデータ2!AH171,0)+IF(ISNUMBER(CSVデータ3!AH171),CSVデータ3!AH171,0)+IF(ISNUMBER(CSVデータ4!AH171),CSVデータ4!AH171,0)","v":0},null,{"$f":"IF(ISNUMBER(CSVデータ1!AJ171),CSVデータ1!AJ171,0)+IF(ISNUMBER(CSVデータ2!AJ171),CSVデータ2!AJ171,0)+IF(ISNUMBER(CSVデータ3!AJ171),CSVデータ3!AJ171,0)+IF(ISNUMBER(CSVデータ4!AJ171),CSVデータ4!AJ171,0)","v":0},null,{"$f":"IF(ISNUMBER(CSVデータ1!AL171),CSVデータ1!AL171,0)+IF(ISNUMBER(CSVデータ2!AL171),CSVデータ2!AL171,0)+IF(ISNUMBER(CSVデータ3!AL171),CSVデータ3!AL171,0)+IF(ISNUMBER(CSVデータ4!AL171),CSVデータ4!AL171,0)","v":0},null,{"$f":"IF(ISNUMBER(CSVデータ1!AN171),CSVデータ1!AN171,0)+IF(ISNUMBER(CSVデータ2!AN171),CSVデータ2!AN171,0)+IF(ISNUMBER(CSVデータ3!AN171),CSVデータ3!AN171,0)+IF(ISNUMBER(CSVデータ4!AN171),CSVデータ4!AN171,0)","v":0}]
[{"$f":"CSVデータ1!A172","v":"明細部"},{"$f":"CSVデータ1!B172","v":"保険者（地区）"},{"$f":"CSVデータ1!C172","v":68},{"$f":"CSVデータ1!D172","v":"男"},{"$f":"IF(ISNUMBER(CSVデータ1!E172),CSVデータ1!E172,0)+IF(ISNUMBER(CSVデータ2!E172),CSVデータ2!E172,0)+IF(ISNUMBER(CSVデータ3!E172),CSVデータ3!E172,0)+IF(ISNUMBER(CSVデータ4!E172),CSVデータ4!E172,0)","v":0},{"$f":"IF(ISNUMBER(CSVデータ1!F172),CSVデータ1!F172,0)+IF(ISNUMBER(CSVデータ2!F172),CSVデータ2!F172,0)+IF(ISNUMBER(CSVデータ3!F172),CSVデータ3!F172,0)+IF(ISNUMBER(CSVデータ4!F172),CSVデータ4!F172,0)","v":0},null,{"$f":"IF(ISNUMBER(CSVデータ1!H172),CSVデータ1!H172,0)+IF(ISNUMBER(CSVデータ2!H172),CSVデータ2!H172,0)+IF(ISNUMBER(CSVデータ3!H172),CSVデータ3!H172,0)+IF(ISNUMBER(CSVデータ4!H172),CSVデータ4!H172,0)","v":0},null,{"$f":"IF(ISNUMBER(CSVデータ1!J172),CSVデータ1!J172,0)+IF(ISNUMBER(CSVデータ2!J172),CSVデータ2!J172,0)+IF(ISNUMBER(CSVデータ3!J172),CSVデータ3!J172,0)+IF(ISNUMBER(CSVデータ4!J172),CSVデータ4!J172,0)","v":0},null,{"$f":"IF(ISNUMBER(CSVデータ1!L172),CSVデータ1!L172,0)+IF(ISNUMBER(CSVデータ2!L172),CSVデータ2!L172,0)+IF(ISNUMBER(CSVデータ3!L172),CSVデータ3!L172,0)+IF(ISNUMBER(CSVデータ4!L172),CSVデータ4!L172,0)","v":0},null,{"$f":"IF(ISNUMBER(CSVデータ1!N172),CSVデータ1!N172,0)+IF(ISNUMBER(CSVデータ2!N172),CSVデータ2!N172,0)+IF(ISNUMBER(CSVデータ3!N172),CSVデータ3!N172,0)+IF(ISNUMBER(CSVデータ4!N172),CSVデータ4!N172,0)","v":0},null,{"$f":"IF(ISNUMBER(CSVデータ1!P172),CSVデータ1!P172,0)+IF(ISNUMBER(CSVデータ2!P172),CSVデータ2!P172,0)+IF(ISNUMBER(CSVデータ3!P172),CSVデータ3!P172,0)+IF(ISNUMBER(CSVデータ4!P172),CSVデータ4!P172,0)","v":0},null,{"$f":"IF(ISNUMBER(CSVデータ1!R172),CSVデータ1!R172,0)+IF(ISNUMBER(CSVデータ2!R172),CSVデータ2!R172,0)+IF(ISNUMBER(CSVデータ3!R172),CSVデータ3!R172,0)+IF(ISNUMBER(CSVデータ4!R172),CSVデータ4!R172,0)","v":0},null,{"$f":"IF(ISNUMBER(CSVデータ1!T172),CSVデータ1!T172,0)+IF(ISNUMBER(CSVデータ2!T172),CSVデータ2!T172,0)+IF(ISNUMBER(CSVデータ3!T172),CSVデータ3!T172,0)+IF(ISNUMBER(CSVデータ4!T172),CSVデータ4!T172,0)","v":0},null,{"$f":"IF(ISNUMBER(CSVデータ1!V172),CSVデータ1!V172,0)+IF(ISNUMBER(CSVデータ2!V172),CSVデータ2!V172,0)+IF(ISNUMBER(CSVデータ3!V172),CSVデータ3!V172,0)+IF(ISNUMBER(CSVデータ4!V172),CSVデータ4!V172,0)","v":0},null,{"$f":"IF(ISNUMBER(CSVデータ1!X172),CSVデータ1!X172,0)+IF(ISNUMBER(CSVデータ2!X172),CSVデータ2!X172,0)+IF(ISNUMBER(CSVデータ3!X172),CSVデータ3!X172,0)+IF(ISNUMBER(CSVデータ4!X172),CSVデータ4!X172,0)","v":0},null,{"$f":"IF(ISNUMBER(CSVデータ1!Z172),CSVデータ1!Z172,0)+IF(ISNUMBER(CSVデータ2!Z172),CSVデータ2!Z172,0)+IF(ISNUMBER(CSVデータ3!Z172),CSVデータ3!Z172,0)+IF(ISNUMBER(CSVデータ4!Z172),CSVデータ4!Z172,0)","v":0},null,{"$f":"IF(ISNUMBER(CSVデータ1!AB172),CSVデータ1!AB172,0)+IF(ISNUMBER(CSVデータ2!AB172),CSVデータ2!AB172,0)+IF(ISNUMBER(CSVデータ3!AB172),CSVデータ3!AB172,0)+IF(ISNUMBER(CSVデータ4!AB172),CSVデータ4!AB172,0)","v":0},null,{"$f":"IF(ISNUMBER(CSVデータ1!AD172),CSVデータ1!AD172,0)+IF(ISNUMBER(CSVデータ2!AD172),CSVデータ2!AD172,0)+IF(ISNUMBER(CSVデータ3!AD172),CSVデータ3!AD172,0)+IF(ISNUMBER(CSVデータ4!AD172),CSVデータ4!AD172,0)","v":0},null,{"$f":"IF(ISNUMBER(CSVデータ1!AF172),CSVデータ1!AF172,0)+IF(ISNUMBER(CSVデータ2!AF172),CSVデータ2!AF172,0)+IF(ISNUMBER(CSVデータ3!AF172),CSVデータ3!AF172,0)+IF(ISNUMBER(CSVデータ4!AF172),CSVデータ4!AF172,0)","v":0},null,{"$f":"IF(ISNUMBER(CSVデータ1!AH172),CSVデータ1!AH172,0)+IF(ISNUMBER(CSVデータ2!AH172),CSVデータ2!AH172,0)+IF(ISNUMBER(CSVデータ3!AH172),CSVデータ3!AH172,0)+IF(ISNUMBER(CSVデータ4!AH172),CSVデータ4!AH172,0)","v":0},null,{"$f":"IF(ISNUMBER(CSVデータ1!AJ172),CSVデータ1!AJ172,0)+IF(ISNUMBER(CSVデータ2!AJ172),CSVデータ2!AJ172,0)+IF(ISNUMBER(CSVデータ3!AJ172),CSVデータ3!AJ172,0)+IF(ISNUMBER(CSVデータ4!AJ172),CSVデータ4!AJ172,0)","v":0},null,{"$f":"IF(ISNUMBER(CSVデータ1!AL172),CSVデータ1!AL172,0)+IF(ISNUMBER(CSVデータ2!AL172),CSVデータ2!AL172,0)+IF(ISNUMBER(CSVデータ3!AL172),CSVデータ3!AL172,0)+IF(ISNUMBER(CSVデータ4!AL172),CSVデータ4!AL172,0)","v":0},null,{"$f":"IF(ISNUMBER(CSVデータ1!AN172),CSVデータ1!AN172,0)+IF(ISNUMBER(CSVデータ2!AN172),CSVデータ2!AN172,0)+IF(ISNUMBER(CSVデータ3!AN172),CSVデータ3!AN172,0)+IF(ISNUMBER(CSVデータ4!AN172),CSVデータ4!AN172,0)","v":0}]
[{"$f":"CSVデータ1!A173","v":"明細部"},{"$f":"CSVデータ1!B173","v":"保険者（地区）"},{"$f":"CSVデータ1!C173","v":69},{"$f":"CSVデータ1!D173","v":"男"},{"$f":"IF(ISNUMBER(CSVデータ1!E173),CSVデータ1!E173,0)+IF(ISNUMBER(CSVデータ2!E173),CSVデータ2!E173,0)+IF(ISNUMBER(CSVデータ3!E173),CSVデータ3!E173,0)+IF(ISNUMBER(CSVデータ4!E173),CSVデータ4!E173,0)","v":0},{"$f":"IF(ISNUMBER(CSVデータ1!F173),CSVデータ1!F173,0)+IF(ISNUMBER(CSVデータ2!F173),CSVデータ2!F173,0)+IF(ISNUMBER(CSVデータ3!F173),CSVデータ3!F173,0)+IF(ISNUMBER(CSVデータ4!F173),CSVデータ4!F173,0)","v":0},null,{"$f":"IF(ISNUMBER(CSVデータ1!H173),CSVデータ1!H173,0)+IF(ISNUMBER(CSVデータ2!H173),CSVデータ2!H173,0)+IF(ISNUMBER(CSVデータ3!H173),CSVデータ3!H173,0)+IF(ISNUMBER(CSVデータ4!H173),CSVデータ4!H173,0)","v":0},null,{"$f":"IF(ISNUMBER(CSVデータ1!J173),CSVデータ1!J173,0)+IF(ISNUMBER(CSVデータ2!J173),CSVデータ2!J173,0)+IF(ISNUMBER(CSVデータ3!J173),CSVデータ3!J173,0)+IF(ISNUMBER(CSVデータ4!J173),CSVデータ4!J173,0)","v":0},null,{"$f":"IF(ISNUMBER(CSVデータ1!L173),CSVデータ1!L173,0)+IF(ISNUMBER(CSVデータ2!L173),CSVデータ2!L173,0)+IF(ISNUMBER(CSVデータ3!L173),CSVデータ3!L173,0)+IF(ISNUMBER(CSVデータ4!L173),CSVデータ4!L173,0)","v":0},null,{"$f":"IF(ISNUMBER(CSVデータ1!N173),CSVデータ1!N173,0)+IF(ISNUMBER(CSVデータ2!N173),CSVデータ2!N173,0)+IF(ISNUMBER(CSVデータ3!N173),CSVデータ3!N173,0)+IF(ISNUMBER(CSVデータ4!N173),CSVデータ4!N173,0)","v":0},null,{"$f":"IF(ISNUMBER(CSVデータ1!P173),CSVデータ1!P173,0)+IF(ISNUMBER(CSVデータ2!P173),CSVデータ2!P173,0)+IF(ISNUMBER(CSVデータ3!P173),CSVデータ3!P173,0)+IF(ISNUMBER(CSVデータ4!P173),CSVデータ4!P173,0)","v":0},null,{"$f":"IF(ISNUMBER(CSVデータ1!R173),CSVデータ1!R173,0)+IF(ISNUMBER(CSVデータ2!R173),CSVデータ2!R173,0)+IF(ISNUMBER(CSVデータ3!R173),CSVデータ3!R173,0)+IF(ISNUMBER(CSVデータ4!R173),CSVデータ4!R173,0)","v":0},null,{"$f":"IF(ISNUMBER(CSVデータ1!T173),CSVデータ1!T173,0)+IF(ISNUMBER(CSVデータ2!T173),CSVデータ2!T173,0)+IF(ISNUMBER(CSVデータ3!T173),CSVデータ3!T173,0)+IF(ISNUMBER(CSVデータ4!T173),CSVデータ4!T173,0)","v":0},null,{"$f":"IF(ISNUMBER(CSVデータ1!V173),CSVデータ1!V173,0)+IF(ISNUMBER(CSVデータ2!V173),CSVデータ2!V173,0)+IF(ISNUMBER(CSVデータ3!V173),CSVデータ3!V173,0)+IF(ISNUMBER(CSVデータ4!V173),CSVデータ4!V173,0)","v":0},null,{"$f":"IF(ISNUMBER(CSVデータ1!X173),CSVデータ1!X173,0)+IF(ISNUMBER(CSVデータ2!X173),CSVデータ2!X173,0)+IF(ISNUMBER(CSVデータ3!X173),CSVデータ3!X173,0)+IF(ISNUMBER(CSVデータ4!X173),CSVデータ4!X173,0)","v":0},null,{"$f":"IF(ISNUMBER(CSVデータ1!Z173),CSVデータ1!Z173,0)+IF(ISNUMBER(CSVデータ2!Z173),CSVデータ2!Z173,0)+IF(ISNUMBER(CSVデータ3!Z173),CSVデータ3!Z173,0)+IF(ISNUMBER(CSVデータ4!Z173),CSVデータ4!Z173,0)","v":0},null,{"$f":"IF(ISNUMBER(CSVデータ1!AB173),CSVデータ1!AB173,0)+IF(ISNUMBER(CSVデータ2!AB173),CSVデータ2!AB173,0)+IF(ISNUMBER(CSVデータ3!AB173),CSVデータ3!AB173,0)+IF(ISNUMBER(CSVデータ4!AB173),CSVデータ4!AB173,0)","v":0},null,{"$f":"IF(ISNUMBER(CSVデータ1!AD173),CSVデータ1!AD173,0)+IF(ISNUMBER(CSVデータ2!AD173),CSVデータ2!AD173,0)+IF(ISNUMBER(CSVデータ3!AD173),CSVデータ3!AD173,0)+IF(ISNUMBER(CSVデータ4!AD173),CSVデータ4!AD173,0)","v":0},null,{"$f":"IF(ISNUMBER(CSVデータ1!AF173),CSVデータ1!AF173,0)+IF(ISNUMBER(CSVデータ2!AF173),CSVデータ2!AF173,0)+IF(ISNUMBER(CSVデータ3!AF173),CSVデータ3!AF173,0)+IF(ISNUMBER(CSVデータ4!AF173),CSVデータ4!AF173,0)","v":0},null,{"$f":"IF(ISNUMBER(CSVデータ1!AH173),CSVデータ1!AH173,0)+IF(ISNUMBER(CSVデータ2!AH173),CSVデータ2!AH173,0)+IF(ISNUMBER(CSVデータ3!AH173),CSVデータ3!AH173,0)+IF(ISNUMBER(CSVデータ4!AH173),CSVデータ4!AH173,0)","v":0},null,{"$f":"IF(ISNUMBER(CSVデータ1!AJ173),CSVデータ1!AJ173,0)+IF(ISNUMBER(CSVデータ2!AJ173),CSVデータ2!AJ173,0)+IF(ISNUMBER(CSVデータ3!AJ173),CSVデータ3!AJ173,0)+IF(ISNUMBER(CSVデータ4!AJ173),CSVデータ4!AJ173,0)","v":0},null,{"$f":"IF(ISNUMBER(CSVデータ1!AL173),CSVデータ1!AL173,0)+IF(ISNUMBER(CSVデータ2!AL173),CSVデータ2!AL173,0)+IF(ISNUMBER(CSVデータ3!AL173),CSVデータ3!AL173,0)+IF(ISNUMBER(CSVデータ4!AL173),CSVデータ4!AL173,0)","v":0},null,{"$f":"IF(ISNUMBER(CSVデータ1!AN173),CSVデータ1!AN173,0)+IF(ISNUMBER(CSVデータ2!AN173),CSVデータ2!AN173,0)+IF(ISNUMBER(CSVデータ3!AN173),CSVデータ3!AN173,0)+IF(ISNUMBER(CSVデータ4!AN173),CSVデータ4!AN173,0)","v":0}]
[{"$f":"CSVデータ1!A174","v":"明細部"},{"$f":"CSVデータ1!B174","v":"保険者（地区）"},{"$f":"CSVデータ1!C174","v":70},{"$f":"CSVデータ1!D174","v":"男"},{"$f":"IF(ISNUMBER(CSVデータ1!E174),CSVデータ1!E174,0)+IF(ISNUMBER(CSVデータ2!E174),CSVデータ2!E174,0)+IF(ISNUMBER(CSVデータ3!E174),CSVデータ3!E174,0)+IF(ISNUMBER(CSVデータ4!E174),CSVデータ4!E174,0)","v":0},{"$f":"IF(ISNUMBER(CSVデータ1!F174),CSVデータ1!F174,0)+IF(ISNUMBER(CSVデータ2!F174),CSVデータ2!F174,0)+IF(ISNUMBER(CSVデータ3!F174),CSVデータ3!F174,0)+IF(ISNUMBER(CSVデータ4!F174),CSVデータ4!F174,0)","v":0},null,{"$f":"IF(ISNUMBER(CSVデータ1!H174),CSVデータ1!H174,0)+IF(ISNUMBER(CSVデータ2!H174),CSVデータ2!H174,0)+IF(ISNUMBER(CSVデータ3!H174),CSVデータ3!H174,0)+IF(ISNUMBER(CSVデータ4!H174),CSVデータ4!H174,0)","v":0},null,{"$f":"IF(ISNUMBER(CSVデータ1!J174),CSVデータ1!J174,0)+IF(ISNUMBER(CSVデータ2!J174),CSVデータ2!J174,0)+IF(ISNUMBER(CSVデータ3!J174),CSVデータ3!J174,0)+IF(ISNUMBER(CSVデータ4!J174),CSVデータ4!J174,0)","v":0},null,{"$f":"IF(ISNUMBER(CSVデータ1!L174),CSVデータ1!L174,0)+IF(ISNUMBER(CSVデータ2!L174),CSVデータ2!L174,0)+IF(ISNUMBER(CSVデータ3!L174),CSVデータ3!L174,0)+IF(ISNUMBER(CSVデータ4!L174),CSVデータ4!L174,0)","v":0},null,{"$f":"IF(ISNUMBER(CSVデータ1!N174),CSVデータ1!N174,0)+IF(ISNUMBER(CSVデータ2!N174),CSVデータ2!N174,0)+IF(ISNUMBER(CSVデータ3!N174),CSVデータ3!N174,0)+IF(ISNUMBER(CSVデータ4!N174),CSVデータ4!N174,0)","v":0},null,{"$f":"IF(ISNUMBER(CSVデータ1!P174),CSVデータ1!P174,0)+IF(ISNUMBER(CSVデータ2!P174),CSVデータ2!P174,0)+IF(ISNUMBER(CSVデータ3!P174),CSVデータ3!P174,0)+IF(ISNUMBER(CSVデータ4!P174),CSVデータ4!P174,0)","v":0},null,{"$f":"IF(ISNUMBER(CSVデータ1!R174),CSVデータ1!R174,0)+IF(ISNUMBER(CSVデータ2!R174),CSVデータ2!R174,0)+IF(ISNUMBER(CSVデータ3!R174),CSVデータ3!R174,0)+IF(ISNUMBER(CSVデータ4!R174),CSVデータ4!R174,0)","v":0},null,{"$f":"IF(ISNUMBER(CSVデータ1!T174),CSVデータ1!T174,0)+IF(ISNUMBER(CSVデータ2!T174),CSVデータ2!T174,0)+IF(ISNUMBER(CSVデータ3!T174),CSVデータ3!T174,0)+IF(ISNUMBER(CSVデータ4!T174),CSVデータ4!T174,0)","v":0},null,{"$f":"IF(ISNUMBER(CSVデータ1!V174),CSVデータ1!V174,0)+IF(ISNUMBER(CSVデータ2!V174),CSVデータ2!V174,0)+IF(ISNUMBER(CSVデータ3!V174),CSVデータ3!V174,0)+IF(ISNUMBER(CSVデータ4!V174),CSVデータ4!V174,0)","v":0},null,{"$f":"IF(ISNUMBER(CSVデータ1!X174),CSVデータ1!X174,0)+IF(ISNUMBER(CSVデータ2!X174),CSVデータ2!X174,0)+IF(ISNUMBER(CSVデータ3!X174),CSVデータ3!X174,0)+IF(ISNUMBER(CSVデータ4!X174),CSVデータ4!X174,0)","v":0},null,{"$f":"IF(ISNUMBER(CSVデータ1!Z174),CSVデータ1!Z174,0)+IF(ISNUMBER(CSVデータ2!Z174),CSVデータ2!Z174,0)+IF(ISNUMBER(CSVデータ3!Z174),CSVデータ3!Z174,0)+IF(ISNUMBER(CSVデータ4!Z174),CSVデータ4!Z174,0)","v":0},null,{"$f":"IF(ISNUMBER(CSVデータ1!AB174),CSVデータ1!AB174,0)+IF(ISNUMBER(CSVデータ2!AB174),CSVデータ2!AB174,0)+IF(ISNUMBER(CSVデータ3!AB174),CSVデータ3!AB174,0)+IF(ISNUMBER(CSVデータ4!AB174),CSVデータ4!AB174,0)","v":0},null,{"$f":"IF(ISNUMBER(CSVデータ1!AD174),CSVデータ1!AD174,0)+IF(ISNUMBER(CSVデータ2!AD174),CSVデータ2!AD174,0)+IF(ISNUMBER(CSVデータ3!AD174),CSVデータ3!AD174,0)+IF(ISNUMBER(CSVデータ4!AD174),CSVデータ4!AD174,0)","v":0},null,{"$f":"IF(ISNUMBER(CSVデータ1!AF174),CSVデータ1!AF174,0)+IF(ISNUMBER(CSVデータ2!AF174),CSVデータ2!AF174,0)+IF(ISNUMBER(CSVデータ3!AF174),CSVデータ3!AF174,0)+IF(ISNUMBER(CSVデータ4!AF174),CSVデータ4!AF174,0)","v":0},null,{"$f":"IF(ISNUMBER(CSVデータ1!AH174),CSVデータ1!AH174,0)+IF(ISNUMBER(CSVデータ2!AH174),CSVデータ2!AH174,0)+IF(ISNUMBER(CSVデータ3!AH174),CSVデータ3!AH174,0)+IF(ISNUMBER(CSVデータ4!AH174),CSVデータ4!AH174,0)","v":0},null,{"$f":"IF(ISNUMBER(CSVデータ1!AJ174),CSVデータ1!AJ174,0)+IF(ISNUMBER(CSVデータ2!AJ174),CSVデータ2!AJ174,0)+IF(ISNUMBER(CSVデータ3!AJ174),CSVデータ3!AJ174,0)+IF(ISNUMBER(CSVデータ4!AJ174),CSVデータ4!AJ174,0)","v":0},null,{"$f":"IF(ISNUMBER(CSVデータ1!AL174),CSVデータ1!AL174,0)+IF(ISNUMBER(CSVデータ2!AL174),CSVデータ2!AL174,0)+IF(ISNUMBER(CSVデータ3!AL174),CSVデータ3!AL174,0)+IF(ISNUMBER(CSVデータ4!AL174),CSVデータ4!AL174,0)","v":0},null,{"$f":"IF(ISNUMBER(CSVデータ1!AN174),CSVデータ1!AN174,0)+IF(ISNUMBER(CSVデータ2!AN174),CSVデータ2!AN174,0)+IF(ISNUMBER(CSVデータ3!AN174),CSVデータ3!AN174,0)+IF(ISNUMBER(CSVデータ4!AN174),CSVデータ4!AN174,0)","v":0}]
[{"$f":"CSVデータ1!A175","v":"明細部"},{"$f":"CSVデータ1!B175","v":"保険者（地区）"},{"$f":"CSVデータ1!C175","v":71},{"$f":"CSVデータ1!D175","v":"男"},{"$f":"IF(ISNUMBER(CSVデータ1!E175),CSVデータ1!E175,0)+IF(ISNUMBER(CSVデータ2!E175),CSVデータ2!E175,0)+IF(ISNUMBER(CSVデータ3!E175),CSVデータ3!E175,0)+IF(ISNUMBER(CSVデータ4!E175),CSVデータ4!E175,0)","v":0},{"$f":"IF(ISNUMBER(CSVデータ1!F175),CSVデータ1!F175,0)+IF(ISNUMBER(CSVデータ2!F175),CSVデータ2!F175,0)+IF(ISNUMBER(CSVデータ3!F175),CSVデータ3!F175,0)+IF(ISNUMBER(CSVデータ4!F175),CSVデータ4!F175,0)","v":0},null,{"$f":"IF(ISNUMBER(CSVデータ1!H175),CSVデータ1!H175,0)+IF(ISNUMBER(CSVデータ2!H175),CSVデータ2!H175,0)+IF(ISNUMBER(CSVデータ3!H175),CSVデータ3!H175,0)+IF(ISNUMBER(CSVデータ4!H175),CSVデータ4!H175,0)","v":0},null,{"$f":"IF(ISNUMBER(CSVデータ1!J175),CSVデータ1!J175,0)+IF(ISNUMBER(CSVデータ2!J175),CSVデータ2!J175,0)+IF(ISNUMBER(CSVデータ3!J175),CSVデータ3!J175,0)+IF(ISNUMBER(CSVデータ4!J175),CSVデータ4!J175,0)","v":0},null,{"$f":"IF(ISNUMBER(CSVデータ1!L175),CSVデータ1!L175,0)+IF(ISNUMBER(CSVデータ2!L175),CSVデータ2!L175,0)+IF(ISNUMBER(CSVデータ3!L175),CSVデータ3!L175,0)+IF(ISNUMBER(CSVデータ4!L175),CSVデータ4!L175,0)","v":0},null,{"$f":"IF(ISNUMBER(CSVデータ1!N175),CSVデータ1!N175,0)+IF(ISNUMBER(CSVデータ2!N175),CSVデータ2!N175,0)+IF(ISNUMBER(CSVデータ3!N175),CSVデータ3!N175,0)+IF(ISNUMBER(CSVデータ4!N175),CSVデータ4!N175,0)","v":0},null,{"$f":"IF(ISNUMBER(CSVデータ1!P175),CSVデータ1!P175,0)+IF(ISNUMBER(CSVデータ2!P175),CSVデータ2!P175,0)+IF(ISNUMBER(CSVデータ3!P175),CSVデータ3!P175,0)+IF(ISNUMBER(CSVデータ4!P175),CSVデータ4!P175,0)","v":0},null,{"$f":"IF(ISNUMBER(CSVデータ1!R175),CSVデータ1!R175,0)+IF(ISNUMBER(CSVデータ2!R175),CSVデータ2!R175,0)+IF(ISNUMBER(CSVデータ3!R175),CSVデータ3!R175,0)+IF(ISNUMBER(CSVデータ4!R175),CSVデータ4!R175,0)","v":0},null,{"$f":"IF(ISNUMBER(CSVデータ1!T175),CSVデータ1!T175,0)+IF(ISNUMBER(CSVデータ2!T175),CSVデータ2!T175,0)+IF(ISNUMBER(CSVデータ3!T175),CSVデータ3!T175,0)+IF(ISNUMBER(CSVデータ4!T175),CSVデータ4!T175,0)","v":0},null,{"$f":"IF(ISNUMBER(CSVデータ1!V175),CSVデータ1!V175,0)+IF(ISNUMBER(CSVデータ2!V175),CSVデータ2!V175,0)+IF(ISNUMBER(CSVデータ3!V175),CSVデータ3!V175,0)+IF(ISNUMBER(CSVデータ4!V175),CSVデータ4!V175,0)","v":0},null,{"$f":"IF(ISNUMBER(CSVデータ1!X175),CSVデータ1!X175,0)+IF(ISNUMBER(CSVデータ2!X175),CSVデータ2!X175,0)+IF(ISNUMBER(CSVデータ3!X175),CSVデータ3!X175,0)+IF(ISNUMBER(CSVデータ4!X175),CSVデータ4!X175,0)","v":0},null,{"$f":"IF(ISNUMBER(CSVデータ1!Z175),CSVデータ1!Z175,0)+IF(ISNUMBER(CSVデータ2!Z175),CSVデータ2!Z175,0)+IF(ISNUMBER(CSVデータ3!Z175),CSVデータ3!Z175,0)+IF(ISNUMBER(CSVデータ4!Z175),CSVデータ4!Z175,0)","v":0},null,{"$f":"IF(ISNUMBER(CSVデータ1!AB175),CSVデータ1!AB175,0)+IF(ISNUMBER(CSVデータ2!AB175),CSVデータ2!AB175,0)+IF(ISNUMBER(CSVデータ3!AB175),CSVデータ3!AB175,0)+IF(ISNUMBER(CSVデータ4!AB175),CSVデータ4!AB175,0)","v":0},null,{"$f":"IF(ISNUMBER(CSVデータ1!AD175),CSVデータ1!AD175,0)+IF(ISNUMBER(CSVデータ2!AD175),CSVデータ2!AD175,0)+IF(ISNUMBER(CSVデータ3!AD175),CSVデータ3!AD175,0)+IF(ISNUMBER(CSVデータ4!AD175),CSVデータ4!AD175,0)","v":0},null,{"$f":"IF(ISNUMBER(CSVデータ1!AF175),CSVデータ1!AF175,0)+IF(ISNUMBER(CSVデータ2!AF175),CSVデータ2!AF175,0)+IF(ISNUMBER(CSVデータ3!AF175),CSVデータ3!AF175,0)+IF(ISNUMBER(CSVデータ4!AF175),CSVデータ4!AF175,0)","v":0},null,{"$f":"IF(ISNUMBER(CSVデータ1!AH175),CSVデータ1!AH175,0)+IF(ISNUMBER(CSVデータ2!AH175),CSVデータ2!AH175,0)+IF(ISNUMBER(CSVデータ3!AH175),CSVデータ3!AH175,0)+IF(ISNUMBER(CSVデータ4!AH175),CSVデータ4!AH175,0)","v":0},null,{"$f":"IF(ISNUMBER(CSVデータ1!AJ175),CSVデータ1!AJ175,0)+IF(ISNUMBER(CSVデータ2!AJ175),CSVデータ2!AJ175,0)+IF(ISNUMBER(CSVデータ3!AJ175),CSVデータ3!AJ175,0)+IF(ISNUMBER(CSVデータ4!AJ175),CSVデータ4!AJ175,0)","v":0},null,{"$f":"IF(ISNUMBER(CSVデータ1!AL175),CSVデータ1!AL175,0)+IF(ISNUMBER(CSVデータ2!AL175),CSVデータ2!AL175,0)+IF(ISNUMBER(CSVデータ3!AL175),CSVデータ3!AL175,0)+IF(ISNUMBER(CSVデータ4!AL175),CSVデータ4!AL175,0)","v":0},null,{"$f":"IF(ISNUMBER(CSVデータ1!AN175),CSVデータ1!AN175,0)+IF(ISNUMBER(CSVデータ2!AN175),CSVデータ2!AN175,0)+IF(ISNUMBER(CSVデータ3!AN175),CSVデータ3!AN175,0)+IF(ISNUMBER(CSVデータ4!AN175),CSVデータ4!AN175,0)","v":0}]
[{"$f":"CSVデータ1!A176","v":"明細部"},{"$f":"CSVデータ1!B176","v":"保険者（地区）"},{"$f":"CSVデータ1!C176","v":72},{"$f":"CSVデータ1!D176","v":"男"},{"$f":"IF(ISNUMBER(CSVデータ1!E176),CSVデータ1!E176,0)+IF(ISNUMBER(CSVデータ2!E176),CSVデータ2!E176,0)+IF(ISNUMBER(CSVデータ3!E176),CSVデータ3!E176,0)+IF(ISNUMBER(CSVデータ4!E176),CSVデータ4!E176,0)","v":0},{"$f":"IF(ISNUMBER(CSVデータ1!F176),CSVデータ1!F176,0)+IF(ISNUMBER(CSVデータ2!F176),CSVデータ2!F176,0)+IF(ISNUMBER(CSVデータ3!F176),CSVデータ3!F176,0)+IF(ISNUMBER(CSVデータ4!F176),CSVデータ4!F176,0)","v":0},null,{"$f":"IF(ISNUMBER(CSVデータ1!H176),CSVデータ1!H176,0)+IF(ISNUMBER(CSVデータ2!H176),CSVデータ2!H176,0)+IF(ISNUMBER(CSVデータ3!H176),CSVデータ3!H176,0)+IF(ISNUMBER(CSVデータ4!H176),CSVデータ4!H176,0)","v":0},null,{"$f":"IF(ISNUMBER(CSVデータ1!J176),CSVデータ1!J176,0)+IF(ISNUMBER(CSVデータ2!J176),CSVデータ2!J176,0)+IF(ISNUMBER(CSVデータ3!J176),CSVデータ3!J176,0)+IF(ISNUMBER(CSVデータ4!J176),CSVデータ4!J176,0)","v":0},null,{"$f":"IF(ISNUMBER(CSVデータ1!L176),CSVデータ1!L176,0)+IF(ISNUMBER(CSVデータ2!L176),CSVデータ2!L176,0)+IF(ISNUMBER(CSVデータ3!L176),CSVデータ3!L176,0)+IF(ISNUMBER(CSVデータ4!L176),CSVデータ4!L176,0)","v":0},null,{"$f":"IF(ISNUMBER(CSVデータ1!N176),CSVデータ1!N176,0)+IF(ISNUMBER(CSVデータ2!N176),CSVデータ2!N176,0)+IF(ISNUMBER(CSVデータ3!N176),CSVデータ3!N176,0)+IF(ISNUMBER(CSVデータ4!N176),CSVデータ4!N176,0)","v":0},null,{"$f":"IF(ISNUMBER(CSVデータ1!P176),CSVデータ1!P176,0)+IF(ISNUMBER(CSVデータ2!P176),CSVデータ2!P176,0)+IF(ISNUMBER(CSVデータ3!P176),CSVデータ3!P176,0)+IF(ISNUMBER(CSVデータ4!P176),CSVデータ4!P176,0)","v":0},null,{"$f":"IF(ISNUMBER(CSVデータ1!R176),CSVデータ1!R176,0)+IF(ISNUMBER(CSVデータ2!R176),CSVデータ2!R176,0)+IF(ISNUMBER(CSVデータ3!R176),CSVデータ3!R176,0)+IF(ISNUMBER(CSVデータ4!R176),CSVデータ4!R176,0)","v":0},null,{"$f":"IF(ISNUMBER(CSVデータ1!T176),CSVデータ1!T176,0)+IF(ISNUMBER(CSVデータ2!T176),CSVデータ2!T176,0)+IF(ISNUMBER(CSVデータ3!T176),CSVデータ3!T176,0)+IF(ISNUMBER(CSVデータ4!T176),CSVデータ4!T176,0)","v":0},null,{"$f":"IF(ISNUMBER(CSVデータ1!V176),CSVデータ1!V176,0)+IF(ISNUMBER(CSVデータ2!V176),CSVデータ2!V176,0)+IF(ISNUMBER(CSVデータ3!V176),CSVデータ3!V176,0)+IF(ISNUMBER(CSVデータ4!V176),CSVデータ4!V176,0)","v":0},null,{"$f":"IF(ISNUMBER(CSVデータ1!X176),CSVデータ1!X176,0)+IF(ISNUMBER(CSVデータ2!X176),CSVデータ2!X176,0)+IF(ISNUMBER(CSVデータ3!X176),CSVデータ3!X176,0)+IF(ISNUMBER(CSVデータ4!X176),CSVデータ4!X176,0)","v":0},null,{"$f":"IF(ISNUMBER(CSVデータ1!Z176),CSVデータ1!Z176,0)+IF(ISNUMBER(CSVデータ2!Z176),CSVデータ2!Z176,0)+IF(ISNUMBER(CSVデータ3!Z176),CSVデータ3!Z176,0)+IF(ISNUMBER(CSVデータ4!Z176),CSVデータ4!Z176,0)","v":0},null,{"$f":"IF(ISNUMBER(CSVデータ1!AB176),CSVデータ1!AB176,0)+IF(ISNUMBER(CSVデータ2!AB176),CSVデータ2!AB176,0)+IF(ISNUMBER(CSVデータ3!AB176),CSVデータ3!AB176,0)+IF(ISNUMBER(CSVデータ4!AB176),CSVデータ4!AB176,0)","v":0},null,{"$f":"IF(ISNUMBER(CSVデータ1!AD176),CSVデータ1!AD176,0)+IF(ISNUMBER(CSVデータ2!AD176),CSVデータ2!AD176,0)+IF(ISNUMBER(CSVデータ3!AD176),CSVデータ3!AD176,0)+IF(ISNUMBER(CSVデータ4!AD176),CSVデータ4!AD176,0)","v":0},null,{"$f":"IF(ISNUMBER(CSVデータ1!AF176),CSVデータ1!AF176,0)+IF(ISNUMBER(CSVデータ2!AF176),CSVデータ2!AF176,0)+IF(ISNUMBER(CSVデータ3!AF176),CSVデータ3!AF176,0)+IF(ISNUMBER(CSVデータ4!AF176),CSVデータ4!AF176,0)","v":0},null,{"$f":"IF(ISNUMBER(CSVデータ1!AH176),CSVデータ1!AH176,0)+IF(ISNUMBER(CSVデータ2!AH176),CSVデータ2!AH176,0)+IF(ISNUMBER(CSVデータ3!AH176),CSVデータ3!AH176,0)+IF(ISNUMBER(CSVデータ4!AH176),CSVデータ4!AH176,0)","v":0},null,{"$f":"IF(ISNUMBER(CSVデータ1!AJ176),CSVデータ1!AJ176,0)+IF(ISNUMBER(CSVデータ2!AJ176),CSVデータ2!AJ176,0)+IF(ISNUMBER(CSVデータ3!AJ176),CSVデータ3!AJ176,0)+IF(ISNUMBER(CSVデータ4!AJ176),CSVデータ4!AJ176,0)","v":0},null,{"$f":"IF(ISNUMBER(CSVデータ1!AL176),CSVデータ1!AL176,0)+IF(ISNUMBER(CSVデータ2!AL176),CSVデータ2!AL176,0)+IF(ISNUMBER(CSVデータ3!AL176),CSVデータ3!AL176,0)+IF(ISNUMBER(CSVデータ4!AL176),CSVデータ4!AL176,0)","v":0},null,{"$f":"IF(ISNUMBER(CSVデータ1!AN176),CSVデータ1!AN176,0)+IF(ISNUMBER(CSVデータ2!AN176),CSVデータ2!AN176,0)+IF(ISNUMBER(CSVデータ3!AN176),CSVデータ3!AN176,0)+IF(ISNUMBER(CSVデータ4!AN176),CSVデータ4!AN176,0)","v":0}]
[{"$f":"CSVデータ1!A177","v":"明細部"},{"$f":"CSVデータ1!B177","v":"保険者（地区）"},{"$f":"CSVデータ1!C177","v":73},{"$f":"CSVデータ1!D177","v":"男"},{"$f":"IF(ISNUMBER(CSVデータ1!E177),CSVデータ1!E177,0)+IF(ISNUMBER(CSVデータ2!E177),CSVデータ2!E177,0)+IF(ISNUMBER(CSVデータ3!E177),CSVデータ3!E177,0)+IF(ISNUMBER(CSVデータ4!E177),CSVデータ4!E177,0)","v":0},{"$f":"IF(ISNUMBER(CSVデータ1!F177),CSVデータ1!F177,0)+IF(ISNUMBER(CSVデータ2!F177),CSVデータ2!F177,0)+IF(ISNUMBER(CSVデータ3!F177),CSVデータ3!F177,0)+IF(ISNUMBER(CSVデータ4!F177),CSVデータ4!F177,0)","v":0},null,{"$f":"IF(ISNUMBER(CSVデータ1!H177),CSVデータ1!H177,0)+IF(ISNUMBER(CSVデータ2!H177),CSVデータ2!H177,0)+IF(ISNUMBER(CSVデータ3!H177),CSVデータ3!H177,0)+IF(ISNUMBER(CSVデータ4!H177),CSVデータ4!H177,0)","v":0},null,{"$f":"IF(ISNUMBER(CSVデータ1!J177),CSVデータ1!J177,0)+IF(ISNUMBER(CSVデータ2!J177),CSVデータ2!J177,0)+IF(ISNUMBER(CSVデータ3!J177),CSVデータ3!J177,0)+IF(ISNUMBER(CSVデータ4!J177),CSVデータ4!J177,0)","v":0},null,{"$f":"IF(ISNUMBER(CSVデータ1!L177),CSVデータ1!L177,0)+IF(ISNUMBER(CSVデータ2!L177),CSVデータ2!L177,0)+IF(ISNUMBER(CSVデータ3!L177),CSVデータ3!L177,0)+IF(ISNUMBER(CSVデータ4!L177),CSVデータ4!L177,0)","v":0},null,{"$f":"IF(ISNUMBER(CSVデータ1!N177),CSVデータ1!N177,0)+IF(ISNUMBER(CSVデータ2!N177),CSVデータ2!N177,0)+IF(ISNUMBER(CSVデータ3!N177),CSVデータ3!N177,0)+IF(ISNUMBER(CSVデータ4!N177),CSVデータ4!N177,0)","v":0},null,{"$f":"IF(ISNUMBER(CSVデータ1!P177),CSVデータ1!P177,0)+IF(ISNUMBER(CSVデータ2!P177),CSVデータ2!P177,0)+IF(ISNUMBER(CSVデータ3!P177),CSVデータ3!P177,0)+IF(ISNUMBER(CSVデータ4!P177),CSVデータ4!P177,0)","v":0},null,{"$f":"IF(ISNUMBER(CSVデータ1!R177),CSVデータ1!R177,0)+IF(ISNUMBER(CSVデータ2!R177),CSVデータ2!R177,0)+IF(ISNUMBER(CSVデータ3!R177),CSVデータ3!R177,0)+IF(ISNUMBER(CSVデータ4!R177),CSVデータ4!R177,0)","v":0},null,{"$f":"IF(ISNUMBER(CSVデータ1!T177),CSVデータ1!T177,0)+IF(ISNUMBER(CSVデータ2!T177),CSVデータ2!T177,0)+IF(ISNUMBER(CSVデータ3!T177),CSVデータ3!T177,0)+IF(ISNUMBER(CSVデータ4!T177),CSVデータ4!T177,0)","v":0},null,{"$f":"IF(ISNUMBER(CSVデータ1!V177),CSVデータ1!V177,0)+IF(ISNUMBER(CSVデータ2!V177),CSVデータ2!V177,0)+IF(ISNUMBER(CSVデータ3!V177),CSVデータ3!V177,0)+IF(ISNUMBER(CSVデータ4!V177),CSVデータ4!V177,0)","v":0},null,{"$f":"IF(ISNUMBER(CSVデータ1!X177),CSVデータ1!X177,0)+IF(ISNUMBER(CSVデータ2!X177),CSVデータ2!X177,0)+IF(ISNUMBER(CSVデータ3!X177),CSVデータ3!X177,0)+IF(ISNUMBER(CSVデータ4!X177),CSVデータ4!X177,0)","v":0},null,{"$f":"IF(ISNUMBER(CSVデータ1!Z177),CSVデータ1!Z177,0)+IF(ISNUMBER(CSVデータ2!Z177),CSVデータ2!Z177,0)+IF(ISNUMBER(CSVデータ3!Z177),CSVデータ3!Z177,0)+IF(ISNUMBER(CSVデータ4!Z177),CSVデータ4!Z177,0)","v":0},null,{"$f":"IF(ISNUMBER(CSVデータ1!AB177),CSVデータ1!AB177,0)+IF(ISNUMBER(CSVデータ2!AB177),CSVデータ2!AB177,0)+IF(ISNUMBER(CSVデータ3!AB177),CSVデータ3!AB177,0)+IF(ISNUMBER(CSVデータ4!AB177),CSVデータ4!AB177,0)","v":0},null,{"$f":"IF(ISNUMBER(CSVデータ1!AD177),CSVデータ1!AD177,0)+IF(ISNUMBER(CSVデータ2!AD177),CSVデータ2!AD177,0)+IF(ISNUMBER(CSVデータ3!AD177),CSVデータ3!AD177,0)+IF(ISNUMBER(CSVデータ4!AD177),CSVデータ4!AD177,0)","v":0},null,{"$f":"IF(ISNUMBER(CSVデータ1!AF177),CSVデータ1!AF177,0)+IF(ISNUMBER(CSVデータ2!AF177),CSVデータ2!AF177,0)+IF(ISNUMBER(CSVデータ3!AF177),CSVデータ3!AF177,0)+IF(ISNUMBER(CSVデータ4!AF177),CSVデータ4!AF177,0)","v":0},null,{"$f":"IF(ISNUMBER(CSVデータ1!AH177),CSVデータ1!AH177,0)+IF(ISNUMBER(CSVデータ2!AH177),CSVデータ2!AH177,0)+IF(ISNUMBER(CSVデータ3!AH177),CSVデータ3!AH177,0)+IF(ISNUMBER(CSVデータ4!AH177),CSVデータ4!AH177,0)","v":0},null,{"$f":"IF(ISNUMBER(CSVデータ1!AJ177),CSVデータ1!AJ177,0)+IF(ISNUMBER(CSVデータ2!AJ177),CSVデータ2!AJ177,0)+IF(ISNUMBER(CSVデータ3!AJ177),CSVデータ3!AJ177,0)+IF(ISNUMBER(CSVデータ4!AJ177),CSVデータ4!AJ177,0)","v":0},null,{"$f":"IF(ISNUMBER(CSVデータ1!AL177),CSVデータ1!AL177,0)+IF(ISNUMBER(CSVデータ2!AL177),CSVデータ2!AL177,0)+IF(ISNUMBER(CSVデータ3!AL177),CSVデータ3!AL177,0)+IF(ISNUMBER(CSVデータ4!AL177),CSVデータ4!AL177,0)","v":0},null,{"$f":"IF(ISNUMBER(CSVデータ1!AN177),CSVデータ1!AN177,0)+IF(ISNUMBER(CSVデータ2!AN177),CSVデータ2!AN177,0)+IF(ISNUMBER(CSVデータ3!AN177),CSVデータ3!AN177,0)+IF(ISNUMBER(CSVデータ4!AN177),CSVデータ4!AN177,0)","v":0}]
[{"$f":"CSVデータ1!A178","v":"明細部"},{"$f":"CSVデータ1!B178","v":"保険者（地区）"},{"$f":"CSVデータ1!C178","v":74},{"$f":"CSVデータ1!D178","v":"男"},{"$f":"IF(ISNUMBER(CSVデータ1!E178),CSVデータ1!E178,0)+IF(ISNUMBER(CSVデータ2!E178),CSVデータ2!E178,0)+IF(ISNUMBER(CSVデータ3!E178),CSVデータ3!E178,0)+IF(ISNUMBER(CSVデータ4!E178),CSVデータ4!E178,0)","v":0},{"$f":"IF(ISNUMBER(CSVデータ1!F178),CSVデータ1!F178,0)+IF(ISNUMBER(CSVデータ2!F178),CSVデータ2!F178,0)+IF(ISNUMBER(CSVデータ3!F178),CSVデータ3!F178,0)+IF(ISNUMBER(CSVデータ4!F178),CSVデータ4!F178,0)","v":0},null,{"$f":"IF(ISNUMBER(CSVデータ1!H178),CSVデータ1!H178,0)+IF(ISNUMBER(CSVデータ2!H178),CSVデータ2!H178,0)+IF(ISNUMBER(CSVデータ3!H178),CSVデータ3!H178,0)+IF(ISNUMBER(CSVデータ4!H178),CSVデータ4!H178,0)","v":0},null,{"$f":"IF(ISNUMBER(CSVデータ1!J178),CSVデータ1!J178,0)+IF(ISNUMBER(CSVデータ2!J178),CSVデータ2!J178,0)+IF(ISNUMBER(CSVデータ3!J178),CSVデータ3!J178,0)+IF(ISNUMBER(CSVデータ4!J178),CSVデータ4!J178,0)","v":0},null,{"$f":"IF(ISNUMBER(CSVデータ1!L178),CSVデータ1!L178,0)+IF(ISNUMBER(CSVデータ2!L178),CSVデータ2!L178,0)+IF(ISNUMBER(CSVデータ3!L178),CSVデータ3!L178,0)+IF(ISNUMBER(CSVデータ4!L178),CSVデータ4!L178,0)","v":0},null,{"$f":"IF(ISNUMBER(CSVデータ1!N178),CSVデータ1!N178,0)+IF(ISNUMBER(CSVデータ2!N178),CSVデータ2!N178,0)+IF(ISNUMBER(CSVデータ3!N178),CSVデータ3!N178,0)+IF(ISNUMBER(CSVデータ4!N178),CSVデータ4!N178,0)","v":0},null,{"$f":"IF(ISNUMBER(CSVデータ1!P178),CSVデータ1!P178,0)+IF(ISNUMBER(CSVデータ2!P178),CSVデータ2!P178,0)+IF(ISNUMBER(CSVデータ3!P178),CSVデータ3!P178,0)+IF(ISNUMBER(CSVデータ4!P178),CSVデータ4!P178,0)","v":0},null,{"$f":"IF(ISNUMBER(CSVデータ1!R178),CSVデータ1!R178,0)+IF(ISNUMBER(CSVデータ2!R178),CSVデータ2!R178,0)+IF(ISNUMBER(CSVデータ3!R178),CSVデータ3!R178,0)+IF(ISNUMBER(CSVデータ4!R178),CSVデータ4!R178,0)","v":0},null,{"$f":"IF(ISNUMBER(CSVデータ1!T178),CSVデータ1!T178,0)+IF(ISNUMBER(CSVデータ2!T178),CSVデータ2!T178,0)+IF(ISNUMBER(CSVデータ3!T178),CSVデータ3!T178,0)+IF(ISNUMBER(CSVデータ4!T178),CSVデータ4!T178,0)","v":0},null,{"$f":"IF(ISNUMBER(CSVデータ1!V178),CSVデータ1!V178,0)+IF(ISNUMBER(CSVデータ2!V178),CSVデータ2!V178,0)+IF(ISNUMBER(CSVデータ3!V178),CSVデータ3!V178,0)+IF(ISNUMBER(CSVデータ4!V178),CSVデータ4!V178,0)","v":0},null,{"$f":"IF(ISNUMBER(CSVデータ1!X178),CSVデータ1!X178,0)+IF(ISNUMBER(CSVデータ2!X178),CSVデータ2!X178,0)+IF(ISNUMBER(CSVデータ3!X178),CSVデータ3!X178,0)+IF(ISNUMBER(CSVデータ4!X178),CSVデータ4!X178,0)","v":0},null,{"$f":"IF(ISNUMBER(CSVデータ1!Z178),CSVデータ1!Z178,0)+IF(ISNUMBER(CSVデータ2!Z178),CSVデータ2!Z178,0)+IF(ISNUMBER(CSVデータ3!Z178),CSVデータ3!Z178,0)+IF(ISNUMBER(CSVデータ4!Z178),CSVデータ4!Z178,0)","v":0},null,{"$f":"IF(ISNUMBER(CSVデータ1!AB178),CSVデータ1!AB178,0)+IF(ISNUMBER(CSVデータ2!AB178),CSVデータ2!AB178,0)+IF(ISNUMBER(CSVデータ3!AB178),CSVデータ3!AB178,0)+IF(ISNUMBER(CSVデータ4!AB178),CSVデータ4!AB178,0)","v":0},null,{"$f":"IF(ISNUMBER(CSVデータ1!AD178),CSVデータ1!AD178,0)+IF(ISNUMBER(CSVデータ2!AD178),CSVデータ2!AD178,0)+IF(ISNUMBER(CSVデータ3!AD178),CSVデータ3!AD178,0)+IF(ISNUMBER(CSVデータ4!AD178),CSVデータ4!AD178,0)","v":0},null,{"$f":"IF(ISNUMBER(CSVデータ1!AF178),CSVデータ1!AF178,0)+IF(ISNUMBER(CSVデータ2!AF178),CSVデータ2!AF178,0)+IF(ISNUMBER(CSVデータ3!AF178),CSVデータ3!AF178,0)+IF(ISNUMBER(CSVデータ4!AF178),CSVデータ4!AF178,0)","v":0},null,{"$f":"IF(ISNUMBER(CSVデータ1!AH178),CSVデータ1!AH178,0)+IF(ISNUMBER(CSVデータ2!AH178),CSVデータ2!AH178,0)+IF(ISNUMBER(CSVデータ3!AH178),CSVデータ3!AH178,0)+IF(ISNUMBER(CSVデータ4!AH178),CSVデータ4!AH178,0)","v":0},null,{"$f":"IF(ISNUMBER(CSVデータ1!AJ178),CSVデータ1!AJ178,0)+IF(ISNUMBER(CSVデータ2!AJ178),CSVデータ2!AJ178,0)+IF(ISNUMBER(CSVデータ3!AJ178),CSVデータ3!AJ178,0)+IF(ISNUMBER(CSVデータ4!AJ178),CSVデータ4!AJ178,0)","v":0},null,{"$f":"IF(ISNUMBER(CSVデータ1!AL178),CSVデータ1!AL178,0)+IF(ISNUMBER(CSVデータ2!AL178),CSVデータ2!AL178,0)+IF(ISNUMBER(CSVデータ3!AL178),CSVデータ3!AL178,0)+IF(ISNUMBER(CSVデータ4!AL178),CSVデータ4!AL178,0)","v":0},null,{"$f":"IF(ISNUMBER(CSVデータ1!AN178),CSVデータ1!AN178,0)+IF(ISNUMBER(CSVデータ2!AN178),CSVデータ2!AN178,0)+IF(ISNUMBER(CSVデータ3!AN178),CSVデータ3!AN178,0)+IF(ISNUMBER(CSVデータ4!AN178),CSVデータ4!AN178,0)","v":0}]
[{"$f":"CSVデータ1!A179","v":"明細部"},{"$f":"CSVデータ1!B179","v":"保険者（地区）"},{"$f":"CSVデータ1!C179","v":40},{"$f":"CSVデータ1!D179","v":"女"},{"$f":"IF(ISNUMBER(CSVデータ1!E179),CSVデータ1!E179,0)+IF(ISNUMBER(CSVデータ2!E179),CSVデータ2!E179,0)+IF(ISNUMBER(CSVデータ3!E179),CSVデータ3!E179,0)+IF(ISNUMBER(CSVデータ4!E179),CSVデータ4!E179,0)","v":0},{"$f":"IF(ISNUMBER(CSVデータ1!F179),CSVデータ1!F179,0)+IF(ISNUMBER(CSVデータ2!F179),CSVデータ2!F179,0)+IF(ISNUMBER(CSVデータ3!F179),CSVデータ3!F179,0)+IF(ISNUMBER(CSVデータ4!F179),CSVデータ4!F179,0)","v":0},null,{"$f":"IF(ISNUMBER(CSVデータ1!H179),CSVデータ1!H179,0)+IF(ISNUMBER(CSVデータ2!H179),CSVデータ2!H179,0)+IF(ISNUMBER(CSVデータ3!H179),CSVデータ3!H179,0)+IF(ISNUMBER(CSVデータ4!H179),CSVデータ4!H179,0)","v":0},null,{"$f":"IF(ISNUMBER(CSVデータ1!J179),CSVデータ1!J179,0)+IF(ISNUMBER(CSVデータ2!J179),CSVデータ2!J179,0)+IF(ISNUMBER(CSVデータ3!J179),CSVデータ3!J179,0)+IF(ISNUMBER(CSVデータ4!J179),CSVデータ4!J179,0)","v":0},null,{"$f":"IF(ISNUMBER(CSVデータ1!L179),CSVデータ1!L179,0)+IF(ISNUMBER(CSVデータ2!L179),CSVデータ2!L179,0)+IF(ISNUMBER(CSVデータ3!L179),CSVデータ3!L179,0)+IF(ISNUMBER(CSVデータ4!L179),CSVデータ4!L179,0)","v":0},null,{"$f":"IF(ISNUMBER(CSVデータ1!N179),CSVデータ1!N179,0)+IF(ISNUMBER(CSVデータ2!N179),CSVデータ2!N179,0)+IF(ISNUMBER(CSVデータ3!N179),CSVデータ3!N179,0)+IF(ISNUMBER(CSVデータ4!N179),CSVデータ4!N179,0)","v":0},null,{"$f":"IF(ISNUMBER(CSVデータ1!P179),CSVデータ1!P179,0)+IF(ISNUMBER(CSVデータ2!P179),CSVデータ2!P179,0)+IF(ISNUMBER(CSVデータ3!P179),CSVデータ3!P179,0)+IF(ISNUMBER(CSVデータ4!P179),CSVデータ4!P179,0)","v":0},null,{"$f":"IF(ISNUMBER(CSVデータ1!R179),CSVデータ1!R179,0)+IF(ISNUMBER(CSVデータ2!R179),CSVデータ2!R179,0)+IF(ISNUMBER(CSVデータ3!R179),CSVデータ3!R179,0)+IF(ISNUMBER(CSVデータ4!R179),CSVデータ4!R179,0)","v":0},null,{"$f":"IF(ISNUMBER(CSVデータ1!T179),CSVデータ1!T179,0)+IF(ISNUMBER(CSVデータ2!T179),CSVデータ2!T179,0)+IF(ISNUMBER(CSVデータ3!T179),CSVデータ3!T179,0)+IF(ISNUMBER(CSVデータ4!T179),CSVデータ4!T179,0)","v":0},null,{"$f":"IF(ISNUMBER(CSVデータ1!V179),CSVデータ1!V179,0)+IF(ISNUMBER(CSVデータ2!V179),CSVデータ2!V179,0)+IF(ISNUMBER(CSVデータ3!V179),CSVデータ3!V179,0)+IF(ISNUMBER(CSVデータ4!V179),CSVデータ4!V179,0)","v":0},null,{"$f":"IF(ISNUMBER(CSVデータ1!X179),CSVデータ1!X179,0)+IF(ISNUMBER(CSVデータ2!X179),CSVデータ2!X179,0)+IF(ISNUMBER(CSVデータ3!X179),CSVデータ3!X179,0)+IF(ISNUMBER(CSVデータ4!X179),CSVデータ4!X179,0)","v":0},null,{"$f":"IF(ISNUMBER(CSVデータ1!Z179),CSVデータ1!Z179,0)+IF(ISNUMBER(CSVデータ2!Z179),CSVデータ2!Z179,0)+IF(ISNUMBER(CSVデータ3!Z179),CSVデータ3!Z179,0)+IF(ISNUMBER(CSVデータ4!Z179),CSVデータ4!Z179,0)","v":0},null,{"$f":"IF(ISNUMBER(CSVデータ1!AB179),CSVデータ1!AB179,0)+IF(ISNUMBER(CSVデータ2!AB179),CSVデータ2!AB179,0)+IF(ISNUMBER(CSVデータ3!AB179),CSVデータ3!AB179,0)+IF(ISNUMBER(CSVデータ4!AB179),CSVデータ4!AB179,0)","v":0},null,{"$f":"IF(ISNUMBER(CSVデータ1!AD179),CSVデータ1!AD179,0)+IF(ISNUMBER(CSVデータ2!AD179),CSVデータ2!AD179,0)+IF(ISNUMBER(CSVデータ3!AD179),CSVデータ3!AD179,0)+IF(ISNUMBER(CSVデータ4!AD179),CSVデータ4!AD179,0)","v":0},null,{"$f":"IF(ISNUMBER(CSVデータ1!AF179),CSVデータ1!AF179,0)+IF(ISNUMBER(CSVデータ2!AF179),CSVデータ2!AF179,0)+IF(ISNUMBER(CSVデータ3!AF179),CSVデータ3!AF179,0)+IF(ISNUMBER(CSVデータ4!AF179),CSVデータ4!AF179,0)","v":0},null,{"$f":"IF(ISNUMBER(CSVデータ1!AH179),CSVデータ1!AH179,0)+IF(ISNUMBER(CSVデータ2!AH179),CSVデータ2!AH179,0)+IF(ISNUMBER(CSVデータ3!AH179),CSVデータ3!AH179,0)+IF(ISNUMBER(CSVデータ4!AH179),CSVデータ4!AH179,0)","v":0},null,{"$f":"IF(ISNUMBER(CSVデータ1!AJ179),CSVデータ1!AJ179,0)+IF(ISNUMBER(CSVデータ2!AJ179),CSVデータ2!AJ179,0)+IF(ISNUMBER(CSVデータ3!AJ179),CSVデータ3!AJ179,0)+IF(ISNUMBER(CSVデータ4!AJ179),CSVデータ4!AJ179,0)","v":0},null,{"$f":"IF(ISNUMBER(CSVデータ1!AL179),CSVデータ1!AL179,0)+IF(ISNUMBER(CSVデータ2!AL179),CSVデータ2!AL179,0)+IF(ISNUMBER(CSVデータ3!AL179),CSVデータ3!AL179,0)+IF(ISNUMBER(CSVデータ4!AL179),CSVデータ4!AL179,0)","v":0},null,{"$f":"IF(ISNUMBER(CSVデータ1!AN179),CSVデータ1!AN179,0)+IF(ISNUMBER(CSVデータ2!AN179),CSVデータ2!AN179,0)+IF(ISNUMBER(CSVデータ3!AN179),CSVデータ3!AN179,0)+IF(ISNUMBER(CSVデータ4!AN179),CSVデータ4!AN179,0)","v":0}]
[{"$f":"CSVデータ1!A180","v":"明細部"},{"$f":"CSVデータ1!B180","v":"保険者（地区）"},{"$f":"CSVデータ1!C180","v":41},{"$f":"CSVデータ1!D180","v":"女"},{"$f":"IF(ISNUMBER(CSVデータ1!E180),CSVデータ1!E180,0)+IF(ISNUMBER(CSVデータ2!E180),CSVデータ2!E180,0)+IF(ISNUMBER(CSVデータ3!E180),CSVデータ3!E180,0)+IF(ISNUMBER(CSVデータ4!E180),CSVデータ4!E180,0)","v":0},{"$f":"IF(ISNUMBER(CSVデータ1!F180),CSVデータ1!F180,0)+IF(ISNUMBER(CSVデータ2!F180),CSVデータ2!F180,0)+IF(ISNUMBER(CSVデータ3!F180),CSVデータ3!F180,0)+IF(ISNUMBER(CSVデータ4!F180),CSVデータ4!F180,0)","v":0},null,{"$f":"IF(ISNUMBER(CSVデータ1!H180),CSVデータ1!H180,0)+IF(ISNUMBER(CSVデータ2!H180),CSVデータ2!H180,0)+IF(ISNUMBER(CSVデータ3!H180),CSVデータ3!H180,0)+IF(ISNUMBER(CSVデータ4!H180),CSVデータ4!H180,0)","v":0},null,{"$f":"IF(ISNUMBER(CSVデータ1!J180),CSVデータ1!J180,0)+IF(ISNUMBER(CSVデータ2!J180),CSVデータ2!J180,0)+IF(ISNUMBER(CSVデータ3!J180),CSVデータ3!J180,0)+IF(ISNUMBER(CSVデータ4!J180),CSVデータ4!J180,0)","v":0},null,{"$f":"IF(ISNUMBER(CSVデータ1!L180),CSVデータ1!L180,0)+IF(ISNUMBER(CSVデータ2!L180),CSVデータ2!L180,0)+IF(ISNUMBER(CSVデータ3!L180),CSVデータ3!L180,0)+IF(ISNUMBER(CSVデータ4!L180),CSVデータ4!L180,0)","v":0},null,{"$f":"IF(ISNUMBER(CSVデータ1!N180),CSVデータ1!N180,0)+IF(ISNUMBER(CSVデータ2!N180),CSVデータ2!N180,0)+IF(ISNUMBER(CSVデータ3!N180),CSVデータ3!N180,0)+IF(ISNUMBER(CSVデータ4!N180),CSVデータ4!N180,0)","v":0},null,{"$f":"IF(ISNUMBER(CSVデータ1!P180),CSVデータ1!P180,0)+IF(ISNUMBER(CSVデータ2!P180),CSVデータ2!P180,0)+IF(ISNUMBER(CSVデータ3!P180),CSVデータ3!P180,0)+IF(ISNUMBER(CSVデータ4!P180),CSVデータ4!P180,0)","v":0},null,{"$f":"IF(ISNUMBER(CSVデータ1!R180),CSVデータ1!R180,0)+IF(ISNUMBER(CSVデータ2!R180),CSVデータ2!R180,0)+IF(ISNUMBER(CSVデータ3!R180),CSVデータ3!R180,0)+IF(ISNUMBER(CSVデータ4!R180),CSVデータ4!R180,0)","v":0},null,{"$f":"IF(ISNUMBER(CSVデータ1!T180),CSVデータ1!T180,0)+IF(ISNUMBER(CSVデータ2!T180),CSVデータ2!T180,0)+IF(ISNUMBER(CSVデータ3!T180),CSVデータ3!T180,0)+IF(ISNUMBER(CSVデータ4!T180),CSVデータ4!T180,0)","v":0},null,{"$f":"IF(ISNUMBER(CSVデータ1!V180),CSVデータ1!V180,0)+IF(ISNUMBER(CSVデータ2!V180),CSVデータ2!V180,0)+IF(ISNUMBER(CSVデータ3!V180),CSVデータ3!V180,0)+IF(ISNUMBER(CSVデータ4!V180),CSVデータ4!V180,0)","v":0},null,{"$f":"IF(ISNUMBER(CSVデータ1!X180),CSVデータ1!X180,0)+IF(ISNUMBER(CSVデータ2!X180),CSVデータ2!X180,0)+IF(ISNUMBER(CSVデータ3!X180),CSVデータ3!X180,0)+IF(ISNUMBER(CSVデータ4!X180),CSVデータ4!X180,0)","v":0},null,{"$f":"IF(ISNUMBER(CSVデータ1!Z180),CSVデータ1!Z180,0)+IF(ISNUMBER(CSVデータ2!Z180),CSVデータ2!Z180,0)+IF(ISNUMBER(CSVデータ3!Z180),CSVデータ3!Z180,0)+IF(ISNUMBER(CSVデータ4!Z180),CSVデータ4!Z180,0)","v":0},null,{"$f":"IF(ISNUMBER(CSVデータ1!AB180),CSVデータ1!AB180,0)+IF(ISNUMBER(CSVデータ2!AB180),CSVデータ2!AB180,0)+IF(ISNUMBER(CSVデータ3!AB180),CSVデータ3!AB180,0)+IF(ISNUMBER(CSVデータ4!AB180),CSVデータ4!AB180,0)","v":0},null,{"$f":"IF(ISNUMBER(CSVデータ1!AD180),CSVデータ1!AD180,0)+IF(ISNUMBER(CSVデータ2!AD180),CSVデータ2!AD180,0)+IF(ISNUMBER(CSVデータ3!AD180),CSVデータ3!AD180,0)+IF(ISNUMBER(CSVデータ4!AD180),CSVデータ4!AD180,0)","v":0},null,{"$f":"IF(ISNUMBER(CSVデータ1!AF180),CSVデータ1!AF180,0)+IF(ISNUMBER(CSVデータ2!AF180),CSVデータ2!AF180,0)+IF(ISNUMBER(CSVデータ3!AF180),CSVデータ3!AF180,0)+IF(ISNUMBER(CSVデータ4!AF180),CSVデータ4!AF180,0)","v":0},null,{"$f":"IF(ISNUMBER(CSVデータ1!AH180),CSVデータ1!AH180,0)+IF(ISNUMBER(CSVデータ2!AH180),CSVデータ2!AH180,0)+IF(ISNUMBER(CSVデータ3!AH180),CSVデータ3!AH180,0)+IF(ISNUMBER(CSVデータ4!AH180),CSVデータ4!AH180,0)","v":0},null,{"$f":"IF(ISNUMBER(CSVデータ1!AJ180),CSVデータ1!AJ180,0)+IF(ISNUMBER(CSVデータ2!AJ180),CSVデータ2!AJ180,0)+IF(ISNUMBER(CSVデータ3!AJ180),CSVデータ3!AJ180,0)+IF(ISNUMBER(CSVデータ4!AJ180),CSVデータ4!AJ180,0)","v":0},null,{"$f":"IF(ISNUMBER(CSVデータ1!AL180),CSVデータ1!AL180,0)+IF(ISNUMBER(CSVデータ2!AL180),CSVデータ2!AL180,0)+IF(ISNUMBER(CSVデータ3!AL180),CSVデータ3!AL180,0)+IF(ISNUMBER(CSVデータ4!AL180),CSVデータ4!AL180,0)","v":0},null,{"$f":"IF(ISNUMBER(CSVデータ1!AN180),CSVデータ1!AN180,0)+IF(ISNUMBER(CSVデータ2!AN180),CSVデータ2!AN180,0)+IF(ISNUMBER(CSVデータ3!AN180),CSVデータ3!AN180,0)+IF(ISNUMBER(CSVデータ4!AN180),CSVデータ4!AN180,0)","v":0}]
[{"$f":"CSVデータ1!A181","v":"明細部"},{"$f":"CSVデータ1!B181","v":"保険者（地区）"},{"$f":"CSVデータ1!C181","v":42},{"$f":"CSVデータ1!D181","v":"女"},{"$f":"IF(ISNUMBER(CSVデータ1!E181),CSVデータ1!E181,0)+IF(ISNUMBER(CSVデータ2!E181),CSVデータ2!E181,0)+IF(ISNUMBER(CSVデータ3!E181),CSVデータ3!E181,0)+IF(ISNUMBER(CSVデータ4!E181),CSVデータ4!E181,0)","v":0},{"$f":"IF(ISNUMBER(CSVデータ1!F181),CSVデータ1!F181,0)+IF(ISNUMBER(CSVデータ2!F181),CSVデータ2!F181,0)+IF(ISNUMBER(CSVデータ3!F181),CSVデータ3!F181,0)+IF(ISNUMBER(CSVデータ4!F181),CSVデータ4!F181,0)","v":0},null,{"$f":"IF(ISNUMBER(CSVデータ1!H181),CSVデータ1!H181,0)+IF(ISNUMBER(CSVデータ2!H181),CSVデータ2!H181,0)+IF(ISNUMBER(CSVデータ3!H181),CSVデータ3!H181,0)+IF(ISNUMBER(CSVデータ4!H181),CSVデータ4!H181,0)","v":0},null,{"$f":"IF(ISNUMBER(CSVデータ1!J181),CSVデータ1!J181,0)+IF(ISNUMBER(CSVデータ2!J181),CSVデータ2!J181,0)+IF(ISNUMBER(CSVデータ3!J181),CSVデータ3!J181,0)+IF(ISNUMBER(CSVデータ4!J181),CSVデータ4!J181,0)","v":0},null,{"$f":"IF(ISNUMBER(CSVデータ1!L181),CSVデータ1!L181,0)+IF(ISNUMBER(CSVデータ2!L181),CSVデータ2!L181,0)+IF(ISNUMBER(CSVデータ3!L181),CSVデータ3!L181,0)+IF(ISNUMBER(CSVデータ4!L181),CSVデータ4!L181,0)","v":0},null,{"$f":"IF(ISNUMBER(CSVデータ1!N181),CSVデータ1!N181,0)+IF(ISNUMBER(CSVデータ2!N181),CSVデータ2!N181,0)+IF(ISNUMBER(CSVデータ3!N181),CSVデータ3!N181,0)+IF(ISNUMBER(CSVデータ4!N181),CSVデータ4!N181,0)","v":0},null,{"$f":"IF(ISNUMBER(CSVデータ1!P181),CSVデータ1!P181,0)+IF(ISNUMBER(CSVデータ2!P181),CSVデータ2!P181,0)+IF(ISNUMBER(CSVデータ3!P181),CSVデータ3!P181,0)+IF(ISNUMBER(CSVデータ4!P181),CSVデータ4!P181,0)","v":0},null,{"$f":"IF(ISNUMBER(CSVデータ1!R181),CSVデータ1!R181,0)+IF(ISNUMBER(CSVデータ2!R181),CSVデータ2!R181,0)+IF(ISNUMBER(CSVデータ3!R181),CSVデータ3!R181,0)+IF(ISNUMBER(CSVデータ4!R181),CSVデータ4!R181,0)","v":0},null,{"$f":"IF(ISNUMBER(CSVデータ1!T181),CSVデータ1!T181,0)+IF(ISNUMBER(CSVデータ2!T181),CSVデータ2!T181,0)+IF(ISNUMBER(CSVデータ3!T181),CSVデータ3!T181,0)+IF(ISNUMBER(CSVデータ4!T181),CSVデータ4!T181,0)","v":0},null,{"$f":"IF(ISNUMBER(CSVデータ1!V181),CSVデータ1!V181,0)+IF(ISNUMBER(CSVデータ2!V181),CSVデータ2!V181,0)+IF(ISNUMBER(CSVデータ3!V181),CSVデータ3!V181,0)+IF(ISNUMBER(CSVデータ4!V181),CSVデータ4!V181,0)","v":0},null,{"$f":"IF(ISNUMBER(CSVデータ1!X181),CSVデータ1!X181,0)+IF(ISNUMBER(CSVデータ2!X181),CSVデータ2!X181,0)+IF(ISNUMBER(CSVデータ3!X181),CSVデータ3!X181,0)+IF(ISNUMBER(CSVデータ4!X181),CSVデータ4!X181,0)","v":0},null,{"$f":"IF(ISNUMBER(CSVデータ1!Z181),CSVデータ1!Z181,0)+IF(ISNUMBER(CSVデータ2!Z181),CSVデータ2!Z181,0)+IF(ISNUMBER(CSVデータ3!Z181),CSVデータ3!Z181,0)+IF(ISNUMBER(CSVデータ4!Z181),CSVデータ4!Z181,0)","v":0},null,{"$f":"IF(ISNUMBER(CSVデータ1!AB181),CSVデータ1!AB181,0)+IF(ISNUMBER(CSVデータ2!AB181),CSVデータ2!AB181,0)+IF(ISNUMBER(CSVデータ3!AB181),CSVデータ3!AB181,0)+IF(ISNUMBER(CSVデータ4!AB181),CSVデータ4!AB181,0)","v":0},null,{"$f":"IF(ISNUMBER(CSVデータ1!AD181),CSVデータ1!AD181,0)+IF(ISNUMBER(CSVデータ2!AD181),CSVデータ2!AD181,0)+IF(ISNUMBER(CSVデータ3!AD181),CSVデータ3!AD181,0)+IF(ISNUMBER(CSVデータ4!AD181),CSVデータ4!AD181,0)","v":0},null,{"$f":"IF(ISNUMBER(CSVデータ1!AF181),CSVデータ1!AF181,0)+IF(ISNUMBER(CSVデータ2!AF181),CSVデータ2!AF181,0)+IF(ISNUMBER(CSVデータ3!AF181),CSVデータ3!AF181,0)+IF(ISNUMBER(CSVデータ4!AF181),CSVデータ4!AF181,0)","v":0},null,{"$f":"IF(ISNUMBER(CSVデータ1!AH181),CSVデータ1!AH181,0)+IF(ISNUMBER(CSVデータ2!AH181),CSVデータ2!AH181,0)+IF(ISNUMBER(CSVデータ3!AH181),CSVデータ3!AH181,0)+IF(ISNUMBER(CSVデータ4!AH181),CSVデータ4!AH181,0)","v":0},null,{"$f":"IF(ISNUMBER(CSVデータ1!AJ181),CSVデータ1!AJ181,0)+IF(ISNUMBER(CSVデータ2!AJ181),CSVデータ2!AJ181,0)+IF(ISNUMBER(CSVデータ3!AJ181),CSVデータ3!AJ181,0)+IF(ISNUMBER(CSVデータ4!AJ181),CSVデータ4!AJ181,0)","v":0},null,{"$f":"IF(ISNUMBER(CSVデータ1!AL181),CSVデータ1!AL181,0)+IF(ISNUMBER(CSVデータ2!AL181),CSVデータ2!AL181,0)+IF(ISNUMBER(CSVデータ3!AL181),CSVデータ3!AL181,0)+IF(ISNUMBER(CSVデータ4!AL181),CSVデータ4!AL181,0)","v":0},null,{"$f":"IF(ISNUMBER(CSVデータ1!AN181),CSVデータ1!AN181,0)+IF(ISNUMBER(CSVデータ2!AN181),CSVデータ2!AN181,0)+IF(ISNUMBER(CSVデータ3!AN181),CSVデータ3!AN181,0)+IF(ISNUMBER(CSVデータ4!AN181),CSVデータ4!AN181,0)","v":0}]
[{"$f":"CSVデータ1!A182","v":"明細部"},{"$f":"CSVデータ1!B182","v":"保険者（地区）"},{"$f":"CSVデータ1!C182","v":43},{"$f":"CSVデータ1!D182","v":"女"},{"$f":"IF(ISNUMBER(CSVデータ1!E182),CSVデータ1!E182,0)+IF(ISNUMBER(CSVデータ2!E182),CSVデータ2!E182,0)+IF(ISNUMBER(CSVデータ3!E182),CSVデータ3!E182,0)+IF(ISNUMBER(CSVデータ4!E182),CSVデータ4!E182,0)","v":0},{"$f":"IF(ISNUMBER(CSVデータ1!F182),CSVデータ1!F182,0)+IF(ISNUMBER(CSVデータ2!F182),CSVデータ2!F182,0)+IF(ISNUMBER(CSVデータ3!F182),CSVデータ3!F182,0)+IF(ISNUMBER(CSVデータ4!F182),CSVデータ4!F182,0)","v":0},null,{"$f":"IF(ISNUMBER(CSVデータ1!H182),CSVデータ1!H182,0)+IF(ISNUMBER(CSVデータ2!H182),CSVデータ2!H182,0)+IF(ISNUMBER(CSVデータ3!H182),CSVデータ3!H182,0)+IF(ISNUMBER(CSVデータ4!H182),CSVデータ4!H182,0)","v":0},null,{"$f":"IF(ISNUMBER(CSVデータ1!J182),CSVデータ1!J182,0)+IF(ISNUMBER(CSVデータ2!J182),CSVデータ2!J182,0)+IF(ISNUMBER(CSVデータ3!J182),CSVデータ3!J182,0)+IF(ISNUMBER(CSVデータ4!J182),CSVデータ4!J182,0)","v":0},null,{"$f":"IF(ISNUMBER(CSVデータ1!L182),CSVデータ1!L182,0)+IF(ISNUMBER(CSVデータ2!L182),CSVデータ2!L182,0)+IF(ISNUMBER(CSVデータ3!L182),CSVデータ3!L182,0)+IF(ISNUMBER(CSVデータ4!L182),CSVデータ4!L182,0)","v":0},null,{"$f":"IF(ISNUMBER(CSVデータ1!N182),CSVデータ1!N182,0)+IF(ISNUMBER(CSVデータ2!N182),CSVデータ2!N182,0)+IF(ISNUMBER(CSVデータ3!N182),CSVデータ3!N182,0)+IF(ISNUMBER(CSVデータ4!N182),CSVデータ4!N182,0)","v":0},null,{"$f":"IF(ISNUMBER(CSVデータ1!P182),CSVデータ1!P182,0)+IF(ISNUMBER(CSVデータ2!P182),CSVデータ2!P182,0)+IF(ISNUMBER(CSVデータ3!P182),CSVデータ3!P182,0)+IF(ISNUMBER(CSVデータ4!P182),CSVデータ4!P182,0)","v":0},null,{"$f":"IF(ISNUMBER(CSVデータ1!R182),CSVデータ1!R182,0)+IF(ISNUMBER(CSVデータ2!R182),CSVデータ2!R182,0)+IF(ISNUMBER(CSVデータ3!R182),CSVデータ3!R182,0)+IF(ISNUMBER(CSVデータ4!R182),CSVデータ4!R182,0)","v":0},null,{"$f":"IF(ISNUMBER(CSVデータ1!T182),CSVデータ1!T182,0)+IF(ISNUMBER(CSVデータ2!T182),CSVデータ2!T182,0)+IF(ISNUMBER(CSVデータ3!T182),CSVデータ3!T182,0)+IF(ISNUMBER(CSVデータ4!T182),CSVデータ4!T182,0)","v":0},null,{"$f":"IF(ISNUMBER(CSVデータ1!V182),CSVデータ1!V182,0)+IF(ISNUMBER(CSVデータ2!V182),CSVデータ2!V182,0)+IF(ISNUMBER(CSVデータ3!V182),CSVデータ3!V182,0)+IF(ISNUMBER(CSVデータ4!V182),CSVデータ4!V182,0)","v":0},null,{"$f":"IF(ISNUMBER(CSVデータ1!X182),CSVデータ1!X182,0)+IF(ISNUMBER(CSVデータ2!X182),CSVデータ2!X182,0)+IF(ISNUMBER(CSVデータ3!X182),CSVデータ3!X182,0)+IF(ISNUMBER(CSVデータ4!X182),CSVデータ4!X182,0)","v":0},null,{"$f":"IF(ISNUMBER(CSVデータ1!Z182),CSVデータ1!Z182,0)+IF(ISNUMBER(CSVデータ2!Z182),CSVデータ2!Z182,0)+IF(ISNUMBER(CSVデータ3!Z182),CSVデータ3!Z182,0)+IF(ISNUMBER(CSVデータ4!Z182),CSVデータ4!Z182,0)","v":0},null,{"$f":"IF(ISNUMBER(CSVデータ1!AB182),CSVデータ1!AB182,0)+IF(ISNUMBER(CSVデータ2!AB182),CSVデータ2!AB182,0)+IF(ISNUMBER(CSVデータ3!AB182),CSVデータ3!AB182,0)+IF(ISNUMBER(CSVデータ4!AB182),CSVデータ4!AB182,0)","v":0},null,{"$f":"IF(ISNUMBER(CSVデータ1!AD182),CSVデータ1!AD182,0)+IF(ISNUMBER(CSVデータ2!AD182),CSVデータ2!AD182,0)+IF(ISNUMBER(CSVデータ3!AD182),CSVデータ3!AD182,0)+IF(ISNUMBER(CSVデータ4!AD182),CSVデータ4!AD182,0)","v":0},null,{"$f":"IF(ISNUMBER(CSVデータ1!AF182),CSVデータ1!AF182,0)+IF(ISNUMBER(CSVデータ2!AF182),CSVデータ2!AF182,0)+IF(ISNUMBER(CSVデータ3!AF182),CSVデータ3!AF182,0)+IF(ISNUMBER(CSVデータ4!AF182),CSVデータ4!AF182,0)","v":0},null,{"$f":"IF(ISNUMBER(CSVデータ1!AH182),CSVデータ1!AH182,0)+IF(ISNUMBER(CSVデータ2!AH182),CSVデータ2!AH182,0)+IF(ISNUMBER(CSVデータ3!AH182),CSVデータ3!AH182,0)+IF(ISNUMBER(CSVデータ4!AH182),CSVデータ4!AH182,0)","v":0},null,{"$f":"IF(ISNUMBER(CSVデータ1!AJ182),CSVデータ1!AJ182,0)+IF(ISNUMBER(CSVデータ2!AJ182),CSVデータ2!AJ182,0)+IF(ISNUMBER(CSVデータ3!AJ182),CSVデータ3!AJ182,0)+IF(ISNUMBER(CSVデータ4!AJ182),CSVデータ4!AJ182,0)","v":0},null,{"$f":"IF(ISNUMBER(CSVデータ1!AL182),CSVデータ1!AL182,0)+IF(ISNUMBER(CSVデータ2!AL182),CSVデータ2!AL182,0)+IF(ISNUMBER(CSVデータ3!AL182),CSVデータ3!AL182,0)+IF(ISNUMBER(CSVデータ4!AL182),CSVデータ4!AL182,0)","v":0},null,{"$f":"IF(ISNUMBER(CSVデータ1!AN182),CSVデータ1!AN182,0)+IF(ISNUMBER(CSVデータ2!AN182),CSVデータ2!AN182,0)+IF(ISNUMBER(CSVデータ3!AN182),CSVデータ3!AN182,0)+IF(ISNUMBER(CSVデータ4!AN182),CSVデータ4!AN182,0)","v":0}]
[{"$f":"CSVデータ1!A183","v":"明細部"},{"$f":"CSVデータ1!B183","v":"保険者（地区）"},{"$f":"CSVデータ1!C183","v":44},{"$f":"CSVデータ1!D183","v":"女"},{"$f":"IF(ISNUMBER(CSVデータ1!E183),CSVデータ1!E183,0)+IF(ISNUMBER(CSVデータ2!E183),CSVデータ2!E183,0)+IF(ISNUMBER(CSVデータ3!E183),CSVデータ3!E183,0)+IF(ISNUMBER(CSVデータ4!E183),CSVデータ4!E183,0)","v":0},{"$f":"IF(ISNUMBER(CSVデータ1!F183),CSVデータ1!F183,0)+IF(ISNUMBER(CSVデータ2!F183),CSVデータ2!F183,0)+IF(ISNUMBER(CSVデータ3!F183),CSVデータ3!F183,0)+IF(ISNUMBER(CSVデータ4!F183),CSVデータ4!F183,0)","v":0},null,{"$f":"IF(ISNUMBER(CSVデータ1!H183),CSVデータ1!H183,0)+IF(ISNUMBER(CSVデータ2!H183),CSVデータ2!H183,0)+IF(ISNUMBER(CSVデータ3!H183),CSVデータ3!H183,0)+IF(ISNUMBER(CSVデータ4!H183),CSVデータ4!H183,0)","v":0},null,{"$f":"IF(ISNUMBER(CSVデータ1!J183),CSVデータ1!J183,0)+IF(ISNUMBER(CSVデータ2!J183),CSVデータ2!J183,0)+IF(ISNUMBER(CSVデータ3!J183),CSVデータ3!J183,0)+IF(ISNUMBER(CSVデータ4!J183),CSVデータ4!J183,0)","v":0},null,{"$f":"IF(ISNUMBER(CSVデータ1!L183),CSVデータ1!L183,0)+IF(ISNUMBER(CSVデータ2!L183),CSVデータ2!L183,0)+IF(ISNUMBER(CSVデータ3!L183),CSVデータ3!L183,0)+IF(ISNUMBER(CSVデータ4!L183),CSVデータ4!L183,0)","v":0},null,{"$f":"IF(ISNUMBER(CSVデータ1!N183),CSVデータ1!N183,0)+IF(ISNUMBER(CSVデータ2!N183),CSVデータ2!N183,0)+IF(ISNUMBER(CSVデータ3!N183),CSVデータ3!N183,0)+IF(ISNUMBER(CSVデータ4!N183),CSVデータ4!N183,0)","v":0},null,{"$f":"IF(ISNUMBER(CSVデータ1!P183),CSVデータ1!P183,0)+IF(ISNUMBER(CSVデータ2!P183),CSVデータ2!P183,0)+IF(ISNUMBER(CSVデータ3!P183),CSVデータ3!P183,0)+IF(ISNUMBER(CSVデータ4!P183),CSVデータ4!P183,0)","v":0},null,{"$f":"IF(ISNUMBER(CSVデータ1!R183),CSVデータ1!R183,0)+IF(ISNUMBER(CSVデータ2!R183),CSVデータ2!R183,0)+IF(ISNUMBER(CSVデータ3!R183),CSVデータ3!R183,0)+IF(ISNUMBER(CSVデータ4!R183),CSVデータ4!R183,0)","v":0},null,{"$f":"IF(ISNUMBER(CSVデータ1!T183),CSVデータ1!T183,0)+IF(ISNUMBER(CSVデータ2!T183),CSVデータ2!T183,0)+IF(ISNUMBER(CSVデータ3!T183),CSVデータ3!T183,0)+IF(ISNUMBER(CSVデータ4!T183),CSVデータ4!T183,0)","v":0},null,{"$f":"IF(ISNUMBER(CSVデータ1!V183),CSVデータ1!V183,0)+IF(ISNUMBER(CSVデータ2!V183),CSVデータ2!V183,0)+IF(ISNUMBER(CSVデータ3!V183),CSVデータ3!V183,0)+IF(ISNUMBER(CSVデータ4!V183),CSVデータ4!V183,0)","v":0},null,{"$f":"IF(ISNUMBER(CSVデータ1!X183),CSVデータ1!X183,0)+IF(ISNUMBER(CSVデータ2!X183),CSVデータ2!X183,0)+IF(ISNUMBER(CSVデータ3!X183),CSVデータ3!X183,0)+IF(ISNUMBER(CSVデータ4!X183),CSVデータ4!X183,0)","v":0},null,{"$f":"IF(ISNUMBER(CSVデータ1!Z183),CSVデータ1!Z183,0)+IF(ISNUMBER(CSVデータ2!Z183),CSVデータ2!Z183,0)+IF(ISNUMBER(CSVデータ3!Z183),CSVデータ3!Z183,0)+IF(ISNUMBER(CSVデータ4!Z183),CSVデータ4!Z183,0)","v":0},null,{"$f":"IF(ISNUMBER(CSVデータ1!AB183),CSVデータ1!AB183,0)+IF(ISNUMBER(CSVデータ2!AB183),CSVデータ2!AB183,0)+IF(ISNUMBER(CSVデータ3!AB183),CSVデータ3!AB183,0)+IF(ISNUMBER(CSVデータ4!AB183),CSVデータ4!AB183,0)","v":0},null,{"$f":"IF(ISNUMBER(CSVデータ1!AD183),CSVデータ1!AD183,0)+IF(ISNUMBER(CSVデータ2!AD183),CSVデータ2!AD183,0)+IF(ISNUMBER(CSVデータ3!AD183),CSVデータ3!AD183,0)+IF(ISNUMBER(CSVデータ4!AD183),CSVデータ4!AD183,0)","v":0},null,{"$f":"IF(ISNUMBER(CSVデータ1!AF183),CSVデータ1!AF183,0)+IF(ISNUMBER(CSVデータ2!AF183),CSVデータ2!AF183,0)+IF(ISNUMBER(CSVデータ3!AF183),CSVデータ3!AF183,0)+IF(ISNUMBER(CSVデータ4!AF183),CSVデータ4!AF183,0)","v":0},null,{"$f":"IF(ISNUMBER(CSVデータ1!AH183),CSVデータ1!AH183,0)+IF(ISNUMBER(CSVデータ2!AH183),CSVデータ2!AH183,0)+IF(ISNUMBER(CSVデータ3!AH183),CSVデータ3!AH183,0)+IF(ISNUMBER(CSVデータ4!AH183),CSVデータ4!AH183,0)","v":0},null,{"$f":"IF(ISNUMBER(CSVデータ1!AJ183),CSVデータ1!AJ183,0)+IF(ISNUMBER(CSVデータ2!AJ183),CSVデータ2!AJ183,0)+IF(ISNUMBER(CSVデータ3!AJ183),CSVデータ3!AJ183,0)+IF(ISNUMBER(CSVデータ4!AJ183),CSVデータ4!AJ183,0)","v":0},null,{"$f":"IF(ISNUMBER(CSVデータ1!AL183),CSVデータ1!AL183,0)+IF(ISNUMBER(CSVデータ2!AL183),CSVデータ2!AL183,0)+IF(ISNUMBER(CSVデータ3!AL183),CSVデータ3!AL183,0)+IF(ISNUMBER(CSVデータ4!AL183),CSVデータ4!AL183,0)","v":0},null,{"$f":"IF(ISNUMBER(CSVデータ1!AN183),CSVデータ1!AN183,0)+IF(ISNUMBER(CSVデータ2!AN183),CSVデータ2!AN183,0)+IF(ISNUMBER(CSVデータ3!AN183),CSVデータ3!AN183,0)+IF(ISNUMBER(CSVデータ4!AN183),CSVデータ4!AN183,0)","v":0}]
[{"$f":"CSVデータ1!A184","v":"明細部"},{"$f":"CSVデータ1!B184","v":"保険者（地区）"},{"$f":"CSVデータ1!C184","v":45},{"$f":"CSVデータ1!D184","v":"女"},{"$f":"IF(ISNUMBER(CSVデータ1!E184),CSVデータ1!E184,0)+IF(ISNUMBER(CSVデータ2!E184),CSVデータ2!E184,0)+IF(ISNUMBER(CSVデータ3!E184),CSVデータ3!E184,0)+IF(ISNUMBER(CSVデータ4!E184),CSVデータ4!E184,0)","v":0},{"$f":"IF(ISNUMBER(CSVデータ1!F184),CSVデータ1!F184,0)+IF(ISNUMBER(CSVデータ2!F184),CSVデータ2!F184,0)+IF(ISNUMBER(CSVデータ3!F184),CSVデータ3!F184,0)+IF(ISNUMBER(CSVデータ4!F184),CSVデータ4!F184,0)","v":0},null,{"$f":"IF(ISNUMBER(CSVデータ1!H184),CSVデータ1!H184,0)+IF(ISNUMBER(CSVデータ2!H184),CSVデータ2!H184,0)+IF(ISNUMBER(CSVデータ3!H184),CSVデータ3!H184,0)+IF(ISNUMBER(CSVデータ4!H184),CSVデータ4!H184,0)","v":0},null,{"$f":"IF(ISNUMBER(CSVデータ1!J184),CSVデータ1!J184,0)+IF(ISNUMBER(CSVデータ2!J184),CSVデータ2!J184,0)+IF(ISNUMBER(CSVデータ3!J184),CSVデータ3!J184,0)+IF(ISNUMBER(CSVデータ4!J184),CSVデータ4!J184,0)","v":0},null,{"$f":"IF(ISNUMBER(CSVデータ1!L184),CSVデータ1!L184,0)+IF(ISNUMBER(CSVデータ2!L184),CSVデータ2!L184,0)+IF(ISNUMBER(CSVデータ3!L184),CSVデータ3!L184,0)+IF(ISNUMBER(CSVデータ4!L184),CSVデータ4!L184,0)","v":0},null,{"$f":"IF(ISNUMBER(CSVデータ1!N184),CSVデータ1!N184,0)+IF(ISNUMBER(CSVデータ2!N184),CSVデータ2!N184,0)+IF(ISNUMBER(CSVデータ3!N184),CSVデータ3!N184,0)+IF(ISNUMBER(CSVデータ4!N184),CSVデータ4!N184,0)","v":0},null,{"$f":"IF(ISNUMBER(CSVデータ1!P184),CSVデータ1!P184,0)+IF(ISNUMBER(CSVデータ2!P184),CSVデータ2!P184,0)+IF(ISNUMBER(CSVデータ3!P184),CSVデータ3!P184,0)+IF(ISNUMBER(CSVデータ4!P184),CSVデータ4!P184,0)","v":0},null,{"$f":"IF(ISNUMBER(CSVデータ1!R184),CSVデータ1!R184,0)+IF(ISNUMBER(CSVデータ2!R184),CSVデータ2!R184,0)+IF(ISNUMBER(CSVデータ3!R184),CSVデータ3!R184,0)+IF(ISNUMBER(CSVデータ4!R184),CSVデータ4!R184,0)","v":0},null,{"$f":"IF(ISNUMBER(CSVデータ1!T184),CSVデータ1!T184,0)+IF(ISNUMBER(CSVデータ2!T184),CSVデータ2!T184,0)+IF(ISNUMBER(CSVデータ3!T184),CSVデータ3!T184,0)+IF(ISNUMBER(CSVデータ4!T184),CSVデータ4!T184,0)","v":0},null,{"$f":"IF(ISNUMBER(CSVデータ1!V184),CSVデータ1!V184,0)+IF(ISNUMBER(CSVデータ2!V184),CSVデータ2!V184,0)+IF(ISNUMBER(CSVデータ3!V184),CSVデータ3!V184,0)+IF(ISNUMBER(CSVデータ4!V184),CSVデータ4!V184,0)","v":0},null,{"$f":"IF(ISNUMBER(CSVデータ1!X184),CSVデータ1!X184,0)+IF(ISNUMBER(CSVデータ2!X184),CSVデータ2!X184,0)+IF(ISNUMBER(CSVデータ3!X184),CSVデータ3!X184,0)+IF(ISNUMBER(CSVデータ4!X184),CSVデータ4!X184,0)","v":0},null,{"$f":"IF(ISNUMBER(CSVデータ1!Z184),CSVデータ1!Z184,0)+IF(ISNUMBER(CSVデータ2!Z184),CSVデータ2!Z184,0)+IF(ISNUMBER(CSVデータ3!Z184),CSVデータ3!Z184,0)+IF(ISNUMBER(CSVデータ4!Z184),CSVデータ4!Z184,0)","v":0},null,{"$f":"IF(ISNUMBER(CSVデータ1!AB184),CSVデータ1!AB184,0)+IF(ISNUMBER(CSVデータ2!AB184),CSVデータ2!AB184,0)+IF(ISNUMBER(CSVデータ3!AB184),CSVデータ3!AB184,0)+IF(ISNUMBER(CSVデータ4!AB184),CSVデータ4!AB184,0)","v":0},null,{"$f":"IF(ISNUMBER(CSVデータ1!AD184),CSVデータ1!AD184,0)+IF(ISNUMBER(CSVデータ2!AD184),CSVデータ2!AD184,0)+IF(ISNUMBER(CSVデータ3!AD184),CSVデータ3!AD184,0)+IF(ISNUMBER(CSVデータ4!AD184),CSVデータ4!AD184,0)","v":0},null,{"$f":"IF(ISNUMBER(CSVデータ1!AF184),CSVデータ1!AF184,0)+IF(ISNUMBER(CSVデータ2!AF184),CSVデータ2!AF184,0)+IF(ISNUMBER(CSVデータ3!AF184),CSVデータ3!AF184,0)+IF(ISNUMBER(CSVデータ4!AF184),CSVデータ4!AF184,0)","v":0},null,{"$f":"IF(ISNUMBER(CSVデータ1!AH184),CSVデータ1!AH184,0)+IF(ISNUMBER(CSVデータ2!AH184),CSVデータ2!AH184,0)+IF(ISNUMBER(CSVデータ3!AH184),CSVデータ3!AH184,0)+IF(ISNUMBER(CSVデータ4!AH184),CSVデータ4!AH184,0)","v":0},null,{"$f":"IF(ISNUMBER(CSVデータ1!AJ184),CSVデータ1!AJ184,0)+IF(ISNUMBER(CSVデータ2!AJ184),CSVデータ2!AJ184,0)+IF(ISNUMBER(CSVデータ3!AJ184),CSVデータ3!AJ184,0)+IF(ISNUMBER(CSVデータ4!AJ184),CSVデータ4!AJ184,0)","v":0},null,{"$f":"IF(ISNUMBER(CSVデータ1!AL184),CSVデータ1!AL184,0)+IF(ISNUMBER(CSVデータ2!AL184),CSVデータ2!AL184,0)+IF(ISNUMBER(CSVデータ3!AL184),CSVデータ3!AL184,0)+IF(ISNUMBER(CSVデータ4!AL184),CSVデータ4!AL184,0)","v":0},null,{"$f":"IF(ISNUMBER(CSVデータ1!AN184),CSVデータ1!AN184,0)+IF(ISNUMBER(CSVデータ2!AN184),CSVデータ2!AN184,0)+IF(ISNUMBER(CSVデータ3!AN184),CSVデータ3!AN184,0)+IF(ISNUMBER(CSVデータ4!AN184),CSVデータ4!AN184,0)","v":0}]
[{"$f":"CSVデータ1!A185","v":"明細部"},{"$f":"CSVデータ1!B185","v":"保険者（地区）"},{"$f":"CSVデータ1!C185","v":46},{"$f":"CSVデータ1!D185","v":"女"},{"$f":"IF(ISNUMBER(CSVデータ1!E185),CSVデータ1!E185,0)+IF(ISNUMBER(CSVデータ2!E185),CSVデータ2!E185,0)+IF(ISNUMBER(CSVデータ3!E185),CSVデータ3!E185,0)+IF(ISNUMBER(CSVデータ4!E185),CSVデータ4!E185,0)","v":0},{"$f":"IF(ISNUMBER(CSVデータ1!F185),CSVデータ1!F185,0)+IF(ISNUMBER(CSVデータ2!F185),CSVデータ2!F185,0)+IF(ISNUMBER(CSVデータ3!F185),CSVデータ3!F185,0)+IF(ISNUMBER(CSVデータ4!F185),CSVデータ4!F185,0)","v":0},null,{"$f":"IF(ISNUMBER(CSVデータ1!H185),CSVデータ1!H185,0)+IF(ISNUMBER(CSVデータ2!H185),CSVデータ2!H185,0)+IF(ISNUMBER(CSVデータ3!H185),CSVデータ3!H185,0)+IF(ISNUMBER(CSVデータ4!H185),CSVデータ4!H185,0)","v":0},null,{"$f":"IF(ISNUMBER(CSVデータ1!J185),CSVデータ1!J185,0)+IF(ISNUMBER(CSVデータ2!J185),CSVデータ2!J185,0)+IF(ISNUMBER(CSVデータ3!J185),CSVデータ3!J185,0)+IF(ISNUMBER(CSVデータ4!J185),CSVデータ4!J185,0)","v":0},null,{"$f":"IF(ISNUMBER(CSVデータ1!L185),CSVデータ1!L185,0)+IF(ISNUMBER(CSVデータ2!L185),CSVデータ2!L185,0)+IF(ISNUMBER(CSVデータ3!L185),CSVデータ3!L185,0)+IF(ISNUMBER(CSVデータ4!L185),CSVデータ4!L185,0)","v":0},null,{"$f":"IF(ISNUMBER(CSVデータ1!N185),CSVデータ1!N185,0)+IF(ISNUMBER(CSVデータ2!N185),CSVデータ2!N185,0)+IF(ISNUMBER(CSVデータ3!N185),CSVデータ3!N185,0)+IF(ISNUMBER(CSVデータ4!N185),CSVデータ4!N185,0)","v":0},null,{"$f":"IF(ISNUMBER(CSVデータ1!P185),CSVデータ1!P185,0)+IF(ISNUMBER(CSVデータ2!P185),CSVデータ2!P185,0)+IF(ISNUMBER(CSVデータ3!P185),CSVデータ3!P185,0)+IF(ISNUMBER(CSVデータ4!P185),CSVデータ4!P185,0)","v":0},null,{"$f":"IF(ISNUMBER(CSVデータ1!R185),CSVデータ1!R185,0)+IF(ISNUMBER(CSVデータ2!R185),CSVデータ2!R185,0)+IF(ISNUMBER(CSVデータ3!R185),CSVデータ3!R185,0)+IF(ISNUMBER(CSVデータ4!R185),CSVデータ4!R185,0)","v":0},null,{"$f":"IF(ISNUMBER(CSVデータ1!T185),CSVデータ1!T185,0)+IF(ISNUMBER(CSVデータ2!T185),CSVデータ2!T185,0)+IF(ISNUMBER(CSVデータ3!T185),CSVデータ3!T185,0)+IF(ISNUMBER(CSVデータ4!T185),CSVデータ4!T185,0)","v":0},null,{"$f":"IF(ISNUMBER(CSVデータ1!V185),CSVデータ1!V185,0)+IF(ISNUMBER(CSVデータ2!V185),CSVデータ2!V185,0)+IF(ISNUMBER(CSVデータ3!V185),CSVデータ3!V185,0)+IF(ISNUMBER(CSVデータ4!V185),CSVデータ4!V185,0)","v":0},null,{"$f":"IF(ISNUMBER(CSVデータ1!X185),CSVデータ1!X185,0)+IF(ISNUMBER(CSVデータ2!X185),CSVデータ2!X185,0)+IF(ISNUMBER(CSVデータ3!X185),CSVデータ3!X185,0)+IF(ISNUMBER(CSVデータ4!X185),CSVデータ4!X185,0)","v":0},null,{"$f":"IF(ISNUMBER(CSVデータ1!Z185),CSVデータ1!Z185,0)+IF(ISNUMBER(CSVデータ2!Z185),CSVデータ2!Z185,0)+IF(ISNUMBER(CSVデータ3!Z185),CSVデータ3!Z185,0)+IF(ISNUMBER(CSVデータ4!Z185),CSVデータ4!Z185,0)","v":0},null,{"$f":"IF(ISNUMBER(CSVデータ1!AB185),CSVデータ1!AB185,0)+IF(ISNUMBER(CSVデータ2!AB185),CSVデータ2!AB185,0)+IF(ISNUMBER(CSVデータ3!AB185),CSVデータ3!AB185,0)+IF(ISNUMBER(CSVデータ4!AB185),CSVデータ4!AB185,0)","v":0},null,{"$f":"IF(ISNUMBER(CSVデータ1!AD185),CSVデータ1!AD185,0)+IF(ISNUMBER(CSVデータ2!AD185),CSVデータ2!AD185,0)+IF(ISNUMBER(CSVデータ3!AD185),CSVデータ3!AD185,0)+IF(ISNUMBER(CSVデータ4!AD185),CSVデータ4!AD185,0)","v":0},null,{"$f":"IF(ISNUMBER(CSVデータ1!AF185),CSVデータ1!AF185,0)+IF(ISNUMBER(CSVデータ2!AF185),CSVデータ2!AF185,0)+IF(ISNUMBER(CSVデータ3!AF185),CSVデータ3!AF185,0)+IF(ISNUMBER(CSVデータ4!AF185),CSVデータ4!AF185,0)","v":0},null,{"$f":"IF(ISNUMBER(CSVデータ1!AH185),CSVデータ1!AH185,0)+IF(ISNUMBER(CSVデータ2!AH185),CSVデータ2!AH185,0)+IF(ISNUMBER(CSVデータ3!AH185),CSVデータ3!AH185,0)+IF(ISNUMBER(CSVデータ4!AH185),CSVデータ4!AH185,0)","v":0},null,{"$f":"IF(ISNUMBER(CSVデータ1!AJ185),CSVデータ1!AJ185,0)+IF(ISNUMBER(CSVデータ2!AJ185),CSVデータ2!AJ185,0)+IF(ISNUMBER(CSVデータ3!AJ185),CSVデータ3!AJ185,0)+IF(ISNUMBER(CSVデータ4!AJ185),CSVデータ4!AJ185,0)","v":0},null,{"$f":"IF(ISNUMBER(CSVデータ1!AL185),CSVデータ1!AL185,0)+IF(ISNUMBER(CSVデータ2!AL185),CSVデータ2!AL185,0)+IF(ISNUMBER(CSVデータ3!AL185),CSVデータ3!AL185,0)+IF(ISNUMBER(CSVデータ4!AL185),CSVデータ4!AL185,0)","v":0},null,{"$f":"IF(ISNUMBER(CSVデータ1!AN185),CSVデータ1!AN185,0)+IF(ISNUMBER(CSVデータ2!AN185),CSVデータ2!AN185,0)+IF(ISNUMBER(CSVデータ3!AN185),CSVデータ3!AN185,0)+IF(ISNUMBER(CSVデータ4!AN185),CSVデータ4!AN185,0)","v":0}]
[{"$f":"CSVデータ1!A186","v":"明細部"},{"$f":"CSVデータ1!B186","v":"保険者（地区）"},{"$f":"CSVデータ1!C186","v":47},{"$f":"CSVデータ1!D186","v":"女"},{"$f":"IF(ISNUMBER(CSVデータ1!E186),CSVデータ1!E186,0)+IF(ISNUMBER(CSVデータ2!E186),CSVデータ2!E186,0)+IF(ISNUMBER(CSVデータ3!E186),CSVデータ3!E186,0)+IF(ISNUMBER(CSVデータ4!E186),CSVデータ4!E186,0)","v":0},{"$f":"IF(ISNUMBER(CSVデータ1!F186),CSVデータ1!F186,0)+IF(ISNUMBER(CSVデータ2!F186),CSVデータ2!F186,0)+IF(ISNUMBER(CSVデータ3!F186),CSVデータ3!F186,0)+IF(ISNUMBER(CSVデータ4!F186),CSVデータ4!F186,0)","v":0},null,{"$f":"IF(ISNUMBER(CSVデータ1!H186),CSVデータ1!H186,0)+IF(ISNUMBER(CSVデータ2!H186),CSVデータ2!H186,0)+IF(ISNUMBER(CSVデータ3!H186),CSVデータ3!H186,0)+IF(ISNUMBER(CSVデータ4!H186),CSVデータ4!H186,0)","v":0},null,{"$f":"IF(ISNUMBER(CSVデータ1!J186),CSVデータ1!J186,0)+IF(ISNUMBER(CSVデータ2!J186),CSVデータ2!J186,0)+IF(ISNUMBER(CSVデータ3!J186),CSVデータ3!J186,0)+IF(ISNUMBER(CSVデータ4!J186),CSVデータ4!J186,0)","v":0},null,{"$f":"IF(ISNUMBER(CSVデータ1!L186),CSVデータ1!L186,0)+IF(ISNUMBER(CSVデータ2!L186),CSVデータ2!L186,0)+IF(ISNUMBER(CSVデータ3!L186),CSVデータ3!L186,0)+IF(ISNUMBER(CSVデータ4!L186),CSVデータ4!L186,0)","v":0},null,{"$f":"IF(ISNUMBER(CSVデータ1!N186),CSVデータ1!N186,0)+IF(ISNUMBER(CSVデータ2!N186),CSVデータ2!N186,0)+IF(ISNUMBER(CSVデータ3!N186),CSVデータ3!N186,0)+IF(ISNUMBER(CSVデータ4!N186),CSVデータ4!N186,0)","v":0},null,{"$f":"IF(ISNUMBER(CSVデータ1!P186),CSVデータ1!P186,0)+IF(ISNUMBER(CSVデータ2!P186),CSVデータ2!P186,0)+IF(ISNUMBER(CSVデータ3!P186),CSVデータ3!P186,0)+IF(ISNUMBER(CSVデータ4!P186),CSVデータ4!P186,0)","v":0},null,{"$f":"IF(ISNUMBER(CSVデータ1!R186),CSVデータ1!R186,0)+IF(ISNUMBER(CSVデータ2!R186),CSVデータ2!R186,0)+IF(ISNUMBER(CSVデータ3!R186),CSVデータ3!R186,0)+IF(ISNUMBER(CSVデータ4!R186),CSVデータ4!R186,0)","v":0},null,{"$f":"IF(ISNUMBER(CSVデータ1!T186),CSVデータ1!T186,0)+IF(ISNUMBER(CSVデータ2!T186),CSVデータ2!T186,0)+IF(ISNUMBER(CSVデータ3!T186),CSVデータ3!T186,0)+IF(ISNUMBER(CSVデータ4!T186),CSVデータ4!T186,0)","v":0},null,{"$f":"IF(ISNUMBER(CSVデータ1!V186),CSVデータ1!V186,0)+IF(ISNUMBER(CSVデータ2!V186),CSVデータ2!V186,0)+IF(ISNUMBER(CSVデータ3!V186),CSVデータ3!V186,0)+IF(ISNUMBER(CSVデータ4!V186),CSVデータ4!V186,0)","v":0},null,{"$f":"IF(ISNUMBER(CSVデータ1!X186),CSVデータ1!X186,0)+IF(ISNUMBER(CSVデータ2!X186),CSVデータ2!X186,0)+IF(ISNUMBER(CSVデータ3!X186),CSVデータ3!X186,0)+IF(ISNUMBER(CSVデータ4!X186),CSVデータ4!X186,0)","v":0},null,{"$f":"IF(ISNUMBER(CSVデータ1!Z186),CSVデータ1!Z186,0)+IF(ISNUMBER(CSVデータ2!Z186),CSVデータ2!Z186,0)+IF(ISNUMBER(CSVデータ3!Z186),CSVデータ3!Z186,0)+IF(ISNUMBER(CSVデータ4!Z186),CSVデータ4!Z186,0)","v":0},null,{"$f":"IF(ISNUMBER(CSVデータ1!AB186),CSVデータ1!AB186,0)+IF(ISNUMBER(CSVデータ2!AB186),CSVデータ2!AB186,0)+IF(ISNUMBER(CSVデータ3!AB186),CSVデータ3!AB186,0)+IF(ISNUMBER(CSVデータ4!AB186),CSVデータ4!AB186,0)","v":0},null,{"$f":"IF(ISNUMBER(CSVデータ1!AD186),CSVデータ1!AD186,0)+IF(ISNUMBER(CSVデータ2!AD186),CSVデータ2!AD186,0)+IF(ISNUMBER(CSVデータ3!AD186),CSVデータ3!AD186,0)+IF(ISNUMBER(CSVデータ4!AD186),CSVデータ4!AD186,0)","v":0},null,{"$f":"IF(ISNUMBER(CSVデータ1!AF186),CSVデータ1!AF186,0)+IF(ISNUMBER(CSVデータ2!AF186),CSVデータ2!AF186,0)+IF(ISNUMBER(CSVデータ3!AF186),CSVデータ3!AF186,0)+IF(ISNUMBER(CSVデータ4!AF186),CSVデータ4!AF186,0)","v":0},null,{"$f":"IF(ISNUMBER(CSVデータ1!AH186),CSVデータ1!AH186,0)+IF(ISNUMBER(CSVデータ2!AH186),CSVデータ2!AH186,0)+IF(ISNUMBER(CSVデータ3!AH186),CSVデータ3!AH186,0)+IF(ISNUMBER(CSVデータ4!AH186),CSVデータ4!AH186,0)","v":0},null,{"$f":"IF(ISNUMBER(CSVデータ1!AJ186),CSVデータ1!AJ186,0)+IF(ISNUMBER(CSVデータ2!AJ186),CSVデータ2!AJ186,0)+IF(ISNUMBER(CSVデータ3!AJ186),CSVデータ3!AJ186,0)+IF(ISNUMBER(CSVデータ4!AJ186),CSVデータ4!AJ186,0)","v":0},null,{"$f":"IF(ISNUMBER(CSVデータ1!AL186),CSVデータ1!AL186,0)+IF(ISNUMBER(CSVデータ2!AL186),CSVデータ2!AL186,0)+IF(ISNUMBER(CSVデータ3!AL186),CSVデータ3!AL186,0)+IF(ISNUMBER(CSVデータ4!AL186),CSVデータ4!AL186,0)","v":0},null,{"$f":"IF(ISNUMBER(CSVデータ1!AN186),CSVデータ1!AN186,0)+IF(ISNUMBER(CSVデータ2!AN186),CSVデータ2!AN186,0)+IF(ISNUMBER(CSVデータ3!AN186),CSVデータ3!AN186,0)+IF(ISNUMBER(CSVデータ4!AN186),CSVデータ4!AN186,0)","v":0}]
[{"$f":"CSVデータ1!A187","v":"明細部"},{"$f":"CSVデータ1!B187","v":"保険者（地区）"},{"$f":"CSVデータ1!C187","v":48},{"$f":"CSVデータ1!D187","v":"女"},{"$f":"IF(ISNUMBER(CSVデータ1!E187),CSVデータ1!E187,0)+IF(ISNUMBER(CSVデータ2!E187),CSVデータ2!E187,0)+IF(ISNUMBER(CSVデータ3!E187),CSVデータ3!E187,0)+IF(ISNUMBER(CSVデータ4!E187),CSVデータ4!E187,0)","v":0},{"$f":"IF(ISNUMBER(CSVデータ1!F187),CSVデータ1!F187,0)+IF(ISNUMBER(CSVデータ2!F187),CSVデータ2!F187,0)+IF(ISNUMBER(CSVデータ3!F187),CSVデータ3!F187,0)+IF(ISNUMBER(CSVデータ4!F187),CSVデータ4!F187,0)","v":0},null,{"$f":"IF(ISNUMBER(CSVデータ1!H187),CSVデータ1!H187,0)+IF(ISNUMBER(CSVデータ2!H187),CSVデータ2!H187,0)+IF(ISNUMBER(CSVデータ3!H187),CSVデータ3!H187,0)+IF(ISNUMBER(CSVデータ4!H187),CSVデータ4!H187,0)","v":0},null,{"$f":"IF(ISNUMBER(CSVデータ1!J187),CSVデータ1!J187,0)+IF(ISNUMBER(CSVデータ2!J187),CSVデータ2!J187,0)+IF(ISNUMBER(CSVデータ3!J187),CSVデータ3!J187,0)+IF(ISNUMBER(CSVデータ4!J187),CSVデータ4!J187,0)","v":0},null,{"$f":"IF(ISNUMBER(CSVデータ1!L187),CSVデータ1!L187,0)+IF(ISNUMBER(CSVデータ2!L187),CSVデータ2!L187,0)+IF(ISNUMBER(CSVデータ3!L187),CSVデータ3!L187,0)+IF(ISNUMBER(CSVデータ4!L187),CSVデータ4!L187,0)","v":0},null,{"$f":"IF(ISNUMBER(CSVデータ1!N187),CSVデータ1!N187,0)+IF(ISNUMBER(CSVデータ2!N187),CSVデータ2!N187,0)+IF(ISNUMBER(CSVデータ3!N187),CSVデータ3!N187,0)+IF(ISNUMBER(CSVデータ4!N187),CSVデータ4!N187,0)","v":0},null,{"$f":"IF(ISNUMBER(CSVデータ1!P187),CSVデータ1!P187,0)+IF(ISNUMBER(CSVデータ2!P187),CSVデータ2!P187,0)+IF(ISNUMBER(CSVデータ3!P187),CSVデータ3!P187,0)+IF(ISNUMBER(CSVデータ4!P187),CSVデータ4!P187,0)","v":0},null,{"$f":"IF(ISNUMBER(CSVデータ1!R187),CSVデータ1!R187,0)+IF(ISNUMBER(CSVデータ2!R187),CSVデータ2!R187,0)+IF(ISNUMBER(CSVデータ3!R187),CSVデータ3!R187,0)+IF(ISNUMBER(CSVデータ4!R187),CSVデータ4!R187,0)","v":0},null,{"$f":"IF(ISNUMBER(CSVデータ1!T187),CSVデータ1!T187,0)+IF(ISNUMBER(CSVデータ2!T187),CSVデータ2!T187,0)+IF(ISNUMBER(CSVデータ3!T187),CSVデータ3!T187,0)+IF(ISNUMBER(CSVデータ4!T187),CSVデータ4!T187,0)","v":0},null,{"$f":"IF(ISNUMBER(CSVデータ1!V187),CSVデータ1!V187,0)+IF(ISNUMBER(CSVデータ2!V187),CSVデータ2!V187,0)+IF(ISNUMBER(CSVデータ3!V187),CSVデータ3!V187,0)+IF(ISNUMBER(CSVデータ4!V187),CSVデータ4!V187,0)","v":0},null,{"$f":"IF(ISNUMBER(CSVデータ1!X187),CSVデータ1!X187,0)+IF(ISNUMBER(CSVデータ2!X187),CSVデータ2!X187,0)+IF(ISNUMBER(CSVデータ3!X187),CSVデータ3!X187,0)+IF(ISNUMBER(CSVデータ4!X187),CSVデータ4!X187,0)","v":0},null,{"$f":"IF(ISNUMBER(CSVデータ1!Z187),CSVデータ1!Z187,0)+IF(ISNUMBER(CSVデータ2!Z187),CSVデータ2!Z187,0)+IF(ISNUMBER(CSVデータ3!Z187),CSVデータ3!Z187,0)+IF(ISNUMBER(CSVデータ4!Z187),CSVデータ4!Z187,0)","v":0},null,{"$f":"IF(ISNUMBER(CSVデータ1!AB187),CSVデータ1!AB187,0)+IF(ISNUMBER(CSVデータ2!AB187),CSVデータ2!AB187,0)+IF(ISNUMBER(CSVデータ3!AB187),CSVデータ3!AB187,0)+IF(ISNUMBER(CSVデータ4!AB187),CSVデータ4!AB187,0)","v":0},null,{"$f":"IF(ISNUMBER(CSVデータ1!AD187),CSVデータ1!AD187,0)+IF(ISNUMBER(CSVデータ2!AD187),CSVデータ2!AD187,0)+IF(ISNUMBER(CSVデータ3!AD187),CSVデータ3!AD187,0)+IF(ISNUMBER(CSVデータ4!AD187),CSVデータ4!AD187,0)","v":0},null,{"$f":"IF(ISNUMBER(CSVデータ1!AF187),CSVデータ1!AF187,0)+IF(ISNUMBER(CSVデータ2!AF187),CSVデータ2!AF187,0)+IF(ISNUMBER(CSVデータ3!AF187),CSVデータ3!AF187,0)+IF(ISNUMBER(CSVデータ4!AF187),CSVデータ4!AF187,0)","v":0},null,{"$f":"IF(ISNUMBER(CSVデータ1!AH187),CSVデータ1!AH187,0)+IF(ISNUMBER(CSVデータ2!AH187),CSVデータ2!AH187,0)+IF(ISNUMBER(CSVデータ3!AH187),CSVデータ3!AH187,0)+IF(ISNUMBER(CSVデータ4!AH187),CSVデータ4!AH187,0)","v":0},null,{"$f":"IF(ISNUMBER(CSVデータ1!AJ187),CSVデータ1!AJ187,0)+IF(ISNUMBER(CSVデータ2!AJ187),CSVデータ2!AJ187,0)+IF(ISNUMBER(CSVデータ3!AJ187),CSVデータ3!AJ187,0)+IF(ISNUMBER(CSVデータ4!AJ187),CSVデータ4!AJ187,0)","v":0},null,{"$f":"IF(ISNUMBER(CSVデータ1!AL187),CSVデータ1!AL187,0)+IF(ISNUMBER(CSVデータ2!AL187),CSVデータ2!AL187,0)+IF(ISNUMBER(CSVデータ3!AL187),CSVデータ3!AL187,0)+IF(ISNUMBER(CSVデータ4!AL187),CSVデータ4!AL187,0)","v":0},null,{"$f":"IF(ISNUMBER(CSVデータ1!AN187),CSVデータ1!AN187,0)+IF(ISNUMBER(CSVデータ2!AN187),CSVデータ2!AN187,0)+IF(ISNUMBER(CSVデータ3!AN187),CSVデータ3!AN187,0)+IF(ISNUMBER(CSVデータ4!AN187),CSVデータ4!AN187,0)","v":0}]
[{"$f":"CSVデータ1!A188","v":"明細部"},{"$f":"CSVデータ1!B188","v":"保険者（地区）"},{"$f":"CSVデータ1!C188","v":49},{"$f":"CSVデータ1!D188","v":"女"},{"$f":"IF(ISNUMBER(CSVデータ1!E188),CSVデータ1!E188,0)+IF(ISNUMBER(CSVデータ2!E188),CSVデータ2!E188,0)+IF(ISNUMBER(CSVデータ3!E188),CSVデータ3!E188,0)+IF(ISNUMBER(CSVデータ4!E188),CSVデータ4!E188,0)","v":0},{"$f":"IF(ISNUMBER(CSVデータ1!F188),CSVデータ1!F188,0)+IF(ISNUMBER(CSVデータ2!F188),CSVデータ2!F188,0)+IF(ISNUMBER(CSVデータ3!F188),CSVデータ3!F188,0)+IF(ISNUMBER(CSVデータ4!F188),CSVデータ4!F188,0)","v":0},null,{"$f":"IF(ISNUMBER(CSVデータ1!H188),CSVデータ1!H188,0)+IF(ISNUMBER(CSVデータ2!H188),CSVデータ2!H188,0)+IF(ISNUMBER(CSVデータ3!H188),CSVデータ3!H188,0)+IF(ISNUMBER(CSVデータ4!H188),CSVデータ4!H188,0)","v":0},null,{"$f":"IF(ISNUMBER(CSVデータ1!J188),CSVデータ1!J188,0)+IF(ISNUMBER(CSVデータ2!J188),CSVデータ2!J188,0)+IF(ISNUMBER(CSVデータ3!J188),CSVデータ3!J188,0)+IF(ISNUMBER(CSVデータ4!J188),CSVデータ4!J188,0)","v":0},null,{"$f":"IF(ISNUMBER(CSVデータ1!L188),CSVデータ1!L188,0)+IF(ISNUMBER(CSVデータ2!L188),CSVデータ2!L188,0)+IF(ISNUMBER(CSVデータ3!L188),CSVデータ3!L188,0)+IF(ISNUMBER(CSVデータ4!L188),CSVデータ4!L188,0)","v":0},null,{"$f":"IF(ISNUMBER(CSVデータ1!N188),CSVデータ1!N188,0)+IF(ISNUMBER(CSVデータ2!N188),CSVデータ2!N188,0)+IF(ISNUMBER(CSVデータ3!N188),CSVデータ3!N188,0)+IF(ISNUMBER(CSVデータ4!N188),CSVデータ4!N188,0)","v":0},null,{"$f":"IF(ISNUMBER(CSVデータ1!P188),CSVデータ1!P188,0)+IF(ISNUMBER(CSVデータ2!P188),CSVデータ2!P188,0)+IF(ISNUMBER(CSVデータ3!P188),CSVデータ3!P188,0)+IF(ISNUMBER(CSVデータ4!P188),CSVデータ4!P188,0)","v":0},null,{"$f":"IF(ISNUMBER(CSVデータ1!R188),CSVデータ1!R188,0)+IF(ISNUMBER(CSVデータ2!R188),CSVデータ2!R188,0)+IF(ISNUMBER(CSVデータ3!R188),CSVデータ3!R188,0)+IF(ISNUMBER(CSVデータ4!R188),CSVデータ4!R188,0)","v":0},null,{"$f":"IF(ISNUMBER(CSVデータ1!T188),CSVデータ1!T188,0)+IF(ISNUMBER(CSVデータ2!T188),CSVデータ2!T188,0)+IF(ISNUMBER(CSVデータ3!T188),CSVデータ3!T188,0)+IF(ISNUMBER(CSVデータ4!T188),CSVデータ4!T188,0)","v":0},null,{"$f":"IF(ISNUMBER(CSVデータ1!V188),CSVデータ1!V188,0)+IF(ISNUMBER(CSVデータ2!V188),CSVデータ2!V188,0)+IF(ISNUMBER(CSVデータ3!V188),CSVデータ3!V188,0)+IF(ISNUMBER(CSVデータ4!V188),CSVデータ4!V188,0)","v":0},null,{"$f":"IF(ISNUMBER(CSVデータ1!X188),CSVデータ1!X188,0)+IF(ISNUMBER(CSVデータ2!X188),CSVデータ2!X188,0)+IF(ISNUMBER(CSVデータ3!X188),CSVデータ3!X188,0)+IF(ISNUMBER(CSVデータ4!X188),CSVデータ4!X188,0)","v":0},null,{"$f":"IF(ISNUMBER(CSVデータ1!Z188),CSVデータ1!Z188,0)+IF(ISNUMBER(CSVデータ2!Z188),CSVデータ2!Z188,0)+IF(ISNUMBER(CSVデータ3!Z188),CSVデータ3!Z188,0)+IF(ISNUMBER(CSVデータ4!Z188),CSVデータ4!Z188,0)","v":0},null,{"$f":"IF(ISNUMBER(CSVデータ1!AB188),CSVデータ1!AB188,0)+IF(ISNUMBER(CSVデータ2!AB188),CSVデータ2!AB188,0)+IF(ISNUMBER(CSVデータ3!AB188),CSVデータ3!AB188,0)+IF(ISNUMBER(CSVデータ4!AB188),CSVデータ4!AB188,0)","v":0},null,{"$f":"IF(ISNUMBER(CSVデータ1!AD188),CSVデータ1!AD188,0)+IF(ISNUMBER(CSVデータ2!AD188),CSVデータ2!AD188,0)+IF(ISNUMBER(CSVデータ3!AD188),CSVデータ3!AD188,0)+IF(ISNUMBER(CSVデータ4!AD188),CSVデータ4!AD188,0)","v":0},null,{"$f":"IF(ISNUMBER(CSVデータ1!AF188),CSVデータ1!AF188,0)+IF(ISNUMBER(CSVデータ2!AF188),CSVデータ2!AF188,0)+IF(ISNUMBER(CSVデータ3!AF188),CSVデータ3!AF188,0)+IF(ISNUMBER(CSVデータ4!AF188),CSVデータ4!AF188,0)","v":0},null,{"$f":"IF(ISNUMBER(CSVデータ1!AH188),CSVデータ1!AH188,0)+IF(ISNUMBER(CSVデータ2!AH188),CSVデータ2!AH188,0)+IF(ISNUMBER(CSVデータ3!AH188),CSVデータ3!AH188,0)+IF(ISNUMBER(CSVデータ4!AH188),CSVデータ4!AH188,0)","v":0},null,{"$f":"IF(ISNUMBER(CSVデータ1!AJ188),CSVデータ1!AJ188,0)+IF(ISNUMBER(CSVデータ2!AJ188),CSVデータ2!AJ188,0)+IF(ISNUMBER(CSVデータ3!AJ188),CSVデータ3!AJ188,0)+IF(ISNUMBER(CSVデータ4!AJ188),CSVデータ4!AJ188,0)","v":0},null,{"$f":"IF(ISNUMBER(CSVデータ1!AL188),CSVデータ1!AL188,0)+IF(ISNUMBER(CSVデータ2!AL188),CSVデータ2!AL188,0)+IF(ISNUMBER(CSVデータ3!AL188),CSVデータ3!AL188,0)+IF(ISNUMBER(CSVデータ4!AL188),CSVデータ4!AL188,0)","v":0},null,{"$f":"IF(ISNUMBER(CSVデータ1!AN188),CSVデータ1!AN188,0)+IF(ISNUMBER(CSVデータ2!AN188),CSVデータ2!AN188,0)+IF(ISNUMBER(CSVデータ3!AN188),CSVデータ3!AN188,0)+IF(ISNUMBER(CSVデータ4!AN188),CSVデータ4!AN188,0)","v":0}]
[{"$f":"CSVデータ1!A189","v":"明細部"},{"$f":"CSVデータ1!B189","v":"保険者（地区）"},{"$f":"CSVデータ1!C189","v":50},{"$f":"CSVデータ1!D189","v":"女"},{"$f":"IF(ISNUMBER(CSVデータ1!E189),CSVデータ1!E189,0)+IF(ISNUMBER(CSVデータ2!E189),CSVデータ2!E189,0)+IF(ISNUMBER(CSVデータ3!E189),CSVデータ3!E189,0)+IF(ISNUMBER(CSVデータ4!E189),CSVデータ4!E189,0)","v":0},{"$f":"IF(ISNUMBER(CSVデータ1!F189),CSVデータ1!F189,0)+IF(ISNUMBER(CSVデータ2!F189),CSVデータ2!F189,0)+IF(ISNUMBER(CSVデータ3!F189),CSVデータ3!F189,0)+IF(ISNUMBER(CSVデータ4!F189),CSVデータ4!F189,0)","v":0},null,{"$f":"IF(ISNUMBER(CSVデータ1!H189),CSVデータ1!H189,0)+IF(ISNUMBER(CSVデータ2!H189),CSVデータ2!H189,0)+IF(ISNUMBER(CSVデータ3!H189),CSVデータ3!H189,0)+IF(ISNUMBER(CSVデータ4!H189),CSVデータ4!H189,0)","v":0},null,{"$f":"IF(ISNUMBER(CSVデータ1!J189),CSVデータ1!J189,0)+IF(ISNUMBER(CSVデータ2!J189),CSVデータ2!J189,0)+IF(ISNUMBER(CSVデータ3!J189),CSVデータ3!J189,0)+IF(ISNUMBER(CSVデータ4!J189),CSVデータ4!J189,0)","v":0},null,{"$f":"IF(ISNUMBER(CSVデータ1!L189),CSVデータ1!L189,0)+IF(ISNUMBER(CSVデータ2!L189),CSVデータ2!L189,0)+IF(ISNUMBER(CSVデータ3!L189),CSVデータ3!L189,0)+IF(ISNUMBER(CSVデータ4!L189),CSVデータ4!L189,0)","v":0},null,{"$f":"IF(ISNUMBER(CSVデータ1!N189),CSVデータ1!N189,0)+IF(ISNUMBER(CSVデータ2!N189),CSVデータ2!N189,0)+IF(ISNUMBER(CSVデータ3!N189),CSVデータ3!N189,0)+IF(ISNUMBER(CSVデータ4!N189),CSVデータ4!N189,0)","v":0},null,{"$f":"IF(ISNUMBER(CSVデータ1!P189),CSVデータ1!P189,0)+IF(ISNUMBER(CSVデータ2!P189),CSVデータ2!P189,0)+IF(ISNUMBER(CSVデータ3!P189),CSVデータ3!P189,0)+IF(ISNUMBER(CSVデータ4!P189),CSVデータ4!P189,0)","v":0},null,{"$f":"IF(ISNUMBER(CSVデータ1!R189),CSVデータ1!R189,0)+IF(ISNUMBER(CSVデータ2!R189),CSVデータ2!R189,0)+IF(ISNUMBER(CSVデータ3!R189),CSVデータ3!R189,0)+IF(ISNUMBER(CSVデータ4!R189),CSVデータ4!R189,0)","v":0},null,{"$f":"IF(ISNUMBER(CSVデータ1!T189),CSVデータ1!T189,0)+IF(ISNUMBER(CSVデータ2!T189),CSVデータ2!T189,0)+IF(ISNUMBER(CSVデータ3!T189),CSVデータ3!T189,0)+IF(ISNUMBER(CSVデータ4!T189),CSVデータ4!T189,0)","v":0},null,{"$f":"IF(ISNUMBER(CSVデータ1!V189),CSVデータ1!V189,0)+IF(ISNUMBER(CSVデータ2!V189),CSVデータ2!V189,0)+IF(ISNUMBER(CSVデータ3!V189),CSVデータ3!V189,0)+IF(ISNUMBER(CSVデータ4!V189),CSVデータ4!V189,0)","v":0},null,{"$f":"IF(ISNUMBER(CSVデータ1!X189),CSVデータ1!X189,0)+IF(ISNUMBER(CSVデータ2!X189),CSVデータ2!X189,0)+IF(ISNUMBER(CSVデータ3!X189),CSVデータ3!X189,0)+IF(ISNUMBER(CSVデータ4!X189),CSVデータ4!X189,0)","v":0},null,{"$f":"IF(ISNUMBER(CSVデータ1!Z189),CSVデータ1!Z189,0)+IF(ISNUMBER(CSVデータ2!Z189),CSVデータ2!Z189,0)+IF(ISNUMBER(CSVデータ3!Z189),CSVデータ3!Z189,0)+IF(ISNUMBER(CSVデータ4!Z189),CSVデータ4!Z189,0)","v":0},null,{"$f":"IF(ISNUMBER(CSVデータ1!AB189),CSVデータ1!AB189,0)+IF(ISNUMBER(CSVデータ2!AB189),CSVデータ2!AB189,0)+IF(ISNUMBER(CSVデータ3!AB189),CSVデータ3!AB189,0)+IF(ISNUMBER(CSVデータ4!AB189),CSVデータ4!AB189,0)","v":0},null,{"$f":"IF(ISNUMBER(CSVデータ1!AD189),CSVデータ1!AD189,0)+IF(ISNUMBER(CSVデータ2!AD189),CSVデータ2!AD189,0)+IF(ISNUMBER(CSVデータ3!AD189),CSVデータ3!AD189,0)+IF(ISNUMBER(CSVデータ4!AD189),CSVデータ4!AD189,0)","v":0},null,{"$f":"IF(ISNUMBER(CSVデータ1!AF189),CSVデータ1!AF189,0)+IF(ISNUMBER(CSVデータ2!AF189),CSVデータ2!AF189,0)+IF(ISNUMBER(CSVデータ3!AF189),CSVデータ3!AF189,0)+IF(ISNUMBER(CSVデータ4!AF189),CSVデータ4!AF189,0)","v":0},null,{"$f":"IF(ISNUMBER(CSVデータ1!AH189),CSVデータ1!AH189,0)+IF(ISNUMBER(CSVデータ2!AH189),CSVデータ2!AH189,0)+IF(ISNUMBER(CSVデータ3!AH189),CSVデータ3!AH189,0)+IF(ISNUMBER(CSVデータ4!AH189),CSVデータ4!AH189,0)","v":0},null,{"$f":"IF(ISNUMBER(CSVデータ1!AJ189),CSVデータ1!AJ189,0)+IF(ISNUMBER(CSVデータ2!AJ189),CSVデータ2!AJ189,0)+IF(ISNUMBER(CSVデータ3!AJ189),CSVデータ3!AJ189,0)+IF(ISNUMBER(CSVデータ4!AJ189),CSVデータ4!AJ189,0)","v":0},null,{"$f":"IF(ISNUMBER(CSVデータ1!AL189),CSVデータ1!AL189,0)+IF(ISNUMBER(CSVデータ2!AL189),CSVデータ2!AL189,0)+IF(ISNUMBER(CSVデータ3!AL189),CSVデータ3!AL189,0)+IF(ISNUMBER(CSVデータ4!AL189),CSVデータ4!AL189,0)","v":0},null,{"$f":"IF(ISNUMBER(CSVデータ1!AN189),CSVデータ1!AN189,0)+IF(ISNUMBER(CSVデータ2!AN189),CSVデータ2!AN189,0)+IF(ISNUMBER(CSVデータ3!AN189),CSVデータ3!AN189,0)+IF(ISNUMBER(CSVデータ4!AN189),CSVデータ4!AN189,0)","v":0}]
[{"$f":"CSVデータ1!A190","v":"明細部"},{"$f":"CSVデータ1!B190","v":"保険者（地区）"},{"$f":"CSVデータ1!C190","v":51},{"$f":"CSVデータ1!D190","v":"女"},{"$f":"IF(ISNUMBER(CSVデータ1!E190),CSVデータ1!E190,0)+IF(ISNUMBER(CSVデータ2!E190),CSVデータ2!E190,0)+IF(ISNUMBER(CSVデータ3!E190),CSVデータ3!E190,0)+IF(ISNUMBER(CSVデータ4!E190),CSVデータ4!E190,0)","v":0},{"$f":"IF(ISNUMBER(CSVデータ1!F190),CSVデータ1!F190,0)+IF(ISNUMBER(CSVデータ2!F190),CSVデータ2!F190,0)+IF(ISNUMBER(CSVデータ3!F190),CSVデータ3!F190,0)+IF(ISNUMBER(CSVデータ4!F190),CSVデータ4!F190,0)","v":0},null,{"$f":"IF(ISNUMBER(CSVデータ1!H190),CSVデータ1!H190,0)+IF(ISNUMBER(CSVデータ2!H190),CSVデータ2!H190,0)+IF(ISNUMBER(CSVデータ3!H190),CSVデータ3!H190,0)+IF(ISNUMBER(CSVデータ4!H190),CSVデータ4!H190,0)","v":0},null,{"$f":"IF(ISNUMBER(CSVデータ1!J190),CSVデータ1!J190,0)+IF(ISNUMBER(CSVデータ2!J190),CSVデータ2!J190,0)+IF(ISNUMBER(CSVデータ3!J190),CSVデータ3!J190,0)+IF(ISNUMBER(CSVデータ4!J190),CSVデータ4!J190,0)","v":0},null,{"$f":"IF(ISNUMBER(CSVデータ1!L190),CSVデータ1!L190,0)+IF(ISNUMBER(CSVデータ2!L190),CSVデータ2!L190,0)+IF(ISNUMBER(CSVデータ3!L190),CSVデータ3!L190,0)+IF(ISNUMBER(CSVデータ4!L190),CSVデータ4!L190,0)","v":0},null,{"$f":"IF(ISNUMBER(CSVデータ1!N190),CSVデータ1!N190,0)+IF(ISNUMBER(CSVデータ2!N190),CSVデータ2!N190,0)+IF(ISNUMBER(CSVデータ3!N190),CSVデータ3!N190,0)+IF(ISNUMBER(CSVデータ4!N190),CSVデータ4!N190,0)","v":0},null,{"$f":"IF(ISNUMBER(CSVデータ1!P190),CSVデータ1!P190,0)+IF(ISNUMBER(CSVデータ2!P190),CSVデータ2!P190,0)+IF(ISNUMBER(CSVデータ3!P190),CSVデータ3!P190,0)+IF(ISNUMBER(CSVデータ4!P190),CSVデータ4!P190,0)","v":0},null,{"$f":"IF(ISNUMBER(CSVデータ1!R190),CSVデータ1!R190,0)+IF(ISNUMBER(CSVデータ2!R190),CSVデータ2!R190,0)+IF(ISNUMBER(CSVデータ3!R190),CSVデータ3!R190,0)+IF(ISNUMBER(CSVデータ4!R190),CSVデータ4!R190,0)","v":0},null,{"$f":"IF(ISNUMBER(CSVデータ1!T190),CSVデータ1!T190,0)+IF(ISNUMBER(CSVデータ2!T190),CSVデータ2!T190,0)+IF(ISNUMBER(CSVデータ3!T190),CSVデータ3!T190,0)+IF(ISNUMBER(CSVデータ4!T190),CSVデータ4!T190,0)","v":0},null,{"$f":"IF(ISNUMBER(CSVデータ1!V190),CSVデータ1!V190,0)+IF(ISNUMBER(CSVデータ2!V190),CSVデータ2!V190,0)+IF(ISNUMBER(CSVデータ3!V190),CSVデータ3!V190,0)+IF(ISNUMBER(CSVデータ4!V190),CSVデータ4!V190,0)","v":0},null,{"$f":"IF(ISNUMBER(CSVデータ1!X190),CSVデータ1!X190,0)+IF(ISNUMBER(CSVデータ2!X190),CSVデータ2!X190,0)+IF(ISNUMBER(CSVデータ3!X190),CSVデータ3!X190,0)+IF(ISNUMBER(CSVデータ4!X190),CSVデータ4!X190,0)","v":0},null,{"$f":"IF(ISNUMBER(CSVデータ1!Z190),CSVデータ1!Z190,0)+IF(ISNUMBER(CSVデータ2!Z190),CSVデータ2!Z190,0)+IF(ISNUMBER(CSVデータ3!Z190),CSVデータ3!Z190,0)+IF(ISNUMBER(CSVデータ4!Z190),CSVデータ4!Z190,0)","v":0},null,{"$f":"IF(ISNUMBER(CSVデータ1!AB190),CSVデータ1!AB190,0)+IF(ISNUMBER(CSVデータ2!AB190),CSVデータ2!AB190,0)+IF(ISNUMBER(CSVデータ3!AB190),CSVデータ3!AB190,0)+IF(ISNUMBER(CSVデータ4!AB190),CSVデータ4!AB190,0)","v":0},null,{"$f":"IF(ISNUMBER(CSVデータ1!AD190),CSVデータ1!AD190,0)+IF(ISNUMBER(CSVデータ2!AD190),CSVデータ2!AD190,0)+IF(ISNUMBER(CSVデータ3!AD190),CSVデータ3!AD190,0)+IF(ISNUMBER(CSVデータ4!AD190),CSVデータ4!AD190,0)","v":0},null,{"$f":"IF(ISNUMBER(CSVデータ1!AF190),CSVデータ1!AF190,0)+IF(ISNUMBER(CSVデータ2!AF190),CSVデータ2!AF190,0)+IF(ISNUMBER(CSVデータ3!AF190),CSVデータ3!AF190,0)+IF(ISNUMBER(CSVデータ4!AF190),CSVデータ4!AF190,0)","v":0},null,{"$f":"IF(ISNUMBER(CSVデータ1!AH190),CSVデータ1!AH190,0)+IF(ISNUMBER(CSVデータ2!AH190),CSVデータ2!AH190,0)+IF(ISNUMBER(CSVデータ3!AH190),CSVデータ3!AH190,0)+IF(ISNUMBER(CSVデータ4!AH190),CSVデータ4!AH190,0)","v":0},null,{"$f":"IF(ISNUMBER(CSVデータ1!AJ190),CSVデータ1!AJ190,0)+IF(ISNUMBER(CSVデータ2!AJ190),CSVデータ2!AJ190,0)+IF(ISNUMBER(CSVデータ3!AJ190),CSVデータ3!AJ190,0)+IF(ISNUMBER(CSVデータ4!AJ190),CSVデータ4!AJ190,0)","v":0},null,{"$f":"IF(ISNUMBER(CSVデータ1!AL190),CSVデータ1!AL190,0)+IF(ISNUMBER(CSVデータ2!AL190),CSVデータ2!AL190,0)+IF(ISNUMBER(CSVデータ3!AL190),CSVデータ3!AL190,0)+IF(ISNUMBER(CSVデータ4!AL190),CSVデータ4!AL190,0)","v":0},null,{"$f":"IF(ISNUMBER(CSVデータ1!AN190),CSVデータ1!AN190,0)+IF(ISNUMBER(CSVデータ2!AN190),CSVデータ2!AN190,0)+IF(ISNUMBER(CSVデータ3!AN190),CSVデータ3!AN190,0)+IF(ISNUMBER(CSVデータ4!AN190),CSVデータ4!AN190,0)","v":0}]
[{"$f":"CSVデータ1!A191","v":"明細部"},{"$f":"CSVデータ1!B191","v":"保険者（地区）"},{"$f":"CSVデータ1!C191","v":52},{"$f":"CSVデータ1!D191","v":"女"},{"$f":"IF(ISNUMBER(CSVデータ1!E191),CSVデータ1!E191,0)+IF(ISNUMBER(CSVデータ2!E191),CSVデータ2!E191,0)+IF(ISNUMBER(CSVデータ3!E191),CSVデータ3!E191,0)+IF(ISNUMBER(CSVデータ4!E191),CSVデータ4!E191,0)","v":0},{"$f":"IF(ISNUMBER(CSVデータ1!F191),CSVデータ1!F191,0)+IF(ISNUMBER(CSVデータ2!F191),CSVデータ2!F191,0)+IF(ISNUMBER(CSVデータ3!F191),CSVデータ3!F191,0)+IF(ISNUMBER(CSVデータ4!F191),CSVデータ4!F191,0)","v":0},null,{"$f":"IF(ISNUMBER(CSVデータ1!H191),CSVデータ1!H191,0)+IF(ISNUMBER(CSVデータ2!H191),CSVデータ2!H191,0)+IF(ISNUMBER(CSVデータ3!H191),CSVデータ3!H191,0)+IF(ISNUMBER(CSVデータ4!H191),CSVデータ4!H191,0)","v":0},null,{"$f":"IF(ISNUMBER(CSVデータ1!J191),CSVデータ1!J191,0)+IF(ISNUMBER(CSVデータ2!J191),CSVデータ2!J191,0)+IF(ISNUMBER(CSVデータ3!J191),CSVデータ3!J191,0)+IF(ISNUMBER(CSVデータ4!J191),CSVデータ4!J191,0)","v":0},null,{"$f":"IF(ISNUMBER(CSVデータ1!L191),CSVデータ1!L191,0)+IF(ISNUMBER(CSVデータ2!L191),CSVデータ2!L191,0)+IF(ISNUMBER(CSVデータ3!L191),CSVデータ3!L191,0)+IF(ISNUMBER(CSVデータ4!L191),CSVデータ4!L191,0)","v":0},null,{"$f":"IF(ISNUMBER(CSVデータ1!N191),CSVデータ1!N191,0)+IF(ISNUMBER(CSVデータ2!N191),CSVデータ2!N191,0)+IF(ISNUMBER(CSVデータ3!N191),CSVデータ3!N191,0)+IF(ISNUMBER(CSVデータ4!N191),CSVデータ4!N191,0)","v":0},null,{"$f":"IF(ISNUMBER(CSVデータ1!P191),CSVデータ1!P191,0)+IF(ISNUMBER(CSVデータ2!P191),CSVデータ2!P191,0)+IF(ISNUMBER(CSVデータ3!P191),CSVデータ3!P191,0)+IF(ISNUMBER(CSVデータ4!P191),CSVデータ4!P191,0)","v":0},null,{"$f":"IF(ISNUMBER(CSVデータ1!R191),CSVデータ1!R191,0)+IF(ISNUMBER(CSVデータ2!R191),CSVデータ2!R191,0)+IF(ISNUMBER(CSVデータ3!R191),CSVデータ3!R191,0)+IF(ISNUMBER(CSVデータ4!R191),CSVデータ4!R191,0)","v":0},null,{"$f":"IF(ISNUMBER(CSVデータ1!T191),CSVデータ1!T191,0)+IF(ISNUMBER(CSVデータ2!T191),CSVデータ2!T191,0)+IF(ISNUMBER(CSVデータ3!T191),CSVデータ3!T191,0)+IF(ISNUMBER(CSVデータ4!T191),CSVデータ4!T191,0)","v":0},null,{"$f":"IF(ISNUMBER(CSVデータ1!V191),CSVデータ1!V191,0)+IF(ISNUMBER(CSVデータ2!V191),CSVデータ2!V191,0)+IF(ISNUMBER(CSVデータ3!V191),CSVデータ3!V191,0)+IF(ISNUMBER(CSVデータ4!V191),CSVデータ4!V191,0)","v":0},null,{"$f":"IF(ISNUMBER(CSVデータ1!X191),CSVデータ1!X191,0)+IF(ISNUMBER(CSVデータ2!X191),CSVデータ2!X191,0)+IF(ISNUMBER(CSVデータ3!X191),CSVデータ3!X191,0)+IF(ISNUMBER(CSVデータ4!X191),CSVデータ4!X191,0)","v":0},null,{"$f":"IF(ISNUMBER(CSVデータ1!Z191),CSVデータ1!Z191,0)+IF(ISNUMBER(CSVデータ2!Z191),CSVデータ2!Z191,0)+IF(ISNUMBER(CSVデータ3!Z191),CSVデータ3!Z191,0)+IF(ISNUMBER(CSVデータ4!Z191),CSVデータ4!Z191,0)","v":0},null,{"$f":"IF(ISNUMBER(CSVデータ1!AB191),CSVデータ1!AB191,0)+IF(ISNUMBER(CSVデータ2!AB191),CSVデータ2!AB191,0)+IF(ISNUMBER(CSVデータ3!AB191),CSVデータ3!AB191,0)+IF(ISNUMBER(CSVデータ4!AB191),CSVデータ4!AB191,0)","v":0},null,{"$f":"IF(ISNUMBER(CSVデータ1!AD191),CSVデータ1!AD191,0)+IF(ISNUMBER(CSVデータ2!AD191),CSVデータ2!AD191,0)+IF(ISNUMBER(CSVデータ3!AD191),CSVデータ3!AD191,0)+IF(ISNUMBER(CSVデータ4!AD191),CSVデータ4!AD191,0)","v":0},null,{"$f":"IF(ISNUMBER(CSVデータ1!AF191),CSVデータ1!AF191,0)+IF(ISNUMBER(CSVデータ2!AF191),CSVデータ2!AF191,0)+IF(ISNUMBER(CSVデータ3!AF191),CSVデータ3!AF191,0)+IF(ISNUMBER(CSVデータ4!AF191),CSVデータ4!AF191,0)","v":0},null,{"$f":"IF(ISNUMBER(CSVデータ1!AH191),CSVデータ1!AH191,0)+IF(ISNUMBER(CSVデータ2!AH191),CSVデータ2!AH191,0)+IF(ISNUMBER(CSVデータ3!AH191),CSVデータ3!AH191,0)+IF(ISNUMBER(CSVデータ4!AH191),CSVデータ4!AH191,0)","v":0},null,{"$f":"IF(ISNUMBER(CSVデータ1!AJ191),CSVデータ1!AJ191,0)+IF(ISNUMBER(CSVデータ2!AJ191),CSVデータ2!AJ191,0)+IF(ISNUMBER(CSVデータ3!AJ191),CSVデータ3!AJ191,0)+IF(ISNUMBER(CSVデータ4!AJ191),CSVデータ4!AJ191,0)","v":0},null,{"$f":"IF(ISNUMBER(CSVデータ1!AL191),CSVデータ1!AL191,0)+IF(ISNUMBER(CSVデータ2!AL191),CSVデータ2!AL191,0)+IF(ISNUMBER(CSVデータ3!AL191),CSVデータ3!AL191,0)+IF(ISNUMBER(CSVデータ4!AL191),CSVデータ4!AL191,0)","v":0},null,{"$f":"IF(ISNUMBER(CSVデータ1!AN191),CSVデータ1!AN191,0)+IF(ISNUMBER(CSVデータ2!AN191),CSVデータ2!AN191,0)+IF(ISNUMBER(CSVデータ3!AN191),CSVデータ3!AN191,0)+IF(ISNUMBER(CSVデータ4!AN191),CSVデータ4!AN191,0)","v":0}]
[{"$f":"CSVデータ1!A192","v":"明細部"},{"$f":"CSVデータ1!B192","v":"保険者（地区）"},{"$f":"CSVデータ1!C192","v":53},{"$f":"CSVデータ1!D192","v":"女"},{"$f":"IF(ISNUMBER(CSVデータ1!E192),CSVデータ1!E192,0)+IF(ISNUMBER(CSVデータ2!E192),CSVデータ2!E192,0)+IF(ISNUMBER(CSVデータ3!E192),CSVデータ3!E192,0)+IF(ISNUMBER(CSVデータ4!E192),CSVデータ4!E192,0)","v":0},{"$f":"IF(ISNUMBER(CSVデータ1!F192),CSVデータ1!F192,0)+IF(ISNUMBER(CSVデータ2!F192),CSVデータ2!F192,0)+IF(ISNUMBER(CSVデータ3!F192),CSVデータ3!F192,0)+IF(ISNUMBER(CSVデータ4!F192),CSVデータ4!F192,0)","v":0},null,{"$f":"IF(ISNUMBER(CSVデータ1!H192),CSVデータ1!H192,0)+IF(ISNUMBER(CSVデータ2!H192),CSVデータ2!H192,0)+IF(ISNUMBER(CSVデータ3!H192),CSVデータ3!H192,0)+IF(ISNUMBER(CSVデータ4!H192),CSVデータ4!H192,0)","v":0},null,{"$f":"IF(ISNUMBER(CSVデータ1!J192),CSVデータ1!J192,0)+IF(ISNUMBER(CSVデータ2!J192),CSVデータ2!J192,0)+IF(ISNUMBER(CSVデータ3!J192),CSVデータ3!J192,0)+IF(ISNUMBER(CSVデータ4!J192),CSVデータ4!J192,0)","v":0},null,{"$f":"IF(ISNUMBER(CSVデータ1!L192),CSVデータ1!L192,0)+IF(ISNUMBER(CSVデータ2!L192),CSVデータ2!L192,0)+IF(ISNUMBER(CSVデータ3!L192),CSVデータ3!L192,0)+IF(ISNUMBER(CSVデータ4!L192),CSVデータ4!L192,0)","v":0},null,{"$f":"IF(ISNUMBER(CSVデータ1!N192),CSVデータ1!N192,0)+IF(ISNUMBER(CSVデータ2!N192),CSVデータ2!N192,0)+IF(ISNUMBER(CSVデータ3!N192),CSVデータ3!N192,0)+IF(ISNUMBER(CSVデータ4!N192),CSVデータ4!N192,0)","v":0},null,{"$f":"IF(ISNUMBER(CSVデータ1!P192),CSVデータ1!P192,0)+IF(ISNUMBER(CSVデータ2!P192),CSVデータ2!P192,0)+IF(ISNUMBER(CSVデータ3!P192),CSVデータ3!P192,0)+IF(ISNUMBER(CSVデータ4!P192),CSVデータ4!P192,0)","v":0},null,{"$f":"IF(ISNUMBER(CSVデータ1!R192),CSVデータ1!R192,0)+IF(ISNUMBER(CSVデータ2!R192),CSVデータ2!R192,0)+IF(ISNUMBER(CSVデータ3!R192),CSVデータ3!R192,0)+IF(ISNUMBER(CSVデータ4!R192),CSVデータ4!R192,0)","v":0},null,{"$f":"IF(ISNUMBER(CSVデータ1!T192),CSVデータ1!T192,0)+IF(ISNUMBER(CSVデータ2!T192),CSVデータ2!T192,0)+IF(ISNUMBER(CSVデータ3!T192),CSVデータ3!T192,0)+IF(ISNUMBER(CSVデータ4!T192),CSVデータ4!T192,0)","v":0},null,{"$f":"IF(ISNUMBER(CSVデータ1!V192),CSVデータ1!V192,0)+IF(ISNUMBER(CSVデータ2!V192),CSVデータ2!V192,0)+IF(ISNUMBER(CSVデータ3!V192),CSVデータ3!V192,0)+IF(ISNUMBER(CSVデータ4!V192),CSVデータ4!V192,0)","v":0},null,{"$f":"IF(ISNUMBER(CSVデータ1!X192),CSVデータ1!X192,0)+IF(ISNUMBER(CSVデータ2!X192),CSVデータ2!X192,0)+IF(ISNUMBER(CSVデータ3!X192),CSVデータ3!X192,0)+IF(ISNUMBER(CSVデータ4!X192),CSVデータ4!X192,0)","v":0},null,{"$f":"IF(ISNUMBER(CSVデータ1!Z192),CSVデータ1!Z192,0)+IF(ISNUMBER(CSVデータ2!Z192),CSVデータ2!Z192,0)+IF(ISNUMBER(CSVデータ3!Z192),CSVデータ3!Z192,0)+IF(ISNUMBER(CSVデータ4!Z192),CSVデータ4!Z192,0)","v":0},null,{"$f":"IF(ISNUMBER(CSVデータ1!AB192),CSVデータ1!AB192,0)+IF(ISNUMBER(CSVデータ2!AB192),CSVデータ2!AB192,0)+IF(ISNUMBER(CSVデータ3!AB192),CSVデータ3!AB192,0)+IF(ISNUMBER(CSVデータ4!AB192),CSVデータ4!AB192,0)","v":0},null,{"$f":"IF(ISNUMBER(CSVデータ1!AD192),CSVデータ1!AD192,0)+IF(ISNUMBER(CSVデータ2!AD192),CSVデータ2!AD192,0)+IF(ISNUMBER(CSVデータ3!AD192),CSVデータ3!AD192,0)+IF(ISNUMBER(CSVデータ4!AD192),CSVデータ4!AD192,0)","v":0},null,{"$f":"IF(ISNUMBER(CSVデータ1!AF192),CSVデータ1!AF192,0)+IF(ISNUMBER(CSVデータ2!AF192),CSVデータ2!AF192,0)+IF(ISNUMBER(CSVデータ3!AF192),CSVデータ3!AF192,0)+IF(ISNUMBER(CSVデータ4!AF192),CSVデータ4!AF192,0)","v":0},null,{"$f":"IF(ISNUMBER(CSVデータ1!AH192),CSVデータ1!AH192,0)+IF(ISNUMBER(CSVデータ2!AH192),CSVデータ2!AH192,0)+IF(ISNUMBER(CSVデータ3!AH192),CSVデータ3!AH192,0)+IF(ISNUMBER(CSVデータ4!AH192),CSVデータ4!AH192,0)","v":0},null,{"$f":"IF(ISNUMBER(CSVデータ1!AJ192),CSVデータ1!AJ192,0)+IF(ISNUMBER(CSVデータ2!AJ192),CSVデータ2!AJ192,0)+IF(ISNUMBER(CSVデータ3!AJ192),CSVデータ3!AJ192,0)+IF(ISNUMBER(CSVデータ4!AJ192),CSVデータ4!AJ192,0)","v":0},null,{"$f":"IF(ISNUMBER(CSVデータ1!AL192),CSVデータ1!AL192,0)+IF(ISNUMBER(CSVデータ2!AL192),CSVデータ2!AL192,0)+IF(ISNUMBER(CSVデータ3!AL192),CSVデータ3!AL192,0)+IF(ISNUMBER(CSVデータ4!AL192),CSVデータ4!AL192,0)","v":0},null,{"$f":"IF(ISNUMBER(CSVデータ1!AN192),CSVデータ1!AN192,0)+IF(ISNUMBER(CSVデータ2!AN192),CSVデータ2!AN192,0)+IF(ISNUMBER(CSVデータ3!AN192),CSVデータ3!AN192,0)+IF(ISNUMBER(CSVデータ4!AN192),CSVデータ4!AN192,0)","v":0}]
[{"$f":"CSVデータ1!A193","v":"明細部"},{"$f":"CSVデータ1!B193","v":"保険者（地区）"},{"$f":"CSVデータ1!C193","v":54},{"$f":"CSVデータ1!D193","v":"女"},{"$f":"IF(ISNUMBER(CSVデータ1!E193),CSVデータ1!E193,0)+IF(ISNUMBER(CSVデータ2!E193),CSVデータ2!E193,0)+IF(ISNUMBER(CSVデータ3!E193),CSVデータ3!E193,0)+IF(ISNUMBER(CSVデータ4!E193),CSVデータ4!E193,0)","v":0},{"$f":"IF(ISNUMBER(CSVデータ1!F193),CSVデータ1!F193,0)+IF(ISNUMBER(CSVデータ2!F193),CSVデータ2!F193,0)+IF(ISNUMBER(CSVデータ3!F193),CSVデータ3!F193,0)+IF(ISNUMBER(CSVデータ4!F193),CSVデータ4!F193,0)","v":0},null,{"$f":"IF(ISNUMBER(CSVデータ1!H193),CSVデータ1!H193,0)+IF(ISNUMBER(CSVデータ2!H193),CSVデータ2!H193,0)+IF(ISNUMBER(CSVデータ3!H193),CSVデータ3!H193,0)+IF(ISNUMBER(CSVデータ4!H193),CSVデータ4!H193,0)","v":0},null,{"$f":"IF(ISNUMBER(CSVデータ1!J193),CSVデータ1!J193,0)+IF(ISNUMBER(CSVデータ2!J193),CSVデータ2!J193,0)+IF(ISNUMBER(CSVデータ3!J193),CSVデータ3!J193,0)+IF(ISNUMBER(CSVデータ4!J193),CSVデータ4!J193,0)","v":0},null,{"$f":"IF(ISNUMBER(CSVデータ1!L193),CSVデータ1!L193,0)+IF(ISNUMBER(CSVデータ2!L193),CSVデータ2!L193,0)+IF(ISNUMBER(CSVデータ3!L193),CSVデータ3!L193,0)+IF(ISNUMBER(CSVデータ4!L193),CSVデータ4!L193,0)","v":0},null,{"$f":"IF(ISNUMBER(CSVデータ1!N193),CSVデータ1!N193,0)+IF(ISNUMBER(CSVデータ2!N193),CSVデータ2!N193,0)+IF(ISNUMBER(CSVデータ3!N193),CSVデータ3!N193,0)+IF(ISNUMBER(CSVデータ4!N193),CSVデータ4!N193,0)","v":0},null,{"$f":"IF(ISNUMBER(CSVデータ1!P193),CSVデータ1!P193,0)+IF(ISNUMBER(CSVデータ2!P193),CSVデータ2!P193,0)+IF(ISNUMBER(CSVデータ3!P193),CSVデータ3!P193,0)+IF(ISNUMBER(CSVデータ4!P193),CSVデータ4!P193,0)","v":0},null,{"$f":"IF(ISNUMBER(CSVデータ1!R193),CSVデータ1!R193,0)+IF(ISNUMBER(CSVデータ2!R193),CSVデータ2!R193,0)+IF(ISNUMBER(CSVデータ3!R193),CSVデータ3!R193,0)+IF(ISNUMBER(CSVデータ4!R193),CSVデータ4!R193,0)","v":0},null,{"$f":"IF(ISNUMBER(CSVデータ1!T193),CSVデータ1!T193,0)+IF(ISNUMBER(CSVデータ2!T193),CSVデータ2!T193,0)+IF(ISNUMBER(CSVデータ3!T193),CSVデータ3!T193,0)+IF(ISNUMBER(CSVデータ4!T193),CSVデータ4!T193,0)","v":0},null,{"$f":"IF(ISNUMBER(CSVデータ1!V193),CSVデータ1!V193,0)+IF(ISNUMBER(CSVデータ2!V193),CSVデータ2!V193,0)+IF(ISNUMBER(CSVデータ3!V193),CSVデータ3!V193,0)+IF(ISNUMBER(CSVデータ4!V193),CSVデータ4!V193,0)","v":0},null,{"$f":"IF(ISNUMBER(CSVデータ1!X193),CSVデータ1!X193,0)+IF(ISNUMBER(CSVデータ2!X193),CSVデータ2!X193,0)+IF(ISNUMBER(CSVデータ3!X193),CSVデータ3!X193,0)+IF(ISNUMBER(CSVデータ4!X193),CSVデータ4!X193,0)","v":0},null,{"$f":"IF(ISNUMBER(CSVデータ1!Z193),CSVデータ1!Z193,0)+IF(ISNUMBER(CSVデータ2!Z193),CSVデータ2!Z193,0)+IF(ISNUMBER(CSVデータ3!Z193),CSVデータ3!Z193,0)+IF(ISNUMBER(CSVデータ4!Z193),CSVデータ4!Z193,0)","v":0},null,{"$f":"IF(ISNUMBER(CSVデータ1!AB193),CSVデータ1!AB193,0)+IF(ISNUMBER(CSVデータ2!AB193),CSVデータ2!AB193,0)+IF(ISNUMBER(CSVデータ3!AB193),CSVデータ3!AB193,0)+IF(ISNUMBER(CSVデータ4!AB193),CSVデータ4!AB193,0)","v":0},null,{"$f":"IF(ISNUMBER(CSVデータ1!AD193),CSVデータ1!AD193,0)+IF(ISNUMBER(CSVデータ2!AD193),CSVデータ2!AD193,0)+IF(ISNUMBER(CSVデータ3!AD193),CSVデータ3!AD193,0)+IF(ISNUMBER(CSVデータ4!AD193),CSVデータ4!AD193,0)","v":0},null,{"$f":"IF(ISNUMBER(CSVデータ1!AF193),CSVデータ1!AF193,0)+IF(ISNUMBER(CSVデータ2!AF193),CSVデータ2!AF193,0)+IF(ISNUMBER(CSVデータ3!AF193),CSVデータ3!AF193,0)+IF(ISNUMBER(CSVデータ4!AF193),CSVデータ4!AF193,0)","v":0},null,{"$f":"IF(ISNUMBER(CSVデータ1!AH193),CSVデータ1!AH193,0)+IF(ISNUMBER(CSVデータ2!AH193),CSVデータ2!AH193,0)+IF(ISNUMBER(CSVデータ3!AH193),CSVデータ3!AH193,0)+IF(ISNUMBER(CSVデータ4!AH193),CSVデータ4!AH193,0)","v":0},null,{"$f":"IF(ISNUMBER(CSVデータ1!AJ193),CSVデータ1!AJ193,0)+IF(ISNUMBER(CSVデータ2!AJ193),CSVデータ2!AJ193,0)+IF(ISNUMBER(CSVデータ3!AJ193),CSVデータ3!AJ193,0)+IF(ISNUMBER(CSVデータ4!AJ193),CSVデータ4!AJ193,0)","v":0},null,{"$f":"IF(ISNUMBER(CSVデータ1!AL193),CSVデータ1!AL193,0)+IF(ISNUMBER(CSVデータ2!AL193),CSVデータ2!AL193,0)+IF(ISNUMBER(CSVデータ3!AL193),CSVデータ3!AL193,0)+IF(ISNUMBER(CSVデータ4!AL193),CSVデータ4!AL193,0)","v":0},null,{"$f":"IF(ISNUMBER(CSVデータ1!AN193),CSVデータ1!AN193,0)+IF(ISNUMBER(CSVデータ2!AN193),CSVデータ2!AN193,0)+IF(ISNUMBER(CSVデータ3!AN193),CSVデータ3!AN193,0)+IF(ISNUMBER(CSVデータ4!AN193),CSVデータ4!AN193,0)","v":0}]
[{"$f":"CSVデータ1!A194","v":"明細部"},{"$f":"CSVデータ1!B194","v":"保険者（地区）"},{"$f":"CSVデータ1!C194","v":55},{"$f":"CSVデータ1!D194","v":"女"},{"$f":"IF(ISNUMBER(CSVデータ1!E194),CSVデータ1!E194,0)+IF(ISNUMBER(CSVデータ2!E194),CSVデータ2!E194,0)+IF(ISNUMBER(CSVデータ3!E194),CSVデータ3!E194,0)+IF(ISNUMBER(CSVデータ4!E194),CSVデータ4!E194,0)","v":0},{"$f":"IF(ISNUMBER(CSVデータ1!F194),CSVデータ1!F194,0)+IF(ISNUMBER(CSVデータ2!F194),CSVデータ2!F194,0)+IF(ISNUMBER(CSVデータ3!F194),CSVデータ3!F194,0)+IF(ISNUMBER(CSVデータ4!F194),CSVデータ4!F194,0)","v":0},null,{"$f":"IF(ISNUMBER(CSVデータ1!H194),CSVデータ1!H194,0)+IF(ISNUMBER(CSVデータ2!H194),CSVデータ2!H194,0)+IF(ISNUMBER(CSVデータ3!H194),CSVデータ3!H194,0)+IF(ISNUMBER(CSVデータ4!H194),CSVデータ4!H194,0)","v":0},null,{"$f":"IF(ISNUMBER(CSVデータ1!J194),CSVデータ1!J194,0)+IF(ISNUMBER(CSVデータ2!J194),CSVデータ2!J194,0)+IF(ISNUMBER(CSVデータ3!J194),CSVデータ3!J194,0)+IF(ISNUMBER(CSVデータ4!J194),CSVデータ4!J194,0)","v":0},null,{"$f":"IF(ISNUMBER(CSVデータ1!L194),CSVデータ1!L194,0)+IF(ISNUMBER(CSVデータ2!L194),CSVデータ2!L194,0)+IF(ISNUMBER(CSVデータ3!L194),CSVデータ3!L194,0)+IF(ISNUMBER(CSVデータ4!L194),CSVデータ4!L194,0)","v":0},null,{"$f":"IF(ISNUMBER(CSVデータ1!N194),CSVデータ1!N194,0)+IF(ISNUMBER(CSVデータ2!N194),CSVデータ2!N194,0)+IF(ISNUMBER(CSVデータ3!N194),CSVデータ3!N194,0)+IF(ISNUMBER(CSVデータ4!N194),CSVデータ4!N194,0)","v":0},null,{"$f":"IF(ISNUMBER(CSVデータ1!P194),CSVデータ1!P194,0)+IF(ISNUMBER(CSVデータ2!P194),CSVデータ2!P194,0)+IF(ISNUMBER(CSVデータ3!P194),CSVデータ3!P194,0)+IF(ISNUMBER(CSVデータ4!P194),CSVデータ4!P194,0)","v":0},null,{"$f":"IF(ISNUMBER(CSVデータ1!R194),CSVデータ1!R194,0)+IF(ISNUMBER(CSVデータ2!R194),CSVデータ2!R194,0)+IF(ISNUMBER(CSVデータ3!R194),CSVデータ3!R194,0)+IF(ISNUMBER(CSVデータ4!R194),CSVデータ4!R194,0)","v":0},null,{"$f":"IF(ISNUMBER(CSVデータ1!T194),CSVデータ1!T194,0)+IF(ISNUMBER(CSVデータ2!T194),CSVデータ2!T194,0)+IF(ISNUMBER(CSVデータ3!T194),CSVデータ3!T194,0)+IF(ISNUMBER(CSVデータ4!T194),CSVデータ4!T194,0)","v":0},null,{"$f":"IF(ISNUMBER(CSVデータ1!V194),CSVデータ1!V194,0)+IF(ISNUMBER(CSVデータ2!V194),CSVデータ2!V194,0)+IF(ISNUMBER(CSVデータ3!V194),CSVデータ3!V194,0)+IF(ISNUMBER(CSVデータ4!V194),CSVデータ4!V194,0)","v":0},null,{"$f":"IF(ISNUMBER(CSVデータ1!X194),CSVデータ1!X194,0)+IF(ISNUMBER(CSVデータ2!X194),CSVデータ2!X194,0)+IF(ISNUMBER(CSVデータ3!X194),CSVデータ3!X194,0)+IF(ISNUMBER(CSVデータ4!X194),CSVデータ4!X194,0)","v":0},null,{"$f":"IF(ISNUMBER(CSVデータ1!Z194),CSVデータ1!Z194,0)+IF(ISNUMBER(CSVデータ2!Z194),CSVデータ2!Z194,0)+IF(ISNUMBER(CSVデータ3!Z194),CSVデータ3!Z194,0)+IF(ISNUMBER(CSVデータ4!Z194),CSVデータ4!Z194,0)","v":0},null,{"$f":"IF(ISNUMBER(CSVデータ1!AB194),CSVデータ1!AB194,0)+IF(ISNUMBER(CSVデータ2!AB194),CSVデータ2!AB194,0)+IF(ISNUMBER(CSVデータ3!AB194),CSVデータ3!AB194,0)+IF(ISNUMBER(CSVデータ4!AB194),CSVデータ4!AB194,0)","v":0},null,{"$f":"IF(ISNUMBER(CSVデータ1!AD194),CSVデータ1!AD194,0)+IF(ISNUMBER(CSVデータ2!AD194),CSVデータ2!AD194,0)+IF(ISNUMBER(CSVデータ3!AD194),CSVデータ3!AD194,0)+IF(ISNUMBER(CSVデータ4!AD194),CSVデータ4!AD194,0)","v":0},null,{"$f":"IF(ISNUMBER(CSVデータ1!AF194),CSVデータ1!AF194,0)+IF(ISNUMBER(CSVデータ2!AF194),CSVデータ2!AF194,0)+IF(ISNUMBER(CSVデータ3!AF194),CSVデータ3!AF194,0)+IF(ISNUMBER(CSVデータ4!AF194),CSVデータ4!AF194,0)","v":0},null,{"$f":"IF(ISNUMBER(CSVデータ1!AH194),CSVデータ1!AH194,0)+IF(ISNUMBER(CSVデータ2!AH194),CSVデータ2!AH194,0)+IF(ISNUMBER(CSVデータ3!AH194),CSVデータ3!AH194,0)+IF(ISNUMBER(CSVデータ4!AH194),CSVデータ4!AH194,0)","v":0},null,{"$f":"IF(ISNUMBER(CSVデータ1!AJ194),CSVデータ1!AJ194,0)+IF(ISNUMBER(CSVデータ2!AJ194),CSVデータ2!AJ194,0)+IF(ISNUMBER(CSVデータ3!AJ194),CSVデータ3!AJ194,0)+IF(ISNUMBER(CSVデータ4!AJ194),CSVデータ4!AJ194,0)","v":0},null,{"$f":"IF(ISNUMBER(CSVデータ1!AL194),CSVデータ1!AL194,0)+IF(ISNUMBER(CSVデータ2!AL194),CSVデータ2!AL194,0)+IF(ISNUMBER(CSVデータ3!AL194),CSVデータ3!AL194,0)+IF(ISNUMBER(CSVデータ4!AL194),CSVデータ4!AL194,0)","v":0},null,{"$f":"IF(ISNUMBER(CSVデータ1!AN194),CSVデータ1!AN194,0)+IF(ISNUMBER(CSVデータ2!AN194),CSVデータ2!AN194,0)+IF(ISNUMBER(CSVデータ3!AN194),CSVデータ3!AN194,0)+IF(ISNUMBER(CSVデータ4!AN194),CSVデータ4!AN194,0)","v":0}]
[{"$f":"CSVデータ1!A195","v":"明細部"},{"$f":"CSVデータ1!B195","v":"保険者（地区）"},{"$f":"CSVデータ1!C195","v":56},{"$f":"CSVデータ1!D195","v":"女"},{"$f":"IF(ISNUMBER(CSVデータ1!E195),CSVデータ1!E195,0)+IF(ISNUMBER(CSVデータ2!E195),CSVデータ2!E195,0)+IF(ISNUMBER(CSVデータ3!E195),CSVデータ3!E195,0)+IF(ISNUMBER(CSVデータ4!E195),CSVデータ4!E195,0)","v":0},{"$f":"IF(ISNUMBER(CSVデータ1!F195),CSVデータ1!F195,0)+IF(ISNUMBER(CSVデータ2!F195),CSVデータ2!F195,0)+IF(ISNUMBER(CSVデータ3!F195),CSVデータ3!F195,0)+IF(ISNUMBER(CSVデータ4!F195),CSVデータ4!F195,0)","v":0},null,{"$f":"IF(ISNUMBER(CSVデータ1!H195),CSVデータ1!H195,0)+IF(ISNUMBER(CSVデータ2!H195),CSVデータ2!H195,0)+IF(ISNUMBER(CSVデータ3!H195),CSVデータ3!H195,0)+IF(ISNUMBER(CSVデータ4!H195),CSVデータ4!H195,0)","v":0},null,{"$f":"IF(ISNUMBER(CSVデータ1!J195),CSVデータ1!J195,0)+IF(ISNUMBER(CSVデータ2!J195),CSVデータ2!J195,0)+IF(ISNUMBER(CSVデータ3!J195),CSVデータ3!J195,0)+IF(ISNUMBER(CSVデータ4!J195),CSVデータ4!J195,0)","v":0},null,{"$f":"IF(ISNUMBER(CSVデータ1!L195),CSVデータ1!L195,0)+IF(ISNUMBER(CSVデータ2!L195),CSVデータ2!L195,0)+IF(ISNUMBER(CSVデータ3!L195),CSVデータ3!L195,0)+IF(ISNUMBER(CSVデータ4!L195),CSVデータ4!L195,0)","v":0},null,{"$f":"IF(ISNUMBER(CSVデータ1!N195),CSVデータ1!N195,0)+IF(ISNUMBER(CSVデータ2!N195),CSVデータ2!N195,0)+IF(ISNUMBER(CSVデータ3!N195),CSVデータ3!N195,0)+IF(ISNUMBER(CSVデータ4!N195),CSVデータ4!N195,0)","v":0},null,{"$f":"IF(ISNUMBER(CSVデータ1!P195),CSVデータ1!P195,0)+IF(ISNUMBER(CSVデータ2!P195),CSVデータ2!P195,0)+IF(ISNUMBER(CSVデータ3!P195),CSVデータ3!P195,0)+IF(ISNUMBER(CSVデータ4!P195),CSVデータ4!P195,0)","v":0},null,{"$f":"IF(ISNUMBER(CSVデータ1!R195),CSVデータ1!R195,0)+IF(ISNUMBER(CSVデータ2!R195),CSVデータ2!R195,0)+IF(ISNUMBER(CSVデータ3!R195),CSVデータ3!R195,0)+IF(ISNUMBER(CSVデータ4!R195),CSVデータ4!R195,0)","v":0},null,{"$f":"IF(ISNUMBER(CSVデータ1!T195),CSVデータ1!T195,0)+IF(ISNUMBER(CSVデータ2!T195),CSVデータ2!T195,0)+IF(ISNUMBER(CSVデータ3!T195),CSVデータ3!T195,0)+IF(ISNUMBER(CSVデータ4!T195),CSVデータ4!T195,0)","v":0},null,{"$f":"IF(ISNUMBER(CSVデータ1!V195),CSVデータ1!V195,0)+IF(ISNUMBER(CSVデータ2!V195),CSVデータ2!V195,0)+IF(ISNUMBER(CSVデータ3!V195),CSVデータ3!V195,0)+IF(ISNUMBER(CSVデータ4!V195),CSVデータ4!V195,0)","v":0},null,{"$f":"IF(ISNUMBER(CSVデータ1!X195),CSVデータ1!X195,0)+IF(ISNUMBER(CSVデータ2!X195),CSVデータ2!X195,0)+IF(ISNUMBER(CSVデータ3!X195),CSVデータ3!X195,0)+IF(ISNUMBER(CSVデータ4!X195),CSVデータ4!X195,0)","v":0},null,{"$f":"IF(ISNUMBER(CSVデータ1!Z195),CSVデータ1!Z195,0)+IF(ISNUMBER(CSVデータ2!Z195),CSVデータ2!Z195,0)+IF(ISNUMBER(CSVデータ3!Z195),CSVデータ3!Z195,0)+IF(ISNUMBER(CSVデータ4!Z195),CSVデータ4!Z195,0)","v":0},null,{"$f":"IF(ISNUMBER(CSVデータ1!AB195),CSVデータ1!AB195,0)+IF(ISNUMBER(CSVデータ2!AB195),CSVデータ2!AB195,0)+IF(ISNUMBER(CSVデータ3!AB195),CSVデータ3!AB195,0)+IF(ISNUMBER(CSVデータ4!AB195),CSVデータ4!AB195,0)","v":0},null,{"$f":"IF(ISNUMBER(CSVデータ1!AD195),CSVデータ1!AD195,0)+IF(ISNUMBER(CSVデータ2!AD195),CSVデータ2!AD195,0)+IF(ISNUMBER(CSVデータ3!AD195),CSVデータ3!AD195,0)+IF(ISNUMBER(CSVデータ4!AD195),CSVデータ4!AD195,0)","v":0},null,{"$f":"IF(ISNUMBER(CSVデータ1!AF195),CSVデータ1!AF195,0)+IF(ISNUMBER(CSVデータ2!AF195),CSVデータ2!AF195,0)+IF(ISNUMBER(CSVデータ3!AF195),CSVデータ3!AF195,0)+IF(ISNUMBER(CSVデータ4!AF195),CSVデータ4!AF195,0)","v":0},null,{"$f":"IF(ISNUMBER(CSVデータ1!AH195),CSVデータ1!AH195,0)+IF(ISNUMBER(CSVデータ2!AH195),CSVデータ2!AH195,0)+IF(ISNUMBER(CSVデータ3!AH195),CSVデータ3!AH195,0)+IF(ISNUMBER(CSVデータ4!AH195),CSVデータ4!AH195,0)","v":0},null,{"$f":"IF(ISNUMBER(CSVデータ1!AJ195),CSVデータ1!AJ195,0)+IF(ISNUMBER(CSVデータ2!AJ195),CSVデータ2!AJ195,0)+IF(ISNUMBER(CSVデータ3!AJ195),CSVデータ3!AJ195,0)+IF(ISNUMBER(CSVデータ4!AJ195),CSVデータ4!AJ195,0)","v":0},null,{"$f":"IF(ISNUMBER(CSVデータ1!AL195),CSVデータ1!AL195,0)+IF(ISNUMBER(CSVデータ2!AL195),CSVデータ2!AL195,0)+IF(ISNUMBER(CSVデータ3!AL195),CSVデータ3!AL195,0)+IF(ISNUMBER(CSVデータ4!AL195),CSVデータ4!AL195,0)","v":0},null,{"$f":"IF(ISNUMBER(CSVデータ1!AN195),CSVデータ1!AN195,0)+IF(ISNUMBER(CSVデータ2!AN195),CSVデータ2!AN195,0)+IF(ISNUMBER(CSVデータ3!AN195),CSVデータ3!AN195,0)+IF(ISNUMBER(CSVデータ4!AN195),CSVデータ4!AN195,0)","v":0}]
[{"$f":"CSVデータ1!A196","v":"明細部"},{"$f":"CSVデータ1!B196","v":"保険者（地区）"},{"$f":"CSVデータ1!C196","v":57},{"$f":"CSVデータ1!D196","v":"女"},{"$f":"IF(ISNUMBER(CSVデータ1!E196),CSVデータ1!E196,0)+IF(ISNUMBER(CSVデータ2!E196),CSVデータ2!E196,0)+IF(ISNUMBER(CSVデータ3!E196),CSVデータ3!E196,0)+IF(ISNUMBER(CSVデータ4!E196),CSVデータ4!E196,0)","v":0},{"$f":"IF(ISNUMBER(CSVデータ1!F196),CSVデータ1!F196,0)+IF(ISNUMBER(CSVデータ2!F196),CSVデータ2!F196,0)+IF(ISNUMBER(CSVデータ3!F196),CSVデータ3!F196,0)+IF(ISNUMBER(CSVデータ4!F196),CSVデータ4!F196,0)","v":0},null,{"$f":"IF(ISNUMBER(CSVデータ1!H196),CSVデータ1!H196,0)+IF(ISNUMBER(CSVデータ2!H196),CSVデータ2!H196,0)+IF(ISNUMBER(CSVデータ3!H196),CSVデータ3!H196,0)+IF(ISNUMBER(CSVデータ4!H196),CSVデータ4!H196,0)","v":0},null,{"$f":"IF(ISNUMBER(CSVデータ1!J196),CSVデータ1!J196,0)+IF(ISNUMBER(CSVデータ2!J196),CSVデータ2!J196,0)+IF(ISNUMBER(CSVデータ3!J196),CSVデータ3!J196,0)+IF(ISNUMBER(CSVデータ4!J196),CSVデータ4!J196,0)","v":0},null,{"$f":"IF(ISNUMBER(CSVデータ1!L196),CSVデータ1!L196,0)+IF(ISNUMBER(CSVデータ2!L196),CSVデータ2!L196,0)+IF(ISNUMBER(CSVデータ3!L196),CSVデータ3!L196,0)+IF(ISNUMBER(CSVデータ4!L196),CSVデータ4!L196,0)","v":0},null,{"$f":"IF(ISNUMBER(CSVデータ1!N196),CSVデータ1!N196,0)+IF(ISNUMBER(CSVデータ2!N196),CSVデータ2!N196,0)+IF(ISNUMBER(CSVデータ3!N196),CSVデータ3!N196,0)+IF(ISNUMBER(CSVデータ4!N196),CSVデータ4!N196,0)","v":0},null,{"$f":"IF(ISNUMBER(CSVデータ1!P196),CSVデータ1!P196,0)+IF(ISNUMBER(CSVデータ2!P196),CSVデータ2!P196,0)+IF(ISNUMBER(CSVデータ3!P196),CSVデータ3!P196,0)+IF(ISNUMBER(CSVデータ4!P196),CSVデータ4!P196,0)","v":0},null,{"$f":"IF(ISNUMBER(CSVデータ1!R196),CSVデータ1!R196,0)+IF(ISNUMBER(CSVデータ2!R196),CSVデータ2!R196,0)+IF(ISNUMBER(CSVデータ3!R196),CSVデータ3!R196,0)+IF(ISNUMBER(CSVデータ4!R196),CSVデータ4!R196,0)","v":0},null,{"$f":"IF(ISNUMBER(CSVデータ1!T196),CSVデータ1!T196,0)+IF(ISNUMBER(CSVデータ2!T196),CSVデータ2!T196,0)+IF(ISNUMBER(CSVデータ3!T196),CSVデータ3!T196,0)+IF(ISNUMBER(CSVデータ4!T196),CSVデータ4!T196,0)","v":0},null,{"$f":"IF(ISNUMBER(CSVデータ1!V196),CSVデータ1!V196,0)+IF(ISNUMBER(CSVデータ2!V196),CSVデータ2!V196,0)+IF(ISNUMBER(CSVデータ3!V196),CSVデータ3!V196,0)+IF(ISNUMBER(CSVデータ4!V196),CSVデータ4!V196,0)","v":0},null,{"$f":"IF(ISNUMBER(CSVデータ1!X196),CSVデータ1!X196,0)+IF(ISNUMBER(CSVデータ2!X196),CSVデータ2!X196,0)+IF(ISNUMBER(CSVデータ3!X196),CSVデータ3!X196,0)+IF(ISNUMBER(CSVデータ4!X196),CSVデータ4!X196,0)","v":0},null,{"$f":"IF(ISNUMBER(CSVデータ1!Z196),CSVデータ1!Z196,0)+IF(ISNUMBER(CSVデータ2!Z196),CSVデータ2!Z196,0)+IF(ISNUMBER(CSVデータ3!Z196),CSVデータ3!Z196,0)+IF(ISNUMBER(CSVデータ4!Z196),CSVデータ4!Z196,0)","v":0},null,{"$f":"IF(ISNUMBER(CSVデータ1!AB196),CSVデータ1!AB196,0)+IF(ISNUMBER(CSVデータ2!AB196),CSVデータ2!AB196,0)+IF(ISNUMBER(CSVデータ3!AB196),CSVデータ3!AB196,0)+IF(ISNUMBER(CSVデータ4!AB196),CSVデータ4!AB196,0)","v":0},null,{"$f":"IF(ISNUMBER(CSVデータ1!AD196),CSVデータ1!AD196,0)+IF(ISNUMBER(CSVデータ2!AD196),CSVデータ2!AD196,0)+IF(ISNUMBER(CSVデータ3!AD196),CSVデータ3!AD196,0)+IF(ISNUMBER(CSVデータ4!AD196),CSVデータ4!AD196,0)","v":0},null,{"$f":"IF(ISNUMBER(CSVデータ1!AF196),CSVデータ1!AF196,0)+IF(ISNUMBER(CSVデータ2!AF196),CSVデータ2!AF196,0)+IF(ISNUMBER(CSVデータ3!AF196),CSVデータ3!AF196,0)+IF(ISNUMBER(CSVデータ4!AF196),CSVデータ4!AF196,0)","v":0},null,{"$f":"IF(ISNUMBER(CSVデータ1!AH196),CSVデータ1!AH196,0)+IF(ISNUMBER(CSVデータ2!AH196),CSVデータ2!AH196,0)+IF(ISNUMBER(CSVデータ3!AH196),CSVデータ3!AH196,0)+IF(ISNUMBER(CSVデータ4!AH196),CSVデータ4!AH196,0)","v":0},null,{"$f":"IF(ISNUMBER(CSVデータ1!AJ196),CSVデータ1!AJ196,0)+IF(ISNUMBER(CSVデータ2!AJ196),CSVデータ2!AJ196,0)+IF(ISNUMBER(CSVデータ3!AJ196),CSVデータ3!AJ196,0)+IF(ISNUMBER(CSVデータ4!AJ196),CSVデータ4!AJ196,0)","v":0},null,{"$f":"IF(ISNUMBER(CSVデータ1!AL196),CSVデータ1!AL196,0)+IF(ISNUMBER(CSVデータ2!AL196),CSVデータ2!AL196,0)+IF(ISNUMBER(CSVデータ3!AL196),CSVデータ3!AL196,0)+IF(ISNUMBER(CSVデータ4!AL196),CSVデータ4!AL196,0)","v":0},null,{"$f":"IF(ISNUMBER(CSVデータ1!AN196),CSVデータ1!AN196,0)+IF(ISNUMBER(CSVデータ2!AN196),CSVデータ2!AN196,0)+IF(ISNUMBER(CSVデータ3!AN196),CSVデータ3!AN196,0)+IF(ISNUMBER(CSVデータ4!AN196),CSVデータ4!AN196,0)","v":0}]
[{"$f":"CSVデータ1!A197","v":"明細部"},{"$f":"CSVデータ1!B197","v":"保険者（地区）"},{"$f":"CSVデータ1!C197","v":58},{"$f":"CSVデータ1!D197","v":"女"},{"$f":"IF(ISNUMBER(CSVデータ1!E197),CSVデータ1!E197,0)+IF(ISNUMBER(CSVデータ2!E197),CSVデータ2!E197,0)+IF(ISNUMBER(CSVデータ3!E197),CSVデータ3!E197,0)+IF(ISNUMBER(CSVデータ4!E197),CSVデータ4!E197,0)","v":0},{"$f":"IF(ISNUMBER(CSVデータ1!F197),CSVデータ1!F197,0)+IF(ISNUMBER(CSVデータ2!F197),CSVデータ2!F197,0)+IF(ISNUMBER(CSVデータ3!F197),CSVデータ3!F197,0)+IF(ISNUMBER(CSVデータ4!F197),CSVデータ4!F197,0)","v":0},null,{"$f":"IF(ISNUMBER(CSVデータ1!H197),CSVデータ1!H197,0)+IF(ISNUMBER(CSVデータ2!H197),CSVデータ2!H197,0)+IF(ISNUMBER(CSVデータ3!H197),CSVデータ3!H197,0)+IF(ISNUMBER(CSVデータ4!H197),CSVデータ4!H197,0)","v":0},null,{"$f":"IF(ISNUMBER(CSVデータ1!J197),CSVデータ1!J197,0)+IF(ISNUMBER(CSVデータ2!J197),CSVデータ2!J197,0)+IF(ISNUMBER(CSVデータ3!J197),CSVデータ3!J197,0)+IF(ISNUMBER(CSVデータ4!J197),CSVデータ4!J197,0)","v":0},null,{"$f":"IF(ISNUMBER(CSVデータ1!L197),CSVデータ1!L197,0)+IF(ISNUMBER(CSVデータ2!L197),CSVデータ2!L197,0)+IF(ISNUMBER(CSVデータ3!L197),CSVデータ3!L197,0)+IF(ISNUMBER(CSVデータ4!L197),CSVデータ4!L197,0)","v":0},null,{"$f":"IF(ISNUMBER(CSVデータ1!N197),CSVデータ1!N197,0)+IF(ISNUMBER(CSVデータ2!N197),CSVデータ2!N197,0)+IF(ISNUMBER(CSVデータ3!N197),CSVデータ3!N197,0)+IF(ISNUMBER(CSVデータ4!N197),CSVデータ4!N197,0)","v":0},null,{"$f":"IF(ISNUMBER(CSVデータ1!P197),CSVデータ1!P197,0)+IF(ISNUMBER(CSVデータ2!P197),CSVデータ2!P197,0)+IF(ISNUMBER(CSVデータ3!P197),CSVデータ3!P197,0)+IF(ISNUMBER(CSVデータ4!P197),CSVデータ4!P197,0)","v":0},null,{"$f":"IF(ISNUMBER(CSVデータ1!R197),CSVデータ1!R197,0)+IF(ISNUMBER(CSVデータ2!R197),CSVデータ2!R197,0)+IF(ISNUMBER(CSVデータ3!R197),CSVデータ3!R197,0)+IF(ISNUMBER(CSVデータ4!R197),CSVデータ4!R197,0)","v":0},null,{"$f":"IF(ISNUMBER(CSVデータ1!T197),CSVデータ1!T197,0)+IF(ISNUMBER(CSVデータ2!T197),CSVデータ2!T197,0)+IF(ISNUMBER(CSVデータ3!T197),CSVデータ3!T197,0)+IF(ISNUMBER(CSVデータ4!T197),CSVデータ4!T197,0)","v":0},null,{"$f":"IF(ISNUMBER(CSVデータ1!V197),CSVデータ1!V197,0)+IF(ISNUMBER(CSVデータ2!V197),CSVデータ2!V197,0)+IF(ISNUMBER(CSVデータ3!V197),CSVデータ3!V197,0)+IF(ISNUMBER(CSVデータ4!V197),CSVデータ4!V197,0)","v":0},null,{"$f":"IF(ISNUMBER(CSVデータ1!X197),CSVデータ1!X197,0)+IF(ISNUMBER(CSVデータ2!X197),CSVデータ2!X197,0)+IF(ISNUMBER(CSVデータ3!X197),CSVデータ3!X197,0)+IF(ISNUMBER(CSVデータ4!X197),CSVデータ4!X197,0)","v":0},null,{"$f":"IF(ISNUMBER(CSVデータ1!Z197),CSVデータ1!Z197,0)+IF(ISNUMBER(CSVデータ2!Z197),CSVデータ2!Z197,0)+IF(ISNUMBER(CSVデータ3!Z197),CSVデータ3!Z197,0)+IF(ISNUMBER(CSVデータ4!Z197),CSVデータ4!Z197,0)","v":0},null,{"$f":"IF(ISNUMBER(CSVデータ1!AB197),CSVデータ1!AB197,0)+IF(ISNUMBER(CSVデータ2!AB197),CSVデータ2!AB197,0)+IF(ISNUMBER(CSVデータ3!AB197),CSVデータ3!AB197,0)+IF(ISNUMBER(CSVデータ4!AB197),CSVデータ4!AB197,0)","v":0},null,{"$f":"IF(ISNUMBER(CSVデータ1!AD197),CSVデータ1!AD197,0)+IF(ISNUMBER(CSVデータ2!AD197),CSVデータ2!AD197,0)+IF(ISNUMBER(CSVデータ3!AD197),CSVデータ3!AD197,0)+IF(ISNUMBER(CSVデータ4!AD197),CSVデータ4!AD197,0)","v":0},null,{"$f":"IF(ISNUMBER(CSVデータ1!AF197),CSVデータ1!AF197,0)+IF(ISNUMBER(CSVデータ2!AF197),CSVデータ2!AF197,0)+IF(ISNUMBER(CSVデータ3!AF197),CSVデータ3!AF197,0)+IF(ISNUMBER(CSVデータ4!AF197),CSVデータ4!AF197,0)","v":0},null,{"$f":"IF(ISNUMBER(CSVデータ1!AH197),CSVデータ1!AH197,0)+IF(ISNUMBER(CSVデータ2!AH197),CSVデータ2!AH197,0)+IF(ISNUMBER(CSVデータ3!AH197),CSVデータ3!AH197,0)+IF(ISNUMBER(CSVデータ4!AH197),CSVデータ4!AH197,0)","v":0},null,{"$f":"IF(ISNUMBER(CSVデータ1!AJ197),CSVデータ1!AJ197,0)+IF(ISNUMBER(CSVデータ2!AJ197),CSVデータ2!AJ197,0)+IF(ISNUMBER(CSVデータ3!AJ197),CSVデータ3!AJ197,0)+IF(ISNUMBER(CSVデータ4!AJ197),CSVデータ4!AJ197,0)","v":0},null,{"$f":"IF(ISNUMBER(CSVデータ1!AL197),CSVデータ1!AL197,0)+IF(ISNUMBER(CSVデータ2!AL197),CSVデータ2!AL197,0)+IF(ISNUMBER(CSVデータ3!AL197),CSVデータ3!AL197,0)+IF(ISNUMBER(CSVデータ4!AL197),CSVデータ4!AL197,0)","v":0},null,{"$f":"IF(ISNUMBER(CSVデータ1!AN197),CSVデータ1!AN197,0)+IF(ISNUMBER(CSVデータ2!AN197),CSVデータ2!AN197,0)+IF(ISNUMBER(CSVデータ3!AN197),CSVデータ3!AN197,0)+IF(ISNUMBER(CSVデータ4!AN197),CSVデータ4!AN197,0)","v":0}]
[{"$f":"CSVデータ1!A198","v":"明細部"},{"$f":"CSVデータ1!B198","v":"保険者（地区）"},{"$f":"CSVデータ1!C198","v":59},{"$f":"CSVデータ1!D198","v":"女"},{"$f":"IF(ISNUMBER(CSVデータ1!E198),CSVデータ1!E198,0)+IF(ISNUMBER(CSVデータ2!E198),CSVデータ2!E198,0)+IF(ISNUMBER(CSVデータ3!E198),CSVデータ3!E198,0)+IF(ISNUMBER(CSVデータ4!E198),CSVデータ4!E198,0)","v":0},{"$f":"IF(ISNUMBER(CSVデータ1!F198),CSVデータ1!F198,0)+IF(ISNUMBER(CSVデータ2!F198),CSVデータ2!F198,0)+IF(ISNUMBER(CSVデータ3!F198),CSVデータ3!F198,0)+IF(ISNUMBER(CSVデータ4!F198),CSVデータ4!F198,0)","v":0},null,{"$f":"IF(ISNUMBER(CSVデータ1!H198),CSVデータ1!H198,0)+IF(ISNUMBER(CSVデータ2!H198),CSVデータ2!H198,0)+IF(ISNUMBER(CSVデータ3!H198),CSVデータ3!H198,0)+IF(ISNUMBER(CSVデータ4!H198),CSVデータ4!H198,0)","v":0},null,{"$f":"IF(ISNUMBER(CSVデータ1!J198),CSVデータ1!J198,0)+IF(ISNUMBER(CSVデータ2!J198),CSVデータ2!J198,0)+IF(ISNUMBER(CSVデータ3!J198),CSVデータ3!J198,0)+IF(ISNUMBER(CSVデータ4!J198),CSVデータ4!J198,0)","v":0},null,{"$f":"IF(ISNUMBER(CSVデータ1!L198),CSVデータ1!L198,0)+IF(ISNUMBER(CSVデータ2!L198),CSVデータ2!L198,0)+IF(ISNUMBER(CSVデータ3!L198),CSVデータ3!L198,0)+IF(ISNUMBER(CSVデータ4!L198),CSVデータ4!L198,0)","v":0},null,{"$f":"IF(ISNUMBER(CSVデータ1!N198),CSVデータ1!N198,0)+IF(ISNUMBER(CSVデータ2!N198),CSVデータ2!N198,0)+IF(ISNUMBER(CSVデータ3!N198),CSVデータ3!N198,0)+IF(ISNUMBER(CSVデータ4!N198),CSVデータ4!N198,0)","v":0},null,{"$f":"IF(ISNUMBER(CSVデータ1!P198),CSVデータ1!P198,0)+IF(ISNUMBER(CSVデータ2!P198),CSVデータ2!P198,0)+IF(ISNUMBER(CSVデータ3!P198),CSVデータ3!P198,0)+IF(ISNUMBER(CSVデータ4!P198),CSVデータ4!P198,0)","v":0},null,{"$f":"IF(ISNUMBER(CSVデータ1!R198),CSVデータ1!R198,0)+IF(ISNUMBER(CSVデータ2!R198),CSVデータ2!R198,0)+IF(ISNUMBER(CSVデータ3!R198),CSVデータ3!R198,0)+IF(ISNUMBER(CSVデータ4!R198),CSVデータ4!R198,0)","v":0},null,{"$f":"IF(ISNUMBER(CSVデータ1!T198),CSVデータ1!T198,0)+IF(ISNUMBER(CSVデータ2!T198),CSVデータ2!T198,0)+IF(ISNUMBER(CSVデータ3!T198),CSVデータ3!T198,0)+IF(ISNUMBER(CSVデータ4!T198),CSVデータ4!T198,0)","v":0},null,{"$f":"IF(ISNUMBER(CSVデータ1!V198),CSVデータ1!V198,0)+IF(ISNUMBER(CSVデータ2!V198),CSVデータ2!V198,0)+IF(ISNUMBER(CSVデータ3!V198),CSVデータ3!V198,0)+IF(ISNUMBER(CSVデータ4!V198),CSVデータ4!V198,0)","v":0},null,{"$f":"IF(ISNUMBER(CSVデータ1!X198),CSVデータ1!X198,0)+IF(ISNUMBER(CSVデータ2!X198),CSVデータ2!X198,0)+IF(ISNUMBER(CSVデータ3!X198),CSVデータ3!X198,0)+IF(ISNUMBER(CSVデータ4!X198),CSVデータ4!X198,0)","v":0},null,{"$f":"IF(ISNUMBER(CSVデータ1!Z198),CSVデータ1!Z198,0)+IF(ISNUMBER(CSVデータ2!Z198),CSVデータ2!Z198,0)+IF(ISNUMBER(CSVデータ3!Z198),CSVデータ3!Z198,0)+IF(ISNUMBER(CSVデータ4!Z198),CSVデータ4!Z198,0)","v":0},null,{"$f":"IF(ISNUMBER(CSVデータ1!AB198),CSVデータ1!AB198,0)+IF(ISNUMBER(CSVデータ2!AB198),CSVデータ2!AB198,0)+IF(ISNUMBER(CSVデータ3!AB198),CSVデータ3!AB198,0)+IF(ISNUMBER(CSVデータ4!AB198),CSVデータ4!AB198,0)","v":0},null,{"$f":"IF(ISNUMBER(CSVデータ1!AD198),CSVデータ1!AD198,0)+IF(ISNUMBER(CSVデータ2!AD198),CSVデータ2!AD198,0)+IF(ISNUMBER(CSVデータ3!AD198),CSVデータ3!AD198,0)+IF(ISNUMBER(CSVデータ4!AD198),CSVデータ4!AD198,0)","v":0},null,{"$f":"IF(ISNUMBER(CSVデータ1!AF198),CSVデータ1!AF198,0)+IF(ISNUMBER(CSVデータ2!AF198),CSVデータ2!AF198,0)+IF(ISNUMBER(CSVデータ3!AF198),CSVデータ3!AF198,0)+IF(ISNUMBER(CSVデータ4!AF198),CSVデータ4!AF198,0)","v":0},null,{"$f":"IF(ISNUMBER(CSVデータ1!AH198),CSVデータ1!AH198,0)+IF(ISNUMBER(CSVデータ2!AH198),CSVデータ2!AH198,0)+IF(ISNUMBER(CSVデータ3!AH198),CSVデータ3!AH198,0)+IF(ISNUMBER(CSVデータ4!AH198),CSVデータ4!AH198,0)","v":0},null,{"$f":"IF(ISNUMBER(CSVデータ1!AJ198),CSVデータ1!AJ198,0)+IF(ISNUMBER(CSVデータ2!AJ198),CSVデータ2!AJ198,0)+IF(ISNUMBER(CSVデータ3!AJ198),CSVデータ3!AJ198,0)+IF(ISNUMBER(CSVデータ4!AJ198),CSVデータ4!AJ198,0)","v":0},null,{"$f":"IF(ISNUMBER(CSVデータ1!AL198),CSVデータ1!AL198,0)+IF(ISNUMBER(CSVデータ2!AL198),CSVデータ2!AL198,0)+IF(ISNUMBER(CSVデータ3!AL198),CSVデータ3!AL198,0)+IF(ISNUMBER(CSVデータ4!AL198),CSVデータ4!AL198,0)","v":0},null,{"$f":"IF(ISNUMBER(CSVデータ1!AN198),CSVデータ1!AN198,0)+IF(ISNUMBER(CSVデータ2!AN198),CSVデータ2!AN198,0)+IF(ISNUMBER(CSVデータ3!AN198),CSVデータ3!AN198,0)+IF(ISNUMBER(CSVデータ4!AN198),CSVデータ4!AN198,0)","v":0}]
[{"$f":"CSVデータ1!A199","v":"明細部"},{"$f":"CSVデータ1!B199","v":"保険者（地区）"},{"$f":"CSVデータ1!C199","v":60},{"$f":"CSVデータ1!D199","v":"女"},{"$f":"IF(ISNUMBER(CSVデータ1!E199),CSVデータ1!E199,0)+IF(ISNUMBER(CSVデータ2!E199),CSVデータ2!E199,0)+IF(ISNUMBER(CSVデータ3!E199),CSVデータ3!E199,0)+IF(ISNUMBER(CSVデータ4!E199),CSVデータ4!E199,0)","v":0},{"$f":"IF(ISNUMBER(CSVデータ1!F199),CSVデータ1!F199,0)+IF(ISNUMBER(CSVデータ2!F199),CSVデータ2!F199,0)+IF(ISNUMBER(CSVデータ3!F199),CSVデータ3!F199,0)+IF(ISNUMBER(CSVデータ4!F199),CSVデータ4!F199,0)","v":0},null,{"$f":"IF(ISNUMBER(CSVデータ1!H199),CSVデータ1!H199,0)+IF(ISNUMBER(CSVデータ2!H199),CSVデータ2!H199,0)+IF(ISNUMBER(CSVデータ3!H199),CSVデータ3!H199,0)+IF(ISNUMBER(CSVデータ4!H199),CSVデータ4!H199,0)","v":0},null,{"$f":"IF(ISNUMBER(CSVデータ1!J199),CSVデータ1!J199,0)+IF(ISNUMBER(CSVデータ2!J199),CSVデータ2!J199,0)+IF(ISNUMBER(CSVデータ3!J199),CSVデータ3!J199,0)+IF(ISNUMBER(CSVデータ4!J199),CSVデータ4!J199,0)","v":0},null,{"$f":"IF(ISNUMBER(CSVデータ1!L199),CSVデータ1!L199,0)+IF(ISNUMBER(CSVデータ2!L199),CSVデータ2!L199,0)+IF(ISNUMBER(CSVデータ3!L199),CSVデータ3!L199,0)+IF(ISNUMBER(CSVデータ4!L199),CSVデータ4!L199,0)","v":0},null,{"$f":"IF(ISNUMBER(CSVデータ1!N199),CSVデータ1!N199,0)+IF(ISNUMBER(CSVデータ2!N199),CSVデータ2!N199,0)+IF(ISNUMBER(CSVデータ3!N199),CSVデータ3!N199,0)+IF(ISNUMBER(CSVデータ4!N199),CSVデータ4!N199,0)","v":0},null,{"$f":"IF(ISNUMBER(CSVデータ1!P199),CSVデータ1!P199,0)+IF(ISNUMBER(CSVデータ2!P199),CSVデータ2!P199,0)+IF(ISNUMBER(CSVデータ3!P199),CSVデータ3!P199,0)+IF(ISNUMBER(CSVデータ4!P199),CSVデータ4!P199,0)","v":0},null,{"$f":"IF(ISNUMBER(CSVデータ1!R199),CSVデータ1!R199,0)+IF(ISNUMBER(CSVデータ2!R199),CSVデータ2!R199,0)+IF(ISNUMBER(CSVデータ3!R199),CSVデータ3!R199,0)+IF(ISNUMBER(CSVデータ4!R199),CSVデータ4!R199,0)","v":0},null,{"$f":"IF(ISNUMBER(CSVデータ1!T199),CSVデータ1!T199,0)+IF(ISNUMBER(CSVデータ2!T199),CSVデータ2!T199,0)+IF(ISNUMBER(CSVデータ3!T199),CSVデータ3!T199,0)+IF(ISNUMBER(CSVデータ4!T199),CSVデータ4!T199,0)","v":0},null,{"$f":"IF(ISNUMBER(CSVデータ1!V199),CSVデータ1!V199,0)+IF(ISNUMBER(CSVデータ2!V199),CSVデータ2!V199,0)+IF(ISNUMBER(CSVデータ3!V199),CSVデータ3!V199,0)+IF(ISNUMBER(CSVデータ4!V199),CSVデータ4!V199,0)","v":0},null,{"$f":"IF(ISNUMBER(CSVデータ1!X199),CSVデータ1!X199,0)+IF(ISNUMBER(CSVデータ2!X199),CSVデータ2!X199,0)+IF(ISNUMBER(CSVデータ3!X199),CSVデータ3!X199,0)+IF(ISNUMBER(CSVデータ4!X199),CSVデータ4!X199,0)","v":0},null,{"$f":"IF(ISNUMBER(CSVデータ1!Z199),CSVデータ1!Z199,0)+IF(ISNUMBER(CSVデータ2!Z199),CSVデータ2!Z199,0)+IF(ISNUMBER(CSVデータ3!Z199),CSVデータ3!Z199,0)+IF(ISNUMBER(CSVデータ4!Z199),CSVデータ4!Z199,0)","v":0},null,{"$f":"IF(ISNUMBER(CSVデータ1!AB199),CSVデータ1!AB199,0)+IF(ISNUMBER(CSVデータ2!AB199),CSVデータ2!AB199,0)+IF(ISNUMBER(CSVデータ3!AB199),CSVデータ3!AB199,0)+IF(ISNUMBER(CSVデータ4!AB199),CSVデータ4!AB199,0)","v":0},null,{"$f":"IF(ISNUMBER(CSVデータ1!AD199),CSVデータ1!AD199,0)+IF(ISNUMBER(CSVデータ2!AD199),CSVデータ2!AD199,0)+IF(ISNUMBER(CSVデータ3!AD199),CSVデータ3!AD199,0)+IF(ISNUMBER(CSVデータ4!AD199),CSVデータ4!AD199,0)","v":0},null,{"$f":"IF(ISNUMBER(CSVデータ1!AF199),CSVデータ1!AF199,0)+IF(ISNUMBER(CSVデータ2!AF199),CSVデータ2!AF199,0)+IF(ISNUMBER(CSVデータ3!AF199),CSVデータ3!AF199,0)+IF(ISNUMBER(CSVデータ4!AF199),CSVデータ4!AF199,0)","v":0},null,{"$f":"IF(ISNUMBER(CSVデータ1!AH199),CSVデータ1!AH199,0)+IF(ISNUMBER(CSVデータ2!AH199),CSVデータ2!AH199,0)+IF(ISNUMBER(CSVデータ3!AH199),CSVデータ3!AH199,0)+IF(ISNUMBER(CSVデータ4!AH199),CSVデータ4!AH199,0)","v":0},null,{"$f":"IF(ISNUMBER(CSVデータ1!AJ199),CSVデータ1!AJ199,0)+IF(ISNUMBER(CSVデータ2!AJ199),CSVデータ2!AJ199,0)+IF(ISNUMBER(CSVデータ3!AJ199),CSVデータ3!AJ199,0)+IF(ISNUMBER(CSVデータ4!AJ199),CSVデータ4!AJ199,0)","v":0},null,{"$f":"IF(ISNUMBER(CSVデータ1!AL199),CSVデータ1!AL199,0)+IF(ISNUMBER(CSVデータ2!AL199),CSVデータ2!AL199,0)+IF(ISNUMBER(CSVデータ3!AL199),CSVデータ3!AL199,0)+IF(ISNUMBER(CSVデータ4!AL199),CSVデータ4!AL199,0)","v":0},null,{"$f":"IF(ISNUMBER(CSVデータ1!AN199),CSVデータ1!AN199,0)+IF(ISNUMBER(CSVデータ2!AN199),CSVデータ2!AN199,0)+IF(ISNUMBER(CSVデータ3!AN199),CSVデータ3!AN199,0)+IF(ISNUMBER(CSVデータ4!AN199),CSVデータ4!AN199,0)","v":0}]
[{"$f":"CSVデータ1!A200","v":"明細部"},{"$f":"CSVデータ1!B200","v":"保険者（地区）"},{"$f":"CSVデータ1!C200","v":61},{"$f":"CSVデータ1!D200","v":"女"},{"$f":"IF(ISNUMBER(CSVデータ1!E200),CSVデータ1!E200,0)+IF(ISNUMBER(CSVデータ2!E200),CSVデータ2!E200,0)+IF(ISNUMBER(CSVデータ3!E200),CSVデータ3!E200,0)+IF(ISNUMBER(CSVデータ4!E200),CSVデータ4!E200,0)","v":0},{"$f":"IF(ISNUMBER(CSVデータ1!F200),CSVデータ1!F200,0)+IF(ISNUMBER(CSVデータ2!F200),CSVデータ2!F200,0)+IF(ISNUMBER(CSVデータ3!F200),CSVデータ3!F200,0)+IF(ISNUMBER(CSVデータ4!F200),CSVデータ4!F200,0)","v":0},null,{"$f":"IF(ISNUMBER(CSVデータ1!H200),CSVデータ1!H200,0)+IF(ISNUMBER(CSVデータ2!H200),CSVデータ2!H200,0)+IF(ISNUMBER(CSVデータ3!H200),CSVデータ3!H200,0)+IF(ISNUMBER(CSVデータ4!H200),CSVデータ4!H200,0)","v":0},null,{"$f":"IF(ISNUMBER(CSVデータ1!J200),CSVデータ1!J200,0)+IF(ISNUMBER(CSVデータ2!J200),CSVデータ2!J200,0)+IF(ISNUMBER(CSVデータ3!J200),CSVデータ3!J200,0)+IF(ISNUMBER(CSVデータ4!J200),CSVデータ4!J200,0)","v":0},null,{"$f":"IF(ISNUMBER(CSVデータ1!L200),CSVデータ1!L200,0)+IF(ISNUMBER(CSVデータ2!L200),CSVデータ2!L200,0)+IF(ISNUMBER(CSVデータ3!L200),CSVデータ3!L200,0)+IF(ISNUMBER(CSVデータ4!L200),CSVデータ4!L200,0)","v":0},null,{"$f":"IF(ISNUMBER(CSVデータ1!N200),CSVデータ1!N200,0)+IF(ISNUMBER(CSVデータ2!N200),CSVデータ2!N200,0)+IF(ISNUMBER(CSVデータ3!N200),CSVデータ3!N200,0)+IF(ISNUMBER(CSVデータ4!N200),CSVデータ4!N200,0)","v":0},null,{"$f":"IF(ISNUMBER(CSVデータ1!P200),CSVデータ1!P200,0)+IF(ISNUMBER(CSVデータ2!P200),CSVデータ2!P200,0)+IF(ISNUMBER(CSVデータ3!P200),CSVデータ3!P200,0)+IF(ISNUMBER(CSVデータ4!P200),CSVデータ4!P200,0)","v":0},null,{"$f":"IF(ISNUMBER(CSVデータ1!R200),CSVデータ1!R200,0)+IF(ISNUMBER(CSVデータ2!R200),CSVデータ2!R200,0)+IF(ISNUMBER(CSVデータ3!R200),CSVデータ3!R200,0)+IF(ISNUMBER(CSVデータ4!R200),CSVデータ4!R200,0)","v":0},null,{"$f":"IF(ISNUMBER(CSVデータ1!T200),CSVデータ1!T200,0)+IF(ISNUMBER(CSVデータ2!T200),CSVデータ2!T200,0)+IF(ISNUMBER(CSVデータ3!T200),CSVデータ3!T200,0)+IF(ISNUMBER(CSVデータ4!T200),CSVデータ4!T200,0)","v":0},null,{"$f":"IF(ISNUMBER(CSVデータ1!V200),CSVデータ1!V200,0)+IF(ISNUMBER(CSVデータ2!V200),CSVデータ2!V200,0)+IF(ISNUMBER(CSVデータ3!V200),CSVデータ3!V200,0)+IF(ISNUMBER(CSVデータ4!V200),CSVデータ4!V200,0)","v":0},null,{"$f":"IF(ISNUMBER(CSVデータ1!X200),CSVデータ1!X200,0)+IF(ISNUMBER(CSVデータ2!X200),CSVデータ2!X200,0)+IF(ISNUMBER(CSVデータ3!X200),CSVデータ3!X200,0)+IF(ISNUMBER(CSVデータ4!X200),CSVデータ4!X200,0)","v":0},null,{"$f":"IF(ISNUMBER(CSVデータ1!Z200),CSVデータ1!Z200,0)+IF(ISNUMBER(CSVデータ2!Z200),CSVデータ2!Z200,0)+IF(ISNUMBER(CSVデータ3!Z200),CSVデータ3!Z200,0)+IF(ISNUMBER(CSVデータ4!Z200),CSVデータ4!Z200,0)","v":0},null,{"$f":"IF(ISNUMBER(CSVデータ1!AB200),CSVデータ1!AB200,0)+IF(ISNUMBER(CSVデータ2!AB200),CSVデータ2!AB200,0)+IF(ISNUMBER(CSVデータ3!AB200),CSVデータ3!AB200,0)+IF(ISNUMBER(CSVデータ4!AB200),CSVデータ4!AB200,0)","v":0},null,{"$f":"IF(ISNUMBER(CSVデータ1!AD200),CSVデータ1!AD200,0)+IF(ISNUMBER(CSVデータ2!AD200),CSVデータ2!AD200,0)+IF(ISNUMBER(CSVデータ3!AD200),CSVデータ3!AD200,0)+IF(ISNUMBER(CSVデータ4!AD200),CSVデータ4!AD200,0)","v":0},null,{"$f":"IF(ISNUMBER(CSVデータ1!AF200),CSVデータ1!AF200,0)+IF(ISNUMBER(CSVデータ2!AF200),CSVデータ2!AF200,0)+IF(ISNUMBER(CSVデータ3!AF200),CSVデータ3!AF200,0)+IF(ISNUMBER(CSVデータ4!AF200),CSVデータ4!AF200,0)","v":0},null,{"$f":"IF(ISNUMBER(CSVデータ1!AH200),CSVデータ1!AH200,0)+IF(ISNUMBER(CSVデータ2!AH200),CSVデータ2!AH200,0)+IF(ISNUMBER(CSVデータ3!AH200),CSVデータ3!AH200,0)+IF(ISNUMBER(CSVデータ4!AH200),CSVデータ4!AH200,0)","v":0},null,{"$f":"IF(ISNUMBER(CSVデータ1!AJ200),CSVデータ1!AJ200,0)+IF(ISNUMBER(CSVデータ2!AJ200),CSVデータ2!AJ200,0)+IF(ISNUMBER(CSVデータ3!AJ200),CSVデータ3!AJ200,0)+IF(ISNUMBER(CSVデータ4!AJ200),CSVデータ4!AJ200,0)","v":0},null,{"$f":"IF(ISNUMBER(CSVデータ1!AL200),CSVデータ1!AL200,0)+IF(ISNUMBER(CSVデータ2!AL200),CSVデータ2!AL200,0)+IF(ISNUMBER(CSVデータ3!AL200),CSVデータ3!AL200,0)+IF(ISNUMBER(CSVデータ4!AL200),CSVデータ4!AL200,0)","v":0},null,{"$f":"IF(ISNUMBER(CSVデータ1!AN200),CSVデータ1!AN200,0)+IF(ISNUMBER(CSVデータ2!AN200),CSVデータ2!AN200,0)+IF(ISNUMBER(CSVデータ3!AN200),CSVデータ3!AN200,0)+IF(ISNUMBER(CSVデータ4!AN200),CSVデータ4!AN200,0)","v":0}]
[{"$f":"CSVデータ1!A201","v":"明細部"},{"$f":"CSVデータ1!B201","v":"保険者（地区）"},{"$f":"CSVデータ1!C201","v":62},{"$f":"CSVデータ1!D201","v":"女"},{"$f":"IF(ISNUMBER(CSVデータ1!E201),CSVデータ1!E201,0)+IF(ISNUMBER(CSVデータ2!E201),CSVデータ2!E201,0)+IF(ISNUMBER(CSVデータ3!E201),CSVデータ3!E201,0)+IF(ISNUMBER(CSVデータ4!E201),CSVデータ4!E201,0)","v":0},{"$f":"IF(ISNUMBER(CSVデータ1!F201),CSVデータ1!F201,0)+IF(ISNUMBER(CSVデータ2!F201),CSVデータ2!F201,0)+IF(ISNUMBER(CSVデータ3!F201),CSVデータ3!F201,0)+IF(ISNUMBER(CSVデータ4!F201),CSVデータ4!F201,0)","v":0},null,{"$f":"IF(ISNUMBER(CSVデータ1!H201),CSVデータ1!H201,0)+IF(ISNUMBER(CSVデータ2!H201),CSVデータ2!H201,0)+IF(ISNUMBER(CSVデータ3!H201),CSVデータ3!H201,0)+IF(ISNUMBER(CSVデータ4!H201),CSVデータ4!H201,0)","v":0},null,{"$f":"IF(ISNUMBER(CSVデータ1!J201),CSVデータ1!J201,0)+IF(ISNUMBER(CSVデータ2!J201),CSVデータ2!J201,0)+IF(ISNUMBER(CSVデータ3!J201),CSVデータ3!J201,0)+IF(ISNUMBER(CSVデータ4!J201),CSVデータ4!J201,0)","v":0},null,{"$f":"IF(ISNUMBER(CSVデータ1!L201),CSVデータ1!L201,0)+IF(ISNUMBER(CSVデータ2!L201),CSVデータ2!L201,0)+IF(ISNUMBER(CSVデータ3!L201),CSVデータ3!L201,0)+IF(ISNUMBER(CSVデータ4!L201),CSVデータ4!L201,0)","v":0},null,{"$f":"IF(ISNUMBER(CSVデータ1!N201),CSVデータ1!N201,0)+IF(ISNUMBER(CSVデータ2!N201),CSVデータ2!N201,0)+IF(ISNUMBER(CSVデータ3!N201),CSVデータ3!N201,0)+IF(ISNUMBER(CSVデータ4!N201),CSVデータ4!N201,0)","v":0},null,{"$f":"IF(ISNUMBER(CSVデータ1!P201),CSVデータ1!P201,0)+IF(ISNUMBER(CSVデータ2!P201),CSVデータ2!P201,0)+IF(ISNUMBER(CSVデータ3!P201),CSVデータ3!P201,0)+IF(ISNUMBER(CSVデータ4!P201),CSVデータ4!P201,0)","v":0},null,{"$f":"IF(ISNUMBER(CSVデータ1!R201),CSVデータ1!R201,0)+IF(ISNUMBER(CSVデータ2!R201),CSVデータ2!R201,0)+IF(ISNUMBER(CSVデータ3!R201),CSVデータ3!R201,0)+IF(ISNUMBER(CSVデータ4!R201),CSVデータ4!R201,0)","v":0},null,{"$f":"IF(ISNUMBER(CSVデータ1!T201),CSVデータ1!T201,0)+IF(ISNUMBER(CSVデータ2!T201),CSVデータ2!T201,0)+IF(ISNUMBER(CSVデータ3!T201),CSVデータ3!T201,0)+IF(ISNUMBER(CSVデータ4!T201),CSVデータ4!T201,0)","v":0},null,{"$f":"IF(ISNUMBER(CSVデータ1!V201),CSVデータ1!V201,0)+IF(ISNUMBER(CSVデータ2!V201),CSVデータ2!V201,0)+IF(ISNUMBER(CSVデータ3!V201),CSVデータ3!V201,0)+IF(ISNUMBER(CSVデータ4!V201),CSVデータ4!V201,0)","v":0},null,{"$f":"IF(ISNUMBER(CSVデータ1!X201),CSVデータ1!X201,0)+IF(ISNUMBER(CSVデータ2!X201),CSVデータ2!X201,0)+IF(ISNUMBER(CSVデータ3!X201),CSVデータ3!X201,0)+IF(ISNUMBER(CSVデータ4!X201),CSVデータ4!X201,0)","v":0},null,{"$f":"IF(ISNUMBER(CSVデータ1!Z201),CSVデータ1!Z201,0)+IF(ISNUMBER(CSVデータ2!Z201),CSVデータ2!Z201,0)+IF(ISNUMBER(CSVデータ3!Z201),CSVデータ3!Z201,0)+IF(ISNUMBER(CSVデータ4!Z201),CSVデータ4!Z201,0)","v":0},null,{"$f":"IF(ISNUMBER(CSVデータ1!AB201),CSVデータ1!AB201,0)+IF(ISNUMBER(CSVデータ2!AB201),CSVデータ2!AB201,0)+IF(ISNUMBER(CSVデータ3!AB201),CSVデータ3!AB201,0)+IF(ISNUMBER(CSVデータ4!AB201),CSVデータ4!AB201,0)","v":0},null,{"$f":"IF(ISNUMBER(CSVデータ1!AD201),CSVデータ1!AD201,0)+IF(ISNUMBER(CSVデータ2!AD201),CSVデータ2!AD201,0)+IF(ISNUMBER(CSVデータ3!AD201),CSVデータ3!AD201,0)+IF(ISNUMBER(CSVデータ4!AD201),CSVデータ4!AD201,0)","v":0},null,{"$f":"IF(ISNUMBER(CSVデータ1!AF201),CSVデータ1!AF201,0)+IF(ISNUMBER(CSVデータ2!AF201),CSVデータ2!AF201,0)+IF(ISNUMBER(CSVデータ3!AF201),CSVデータ3!AF201,0)+IF(ISNUMBER(CSVデータ4!AF201),CSVデータ4!AF201,0)","v":0},null,{"$f":"IF(ISNUMBER(CSVデータ1!AH201),CSVデータ1!AH201,0)+IF(ISNUMBER(CSVデータ2!AH201),CSVデータ2!AH201,0)+IF(ISNUMBER(CSVデータ3!AH201),CSVデータ3!AH201,0)+IF(ISNUMBER(CSVデータ4!AH201),CSVデータ4!AH201,0)","v":0},null,{"$f":"IF(ISNUMBER(CSVデータ1!AJ201),CSVデータ1!AJ201,0)+IF(ISNUMBER(CSVデータ2!AJ201),CSVデータ2!AJ201,0)+IF(ISNUMBER(CSVデータ3!AJ201),CSVデータ3!AJ201,0)+IF(ISNUMBER(CSVデータ4!AJ201),CSVデータ4!AJ201,0)","v":0},null,{"$f":"IF(ISNUMBER(CSVデータ1!AL201),CSVデータ1!AL201,0)+IF(ISNUMBER(CSVデータ2!AL201),CSVデータ2!AL201,0)+IF(ISNUMBER(CSVデータ3!AL201),CSVデータ3!AL201,0)+IF(ISNUMBER(CSVデータ4!AL201),CSVデータ4!AL201,0)","v":0},null,{"$f":"IF(ISNUMBER(CSVデータ1!AN201),CSVデータ1!AN201,0)+IF(ISNUMBER(CSVデータ2!AN201),CSVデータ2!AN201,0)+IF(ISNUMBER(CSVデータ3!AN201),CSVデータ3!AN201,0)+IF(ISNUMBER(CSVデータ4!AN201),CSVデータ4!AN201,0)","v":0}]
[{"$f":"CSVデータ1!A202","v":"明細部"},{"$f":"CSVデータ1!B202","v":"保険者（地区）"},{"$f":"CSVデータ1!C202","v":63},{"$f":"CSVデータ1!D202","v":"女"},{"$f":"IF(ISNUMBER(CSVデータ1!E202),CSVデータ1!E202,0)+IF(ISNUMBER(CSVデータ2!E202),CSVデータ2!E202,0)+IF(ISNUMBER(CSVデータ3!E202),CSVデータ3!E202,0)+IF(ISNUMBER(CSVデータ4!E202),CSVデータ4!E202,0)","v":0},{"$f":"IF(ISNUMBER(CSVデータ1!F202),CSVデータ1!F202,0)+IF(ISNUMBER(CSVデータ2!F202),CSVデータ2!F202,0)+IF(ISNUMBER(CSVデータ3!F202),CSVデータ3!F202,0)+IF(ISNUMBER(CSVデータ4!F202),CSVデータ4!F202,0)","v":0},null,{"$f":"IF(ISNUMBER(CSVデータ1!H202),CSVデータ1!H202,0)+IF(ISNUMBER(CSVデータ2!H202),CSVデータ2!H202,0)+IF(ISNUMBER(CSVデータ3!H202),CSVデータ3!H202,0)+IF(ISNUMBER(CSVデータ4!H202),CSVデータ4!H202,0)","v":0},null,{"$f":"IF(ISNUMBER(CSVデータ1!J202),CSVデータ1!J202,0)+IF(ISNUMBER(CSVデータ2!J202),CSVデータ2!J202,0)+IF(ISNUMBER(CSVデータ3!J202),CSVデータ3!J202,0)+IF(ISNUMBER(CSVデータ4!J202),CSVデータ4!J202,0)","v":0},null,{"$f":"IF(ISNUMBER(CSVデータ1!L202),CSVデータ1!L202,0)+IF(ISNUMBER(CSVデータ2!L202),CSVデータ2!L202,0)+IF(ISNUMBER(CSVデータ3!L202),CSVデータ3!L202,0)+IF(ISNUMBER(CSVデータ4!L202),CSVデータ4!L202,0)","v":0},null,{"$f":"IF(ISNUMBER(CSVデータ1!N202),CSVデータ1!N202,0)+IF(ISNUMBER(CSVデータ2!N202),CSVデータ2!N202,0)+IF(ISNUMBER(CSVデータ3!N202),CSVデータ3!N202,0)+IF(ISNUMBER(CSVデータ4!N202),CSVデータ4!N202,0)","v":0},null,{"$f":"IF(ISNUMBER(CSVデータ1!P202),CSVデータ1!P202,0)+IF(ISNUMBER(CSVデータ2!P202),CSVデータ2!P202,0)+IF(ISNUMBER(CSVデータ3!P202),CSVデータ3!P202,0)+IF(ISNUMBER(CSVデータ4!P202),CSVデータ4!P202,0)","v":0},null,{"$f":"IF(ISNUMBER(CSVデータ1!R202),CSVデータ1!R202,0)+IF(ISNUMBER(CSVデータ2!R202),CSVデータ2!R202,0)+IF(ISNUMBER(CSVデータ3!R202),CSVデータ3!R202,0)+IF(ISNUMBER(CSVデータ4!R202),CSVデータ4!R202,0)","v":0},null,{"$f":"IF(ISNUMBER(CSVデータ1!T202),CSVデータ1!T202,0)+IF(ISNUMBER(CSVデータ2!T202),CSVデータ2!T202,0)+IF(ISNUMBER(CSVデータ3!T202),CSVデータ3!T202,0)+IF(ISNUMBER(CSVデータ4!T202),CSVデータ4!T202,0)","v":0},null,{"$f":"IF(ISNUMBER(CSVデータ1!V202),CSVデータ1!V202,0)+IF(ISNUMBER(CSVデータ2!V202),CSVデータ2!V202,0)+IF(ISNUMBER(CSVデータ3!V202),CSVデータ3!V202,0)+IF(ISNUMBER(CSVデータ4!V202),CSVデータ4!V202,0)","v":0},null,{"$f":"IF(ISNUMBER(CSVデータ1!X202),CSVデータ1!X202,0)+IF(ISNUMBER(CSVデータ2!X202),CSVデータ2!X202,0)+IF(ISNUMBER(CSVデータ3!X202),CSVデータ3!X202,0)+IF(ISNUMBER(CSVデータ4!X202),CSVデータ4!X202,0)","v":0},null,{"$f":"IF(ISNUMBER(CSVデータ1!Z202),CSVデータ1!Z202,0)+IF(ISNUMBER(CSVデータ2!Z202),CSVデータ2!Z202,0)+IF(ISNUMBER(CSVデータ3!Z202),CSVデータ3!Z202,0)+IF(ISNUMBER(CSVデータ4!Z202),CSVデータ4!Z202,0)","v":0},null,{"$f":"IF(ISNUMBER(CSVデータ1!AB202),CSVデータ1!AB202,0)+IF(ISNUMBER(CSVデータ2!AB202),CSVデータ2!AB202,0)+IF(ISNUMBER(CSVデータ3!AB202),CSVデータ3!AB202,0)+IF(ISNUMBER(CSVデータ4!AB202),CSVデータ4!AB202,0)","v":0},null,{"$f":"IF(ISNUMBER(CSVデータ1!AD202),CSVデータ1!AD202,0)+IF(ISNUMBER(CSVデータ2!AD202),CSVデータ2!AD202,0)+IF(ISNUMBER(CSVデータ3!AD202),CSVデータ3!AD202,0)+IF(ISNUMBER(CSVデータ4!AD202),CSVデータ4!AD202,0)","v":0},null,{"$f":"IF(ISNUMBER(CSVデータ1!AF202),CSVデータ1!AF202,0)+IF(ISNUMBER(CSVデータ2!AF202),CSVデータ2!AF202,0)+IF(ISNUMBER(CSVデータ3!AF202),CSVデータ3!AF202,0)+IF(ISNUMBER(CSVデータ4!AF202),CSVデータ4!AF202,0)","v":0},null,{"$f":"IF(ISNUMBER(CSVデータ1!AH202),CSVデータ1!AH202,0)+IF(ISNUMBER(CSVデータ2!AH202),CSVデータ2!AH202,0)+IF(ISNUMBER(CSVデータ3!AH202),CSVデータ3!AH202,0)+IF(ISNUMBER(CSVデータ4!AH202),CSVデータ4!AH202,0)","v":0},null,{"$f":"IF(ISNUMBER(CSVデータ1!AJ202),CSVデータ1!AJ202,0)+IF(ISNUMBER(CSVデータ2!AJ202),CSVデータ2!AJ202,0)+IF(ISNUMBER(CSVデータ3!AJ202),CSVデータ3!AJ202,0)+IF(ISNUMBER(CSVデータ4!AJ202),CSVデータ4!AJ202,0)","v":0},null,{"$f":"IF(ISNUMBER(CSVデータ1!AL202),CSVデータ1!AL202,0)+IF(ISNUMBER(CSVデータ2!AL202),CSVデータ2!AL202,0)+IF(ISNUMBER(CSVデータ3!AL202),CSVデータ3!AL202,0)+IF(ISNUMBER(CSVデータ4!AL202),CSVデータ4!AL202,0)","v":0},null,{"$f":"IF(ISNUMBER(CSVデータ1!AN202),CSVデータ1!AN202,0)+IF(ISNUMBER(CSVデータ2!AN202),CSVデータ2!AN202,0)+IF(ISNUMBER(CSVデータ3!AN202),CSVデータ3!AN202,0)+IF(ISNUMBER(CSVデータ4!AN202),CSVデータ4!AN202,0)","v":0}]
[{"$f":"CSVデータ1!A203","v":"明細部"},{"$f":"CSVデータ1!B203","v":"保険者（地区）"},{"$f":"CSVデータ1!C203","v":64},{"$f":"CSVデータ1!D203","v":"女"},{"$f":"IF(ISNUMBER(CSVデータ1!E203),CSVデータ1!E203,0)+IF(ISNUMBER(CSVデータ2!E203),CSVデータ2!E203,0)+IF(ISNUMBER(CSVデータ3!E203),CSVデータ3!E203,0)+IF(ISNUMBER(CSVデータ4!E203),CSVデータ4!E203,0)","v":0},{"$f":"IF(ISNUMBER(CSVデータ1!F203),CSVデータ1!F203,0)+IF(ISNUMBER(CSVデータ2!F203),CSVデータ2!F203,0)+IF(ISNUMBER(CSVデータ3!F203),CSVデータ3!F203,0)+IF(ISNUMBER(CSVデータ4!F203),CSVデータ4!F203,0)","v":0},null,{"$f":"IF(ISNUMBER(CSVデータ1!H203),CSVデータ1!H203,0)+IF(ISNUMBER(CSVデータ2!H203),CSVデータ2!H203,0)+IF(ISNUMBER(CSVデータ3!H203),CSVデータ3!H203,0)+IF(ISNUMBER(CSVデータ4!H203),CSVデータ4!H203,0)","v":0},null,{"$f":"IF(ISNUMBER(CSVデータ1!J203),CSVデータ1!J203,0)+IF(ISNUMBER(CSVデータ2!J203),CSVデータ2!J203,0)+IF(ISNUMBER(CSVデータ3!J203),CSVデータ3!J203,0)+IF(ISNUMBER(CSVデータ4!J203),CSVデータ4!J203,0)","v":0},null,{"$f":"IF(ISNUMBER(CSVデータ1!L203),CSVデータ1!L203,0)+IF(ISNUMBER(CSVデータ2!L203),CSVデータ2!L203,0)+IF(ISNUMBER(CSVデータ3!L203),CSVデータ3!L203,0)+IF(ISNUMBER(CSVデータ4!L203),CSVデータ4!L203,0)","v":0},null,{"$f":"IF(ISNUMBER(CSVデータ1!N203),CSVデータ1!N203,0)+IF(ISNUMBER(CSVデータ2!N203),CSVデータ2!N203,0)+IF(ISNUMBER(CSVデータ3!N203),CSVデータ3!N203,0)+IF(ISNUMBER(CSVデータ4!N203),CSVデータ4!N203,0)","v":0},null,{"$f":"IF(ISNUMBER(CSVデータ1!P203),CSVデータ1!P203,0)+IF(ISNUMBER(CSVデータ2!P203),CSVデータ2!P203,0)+IF(ISNUMBER(CSVデータ3!P203),CSVデータ3!P203,0)+IF(ISNUMBER(CSVデータ4!P203),CSVデータ4!P203,0)","v":0},null,{"$f":"IF(ISNUMBER(CSVデータ1!R203),CSVデータ1!R203,0)+IF(ISNUMBER(CSVデータ2!R203),CSVデータ2!R203,0)+IF(ISNUMBER(CSVデータ3!R203),CSVデータ3!R203,0)+IF(ISNUMBER(CSVデータ4!R203),CSVデータ4!R203,0)","v":0},null,{"$f":"IF(ISNUMBER(CSVデータ1!T203),CSVデータ1!T203,0)+IF(ISNUMBER(CSVデータ2!T203),CSVデータ2!T203,0)+IF(ISNUMBER(CSVデータ3!T203),CSVデータ3!T203,0)+IF(ISNUMBER(CSVデータ4!T203),CSVデータ4!T203,0)","v":0},null,{"$f":"IF(ISNUMBER(CSVデータ1!V203),CSVデータ1!V203,0)+IF(ISNUMBER(CSVデータ2!V203),CSVデータ2!V203,0)+IF(ISNUMBER(CSVデータ3!V203),CSVデータ3!V203,0)+IF(ISNUMBER(CSVデータ4!V203),CSVデータ4!V203,0)","v":0},null,{"$f":"IF(ISNUMBER(CSVデータ1!X203),CSVデータ1!X203,0)+IF(ISNUMBER(CSVデータ2!X203),CSVデータ2!X203,0)+IF(ISNUMBER(CSVデータ3!X203),CSVデータ3!X203,0)+IF(ISNUMBER(CSVデータ4!X203),CSVデータ4!X203,0)","v":0},null,{"$f":"IF(ISNUMBER(CSVデータ1!Z203),CSVデータ1!Z203,0)+IF(ISNUMBER(CSVデータ2!Z203),CSVデータ2!Z203,0)+IF(ISNUMBER(CSVデータ3!Z203),CSVデータ3!Z203,0)+IF(ISNUMBER(CSVデータ4!Z203),CSVデータ4!Z203,0)","v":0},null,{"$f":"IF(ISNUMBER(CSVデータ1!AB203),CSVデータ1!AB203,0)+IF(ISNUMBER(CSVデータ2!AB203),CSVデータ2!AB203,0)+IF(ISNUMBER(CSVデータ3!AB203),CSVデータ3!AB203,0)+IF(ISNUMBER(CSVデータ4!AB203),CSVデータ4!AB203,0)","v":0},null,{"$f":"IF(ISNUMBER(CSVデータ1!AD203),CSVデータ1!AD203,0)+IF(ISNUMBER(CSVデータ2!AD203),CSVデータ2!AD203,0)+IF(ISNUMBER(CSVデータ3!AD203),CSVデータ3!AD203,0)+IF(ISNUMBER(CSVデータ4!AD203),CSVデータ4!AD203,0)","v":0},null,{"$f":"IF(ISNUMBER(CSVデータ1!AF203),CSVデータ1!AF203,0)+IF(ISNUMBER(CSVデータ2!AF203),CSVデータ2!AF203,0)+IF(ISNUMBER(CSVデータ3!AF203),CSVデータ3!AF203,0)+IF(ISNUMBER(CSVデータ4!AF203),CSVデータ4!AF203,0)","v":0},null,{"$f":"IF(ISNUMBER(CSVデータ1!AH203),CSVデータ1!AH203,0)+IF(ISNUMBER(CSVデータ2!AH203),CSVデータ2!AH203,0)+IF(ISNUMBER(CSVデータ3!AH203),CSVデータ3!AH203,0)+IF(ISNUMBER(CSVデータ4!AH203),CSVデータ4!AH203,0)","v":0},null,{"$f":"IF(ISNUMBER(CSVデータ1!AJ203),CSVデータ1!AJ203,0)+IF(ISNUMBER(CSVデータ2!AJ203),CSVデータ2!AJ203,0)+IF(ISNUMBER(CSVデータ3!AJ203),CSVデータ3!AJ203,0)+IF(ISNUMBER(CSVデータ4!AJ203),CSVデータ4!AJ203,0)","v":0},null,{"$f":"IF(ISNUMBER(CSVデータ1!AL203),CSVデータ1!AL203,0)+IF(ISNUMBER(CSVデータ2!AL203),CSVデータ2!AL203,0)+IF(ISNUMBER(CSVデータ3!AL203),CSVデータ3!AL203,0)+IF(ISNUMBER(CSVデータ4!AL203),CSVデータ4!AL203,0)","v":0},null,{"$f":"IF(ISNUMBER(CSVデータ1!AN203),CSVデータ1!AN203,0)+IF(ISNUMBER(CSVデータ2!AN203),CSVデータ2!AN203,0)+IF(ISNUMBER(CSVデータ3!AN203),CSVデータ3!AN203,0)+IF(ISNUMBER(CSVデータ4!AN203),CSVデータ4!AN203,0)","v":0}]
[{"$f":"CSVデータ1!A204","v":"明細部"},{"$f":"CSVデータ1!B204","v":"保険者（地区）"},{"$f":"CSVデータ1!C204","v":65},{"$f":"CSVデータ1!D204","v":"女"},{"$f":"IF(ISNUMBER(CSVデータ1!E204),CSVデータ1!E204,0)+IF(ISNUMBER(CSVデータ2!E204),CSVデータ2!E204,0)+IF(ISNUMBER(CSVデータ3!E204),CSVデータ3!E204,0)+IF(ISNUMBER(CSVデータ4!E204),CSVデータ4!E204,0)","v":0},{"$f":"IF(ISNUMBER(CSVデータ1!F204),CSVデータ1!F204,0)+IF(ISNUMBER(CSVデータ2!F204),CSVデータ2!F204,0)+IF(ISNUMBER(CSVデータ3!F204),CSVデータ3!F204,0)+IF(ISNUMBER(CSVデータ4!F204),CSVデータ4!F204,0)","v":0},null,{"$f":"IF(ISNUMBER(CSVデータ1!H204),CSVデータ1!H204,0)+IF(ISNUMBER(CSVデータ2!H204),CSVデータ2!H204,0)+IF(ISNUMBER(CSVデータ3!H204),CSVデータ3!H204,0)+IF(ISNUMBER(CSVデータ4!H204),CSVデータ4!H204,0)","v":0},null,{"$f":"IF(ISNUMBER(CSVデータ1!J204),CSVデータ1!J204,0)+IF(ISNUMBER(CSVデータ2!J204),CSVデータ2!J204,0)+IF(ISNUMBER(CSVデータ3!J204),CSVデータ3!J204,0)+IF(ISNUMBER(CSVデータ4!J204),CSVデータ4!J204,0)","v":0},null,{"$f":"IF(ISNUMBER(CSVデータ1!L204),CSVデータ1!L204,0)+IF(ISNUMBER(CSVデータ2!L204),CSVデータ2!L204,0)+IF(ISNUMBER(CSVデータ3!L204),CSVデータ3!L204,0)+IF(ISNUMBER(CSVデータ4!L204),CSVデータ4!L204,0)","v":0},null,{"$f":"IF(ISNUMBER(CSVデータ1!N204),CSVデータ1!N204,0)+IF(ISNUMBER(CSVデータ2!N204),CSVデータ2!N204,0)+IF(ISNUMBER(CSVデータ3!N204),CSVデータ3!N204,0)+IF(ISNUMBER(CSVデータ4!N204),CSVデータ4!N204,0)","v":0},null,{"$f":"IF(ISNUMBER(CSVデータ1!P204),CSVデータ1!P204,0)+IF(ISNUMBER(CSVデータ2!P204),CSVデータ2!P204,0)+IF(ISNUMBER(CSVデータ3!P204),CSVデータ3!P204,0)+IF(ISNUMBER(CSVデータ4!P204),CSVデータ4!P204,0)","v":0},null,{"$f":"IF(ISNUMBER(CSVデータ1!R204),CSVデータ1!R204,0)+IF(ISNUMBER(CSVデータ2!R204),CSVデータ2!R204,0)+IF(ISNUMBER(CSVデータ3!R204),CSVデータ3!R204,0)+IF(ISNUMBER(CSVデータ4!R204),CSVデータ4!R204,0)","v":0},null,{"$f":"IF(ISNUMBER(CSVデータ1!T204),CSVデータ1!T204,0)+IF(ISNUMBER(CSVデータ2!T204),CSVデータ2!T204,0)+IF(ISNUMBER(CSVデータ3!T204),CSVデータ3!T204,0)+IF(ISNUMBER(CSVデータ4!T204),CSVデータ4!T204,0)","v":0},null,{"$f":"IF(ISNUMBER(CSVデータ1!V204),CSVデータ1!V204,0)+IF(ISNUMBER(CSVデータ2!V204),CSVデータ2!V204,0)+IF(ISNUMBER(CSVデータ3!V204),CSVデータ3!V204,0)+IF(ISNUMBER(CSVデータ4!V204),CSVデータ4!V204,0)","v":0},null,{"$f":"IF(ISNUMBER(CSVデータ1!X204),CSVデータ1!X204,0)+IF(ISNUMBER(CSVデータ2!X204),CSVデータ2!X204,0)+IF(ISNUMBER(CSVデータ3!X204),CSVデータ3!X204,0)+IF(ISNUMBER(CSVデータ4!X204),CSVデータ4!X204,0)","v":0},null,{"$f":"IF(ISNUMBER(CSVデータ1!Z204),CSVデータ1!Z204,0)+IF(ISNUMBER(CSVデータ2!Z204),CSVデータ2!Z204,0)+IF(ISNUMBER(CSVデータ3!Z204),CSVデータ3!Z204,0)+IF(ISNUMBER(CSVデータ4!Z204),CSVデータ4!Z204,0)","v":0},null,{"$f":"IF(ISNUMBER(CSVデータ1!AB204),CSVデータ1!AB204,0)+IF(ISNUMBER(CSVデータ2!AB204),CSVデータ2!AB204,0)+IF(ISNUMBER(CSVデータ3!AB204),CSVデータ3!AB204,0)+IF(ISNUMBER(CSVデータ4!AB204),CSVデータ4!AB204,0)","v":0},null,{"$f":"IF(ISNUMBER(CSVデータ1!AD204),CSVデータ1!AD204,0)+IF(ISNUMBER(CSVデータ2!AD204),CSVデータ2!AD204,0)+IF(ISNUMBER(CSVデータ3!AD204),CSVデータ3!AD204,0)+IF(ISNUMBER(CSVデータ4!AD204),CSVデータ4!AD204,0)","v":0},null,{"$f":"IF(ISNUMBER(CSVデータ1!AF204),CSVデータ1!AF204,0)+IF(ISNUMBER(CSVデータ2!AF204),CSVデータ2!AF204,0)+IF(ISNUMBER(CSVデータ3!AF204),CSVデータ3!AF204,0)+IF(ISNUMBER(CSVデータ4!AF204),CSVデータ4!AF204,0)","v":0},null,{"$f":"IF(ISNUMBER(CSVデータ1!AH204),CSVデータ1!AH204,0)+IF(ISNUMBER(CSVデータ2!AH204),CSVデータ2!AH204,0)+IF(ISNUMBER(CSVデータ3!AH204),CSVデータ3!AH204,0)+IF(ISNUMBER(CSVデータ4!AH204),CSVデータ4!AH204,0)","v":0},null,{"$f":"IF(ISNUMBER(CSVデータ1!AJ204),CSVデータ1!AJ204,0)+IF(ISNUMBER(CSVデータ2!AJ204),CSVデータ2!AJ204,0)+IF(ISNUMBER(CSVデータ3!AJ204),CSVデータ3!AJ204,0)+IF(ISNUMBER(CSVデータ4!AJ204),CSVデータ4!AJ204,0)","v":0},null,{"$f":"IF(ISNUMBER(CSVデータ1!AL204),CSVデータ1!AL204,0)+IF(ISNUMBER(CSVデータ2!AL204),CSVデータ2!AL204,0)+IF(ISNUMBER(CSVデータ3!AL204),CSVデータ3!AL204,0)+IF(ISNUMBER(CSVデータ4!AL204),CSVデータ4!AL204,0)","v":0},null,{"$f":"IF(ISNUMBER(CSVデータ1!AN204),CSVデータ1!AN204,0)+IF(ISNUMBER(CSVデータ2!AN204),CSVデータ2!AN204,0)+IF(ISNUMBER(CSVデータ3!AN204),CSVデータ3!AN204,0)+IF(ISNUMBER(CSVデータ4!AN204),CSVデータ4!AN204,0)","v":0}]
[{"$f":"CSVデータ1!A205","v":"明細部"},{"$f":"CSVデータ1!B205","v":"保険者（地区）"},{"$f":"CSVデータ1!C205","v":66},{"$f":"CSVデータ1!D205","v":"女"},{"$f":"IF(ISNUMBER(CSVデータ1!E205),CSVデータ1!E205,0)+IF(ISNUMBER(CSVデータ2!E205),CSVデータ2!E205,0)+IF(ISNUMBER(CSVデータ3!E205),CSVデータ3!E205,0)+IF(ISNUMBER(CSVデータ4!E205),CSVデータ4!E205,0)","v":0},{"$f":"IF(ISNUMBER(CSVデータ1!F205),CSVデータ1!F205,0)+IF(ISNUMBER(CSVデータ2!F205),CSVデータ2!F205,0)+IF(ISNUMBER(CSVデータ3!F205),CSVデータ3!F205,0)+IF(ISNUMBER(CSVデータ4!F205),CSVデータ4!F205,0)","v":0},null,{"$f":"IF(ISNUMBER(CSVデータ1!H205),CSVデータ1!H205,0)+IF(ISNUMBER(CSVデータ2!H205),CSVデータ2!H205,0)+IF(ISNUMBER(CSVデータ3!H205),CSVデータ3!H205,0)+IF(ISNUMBER(CSVデータ4!H205),CSVデータ4!H205,0)","v":0},null,{"$f":"IF(ISNUMBER(CSVデータ1!J205),CSVデータ1!J205,0)+IF(ISNUMBER(CSVデータ2!J205),CSVデータ2!J205,0)+IF(ISNUMBER(CSVデータ3!J205),CSVデータ3!J205,0)+IF(ISNUMBER(CSVデータ4!J205),CSVデータ4!J205,0)","v":0},null,{"$f":"IF(ISNUMBER(CSVデータ1!L205),CSVデータ1!L205,0)+IF(ISNUMBER(CSVデータ2!L205),CSVデータ2!L205,0)+IF(ISNUMBER(CSVデータ3!L205),CSVデータ3!L205,0)+IF(ISNUMBER(CSVデータ4!L205),CSVデータ4!L205,0)","v":0},null,{"$f":"IF(ISNUMBER(CSVデータ1!N205),CSVデータ1!N205,0)+IF(ISNUMBER(CSVデータ2!N205),CSVデータ2!N205,0)+IF(ISNUMBER(CSVデータ3!N205),CSVデータ3!N205,0)+IF(ISNUMBER(CSVデータ4!N205),CSVデータ4!N205,0)","v":0},null,{"$f":"IF(ISNUMBER(CSVデータ1!P205),CSVデータ1!P205,0)+IF(ISNUMBER(CSVデータ2!P205),CSVデータ2!P205,0)+IF(ISNUMBER(CSVデータ3!P205),CSVデータ3!P205,0)+IF(ISNUMBER(CSVデータ4!P205),CSVデータ4!P205,0)","v":0},null,{"$f":"IF(ISNUMBER(CSVデータ1!R205),CSVデータ1!R205,0)+IF(ISNUMBER(CSVデータ2!R205),CSVデータ2!R205,0)+IF(ISNUMBER(CSVデータ3!R205),CSVデータ3!R205,0)+IF(ISNUMBER(CSVデータ4!R205),CSVデータ4!R205,0)","v":0},null,{"$f":"IF(ISNUMBER(CSVデータ1!T205),CSVデータ1!T205,0)+IF(ISNUMBER(CSVデータ2!T205),CSVデータ2!T205,0)+IF(ISNUMBER(CSVデータ3!T205),CSVデータ3!T205,0)+IF(ISNUMBER(CSVデータ4!T205),CSVデータ4!T205,0)","v":0},null,{"$f":"IF(ISNUMBER(CSVデータ1!V205),CSVデータ1!V205,0)+IF(ISNUMBER(CSVデータ2!V205),CSVデータ2!V205,0)+IF(ISNUMBER(CSVデータ3!V205),CSVデータ3!V205,0)+IF(ISNUMBER(CSVデータ4!V205),CSVデータ4!V205,0)","v":0},null,{"$f":"IF(ISNUMBER(CSVデータ1!X205),CSVデータ1!X205,0)+IF(ISNUMBER(CSVデータ2!X205),CSVデータ2!X205,0)+IF(ISNUMBER(CSVデータ3!X205),CSVデータ3!X205,0)+IF(ISNUMBER(CSVデータ4!X205),CSVデータ4!X205,0)","v":0},null,{"$f":"IF(ISNUMBER(CSVデータ1!Z205),CSVデータ1!Z205,0)+IF(ISNUMBER(CSVデータ2!Z205),CSVデータ2!Z205,0)+IF(ISNUMBER(CSVデータ3!Z205),CSVデータ3!Z205,0)+IF(ISNUMBER(CSVデータ4!Z205),CSVデータ4!Z205,0)","v":0},null,{"$f":"IF(ISNUMBER(CSVデータ1!AB205),CSVデータ1!AB205,0)+IF(ISNUMBER(CSVデータ2!AB205),CSVデータ2!AB205,0)+IF(ISNUMBER(CSVデータ3!AB205),CSVデータ3!AB205,0)+IF(ISNUMBER(CSVデータ4!AB205),CSVデータ4!AB205,0)","v":0},null,{"$f":"IF(ISNUMBER(CSVデータ1!AD205),CSVデータ1!AD205,0)+IF(ISNUMBER(CSVデータ2!AD205),CSVデータ2!AD205,0)+IF(ISNUMBER(CSVデータ3!AD205),CSVデータ3!AD205,0)+IF(ISNUMBER(CSVデータ4!AD205),CSVデータ4!AD205,0)","v":0},null,{"$f":"IF(ISNUMBER(CSVデータ1!AF205),CSVデータ1!AF205,0)+IF(ISNUMBER(CSVデータ2!AF205),CSVデータ2!AF205,0)+IF(ISNUMBER(CSVデータ3!AF205),CSVデータ3!AF205,0)+IF(ISNUMBER(CSVデータ4!AF205),CSVデータ4!AF205,0)","v":0},null,{"$f":"IF(ISNUMBER(CSVデータ1!AH205),CSVデータ1!AH205,0)+IF(ISNUMBER(CSVデータ2!AH205),CSVデータ2!AH205,0)+IF(ISNUMBER(CSVデータ3!AH205),CSVデータ3!AH205,0)+IF(ISNUMBER(CSVデータ4!AH205),CSVデータ4!AH205,0)","v":0},null,{"$f":"IF(ISNUMBER(CSVデータ1!AJ205),CSVデータ1!AJ205,0)+IF(ISNUMBER(CSVデータ2!AJ205),CSVデータ2!AJ205,0)+IF(ISNUMBER(CSVデータ3!AJ205),CSVデータ3!AJ205,0)+IF(ISNUMBER(CSVデータ4!AJ205),CSVデータ4!AJ205,0)","v":0},null,{"$f":"IF(ISNUMBER(CSVデータ1!AL205),CSVデータ1!AL205,0)+IF(ISNUMBER(CSVデータ2!AL205),CSVデータ2!AL205,0)+IF(ISNUMBER(CSVデータ3!AL205),CSVデータ3!AL205,0)+IF(ISNUMBER(CSVデータ4!AL205),CSVデータ4!AL205,0)","v":0},null,{"$f":"IF(ISNUMBER(CSVデータ1!AN205),CSVデータ1!AN205,0)+IF(ISNUMBER(CSVデータ2!AN205),CSVデータ2!AN205,0)+IF(ISNUMBER(CSVデータ3!AN205),CSVデータ3!AN205,0)+IF(ISNUMBER(CSVデータ4!AN205),CSVデータ4!AN205,0)","v":0}]
[{"$f":"CSVデータ1!A206","v":"明細部"},{"$f":"CSVデータ1!B206","v":"保険者（地区）"},{"$f":"CSVデータ1!C206","v":67},{"$f":"CSVデータ1!D206","v":"女"},{"$f":"IF(ISNUMBER(CSVデータ1!E206),CSVデータ1!E206,0)+IF(ISNUMBER(CSVデータ2!E206),CSVデータ2!E206,0)+IF(ISNUMBER(CSVデータ3!E206),CSVデータ3!E206,0)+IF(ISNUMBER(CSVデータ4!E206),CSVデータ4!E206,0)","v":0},{"$f":"IF(ISNUMBER(CSVデータ1!F206),CSVデータ1!F206,0)+IF(ISNUMBER(CSVデータ2!F206),CSVデータ2!F206,0)+IF(ISNUMBER(CSVデータ3!F206),CSVデータ3!F206,0)+IF(ISNUMBER(CSVデータ4!F206),CSVデータ4!F206,0)","v":0},null,{"$f":"IF(ISNUMBER(CSVデータ1!H206),CSVデータ1!H206,0)+IF(ISNUMBER(CSVデータ2!H206),CSVデータ2!H206,0)+IF(ISNUMBER(CSVデータ3!H206),CSVデータ3!H206,0)+IF(ISNUMBER(CSVデータ4!H206),CSVデータ4!H206,0)","v":0},null,{"$f":"IF(ISNUMBER(CSVデータ1!J206),CSVデータ1!J206,0)+IF(ISNUMBER(CSVデータ2!J206),CSVデータ2!J206,0)+IF(ISNUMBER(CSVデータ3!J206),CSVデータ3!J206,0)+IF(ISNUMBER(CSVデータ4!J206),CSVデータ4!J206,0)","v":0},null,{"$f":"IF(ISNUMBER(CSVデータ1!L206),CSVデータ1!L206,0)+IF(ISNUMBER(CSVデータ2!L206),CSVデータ2!L206,0)+IF(ISNUMBER(CSVデータ3!L206),CSVデータ3!L206,0)+IF(ISNUMBER(CSVデータ4!L206),CSVデータ4!L206,0)","v":0},null,{"$f":"IF(ISNUMBER(CSVデータ1!N206),CSVデータ1!N206,0)+IF(ISNUMBER(CSVデータ2!N206),CSVデータ2!N206,0)+IF(ISNUMBER(CSVデータ3!N206),CSVデータ3!N206,0)+IF(ISNUMBER(CSVデータ4!N206),CSVデータ4!N206,0)","v":0},null,{"$f":"IF(ISNUMBER(CSVデータ1!P206),CSVデータ1!P206,0)+IF(ISNUMBER(CSVデータ2!P206),CSVデータ2!P206,0)+IF(ISNUMBER(CSVデータ3!P206),CSVデータ3!P206,0)+IF(ISNUMBER(CSVデータ4!P206),CSVデータ4!P206,0)","v":0},null,{"$f":"IF(ISNUMBER(CSVデータ1!R206),CSVデータ1!R206,0)+IF(ISNUMBER(CSVデータ2!R206),CSVデータ2!R206,0)+IF(ISNUMBER(CSVデータ3!R206),CSVデータ3!R206,0)+IF(ISNUMBER(CSVデータ4!R206),CSVデータ4!R206,0)","v":0},null,{"$f":"IF(ISNUMBER(CSVデータ1!T206),CSVデータ1!T206,0)+IF(ISNUMBER(CSVデータ2!T206),CSVデータ2!T206,0)+IF(ISNUMBER(CSVデータ3!T206),CSVデータ3!T206,0)+IF(ISNUMBER(CSVデータ4!T206),CSVデータ4!T206,0)","v":0},null,{"$f":"IF(ISNUMBER(CSVデータ1!V206),CSVデータ1!V206,0)+IF(ISNUMBER(CSVデータ2!V206),CSVデータ2!V206,0)+IF(ISNUMBER(CSVデータ3!V206),CSVデータ3!V206,0)+IF(ISNUMBER(CSVデータ4!V206),CSVデータ4!V206,0)","v":0},null,{"$f":"IF(ISNUMBER(CSVデータ1!X206),CSVデータ1!X206,0)+IF(ISNUMBER(CSVデータ2!X206),CSVデータ2!X206,0)+IF(ISNUMBER(CSVデータ3!X206),CSVデータ3!X206,0)+IF(ISNUMBER(CSVデータ4!X206),CSVデータ4!X206,0)","v":0},null,{"$f":"IF(ISNUMBER(CSVデータ1!Z206),CSVデータ1!Z206,0)+IF(ISNUMBER(CSVデータ2!Z206),CSVデータ2!Z206,0)+IF(ISNUMBER(CSVデータ3!Z206),CSVデータ3!Z206,0)+IF(ISNUMBER(CSVデータ4!Z206),CSVデータ4!Z206,0)","v":0},null,{"$f":"IF(ISNUMBER(CSVデータ1!AB206),CSVデータ1!AB206,0)+IF(ISNUMBER(CSVデータ2!AB206),CSVデータ2!AB206,0)+IF(ISNUMBER(CSVデータ3!AB206),CSVデータ3!AB206,0)+IF(ISNUMBER(CSVデータ4!AB206),CSVデータ4!AB206,0)","v":0},null,{"$f":"IF(ISNUMBER(CSVデータ1!AD206),CSVデータ1!AD206,0)+IF(ISNUMBER(CSVデータ2!AD206),CSVデータ2!AD206,0)+IF(ISNUMBER(CSVデータ3!AD206),CSVデータ3!AD206,0)+IF(ISNUMBER(CSVデータ4!AD206),CSVデータ4!AD206,0)","v":0},null,{"$f":"IF(ISNUMBER(CSVデータ1!AF206),CSVデータ1!AF206,0)+IF(ISNUMBER(CSVデータ2!AF206),CSVデータ2!AF206,0)+IF(ISNUMBER(CSVデータ3!AF206),CSVデータ3!AF206,0)+IF(ISNUMBER(CSVデータ4!AF206),CSVデータ4!AF206,0)","v":0},null,{"$f":"IF(ISNUMBER(CSVデータ1!AH206),CSVデータ1!AH206,0)+IF(ISNUMBER(CSVデータ2!AH206),CSVデータ2!AH206,0)+IF(ISNUMBER(CSVデータ3!AH206),CSVデータ3!AH206,0)+IF(ISNUMBER(CSVデータ4!AH206),CSVデータ4!AH206,0)","v":0},null,{"$f":"IF(ISNUMBER(CSVデータ1!AJ206),CSVデータ1!AJ206,0)+IF(ISNUMBER(CSVデータ2!AJ206),CSVデータ2!AJ206,0)+IF(ISNUMBER(CSVデータ3!AJ206),CSVデータ3!AJ206,0)+IF(ISNUMBER(CSVデータ4!AJ206),CSVデータ4!AJ206,0)","v":0},null,{"$f":"IF(ISNUMBER(CSVデータ1!AL206),CSVデータ1!AL206,0)+IF(ISNUMBER(CSVデータ2!AL206),CSVデータ2!AL206,0)+IF(ISNUMBER(CSVデータ3!AL206),CSVデータ3!AL206,0)+IF(ISNUMBER(CSVデータ4!AL206),CSVデータ4!AL206,0)","v":0},null,{"$f":"IF(ISNUMBER(CSVデータ1!AN206),CSVデータ1!AN206,0)+IF(ISNUMBER(CSVデータ2!AN206),CSVデータ2!AN206,0)+IF(ISNUMBER(CSVデータ3!AN206),CSVデータ3!AN206,0)+IF(ISNUMBER(CSVデータ4!AN206),CSVデータ4!AN206,0)","v":0}]
[{"$f":"CSVデータ1!A207","v":"明細部"},{"$f":"CSVデータ1!B207","v":"保険者（地区）"},{"$f":"CSVデータ1!C207","v":68},{"$f":"CSVデータ1!D207","v":"女"},{"$f":"IF(ISNUMBER(CSVデータ1!E207),CSVデータ1!E207,0)+IF(ISNUMBER(CSVデータ2!E207),CSVデータ2!E207,0)+IF(ISNUMBER(CSVデータ3!E207),CSVデータ3!E207,0)+IF(ISNUMBER(CSVデータ4!E207),CSVデータ4!E207,0)","v":0},{"$f":"IF(ISNUMBER(CSVデータ1!F207),CSVデータ1!F207,0)+IF(ISNUMBER(CSVデータ2!F207),CSVデータ2!F207,0)+IF(ISNUMBER(CSVデータ3!F207),CSVデータ3!F207,0)+IF(ISNUMBER(CSVデータ4!F207),CSVデータ4!F207,0)","v":0},null,{"$f":"IF(ISNUMBER(CSVデータ1!H207),CSVデータ1!H207,0)+IF(ISNUMBER(CSVデータ2!H207),CSVデータ2!H207,0)+IF(ISNUMBER(CSVデータ3!H207),CSVデータ3!H207,0)+IF(ISNUMBER(CSVデータ4!H207),CSVデータ4!H207,0)","v":0},null,{"$f":"IF(ISNUMBER(CSVデータ1!J207),CSVデータ1!J207,0)+IF(ISNUMBER(CSVデータ2!J207),CSVデータ2!J207,0)+IF(ISNUMBER(CSVデータ3!J207),CSVデータ3!J207,0)+IF(ISNUMBER(CSVデータ4!J207),CSVデータ4!J207,0)","v":0},null,{"$f":"IF(ISNUMBER(CSVデータ1!L207),CSVデータ1!L207,0)+IF(ISNUMBER(CSVデータ2!L207),CSVデータ2!L207,0)+IF(ISNUMBER(CSVデータ3!L207),CSVデータ3!L207,0)+IF(ISNUMBER(CSVデータ4!L207),CSVデータ4!L207,0)","v":0},null,{"$f":"IF(ISNUMBER(CSVデータ1!N207),CSVデータ1!N207,0)+IF(ISNUMBER(CSVデータ2!N207),CSVデータ2!N207,0)+IF(ISNUMBER(CSVデータ3!N207),CSVデータ3!N207,0)+IF(ISNUMBER(CSVデータ4!N207),CSVデータ4!N207,0)","v":0},null,{"$f":"IF(ISNUMBER(CSVデータ1!P207),CSVデータ1!P207,0)+IF(ISNUMBER(CSVデータ2!P207),CSVデータ2!P207,0)+IF(ISNUMBER(CSVデータ3!P207),CSVデータ3!P207,0)+IF(ISNUMBER(CSVデータ4!P207),CSVデータ4!P207,0)","v":0},null,{"$f":"IF(ISNUMBER(CSVデータ1!R207),CSVデータ1!R207,0)+IF(ISNUMBER(CSVデータ2!R207),CSVデータ2!R207,0)+IF(ISNUMBER(CSVデータ3!R207),CSVデータ3!R207,0)+IF(ISNUMBER(CSVデータ4!R207),CSVデータ4!R207,0)","v":0},null,{"$f":"IF(ISNUMBER(CSVデータ1!T207),CSVデータ1!T207,0)+IF(ISNUMBER(CSVデータ2!T207),CSVデータ2!T207,0)+IF(ISNUMBER(CSVデータ3!T207),CSVデータ3!T207,0)+IF(ISNUMBER(CSVデータ4!T207),CSVデータ4!T207,0)","v":0},null,{"$f":"IF(ISNUMBER(CSVデータ1!V207),CSVデータ1!V207,0)+IF(ISNUMBER(CSVデータ2!V207),CSVデータ2!V207,0)+IF(ISNUMBER(CSVデータ3!V207),CSVデータ3!V207,0)+IF(ISNUMBER(CSVデータ4!V207),CSVデータ4!V207,0)","v":0},null,{"$f":"IF(ISNUMBER(CSVデータ1!X207),CSVデータ1!X207,0)+IF(ISNUMBER(CSVデータ2!X207),CSVデータ2!X207,0)+IF(ISNUMBER(CSVデータ3!X207),CSVデータ3!X207,0)+IF(ISNUMBER(CSVデータ4!X207),CSVデータ4!X207,0)","v":0},null,{"$f":"IF(ISNUMBER(CSVデータ1!Z207),CSVデータ1!Z207,0)+IF(ISNUMBER(CSVデータ2!Z207),CSVデータ2!Z207,0)+IF(ISNUMBER(CSVデータ3!Z207),CSVデータ3!Z207,0)+IF(ISNUMBER(CSVデータ4!Z207),CSVデータ4!Z207,0)","v":0},null,{"$f":"IF(ISNUMBER(CSVデータ1!AB207),CSVデータ1!AB207,0)+IF(ISNUMBER(CSVデータ2!AB207),CSVデータ2!AB207,0)+IF(ISNUMBER(CSVデータ3!AB207),CSVデータ3!AB207,0)+IF(ISNUMBER(CSVデータ4!AB207),CSVデータ4!AB207,0)","v":0},null,{"$f":"IF(ISNUMBER(CSVデータ1!AD207),CSVデータ1!AD207,0)+IF(ISNUMBER(CSVデータ2!AD207),CSVデータ2!AD207,0)+IF(ISNUMBER(CSVデータ3!AD207),CSVデータ3!AD207,0)+IF(ISNUMBER(CSVデータ4!AD207),CSVデータ4!AD207,0)","v":0},null,{"$f":"IF(ISNUMBER(CSVデータ1!AF207),CSVデータ1!AF207,0)+IF(ISNUMBER(CSVデータ2!AF207),CSVデータ2!AF207,0)+IF(ISNUMBER(CSVデータ3!AF207),CSVデータ3!AF207,0)+IF(ISNUMBER(CSVデータ4!AF207),CSVデータ4!AF207,0)","v":0},null,{"$f":"IF(ISNUMBER(CSVデータ1!AH207),CSVデータ1!AH207,0)+IF(ISNUMBER(CSVデータ2!AH207),CSVデータ2!AH207,0)+IF(ISNUMBER(CSVデータ3!AH207),CSVデータ3!AH207,0)+IF(ISNUMBER(CSVデータ4!AH207),CSVデータ4!AH207,0)","v":0},null,{"$f":"IF(ISNUMBER(CSVデータ1!AJ207),CSVデータ1!AJ207,0)+IF(ISNUMBER(CSVデータ2!AJ207),CSVデータ2!AJ207,0)+IF(ISNUMBER(CSVデータ3!AJ207),CSVデータ3!AJ207,0)+IF(ISNUMBER(CSVデータ4!AJ207),CSVデータ4!AJ207,0)","v":0},null,{"$f":"IF(ISNUMBER(CSVデータ1!AL207),CSVデータ1!AL207,0)+IF(ISNUMBER(CSVデータ2!AL207),CSVデータ2!AL207,0)+IF(ISNUMBER(CSVデータ3!AL207),CSVデータ3!AL207,0)+IF(ISNUMBER(CSVデータ4!AL207),CSVデータ4!AL207,0)","v":0},null,{"$f":"IF(ISNUMBER(CSVデータ1!AN207),CSVデータ1!AN207,0)+IF(ISNUMBER(CSVデータ2!AN207),CSVデータ2!AN207,0)+IF(ISNUMBER(CSVデータ3!AN207),CSVデータ3!AN207,0)+IF(ISNUMBER(CSVデータ4!AN207),CSVデータ4!AN207,0)","v":0}]
[{"$f":"CSVデータ1!A208","v":"明細部"},{"$f":"CSVデータ1!B208","v":"保険者（地区）"},{"$f":"CSVデータ1!C208","v":69},{"$f":"CSVデータ1!D208","v":"女"},{"$f":"IF(ISNUMBER(CSVデータ1!E208),CSVデータ1!E208,0)+IF(ISNUMBER(CSVデータ2!E208),CSVデータ2!E208,0)+IF(ISNUMBER(CSVデータ3!E208),CSVデータ3!E208,0)+IF(ISNUMBER(CSVデータ4!E208),CSVデータ4!E208,0)","v":0},{"$f":"IF(ISNUMBER(CSVデータ1!F208),CSVデータ1!F208,0)+IF(ISNUMBER(CSVデータ2!F208),CSVデータ2!F208,0)+IF(ISNUMBER(CSVデータ3!F208),CSVデータ3!F208,0)+IF(ISNUMBER(CSVデータ4!F208),CSVデータ4!F208,0)","v":0},null,{"$f":"IF(ISNUMBER(CSVデータ1!H208),CSVデータ1!H208,0)+IF(ISNUMBER(CSVデータ2!H208),CSVデータ2!H208,0)+IF(ISNUMBER(CSVデータ3!H208),CSVデータ3!H208,0)+IF(ISNUMBER(CSVデータ4!H208),CSVデータ4!H208,0)","v":0},null,{"$f":"IF(ISNUMBER(CSVデータ1!J208),CSVデータ1!J208,0)+IF(ISNUMBER(CSVデータ2!J208),CSVデータ2!J208,0)+IF(ISNUMBER(CSVデータ3!J208),CSVデータ3!J208,0)+IF(ISNUMBER(CSVデータ4!J208),CSVデータ4!J208,0)","v":0},null,{"$f":"IF(ISNUMBER(CSVデータ1!L208),CSVデータ1!L208,0)+IF(ISNUMBER(CSVデータ2!L208),CSVデータ2!L208,0)+IF(ISNUMBER(CSVデータ3!L208),CSVデータ3!L208,0)+IF(ISNUMBER(CSVデータ4!L208),CSVデータ4!L208,0)","v":0},null,{"$f":"IF(ISNUMBER(CSVデータ1!N208),CSVデータ1!N208,0)+IF(ISNUMBER(CSVデータ2!N208),CSVデータ2!N208,0)+IF(ISNUMBER(CSVデータ3!N208),CSVデータ3!N208,0)+IF(ISNUMBER(CSVデータ4!N208),CSVデータ4!N208,0)","v":0},null,{"$f":"IF(ISNUMBER(CSVデータ1!P208),CSVデータ1!P208,0)+IF(ISNUMBER(CSVデータ2!P208),CSVデータ2!P208,0)+IF(ISNUMBER(CSVデータ3!P208),CSVデータ3!P208,0)+IF(ISNUMBER(CSVデータ4!P208),CSVデータ4!P208,0)","v":0},null,{"$f":"IF(ISNUMBER(CSVデータ1!R208),CSVデータ1!R208,0)+IF(ISNUMBER(CSVデータ2!R208),CSVデータ2!R208,0)+IF(ISNUMBER(CSVデータ3!R208),CSVデータ3!R208,0)+IF(ISNUMBER(CSVデータ4!R208),CSVデータ4!R208,0)","v":0},null,{"$f":"IF(ISNUMBER(CSVデータ1!T208),CSVデータ1!T208,0)+IF(ISNUMBER(CSVデータ2!T208),CSVデータ2!T208,0)+IF(ISNUMBER(CSVデータ3!T208),CSVデータ3!T208,0)+IF(ISNUMBER(CSVデータ4!T208),CSVデータ4!T208,0)","v":0},null,{"$f":"IF(ISNUMBER(CSVデータ1!V208),CSVデータ1!V208,0)+IF(ISNUMBER(CSVデータ2!V208),CSVデータ2!V208,0)+IF(ISNUMBER(CSVデータ3!V208),CSVデータ3!V208,0)+IF(ISNUMBER(CSVデータ4!V208),CSVデータ4!V208,0)","v":0},null,{"$f":"IF(ISNUMBER(CSVデータ1!X208),CSVデータ1!X208,0)+IF(ISNUMBER(CSVデータ2!X208),CSVデータ2!X208,0)+IF(ISNUMBER(CSVデータ3!X208),CSVデータ3!X208,0)+IF(ISNUMBER(CSVデータ4!X208),CSVデータ4!X208,0)","v":0},null,{"$f":"IF(ISNUMBER(CSVデータ1!Z208),CSVデータ1!Z208,0)+IF(ISNUMBER(CSVデータ2!Z208),CSVデータ2!Z208,0)+IF(ISNUMBER(CSVデータ3!Z208),CSVデータ3!Z208,0)+IF(ISNUMBER(CSVデータ4!Z208),CSVデータ4!Z208,0)","v":0},null,{"$f":"IF(ISNUMBER(CSVデータ1!AB208),CSVデータ1!AB208,0)+IF(ISNUMBER(CSVデータ2!AB208),CSVデータ2!AB208,0)+IF(ISNUMBER(CSVデータ3!AB208),CSVデータ3!AB208,0)+IF(ISNUMBER(CSVデータ4!AB208),CSVデータ4!AB208,0)","v":0},null,{"$f":"IF(ISNUMBER(CSVデータ1!AD208),CSVデータ1!AD208,0)+IF(ISNUMBER(CSVデータ2!AD208),CSVデータ2!AD208,0)+IF(ISNUMBER(CSVデータ3!AD208),CSVデータ3!AD208,0)+IF(ISNUMBER(CSVデータ4!AD208),CSVデータ4!AD208,0)","v":0},null,{"$f":"IF(ISNUMBER(CSVデータ1!AF208),CSVデータ1!AF208,0)+IF(ISNUMBER(CSVデータ2!AF208),CSVデータ2!AF208,0)+IF(ISNUMBER(CSVデータ3!AF208),CSVデータ3!AF208,0)+IF(ISNUMBER(CSVデータ4!AF208),CSVデータ4!AF208,0)","v":0},null,{"$f":"IF(ISNUMBER(CSVデータ1!AH208),CSVデータ1!AH208,0)+IF(ISNUMBER(CSVデータ2!AH208),CSVデータ2!AH208,0)+IF(ISNUMBER(CSVデータ3!AH208),CSVデータ3!AH208,0)+IF(ISNUMBER(CSVデータ4!AH208),CSVデータ4!AH208,0)","v":0},null,{"$f":"IF(ISNUMBER(CSVデータ1!AJ208),CSVデータ1!AJ208,0)+IF(ISNUMBER(CSVデータ2!AJ208),CSVデータ2!AJ208,0)+IF(ISNUMBER(CSVデータ3!AJ208),CSVデータ3!AJ208,0)+IF(ISNUMBER(CSVデータ4!AJ208),CSVデータ4!AJ208,0)","v":0},null,{"$f":"IF(ISNUMBER(CSVデータ1!AL208),CSVデータ1!AL208,0)+IF(ISNUMBER(CSVデータ2!AL208),CSVデータ2!AL208,0)+IF(ISNUMBER(CSVデータ3!AL208),CSVデータ3!AL208,0)+IF(ISNUMBER(CSVデータ4!AL208),CSVデータ4!AL208,0)","v":0},null,{"$f":"IF(ISNUMBER(CSVデータ1!AN208),CSVデータ1!AN208,0)+IF(ISNUMBER(CSVデータ2!AN208),CSVデータ2!AN208,0)+IF(ISNUMBER(CSVデータ3!AN208),CSVデータ3!AN208,0)+IF(ISNUMBER(CSVデータ4!AN208),CSVデータ4!AN208,0)","v":0}]
[{"$f":"CSVデータ1!A209","v":"明細部"},{"$f":"CSVデータ1!B209","v":"保険者（地区）"},{"$f":"CSVデータ1!C209","v":70},{"$f":"CSVデータ1!D209","v":"女"},{"$f":"IF(ISNUMBER(CSVデータ1!E209),CSVデータ1!E209,0)+IF(ISNUMBER(CSVデータ2!E209),CSVデータ2!E209,0)+IF(ISNUMBER(CSVデータ3!E209),CSVデータ3!E209,0)+IF(ISNUMBER(CSVデータ4!E209),CSVデータ4!E209,0)","v":0},{"$f":"IF(ISNUMBER(CSVデータ1!F209),CSVデータ1!F209,0)+IF(ISNUMBER(CSVデータ2!F209),CSVデータ2!F209,0)+IF(ISNUMBER(CSVデータ3!F209),CSVデータ3!F209,0)+IF(ISNUMBER(CSVデータ4!F209),CSVデータ4!F209,0)","v":0},null,{"$f":"IF(ISNUMBER(CSVデータ1!H209),CSVデータ1!H209,0)+IF(ISNUMBER(CSVデータ2!H209),CSVデータ2!H209,0)+IF(ISNUMBER(CSVデータ3!H209),CSVデータ3!H209,0)+IF(ISNUMBER(CSVデータ4!H209),CSVデータ4!H209,0)","v":0},null,{"$f":"IF(ISNUMBER(CSVデータ1!J209),CSVデータ1!J209,0)+IF(ISNUMBER(CSVデータ2!J209),CSVデータ2!J209,0)+IF(ISNUMBER(CSVデータ3!J209),CSVデータ3!J209,0)+IF(ISNUMBER(CSVデータ4!J209),CSVデータ4!J209,0)","v":0},null,{"$f":"IF(ISNUMBER(CSVデータ1!L209),CSVデータ1!L209,0)+IF(ISNUMBER(CSVデータ2!L209),CSVデータ2!L209,0)+IF(ISNUMBER(CSVデータ3!L209),CSVデータ3!L209,0)+IF(ISNUMBER(CSVデータ4!L209),CSVデータ4!L209,0)","v":0},null,{"$f":"IF(ISNUMBER(CSVデータ1!N209),CSVデータ1!N209,0)+IF(ISNUMBER(CSVデータ2!N209),CSVデータ2!N209,0)+IF(ISNUMBER(CSVデータ3!N209),CSVデータ3!N209,0)+IF(ISNUMBER(CSVデータ4!N209),CSVデータ4!N209,0)","v":0},null,{"$f":"IF(ISNUMBER(CSVデータ1!P209),CSVデータ1!P209,0)+IF(ISNUMBER(CSVデータ2!P209),CSVデータ2!P209,0)+IF(ISNUMBER(CSVデータ3!P209),CSVデータ3!P209,0)+IF(ISNUMBER(CSVデータ4!P209),CSVデータ4!P209,0)","v":0},null,{"$f":"IF(ISNUMBER(CSVデータ1!R209),CSVデータ1!R209,0)+IF(ISNUMBER(CSVデータ2!R209),CSVデータ2!R209,0)+IF(ISNUMBER(CSVデータ3!R209),CSVデータ3!R209,0)+IF(ISNUMBER(CSVデータ4!R209),CSVデータ4!R209,0)","v":0},null,{"$f":"IF(ISNUMBER(CSVデータ1!T209),CSVデータ1!T209,0)+IF(ISNUMBER(CSVデータ2!T209),CSVデータ2!T209,0)+IF(ISNUMBER(CSVデータ3!T209),CSVデータ3!T209,0)+IF(ISNUMBER(CSVデータ4!T209),CSVデータ4!T209,0)","v":0},null,{"$f":"IF(ISNUMBER(CSVデータ1!V209),CSVデータ1!V209,0)+IF(ISNUMBER(CSVデータ2!V209),CSVデータ2!V209,0)+IF(ISNUMBER(CSVデータ3!V209),CSVデータ3!V209,0)+IF(ISNUMBER(CSVデータ4!V209),CSVデータ4!V209,0)","v":0},null,{"$f":"IF(ISNUMBER(CSVデータ1!X209),CSVデータ1!X209,0)+IF(ISNUMBER(CSVデータ2!X209),CSVデータ2!X209,0)+IF(ISNUMBER(CSVデータ3!X209),CSVデータ3!X209,0)+IF(ISNUMBER(CSVデータ4!X209),CSVデータ4!X209,0)","v":0},null,{"$f":"IF(ISNUMBER(CSVデータ1!Z209),CSVデータ1!Z209,0)+IF(ISNUMBER(CSVデータ2!Z209),CSVデータ2!Z209,0)+IF(ISNUMBER(CSVデータ3!Z209),CSVデータ3!Z209,0)+IF(ISNUMBER(CSVデータ4!Z209),CSVデータ4!Z209,0)","v":0},null,{"$f":"IF(ISNUMBER(CSVデータ1!AB209),CSVデータ1!AB209,0)+IF(ISNUMBER(CSVデータ2!AB209),CSVデータ2!AB209,0)+IF(ISNUMBER(CSVデータ3!AB209),CSVデータ3!AB209,0)+IF(ISNUMBER(CSVデータ4!AB209),CSVデータ4!AB209,0)","v":0},null,{"$f":"IF(ISNUMBER(CSVデータ1!AD209),CSVデータ1!AD209,0)+IF(ISNUMBER(CSVデータ2!AD209),CSVデータ2!AD209,0)+IF(ISNUMBER(CSVデータ3!AD209),CSVデータ3!AD209,0)+IF(ISNUMBER(CSVデータ4!AD209),CSVデータ4!AD209,0)","v":0},null,{"$f":"IF(ISNUMBER(CSVデータ1!AF209),CSVデータ1!AF209,0)+IF(ISNUMBER(CSVデータ2!AF209),CSVデータ2!AF209,0)+IF(ISNUMBER(CSVデータ3!AF209),CSVデータ3!AF209,0)+IF(ISNUMBER(CSVデータ4!AF209),CSVデータ4!AF209,0)","v":0},null,{"$f":"IF(ISNUMBER(CSVデータ1!AH209),CSVデータ1!AH209,0)+IF(ISNUMBER(CSVデータ2!AH209),CSVデータ2!AH209,0)+IF(ISNUMBER(CSVデータ3!AH209),CSVデータ3!AH209,0)+IF(ISNUMBER(CSVデータ4!AH209),CSVデータ4!AH209,0)","v":0},null,{"$f":"IF(ISNUMBER(CSVデータ1!AJ209),CSVデータ1!AJ209,0)+IF(ISNUMBER(CSVデータ2!AJ209),CSVデータ2!AJ209,0)+IF(ISNUMBER(CSVデータ3!AJ209),CSVデータ3!AJ209,0)+IF(ISNUMBER(CSVデータ4!AJ209),CSVデータ4!AJ209,0)","v":0},null,{"$f":"IF(ISNUMBER(CSVデータ1!AL209),CSVデータ1!AL209,0)+IF(ISNUMBER(CSVデータ2!AL209),CSVデータ2!AL209,0)+IF(ISNUMBER(CSVデータ3!AL209),CSVデータ3!AL209,0)+IF(ISNUMBER(CSVデータ4!AL209),CSVデータ4!AL209,0)","v":0},null,{"$f":"IF(ISNUMBER(CSVデータ1!AN209),CSVデータ1!AN209,0)+IF(ISNUMBER(CSVデータ2!AN209),CSVデータ2!AN209,0)+IF(ISNUMBER(CSVデータ3!AN209),CSVデータ3!AN209,0)+IF(ISNUMBER(CSVデータ4!AN209),CSVデータ4!AN209,0)","v":0}]
[{"$f":"CSVデータ1!A210","v":"明細部"},{"$f":"CSVデータ1!B210","v":"保険者（地区）"},{"$f":"CSVデータ1!C210","v":71},{"$f":"CSVデータ1!D210","v":"女"},{"$f":"IF(ISNUMBER(CSVデータ1!E210),CSVデータ1!E210,0)+IF(ISNUMBER(CSVデータ2!E210),CSVデータ2!E210,0)+IF(ISNUMBER(CSVデータ3!E210),CSVデータ3!E210,0)+IF(ISNUMBER(CSVデータ4!E210),CSVデータ4!E210,0)","v":0},{"$f":"IF(ISNUMBER(CSVデータ1!F210),CSVデータ1!F210,0)+IF(ISNUMBER(CSVデータ2!F210),CSVデータ2!F210,0)+IF(ISNUMBER(CSVデータ3!F210),CSVデータ3!F210,0)+IF(ISNUMBER(CSVデータ4!F210),CSVデータ4!F210,0)","v":0},null,{"$f":"IF(ISNUMBER(CSVデータ1!H210),CSVデータ1!H210,0)+IF(ISNUMBER(CSVデータ2!H210),CSVデータ2!H210,0)+IF(ISNUMBER(CSVデータ3!H210),CSVデータ3!H210,0)+IF(ISNUMBER(CSVデータ4!H210),CSVデータ4!H210,0)","v":0},null,{"$f":"IF(ISNUMBER(CSVデータ1!J210),CSVデータ1!J210,0)+IF(ISNUMBER(CSVデータ2!J210),CSVデータ2!J210,0)+IF(ISNUMBER(CSVデータ3!J210),CSVデータ3!J210,0)+IF(ISNUMBER(CSVデータ4!J210),CSVデータ4!J210,0)","v":0},null,{"$f":"IF(ISNUMBER(CSVデータ1!L210),CSVデータ1!L210,0)+IF(ISNUMBER(CSVデータ2!L210),CSVデータ2!L210,0)+IF(ISNUMBER(CSVデータ3!L210),CSVデータ3!L210,0)+IF(ISNUMBER(CSVデータ4!L210),CSVデータ4!L210,0)","v":0},null,{"$f":"IF(ISNUMBER(CSVデータ1!N210),CSVデータ1!N210,0)+IF(ISNUMBER(CSVデータ2!N210),CSVデータ2!N210,0)+IF(ISNUMBER(CSVデータ3!N210),CSVデータ3!N210,0)+IF(ISNUMBER(CSVデータ4!N210),CSVデータ4!N210,0)","v":0},null,{"$f":"IF(ISNUMBER(CSVデータ1!P210),CSVデータ1!P210,0)+IF(ISNUMBER(CSVデータ2!P210),CSVデータ2!P210,0)+IF(ISNUMBER(CSVデータ3!P210),CSVデータ3!P210,0)+IF(ISNUMBER(CSVデータ4!P210),CSVデータ4!P210,0)","v":0},null,{"$f":"IF(ISNUMBER(CSVデータ1!R210),CSVデータ1!R210,0)+IF(ISNUMBER(CSVデータ2!R210),CSVデータ2!R210,0)+IF(ISNUMBER(CSVデータ3!R210),CSVデータ3!R210,0)+IF(ISNUMBER(CSVデータ4!R210),CSVデータ4!R210,0)","v":0},null,{"$f":"IF(ISNUMBER(CSVデータ1!T210),CSVデータ1!T210,0)+IF(ISNUMBER(CSVデータ2!T210),CSVデータ2!T210,0)+IF(ISNUMBER(CSVデータ3!T210),CSVデータ3!T210,0)+IF(ISNUMBER(CSVデータ4!T210),CSVデータ4!T210,0)","v":0},null,{"$f":"IF(ISNUMBER(CSVデータ1!V210),CSVデータ1!V210,0)+IF(ISNUMBER(CSVデータ2!V210),CSVデータ2!V210,0)+IF(ISNUMBER(CSVデータ3!V210),CSVデータ3!V210,0)+IF(ISNUMBER(CSVデータ4!V210),CSVデータ4!V210,0)","v":0},null,{"$f":"IF(ISNUMBER(CSVデータ1!X210),CSVデータ1!X210,0)+IF(ISNUMBER(CSVデータ2!X210),CSVデータ2!X210,0)+IF(ISNUMBER(CSVデータ3!X210),CSVデータ3!X210,0)+IF(ISNUMBER(CSVデータ4!X210),CSVデータ4!X210,0)","v":0},null,{"$f":"IF(ISNUMBER(CSVデータ1!Z210),CSVデータ1!Z210,0)+IF(ISNUMBER(CSVデータ2!Z210),CSVデータ2!Z210,0)+IF(ISNUMBER(CSVデータ3!Z210),CSVデータ3!Z210,0)+IF(ISNUMBER(CSVデータ4!Z210),CSVデータ4!Z210,0)","v":0},null,{"$f":"IF(ISNUMBER(CSVデータ1!AB210),CSVデータ1!AB210,0)+IF(ISNUMBER(CSVデータ2!AB210),CSVデータ2!AB210,0)+IF(ISNUMBER(CSVデータ3!AB210),CSVデータ3!AB210,0)+IF(ISNUMBER(CSVデータ4!AB210),CSVデータ4!AB210,0)","v":0},null,{"$f":"IF(ISNUMBER(CSVデータ1!AD210),CSVデータ1!AD210,0)+IF(ISNUMBER(CSVデータ2!AD210),CSVデータ2!AD210,0)+IF(ISNUMBER(CSVデータ3!AD210),CSVデータ3!AD210,0)+IF(ISNUMBER(CSVデータ4!AD210),CSVデータ4!AD210,0)","v":0},null,{"$f":"IF(ISNUMBER(CSVデータ1!AF210),CSVデータ1!AF210,0)+IF(ISNUMBER(CSVデータ2!AF210),CSVデータ2!AF210,0)+IF(ISNUMBER(CSVデータ3!AF210),CSVデータ3!AF210,0)+IF(ISNUMBER(CSVデータ4!AF210),CSVデータ4!AF210,0)","v":0},null,{"$f":"IF(ISNUMBER(CSVデータ1!AH210),CSVデータ1!AH210,0)+IF(ISNUMBER(CSVデータ2!AH210),CSVデータ2!AH210,0)+IF(ISNUMBER(CSVデータ3!AH210),CSVデータ3!AH210,0)+IF(ISNUMBER(CSVデータ4!AH210),CSVデータ4!AH210,0)","v":0},null,{"$f":"IF(ISNUMBER(CSVデータ1!AJ210),CSVデータ1!AJ210,0)+IF(ISNUMBER(CSVデータ2!AJ210),CSVデータ2!AJ210,0)+IF(ISNUMBER(CSVデータ3!AJ210),CSVデータ3!AJ210,0)+IF(ISNUMBER(CSVデータ4!AJ210),CSVデータ4!AJ210,0)","v":0},null,{"$f":"IF(ISNUMBER(CSVデータ1!AL210),CSVデータ1!AL210,0)+IF(ISNUMBER(CSVデータ2!AL210),CSVデータ2!AL210,0)+IF(ISNUMBER(CSVデータ3!AL210),CSVデータ3!AL210,0)+IF(ISNUMBER(CSVデータ4!AL210),CSVデータ4!AL210,0)","v":0},null,{"$f":"IF(ISNUMBER(CSVデータ1!AN210),CSVデータ1!AN210,0)+IF(ISNUMBER(CSVデータ2!AN210),CSVデータ2!AN210,0)+IF(ISNUMBER(CSVデータ3!AN210),CSVデータ3!AN210,0)+IF(ISNUMBER(CSVデータ4!AN210),CSVデータ4!AN210,0)","v":0}]
[{"$f":"CSVデータ1!A211","v":"明細部"},{"$f":"CSVデータ1!B211","v":"保険者（地区）"},{"$f":"CSVデータ1!C211","v":72},{"$f":"CSVデータ1!D211","v":"女"},{"$f":"IF(ISNUMBER(CSVデータ1!E211),CSVデータ1!E211,0)+IF(ISNUMBER(CSVデータ2!E211),CSVデータ2!E211,0)+IF(ISNUMBER(CSVデータ3!E211),CSVデータ3!E211,0)+IF(ISNUMBER(CSVデータ4!E211),CSVデータ4!E211,0)","v":0},{"$f":"IF(ISNUMBER(CSVデータ1!F211),CSVデータ1!F211,0)+IF(ISNUMBER(CSVデータ2!F211),CSVデータ2!F211,0)+IF(ISNUMBER(CSVデータ3!F211),CSVデータ3!F211,0)+IF(ISNUMBER(CSVデータ4!F211),CSVデータ4!F211,0)","v":0},null,{"$f":"IF(ISNUMBER(CSVデータ1!H211),CSVデータ1!H211,0)+IF(ISNUMBER(CSVデータ2!H211),CSVデータ2!H211,0)+IF(ISNUMBER(CSVデータ3!H211),CSVデータ3!H211,0)+IF(ISNUMBER(CSVデータ4!H211),CSVデータ4!H211,0)","v":0},null,{"$f":"IF(ISNUMBER(CSVデータ1!J211),CSVデータ1!J211,0)+IF(ISNUMBER(CSVデータ2!J211),CSVデータ2!J211,0)+IF(ISNUMBER(CSVデータ3!J211),CSVデータ3!J211,0)+IF(ISNUMBER(CSVデータ4!J211),CSVデータ4!J211,0)","v":0},null,{"$f":"IF(ISNUMBER(CSVデータ1!L211),CSVデータ1!L211,0)+IF(ISNUMBER(CSVデータ2!L211),CSVデータ2!L211,0)+IF(ISNUMBER(CSVデータ3!L211),CSVデータ3!L211,0)+IF(ISNUMBER(CSVデータ4!L211),CSVデータ4!L211,0)","v":0},null,{"$f":"IF(ISNUMBER(CSVデータ1!N211),CSVデータ1!N211,0)+IF(ISNUMBER(CSVデータ2!N211),CSVデータ2!N211,0)+IF(ISNUMBER(CSVデータ3!N211),CSVデータ3!N211,0)+IF(ISNUMBER(CSVデータ4!N211),CSVデータ4!N211,0)","v":0},null,{"$f":"IF(ISNUMBER(CSVデータ1!P211),CSVデータ1!P211,0)+IF(ISNUMBER(CSVデータ2!P211),CSVデータ2!P211,0)+IF(ISNUMBER(CSVデータ3!P211),CSVデータ3!P211,0)+IF(ISNUMBER(CSVデータ4!P211),CSVデータ4!P211,0)","v":0},null,{"$f":"IF(ISNUMBER(CSVデータ1!R211),CSVデータ1!R211,0)+IF(ISNUMBER(CSVデータ2!R211),CSVデータ2!R211,0)+IF(ISNUMBER(CSVデータ3!R211),CSVデータ3!R211,0)+IF(ISNUMBER(CSVデータ4!R211),CSVデータ4!R211,0)","v":0},null,{"$f":"IF(ISNUMBER(CSVデータ1!T211),CSVデータ1!T211,0)+IF(ISNUMBER(CSVデータ2!T211),CSVデータ2!T211,0)+IF(ISNUMBER(CSVデータ3!T211),CSVデータ3!T211,0)+IF(ISNUMBER(CSVデータ4!T211),CSVデータ4!T211,0)","v":0},null,{"$f":"IF(ISNUMBER(CSVデータ1!V211),CSVデータ1!V211,0)+IF(ISNUMBER(CSVデータ2!V211),CSVデータ2!V211,0)+IF(ISNUMBER(CSVデータ3!V211),CSVデータ3!V211,0)+IF(ISNUMBER(CSVデータ4!V211),CSVデータ4!V211,0)","v":0},null,{"$f":"IF(ISNUMBER(CSVデータ1!X211),CSVデータ1!X211,0)+IF(ISNUMBER(CSVデータ2!X211),CSVデータ2!X211,0)+IF(ISNUMBER(CSVデータ3!X211),CSVデータ3!X211,0)+IF(ISNUMBER(CSVデータ4!X211),CSVデータ4!X211,0)","v":0},null,{"$f":"IF(ISNUMBER(CSVデータ1!Z211),CSVデータ1!Z211,0)+IF(ISNUMBER(CSVデータ2!Z211),CSVデータ2!Z211,0)+IF(ISNUMBER(CSVデータ3!Z211),CSVデータ3!Z211,0)+IF(ISNUMBER(CSVデータ4!Z211),CSVデータ4!Z211,0)","v":0},null,{"$f":"IF(ISNUMBER(CSVデータ1!AB211),CSVデータ1!AB211,0)+IF(ISNUMBER(CSVデータ2!AB211),CSVデータ2!AB211,0)+IF(ISNUMBER(CSVデータ3!AB211),CSVデータ3!AB211,0)+IF(ISNUMBER(CSVデータ4!AB211),CSVデータ4!AB211,0)","v":0},null,{"$f":"IF(ISNUMBER(CSVデータ1!AD211),CSVデータ1!AD211,0)+IF(ISNUMBER(CSVデータ2!AD211),CSVデータ2!AD211,0)+IF(ISNUMBER(CSVデータ3!AD211),CSVデータ3!AD211,0)+IF(ISNUMBER(CSVデータ4!AD211),CSVデータ4!AD211,0)","v":0},null,{"$f":"IF(ISNUMBER(CSVデータ1!AF211),CSVデータ1!AF211,0)+IF(ISNUMBER(CSVデータ2!AF211),CSVデータ2!AF211,0)+IF(ISNUMBER(CSVデータ3!AF211),CSVデータ3!AF211,0)+IF(ISNUMBER(CSVデータ4!AF211),CSVデータ4!AF211,0)","v":0},null,{"$f":"IF(ISNUMBER(CSVデータ1!AH211),CSVデータ1!AH211,0)+IF(ISNUMBER(CSVデータ2!AH211),CSVデータ2!AH211,0)+IF(ISNUMBER(CSVデータ3!AH211),CSVデータ3!AH211,0)+IF(ISNUMBER(CSVデータ4!AH211),CSVデータ4!AH211,0)","v":0},null,{"$f":"IF(ISNUMBER(CSVデータ1!AJ211),CSVデータ1!AJ211,0)+IF(ISNUMBER(CSVデータ2!AJ211),CSVデータ2!AJ211,0)+IF(ISNUMBER(CSVデータ3!AJ211),CSVデータ3!AJ211,0)+IF(ISNUMBER(CSVデータ4!AJ211),CSVデータ4!AJ211,0)","v":0},null,{"$f":"IF(ISNUMBER(CSVデータ1!AL211),CSVデータ1!AL211,0)+IF(ISNUMBER(CSVデータ2!AL211),CSVデータ2!AL211,0)+IF(ISNUMBER(CSVデータ3!AL211),CSVデータ3!AL211,0)+IF(ISNUMBER(CSVデータ4!AL211),CSVデータ4!AL211,0)","v":0},null,{"$f":"IF(ISNUMBER(CSVデータ1!AN211),CSVデータ1!AN211,0)+IF(ISNUMBER(CSVデータ2!AN211),CSVデータ2!AN211,0)+IF(ISNUMBER(CSVデータ3!AN211),CSVデータ3!AN211,0)+IF(ISNUMBER(CSVデータ4!AN211),CSVデータ4!AN211,0)","v":0}]
[{"$f":"CSVデータ1!A212","v":"明細部"},{"$f":"CSVデータ1!B212","v":"保険者（地区）"},{"$f":"CSVデータ1!C212","v":73},{"$f":"CSVデータ1!D212","v":"女"},{"$f":"IF(ISNUMBER(CSVデータ1!E212),CSVデータ1!E212,0)+IF(ISNUMBER(CSVデータ2!E212),CSVデータ2!E212,0)+IF(ISNUMBER(CSVデータ3!E212),CSVデータ3!E212,0)+IF(ISNUMBER(CSVデータ4!E212),CSVデータ4!E212,0)","v":0},{"$f":"IF(ISNUMBER(CSVデータ1!F212),CSVデータ1!F212,0)+IF(ISNUMBER(CSVデータ2!F212),CSVデータ2!F212,0)+IF(ISNUMBER(CSVデータ3!F212),CSVデータ3!F212,0)+IF(ISNUMBER(CSVデータ4!F212),CSVデータ4!F212,0)","v":0},null,{"$f":"IF(ISNUMBER(CSVデータ1!H212),CSVデータ1!H212,0)+IF(ISNUMBER(CSVデータ2!H212),CSVデータ2!H212,0)+IF(ISNUMBER(CSVデータ3!H212),CSVデータ3!H212,0)+IF(ISNUMBER(CSVデータ4!H212),CSVデータ4!H212,0)","v":0},null,{"$f":"IF(ISNUMBER(CSVデータ1!J212),CSVデータ1!J212,0)+IF(ISNUMBER(CSVデータ2!J212),CSVデータ2!J212,0)+IF(ISNUMBER(CSVデータ3!J212),CSVデータ3!J212,0)+IF(ISNUMBER(CSVデータ4!J212),CSVデータ4!J212,0)","v":0},null,{"$f":"IF(ISNUMBER(CSVデータ1!L212),CSVデータ1!L212,0)+IF(ISNUMBER(CSVデータ2!L212),CSVデータ2!L212,0)+IF(ISNUMBER(CSVデータ3!L212),CSVデータ3!L212,0)+IF(ISNUMBER(CSVデータ4!L212),CSVデータ4!L212,0)","v":0},null,{"$f":"IF(ISNUMBER(CSVデータ1!N212),CSVデータ1!N212,0)+IF(ISNUMBER(CSVデータ2!N212),CSVデータ2!N212,0)+IF(ISNUMBER(CSVデータ3!N212),CSVデータ3!N212,0)+IF(ISNUMBER(CSVデータ4!N212),CSVデータ4!N212,0)","v":0},null,{"$f":"IF(ISNUMBER(CSVデータ1!P212),CSVデータ1!P212,0)+IF(ISNUMBER(CSVデータ2!P212),CSVデータ2!P212,0)+IF(ISNUMBER(CSVデータ3!P212),CSVデータ3!P212,0)+IF(ISNUMBER(CSVデータ4!P212),CSVデータ4!P212,0)","v":0},null,{"$f":"IF(ISNUMBER(CSVデータ1!R212),CSVデータ1!R212,0)+IF(ISNUMBER(CSVデータ2!R212),CSVデータ2!R212,0)+IF(ISNUMBER(CSVデータ3!R212),CSVデータ3!R212,0)+IF(ISNUMBER(CSVデータ4!R212),CSVデータ4!R212,0)","v":0},null,{"$f":"IF(ISNUMBER(CSVデータ1!T212),CSVデータ1!T212,0)+IF(ISNUMBER(CSVデータ2!T212),CSVデータ2!T212,0)+IF(ISNUMBER(CSVデータ3!T212),CSVデータ3!T212,0)+IF(ISNUMBER(CSVデータ4!T212),CSVデータ4!T212,0)","v":0},null,{"$f":"IF(ISNUMBER(CSVデータ1!V212),CSVデータ1!V212,0)+IF(ISNUMBER(CSVデータ2!V212),CSVデータ2!V212,0)+IF(ISNUMBER(CSVデータ3!V212),CSVデータ3!V212,0)+IF(ISNUMBER(CSVデータ4!V212),CSVデータ4!V212,0)","v":0},null,{"$f":"IF(ISNUMBER(CSVデータ1!X212),CSVデータ1!X212,0)+IF(ISNUMBER(CSVデータ2!X212),CSVデータ2!X212,0)+IF(ISNUMBER(CSVデータ3!X212),CSVデータ3!X212,0)+IF(ISNUMBER(CSVデータ4!X212),CSVデータ4!X212,0)","v":0},null,{"$f":"IF(ISNUMBER(CSVデータ1!Z212),CSVデータ1!Z212,0)+IF(ISNUMBER(CSVデータ2!Z212),CSVデータ2!Z212,0)+IF(ISNUMBER(CSVデータ3!Z212),CSVデータ3!Z212,0)+IF(ISNUMBER(CSVデータ4!Z212),CSVデータ4!Z212,0)","v":0},null,{"$f":"IF(ISNUMBER(CSVデータ1!AB212),CSVデータ1!AB212,0)+IF(ISNUMBER(CSVデータ2!AB212),CSVデータ2!AB212,0)+IF(ISNUMBER(CSVデータ3!AB212),CSVデータ3!AB212,0)+IF(ISNUMBER(CSVデータ4!AB212),CSVデータ4!AB212,0)","v":0},null,{"$f":"IF(ISNUMBER(CSVデータ1!AD212),CSVデータ1!AD212,0)+IF(ISNUMBER(CSVデータ2!AD212),CSVデータ2!AD212,0)+IF(ISNUMBER(CSVデータ3!AD212),CSVデータ3!AD212,0)+IF(ISNUMBER(CSVデータ4!AD212),CSVデータ4!AD212,0)","v":0},null,{"$f":"IF(ISNUMBER(CSVデータ1!AF212),CSVデータ1!AF212,0)+IF(ISNUMBER(CSVデータ2!AF212),CSVデータ2!AF212,0)+IF(ISNUMBER(CSVデータ3!AF212),CSVデータ3!AF212,0)+IF(ISNUMBER(CSVデータ4!AF212),CSVデータ4!AF212,0)","v":0},null,{"$f":"IF(ISNUMBER(CSVデータ1!AH212),CSVデータ1!AH212,0)+IF(ISNUMBER(CSVデータ2!AH212),CSVデータ2!AH212,0)+IF(ISNUMBER(CSVデータ3!AH212),CSVデータ3!AH212,0)+IF(ISNUMBER(CSVデータ4!AH212),CSVデータ4!AH212,0)","v":0},null,{"$f":"IF(ISNUMBER(CSVデータ1!AJ212),CSVデータ1!AJ212,0)+IF(ISNUMBER(CSVデータ2!AJ212),CSVデータ2!AJ212,0)+IF(ISNUMBER(CSVデータ3!AJ212),CSVデータ3!AJ212,0)+IF(ISNUMBER(CSVデータ4!AJ212),CSVデータ4!AJ212,0)","v":0},null,{"$f":"IF(ISNUMBER(CSVデータ1!AL212),CSVデータ1!AL212,0)+IF(ISNUMBER(CSVデータ2!AL212),CSVデータ2!AL212,0)+IF(ISNUMBER(CSVデータ3!AL212),CSVデータ3!AL212,0)+IF(ISNUMBER(CSVデータ4!AL212),CSVデータ4!AL212,0)","v":0},null,{"$f":"IF(ISNUMBER(CSVデータ1!AN212),CSVデータ1!AN212,0)+IF(ISNUMBER(CSVデータ2!AN212),CSVデータ2!AN212,0)+IF(ISNUMBER(CSVデータ3!AN212),CSVデータ3!AN212,0)+IF(ISNUMBER(CSVデータ4!AN212),CSVデータ4!AN212,0)","v":0}]
[{"$f":"CSVデータ1!A213","v":"明細部"},{"$f":"CSVデータ1!B213","v":"保険者（地区）"},{"$f":"CSVデータ1!C213","v":74},{"$f":"CSVデータ1!D213","v":"女"},{"$f":"IF(ISNUMBER(CSVデータ1!E213),CSVデータ1!E213,0)+IF(ISNUMBER(CSVデータ2!E213),CSVデータ2!E213,0)+IF(ISNUMBER(CSVデータ3!E213),CSVデータ3!E213,0)+IF(ISNUMBER(CSVデータ4!E213),CSVデータ4!E213,0)","v":0},{"$f":"IF(ISNUMBER(CSVデータ1!F213),CSVデータ1!F213,0)+IF(ISNUMBER(CSVデータ2!F213),CSVデータ2!F213,0)+IF(ISNUMBER(CSVデータ3!F213),CSVデータ3!F213,0)+IF(ISNUMBER(CSVデータ4!F213),CSVデータ4!F213,0)","v":0},null,{"$f":"IF(ISNUMBER(CSVデータ1!H213),CSVデータ1!H213,0)+IF(ISNUMBER(CSVデータ2!H213),CSVデータ2!H213,0)+IF(ISNUMBER(CSVデータ3!H213),CSVデータ3!H213,0)+IF(ISNUMBER(CSVデータ4!H213),CSVデータ4!H213,0)","v":0},null,{"$f":"IF(ISNUMBER(CSVデータ1!J213),CSVデータ1!J213,0)+IF(ISNUMBER(CSVデータ2!J213),CSVデータ2!J213,0)+IF(ISNUMBER(CSVデータ3!J213),CSVデータ3!J213,0)+IF(ISNUMBER(CSVデータ4!J213),CSVデータ4!J213,0)","v":0},null,{"$f":"IF(ISNUMBER(CSVデータ1!L213),CSVデータ1!L213,0)+IF(ISNUMBER(CSVデータ2!L213),CSVデータ2!L213,0)+IF(ISNUMBER(CSVデータ3!L213),CSVデータ3!L213,0)+IF(ISNUMBER(CSVデータ4!L213),CSVデータ4!L213,0)","v":0},null,{"$f":"IF(ISNUMBER(CSVデータ1!N213),CSVデータ1!N213,0)+IF(ISNUMBER(CSVデータ2!N213),CSVデータ2!N213,0)+IF(ISNUMBER(CSVデータ3!N213),CSVデータ3!N213,0)+IF(ISNUMBER(CSVデータ4!N213),CSVデータ4!N213,0)","v":0},null,{"$f":"IF(ISNUMBER(CSVデータ1!P213),CSVデータ1!P213,0)+IF(ISNUMBER(CSVデータ2!P213),CSVデータ2!P213,0)+IF(ISNUMBER(CSVデータ3!P213),CSVデータ3!P213,0)+IF(ISNUMBER(CSVデータ4!P213),CSVデータ4!P213,0)","v":0},null,{"$f":"IF(ISNUMBER(CSVデータ1!R213),CSVデータ1!R213,0)+IF(ISNUMBER(CSVデータ2!R213),CSVデータ2!R213,0)+IF(ISNUMBER(CSVデータ3!R213),CSVデータ3!R213,0)+IF(ISNUMBER(CSVデータ4!R213),CSVデータ4!R213,0)","v":0},null,{"$f":"IF(ISNUMBER(CSVデータ1!T213),CSVデータ1!T213,0)+IF(ISNUMBER(CSVデータ2!T213),CSVデータ2!T213,0)+IF(ISNUMBER(CSVデータ3!T213),CSVデータ3!T213,0)+IF(ISNUMBER(CSVデータ4!T213),CSVデータ4!T213,0)","v":0},null,{"$f":"IF(ISNUMBER(CSVデータ1!V213),CSVデータ1!V213,0)+IF(ISNUMBER(CSVデータ2!V213),CSVデータ2!V213,0)+IF(ISNUMBER(CSVデータ3!V213),CSVデータ3!V213,0)+IF(ISNUMBER(CSVデータ4!V213),CSVデータ4!V213,0)","v":0},null,{"$f":"IF(ISNUMBER(CSVデータ1!X213),CSVデータ1!X213,0)+IF(ISNUMBER(CSVデータ2!X213),CSVデータ2!X213,0)+IF(ISNUMBER(CSVデータ3!X213),CSVデータ3!X213,0)+IF(ISNUMBER(CSVデータ4!X213),CSVデータ4!X213,0)","v":0},null,{"$f":"IF(ISNUMBER(CSVデータ1!Z213),CSVデータ1!Z213,0)+IF(ISNUMBER(CSVデータ2!Z213),CSVデータ2!Z213,0)+IF(ISNUMBER(CSVデータ3!Z213),CSVデータ3!Z213,0)+IF(ISNUMBER(CSVデータ4!Z213),CSVデータ4!Z213,0)","v":0},null,{"$f":"IF(ISNUMBER(CSVデータ1!AB213),CSVデータ1!AB213,0)+IF(ISNUMBER(CSVデータ2!AB213),CSVデータ2!AB213,0)+IF(ISNUMBER(CSVデータ3!AB213),CSVデータ3!AB213,0)+IF(ISNUMBER(CSVデータ4!AB213),CSVデータ4!AB213,0)","v":0},null,{"$f":"IF(ISNUMBER(CSVデータ1!AD213),CSVデータ1!AD213,0)+IF(ISNUMBER(CSVデータ2!AD213),CSVデータ2!AD213,0)+IF(ISNUMBER(CSVデータ3!AD213),CSVデータ3!AD213,0)+IF(ISNUMBER(CSVデータ4!AD213),CSVデータ4!AD213,0)","v":0},null,{"$f":"IF(ISNUMBER(CSVデータ1!AF213),CSVデータ1!AF213,0)+IF(ISNUMBER(CSVデータ2!AF213),CSVデータ2!AF213,0)+IF(ISNUMBER(CSVデータ3!AF213),CSVデータ3!AF213,0)+IF(ISNUMBER(CSVデータ4!AF213),CSVデータ4!AF213,0)","v":0},null,{"$f":"IF(ISNUMBER(CSVデータ1!AH213),CSVデータ1!AH213,0)+IF(ISNUMBER(CSVデータ2!AH213),CSVデータ2!AH213,0)+IF(ISNUMBER(CSVデータ3!AH213),CSVデータ3!AH213,0)+IF(ISNUMBER(CSVデータ4!AH213),CSVデータ4!AH213,0)","v":0},null,{"$f":"IF(ISNUMBER(CSVデータ1!AJ213),CSVデータ1!AJ213,0)+IF(ISNUMBER(CSVデータ2!AJ213),CSVデータ2!AJ213,0)+IF(ISNUMBER(CSVデータ3!AJ213),CSVデータ3!AJ213,0)+IF(ISNUMBER(CSVデータ4!AJ213),CSVデータ4!AJ213,0)","v":0},null,{"$f":"IF(ISNUMBER(CSVデータ1!AL213),CSVデータ1!AL213,0)+IF(ISNUMBER(CSVデータ2!AL213),CSVデータ2!AL213,0)+IF(ISNUMBER(CSVデータ3!AL213),CSVデータ3!AL213,0)+IF(ISNUMBER(CSVデータ4!AL213),CSVデータ4!AL213,0)","v":0},null,{"$f":"IF(ISNUMBER(CSVデータ1!AN213),CSVデータ1!AN213,0)+IF(ISNUMBER(CSVデータ2!AN213),CSVデータ2!AN213,0)+IF(ISNUMBER(CSVデータ3!AN213),CSVデータ3!AN213,0)+IF(ISNUMBER(CSVデータ4!AN213),CSVデータ4!AN213,0)","v":0}]

{"sheet":"出力票","index":7,"n_rows":148,"n_cols":33,"rows_kept":148,"cut":false,"hidden":false,"merged":[[132,28,132,32],[103,29,103,32],[101,29,101,32],[102,29,102,32],[71,10,71,14],[70,3,70,29],[106,3,106,7],[106,8,106,12],[105,13,105,32],[106,13,106,17],[106,18,106,22],[106,23,106,27],[106,28,106,32],[119,3,119,7],[119,8,119,12],[99,0,99,29],[105,3,105,12],[118,2,120,2],[83,3,83,29],[84,3,84,9],[84,10,84,14],[84,15,84,19],[84,20,84,24],[84,25,84,29],[147,0,147,29],[121,0,123,0],[124,0,126,0],[127,0,129,0],[114,0,116,0],[118,0,120,1],[108,0,110,0],[111,0,113,0],[105,0,107,1],[105,2,107,2],[134,0,136,0],[137,0,139,0],[140,0,142,0],[118,3,118,12],[118,13,118,32],[119,23,119,27],[119,28,119,32],[131,0,133,1],[131,2,133,2],[131,3,131,12],[131,13,131,32],[132,3,132,7],[132,8,132,12],[132,13,132,17],[92,0,94,0],[102,0,102,1],[103,0,103,1],[101,0,101,1],[83,0,85,1],[83,2,85,2],[86,0,88,0],[73,0,75,0],[76,0,78,0],[89,0,91,0],[79,0,81,0],[70,0,72,1],[70,2,72,2],[63,0,65,0],[66,0,68,0],[55,0,55,1],[57,0,59,1],[57,2,59,2],[28,0,30,0],[31,0,33,0],[60,0,62,0],[35,0,37,1],[35,2,37,2],[35,3,35,29],[36,3,36,7],[36,8,36,12],[36,13,36,19],[36,20,36,24],[23,13,23,19],[23,20,23,24],[25,0,27,0],[36,25,36,29],[132,18,132,22],[132,23,132,27],[119,13,119,17],[119,18,119,22],[10,3,10,7],[10,8,10,12],[9,0,11,1],[9,2,11,2],[53,0,53,1],[10,13,10,19],[10,20,10,24],[10,25,10,29],[9,3,9,29],[41,0,43,0],[44,0,46,0],[54,0,54,1],[38,0,40,0],[51,0,51,29],[22,2,24,2],[22,3,22,29],[23,3,23,7],[23,8,23,12],[53,29,53,32],[23,25,23,29],[54,29,54,32],[55,29,55,32],[57,3,57,29],[71,15,71,19],[71,20,71,24],[71,25,71,29],[58,3,58,9],[58,10,58,14],[58,15,58,19],[58,20,58,24],[58,25,58,29],[71,3,71,9],[5,0,5,1],[6,0,6,1],[7,0,7,1],[22,0,24,1],[12,0,14,0],[15,0,17,0],[5,29,5,32],[6,29,6,32],[7,29,7,32],[18,0,20,0]]}
[]
[null,null,null,null,{"$f":"ここから開始!B14","v":40}]
[null,null,null,null,{"$f":"ここから開始!B15","v":64}]
[null,null,null,null,{"$f":"ここから開始!B16","v":74}]
[null,null,null,null,null,null,null,null,null,null,null,null,null,null,null,"厚生労働省様式（様式５－２）【補足】"]
["保険者番号：",null,{"$f":"CSVデータ!B2","v":999999},null,null,null,null,null,null,null,null,null,null,null,null,"健診有所見者状況（男女別・年齢調整）",null,null,null,null,null,null,null,null,null,null,null,"作成年月 ：",null,{"$f":"CSVデータ!E$2","v":"R01年度"}]
["保険者名 ：",null,{"$f":"CSVデータ!C2","v":"Ｘ市"},null,null,null,null,null,null,null,null,null,null,null,null,"第３期・第４期特定健診用",null,null,null,null,null,null,null,null,null,null,null,"印刷日 ：",null,{"$f":"TODAY()","v":"2026-02-05"}]
["地区 ：",null,{"$f":"IF(CSVデータ!D2=\"\",\"\",CSVデータ!D2)","v":0},null,null,null,null,null,null,null,null,null,null,null,null,null,null,null,null,null,null,null,null,null,null,null,null,"ページ ：",null,"1/3"]
[]
["男性",null,{"$f":"\"受診者\"&IF(CSVデータ2!E$2<>\"\",CHAR(10)&\"延べ人数\",\"\")&\"※\"","v":"受診者※"},"摂取エネルギーの過剰"]
[null,null,null,"BMI",null,null,null,null,"腹囲",null,null,null,null,"中性脂肪(空腹時・随時)",null,null,null,null,null,null,"ALT(GPT)",null,null,null,null,"HDLコレステロール"]
[null,null,null,"25以上","割合(%)","年齢\n調整(%)","標準化\n比(全国)","標準化\n比(県)","85以上","割合(%)","年齢\n調整(%)","標準化\n比(全国)","標準化\n比(県)","空腹時\n150以上","随時\n175以上","空腹時\n＋随時","割合(%)","年齢\n調整(%)","標準化\n比(全国)","標準化\n比(県)","31以上","割合(%)","年齢\n調整(%)","標準化\n比(全国)","標準化\n比(県)","40未満","割合(%)","年齢\n調整(%)","標準化\n比(全国)","標準化\n比(県)"]
[{"$f":"E2&\"～\"&E3&\"歳\"","v":"40～64歳"},"全国",2500,2500,1,1,"100(基準)","-",2500,1,1,"100(基準)","-",2500,0,2500,1,1,"100(基準)","-",2500,1,1,"100(基準)","-",2500,1,1,"100(基準)","-"]
[null,"県",2500,2500,1,1,100,"100(基準)",2500,1,1,100,"100(基準)",2500,0,2500,1,1,100,"100(基準)",2500,1,1,100,"100(基準)",2500,1,1,100,"100(基準)"]
[null,"地域（地区）",2500,2500,1,1,100,100,2500,1,1,100,100,2500,0,2500,1,1,100,100,2500,1,1,100,100,2500,1,1,100,100]
[{"$f":"E3+1&\"～\"&E4&\"歳\"","v":"65～74歳"},"全国",1000,1000,1,1,"100(基準)","-",1000,1,1,"100(基準)","-",1000,0,1000,1,1,"100(基準)","-",1000,1,1,"100(基準)","-",1000,1,1,"100(基準)","-"]
[null,"県",1000,1000,1,1,100,"100(基準)",1000,1,1,100,"100(基準)",1000,0,1000,1,1,100,"100(基準)",1000,1,1,100,"100(基準)",1000,1,1,100,"100(基準)"]
[null,"地域（地区）",1000,1000,1,1,100,100,1000,1,1,100,100,1000,0,1000,1,1,100,100,1000,1,1,100,100,1000,1,1,100,100]
["総\n数","全国",3500,3500,1,1,"100(基準)","-",3500,1,1,"100(基準)","-",3500,0,3500,1,1,"100(基準)","-",3500,1,1,"100(基準)","-",3500,1,1,"100(基準)","-"]
[null,"県",3500,3500,1,1,100,"100(基準)",3500,1,1,100,"100(基準)",3500,0,3500,1,1,100,"100(基準)",3500,1,1,100,"100(基準)",3500,1,1,100,"100(基準)"]
[null,"地域（地区）",3500,3500,1,1,100,100,3500,1,1,100,100,3500,0,3500,1,1,100,100,3500,1,1,100,100,3500,1,1,100,100]
[]
["女性",null,{"$f":"C$10","v":"受診者※"},"摂取エネルギーの過剰"]
[null,null,null,"BMI",null,null,null,null,"腹囲",null,null,null,null,"中性脂肪(空腹時・随時)",null,null,null,null,null,null,"ALT(GPT)",null,null,null,null,"HDLコレステロール"]
[null,null,null,"25以上","割合(%)","年齢\n調整(%)","標準化\n比(全国)","標準化\n比(県)","90以上","割合(%)","年齢\n調整(%)","標準化\n比(全国)","標準化\n比(県)","空腹時\n150以上","随時\n175以上","空腹時\n＋随時","割合(%)","年齢\n調整(%)","標準化\n比(全国)","標準化\n比(県)","31以上","割合(%)","年齢\n調整(%)","標準化\n比(全国)","標準化\n比(県)","40未満","割合(%)","年齢\n調整(%)","標準化\n比(全国)","標準化\n比(県)"]
[{"$f":"+A13","v":"40～64歳"},"全国",2500,2500,1,1,"100(基準)","-",2500,1,1,"100(基準)","-",2500,0,2500,1,1,"100(基準)","-",2500,1,1,"100(基準)","-",2500,1,1,"100(基準)","-"]
[null,"県",2500,2500,1,1,100,"100(基準)",2500,1,1,100,"100(基準)",2500,0,2500,1,1,100,"100(基準)",2500,1,1,100,"100(基準)",2500,1,1,100,"100(基準)"]
[null,"地域（地区）",2500,2500,1,1,100,100,2500,1,1,100,100,2500,0,2500,1,1,100,100,2500,1,1,100,100,2500,1,1,100,100]
[{"$f":"+A16","v":"65～74歳"},"全国",1000,1000,1,1,"100(基準)","-",1000,1,1,"100(基準)","-",1000,0,1000,1,1,"100(基準)","-",1000,1,1,"100(基準)","-",1000,1,1,"100(基準)","-"]
[null,"県",1000,1000,1,1,100,"100(基準)",1000,1,1,100,"100(基準)",1000,0,1000,1,1,100,"100(基準)",1000,1,1,100,"100(基準)",1000,1,1,100,"100(基準)"]
[null,"地域（地区）",1000,1000,1,1,100,100,1000,1,1,100,100,1000,0,1000,1,1,100,100,1000,1,1,100,100,1000,1,1,100,100]
["総\n数","全国",3500,3500,1,1,"100(基準)","-",3500,1,1,"100(基準)","-",3500,0,3500,1,1,"100(基準)","-",3500,1,1,"100(基準)","-",3500,1,1,"100(基準)","-"]
[null,"県",3500,3500,1,1,100,"100(基準)",3500,1,1,100,"100(基準)",3500,0,3500,1,1,100,"100(基準)",3500,1,1,100,"100(基準)",3500,1,1,100,"100(基準)"]
[null,"地域（地区）",3500,3500,1,1,100,100,3500,1,1,100,100,3500,0,3500,1,1,100,100,3500,1,1,100,100,3500,1,1,100,100]
[]
["総数",null,{"$f":"C$10","v":"受診者※"},"摂取エネルギーの過剰"]
[null,null,null,"BMI",null,null,null,null,"腹囲",null,null,null,null,"中性脂肪(空腹時・随時)",null,null,null,null,null,null,"ALT(GPT)",null,null,null,null,"HDLコレステロール"]
[null,null,null,"25以上","割合(%)","性年齢\n調整(%)","標準化\n比(全国)","標準化\n比(県)","85/90\n以上","割合(%)","性年齢\n調整(%)","標準化\n比(全国)","標準化\n比(県)","空腹時\n150以上","随時\n175以上","空腹時\n＋随時","割合(%)","性年齢\n調整(%)","標準化\n比(全国)","標準化\n比(県)","31以上","割合(%)","性年齢\n調整(%)","標準化\n比(全国)","標準化\n比(県)","40未満","割合(%)","性年齢\n調整(%)","標準化\n比(全国)","標準化\n比(県)"]
[{"$f":"+A26","v":"40～64歳"},"全国",5000,5000,1,1,"100(基準)","-",5000,1,1,"100(基準)","-",5000,0,5000,1,1,"100(基準)","-",5000,1,1,"100(基準)","-",5000,1,1,"100(基準)","-"]
[null,"県",5000,5000,1,1,100,"100(基準)",5000,1,1,100,"100(基準)",5000,0,5000,1,1,100,"100(基準)",5000,1,1,100,"100(基準)",5000,1,1,100,"100(基準)"]
[null,"地域（地区）",5000,5000,1,1,100,100,5000,1,1,100,100,5000,0,5000,1,1,100,100,5000,1,1,100,100,5000,1,1,100,100]
[{"$f":"+A29","v":"65～74歳"},"全国",2000,2000,1,1,"100(基準)","-",2000,1,1,"100(基準)","-",2000,0,2000,1,1,"100(基準)","-",2000,1,1,"100(基準)","-",2000,1,1,"100(基準)","-"]
[null,"県",2000,2000,1,1,100,"100(基準)",2000,1,1,100,"100(基準)",2000,0,2000,1,1,100,"100(基準)",2000,1,1,100,"100(基準)",2000,1,1,100,"100(基準)"]
[null,"地域（地区）",2000,2000,1,1,100,100,2000,1,1,100,100,2000,0,2000,1,1,100,100,2000,1,1,100,100,2000,1,1,100,100]
["総\n数","全国",7000,7000,1,1,"100(基準)","-",7000,1,1,"100(基準)","-",7000,0,7000,1,1,"100(基準)","-",7000,1,1,"100(基準)","-",7000,1,1,"100(基準)","-"]
[null,"県",7000,7000,1,1,100,"100(基準)",7000,1,1,100,"100(基準)",7000,0,7000,1,1,100,"100(基準)",7000,1,1,100,"100(基準)",7000,1,1,100,"100(基準)"]
[null,"地域（地区）",7000,7000,1,1,100,100,7000,1,1,100,100,7000,0,7000,1,1,100,100,7000,1,1,100,100,7000,1,1,100,100]
["※全て健診受診者数（検査した人数とは限らない）を分母として割合等を計算しているため、必須項目以外の解釈には注意を要する。"]
["国保データベース（KDB）のCSVファイル（厚生労働省様式（様式５－２） 健診有所見者状況（男女別・年代別））より計算。"]
["年齢調整(%)は全国受診者数（男女別）を基準人口とした直接法による。従って、厳密な男女比較はできない。受診者が少ない地域では、年齢調整(%)がエラーまたは異常な値となることがあるため、標準化比で評価することが望ましい。"]
["標準化比は全国または県を基準とした間接法による。標準化比に*が付記されたものは、基準に比べて有意な差(p<0.05)があること意味する。複数年度をプールした場合には過度に有意になりやすくなる。"]
["Ver. 2.11 (2026.2.5) 平成30年度厚生労働行政推進調査事業費補助金（政策科学推進研究事業）「都道府県医療費適正化計画推進のための健診・医療等の情報活用を担う地域の保健医療人材の育成に関する研究」（研究代表：横山徹爾）"]
[null,null,null,null,null,null,null,null,null,null,null,null,null,null,null,{"$f":"P$5","v":"厚生労働省様式（様式５－２）【補足】"}]
["保険者番号：",null,{"$f":"C$6","v":999999},null,null,null,null,null,null,null,null,null,null,null,null,{"$f":"P$6","v":"健診有所見者状況（男女別・年齢調整）"},null,null,null,null,null,null,null,null,null,null,null,"作成年月 ：",null,{"$f":"AD$6","v":"R01年度"}]
["保険者名 ：",null,{"$f":"C$7","v":"Ｘ市"},null,null,null,null,null,null,null,null,null,null,null,null,{"$f":"P$7","v":"第３期・第４期特定健診用"},null,null,null,null,null,null,null,null,null,null,null,"印刷日 ：",null,{"$f":"AD$7","v":"2026-02-05"}]
["地区 ：",null,{"$f":"C$8","v":0},null,null,null,null,null,null,null,null,null,null,null,null,null,null,null,null,null,null,null,null,null,null,null,null,"ページ ：",null,"2/3"]
[]
["男性",null,{"$f":"C$10","v":"受診者※"},"血管を傷つける"]
[null,null,null,"血糖(空腹時・随時[食後3.5時間以上])",null,null,null,null,null,null,"HbA1c",null,null,null,null,"尿酸",null,null,null,null,"収縮期血圧",null,null,null,null,"拡張期血圧"]
[null,null,null,"空腹時\n100以上","随時\n100以上","空腹時\n＋随時","割合(%)","年齢\n調整(%)","標準化\n比(全国)","標準化\n比(県)","5.6以上","割合(%)","年齢\n調整(%)","標準化\n比(全国)","標準化\n比(県)","7.0以上","割合(%)","年齢\n調整(%)","標準化\n比(全国)","標準化\n比(県)","130以上","割合(%)","年齢\n調整(%)","標準化\n比(全国)","標準化\n比(県)","85以上","割合(%)","年齢\n調整(%)","標準化\n比(全国)","標準化\n比(県)"]
[{"$f":"+A13","v":"40～64歳"},"全国",2500,2500,2500,5000,2,2,"100(基準)","-",2500,1,1,"100(基準)","-",2500,1,1,"100(基準)","-",2500,1,1,"100(基準)","-",2500,1,1,"100(基準)","-"]
[null,"県",2500,2500,2500,5000,2,2,100,"100(基準)",2500,1,1,100,"100(基準)",2500,1,1,100,"100(基準)",2500,1,1,100,"100(基準)",2500,1,1,100,"100(基準)"]
[null,"地域（地区）",2500,2500,2500,5000,2,2,100,100,2500,1,1,100,100,2500,1,1,100,100,2500,1,1,100,100,2500,1,1,100,100]
[{"$f":"+A16","v":"65～74歳"},"全国",1000,1000,1000,2000,2,2,"100(基準)","-",1000,1,1,"100(基準)","-",1000,1,1,"100(基準)","-",1000,1,1,"100(基準)","-",1000,1,1,"100(基準)","-"]
[null,"県",1000,1000,1000,2000,2,2,100,"100(基準)",1000,1,1,100,"100(基準)",1000,1,1,100,"100(基準)",1000,1,1,100,"100(基準)",1000,1,1,100,"100(基準)"]
[null,"地域（地区）",1000,1000,1000,2000,2,2,100,100,1000,1,1,100,100,1000,1,1,100,100,1000,1,1,100,100,1000,1,1,100,100]
["総\n数","全国",3500,3500,3500,7000,2,2,"100(基準)","-",3500,1,1,"100(基準)","-",3500,1,1,"100(基準)","-",3500,1,1,"100(基準)","-",3500,1,1,"100(基準)","-"]
[null,"県",3500,3500,3500,7000,2,2,100,"100(基準)",3500,1,1,100,"100(基準)",3500,1,1,100,"100(基準)",3500,1,1,100,"100(基準)",3500,1,1,100,"100(基準)"]
[null,"地域（地区）",3500,3500,3500,7000,2,2,100,100,3500,1,1,100,100,3500,1,1,100,100,3500,1,1,100,100,3500,1,1,100,100]
[]
["女性",null,{"$f":"C$10","v":"受診者※"},"血管を傷つける"]
[null,null,null,"血糖(空腹時・随時[食後3.5時間以上])",null,null,null,null,null,null,"HbA1c",null,null,null,null,"尿酸",null,null,null,null,"収縮期血圧",null,null,null,null,"拡張期血圧"]
[null,null,null,"空腹時\n100以上","随時\n100以上","空腹時\n＋随時","割合(%)","年齢\n調整(%)","標準化\n比(全国)","標準化\n比(県)","5.6以上","割合(%)","年齢\n調整(%)","標準化\n比(全国)","標準化\n比(県)","7.0以上","割合(%)","年齢\n調整(%)","標準化\n比(全国)","標準化\n比(県)","130以上","割合(%)","年齢\n調整(%)","標準化\n比(全国)","標準化\n比(県)","85以上","割合(%)","年齢\n調整(%)","標準化\n比(全国)","標準化\n比(県)"]
[{"$f":"+A13","v":"40～64歳"},"全国",2500,2500,2500,5000,2,2,"100(基準)","-",2500,1,1,"100(基準)","-",2500,1,1,"100(基準)","-",2500,1,1,"100(基準)","-",2500,1,1,"100(基準)","-"]
[null,"県",2500,2500,2500,5000,2,2,100,"100(基準)",2500,1,1,100,"100(基準)",2500,1,1,100,"100(基準)",2500,1,1,100,"100(基準)",2500,1,1,100,"100(基準)"]
[null,"地域（地区）",2500,2500,2500,5000,2,2,100,100,2500,1,1,100,100,2500,1,1,100,100,2500,1,1,100,100,2500,1,1,100,100]
[{"$f":"+A16","v":"65～74歳"},"全国",1000,1000,1000,2000,2,2,"100(基準)","-",1000,1,1,"100(基準)","-",1000,1,1,"100(基準)","-",1000,1,1,"100(基準)","-",1000,1,1,"100(基準)","-"]
[null,"県",1000,1000,1000,2000,2,2,100,"100(基準)",1000,1,1,100,"100(基準)",1000,1,1,100,"100(基準)",1000,1,1,100,"100(基準)",1000,1,1,100,"100(基準)"]
[null,"地域（地区）",1000,1000,1000,2000,2,2,100,100,1000,1,1,100,100,1000,1,1,100,100,1000,1,1,100,100,1000,1,1,100,100]
["総\n数","全国",3500,3500,3500,7000,2,2,"100(基準)","-",3500,1,1,"100(基準)","-",3500,1,1,"100(基準)","-",3500,1,1,"100(基準)","-",3500,1,1,"100(基準)","-"]
[null,"県",3500,3500,3500,7000,2,2,100,"100(基準)",3500,1,1,100,"100(基準)",3500,1,1,100,"100(基準)",3500,1,1,100,"100(基準)",3500,1,1,100,"100(基準)"]
[null,"地域（地区）",3500,3500,3500,7000,2,2,100,100,3500,1,1,100,100,3500,1,1,100,100,3500,1,1,100,100,3500,1,1,100,100]
[]
["総数",null,{"$f":"C$10","v":"受診者※"},"血管を傷つける"]
[null,null,null,"血糖(空腹時・随時[食後3.5時間以上])",null,null,null,null,null,null,"HbA1c",null,null,null,null,"尿酸",null,null,null,null,"収縮期血圧",null,null,null,null,"拡張期血圧"]
[null,null,null,"空腹時\n100以上","随時\n100以上","空腹時\n＋随時","割合(%)","性年齢\n調整(%)","標準化\n比(全国)","標準化\n比(県)","5.6以上","割合(%)","性年齢\n調整(%)","標準化\n比(全国)","標準化\n比(県)","7.0以上","割合(%)","性年齢\n調整(%)","標準化\n比(全国)","標準化\n比(県)","130以上","割合(%)","性年齢\n調整(%)","標準化\n比(全国)","標準化\n比(県)","85以上","割合(%)","性年齢\n調整(%)","標準化\n比(全国)","標準化\n比(県)"]
[{"$f":"+A26","v":"40～64歳"},"全国",5000,5000,5000,10000,2,2,"100(基準)","-",5000,1,1,"100(基準)","-",5000,1,1,"100(基準)","-",5000,1,1,"100(基準)","-",5000,1,1,"100(基準)","-"]
[null,"県",5000,5000,5000,10000,2,2,100,"100(基準)",5000,1,1,100,"100(基準)",5000,1,1,100,"100(基準)",5000,1,1,100,"100(基準)",5000,1,1,100,"100(基準)"]
[null,"地域（地区）",5000,5000,5000,10000,2,2,100,100,5000,1,1,100,100,5000,1,1,100,100,5000,1,1,100,100,5000,1,1,100,100]
[{"$f":"+A29","v":"65～74歳"},"全国",2000,2000,2000,4000,2,2,"100(基準)","-",2000,1,1,"100(基準)","-",2000,1,1,"100(基準)","-",2000,1,1,"100(基準)","-",2000,1,1,"100(基準)","-"]
[null,"県",2000,2000,2000,4000,2,2,100,"100(基準)",2000,1,1,100,"100(基準)",2000,1,1,100,"100(基準)",2000,1,1,100,"100(基準)",2000,1,1,100,"100(基準)"]
[null,"地域（地区）",2000,2000,2000,4000,2,2,100,100,2000,1,1,100,100,2000,1,1,100,100,2000,1,1,100,100,2000,1,1,100,100]
["総\n数","全国",7000,7000,7000,14000,2,2,"100(基準)","-",7000,1,1,"100(基準)","-",7000,1,1,"100(基準)","-",7000,1,1,"100(基準)","-",7000,1,1,"100(基準)","-"]
[null,"県",7000,7000,7000,14000,2,2,100,"100(基準)",7000,1,1,100,"100(基準)",7000,1,1,100,"100(基準)",7000,1,1,100,"100(基準)",7000,1,1,100,"100(基準)"]
[null,"地域（地区）",7000,7000,7000,14000,2,2,100,100,7000,1,1,100,100,7000,1,1,100,100,7000,1,1,100,100,7000,1,1,100,100]
[{"$f":"A$48","v":"※全て健診受診者数（検査した人数とは限らない）を分母として割合等を計算しているため、必須項目以外の解釈には注意を要する。"}]
[{"$f":"A$49","v":"国保データベース（KDB）のCSVファイル（厚生労働省様式（様式５－２） 健診有所見者状況（男女別・年代別））より計算。"}]
[{"$f":"A$50","v":"年齢調整(%)は全国受診者数（男女別）を基準人口とした直接法による。従って、厳密な男女比較はできない。受診者が少ない地域では、年齢調整(%)がエラーまたは異常な値となることがあるため、標準化比で評価することが望ましい。"}]
[{"$f":"A$51","v":"標準化比は全国または県を基準とした間接法による。標準化比に*が付記されたものは、基準に比べて有意な差(p<0.05)があること意味する。複数年度をプールした場合には過度に有意になりやすくなる。"}]
[{"$f":"A$52","v":"Ver. 2.11 (2026.2.5) 平成30年度厚生労働行政推進調査事業費補助金（政策科学推進研究事業）「都道府県医療費適正化計画推進のための健診・医療等の情報活用を担う地域の保健医療人材の育成に関する研究」（研究代表：横山徹爾）"}]
[null,null,null,null,null,null,null,null,null,null,null,null,null,null,null,{"$f":"P$5","v":"厚生労働省様式（様式５－２）【補足】"}]
["保険者番号：",null,{"$f":"C$6","v":999999},null,null,null,null,null,null,null,null,null,null,null,null,{"$f":"P$6","v":"健診有所見者状況（男女別・年齢調整）"},null,null,null,null,null,null,null,null,null,null,null,"作成年月 ：",null,{"$f":"AD$6","v":"R01年度"}]
["保険者名 ：",null,{"$f":"C$7","v":"Ｘ市"},null,null,null,null,null,null,null,null,null,null,null,null,{"$f":"P$7","v":"第３期・第４期特定健診用"},null,null,null,null,null,null,null,null,null,null,null,"印刷日 ：",null,{"$f":"AD$7","v":"2026-02-05"}]
["地区 ：",null,{"$f":"C$8","v":0},null,null,null,null,null,null,null,null,null,null,null,null,null,null,null,null,null,null,null,null,null,null,null,null,"ページ ：",null,"3/3"]
[]
["男性",null,{"$f":"C$10","v":"受診者※"},"内臓脂肪症候群以外の動脈硬化要因",null,null,null,null,null,null,null,null,null,"臓器障害"]
[null,null,null,"LDLコレステロール",null,null,null,null,"non-HDLコレステロール",null,null,null,null,"クレアチニン",null,null,null,null,"eGFR",null,null,null,null,"心電図",null,null,null,null,"眼底検査"]
[null,null,null,"120以上","割合(%)","年齢\n調整(%)","標準化\n比(全国)","標準化\n比(県)","150以上","割合(%)","年齢\n調整(%)","標準化\n比(全国)","標準化\n比(県)","1.3以上","割合(%)","年齢\n調整(%)","標準化\n比(全国)","標準化\n比(県)","60未満","割合(%)","年齢\n調整(%)","標準化\n比(全国)","標準化\n比(県)","あり","割合(%)","年齢\n調整(%)","標準化\n比(全国)","標準化\n比(県)","あり","割合(%)","年齢\n調整(%)","標準化\n比(全国)","標準化\n比(県)"]
[{"$f":"+A13","v":"40～64歳"},"全国",2500,2500,1,1,"100(基準)","-",2500,1,1,"100(基準)","-",2500,1,1,"100(基準)","-",2500,1,1,"100(基準)","-",2500,1,1,"100(基準)","-",2500,1,1,"100(基準)","-"]
[null,"県",2500,2500,1,1,100,"100(基準)",2500,1,1,100,"100(基準)",2500,1,1,100,"100(基準)",2500,1,1,100,"100(基準)",2500,1,1,100,"100(基準)",2500,1,1,100,"100(基準)"]
[null,"地域（地区）",2500,2500,1,1,100,100,2500,1,1,100,100,2500,1,1,100,100,2500,1,1,100,100,2500,1,1,100,100,2500,1,1,100,100]
[{"$f":"+A16","v":"65～74歳"},"全国",1000,1000,1,1,"100(基準)","-",1000,1,1,"100(基準)","-",1000,1,1,"100(基準)","-",1000,1,1,"100(基準)","-",1000,1,1,"100(基準)","-",1000,1,1,"100(基準)","-"]
[null,"県",1000,1000,1,1,100,"100(基準)",1000,1,1,100,"100(基準)",1000,1,1,100,"100(基準)",1000,1,1,100,"100(基準)",1000,1,1,100,"100(基準)",1000,1,1,100,"100(基準)"]
[null,"地域（地区）",1000,1000,1,1,100,100,1000,1,1,100,100,1000,1,1,100,100,1000,1,1,100,100,1000,1,1,100,100,1000,1,1,100,100]
["総\n数","全国",3500,3500,1,1,"100(基準)","-",3500,1,1,"100(基準)","-",3500,1,1,"100(基準)","-",3500,1,1,"100(基準)","-",3500,1,1,"100(基準)","-",3500,1,1,"100(基準)","-"]
[null,"県",3500,3500,1,1,100,"100(基準)",3500,1,1,100,"100(基準)",3500,1,1,100,"100(基準)",3500,1,1,100,"100(基準)",3500,1,1,100,"100(基準)",3500,1,1,100,"100(基準)"]
[null,"地域（地区）",3500,3500,1,1,100,100,3500,1,1,100,100,3500,1,1,100,100,3500,1,1,100,100,3500,1,1,100,100,3500,1,1,100,100]
[]
["女性",null,{"$f":"C$10","v":"受診者※"},"内臓脂肪症候群以外の動脈硬化要因",null,null,null,null,null,null,null,null,null,"臓器障害"]
[null,null,null,"LDLコレステロール",null,null,null,null,"non-HDLコレステロール",null,null,null,null,"クレアチニン",null,null,null,null,"eGFR",null,null,null,null,"心電図",null,null,null,null,"眼底検査"]
[null,null,null,"120以上","割合(%)","年齢\n調整(%)","標準化\n比(全国)","標準化\n比(県)","150以上","割合(%)","年齢\n調整(%)","標準化\n比(全国)","標準化\n比(県)","1.3以上","割合(%)","年齢\n調整(%)","標準化\n比(全国)","標準化\n比(県)","60未満","割合(%)","年齢\n調整(%)","標準化\n比(全国)","標準化\n比(県)","あり","割合(%)","年齢\n調整(%)","標準化\n比(全国)","標準化\n比(県)","あり","割合(%)","年齢\n調整(%)","標準化\n比(全国)","標準化\n比(県)"]
[{"$f":"+A26","v":"40～64歳"},"全国",2500,2500,1,1,"100(基準)","-",2500,1,1,"100(基準)","-",2500,1,1,"100(基準)","-",2500,1,1,"100(基準)","-",2500,1,1,"100(基準)","-",2500,1,1,"100(基準)","-"]
[null,"県",2500,2500,1,1,100,"100(基準)",2500,1,1,100,"100(基準)",2500,1,1,100,"100(基準)",2500,1,1,100,"100(基準)",2500,1,1,100,"100(基準)",2500,1,1,100,"100(基準)"]
[null,"地域（地区）",2500,2500,1,1,100,100,2500,1,1,100,100,2500,1,1,100,100,2500,1,1,100,100,2500,1,1,100,100,2500,1,1,100,100]
[{"$f":"+A29","v":"65～74歳"},"全国",1000,1000,1,1,"100(基準)","-",1000,1,1,"100(基準)","-",1000,1,1,"100(基準)","-",1000,1,1,"100(基準)","-",1000,1,1,"100(基準)","-",1000,1,1,"100(基準)","-"]
[null,"県",1000,1000,1,1,100,"100(基準)",1000,1,1,100,"100(基準)",1000,1,1,100,"100(基準)",1000,1,1,100,"100(基準)",1000,1,1,100,"100(基準)",1000,1,1,100,"100(基準)"]
[null,"地域（地区）",1000,1000,1,1,100,100,1000,1,1,100,100,1000,1,1,100,100,1000,1,1,100,100,1000,1,1,100,100,1000,1,1,100,100]
["総\n数","全国",3500,3500,1,1,"100(基準)","-",3500,1,1,"100(基準)","-",3500,1,1,"100(基準)","-",3500,1,1,"100(基準)","-",3500,1,1,"100(基準)","-",3500,1,1,"100(基準)","-"]
[null,"県",3500,3500,1,1,100,"100(基準)",3500,1,1,100,"100(基準)",3500,1,1,100,"100(基準)",3500,1,1,100,"100(基準)",3500,1,1,100,"100(基準)",3500,1,1,100,"100(基準)"]
[null,"地域（地区）",3500,3500,1,1,100,100,3500,1,1,100,100,3500,1,1,100,100,3500,1,1,100,100,3500,1,1,100,100,3500,1,1,100,100]
[]
["総数",null,{"$f":"C$10","v":"受診者※"},"内臓脂肪症候群以外の動脈硬化要因",null,null,null,null,null,null,null,null,null,"臓器障害"]
[null,null,null,"LDLコレステロール",null,null,null,null,"non-HDLコレステロール",null,null,null,null,"クレアチニン",null,null,null,null,"eGFR",null,null,null,null,"心電図",null,null,null,null,"眼底検査"]
[null,null,null,"120以上","割合(%)","性年齢\n調整(%)","標準化\n比(全国)","標準化\n比(県)","150以上","割合(%)","性年齢\n調整(%)","標準化\n比(全国)","標準化\n比(県)","1.3以上","割合(%)","性年齢\n調整(%)","標準化\n比(全国)","標準化\n比(県)","60未満","割合(%)","性年齢\n調整(%)","標準化\n比(全国)","標準化\n比(県)","あり","割合(%)","性年齢\n調整(%)","標準化\n比(全国)","標準化\n比(県)","あり","割合(%)","性年齢\n調整(%)","標準化\n比(全国)","標準化\n比(県)"]
[{"$f":"+A39","v":"40～64歳"},"全国",5000,5000,1,1,"100(基準)","-",5000,1,1,"100(基準)","-",5000,1,1,"100(基準)","-",5000,1,1,"100(基準)","-",5000,1,1,"100(基準)","-",5000,1,1,"100(基準)","-"]
[null,"県",5000,5000,1,1,100,"100(基準)",5000,1,1,100,"100(基準)",5000,1,1,100,"100(基準)",5000,1,1,100,"100(基準)",5000,1,1,100,"100(基準)",5000,1,1,100,"100(基準)"]
[null,"地域（地区）",5000,5000,1,1,100,100,5000,1,1,100,100,5000,1,1,100,100,5000,1,1,100,100,5000,1,1,100,100,5000,1,1,100,100]
[{"$f":"+A42","v":"65～74歳"},"全国",2000,2000,1,1,"100(基準)","-",2000,1,1,"100(基準)","-",2000,1,1,"100(基準)","-",2000,1,1,"100(基準)","-",2000,1,1,"100(基準)","-",2000,1,1,"100(基準)","-"]
[null,"県",2000,2000,1,1,100,"100(基準)",2000,1,1,100,"100(基準)",2000,1,1,100,"100(基準)",2000,1,1,100,"100(基準)",2000,1,1,100,"100(基準)",2000,1,1,100,"100(基準)"]
[null,"地域（地区）",2000,2000,1,1,100,100,2000,1,1,100,100,2000,1,1,100,100,2000,1,1,100,100,2000,1,1,100,100,2000,1,1,100,100]
["総\n数","全国",7000,7000,1,1,"100(基準)","-",7000,1,1,"100(基準)","-",7000,1,1,"100(基準)","-",7000,1,1,"100(基準)","-",7000,1,1,"100(基準)","-",7000,1,1,"100(基準)","-"]
[null,"県",7000,7000,1,1,100,"100(基準)",7000,1,1,100,"100(基準)",7000,1,1,100,"100(基準)",7000,1,1,100,"100(基準)",7000,1,1,100,"100(基準)",7000,1,1,100,"100(基準)"]
[null,"地域（地区）",7000,7000,1,1,100,100,7000,1,1,100,100,7000,1,1,100,100,7000,1,1,100,100,7000,1,1,100,100,7000,1,1,100,100]
[{"$f":"A$48","v":"※全て健診受診者数（検査した人数とは限らない）を分母として割合等を計算しているため、必須項目以外の解釈には注意を要する。"}]
[{"$f":"A$49","v":"国保データベース（KDB）のCSVファイル（厚生労働省様式（様式５－２） 健診有所見者状況（男女別・年代別））より計算。"}]
[{"$f":"A$50","v":"年齢調整(%)は全国受診者数（男女別）を基準人口とした直接法による。従って、厳密な男女比較はできない。受診者が少ない地域では、年齢調整(%)がエラーまたは異常な値となることがあるため、標準化比で評価することが望ましい。"}]
[{"$f":"A$51","v":"標準化比は全国または県を基準とした間接法による。標準化比に*が付記されたものは、基準に比べて有意な差(p<0.05)があること意味する。複数年度をプールした場合には過度に有意になりやすくなる。"}]
[{"$f":"A$52","v":"Ver. 2.11 (2026.2.5) 平成30年度厚生労働行政推進調査事業費補助金（政策科学推進研究事業）「都道府県医療費適正化計画推進のための健診・医療等の情報活用を担う地域の保健医療人材の育成に関する研究」（研究代表：横山徹爾）"}]

{"sheet":"項目定義","index":8,"n_rows":21,"n_cols":9,"rows_kept":21,"cut":false,"hidden":true,"merged":[]}
["項目番号","列番号","出力行位置","出力列位置","５年度","６年度","表示名","基準値名"]
[1,6,13,4,"ＢＭＩ人数","ＢＭＩ人数","ＢＭＩ","25以上","行+13+13"]
[2,8,13,9,"腹囲人数","腹囲人数","腹囲","＊"]
[3,-1,13,16,null,"中性脂肪（空腹時＋随時）人数","中性脂肪(空腹時/随時)","150/175以上"]
[4,10,13,14,"中性脂肪人数","空腹時中性脂肪人数","空腹時中性脂肪（参考）","150以上"]
[5,40,13,15,null,"随時中性脂肪人数","随時中性脂肪（参考）","175以上"]
[6,12,13,21,"ＡＬＴ（ＧＰＴ）人数","ＡＬＴ（ＧＰＴ）人数","ＡＬＴ（ＧＰＴ）","31以上"]
[7,14,13,26,"ＨＤＬコレステロール人数","ＨＤＬコレステロール人数","ＨＤＬコレステロール","40未満"]
[8,-1,61,6,null,"血糖（空腹時＋随時）人数","血糖(空腹時+随時)","100以上"]
[9,16,61,4,"空腹時血糖人数","空腹時血糖人数","空腹時血糖(参考)","100以上"]
[10,34,61,5,"随時血糖人数","随時血糖人数","随時血糖(参考)","100以上"]
[11,18,61,11,"ＨｂＡ１ｃ人数","ＨｂＡ１ｃ人数","ＨｂＡ１ｃ","5.6以上"]
[12,20,61,16,"尿酸人数","尿酸人数","尿酸","7.0以上"]
[13,22,61,21,"収縮期血圧人数","収縮期血圧人数","収縮期血圧","130以上"]
[14,24,61,26,"拡張期血圧人数","拡張期血圧人数","拡張期血圧","85以上"]
[15,26,109,4,"ＬＤＬコレステロール人数","ＬＤＬコレステロール人数","ＬＤＬコレステロール","120以上"]
[16,36,109,9,"ｎｏｎ－ＨＤＬコレステロール人数","ｎｏｎ－ＨＤＬコレステロール人数","non-HDLコレステロール","150以上"]
[17,28,109,14,"血清クレアチニン人数","血清クレアチニン人数","血清クレアチニン","1.3以上"]
[18,38,109,19,"ｅＧＦＲ人数","ｅＧＦＲ人数","ｅＧＦＲ","60未満"]
[19,30,109,24,"心電図人数","心電図人数","心電図","あり"]
[20,32,109,29,"眼底検査人数","眼底検査人数","眼底検査","あり"]

{"sheet":"temp","index":9,"n_rows":0,"n_cols":0,"rows_kept":0,"cut":false,"hidden":true,"merged":[]}