{"text_format":"1","workbook":"xlsx","n_sheets":8,"sheets":["使い方","CSVデータ1","CSVデータ2","CSVデータ3","CSVデータ4","CSVデータ","出力票","temp"],"not_rendered":{"charts":0,"images":0,"macros":1,"external_links":0,"defined_names":1,"comments":0,"pivot_tables":0},"unopened":[],"bounds":{"document_bytes":16777216,"sheet_cells":100000,"rows_first":2000,"rows_last":500,"rows_between":2000,"halvings":0,"cell_chars":16384,"cell_head_chars":4096},"cells_cut":0,"cells_raw":0,"read":"whole","date_system":"1900"}

{"sheet":"使い方","index":0,"n_rows":23,"n_cols":1,"rows_kept":23,"cut":false,"hidden":false,"merged":[[14,0,14,8]]}
["年齢調整・厚生労働省様式（様式５－２）ツールの使い方(Version 1.7)"]
["平成30年度（第３期特定健診）の項目に対応しています。"]
["（１）ＫＤＢの厚生労働省様式（様式５－２）の画面から、ＣＳＶファイルを出力・保存する。"]
["（２）（１）のCSVファイルをエクセルで開く。"]
["（３）（２）で開いたCSVファイルの内容（データのある範囲だけ※）を、このツールの「CSVデータ1」シートにコピー＆ペーストする。"]
["（４）人数が少ない等の理由で複数年を合算して計算したい場合は、同様に「CSVデータ2」～「CSVデータ4」シートに他の年度をコピー＆ペーストする。"]
["　　（単年度だけで分析する場合には（４）は不要です。）"]
["（５）「出力票」シートの左上にある「計算開始」をクリックすると、計算結果が表示されるので、印刷する。※※"]
[]
["※A1～AO213"]
["※※「集計対象年齢」の範囲を指定することも出来ます。（通常は変える必要はありません）"]
["見本データは全て仮想値です。"]
[]
[]
["このエクセルファイルは、マクロを使っています。\nセキュリティの警告でマクロが無効にされた場合は、コンテンツの有効化を行って下さい。"]
[]
[]
["履歴"]
["Ver.1.7  2025/7/2　最新のKDBのCSVファイルを使用するとエラーが起きることがある点を修正しました。第４期特定健診はVer.2.0をお使いください。"]
["Ver.1.6  2019/12/2　複数年度を合算（プール）して計算できるようにしました。"]
["Ver.1.5  2019/6/19　様式番号（旧様式6-2～7）を変更。集計対象年齢を指定できるようにしました。"]
["Ver.1.3  2016/9/20　ALT(GOT)→ALT(GPT)に修正しました。"]
["Ver.1.2  2014/11/20　公開"]

{"sheet":"CSVデータ1","index":1,"n_rows":213,"n_cols":39,"rows_kept":213,"cut":false,"hidden":false,"merged":[]}
["レコード種別","保険者番号","保険者名","地区名","作成年月","県計・国計"]
["共通部",999999,"見本データ",null,"H30年度","国保組合含む"]
["レコード種別","集計単位","年齢","性別","受診者","ＢＭＩ人数","ＢＭＩ割合","腹囲人数","腹囲割合","中性脂肪人数","中性脂肪割合","ＡＬＴ（ＧＰＴ）人数","ＡＬＴ（ＧＰＴ）割合","ＨＤＬコレステロール人数","ＨＤＬコレステロール割合","空腹時血糖人数","空腹時血糖割合","ＨｂＡ１ｃ人数","ＨｂＡ１ｃ割合","尿酸人数","尿酸割合","収縮期血圧人数","収縮期血圧割合","拡張期血圧人数","拡張期血圧割合","ＬＤＬコレステロール人数","ＬＤＬコレステロール割合","血清クレアチニン人数","血清クレアチニン割合","心電図人数","心電図割合","眼底検査人数","眼底検査割合","随時血糖人数","随時血糖割合","ｎｏｎ－ＨＤＬコレステロール人数","ｎｏｎ－ＨＤＬコレステロール割合","ｅＧＦＲ人数","ｅＧＦＲ割合"]
["明細部","国",40,"男",45492,15808,34.748966851314513,20459,44.972742460212785,13469,29.607403499516398,16176,35.557900290160909,3960,8.7048272223687668,6530,14.354172162138399,12267,26.965180691110525,7110,15.62912160379847,10564,23.221665347753451,8349,18.352677393827484,24796,54.506286819660602,99,0.21762068055921918,5885,12.936340455464698,7884,17.33051965180691,563,1.2375802338872768,2650,5.8252000351710196,614,1.3496878572056625]
["明細部","国",41,"男",44516,16111,36.191481714439746,20624,46.329409650462757,13538,30.411537424746161,15477,34.767274687752717,3880,8.715967292658819,6231,13.997214484679665,12596,28.295444334621262,6672,14.987869530056608,10597,23.80492407224369,7969,17.901428699793332,23842,53.558271183394737,103,0.23137748225357177,5711,12.829095156797557,7200,16.173959924521519,625,1.4039895767813819,2697,6.0584958217270195,669,1.5028304429867914]
["明細部","国",42,"男",44259,16032,36.223141056056399,20311,45.891231162023544,13473,30.441266183149189,16563,37.4228970378906,3977,8.985743012720576,6980,15.770803678347905,13589,30.70335976863463,6995,15.804695090264126,11784,26.625093201382771,9382,21.197948439865339,24288,54.87697417474412,110,0.24853702071894984,6097,13.775729230213063,7516,16.981856797487517,580,1.31046792742719,2850,6.4393682640818826,841,1.9001784947694254]
["明細部","国",43,"男",46754,17762,37.990332377978355,23273,49.777559139324978,14956,31.98870684861188,17336,37.079180390982593,4356,9.3168498951961336,7843,16.775035291098085,14830,31.719211190486373,7647,16.355819822902852,13140,28.10454720451726,10612,22.697523206570562,26143,55.916071352183771,146,0.31227274671685845,6626,14.172049450314411,8054,17.226333575736835,712,1.5228643538520767,3203,6.8507507379047787,1041,2.2265474611797922]
["明細部","国",44,"男",52391,19809,37.809929186310626,24822,47.378366513332445,16678,31.833711897081564,18780,35.845851386688551,4524,8.6350709091256128,9165,17.493462617625163,16509,31.511137409096985,8138,15.533202267565041,14364,27.416922753908114,11886,22.687102746654961,28204,53.833673722585942,143,0.27294764367925789,6994,13.349621118130978,8772,16.74333377870245,865,1.6510469355423643,3310,6.3178790250233821,1099,2.0976885342902407]
["明細部","国",45,"男",56024,21055,37.582107668142221,26767,47.777738112237614,17777,31.731043838354989,18878,33.696273025846068,5054,9.0211337998000847,10412,18.584892189061829,18622,33.239326003141514,8636,15.414822219048979,16278,29.055404826502929,13518,24.128944737969441,31564,56.340139940025701,189,0.3373554191060974,7906,14.111809224618021,9942,17.745966014565187,808,1.4422390404112524,3633,6.484720833928316,1453,2.5935313437098388]
["明細部","国",46,"男",55132,22384,40.600740042080822,26816,48.639628527896683,19033,34.522600304723213,19563,35.483929478342887,5050,9.1598345788289919,10300,18.682434883552201,19809,35.930131321192775,8549,15.506420953348327,16514,29.95356598708554,14241,25.830733512297758,31359,56.879851991583827,246,0.44620184284988751,7969,14.454400348255097,9847,17.8607705144018,980,1.7775520568816656,3648,6.6168468403105276,1706,3.0943916418776753]
["明細部","国",47,"男",57250,22213,38.800000000000004,28356,49.530131004366815,19300,33.711790393013104,19577,34.195633187772927,5093,8.8960698689956335,10799,18.862882096069868,21549,37.640174672489088,8498,14.843668122270742,17323,30.258515283842797,15204,26.557205240174675,32643,57.018340611353715,253,0.44192139737991265,7938,13.865502183406115,9283,16.214847161572052,996,1.7397379912663755,3700,6.462882096069869,1940,3.3886462882096069]
["明細部","国",48,"男",53634,22228,41.443860237908794,27182,50.680538464406908,18262,34.049297087668265,19128,35.663944512809039,4872,9.0837901331245092,11124,20.740575008390199,22024,41.06350449341835,8420,15.698996904948354,17907,33.387403512697169,15285,28.498713502628931,30124,56.165864936420931,297,0.55375321624342766,7989,14.895402170265129,9865,18.393183428422269,944,1.7600775627400529,3573,6.6618189954133573,2332,4.3479882164298767]
["明細部","国",49,"男",56840,21851,38.442997888810702,27768,48.852920478536241,18828,33.124560168895144,18571,32.672413793103452,4897,8.6154116819141446,11990,21.09429978888107,21924,38.571428571428577,8504,14.961294862772695,18432,32.427867698803659,15659,27.549261083743843,32082,56.442646023926812,320,0.56298381421534127,8088,14.229415904292752,9745,17.144616467276567,1093,1.922941590429275,3565,6.2719915552427867,2438,4.2892329345531319]
["明細部","国",50,"男",57165,22537,39.424473016706024,28757,50.305256713023702,18611,32.556634304207122,18685,32.686084142394819,4742,8.2952855768389746,12818,22.422811160675238,23496,41.102072946733145,8539,14.937461733578239,20018,35.017930551911135,16661,29.145456135747398,31104,54.41091577013907,337,0.58952156039534676,8504,14.876235458759732,11146,19.497944546488235,1113,1.946995539228549,3974,6.951806175107146,2802,4.9016006297559693]
["明細部","国",51,"男",54407,20988,38.575918539893763,29186,53.643832595070485,19162,35.219732754976377,18170,33.396437958350951,4984,9.1605859540132695,13137,24.145790063778559,23792,43.729667138419686,8556,15.72591762089437,20506,37.690003124597936,17852,32.811954344110134,30810,56.628742625029872,369,0.67822155237377535,8448,15.527413751906924,9657,17.749554285294174,1233,2.2662525042733472,3686,6.7748635285900711,2888,5.3081404966272716]
["明細部","国",52,"男",47021,18268,38.850726271240511,25542,54.320410029561259,16149,34.344229174198766,15278,32.491865336764427,4186,8.902405308266518,11601,24.671955083898684,21419,45.551987409880688,7278,15.478190595691288,17692,37.625741689883249,14682,31.224346568554473,25520,54.273622424023301,372,0.79113587545990083,7483,15.914166010931286,8687,18.474724059462794,1048,2.228791391080581,2944,6.2610323047149139,2983,6.3439739690776458]
["明細部","国",53,"男",52653,20446,38.83159554061497,27884,52.958046075247381,16986,32.260270070081475,15315,29.086661728676429,4131,7.8457067973334844,13110,24.898866161472281,23782,45.167416861337436,8108,15.398932634417791,20989,39.862875809545514,17203,32.672402332250769,28395,53.928551079710566,483,0.91732664805424191,8312,15.786374945397224,9775,18.564944067764419,1285,2.4405067137674967,3315,6.2959375534157589,3618,6.871403338841092]
["明細部","国",54,"男",56778,21780,38.359928141181442,30113,53.036387333121979,18188,32.033534115326354,15770,27.774842368523018,4431,7.8040790447004129,13864,24.417908344781431,25661,45.195322131811615,8092,14.251999013702491,22878,40.293775758216213,18112,31.899679453309382,29094,51.241678114762756,521,0.91760893303744417,9003,15.856493712353375,9909,17.452182183239987,1318,2.3213216386628623,3449,6.0745359117968221,4069,7.1665081545669098]
["明細部","国",55,"男",55615,20529,36.91270340735413,28442,51.140879259192658,18246,32.80769576553088,15307,27.523150229254696,4488,8.0697653510743503,14292,25.698103029758158,25396,45.663939584644432,8013,14.40798345770026,22766,40.934999550480981,17231,30.982648566034342,29093,52.311426773352508,502,0.90263418142587437,8805,15.832059696125144,10867,19.539692528993978,1449,2.6054122089364378,3306,5.9444394497887263,4463,8.024813449608919]
["明細部","国",56,"男",56139,20333,36.219027770355723,29367,52.311227488911449,18857,33.589839505513105,15776,28.10167619658348,4464,7.9516913375728109,15138,26.965211350398121,26476,47.16150982383013,8168,14.5496000997524,22544,40.157466289032577,18870,33.612996312723773,28734,51.183669107037886,546,0.97258590284828728,9502,16.925844778139972,10245,18.249345374873084,1471,2.6202818005308255,3432,6.1133971036178059,4695,8.3631699887778552]
["明細部","国",57,"男",57707,21081,36.531096747361673,29638,51.359453792434195,18338,31.777773926906615,15403,26.691735837939941,4619,8.0042282565373348,16266,28.187221654218725,28025,48.564298958531893,8117,14.065884554733394,23907,41.428249605767064,19240,33.340842532101824,30652,53.116606304261182,593,1.0276049699343233,9524,16.504063631795102,11276,19.540090456963625,1583,2.7431680731973591,3329,5.7687975462248948,5133,8.8949347566153154]
["明細部","国",58,"男",58658,21256,36.237171400320499,29903,50.978553649971012,18721,31.915510245831769,16002,27.280166388216443,4593,7.8301339970677484,17307,29.504926864195845,30340,51.723550069896682,8089,13.790105356473115,25627,43.688840396876813,19964,34.034573289235908,31254,53.281734801732071,614,1.0467455419550615,10372,17.682157591462374,11935,20.346755770738859,1585,2.7021037198677078,3490,5.9497425756077602,5691,9.7020014320297321]
["明細部","国",59,"男",59626,22425,37.609432126924496,31827,53.377721128366815,19091,32.017911649280521,15397,25.822627712742761,4988,8.3654781471170292,18370,30.808707610773823,31602,53.000368966558206,8591,14.408144098212189,27484,46.09398584510113,19842,33.277429309361686,31605,53.005400328715659,737,1.2360379700130815,11215,18.808908865260122,12537,21.02606245597558,1823,3.0573910710092909,3461,5.8045148089759504,6736,11.297085164190118]
["明細部","国",60,"男",67062,25346,37.794876383048518,37448,55.840863678387166,22072,32.912826936267933,16991,25.33625600190868,5224,7.7898064477647546,20971,31.271062598789179,36404,54.284095314783329,9305,13.87521994572187,32369,48.267275058900715,22108,32.966508603978404,34095,50.841012794130805,827,1.233187199904566,12643,18.852703468432196,15075,22.47919835376219,2095,3.1239748292624734,3858,5.7528853896394381,7552,11.261220959708925]
["明細部","国",61,"男",70403,26814,38.086445179892905,38734,55.01754186611366,22258,31.615130037072287,18102,25.711972501171825,5814,8.2581708165845207,22019,31.275655866937491,39904,56.679402866355119,10033,14.250813175574905,34988,49.696745877306363,23807,33.815320369870598,36737,52.18101501356476,1055,1.4985156882519211,14368,20.408221240572136,15497,22.011846086104285,2196,3.1191852619916767,3919,5.5665241538002643,9206,13.076147323267476]
["明細部","国",62,"男",88129,29547,33.526988845896355,46341,52.583145162205405,26805,30.415640708506846,20020,22.716699383857755,6668,7.5661813931849897,27115,30.767397791873275,47790,54.22732585187623,11921,13.526761905842571,41345,46.914182618661279,25386,28.805501026903745,41971,47.624504987007683,1340,1.5204983603581115,16183,18.362854451996505,17287,19.615563548888563,2528,2.8685222798397803,4266,4.8406313472296292,11059,12.548650274030116]
["明細部","国",63,"男",115427,40061,34.706784374539751,63174,54.730695591152845,34913,30.246822667140272,25752,22.310204718133537,8988,7.7867396709608672,36009,31.19634054424008,65982,57.163401977007112,14812,12.832352915695635,55064,47.704609839985444,34906,30.240758228144195,56717,49.136683791487265,1942,1.6824486471969298,23124,20.033441049321215,24706,21.404004262434263,3370,2.9195942023963197,6093,5.278660971869666,16799,14.553787242153049]
["明細部","国",64,"男",139170,45156,32.446647984479412,75155,54.002299346123451,41480,29.805274125170655,30967,22.25120356398649,10775,7.7423295250413169,43641,31.358051304160377,81039,58.230222030610044,17387,12.493353452611913,68130,48.954516059495582,40016,28.753323273694043,68576,49.274987425450888,2393,1.7194797729395705,28871,20.745131853129266,29320,21.067758856075301,3968,2.8511891930732198,6911,4.9658690809800961,21977,15.791478048429978]
["明細部","国",65,"男",168728,57787,34.248613152529515,88465,52.430539092503913,48938,29.004077568631171,34796,20.622540420084395,13307,7.8866578161301035,54972,32.580247498933197,101819,60.345052392015553,21220,12.576454411834431,83504,49.490303921103788,48981,29.029562372575977,80627,47.785192736238209,3007,1.782158266559196,37515,22.234009767199279,35216,20.871461760940687,5101,3.0232089516855529,8187,4.8521881371200992,28286,16.764259636811911]
["明細部","国",66,"男",221319,72286,32.661452473578862,121469,54.884126532290487,65122,29.424495863436938,44109,19.930055711439145,16740,7.563742832743686,69555,31.427487020996843,126844,57.312747662875765,27372,12.367668388163692,111622,50.434892621058289,58679,26.513313362160503,108440,48.997148911751815,4181,1.8891283622282768,49267,22.260628323822175,46531,21.0244036887931,7024,3.1736995016243523,10392,4.6954847979613135,38811,17.536225990538544]
["明細部","国",67,"男",253431,84535,33.356219247053438,137895,54.411259869550285,74275,29.307780026910677,50830,20.056741282637088,19580,7.7259688041320915,87933,34.697018123276159,151991,59.973326072974501,32597,12.862278095418478,135519,53.4737265764646,65411,25.810181074927691,126275,49.826185431142996,5247,2.070386022230903,58066,22.911956311579878,50590,19.962040950002169,8289,3.2707127383784935,12244,4.8312953032580861,50108,19.77185111529371]
["明細部","国",68,"男",316266,96064,30.374431649307859,172760,54.624904352665162,89190,28.200944774335529,57990,18.335831230672913,23691,7.4908463129138125,105174,33.254918328242681,195439,61.795766854483247,40883,12.926776827101239,173250,54.77983722562653,78401,24.78957586335553,154437,48.831363472519968,6960,2.200679175124737,72904,23.051481980358307,64615,20.43058691101794,9972,3.1530420595321655,14007,4.4288668399385323,66632,21.068341206452796]
["明細部","国",69,"男",381377,112519,29.503352325913728,201751,52.90067308726011,101899,26.718706162144017,65588,17.197681034776615,28152,7.3816722036200408,126357,33.131782986388799,227014,59.524827139549572,44416,11.646218833332897,195568,51.279442651234866,89683,23.515576450598751,172012,45.102877205494821,8787,2.304019382395897,89423,23.447402439056368,70787,18.560899057887603,12063,3.1630119278299422,16752,4.3925040052231781,85223,22.346129944910153]
["明細部","国",70,"男",397948,120675,30.324313729431985,216162,54.31915727683014,109185,27.437001819333179,68792,17.286680671846572,32270,8.1090996813654037,133409,33.524229296289967,252233,63.383406877280443,48474,12.180988470855489,222641,55.947259440931987,93738,23.555338888497996,182264,45.800958919255777,10135,2.5468151617799308,102808,25.834531144772683,76470,19.216078482615821,13936,3.5019650808648364,17509,4.399821082151437,96520,24.254425201282579]
["明細部","国",71,"男",434892,127051,29.214379662077022,219979,50.582443457226169,105250,24.201410925011267,71080,16.344287777195259,34369,7.9028816349806394,142239,32.706740983968437,276837,63.656494026103026,48794,11.219797099049879,239700,55.117132529455596,93218,21.434747017650359,189487,43.571047524442854,12259,2.8188607746291034,112777,25.932185462137724,78634,18.081270752278726,15278,3.5130561150814454,17208,3.956844457934384,112868,25.953110197474317]
["明細部","国",72,"男",343143,96148,28.019805154119421,172116,50.158680200382932,84219,24.543411930303112,51352,14.965189439971091,25775,7.5114456655097142,109263,31.841826876841434,213426,62.197392923649907,38795,11.305782137476212,183035,53.340735495114281,66379,19.344413262109384,150633,43.898025021638212,10587,3.0853026289331269,84447,24.609856532116346,61209,17.837752773624992,11872,3.4597820733630007,13686,3.9884246509472727,86575,25.230006149039902]
["明細部","国",73,"男",233987,64157,27.419044647779579,123119,52.617880480539512,56557,24.171000953044398,34558,14.769196579297139,18533,7.9205254992798748,78527,33.560411475851218,157561,67.337501656074906,26288,11.234812190420836,130521,55.78130408954344,44755,19.127130994456955,101569,43.407967109283852,7935,3.3912140418057417,64202,27.438276485445773,39103,16.711612183582851,9167,3.9177390196891282,8668,3.7044793086795416,66334,28.349438216653063]
["明細部","国",74,"男",304524,83268,27.34365764274737,155363,51.018310543668157,69432,22.800173385348938,41688,13.689561413878709,24390,8.0092209481026124,94275,30.958151081688147,203727,66.900145801316157,33139,10.882229315259224,166763,54.761857850284379,53013,17.408480119793516,127100,41.737268655344081,11123,3.6525856746923067,81087,26.627457934350002,53394,17.53359341135674,11576,3.8013424229288986,10714,3.5182777055338823,89414,29.361889374893273]
["明細部","国",40,"女",41797,6945,16.616025073569872,4600,11.005574562767663,3463,8.2852836327966131,2659,6.3617006005215675,691,1.6532287006244466,2409,5.7635715481972394,7968,19.06356915568103,340,0.81345551116108816,3810,9.1154867574227811,2990,7.1536234657989803,13837,33.105246788046991,17,4.0672775558054403E-2,4600,11.005574562767663,6330,15.144627604852023,333,0.79670789769600692,1025,2.4523291145297508,458,1.0957724238581716]
["明細部","国",41,"女",40766,6903,16.933228670951284,4351,10.673109944561645,3179,7.7981651376146797,2307,5.6591277044595989,651,1.5969190011283914,2254,5.5291174017563653,8076,19.810626502477554,304,0.7457194721091106,4166,10.219300397389981,3080,7.5553157042633572,13418,32.91468380513173,11,2.6983270372369132E-2,4311,10.574988961389394,5432,13.324829514791739,354,0.86837070107442482,1073,2.6320953735956434,497,1.2191532159152234]
["明細部","国",42,"女",40097,7313,18.238272189939398,4531,11.300097264134473,3361,8.3821732299174503,2426,6.0503279547098288,599,1.4938773474324762,2377,5.9281242985759537,8523,21.255954310796319,304,0.75816145846322669,4394,10.958425817392822,3041,7.584108536798265,14219,35.461505848317834,19,4.7385091153951668E-2,4252,10.604284609821184,5709,14.237972915679478,338,0.8429558321071402,1025,2.5563009701473924,639,1.5936354340723744]
["明細部","国",43,"女",43434,7707,17.744163558502553,5050,11.626836119169315,4038,9.2968642077635035,2869,6.605424321959755,776,1.7866187779159184,2648,6.0966063452594739,9475,21.814707372104802,366,0.84265782566652847,5121,11.790302527973477,3720,8.5647188838237334,16252,37.41769120965143,26,5.9860938435327159E-2,4572,10.526315789473683,6197,14.267624441681631,377,0.86798360731224389,1263,2.9078602016853154,720,1.6576875259013677]
["明細部","国",44,"女",47752,9360,19.601273245099684,5803,12.152370581336907,4179,8.7514659071871339,3162,6.6217121795945717,726,1.5203551683699112,3043,6.3725079577818731,11224,23.504774669123808,375,0.78530742167867307,6580,13.779527559055119,4527,9.4802311945049436,17757,37.185877031328531,42,8.7954431228011387E-2,5008,10.487518847378121,6754,14.143910202714022,409,0.8565086279108729,1362,2.8522365555369409,968,2.0271402244932148]
["明細部","国",45,"女",50394,9707,19.262213755605824,6092,12.088740723101957,4776,9.47731872842005,3217,6.3836964718021987,805,1.5974123903639323,3578,7.1000515934436637,12338,24.483073381751797,478,0.94852561812914238,7006,13.902448704210817,4945,9.8126761122355841,19300,38.298210104377503,34,6.7468349406675399E-2,5587,11.086637298091043,8107,16.087232607056396,427,0.84732309401912931,1644,3.2622931301345401,1129,2.2403460729451918]
["明細部","国",46,"女",53716,10390,19.342467793581054,6886,12.819271725370468,5073,9.4441134857398161,3538,6.5864919204706229,858,1.5972894482090998,3818,7.1077518802591406,12695,23.633554248268673,484,0.9010350733487229,8399,15.635937150941992,5604,10.43264576662447,21525,40.07185940874227,55,0.10239034924417306,6244,11.624097103283939,7557,14.068433986149378,499,0.92895971405167932,1769,3.2932459602353115,1319,2.4555067391466232]
["明細部","国",47,"女",49720,9829,19.768704746580852,6849,13.775140788415124,5546,11.154465004022526,3740,7.5221238938053103,876,1.7618664521319389,3939,7.9223652453740954,14106,28.37087691069992,482,0.96942880128720843,8812,17.723250201126305,5969,12.005229283990346,21862,43.970233306516491,49,9.8551890587288804E-2,5998,12.063555913113436,7358,14.798873692679001,498,1.001609010458568,1813,3.646419951729686,1567,3.1516492357200323]
["明細部","国",48,"女",53733,10697,19.907691735060389,6948,12.930601306459719,5498,10.232073399959058,4107,7.6433476634470434,688,1.2804049652913481,4604,8.5682913665717528,14399,26.797312638415871,563,1.0477732492137048,9656,17.97033480356578,6294,11.713472167941488,23405,43.557962518377906,48,8.9330578973814967E-2,6194,11.527366795079374,7972,14.836320324567771,543,1.010552174641282,1898,3.5322799769229336,1726,3.212178735600097]
["明細部","国",49,"女",52739,10560,20.023132785983808,7365,13.964997440224503,6041,11.454521321981835,4109,7.7911981645461603,781,1.4808775289633858,4556,8.6387682739528628,16142,30.60733043857487,624,1.1831851191717704,10202,19.344318246458979,6600,12.51445799123988,25204,47.790060486546956,37,7.0156809950890242E-2,6189,11.735148561785396,8198,15.544473729118868,600,1.1376779992036254,2317,4.3933332069246669,2143,4.0634065871556153]
["明細部","国",50,"女",56219,11658,20.736761593055729,7755,13.794268841494869,7015,12.477987868869956,4937,8.7817285970935099,806,1.4336790053184867,5477,9.7422579554954734,18063,32.129707038545682,746,1.3269535210516019,12019,21.378893256728151,7519,13.374481936711788,28110,50.000889379035563,60,0.10672548426688487,7300,12.984933919137658,9740,17.325103612657642,622,1.1063875202333731,2669,4.747505291805262,2565,4.562514452409328]
["明細部","国",51,"女",55067,11464,20.818275918426643,8379,15.216009588319684,7161,13.004158570468702,5452,9.9006664608567743,748,1.3583452884667768,5893,10.701509070768337,20004,36.326656618301342,850,1.5435741914395191,13694,24.867888208909147,8122,14.74930539161385,29768,54.057784153848942,67,0.12166996567817387,6973,12.662756278715021,8560,15.544700092614452,657,1.1930920515008989,2759,5.0102602284489803,2704,4.9103818984146583]
["明細部","国",52,"女",48620,9931,20.425750719868365,7732,15.902920608802962,6828,14.043603455368162,5511,11.334841628959277,617,1.2690250925545044,5147,10.586178527354997,18475,37.998765939942409,785,1.6145619086795557,11426,23.500617030028796,7657,15.748663101604279,28222,58.046071575483339,52,0.10695187165775401,6015,12.37145207733443,7780,16.00164541341012,624,1.2834224598930482,2525,5.1933360756890163,2795,5.7486631016042784]
["明細部","国",53,"女",54317,10956,20.17048069665114,8797,16.19566618185835,7728,14.227589888985031,6228,11.46602352854539,697,1.2832078354842866,6261,11.526777988475063,23029,42.397407809709669,924,1.701124878030819,13680,25.185485207209528,8884,16.355837030763848,34035,62.659940718375459,73,0.13439622954139588,6988,12.865217151168142,8599,15.831139422280319,697,1.2832078354842866,3130,5.7624684721173853,3451,6.3534436732514692]
["明細部","国",54,"女",59398,12254,20.630324253341865,9560,16.094818007340315,8693,14.635172901444493,7190,12.104784672884609,736,1.2390989595609281,7655,12.887639314455033,25985,43.747264217650425,1063,1.7896225462136772,16543,27.851106097848412,9472,15.946664870871071,36672,61.739452506818417,78,0.13131755277955487,7897,13.295060439745447,9629,16.210983534799151,831,1.3990370046129499,3596,6.0540758948112732,4312,7.2595036869928284]
["明細部","国",55,"女",65044,12738,19.583666441178281,10326,15.875407416518051,9081,13.961318492097657,7692,11.825840969190086,721,1.1084804132587172,8280,12.729844413012732,28692,44.111678248570193,1137,1.7480474755550091,17157,26.37752905725355,10073,15.486439948342658,38544,59.258348195067953,75,0.11530656171207182,8492,13.055777627452187,11250,17.295984256810772,850,1.3068076994034807,4081,6.2742143779595345,4571,7.0275505811450714]
["明細部","国",56,"女",65653,13388,20.392061291944007,10203,15.540797831020669,9913,15.099081534735657,8017,12.211170852817084,782,1.1911108403271748,9013,13.728237856609752,30019,45.723729304068364,1163,1.7714346640671408,18663,28.426728405404173,10301,15.690067475972155,41188,62.735899349610833,84,0.12794540995841774,9398,14.314654318919166,10768,16.401383028955266,958,1.4591869373829069,3934,5.9921100330525636,4953,7.5442097086195608]
["明細部","国",57,"女",69844,13720,19.643777561422599,11175,15.999942729511481,10609,15.189565316992153,8492,12.158524712215796,807,1.1554321058358628,10492,15.022049138079147,34939,50.024339957619837,1222,1.7496134242025083,21001,30.068438233778132,11058,15.832426550598477,45702,65.434396655403475,100,0.14317622129316762,9563,13.69194204226562,11332,16.224729396941758,1092,1.5634843365213906,4335,6.2066891930588168,5687,8.1424317049424424]
["明細部","国",58,"女",75963,15463,20.355962771349208,12914,17.000381764806551,11613,15.287705856798706,8996,11.842607585271777,814,1.0715743190763924,11328,14.912523202085225,39427,51.902900096099415,1320,1.7376880849887446,24798,32.644840251174912,13061,17.193897028816661,51079,67.241946737227337,135,0.17771809960112159,10491,13.810670984558271,13161,17.325540065558233,1269,1.670550136250543,4430,5.8317865276516194,7237,9.5270065689875345]
["明細部","国",59,"女",85191,18390,21.586787336690495,14709,17.265908370602528,13342,15.661278773579369,9907,11.629162704980574,1032,1.2113955699545726,13669,16.045122137314973,43448,51.000692561420813,1421,1.6680165745207827,28596,33.566926083741237,15001,17.608667582256341,56716,66.575107699170104,138,0.16198894249392543,12617,14.810249909027947,14849,17.4302449789297,1512,1.7748353699334436,5028,5.9020319047786742,7600,8.921130166332123]
["明細部","国",60,"女",107677,21660,20.115716448266575,17662,16.402760106615155,16569,15.387687249830512,11460,10.642941389526083,1324,1.2296033507620012,17926,16.647937814017848,58440,54.273428865960241,1787,1.659593042153849,35467,32.938324804740105,17963,16.68229984119171,68734,63.833502047791079,178,0.1653092118093929,16031,14.888044800653807,19185,17.817175441366309,1644,1.5267884506440559,6391,5.9353436667069106,11343,10.534283087381706]
["明細部","国",61,"女",123052,25427,20.663621883431396,20821,16.920488899002049,19590,15.920098820011052,13274,10.787309430159606,1382,1.123102428241719,20330,16.521470597796053,67871,55.156356662224105,2108,1.7130969021226798,42735,34.729220167083838,19696,16.00624126385593,75364,61.245652244579531,197,0.16009491922114227,18302,14.873386860839318,21060,17.114715729935313,1934,1.5716932678867472,7036,5.7179078763449596,13180,10.71091896108962]
["明細部","国",62,"女",154605,30946,20.016170240289771,26285,17.001390640664919,24053,15.557711587594191,15722,10.169140713431002,1866,1.2069467352284855,25952,16.786003040005173,85529,55.320979269751945,2455,1.5879175964554835,53738,34.758254907667933,25311,16.371398078975457,94447,61.089227385918953,254,0.16428964134407037,22835,14.769897480676564,27511,17.794379224475275,2696,1.7437987128488728,8494,5.494000840852495,17196,11.122538080915882]
["明細部","国",63,"女",189583,38271,20.186936592415986,33042,17.428777896752344,28656,15.115279323568043,19556,10.315270883992763,2265,1.1947273753448358,32394,17.086975097978193,107208,56.54937415274577,2848,1.5022443995505925,71158,37.533956103659079,31304,16.512029032138958,117854,62.164856553593935,328,0.17301129320666939,28698,15.137433208673773,34097,17.98526239167014,3224,1.7005744185923841,10879,5.7383837158395004,23620,12.458923004699789]
["明細部","国",64,"女",214791,47096,21.926430809484568,38154,17.76331410533961,36493,16.990004236676583,22121,10.298848648220829,2876,1.3389760278596403,40698,18.947721273237704,130551,60.780479629034737,3312,1.5419640487729933,90463,42.116755357533606,36790,17.128278186702424,135667,63.162329892779489,406,0.18902095525417731,35915,16.720905438309799,41386,19.268032645688134,3797,1.7677649435963332,12384,5.7656047041077141,28687,13.355773752159076]
["明細部","国",65,"女",260095,57080,21.945827486110844,47134,18.121840096887677,43424,16.695438205271152,26868,10.330071704569484,3817,1.4675407062803976,49954,19.206059324477597,152948,58.804667525327282,4291,1.6497818104923199,113041,43.461427555316327,45211,17.382494857648169,170377,65.505680616697745,497,0.19108402699013821,44377,17.061842788212001,48398,18.607816374786136,5076,1.9515946096618542,14734,5.6648532267056266,36109,13.883004286895172]
["明細部","国",66,"女",318720,70496,22.11847389558233,58211,18.263993473895582,54688,17.158634538152612,30463,9.557919176706827,4620,1.4495481927710843,63833,20.027924196787147,194159,60.918360943775099,5171,1.6224272088353413,137115,43.020519578313255,50123,15.726342871485944,187189,58.73148845381526,622,0.19515562248995985,52194,16.37612951807229,55053,17.273155120481928,6440,2.0205823293172691,17105,5.3667796184738954,50029,15.696849899598394]
["明細部","国",67,"女",365456,75858,20.75708156385447,68551,18.757661661048115,58674,16.055010726325467,32495,8.891631277089445,5519,1.5101681187338558,74137,20.286163040147105,221866,60.709360360754786,5696,1.5586007617880129,159925,43.7603979685653,58182,15.920384396480014,224239,61.358686134582555,697,0.19072063394772559,62593,17.12736964230988,62687,17.153090932971409,7353,2.0120069173854032,18122,4.9587364826408651,57191,15.64921632152708]
["明細部","国",68,"女",403431,92211,22.856696684191348,80856,20.042088981758962,70975,17.592847351839598,38637,9.5771024041285866,6286,1.5581350962122396,86186,21.363256665947834,254074,62.978303600863597,6959,1.7249542053040048,191694,47.515932092476781,67184,16.653157541190438,244530,60.612595462421083,945,0.23424079954192911,71955,17.835763736549744,71808,17.799326278843221,9167,2.2722596924876868,21988,5.4502504765374997,70681,17.519972436426549]
["明細部","国",69,"女",469628,103812,22.105155569940464,87450,18.621121398213052,79218,16.868244653214884,41100,8.7516076554208855,7744,1.6489647124958478,100451,21.38948273953001,293898,62.581021574522808,8005,1.7045406151251628,234597,49.95379321505532,75083,15.98776052535198,287409,61.19928965053191,1160,0.24700401168584496,83133,17.701883192654609,77109,16.419165807830879,10778,2.2950079637500318,23934,5.0963741514560468,82518,17.570928479562546]
["明細部","国",70,"女",501982,110018,21.916722113541919,101654,20.250526911323512,91472,18.222167328708995,44426,8.8501181317258393,8373,1.667988095190664,108702,21.654561318931755,324344,64.612675354893199,9139,1.8205832081628424,258882,51.571968716009742,79924,15.921686434971772,299998,59.762700654605148,1456,0.2900502408452893,93486,18.623376933834283,78975,15.732635831563682,12660,2.5220027809762104,26164,5.2121390806841683,97526,19.428186668047857]
["明細部","国",71,"女",535880,117171,21.865156378293648,103208,19.259535716951557,90466,16.881764574158396,44733,8.347577815928938,9459,1.7651339852205719,109648,20.461297305366873,354798,66.208479510338137,9584,1.7884601030081362,272680,50.884526386504433,81445,15.198365305665448,314319,58.654736134955584,1600,0.29857430768082405,101420,18.925878928118237,83638,15.607598716130477,13605,2.5388146599985073,25338,4.7282973800104502,115989,21.644584608494437]
["明細部","国",72,"女",409801,90084,21.982376812160048,82045,20.020692970490554,74183,18.102200824302528,35129,8.5722094382395362,7924,1.9336214406504619,91260,22.269345365189448,264353,64.507651274643067,7841,1.9133677077410742,230835,56.328559471548388,62381,15.22226641711465,236429,57.693612265465433,1400,0.34162922979690141,81496,19.886725508234484,61779,15.075365848301981,11349,2.7693929492607388,19411,4.736689271134038,92626,22.602677885119853]
["明細部","国",73,"女",300459,68651,22.848708143207556,60566,20.157825194119663,50082,16.668497199285092,23862,7.9418489710742568,5417,1.8029082170945121,64454,21.451845343291431,192508,64.071304237849418,5870,1.9536775400304203,167930,55.891153202267198,40379,13.439104836267177,167508,55.750701426816974,1092,0.3634439307858976,62123,20.676032337190765,42875,14.269833820920658,8625,2.8706079698061964,13227,4.4022645352610512,75103,24.996089316678816]
["明細部","国",74,"女",386305,86598,22.41700210973195,81526,21.104049908750859,65299,16.903482999184583,28273,7.3188283868963646,7718,1.997903211193228,82577,21.376114727999894,261955,67.810408873817323,8069,2.0887640594866754,206917,53.563117226026066,51366,13.296747388721347,214579,55.546524119542852,1564,0.40486144367792287,78815,20.402272815521414,52912,13.696949301717554,11821,3.0600173438086484,16790,4.3463066747777015,101353,26.236522954660181]
["明細部","県",40,"男",270,84,31.111111111111111,117,43.333333333333336,66,24.444444444444443,97,35.925925925925931,27,10,31,11.481481481481481,58,21.481481481481481,44,16.296296296296298,70,25.925925925925924,53,19.62962962962963,145,53.703703703703709,1,0.37037037037037041,121,44.81481481481481,34,12.592592592592592,3,1.1111111111111112,10,3.7037037037037033,5,1.8518518518518516]
["明細部","県",41,"男",255,93,36.470588235294116,124,48.627450980392155,83,32.549019607843135,116,45.490196078431374,20,7.8431372549019605,30,11.76470588235294,66,25.882352941176475,61,23.921568627450981,70,27.450980392156865,54,21.176470588235293,154,60.392156862745097,1,0.39215686274509803,144,56.470588235294116,30,11.76470588235294,4,1.5686274509803921,5,1.9607843137254901,2,0.78431372549019607]
["明細部","県",42,"男",285,96,33.684210526315788,149,52.280701754385959,96,33.684210526315788,98,34.385964912280706,18,6.3157894736842106,37,12.982456140350877,70,24.561403508771928,70,24.561403508771928,76,26.666666666666668,58,20.350877192982455,154,54.035087719298247,1,0.35087719298245612,121,42.456140350877192,37,12.982456140350877,11,3.8596491228070176,5,1.7543859649122806,6,2.1052631578947367]
["明細部","県",43,"男",320,109,34.0625,144,45,81,25.3125,107,33.4375,32,10,41,12.812499999999998,79,24.6875,61,19.0625,88,27.500000000000004,65,20.3125,181,56.562500000000007,0,0,157,49.0625,23,7.1874999999999991,4,1.25,0,0,6,1.875]
["明細部","県",44,"男",311,117,37.620578778135048,163,52.411575562700961,115,36.977491961414792,127,40.836012861736336,33,10.610932475884244,34,10.932475884244374,88,28.29581993569132,62,19.935691318327976,98,31.511254019292608,83,26.688102893890676,176,56.59163987138264,2,0.64308681672025725,143,45.980707395498392,37,11.89710610932476,1,0.32154340836012862,3,0.96463022508038598,9,2.8938906752411575]
["明細部","県",45,"男",339,127,37.463126843657818,159,46.902654867256636,102,30.088495575221241,99,29.20353982300885,29,8.5545722713864301,50,14.749262536873156,88,25.958702064896755,67,19.764011799410032,98,28.908554572271388,75,22.123893805309734,189,55.752212389380531,0,0,187,55.162241887905608,26,7.6696165191740411,1,0.29498525073746312,5,1.4749262536873156,9,2.6548672566371683]
["明細部","県",46,"男",412,148,35.922330097087382,207,50.242718446601941,152,36.893203883495147,161,39.077669902912618,52,12.621359223300971,71,17.233009708737864,133,32.281553398058257,98,23.78640776699029,133,32.281553398058257,107,25.970873786407765,231,56.067961165048544,4,0.97087378640776689,208,50.485436893203882,36,8.7378640776699026,2,0.48543689320388345,9,2.1844660194174756,26,6.3106796116504853]
["明細部","県",47,"男",353,138,39.093484419263461,199,56.373937677053817,125,35.410764872521241,126,35.694050991501413,24,6.7988668555240803,55,15.580736543909349,121,34.277620396600568,87,24.645892351274785,112,31.728045325779036,92,26.062322946175637,223,63.172804532577906,0,0,189,53.541076487252127,42,11.89801699716714,0,0,9,2.5495750708215295,10,2.8328611898017]
["明細部","県",48,"男",354,135,38.135593220338983,187,52.824858757062145,84,23.728813559322035,115,32.485875706214692,21,5.9322033898305087,53,14.971751412429379,102,28.8135593220339,68,19.209039548022599,111,31.35593220338983,92,25.988700564971751,207,58.474576271186443,0,0,150,42.372881355932201,46,12.994350282485875,9,2.5423728813559325,9,2.5423728813559325,14,3.9548022598870061]
["明細部","県",49,"男",305,114,37.377049180327873,165,54.098360655737707,97,31.803278688524589,107,35.081967213114758,24,7.8688524590163942,47,15.409836065573771,111,36.393442622950822,58,19.016393442622949,107,35.081967213114758,87,28.524590163934427,162,53.114754098360649,1,0.32786885245901637,141,46.229508196721312,26,8.524590163934425,11,3.6065573770491808,5,1.639344262295082,5,1.639344262295082]
["明細部","県",50,"男",369,153,41.463414634146339,198,53.658536585365859,121,32.791327913279133,129,34.959349593495936,27,7.3170731707317067,67,18.157181571815716,132,35.772357723577237,56,15.176151761517614,132,35.772357723577237,113,30.62330623306233,190,51.490514905149055,0,0,153,41.463414634146339,41,11.111111111111111,5,1.3550135501355014,5,1.3550135501355014,16,4.3360433604336039]
["明細部","県",51,"男",362,145,40.055248618784525,203,56.077348066298342,127,35.082872928176798,116,32.044198895027627,26,7.1823204419889501,57,15.745856353591158,125,34.530386740331494,78,21.546961325966851,146,40.331491712707184,109,30.11049723756906,241,66.574585635359114,0,0,191,52.762430939226526,39,10.773480662983426,14,3.867403314917127,15,4.1436464088397784,10,2.7624309392265194]
["明細部","県",52,"男",275,122,44.363636363636367,165,60,76,27.636363636363637,84,30.545454545454547,23,8.3636363636363633,44,16,97,35.272727272727273,44,16,108,39.272727272727273,77,28.000000000000004,154,56.000000000000007,1,0.36363636363636365,129,46.909090909090914,22,8,10,3.6363636363636362,5,1.8181818181818181,19,6.9090909090909092]
["明細部","県",53,"男",366,145,39.617486338797811,212,57.923497267759558,112,30.601092896174865,122,33.333333333333329,19,5.1912568306010929,64,17.486338797814209,147,40.16393442622951,59,16.120218579234972,141,38.524590163934427,115,31.420765027322407,206,56.284153005464475,1,0.27322404371584702,194,53.005464480874323,37,10.10928961748634,3,0.81967213114754101,4,1.0928961748633881,27,7.3770491803278686]
["明細部","県",54,"男",376,135,35.904255319148938,216,57.446808510638306,131,34.840425531914896,111,29.521276595744684,30,7.9787234042553195,69,18.351063829787233,151,40.159574468085104,57,15.159574468085108,159,42.287234042553187,120,31.914893617021278,208,55.319148936170215,5,1.3297872340425532,184,48.936170212765958,39,10.372340425531915,11,2.9255319148936172,12,3.1914893617021276,26,6.9148936170212769]
["明細部","県",55,"男",398,130,32.663316582914575,187,46.984924623115575,123,30.904522613065328,113,28.391959798994975,25,6.2814070351758788,99,24.874371859296481,140,35.175879396984925,84,21.105527638190953,152,38.190954773869343,125,31.4070351758794,226,56.78391959798995,6,1.5075376884422109,187,46.984924623115575,50,12.562814070351758,8,2.0100502512562812,7,1.7587939698492463,27,6.78391959798995]
["明細部","県",56,"男",353,147,41.643059490084987,209,59.206798866855529,131,37.110481586402265,120,33.994334277620396,38,10.764872521246458,79,22.379603399433428,171,48.441926345609062,72,20.396600566572236,166,47.02549575070821,123,34.844192634560905,190,53.824362606232292,2,0.56657223796033995,184,52.124645892351275,40,11.3314447592068,14,3.9660056657223794,5,1.41643059490085,24,6.7988668555240803]
["明細部","県",57,"男",374,147,39.304812834224599,213,56.951871657754005,123,32.887700534759354,105,28.074866310160431,20,5.3475935828877006,76,20.320855614973262,163,43.582887700534762,56,14.973262032085561,184,49.19786096256685,124,33.155080213903744,209,55.882352941176471,8,2.1390374331550799,158,42.245989304812838,43,11.497326203208557,14,3.7433155080213902,12,3.2085561497326207,30,8.0213903743315509]
["明細部","県",58,"男",352,124,35.227272727272727,206,58.522727272727273,124,35.227272727272727,94,26.704545454545453,19,5.3977272727272725,82,23.295454545454543,138,39.204545454545453,64,18.181818181818183,132,37.5,95,26.988636363636363,205,58.238636363636367,2,0.56818181818181823,210,59.659090909090907,26,7.3863636363636367,8,2.2727272727272729,8,2.2727272727272729,31,8.8068181818181817]
["明細部","県",59,"男",470,156,33.191489361702125,254,54.042553191489361,144,30.638297872340424,104,22.127659574468083,26,5.5319148936170208,124,26.382978723404253,207,44.042553191489361,89,18.936170212765958,208,44.255319148936167,143,30.425531914893618,228,48.51063829787234,1,0.21276595744680851,224,47.659574468085111,44,9.3617021276595747,14,2.9787234042553195,6,1.2765957446808509,51,10.851063829787234]
["明細部","県",60,"男",440,147,33.409090909090914,255,57.95454545454546,154,35,118,26.81818181818182,33,7.5,118,26.81818181818182,233,52.954545454545453,75,17.045454545454543,202,45.909090909090914,141,32.045454545454547,257,58.409090909090914,6,1.3636363636363635,231,52.5,34,7.7272727272727266,25,5.6818181818181817,8,1.8181818181818181,32,7.2727272727272725]
["明細部","県",61,"男",501,189,37.724550898203589,273,54.491017964071851,166,33.133732534930139,130,25.948103792415168,45,8.9820359281437128,148,29.540918163672654,281,56.087824351297414,84,16.766467065868262,233,46.506986027944116,129,25.748502994011975,236,47.105788423153697,4,0.79840319361277434,274,54.690618762475054,53,10.578842315369261,17,3.3932135728542914,11,2.19560878243513,73,14.570858283433132]
["明細部","県",62,"男",674,235,34.866468842729972,360,53.412462908011868,212,31.454005934718097,149,22.106824925816024,54,8.0118694362017813,187,27.744807121661719,361,53.560830860534125,100,14.836795252225517,330,48.961424332344208,205,30.415430267062316,361,53.560830860534125,9,1.3353115727002967,381,56.528189910979229,80,11.869436201780417,27,4.0059347181008906,14,2.0771513353115725,83,12.314540059347182]
["明細部","県",63,"男",851,313,36.780258519388951,480,56.404230317273793,260,30.552291421856637,227,26.674500587544063,57,6.6980023501762629,261,30.669800235017625,445,52.291421856639253,143,16.803760282021152,426,50.058754406580498,237,27.849588719153939,439,51.586368977673324,5,0.58754406580493534,461,54.171562867215037,82,9.6357226792009403,28,3.2902467685076382,15,1.762632197414806,125,14.688601645123384]
["明細部","県",64,"男",1212,402,33.168316831683171,663,54.702970297029708,344,28.382838283828381,252,20.792079207920793,81,6.6831683168316838,364,30.033003300330037,652,53.795379537953792,192,15.841584158415841,550,45.379537953795378,311,25.660066006600662,615,50.742574257425744,17,1.4026402640264026,613,50.57755775577558,125,10.313531353135314,44,3.6303630363036308,23,1.8976897689768977,213,17.574257425742573]
["明細部","県",65,"男",1458,471,32.304526748971192,828,56.79012345679012,447,30.65843621399177,344,23.593964334705074,112,7.6817558299039783,437,29.972565157750342,871,59.739368998628265,236,16.186556927297669,768,52.674897119341566,423,29.012345679012348,736,50.480109739368991,20,1.3717421124828533,847,58.093278463648836,184,12.620027434842248,47,3.2235939643347047,29,1.9890260631001373,287,19.684499314128946]
["明細部","県",66,"男",1869,606,32.423756019261631,1011,54.09309791332263,510,27.287319422150887,412,22.043873729266988,136,7.2766185125735685,578,30.925628678437668,1136,60.781166399143927,333,17.81701444622793,1042,55.751738897806312,544,29.106474050294274,936,50.080256821829863,29,1.5516318887105405,1139,60.94168004280364,227,12.145532370251471,75,4.0128410914927768,35,1.8726591760299627,367,19.63616907437132]
["明細部","県",67,"男",2367,730,30.840726658217154,1292,54.583861427967896,604,25.517532741867342,466,19.68736797634136,169,7.1398394592310943,742,31.347697507393324,1379,58.259400084495141,370,15.631601182931981,1198,50.61258977608788,564,23.827629911280102,1161,49.049429657794676,50,2.1123785382340516,1402,59.231094212082802,256,10.815378115758344,69,2.915082382762991,56,2.3658639628221376,461,19.476130122517954]
["明細部","県",68,"男",2980,888,29.798657718120808,1637,54.932885906040262,818,27.449664429530202,572,19.19463087248322,220,7.3825503355704702,1031,34.597315436241608,1842,61.812080536912752,453,15.201342281879196,1632,54.765100671140942,706,23.691275167785236,1547,51.912751677852356,70,2.348993288590604,1820,61.073825503355707,301,10.100671140939598,102,3.4228187919463089,57,1.912751677852349,672,22.550335570469798]
["明細部","県",69,"男",3649,1038,28.446149630035627,2007,55.001370238421487,888,24.335434365579612,602,16.497670594683473,210,5.7550013702384213,1103,30.227459577966563,2157,59.112085502877498,585,16.031789531378461,1877,51.438750342559601,820,22.471910112359549,1786,48.944916415456291,72,1.9731433269388872,2037,55.823513291312686,296,8.1118114551932035,129,3.5352151274321733,60,1.6442861057824061,813,22.280076733351603]
["明細部","県",70,"男",4057,1173,28.912989894010355,2191,54.005422726152332,1040,25.634705447374905,685,16.884397337934434,283,6.9755977323145189,1418,34.951934927286175,2518,62.065565688932708,602,14.838550653192014,2289,56.421000739462656,855,21.074685728370717,2080,51.269410894749811,99,2.4402267685481887,2578,63.544491003204342,380,9.3665269903869852,177,4.3628296771013062,54,1.3310327828444664,1017,25.067784076904115]
["明細部","県",71,"男",4211,1140,27.071954405129421,2224,52.814058418427919,1092,25.932082640702919,694,16.480645927333175,265,6.2930420327713135,1366,32.438850629304206,2623,62.289242460223228,631,14.98456423652339,2267,53.835193540726664,885,21.016385656613632,1939,46.046069817145572,106,2.5172168131085253,2484,58.988363809071473,395,9.3801947280930893,159,3.7758252196627882,72,1.7098076466397532,1052,24.982189503680836]
["明細部","県",72,"男",3223,857,26.590133416071982,1704,52.869996897300652,772,23.952838969903816,514,15.947874650946323,216,6.7018305926155746,1081,33.540179956562213,2079,64.50511945392492,496,15.389388768228359,1749,54.26621160409556,598,18.554142103630159,1447,44.896059571827493,90,2.7924294135898231,1972,61.185231151101462,281,8.7185851690971141,122,3.7852932050884269,46,1.427241700279243,803,24.914675767918087]
["明細部","県",73,"男",2336,565,24.18664383561644,1133,48.50171232876712,482,20.633561643835616,354,15.154109589041095,157,6.7208904109589049,735,31.464041095890412,1438,61.558219178082197,336,14.383561643835616,1245,53.296232876712324,379,16.224315068493151,1012,43.321917808219176,64,2.7397260273972601,1386,59.332191780821915,179,7.6626712328767121,88,3.7671232876712328,33,1.4126712328767121,646,27.654109589041099]
["明細部","県",74,"男",3064,727,23.727154046997391,1531,49.967362924281986,676,22.06266318537859,395,12.891644908616188,169,5.5156657963446474,1029,33.583550913838124,1953,63.740208877284601,422,13.77284595300261,1660,54.177545691906005,499,16.285900783289815,1331,43.43994778067885,83,2.7088772845953004,1855,60.541775456919055,210,6.8537859007832891,112,3.6553524804177546,46,1.5013054830287207,798,26.044386422976501]
["明細部","県",40,"女",336,60,17.857142857142858,38,11.30952380952381,22,6.5476190476190483,15,4.4642857142857144,9,2.6785714285714284,8,2.3809523809523809,61,18.154761904761905,3,0.89285714285714279,34,10.119047619047619,21,6.25,142,42.261904761904759,1,0.29761904761904762,147,43.75,19,5.6547619047619051,0,0,1,0.29761904761904762,6,1.7857142857142856]
["明細部","県",41,"女",308,50,16.233766233766232,27,8.7662337662337659,26,8.4415584415584419,7,2.2727272727272729,3,0.97402597402597402,8,2.5974025974025974,42,13.636363636363635,4,1.2987012987012987,29,9.4155844155844157,13,4.220779220779221,85,27.597402597402599,0,0,132,42.857142857142854,22,7.1428571428571423,1,0.32467532467532467,2,0.64935064935064934,4,1.2987012987012987]
["明細部","県",42,"女",313,47,15.015974440894569,38,12.140575079872203,24,7.6677316293929714,13,4.1533546325878596,2,0.63897763578274758,15,4.7923322683706067,69,22.044728434504794,0,0,41,13.099041533546327,32,10.223642172523961,97,30.990415335463258,0,0,138,44.089456869009588,20,6.3897763578274756,1,0.31948881789137379,0,0,5,1.5974440894568689]
["明細部","県",43,"女",345,56,16.231884057971012,30,8.695652173913043,19,5.5072463768115938,16,4.63768115942029,5,1.4492753623188406,20,5.7971014492753623,67,19.420289855072465,2,0.57971014492753625,33,9.5652173913043477,26,7.5362318840579716,123,35.652173913043477,0,0,148,42.89855072463768,18,5.2173913043478262,2,0.57971014492753625,4,1.1594202898550725,5,1.4492753623188406]
["明細部","県",44,"女",340,48,14.117647058823529,35,10.294117647058822,15,4.4117647058823533,23,6.7647058823529411,1,0.29411764705882354,13,3.8235294117647061,66,19.411764705882355,2,0.58823529411764708,40,11.76470588235294,25,7.3529411764705888,136,40,0,0,154,45.294117647058826,13,3.8235294117647061,5,1.4705882352941175,1,0.29411764705882354,6,1.7647058823529411]
["明細部","県",45,"女",423,54,12.76595744680851,41,9.6926713947990546,28,6.6193853427895979,25,5.9101654846335698,6,1.4184397163120568,20,4.7281323877068555,81,19.148936170212767,5,1.1820330969267139,61,14.420803782505912,33,7.8014184397163122,193,45.626477541371159,1,0.2364066193853428,196,46.335697399527184,23,5.4373522458628845,0,0,1,0.2364066193853428,11,2.6004728132387704]
["明細部","県",46,"女",428,82,19.158878504672895,55,12.850467289719624,47,10.981308411214954,32,7.4766355140186906,10,2.3364485981308412,29,6.7757009345794383,102,23.831775700934578,4,0.93457943925233633,75,17.523364485981308,55,12.850467289719624,189,44.158878504672899,0,0,208,48.598130841121495,27,6.3084112149532707,6,1.4018691588785046,4,0.93457943925233633,6,1.4018691588785046]
["明細部","県",47,"女",408,65,15.931372549019606,44,10.784313725490197,41,10.049019607843137,42,10.294117647058822,2,0.49019607843137253,24,5.8823529411764701,106,25.980392156862749,1,0.24509803921568626,66,16.176470588235293,47,11.519607843137255,181,44.362745098039213,0,0,210,51.470588235294116,30,7.3529411764705888,1,0.24509803921568626,6,1.4705882352941175,10,2.4509803921568629]
["明細部","県",48,"女",418,72,17.224880382775119,49,11.722488038277511,25,5.9808612440191391,25,5.9808612440191391,1,0.23923444976076555,25,5.9808612440191391,100,23.923444976076556,1,0.23923444976076555,63,15.07177033492823,31,7.4162679425837315,195,46.650717703349279,0,0,206,49.282296650717704,25,5.9808612440191391,6,1.4354066985645932,6,1.4354066985645932,17,4.0669856459330145]
["明細部","県",49,"女",368,67,18.206521739130434,46,12.5,24,6.5217391304347823,20,5.4347826086956523,4,1.0869565217391304,20,5.4347826086956523,102,27.717391304347828,2,0.54347826086956519,74,20.108695652173914,43,11.684782608695652,198,53.804347826086953,1,0.27173913043478259,185,50.271739130434781,23,6.25,2,0.54347826086956519,5,1.3586956521739131,16,4.3478260869565215]
["明細部","県",50,"女",474,69,14.556962025316455,61,12.869198312236287,40,8.4388185654008439,37,7.8059071729957807,8,1.6877637130801686,37,7.8059071729957807,120,25.316455696202532,7,1.4767932489451476,93,19.62025316455696,55,11.603375527426159,249,52.531645569620252,2,0.42194092827004215,246,51.898734177215189,32,6.7510548523206744,2,0.42194092827004215,4,0.8438818565400843,16,3.3755274261603372]
["明細部","県",51,"女",451,71,15.742793791574281,45,9.9778270509977833,42,9.3126385809312637,39,8.6474501108647441,4,0.88691796008869184,41,9.0909090909090917,134,29.711751662971174,3,0.66518847006651882,99,21.951219512195124,50,11.086474501108649,241,53.436807095343688,1,0.22172949002217296,230,50.99778270509978,23,5.0997782705099777,5,1.1086474501108647,7,1.5521064301552108,10,2.2172949002217295]
["明細部","県",52,"女",392,61,15.561224489795919,42,10.714285714285714,35,8.9285714285714288,50,12.755102040816327,4,1.0204081632653061,41,10.459183673469388,111,28.316326530612244,8,2.0408163265306123,92,23.469387755102041,51,13.010204081632654,237,60.459183673469383,0,0,193,49.234693877551024,20,5.1020408163265305,4,1.0204081632653061,8,2.0408163265306123,6,1.5306122448979591]
["明細部","県",53,"女",474,83,17.510548523206751,64,13.502109704641349,56,11.814345991561181,56,11.814345991561181,6,1.2658227848101267,47,9.9156118143459917,181,38.185654008438817,10,2.109704641350211,129,27.215189873417721,61,12.869198312236287,302,63.713080168776372,0,0,254,53.586497890295362,42,8.8607594936708853,1,0.21097046413502107,12,2.5316455696202533,20,4.2194092827004219]
["明細部","県",54,"女",508,78,15.354330708661418,70,13.779527559055119,75,14.763779527559054,53,10.433070866141732,3,0.59055118110236215,41,8.0708661417322833,181,35.629921259842519,8,1.5748031496062991,129,25.393700787401574,68,13.385826771653544,313,61.614173228346459,0,0,258,50.787401574803148,26,5.1181102362204722,6,1.1811023622047243,11,2.1653543307086616,29,5.7086614173228352]
["明細部","県",55,"女",597,94,15.745393634840871,70,11.725293132328309,99,16.582914572864322,69,11.557788944723619,6,1.0050251256281406,51,8.5427135678391952,219,36.683417085427131,11,1.8425460636515913,164,27.470686767169177,84,14.07035175879397,387,64.824120603015075,1,0.16750418760469013,280,46.901172529313236,38,6.3651591289782248,13,2.1775544388609713,17,2.8475711892797317,36,6.0301507537688437]
["明細部","県",56,"女",582,92,15.807560137457044,68,11.683848797250858,86,14.776632302405499,68,11.683848797250858,1,0.1718213058419244,55,9.4501718213058421,221,37.972508591065292,5,0.85910652920962205,174,29.896907216494846,69,11.855670103092782,360,61.855670103092784,0,0,307,52.749140893470795,30,5.1546391752577314,9,1.5463917525773196,13,2.2336769759450172,20,3.4364261168384882]
["明細部","県",57,"女",657,99,15.068493150684931,79,12.02435312024353,81,12.328767123287671,59,8.9802130898021311,4,0.60882800608828003,71,10.80669710806697,268,40.791476407914764,16,2.4353120243531201,194,29.528158295281582,93,14.15525114155251,403,61.339421613394215,2,0.30441400304414001,332,50.532724505327245,49,7.4581430745814306,6,0.91324200913242004,18,2.7397260273972601,39,5.93607305936073]
["明細部","県",58,"女",690,116,16.811594202898551,93,13.478260869565217,92,13.333333333333334,68,9.8550724637681171,9,1.3043478260869565,69,10,303,43.913043478260875,13,1.8840579710144929,206,29.855072463768117,117,16.956521739130434,447,64.782608695652172,1,0.14492753623188406,376,54.492753623188406,46,6.666666666666667,16,2.318840579710145,20,2.8985507246376812,46,6.666666666666667]
["明細部","県",59,"女",855,149,17.42690058479532,144,16.842105263157894,107,12.514619883040936,89,10.409356725146198,1,0.11695906432748539,118,13.801169590643275,372,43.508771929824562,6,0.70175438596491224,281,32.865497076023395,135,15.789473684210526,544,63.62573099415205,1,0.11695906432748539,405,47.368421052631575,69,8.0701754385964914,15,1.7543859649122806,15,1.7543859649122806,56,6.5497076023391818]
["明細部","県",60,"女",1035,171,16.521739130434781,153,14.782608695652174,123,11.884057971014492,99,9.5652173913043477,16,1.5458937198067633,141,13.623188405797102,503,48.59903381642512,12,1.1594202898550725,351,33.913043478260867,146,14.106280193236714,692,66.859903381642511,0,0,584,56.425120772946855,71,6.8599033816425123,8,0.77294685990338163,30,2.8985507246376812,102,9.8550724637681171]
["明細部","県",61,"女",1116,201,18.010752688172044,189,16.93548387096774,182,16.308243727598569,140,12.544802867383511,11,0.98566308243727596,143,12.813620071684587,533,47.759856630824373,16,1.4336917562724014,377,33.781362007168461,172,15.412186379928317,799,71.594982078853036,1,8.9605734767025089E-2,598,53.584229390681003,84,7.5268817204301079,27,2.4193548387096775,26,2.3297491039426523,103,9.2293906810035846]
["明細部","県",62,"女",1454,298,20.495185694635488,249,17.125171939477305,248,17.056396148555709,168,11.554332874828061,12,0.82530949105914708,218,14.99312242090784,724,49.79367262723521,27,1.8569463548830811,533,36.657496561210458,218,14.99312242090784,992,68.225584594222838,2,0.13755158184319119,809,55.639614855570841,99,6.8088033012379645,27,1.8569463548830811,28,1.9257221458046769,138,9.4910591471801915]
["明細部","県",63,"女",1755,305,17.378917378917379,286,16.296296296296298,282,16.068376068376068,157,8.9458689458689449,17,0.96866096866096862,290,16.524216524216524,852,48.547008547008545,37,2.1082621082621085,658,37.49287749287749,267,15.213675213675213,1096,62.450142450142451,2,0.11396011396011395,898,51.168091168091166,143,8.1481481481481488,33,1.8803418803418803,32,1.8233618233618232,174,9.9145299145299148]
["明細部","県",64,"女",2265,445,19.646799116997794,374,16.512141280353202,360,15.894039735099339,222,9.8013245033112586,22,0.9713024282560706,365,16.114790286975715,1120,49.448123620309055,29,1.2803532008830023,888,39.205298013245034,326,14.392935982339955,1574,69.492273730684332,3,0.13245033112582782,1257,55.496688741721854,190,8.3885209713024285,38,1.6777041942604858,49,2.1633554083885209,274,12.097130242825607]
["明細部","県",65,"女",2780,544,19.568345323741006,472,16.978417266187051,436,15.683453237410072,283,10.179856115107913,18,0.64748201438848918,463,16.654676258992808,1462,52.589928057553962,38,1.3669064748201438,1197,43.057553956834532,457,16.438848920863308,1717,61.762589928057551,2,7.1942446043165464E-2,1450,52.158273381294961,183,6.5827338129496402,50,1.7985611510791366,58,2.0863309352517989,330,11.870503597122301]
["明細部","県",66,"女",3299,634,19.217944831767202,568,17.217338587450744,576,17.459836314034554,315,9.5483479842376475,43,1.3034252803879964,561,17.005153076689904,1697,51.439830251591388,47,1.4246741436799029,1427,43.255531979387698,490,14.852985753258563,2111,63.989087602303726,3,9.0936647468929974E-2,1825,55.319793876932401,262,7.9418005456198841,49,1.4852985753258563,58,1.7581085177326463,427,12.943316156411033]
["明細部","県",67,"女",3753,702,18.705035971223023,645,17.186250999200638,619,16.493471889155341,362,9.6456168398614448,38,1.0125233146815882,626,16.679989341859848,2039,54.32986943778311,62,1.6520117239541701,1571,41.859845456967761,502,13.375965893951506,2242,59.7388755662137,2,5.3290700772715159E-2,2071,55.18252065014655,247,6.5814015454303227,65,1.7319477751132426,51,1.3589128697042365,503,13.402611244337864]
["明細部","県",68,"女",4325,766,17.710982658959537,725,16.76300578034682,705,16.300578034682083,361,8.3468208092485554,48,1.1098265895953756,774,17.895953757225431,2408,55.676300578034684,73,1.6878612716763004,2079,48.069364161849713,668,15.445086705202312,2619,60.554913294797686,8,0.18497109826589594,2422,56.000000000000007,318,7.3526011560693645,88,2.0346820809248554,76,1.7572254335260118,615,14.219653179190752]
["明細部","県",69,"女",4727,905,19.145335307806217,761,16.099005711867992,775,16.39517664480643,418,8.8428178548762428,76,1.6077850645229534,879,18.595303575206263,2788,58.980325788026235,77,1.6289401311614133,2272,48.06431140258092,694,14.681616247091178,2998,63.422889782102807,16,0.33848106621535856,2723,57.605246456526338,273,5.7753331922995557,114,2.4116775967844299,80,1.692405331076793,764,16.162470911783373]
["明細部","県",70,"女",5872,1079,18.37534059945504,1047,17.830381471389643,948,16.144414168937331,424,7.2207084468664844,76,1.2942779291553135,1050,17.881471389645775,3159,53.797683923705719,110,1.8732970027247955,2862,48.739782016348776,868,14.782016348773841,3631,61.835831062670302,14,0.23841961852861035,3185,54.240463215258863,332,5.653950953678474,129,2.1968664850136244,88,1.4986376021798364,834,14.202997275204361]
["明細部","県",71,"女",5901,1097,18.590069479749193,1102,18.674800881206576,964,16.336214200982884,452,7.6597186917471607,73,1.2370784612777495,1147,19.437383494322997,3474,58.871377732587696,116,1.9657685138112186,2925,49.567869852567355,784,13.285883748517199,3380,57.278427385188948,12,0.20335536349771224,3203,54.278935773597695,311,5.2702931706490421,134,2.2708015590577868,77,1.3048635824436536,1063,18.013895949839011]
["明細部","県",72,"女",4411,799,18.113806393108138,821,18.612559510315123,687,15.574699614599863,373,8.4561323962820225,60,1.3602357742008615,970,21.990478349580595,2655,60.190433008388119,97,2.1990478349580593,2287,51.8476535932895,635,14.395828610292449,2645,59.963727046021312,10,0.22670596236681026,2607,59.102244389027433,250,5.6676490591702562,102,2.3124008161414644,62,1.4055769666742235,835,18.929947857628658]
["明細部","県",73,"女",3291,636,19.325432999088424,634,19.264661197204497,519,15.770282588878759,285,8.6599817684594349,50,1.5192950470981463,702,21.330902461257974,1906,57.915527195381344,71,2.1573989668793678,1731,52.597994530537825,400,12.154360376785171,1826,55.484655120024307,3,9.1157702825888781E-2,1813,55.089638407778793,149,4.5274992403524763,90,2.7347310847766639,57,1.7319963536918872,660,20.054694621695536]
["明細部","県",74,"女",3976,782,19.668008048289739,761,19.139839034205231,608,15.291750503018109,278,6.9919517102615698,54,1.3581488933601611,830,20.875251509054326,2350,59.104627766599592,85,2.137826961770624,2129,53.54627766599598,458,11.519114688128774,2189,55.055331991951704,9,0.22635814889336017,2184,54.929577464788736,175,4.401408450704225,92,2.3138832997987926,43,1.0814889336016096,864,21.730382293762577]
["明細部","保険者（地区）",40,"男",51.6,15.8,30.620155038759687,23,44.573643410852718,13,25.193798449612402,17.8,34.496124031007753,5.2,10.077519379844961,6,11.627906976744185,11.4,22.093023255813954,8.6,16.666666666666664,13,25.193798449612402,9.8000000000000007,18.992248062015506,27.8,53.875968992248055,0.2,0.38759689922480622,23.8,46.124031007751938,6.2,12.015503875968992,0.6,1.1627906976744187,2.2000000000000002,4.2635658914728678,1,1.9379844961240309]
["明細部","保険者（地区）",41,"男",48,17.2,35.833333333333336,24.4,50.833333333333329,16.2,33.75,22.2,46.25,3.8,7.9166666666666661,5.4,11.25,12.2,25.416666666666664,11.2,23.333333333333332,12.8,26.666666666666668,10.199999999999999,21.25,28.4,59.166666666666664,0.2,0.41666666666666669,26.8,55.833333333333336,5.8,12.083333333333334,0.8,1.6666666666666667,0.8,1.6666666666666667,0.4,0.83333333333333337]
["明細部","保険者（地区）",42,"男",56.2,17.399999999999999,30.960854092526684,27.6,49.110320284697508,18.399999999999999,32.740213523131665,18.8,33.45195729537366,3.8,6.7615658362989315,7.2,12.811387900355871,14.2,25.266903914590742,12.2,21.708185053380781,14.2,25.266903914590742,10.199999999999999,18.149466192170816,29.4,52.313167259786475,0.2,0.35587188612099641,25,44.483985765124551,7,12.455516014234874,2,3.5587188612099641,1,1.779359430604982,1,1.779359430604982]
["明細部","保険者（地区）",43,"男",58.6,19.600000000000001,33.447098976109217,28.4,48.464163822525592,17,29.010238907849828,20.8,35.494880546075088,6.6,11.262798634812286,7.6,12.969283276450511,14.6,24.914675767918087,12,20.477815699658702,17.600000000000001,30.034129692832767,12.2,20.819112627986346,34.6,59.044368600682596,0,0,30.2,51.535836177474401,4.4000000000000004,7.5085324232081918,0.4,0.68259385665529015,0,0,1.2,2.0477815699658701]
["明細部","保険者（地区）",44,"男",59.6,24,40.268456375838923,30.6,51.34228187919463,23.4,39.261744966442954,24.4,40.939597315436238,6.6,11.073825503355703,6.8,11.409395973154361,16.8,28.187919463087248,12.2,20.469798657718119,19.2,32.214765100671137,15,25.167785234899327,35.200000000000003,59.060402684563762,0.4,0.67114093959731547,27.6,46.308724832214764,7,11.74496644295302,0.2,0.33557046979865773,0.6,1.006711409395973,1.8,3.0201342281879198]
["明細部","保険者（地区）",45,"男",67.599999999999994,22.8,33.727810650887577,30.6,45.266272189349117,18.8,27.810650887573967,19.399999999999999,28.698224852071007,5.8,8.5798816568047354,9,13.313609467455622,18,26.627218934911244,12.8,18.934911242603551,18.2,26.923076923076923,13.8,20.414201183431953,37.200000000000003,55.029585798816569,0,0,38.4,56.80473372781065,5.2,7.6923076923076925,0.2,0.29585798816568049,1,1.4792899408284024,1.8,2.6627218934911245]
["明細部","保険者（地区）",46,"男",73.8,28.4,38.482384823848236,36,48.780487804878057,29,39.295392953929543,30,40.650406504065039,9.6,13.008130081300814,13.4,18.15718157181572,24.6,33.333333333333336,18.399999999999999,24.932249322493224,24.4,33.062330623306231,19.2,26.016260162601629,43,58.265582655826563,0.6,0.81300813008130091,39,52.845528455284551,6.8,9.2140921409214087,0.4,0.5420054200542006,1.8,2.4390243902439024,5,6.7750677506775077]
["明細部","保険者（地区）",47,"男",68.2,27.8,40.7624633431085,36.6,53.665689149560116,23.2,34.017595307917887,23.4,34.310850439882692,4.8,7.0381231671554243,10.4,15.249266862170089,23.4,34.310850439882692,16.2,23.753665689149557,22.2,32.551319648093838,17.8,26.099706744868033,40.4,59.237536656891486,0,0,36.4,53.372434017595303,8,11.730205278592374,0,0,1.8,2.6392961876832843,1.8,2.6392961876832843]
["明細部","保険者（地区）",48,"男",65.599999999999994,24.4,37.195121951219512,36.4,55.487804878048784,16.8,25.609756097560975,21.8,33.231707317073173,4.4000000000000004,6.7073170731707332,9.8000000000000007,14.939024390243905,19.600000000000001,29.878048780487809,12.8,19.512195121951223,20.399999999999999,31.097560975609756,16.399999999999999,25,40.6,61.890243902439032,0,0,30.2,46.036585365853661,9.1999999999999993,14.02439024390244,1.8,2.7439024390243905,1.8,2.7439024390243905,2.4,3.6585365853658542]
["明細部","保険者（地区）",49,"男",56.4,22.2,39.361702127659576,30.4,53.900709219858157,18.399999999999999,32.624113475177303,20.6,36.524822695035461,4.5999999999999996,8.1560283687943258,8.8000000000000007,15.602836879432624,19.8,35.106382978723403,10.8,19.148936170212767,20,35.460992907801419,15.2,26.950354609929079,31.6,56.028368794326241,0.2,0.3546099290780142,26.6,47.163120567375891,5.2,9.2198581560283692,2.2000000000000002,3.9007092198581561,1,1.773049645390071,1,1.773049645390071]
["明細部","保険者（地区）",50,"男",69,29,42.028985507246375,40.799999999999997,59.130434782608688,22.2,32.173913043478258,25.8,37.391304347826086,5.2,7.5362318840579716,13.2,19.130434782608692,24.8,35.94202898550725,10.4,15.072463768115943,25.8,37.391304347826086,22,31.884057971014489,34.6,50.14492753623189,0,0,28.6,41.449275362318843,8.1999999999999993,11.884057971014492,1,1.4492753623188406,1,1.4492753623188406,2.8,4.057971014492753]
["明細部","保険者（地区）",51,"男",67.2,28.2,41.964285714285708,39,58.035714285714278,23.2,34.523809523809526,20.399999999999999,30.357142857142854,5,7.4404761904761907,10.8,16.071428571428573,23.6,35.11904761904762,15,22.321428571428569,27.2,40.476190476190474,19.600000000000001,29.166666666666668,44,65.476190476190482,0,0,36.200000000000003,53.869047619047613,8,11.904761904761903,3,4.4642857142857144,2.8,4.1666666666666661,2,2.9761904761904758]
["明細部","保険者（地区）",52,"男",51.6,23,44.573643410852718,29,56.201550387596896,15,29.069767441860467,16.600000000000001,32.170542635658919,3.8,7.3643410852713167,8.1999999999999993,15.891472868217052,18.600000000000001,36.04651162790698,8.8000000000000007,17.054263565891471,20.2,39.147286821705421,14.6,28.294573643410853,31,60.077519379844958,0.2,0.38759689922480622,23.8,46.124031007751938,4.5999999999999996,8.9147286821705425,2,3.8759689922480618,1,1.9379844961240309,3,5.8139534883720927]
["明細部","保険者（地区）",53,"男",68,26.2,38.529411764705877,39.799999999999997,58.529411764705877,22,32.352941176470587,21.6,31.764705882352946,3.8,5.5882352941176467,11.2,16.470588235294116,28.4,41.764705882352935,10.8,15.882352941176473,26.4,38.823529411764703,19.600000000000001,28.82352941176471,37.6,55.294117647058826,0.2,0.29411764705882354,37.799999999999997,55.588235294117638,7.8,11.470588235294118,0.8,1.1764705882352942,0.4,0.58823529411764708,4.2,6.1764705882352944]
["明細部","保険者（地区）",54,"男",69.599999999999994,26.6,38.218390804597711,40.4,58.045977011494251,25.8,37.068965517241381,20.8,29.885057471264371,5.4,7.7586206896551744,12.4,17.816091954022991,29.2,41.954022988505749,10.4,14.942528735632186,30,43.103448275862071,21.6,31.034482758620697,40,57.471264367816097,0.8,1.149425287356322,34.6,49.71264367816093,7.6,10.919540229885058,2.2000000000000002,3.1609195402298855,2.2000000000000002,3.1609195402298855,4.4000000000000004,6.3218390804597711]
["明細部","保険者（地区）",55,"男",72.400000000000006,24.4,33.701657458563531,36.4,50.276243093922645,22.6,31.215469613259668,19.2,26.519337016574585,4.5999999999999996,6.3535911602209936,17.600000000000001,24.30939226519337,25.2,34.806629834254139,15.2,20.994475138121544,27.4,37.84530386740331,20.6,28.453038674033149,38.799999999999997,53.591160220994475,1,1.3812154696132597,37.799999999999997,52.209944751381208,9.4,12.983425414364641,1.6,2.2099447513812152,1.4,1.933701657458563,4.8,6.6298342541436464]
["明細部","保険者（地区）",56,"男",70.2,26.4,37.606837606837601,38.4,54.700854700854698,24.8,35.327635327635328,22.2,31.623931623931622,7.4,10.541310541310542,15.2,21.652421652421651,32.799999999999997,46.723646723646716,14.2,20.227920227920226,32.4,46.153846153846153,22,31.339031339031337,36.200000000000003,51.566951566951566,0.4,0.56980056980056981,34.6,49.287749287749286,7.8,11.111111111111111,2.4,3.4188034188034186,1,1.4245014245014245,4.4000000000000004,6.267806267806268]
["明細部","保険者（地区）",57,"男",67,27.2,40.597014925373131,38.799999999999997,57.910447761194028,23,34.328358208955223,20,29.850746268656714,3.6,5.3731343283582085,12.8,19.1044776119403,29.2,43.582089552238806,10.199999999999999,15.223880597014924,33.799999999999997,50.447761194029852,20.8,31.044776119402982,39.4,58.805970149253724,1.2,1.791044776119403,30.4,45.373134328358205,8.4,12.537313432835823,2.8,4.1791044776119399,2.2000000000000002,3.2835820895522394,5,7.4626865671641784]
["明細部","保険者（地区）",58,"男",64.599999999999994,23,35.60371517027864,38.6,59.75232198142416,21.8,33.746130030959762,18.8,29.102167182662541,4,6.1919504643962853,15.4,23.839009287925698,26,40.247678018575854,12.4,19.195046439628484,24.4,37.77089783281734,17.600000000000001,27.244582043343655,39,60.371517027863788,0.4,0.61919504643962864,38.6,59.75232198142416,5.2,8.0495356037151709,1.6,2.4767801857585146,1.6,2.4767801857585146,5.6,8.6687306501547994]
["明細部","保険者（地区）",59,"男",80.8,27.6,34.158415841584159,48,59.405940594059402,28,34.653465346534659,20,24.752475247524753,5.4,6.6831683168316838,22,27.227722772277229,38.6,47.772277227722775,16.2,20.049504950495052,37.6,46.534653465346537,25.4,31.435643564356436,40.799999999999997,50.495049504950494,0.2,0.24752475247524752,41.6,51.485148514851488,8.1999999999999993,10.148514851485148,2.4,2.9702970297029703,1.2,1.4851485148514851,8.1999999999999993,10.148514851485148]
["明細部","保険者（地区）",60,"男",81,27.6,34.074074074074076,48,59.259259259259252,27.4,33.827160493827158,21.4,26.41975308641975,7,8.6419753086419746,21.4,26.41975308641975,43,53.086419753086425,14.6,18.02469135802469,37.6,46.41975308641976,26.4,32.592592592592588,43.6,53.827160493827165,1.2,1.4814814814814814,44.8,55.308641975308639,6.6,8.148148148148147,4.2,5.185185185185186,1.6,1.9753086419753085,6,7.4074074074074066]
["明細部","保険者（地区）",61,"男",96.2,35.799999999999997,37.21413721413721,53.8,55.92515592515592,31.6,32.848232848232847,24,24.948024948024948,8.4,8.7318087318087318,28.2,29.313929313929311,52.8,54.88565488565488,16.600000000000001,17.255717255717258,43.4,45.114345114345113,24.6,25.571725571725572,45.8,47.609147609147605,0.8,0.83160083160083165,51.2,53.222453222453225,10.4,10.810810810810811,3,3.1185031185031185,2.2000000000000002,2.2869022869022873,13,13.513513513513514]
["明細部","保険者（地区）",62,"男",127.2,46.8,36.79245283018868,69.599999999999994,54.716981132075468,40,31.446540880503143,30.8,24.213836477987421,11,8.6477987421383649,35.799999999999997,28.144654088050313,69.599999999999994,54.716981132075468,19.8,15.566037735849056,61.6,48.427672955974842,37.4,29.40251572327044,64.599999999999994,50.786163522012572,1.8,1.4150943396226416,73.8,58.018867924528294,14.8,11.635220125786164,5.2,4.0880503144654083,2.8,2.2012578616352201,15,11.79245283018868]
["明細部","保険者（地区）",63,"男",163.6,59.8,36.552567237163814,94.8,57.946210268948647,49,29.951100244498779,42.6,26.039119804400979,11.6,7.0904645476772608,50.2,30.684596577017121,87.6,53.545232273838629,27.2,16.625916870415647,81.2,49.633251833740829,44.2,27.017114914425434,79.400000000000006,48.53300733496333,1,0.61124694376528121,86.2,52.689486552567246,16.600000000000001,10.146699266503669,5.4,3.3007334963325188,3.2,1.9559902200489001,24.8,15.158924205378973]
["明細部","保険者（地区）",64,"男",242.4,77.8,32.095709570957091,131.4,54.207920792079214,67.8,27.970297029702966,48.2,19.884488448844888,16.8,6.9306930693069315,71.400000000000006,29.455445544554458,129.19999999999999,53.300330033003299,39.200000000000003,16.171617161716174,109.2,45.049504950495049,62.6,25.825082508250823,127.8,52.722772277227726,3.6,1.4851485148514851,122.6,50.577557755775572,26.2,10.808580858085808,8.8000000000000007,3.6303630363036308,4.5999999999999996,1.8976897689768975,41.4,17.079207920792079]
["明細部","保険者（地区）",65,"男",284.39999999999998,93.4,32.841068917018291,169.8,59.704641350210977,86.2,30.309423347398035,66,23.206751054852322,21.4,7.5246132208157528,82.2,28.902953586497894,170.4,59.915611814346001,47.6,16.736990154711677,153,53.797468354430386,83.6,29.395218002812939,143.80000000000001,50.562587904360065,4,1.4064697609001409,165.4,58.157524613220822,36.799999999999997,12.939521800281295,9,3.1645569620253164,5.8,2.0393811533052042,58.8,20.675105485232066]
["明細部","保険者（地区）",66,"男",385.6,116.8,30.290456431535269,206.4,53.526970954356848,108.2,28.060165975103736,81.400000000000006,21.109958506224068,27.4,7.105809128630705,116.6,30.238589211618255,219.4,56.898340248962654,68.400000000000006,17.738589211618258,194,50.31120331950207,101.2,26.244813278008301,181.4,47.043568464730292,5.8,1.5041493775933608,232.2,60.217842323651446,44.2,11.462655601659751,14.6,3.7863070539419086,6.8,1.7634854771784232,69.8,18.101659751037342]
["明細部","保険者（地区）",67,"男",456.8,145.19999999999999,31.786339754816105,243,53.196147110332745,121.4,26.576182136602451,94.6,20.709281961471103,34.200000000000003,7.4868651488616464,146,31.961471103327494,259.60000000000002,56.830122591943969,71.8,15.718038528896672,228.8,50.0875656742557,111,24.299474605954465,223,48.817863397548159,9.6,2.1015761821366024,292.39999999999998,64.010507880910666,49.4,10.814360770577933,13.8,3.0210157618213662,11.6,2.5394045534150611,87,19.045534150612959]
["明細部","保険者（地区）",68,"男",603,178.2,29.552238805970148,344.2,57.081260364842457,161.19999999999999,26.733001658374789,108.4,17.976782752902157,45.8,7.5953565505804299,207.6,34.427860696517406,361.8,60,94,15.58872305140962,308.2,51.111111111111107,145.4,24.112769485903815,311.39999999999998,51.64179104477612,14.2,2.3548922056384742,342.2,56.749585406301819,60.2,9.9834162520729688,20.2,3.3499170812603647,11.4,1.8905472636815923,131.80000000000001,21.857379767827531]
["明細部","保険者（地区）",69,"男",712,209.2,29.382022471910112,376,52.80898876404494,173.8,24.410112359550563,121.4,17.05056179775281,42,5.8988764044943816,226.6,31.825842696629213,407.8,57.275280898876403,116.8,16.40449438202247,373.2,52.415730337078649,153.4,21.54494382022472,354.4,49.775280898876403,14.6,2.0505617977528088,433,60.81460674157303,61,8.5674157303370784,25.8,3.6235955056179776,12.2,1.7134831460674156,164.4,23.08988764044944]
["明細部","保険者（地区）",70,"男",815.4,222.6,27.299484915378958,426.8,52.342408633799366,217.2,26.637233259749816,128.6,15.771400539612459,55,6.7451557517782685,268.8,32.965415746872701,484.8,59.455481972038271,126.2,15.477066470443953,437.6,53.666911945057649,167.4,20.529801324503314,391.4,48.000981113563896,19.600000000000001,2.4037282315428015,517.20000000000005,63.428991905813106,74.8,9.173411822418446,35.200000000000003,4.316899681138092,10.4,1.2754476330635272,193.4,23.718420407162132]
["明細部","保険者（地区）",71,"男",841.8,240.4,28.55785222143027,446.8,53.07674031836541,218.4,25.944404846756953,139.6,16.583511522927061,52.4,6.2247564742219055,270.60000000000002,32.145402708481832,493.6,58.636255642670477,124.6,14.801615585649799,466.4,55.405084343074364,176.6,20.978854834877644,384.8,45.71157044428606,20.8,2.4708956996911384,507.2,60.251841292468519,75,8.9094796863863159,30.6,3.635067712045617,14.4,1.7106200997861727,208.4,24.756474221905442]
["明細部","保険者（地区）",72,"男",629.79999999999995,171.6,27.246744998412197,347,55.09685614480788,156.6,24.865036519530008,98.2,15.592251508415373,41.6,6.605271514766593,216,34.296602095903459,410.8,65.227056208320107,99.6,15.814544299777708,355.8,56.494125119085425,120.6,19.148936170212767,295.8,46.967291203556691,18.2,2.8898062877103845,401.4,63.734518894887273,56,8.8917116544934913,25.8,4.0965385836773578,9,1.4290250873293111,169.8,26.960939980946335]
["明細部","保険者（地区）",73,"男",445.2,120.6,27.088948787061994,227,50.988319856244388,92.6,20.799640610961365,68.2,15.318957771787961,30.4,6.8283917340521114,147.6,33.153638814016176,294,66.037735849056602,66.8,15.00449236298293,249.8,56.109613656783473,77.599999999999994,17.430368373764598,207.2,46.540880503144656,12.4,2.785265049415993,291.8,65.543575920934416,34.799999999999997,7.8167115902964959,18,4.0431266846361194,6.2,1.3926325247079965,130.4,29.290206648697215]
["明細部","保険者（地区）",74,"男",613.20000000000005,140.4,22.896281800391389,306.8,50.032615786040445,130.4,21.265492498369209,82.4,13.437703848662752,32.799999999999997,5.3489889106327455,203,33.105022831050221,379.2,61.839530332681015,84.8,13.829093281148076,335.4,54.696673189823862,91.8,14.9706457925636,264,43.052837573385517,16,2.6092628832354858,362.2,59.067188519243309,40.4,6.5883887801696019,21.8,3.5551206784083496,8.8000000000000007,1.4350945857795174,162.6,26.516634050880622]
["明細部","保険者（地区）",40,"女",56.2,10.4,18.505338078291814,6.8,12.099644128113878,3.6,6.4056939501779357,2.2000000000000002,3.9145907473309607,1.6,2.8469750889679712,1,1.779359430604982,10.4,18.505338078291814,0.6,1.0676156583629892,5.6,9.9644128113878985,3,5.3380782918149459,23.8,42.348754448398573,0.2,0.35587188612099641,28.8,51.245551601423486,3.4,6.0498220640569391,0,0,0.2,0.35587188612099641,1.2,2.1352313167259784]
["明細部","保険者（地区）",41,"女",51.6,9.1999999999999993,17.829457364341085,5,9.6899224806201545,4.8,9.3023255813953494,1.6,3.1007751937984498,0.4,0.77519379844961245,1.6,3.1007751937984498,6,11.627906976744185,0.6,1.1627906976744187,4.4000000000000004,8.5271317829457356,1.8,3.4883720930232558,13.6,26.356589147286819,0,0,24.6,47.674418604651166,4.5999999999999996,8.9147286821705425,0.2,0.38759689922480622,0.4,0.77519379844961245,0.8,1.5503875968992249]
["明細部","保険者（地区）",42,"女",53,8.6,16.226415094339622,7,13.20754716981132,4.4000000000000004,8.3018867924528319,2.4,4.5283018867924527,0.2,0.37735849056603776,3,5.6603773584905666,11.8,22.264150943396228,0,0,7.6,14.339622641509434,5.4,10.188679245283019,15.8,29.811320754716981,0,0,26.6,50.188679245283019,4,7.5471698113207548,0.2,0.37735849056603776,0,0,1,1.8867924528301887]
["明細部","保険者（地区）",43,"女",56,10.199999999999999,18.214285714285712,5.6,10,3.4,6.0714285714285712,1.8,3.2142857142857149,1,1.7857142857142856,4,7.1428571428571423,10.199999999999999,18.214285714285712,0.4,0.7142857142857143,6.2,11.071428571428573,4.4000000000000004,7.8571428571428585,20,35.714285714285715,0,0,27.2,48.571428571428569,3.6,6.4285714285714297,0.4,0.7142857142857143,0.6,1.0714285714285714,1,1.7857142857142856]
["明細部","保険者（地区）",44,"女",58.6,8.8000000000000007,15.017064846416384,6.4,10.921501706484642,3.2,5.4607508532423212,4.4000000000000004,7.5085324232081918,0.2,0.34129692832764508,1.8,3.0716723549488054,10,17.064846416382252,0.2,0.34129692832764508,7,11.945392491467576,4.4000000000000004,7.5085324232081918,21,35.836177474402731,0,0,29,49.488054607508531,2.6,4.4368600682593859,1,1.7064846416382253,0.2,0.34129692832764508,1,1.7064846416382253]
["明細部","保険者（地区）",45,"女",72.400000000000006,8.8000000000000007,12.154696132596685,6.8,9.3922651933701662,4.8,6.6298342541436464,4.5999999999999996,6.3535911602209936,1,1.3812154696132597,3.4,4.6961325966850831,12.2,16.850828729281766,1,1.3812154696132597,10,13.812154696132595,5.4,7.4585635359116029,31.4,43.370165745856347,0.2,0.27624309392265189,38.799999999999997,53.591160220994475,4.8,6.6298342541436464,0,0,0.2,0.27624309392265189,1.8,2.4861878453038675]
["明細部","保険者（地区）",46,"女",71.8,14,19.498607242339833,10,13.92757660167131,8.1999999999999993,11.420612813370473,6,8.3565459610027855,1.8,2.506963788300836,5,6.9637883008356551,17.2,23.955431754874652,0.4,0.5571030640668525,12.2,16.991643454038996,9.1999999999999993,12.813370473537605,31.8,44.289693593314766,0,0,39.200000000000003,54.596100278551539,4.8,6.6852367688022287,1.2,1.6713091922005572,0.8,1.114206128133705,1.2,1.6713091922005572]
["明細部","保険者（地区）",47,"女",73,12.4,16.986301369863014,8.1999999999999993,11.232876712328768,7.4,10.136986301369863,7.6,10.410958904109588,0.4,0.54794520547945202,4.5999999999999996,6.3013698630136981,19,26.027397260273972,0.2,0.27397260273972601,11.2,15.342465753424655,7.6,10.410958904109588,31.4,43.013698630136979,0,0,35.799999999999997,49.041095890410958,5.8,7.9452054794520537,0.2,0.27397260273972601,1.2,1.6438356164383561,2,2.7397260273972601]
["明細部","保険者（地区）",48,"女",71.2,13.6,19.101123595505616,10,14.044943820224717,4.2,5.8988764044943816,4.5999999999999996,6.4606741573033695,0.2,0.2808988764044944,4.5999999999999996,6.4606741573033695,17.2,24.157303370786515,0.2,0.2808988764044944,10.8,15.168539325842698,4.8,6.7415730337078648,33.799999999999997,47.471910112359545,0,0,41,57.584269662921351,4.5999999999999996,6.4606741573033695,1,1.4044943820224718,1.2,1.6853932584269662,3,4.213483146067416]
["明細部","保険者（地区）",49,"女",60,11.8,19.666666666666668,9,15,4.5999999999999996,7.6666666666666661,3.8,6.3333333333333321,0.8,1.3333333333333335,3.6,6.0000000000000009,18,30,0.4,0.66666666666666674,11.6,19.333333333333332,7,11.666666666666666,33.4,55.666666666666664,0.2,0.33333333333333337,31.8,53,4.4000000000000004,7.333333333333333,0.4,0.66666666666666674,1,1.6666666666666667,2.6,4.3333333333333339]
["明細部","保険者（地区）",50,"女",79.8,13.4,16.791979949874687,11.6,14.536340852130325,6.2,7.7694235588972438,6.8,8.5213032581453625,1.6,2.0050125313283211,7,8.7719298245614041,21,26.315789473684209,1.4,1.7543859649122806,16.600000000000001,20.802005012531328,10,12.531328320802004,42.8,53.634085213032577,0.4,0.50125313283208028,43.8,54.887218045112782,6.6,8.2706766917293226,0.4,0.50125313283208028,0.8,1.0025062656641606,2.8,3.5087719298245612]
["明細部","保険者（地区）",51,"女",75.8,13.2,17.414248021108179,8.1999999999999993,10.817941952506596,8.1999999999999993,10.817941952506596,7.4,9.7625329815303434,0.6,0.79155672823219003,7.2,9.4986807387862804,24,31.662269129287601,0.8,1.0554089709762535,15.6,20.580474934036943,8.8000000000000007,11.609498680738788,40.200000000000003,53.034300791556731,0.2,0.26385224274406338,44,58.047493403693927,4.5999999999999996,6.0686015831134563,1,1.3192612137203166,1.2,1.5831134564643801,2.2000000000000002,2.9023746701846971]
["明細部","保険者（地区）",52,"女",66,11.6,17.575757575757574,7.4,11.212121212121213,7.2,10.90909090909091,8.4,12.727272727272728,0.8,1.2121212121212122,7.8,11.818181818181818,19.2,29.09090909090909,1.4,2.1212121212121211,15.8,23.939393939393941,9.1999999999999993,13.939393939393938,39.200000000000003,59.393939393939398,0,0,36,54.54545454545454,4,6.0606060606060606,0.8,1.2121212121212122,1.4,2.1212121212121211,1.2,1.8181818181818181]
["明細部","保険者（地区）",53,"女",82.6,14.4,17.433414043583536,11.2,13.559322033898304,10.8,13.075060532687651,10,12.106537530266346,1.2,1.4527845036319613,8.6,10.411622276029057,32.4,39.225181598062953,2,2.4213075060532692,20.8,25.181598062953999,9.6,11.622276029055691,51.2,61.985472154963681,0,0,43.8,53.026634382566584,7.4,8.9588377723970947,0.2,0.24213075060532688,2,2.4213075060532692,3,3.6319612590799037]
["明細部","保険者（地区）",54,"女",92,14.6,15.869565217391305,13.2,14.347826086956522,13.8,15,10,10.869565217391305,0.4,0.43478260869565216,7.2,7.8260869565217401,32.6,35.434782608695656,1.6,1.7391304347826086,24,26.086956521739129,12.2,13.260869565217389,56,60.869565217391312,0,0,49.2,53.478260869565219,5,5.4347826086956523,1.2,1.3043478260869565,2,2.1739130434782608,4.4000000000000004,4.7826086956521738]
["明細部","保険者（地区）",55,"女",101.4,17,16.765285996055226,12.8,12.623274161735701,20,19.723865877712029,11.8,11.637080867850099,1.2,1.1834319526627219,8.8000000000000007,8.6785009861932938,38.799999999999997,38.264299802761336,2.2000000000000002,2.1696252465483234,30.4,29.980276134122285,14,13.80670611439842,71,70.019723865877708,0.2,0.19723865877712032,51.2,50.493096646942803,7.2,7.1005917159763312,2.4,2.3668639053254439,3.4,3.3530571992110452,6.6,6.5088757396449708]
["明細部","保険者（地区）",56,"女",102.2,16.8,16.43835616438356,12.8,12.524461839530332,17.8,17.416829745596868,12.8,12.524461839530332,0.2,0.19569471624266144,10.8,10.56751467710372,40.4,39.530332681017612,1,0.97847358121330719,30.8,30.136986301369863,12.8,12.524461839530332,64.599999999999994,63.209393346379642,0,0,55.2,54.011741682974559,6,5.8708414872798436,1.6,1.5655577299412915,2.6,2.5440313111545985,3.4,3.3268101761252442]
["明細部","保険者（地区）",57,"女",121,18.2,15.041322314049586,13.8,11.404958677685952,15.4,12.727272727272728,11,9.0909090909090917,0.8,0.66115702479338845,13,10.743801652892563,47,38.84297520661157,2.4,1.9834710743801651,32.6,26.942148760330582,17.399999999999999,14.380165289256198,73.599999999999994,60.826446280991732,0.2,0.16528925619834711,59.4,49.090909090909093,10,8.2644628099173563,1.2,0.99173553719008256,3.6,2.9752066115702478,6.6,5.4545454545454541]
["明細部","保険者（地区）",58,"女",125.8,20.8,16.534181240063596,16.8,13.354531001589825,16.2,12.877583465818759,12.8,10.174880763116057,1.6,1.2718600953895072,13.4,10.651828298887123,59.4,47.21780604133545,2.2000000000000002,1.7488076311605725,38.799999999999997,30.842607313195547,21.8,17.329093799682035,84.4,67.090620031796504,0.2,0.1589825119236884,72.400000000000006,57.551669316375211,9.1999999999999993,7.3131955484896665,2.8,2.2257551669316373,4,3.1796502384737675,8.8000000000000007,6.9952305246422899]
["明細部","保険者（地区）",59,"女",151.19999999999999,29.2,19.312169312169313,28.6,18.915343915343918,20.399999999999999,13.492063492063492,16.8,11.111111111111112,0.2,0.1322751322751323,23,15.211640211640212,68.8,45.502645502645507,1.2,0.79365079365079361,57.2,37.830687830687836,26.6,17.592592592592595,101.8,67.328042328042329,0,0,77.8,51.455026455026456,14.4,9.5238095238095255,3.2,2.1164021164021167,2.8,1.8518518518518516,9.4,6.2169312169312176]
["明細部","保険者（地区）",60,"女",197.8,33.6,16.98685540950455,30.4,15.369059656218401,23,11.627906976744185,17.399999999999999,8.7967644084934271,3.2,1.6177957532861478,27.4,13.852376137512637,93.4,47.219413549039437,2,1.0111223458038423,64.8,32.760364004044483,29.2,14.762386248736096,137.4,69.46410515672396,0,0,108.6,54.903943377148636,14.4,7.2800808897876639,1.6,0.80889787664307389,6.2,3.1344792719919106,19.399999999999999,9.8078867542972681]
["明細部","保険者（地区）",61,"女",215.8,41.2,19.091751621872106,37.200000000000003,17.238183503243746,34.799999999999997,16.126042632066724,27.2,12.604263206672844,2.4,1.1121408711770155,29.8,13.80908248378128,109,50.509731232622798,3,1.3901760889712698,75,34.754402224281741,32.6,15.106580166821132,151,69.972196478220567,0.2,9.2678405931417976E-2,121.6,56.348470806302132,16.399999999999999,7.5996292863762731,5.2,2.4096385542168677,5,2.3169601482854496,19.8,9.175162187210379]
["明細部","保険者（地区）",62,"女",279.39999999999998,56.8,20.329277022190411,48.6,17.394416607015035,46.8,16.750178954903365,33.6,12.025769506084469,2.4,0.85898353614889056,42.8,15.318539727988547,135.19999999999999,48.389405869720832,4.8,1.7179670722977811,104.6,37.437365783822479,43,15.390121689334288,185.2,66.284896206156048,0.4,0.14316392269148176,148.80000000000001,53.256979241231214,19.8,7.0866141732283481,4.5999999999999996,1.6463851109520402,5.6,2.0042949176807445,25.6,9.1624910522548326]
["明細部","保険者（地区）",63,"女",332.2,61.6,18.543046357615893,53.6,16.134858518964478,52.2,15.713425647200483,31.6,9.512341962673089,3.4,1.0234798314268514,56.4,16.977724262492476,165.8,49.909692956050577,6.8,2.0469596628537028,130.19999999999999,39.193257074051772,54.2,16.315472606863338,209.4,63.034316676700783,0.4,0.12040939193257076,181.2,54.54545454545454,27.2,8.1878386514148112,6.6,1.9867549668874174,6.4,1.9265502709211322,35.200000000000003,10.596026490066226]
["明細部","保険者（地区）",64,"女",445.6,82.6,18.536804308797127,75.599999999999994,16.965888689407539,70.8,15.888689407540394,42.8,9.6050269299820457,4.4000000000000004,0.9874326750448833,74.400000000000006,16.696588868940754,220.6,49.506283662477557,5.6,1.2567324955116694,186.2,41.78635547576301,67.400000000000006,15.125673249551166,299.8,67.28007181328546,0.8,0.17953321364452424,245.8,55.161579892280074,38.6,8.6624775583482947,7.8,1.750448833034111,9.6,2.1543985637342904,53.4,11.983842010771992]
["明細部","保険者（地区）",65,"女",521.20000000000005,110,21.105141980046046,96.8,18.57252494244052,85.4,16.385264773599388,57.2,10.974673829623944,3.6,0.69071373752877974,97.2,18.649270913277054,273.8,52.532617037605519,7.2,1.3814274750575595,223.4,42.86262471220261,96.4,18.49577897160399,356,68.303914044512652,0.4,7.6745970836531077E-2,304.8,58.480429777436683,38.6,7.4059861857252498,9.6,1.8419033000767457,11.4,2.1872601688411359,65.599999999999994,12.586339217191094]
["明細部","保険者（地区）",66,"女",634.20000000000005,127.6,20.119836013875748,110.8,17.470829391359192,109.8,17.313150425733205,63.2,9.9653106275622836,8.6,1.3560391043834752,111.2,17.533900977609587,340.2,53.642384105960261,9.1999999999999993,1.4506464837590665,280,44.150110375275936,94.4,14.884894355093031,417.8,65.878271838536733,0.6,9.4607379375591286E-2,350.8,55.313781141595712,50.6,7.978555660674866,10.199999999999999,1.6083254493850518,11.8,1.8606117943866289,83.4,13.150425733207191]
["明細部","保険者（地区）",67,"女",743.2,137.6,18.514531754574808,124.2,16.711517761033367,122.8,16.523143164693217,71.8,9.6609257265877275,7.6,1.022604951560818,123.8,16.657696447793324,393.8,52.987082884822392,12,1.6146393972012916,316,42.518837459634014,97.6,13.132400430570504,459.8,61.867599569429487,0.4,5.3821313240043051E-2,389.8,52.448869752421956,49.6,6.6738428417653388,13.6,1.8299246501614637,10.4,1.3993541442411195,100.8,13.562970936490848]
["明細部","保険者（地区）",68,"女",830.2,150.4,18.11611659841002,145.4,17.513852083835221,136,16.381594796434591,70.2,8.4557937846302096,9.8000000000000007,1.1804384485666104,160.4,19.320645627559625,471.8,56.82967959527825,14.4,1.7345218019754278,406,48.903878583473862,134.6,16.212960732353647,537.4,64.731390026499639,1.6,0.19272464466393641,473,56.974223078776198,61.4,7.3958082389785584,18.2,2.1922428330522763,15.4,1.854974704890388,120.2,14.478438930378221]
["明細部","保険者（地区）",69,"女",950.4,178,18.728956228956228,160.80000000000001,16.91919191919192,152.6,16.056397306397308,83.2,8.7542087542087543,15,1.5782828282828283,176.2,18.539562289562291,524.79999999999995,55.218855218855211,16,1.6835016835016834,449.6,47.306397306397308,138.4,14.562289562289562,584.6,61.510942760942768,3.2,0.33670033670033672,545.4,57.386363636363633,54.2,5.7028619528619533,21.6,2.2727272727272729,15.6,1.6414141414141417,146.4,15.404040404040407]
["明細部","保険者（地区）",70,"女",1140.5999999999999,224.6,19.691390496230056,206.8,18.130808346484308,201.2,17.639838681395755,89.6,7.8555146414167982,15.2,1.3326319480974926,220.4,19.323163247413643,655.8,57.496054708048391,23.4,2.0515518148342977,589,51.639487988777844,168,14.7290899526565,719.8,63.10713659477468,3,0.26301946344029464,629.20000000000005,55.16394879887779,62.4,5.4708048395581281,26.6,2.3321059091706124,17.600000000000001,1.5430475188497284,165,14.466070489216204]
["明細部","保険者（地区）",71,"女",1163.2,227.4,19.549518569463547,215,18.483493810178818,187.6,16.127922971114167,90.8,7.806052269601099,14.4,1.2379642365887207,230,19.773039889958735,689.4,59.267537826685,21.4,1.8397524071526821,593,50.980055020632733,152.80000000000001,13.13617606602476,701.6,60.316368638239339,2.2000000000000002,0.1891334250343879,642.20000000000005,55.209766162310871,62,5.330123796423659,27,2.3211829436038514,15.4,1.3239339752407153,206.4,17.744154057771663]
["明細部","保険者（地区）",72,"女",859.2,159.80000000000001,18.598696461824954,156.4,18.202979515828677,136.4,15.875232774674114,75.8,8.8221601489757919,12,1.3966480446927374,188.8,21.973929236499067,522.6,60.824022346368714,19.600000000000001,2.2811918063314711,467.4,54.399441340782118,119.8,13.943202979515828,518,60.288640595903168,2.2000000000000002,0.25605214152700184,499.4,58.123836126629413,48.6,5.6564245810055862,20.2,2.3510242085661082,12.6,1.4664804469273742,163,18.971135940409685]
["明細部","保険者（地区）",73,"女",623,121.6,19.518459069020867,124.8,20.032102728731942,108.6,17.431781701444621,57.6,9.2455858747993585,9.8000000000000007,1.5730337078651686,132,21.187800963081862,389.6,62.536115569823437,14.2,2.2792937399678972,336.8,54.060995184590688,75.2,12.070626003210274,364,58.426966292134829,0.8,0.12841091492776885,360.6,57.881219903691814,30.8,4.9438202247191008,17.2,2.7608346709470304,10.8,1.7335473515248796,134.19999999999999,21.540930979133226]
["明細部","保険者（地区）",74,"女",781.2,149.6,19.150025601638504,144.6,18.509984639016896,127.4,16.308243727598565,57.4,7.3476702508960576,10.6,1.3568868407578083,172.8,22.119815668202765,488.6,62.54480286738351,17.2,2.2017409114183306,412,52.739375320020478,86.4,11.059907834101383,440.8,56.426011264720941,1.8,0.2304147465437788,431.2,55.197132616487451,36.6,4.6850998463901687,19,2.4321556579621095,8.4,1.075268817204301,173.2,22.171018945212488]

{"sheet":"CSVデータ2","index":2,"n_rows":213,"n_cols":39,"rows_kept":213,"cut":false,"hidden":false,"merged":[]}
["レコード種別","保険者番号","保険者名","地区名","作成年月","県計・国計"]
["共通部"]
["レコード種別","集計単位","年齢","性別","受診者","ＢＭＩ人数","ＢＭＩ割合","腹囲人数","腹囲割合","中性脂肪人数","中性脂肪割合","ＡＬＴ（ＧＰＴ）人数","ＡＬＴ（ＧＰＴ）割合","ＨＤＬコレステロール人数","ＨＤＬコレステロール割合","空腹時血糖人数","空腹時血糖割合","ＨｂＡ１ｃ人数","ＨｂＡ１ｃ割合","尿酸人数","尿酸割合","収縮期血圧人数","収縮期血圧割合","拡張期血圧人数","拡張期血圧割合","ＬＤＬコレステロール人数","ＬＤＬコレステロール割合","血清クレアチニン人数","血清クレアチニン割合","心電図人数","心電図割合","眼底検査人数","眼底検査割合","随時血糖人数","随時血糖割合","ｎｏｎ－ＨＤＬコレステロール人数","ｎｏｎ－ＨＤＬコレステロール割合","ｅＧＦＲ人数","ｅＧＦＲ割合"]
["明細部","国",40,"男"]
["明細部","国",41,"男"]
["明細部","国",42,"男"]
["明細部","国",43,"男"]
["明細部","国",44,"男"]
["明細部","国",45,"男"]
["明細部","国",46,"男"]
["明細部","国",47,"男"]
["明細部","国",48,"男"]
["明細部","国",49,"男"]
["明細部","国",50,"男"]
["明細部","国",51,"男"]
["明細部","国",52,"男"]
["明細部","国",53,"男"]
["明細部","国",54,"男"]
["明細部","国",55,"男"]
["明細部","国",56,"男"]
["明細部","国",57,"男"]
["明細部","国",58,"男"]
["明細部","国",59,"男"]
["明細部","国",60,"男"]
["明細部","国",61,"男"]
["明細部","国",62,"男"]
["明細部","国",63,"男"]
["明細部","国",64,"男"]
["明細部","国",65,"男"]
["明細部","国",66,"男"]
["明細部","国",67,"男"]
["明細部","国",68,"男"]
["明細部","国",69,"男"]
["明細部","国",70,"男"]
["明細部","国",71,"男"]
["明細部","国",72,"男"]
["明細部","国",73,"男"]
["明細部","国",74,"男"]
["明細部","国",40,"女"]
["明細部","国",41,"女"]
["明細部","国",42,"女"]
["明細部","国",43,"女"]
["明細部","国",44,"女"]
["明細部","国",45,"女"]
["明細部","国",46,"女"]
["明細部","国",47,"女"]
["明細部","国",48,"女"]
["明細部","国",49,"女"]
["明細部","国",50,"女"]
["明細部","国",51,"女"]
["明細部","国",52,"女"]
["明細部","国",53,"女"]
["明細部","国",54,"女"]
["明細部","国",55,"女"]
["明細部","国",56,"女"]
["明細部","国",57,"女"]
["明細部","国",58,"女"]
["明細部","国",59,"女"]
["明細部","国",60,"女"]
["明細部","国",61,"女"]
["明細部","国",62,"女"]
["明細部","国",63,"女"]
["明細部","国",64,"女"]
["明細部","国",65,"女"]
["明細部","国",66,"女"]
["明細部","国",67,"女"]
["明細部","国",68,"女"]
["明細部","国",69,"女"]
["明細部","国",70,"女"]
["明細部","国",71,"女"]
["明細部","国",72,"女"]
["明細部","国",73,"女"]
["明細部","国",74,"女"]
["明細部","県",40,"男"]
["明細部","県",41,"男"]
["明細部","県",42,"男"]
["明細部","県",43,"男"]
["明細部","県",44,"男"]
["明細部","県",45,"男"]
["明細部","県",46,"男"]
["明細部","県",47,"男"]
["明細部","県",48,"男"]
["明細部","県",49,"男"]
["明細部","県",50,"男"]
["明細部","県",51,"男"]
["明細部","県",52,"男"]
["明細部","県",53,"男"]
["明細部","県",54,"男"]
["明細部","県",55,"男"]
["明細部","県",56,"男"]
["明細部","県",57,"男"]
["明細部","県",58,"男"]
["明細部","県",59,"男"]
["明細部","県",60,"男"]
["明細部","県",61,"男"]
["明細部","県",62,"男"]
["明細部","県",63,"男"]
["明細部","県",64,"男"]
["明細部","県",65,"男"]
["明細部","県",66,"男"]
["明細部","県",67,"男"]
["明細部","県",68,"男"]
["明細部","県",69,"男"]
["明細部","県",70,"男"]
["明細部","県",71,"男"]
["明細部","県",72,"男"]
["明細部","県",73,"男"]
["明細部","県",74,"男"]
["明細部","県",40,"女"]
["明細部","県",41,"女"]
["明細部","県",42,"女"]
["明細部","県",43,"女"]
["明細部","県",44,"女"]
["明細部","県",45,"女"]
["明細部","県",46,"女"]
["明細部","県",47,"女"]
["明細部","県",48,"女"]
["明細部","県",49,"女"]
["明細部","県",50,"女"]
["明細部","県",51,"女"]
["明細部","県",52,"女"]
["明細部","県",53,"女"]
["明細部","県",54,"女"]
["明細部","県",55,"女"]
["明細部","県",56,"女"]
["明細部","県",57,"女"]
["明細部","県",58,"女"]
["明細部","県",59,"女"]
["明細部","県",60,"女"]
["明細部","県",61,"女"]
["明細部","県",62,"女"]
["明細部","県",63,"女"]
["明細部","県",64,"女"]
["明細部","県",65,"女"]
["明細部","県",66,"女"]
["明細部","県",67,"女"]
["明細部","県",68,"女"]
["明細部","県",69,"女"]
["明細部","県",70,"女"]
["明細部","県",71,"女"]
["明細部","県",72,"女"]
["明細部","県",73,"女"]
["明細部","県",74,"女"]
["明細部","保険者（地区）",40,"男"]
["明細部","保険者（地区）",41,"男"]
["明細部","保険者（地区）",42,"男"]
["明細部","保険者（地区）",43,"男"]
["明細部","保険者（地区）",44,"男"]
["明細部","保険者（地区）",45,"男"]
["明細部","保険者（地区）",46,"男"]
["明細部","保険者（地区）",47,"男"]
["明細部","保険者（地区）",48,"男"]
["明細部","保険者（地区）",49,"男"]
["明細部","保険者（地区）",50,"男"]
["明細部","保険者（地区）",51,"男"]
["明細部","保険者（地区）",52,"男"]
["明細部","保険者（地区）",53,"男"]
["明細部","保険者（地区）",54,"男"]
["明細部","保険者（地区）",55,"男"]
["明細部","保険者（地区）",56,"男"]
["明細部","保険者（地区）",57,"男"]
["明細部","保険者（地区）",58,"男"]
["明細部","保険者（地区）",59,"男"]
["明細部","保険者（地区）",60,"男"]
["明細部","保険者（地区）",61,"男"]
["明細部","保険者（地区）",62,"男"]
["明細部","保険者（地区）",63,"男"]
["明細部","保険者（地区）",64,"男"]
["明細部","保険者（地区）",65,"男"]
["明細部","保険者（地区）",66,"男"]
["明細部","保険者（地区）",67,"男"]
["明細部","保険者（地区）",68,"男"]
["明細部","保険者（地区）",69,"男"]
["明細部","保険者（地区）",70,"男"]
["明細部","保険者（地区）",71,"男"]
["明細部","保険者（地区）",72,"男"]
["明細部","保険者（地区）",73,"男"]
["明細部","保険者（地区）",74,"男"]
["明細部","保険者（地区）",40,"女"]
["明細部","保険者（地区）",41,"女"]
["明細部","保険者（地区）",42,"女"]
["明細部","保険者（地区）",43,"女"]
["明細部","保険者（地区）",44,"女"]
["明細部","保険者（地区）",45,"女"]
["明細部","保険者（地区）",46,"女"]
["明細部","保険者（地区）",47,"女"]
["明細部","保険者（地区）",48,"女"]
["明細部","保険者（地区）",49,"女"]
["明細部","保険者（地区）",50,"女"]
["明細部","保険者（地区）",51,"女"]
["明細部","保険者（地区）",52,"女"]
["明細部","保険者（地区）",53,"女"]
["明細部","保険者（地区）",54,"女"]
["明細部","保険者（地区）",55,"女"]
["明細部","保険者（地区）",56,"女"]
["明細部","保険者（地区）",57,"女"]
["明細部","保険者（地区）",58,"女"]
["明細部","保険者（地区）",59,"女"]
["明細部","保険者（地区）",60,"女"]
["明細部","保険者（地区）",61,"女"]
["明細部","保険者（地区）",62,"女"]
["明細部","保険者（地区）",63,"女"]
["明細部","保険者（地区）",64,"女"]
["明細部","保険者（地区）",65,"女"]
["明細部","保険者（地区）",66,"女"]
["明細部","保険者（地区）",67,"女"]
["明細部","保険者（地区）",68,"女"]
["明細部","保険者（地区）",69,"女"]
["明細部","保険者（地区）",70,"女"]
["明細部","保険者（地区）",71,"女"]
["明細部","保険者（地区）",72,"女"]
["明細部","保険者（地区）",73,"女"]
["明細部","保険者（地区）",74,"女"]

{"sheet":"CSVデータ3","index":3,"n_rows":213,"n_cols":39,"rows_kept":213,"cut":false,"hidden":false,"merged":[]}
["レコード種別","保険者番号","保険者名","地区名","作成年月","県計・国計"]
["共通部"]
["レコード種別","集計単位","年齢","性別","受診者","ＢＭＩ人数","ＢＭＩ割合","腹囲人数","腹囲割合","中性脂肪人数","中性脂肪割合","ＡＬＴ（ＧＰＴ）人数","ＡＬＴ（ＧＰＴ）割合","ＨＤＬコレステロール人数","ＨＤＬコレステロール割合","空腹時血糖人数","空腹時血糖割合","ＨｂＡ１ｃ人数","ＨｂＡ１ｃ割合","尿酸人数","尿酸割合","収縮期血圧人数","収縮期血圧割合","拡張期血圧人数","拡張期血圧割合","ＬＤＬコレステロール人数","ＬＤＬコレステロール割合","血清クレアチニン人数","血清クレアチニン割合","心電図人数","心電図割合","眼底検査人数","眼底検査割合","随時血糖人数","随時血糖割合","ｎｏｎ－ＨＤＬコレステロール人数","ｎｏｎ－ＨＤＬコレステロール割合","ｅＧＦＲ人数","ｅＧＦＲ割合"]
["明細部","国",40,"男"]
["明細部","国",41,"男"]
["明細部","国",42,"男"]
["明細部","国",43,"男"]
["明細部","国",44,"男"]
["明細部","国",45,"男"]
["明細部","国",46,"男"]
["明細部","国",47,"男"]
["明細部","国",48,"男"]
["明細部","国",49,"男"]
["明細部","国",50,"男"]
["明細部","国",51,"男"]
["明細部","国",52,"男"]
["明細部","国",53,"男"]
["明細部","国",54,"男"]
["明細部","国",55,"男"]
["明細部","国",56,"男"]
["明細部","国",57,"男"]
["明細部","国",58,"男"]
["明細部","国",59,"男"]
["明細部","国",60,"男"]
["明細部","国",61,"男"]
["明細部","国",62,"男"]
["明細部","国",63,"男"]
["明細部","国",64,"男"]
["明細部","国",65,"男"]
["明細部","国",66,"男"]
["明細部","国",67,"男"]
["明細部","国",68,"男"]
["明細部","国",69,"男"]
["明細部","国",70,"男"]
["明細部","国",71,"男"]
["明細部","国",72,"男"]
["明細部","国",73,"男"]
["明細部","国",74,"男"]
["明細部","国",40,"女"]
["明細部","国",41,"女"]
["明細部","国",42,"女"]
["明細部","国",43,"女"]
["明細部","国",44,"女"]
["明細部","国",45,"女"]
["明細部","国",46,"女"]
["明細部","国",47,"女"]
["明細部","国",48,"女"]
["明細部","国",49,"女"]
["明細部","国",50,"女"]
["明細部","国",51,"女"]
["明細部","国",52,"女"]
["明細部","国",53,"女"]
["明細部","国",54,"女"]
["明細部","国",55,"女"]
["明細部","国",56,"女"]
["明細部","国",57,"女"]
["明細部","国",58,"女"]
["明細部","国",59,"女"]
["明細部","国",60,"女"]
["明細部","国",61,"女"]
["明細部","国",62,"女"]
["明細部","国",63,"女"]
["明細部","国",64,"女"]
["明細部","国",65,"女"]
["明細部","国",66,"女"]
["明細部","国",67,"女"]
["明細部","国",68,"女"]
["明細部","国",69,"女"]
["明細部","国",70,"女"]
["明細部","国",71,"女"]
["明細部","国",72,"女"]
["明細部","国",73,"女"]
["明細部","国",74,"女"]
["明細部","県",40,"男"]
["明細部","県",41,"男"]
["明細部","県",42,"男"]
["明細部","県",43,"男"]
["明細部","県",44,"男"]
["明細部","県",45,"男"]
["明細部","県",46,"男"]
["明細部","県",47,"男"]
["明細部","県",48,"男"]
["明細部","県",49,"男"]
["明細部","県",50,"男"]
["明細部","県",51,"男"]
["明細部","県",52,"男"]
["明細部","県",53,"男"]
["明細部","県",54,"男"]
["明細部","県",55,"男"]
["明細部","県",56,"男"]
["明細部","県",57,"男"]
["明細部","県",58,"男"]
["明細部","県",59,"男"]
["明細部","県",60,"男"]
["明細部","県",61,"男"]
["明細部","県",62,"男"]
["明細部","県",63,"男"]
["明細部","県",64,"男"]
["明細部","県",65,"男"]
["明細部","県",66,"男"]
["明細部","県",67,"男"]
["明細部","県",68,"男"]
["明細部","県",69,"男"]
["明細部","県",70,"男"]
["明細部","県",71,"男"]
["明細部","県",72,"男"]
["明細部","県",73,"男"]
["明細部","県",74,"男"]
["明細部","県",40,"女"]
["明細部","県",41,"女"]
["明細部","県",42,"女"]
["明細部","県",43,"女"]
["明細部","県",44,"女"]
["明細部","県",45,"女"]
["明細部","県",46,"女"]
["明細部","県",47,"女"]
["明細部","県",48,"女"]
["明細部","県",49,"女"]
["明細部","県",50,"女"]
["明細部","県",51,"女"]
["明細部","県",52,"女"]
["明細部","県",53,"女"]
["明細部","県",54,"女"]
["明細部","県",55,"女"]
["明細部","県",56,"女"]
["明細部","県",57,"女"]
["明細部","県",58,"女"]
["明細部","県",59,"女"]
["明細部","県",60,"女"]
["明細部","県",61,"女"]
["明細部","県",62,"女"]
["明細部","県",63,"女"]
["明細部","県",64,"女"]
["明細部","県",65,"女"]
["明細部","県",66,"女"]
["明細部","県",67,"女"]
["明細部","県",68,"女"]
["明細部","県",69,"女"]
["明細部","県",70,"女"]
["明細部","県",71,"女"]
["明細部","県",72,"女"]
["明細部","県",73,"女"]
["明細部","県",74,"女"]
["明細部","保険者（地区）",40,"男"]
["明細部","保険者（地区）",41,"男"]
["明細部","保険者（地区）",42,"男"]
["明細部","保険者（地区）",43,"男"]
["明細部","保険者（地区）",44,"男"]
["明細部","保険者（地区）",45,"男"]
["明細部","保険者（地区）",46,"男"]
["明細部","保険者（地区）",47,"男"]
["明細部","保険者（地区）",48,"男"]
["明細部","保険者（地区）",49,"男"]
["明細部","保険者（地区）",50,"男"]
["明細部","保険者（地区）",51,"男"]
["明細部","保険者（地区）",52,"男"]
["明細部","保険者（地区）",53,"男"]
["明細部","保険者（地区）",54,"男"]
["明細部","保険者（地区）",55,"男"]
["明細部","保険者（地区）",56,"男"]
["明細部","保険者（地区）",57,"男"]
["明細部","保険者（地区）",58,"男"]
["明細部","保険者（地区）",59,"男"]
["明細部","保険者（地区）",60,"男"]
["明細部","保険者（地区）",61,"男"]
["明細部","保険者（地区）",62,"男"]
["明細部","保険者（地区）",63,"男"]
["明細部","保険者（地区）",64,"男"]
["明細部","保険者（地区）",65,"男"]
["明細部","保険者（地区）",66,"男"]
["明細部","保険者（地区）",67,"男"]
["明細部","保険者（地区）",68,"男"]
["明細部","保険者（地区）",69,"男"]
["明細部","保険者（地区）",70,"男"]
["明細部","保険者（地区）",71,"男"]
["明細部","保険者（地区）",72,"男"]
["明細部","保険者（地区）",73,"男"]
["明細部","保険者（地区）",74,"男"]
["明細部","保険者（地区）",40,"女"]
["明細部","保険者（地区）",41,"女"]
["明細部","保険者（地区）",42,"女"]
["明細部","保険者（地区）",43,"女"]
["明細部","保険者（地区）",44,"女"]
["明細部","保険者（地区）",45,"女"]
["明細部","保険者（地区）",46,"女"]
["明細部","保険者（地区）",47,"女"]
["明細部","保険者（地区）",48,"女"]
["明細部","保険者（地区）",49,"女"]
["明細部","保険者（地区）",50,"女"]
["明細部","保険者（地区）",51,"女"]
["明細部","保険者（地区）",52,"女"]
["明細部","保険者（地区）",53,"女"]
["明細部","保険者（地区）",54,"女"]
["明細部","保険者（地区）",55,"女"]
["明細部","保険者（地区）",56,"女"]
["明細部","保険者（地区）",57,"女"]
["明細部","保険者（地区）",58,"女"]
["明細部","保険者（地区）",59,"女"]
["明細部","保険者（地区）",60,"女"]
["明細部","保険者（地区）",61,"女"]
["明細部","保険者（地区）",62,"女"]
["明細部","保険者（地区）",63,"女"]
["明細部","保険者（地区）",64,"女"]
["明細部","保険者（地区）",65,"女"]
["明細部","保険者（地区）",66,"女"]
["明細部","保険者（地区）",67,"女"]
["明細部","保険者（地区）",68,"女"]
["明細部","保険者（地区）",69,"女"]
["明細部","保険者（地区）",70,"女"]
["明細部","保険者（地区）",71,"女"]
["明細部","保険者（地区）",72,"女"]
["明細部","保険者（地区）",73,"女"]
["明細部","保険者（地区）",74,"女"]

{"sheet":"CSVデータ4","index":4,"n_rows":213,"n_cols":39,"rows_kept":213,"cut":false,"hidden":false,"merged":[]}
["レコード種別","保険者番号","保険者名","地区名","作成年月","県計・国計"]
["共通部"]
["レコード種別","集計単位","年齢","性別","受診者","ＢＭＩ人数","ＢＭＩ割合","腹囲人数","腹囲割合","中性脂肪人数","中性脂肪割合","ＡＬＴ（ＧＰＴ）人数","ＡＬＴ（ＧＰＴ）割合","ＨＤＬコレステロール人数","ＨＤＬコレステロール割合","空腹時血糖人数","空腹時血糖割合","ＨｂＡ１ｃ人数","ＨｂＡ１ｃ割合","尿酸人数","尿酸割合","収縮期血圧人数","収縮期血圧割合","拡張期血圧人数","拡張期血圧割合","ＬＤＬコレステロール人数","ＬＤＬコレステロール割合","血清クレアチニン人数","血清クレアチニン割合","心電図人数","心電図割合","眼底検査人数","眼底検査割合","随時血糖人数","随時血糖割合","ｎｏｎ－ＨＤＬコレステロール人数","ｎｏｎ－ＨＤＬコレステロール割合","ｅＧＦＲ人数","ｅＧＦＲ割合"]
["明細部","国",40,"男"]
["明細部","国",41,"男"]
["明細部","国",42,"男"]
["明細部","国",43,"男"]
["明細部","国",44,"男"]
["明細部","国",45,"男"]
["明細部","国",46,"男"]
["明細部","国",47,"男"]
["明細部","国",48,"男"]
["明細部","国",49,"男"]
["明細部","国",50,"男"]
["明細部","国",51,"男"]
["明細部","国",52,"男"]
["明細部","国",53,"男"]
["明細部","国",54,"男"]
["明細部","国",55,"男"]
["明細部","国",56,"男"]
["明細部","国",57,"男"]
["明細部","国",58,"男"]
["明細部","国",59,"男"]
["明細部","国",60,"男"]
["明細部","国",61,"男"]
["明細部","国",62,"男"]
["明細部","国",63,"男"]
["明細部","国",64,"男"]
["明細部","国",65,"男"]
["明細部","国",66,"男"]
["明細部","国",67,"男"]
["明細部","国",68,"男"]
["明細部","国",69,"男"]
["明細部","国",70,"男"]
["明細部","国",71,"男"]
["明細部","国",72,"男"]
["明細部","国",73,"男"]
["明細部","国",74,"男"]
["明細部","国",40,"女"]
["明細部","国",41,"女"]
["明細部","国",42,"女"]
["明細部","国",43,"女"]
["明細部","国",44,"女"]
["明細部","国",45,"女"]
["明細部","国",46,"女"]
["明細部","国",47,"女"]
["明細部","国",48,"女"]
["明細部","国",49,"女"]
["明細部","国",50,"女"]
["明細部","国",51,"女"]
["明細部","国",52,"女"]
["明細部","国",53,"女"]
["明細部","国",54,"女"]
["明細部","国",55,"女"]
["明細部","国",56,"女"]
["明細部","国",57,"女"]
["明細部","国",58,"女"]
["明細部","国",59,"女"]
["明細部","国",60,"女"]
["明細部","国",61,"女"]
["明細部","国",62,"女"]
["明細部","国",63,"女"]
["明細部","国",64,"女"]
["明細部","国",65,"女"]
["明細部","国",66,"女"]
["明細部","国",67,"女"]
["明細部","国",68,"女"]
["明細部","国",69,"女"]
["明細部","国",70,"女"]
["明細部","国",71,"女"]
["明細部","国",72,"女"]
["明細部","国",73,"女"]
["明細部","国",74,"女"]
["明細部","県",40,"男"]
["明細部","県",41,"男"]
["明細部","県",42,"男"]
["明細部","県",43,"男"]
["明細部","県",44,"男"]
["明細部","県",45,"男"]
["明細部","県",46,"男"]
["明細部","県",47,"男"]
["明細部","県",48,"男"]
["明細部","県",49,"男"]
["明細部","県",50,"男"]
["明細部","県",51,"男"]
["明細部","県",52,"男"]
["明細部","県",53,"男"]
["明細部","県",54,"男"]
["明細部","県",55,"男"]
["明細部","県",56,"男"]
["明細部","県",57,"男"]
["明細部","県",58,"男"]
["明細部","県",59,"男"]
["明細部","県",60,"男"]
["明細部","県",61,"男"]
["明細部","県",62,"男"]
["明細部","県",63,"男"]
["明細部","県",64,"男"]
["明細部","県",65,"男"]
["明細部","県",66,"男"]
["明細部","県",67,"男"]
["明細部","県",68,"男"]
["明細部","県",69,"男"]
["明細部","県",70,"男"]
["明細部","県",71,"男"]
["明細部","県",72,"男"]
["明細部","県",73,"男"]
["明細部","県",74,"男"]
["明細部","県",40,"女"]
["明細部","県",41,"女"]
["明細部","県",42,"女"]
["明細部","県",43,"女"]
["明細部","県",44,"女"]
["明細部","県",45,"女"]
["明細部","県",46,"女"]
["明細部","県",47,"女"]
["明細部","県",48,"女"]
["明細部","県",49,"女"]
["明細部","県",50,"女"]
["明細部","県",51,"女"]
["明細部","県",52,"女"]
["明細部","県",53,"女"]
["明細部","県",54,"女"]
["明細部","県",55,"女"]
["明細部","県",56,"女"]
["明細部","県",57,"女"]
["明細部","県",58,"女"]
["明細部","県",59,"女"]
["明細部","県",60,"女"]
["明細部","県",61,"女"]
["明細部","県",62,"女"]
["明細部","県",63,"女"]
["明細部","県",64,"女"]
["明細部","県",65,"女"]
["明細部","県",66,"女"]
["明細部","県",67,"女"]
["明細部","県",68,"女"]
["明細部","県",69,"女"]
["明細部","県",70,"女"]
["明細部","県",71,"女"]
["明細部","県",72,"女"]
["明細部","県",73,"女"]
["明細部","県",74,"女"]
["明細部","保険者（地区）",40,"男"]
["明細部","保険者（地区）",41,"男"]
["明細部","保険者（地区）",42,"男"]
["明細部","保険者（地区）",43,"男"]
["明細部","保険者（地区）",44,"男"]
["明細部","保険者（地区）",45,"男"]
["明細部","保険者（地区）",46,"男"]
["明細部","保険者（地区）",47,"男"]
["明細部","保険者（地区）",48,"男"]
["明細部","保険者（地区）",49,"男"]
["明細部","保険者（地区）",50,"男"]
["明細部","保険者（地区）",51,"男"]
["明細部","保険者（地区）",52,"男"]
["明細部","保険者（地区）",53,"男"]
["明細部","保険者（地区）",54,"男"]
["明細部","保険者（地区）",55,"男"]
["明細部","保険者（地区）",56,"男"]
["明細部","保険者（地区）",57,"男"]
["明細部","保険者（地区）",58,"男"]
["明細部","保険者（地区）",59,"男"]
["明細部","保険者（地区）",60,"男"]
["明細部","保険者（地区）",61,"男"]
["明細部","保険者（地区）",62,"男"]
["明細部","保険者（地区）",63,"男"]
["明細部","保険者（地区）",64,"男"]
["明細部","保険者（地区）",65,"男"]
["明細部","保険者（地区）",66,"男"]
["明細部","保険者（地区）",67,"男"]
["明細部","保険者（地区）",68,"男"]
["明細部","保険者（地区）",69,"男"]
["明細部","保険者（地区）",70,"男"]
["明細部","保険者（地区）",71,"男"]
["明細部","保険者（地区）",72,"男"]
["明細部","保険者（地区）",73,"男"]
["明細部","保険者（地区）",74,"男"]
["明細部","保険者（地区）",40,"女"]
["明細部","保険者（地区）",41,"女"]
["明細部","保険者（地区）",42,"女"]
["明細部","保険者（地区）",43,"女"]
["明細部","保険者（地区）",44,"女"]
["明細部","保険者（地区）",45,"女"]
["明細部","保険者（地区）",46,"女"]
["明細部","保険者（地区）",47,"女"]
["明細部","保険者（地区）",48,"女"]
["明細部","保険者（地区）",49,"女"]
["明細部","保険者（地区）",50,"女"]
["明細部","保険者（地区）",51,"女"]
["明細部","保険者（地区）",52,"女"]
["明細部","保険者（地区）",53,"女"]
["明細部","保険者（地区）",54,"女"]
["明細部","保険者（地区）",55,"女"]
["明細部","保険者（地区）",56,"女"]
["明細部","保険者（地区）",57,"女"]
["明細部","保険者（地区）",58,"女"]
["明細部","保険者（地区）",59,"女"]
["明細部","保険者（地区）",60,"女"]
["明細部","保険者（地区）",61,"女"]
["明細部","保険者（地区）",62,"女"]
["明細部","保険者（地区）",63,"女"]
["明細部","保険者（地区）",64,"女"]
["明細部","保険者（地区）",65,"女"]
["明細部","保険者（地区）",66,"女"]
["明細部","保険者（地区）",67,"女"]
["明細部","保険者（地区）",68,"女"]
["明細部","保険者（地区）",69,"女"]
["明細部","保険者（地区）",70,"女"]
["明細部","保険者（地区）",71,"女"]
["明細部","保険者（地区）",72,"女"]
["明細部","保険者（地区）",73,"女"]
["明細部","保険者（地区）",74,"女"]

{"sheet":"CSVデータ","index":5,"n_rows":213,"n_cols":33,"rows_kept":213,"cut":false,"hidden":true,"merged":[]}
[{"$f":"CSVデータ1!A1","v":"レコード種別"},{"$f":"CSVデータ1!B1","v":"保険者番号"},{"$f":"CSVデータ1!C1","v":"保険者名"},{"$f":"CSVデータ1!D1","v":"地区名"},{"$f":"CSVデータ1!E1","v":"作成年月"}]
[{"$f":"CSVデータ1!A2","v":"共通部"},{"$f":"CSVデータ1!B2","v":999999},{"$f":"CSVデータ1!C2","v":"見本データ"},{"$f":"CSVデータ1!D2","v":0},{"$f":"CSVデータ1!E2&CSVデータ2!E2&CSVデータ3!E2&CSVデータ4!E2","v":"H30年度"}]
[{"$f":"CSVデータ1!A3","v":"レコード種別"},{"$f":"CSVデータ1!B3","v":"集計単位"},{"$f":"CSVデータ1!C3","v":"年齢"},{"$f":"CSVデータ1!D3","v":"性別"},{"$f":"CSVデータ1!E3","v":"受診者"},{"$f":"CSVデータ1!F3","v":"ＢＭＩ人数"},{"$f":"CSVデータ1!G3","v":"ＢＭＩ割合"},{"$f":"CSVデータ1!H3","v":"腹囲人数"},{"$f":"CSVデータ1!I3","v":"腹囲割合"},{"$f":"CSVデータ1!J3","v":"中性脂肪人数"},{"$f":"CSVデータ1!K3","v":"中性脂肪割合"},{"$f":"CSVデータ1!L3","v":"ＡＬＴ（ＧＰＴ）人数"},{"$f":"CSVデータ1!M3","v":"ＡＬＴ（ＧＰＴ）割合"},{"$f":"CSVデータ1!N3","v":"ＨＤＬコレステロール人数"},{"$f":"CSVデータ1!O3","v":"ＨＤＬコレステロール割合"},{"$f":"CSVデータ1!P3","v":"空腹時血糖人数"},{"$f":"CSVデータ1!Q3","v":"空腹時血糖割合"},{"$f":"CSVデータ1!R3","v":"ＨｂＡ１ｃ人数"},{"$f":"CSVデータ1!S3","v":"ＨｂＡ１ｃ割合"},{"$f":"CSVデータ1!T3","v":"尿酸人数"},{"$f":"CSVデータ1!U3","v":"尿酸割合"},{"$f":"CSVデータ1!V3","v":"収縮期血圧人数"},{"$f":"CSVデータ1!W3","v":"収縮期血圧割合"},{"$f":"CSVデータ1!X3","v":"拡張期血圧人数"},{"$f":"CSVデータ1!Y3","v":"拡張期血圧割合"},{"$f":"CSVデータ1!Z3","v":"ＬＤＬコレステロール人数"},{"$f":"CSVデータ1!AA3","v":"ＬＤＬコレステロール割合"},{"$f":"CSVデータ1!AB3","v":"血清クレアチニン人数"},{"$f":"CSVデータ1!AC3","v":"血清クレアチニン割合"},{"$f":"CSVデータ1!AD3","v":"心電図人数"},{"$f":"CSVデータ1!AE3","v":"心電図割合"},{"$f":"CSVデータ1!AF3","v":"眼底検査人数"},{"$f":"CSVデータ1!AG3","v":"眼底検査割合"}]
[{"$f":"CSVデータ1!A4","v":"明細部"},{"$f":"CSVデータ1!B4","v":"国"},{"$f":"CSVデータ1!C4","v":40},{"$f":"CSVデータ1!D4","v":"男"},{"$f":"CSVデータ1!E4+CSVデータ2!E4+CSVデータ3!E4+CSVデータ4!E4","v":45492},{"$f":"CSVデータ1!F4+CSVデータ2!F4+CSVデータ3!F4+CSVデータ4!F4","v":15808},null,{"$f":"CSVデータ1!H4+CSVデータ2!H4+CSVデータ3!H4+CSVデータ4!H4","v":20459},null,{"$f":"CSVデータ1!J4+CSVデータ2!J4+CSVデータ3!J4+CSVデータ4!J4","v":13469},null,{"$f":"CSVデータ1!L4+CSVデータ2!L4+CSVデータ3!L4+CSVデータ4!L4","v":16176},null,{"$f":"CSVデータ1!N4+CSVデータ2!N4+CSVデータ3!N4+CSVデータ4!N4","v":3960},null,{"$f":"CSVデータ1!P4+CSVデータ2!P4+CSVデータ3!P4+CSVデータ4!P4","v":6530},null,{"$f":"CSVデータ1!R4+CSVデータ2!R4+CSVデータ3!R4+CSVデータ4!R4","v":12267},null,{"$f":"CSVデータ1!T4+CSVデータ2!T4+CSVデータ3!T4+CSVデータ4!T4","v":7110},null,{"$f":"CSVデータ1!V4+CSVデータ2!V4+CSVデータ3!V4+CSVデータ4!V4","v":10564},null,{"$f":"CSVデータ1!X4+CSVデータ2!X4+CSVデータ3!X4+CSVデータ4!X4","v":8349},null,{"$f":"CSVデータ1!Z4+CSVデータ2!Z4+CSVデータ3!Z4+CSVデータ4!Z4","v":24796},null,{"$f":"CSVデータ1!AB4+CSVデータ2!AB4+CSVデータ3!AB4+CSVデータ4!AB4","v":99},null,{"$f":"CSVデータ1!AD4+CSVデータ2!AD4+CSVデータ3!AD4+CSVデータ4!AD4","v":5885},null,{"$f":"CSVデータ1!AF4+CSVデータ2!AF4+CSVデータ3!AF4+CSVデータ4!AF4","v":7884}]
[{"$f":"CSVデータ1!A5","v":"明細部"},{"$f":"CSVデータ1!B5","v":"国"},{"$f":"CSVデータ1!C5","v":41},{"$f":"CSVデータ1!D5","v":"男"},{"$f":"CSVデータ1!E5+CSVデータ2!E5+CSVデータ3!E5+CSVデータ4!E5","v":44516},{"$f":"CSVデータ1!F5+CSVデータ2!F5+CSVデータ3!F5+CSVデータ4!F5","v":16111},null,{"$f":"CSVデータ1!H5+CSVデータ2!H5+CSVデータ3!H5+CSVデータ4!H5","v":20624},null,{"$f":"CSVデータ1!J5+CSVデータ2!J5+CSVデータ3!J5+CSVデータ4!J5","v":13538},null,{"$f":"CSVデータ1!L5+CSVデータ2!L5+CSVデータ3!L5+CSVデータ4!L5","v":15477},null,{"$f":"CSVデータ1!N5+CSVデータ2!N5+CSVデータ3!N5+CSVデータ4!N5","v":3880},null,{"$f":"CSVデータ1!P5+CSVデータ2!P5+CSVデータ3!P5+CSVデータ4!P5","v":6231},null,{"$f":"CSVデータ1!R5+CSVデータ2!R5+CSVデータ3!R5+CSVデータ4!R5","v":12596},null,{"$f":"CSVデータ1!T5+CSVデータ2!T5+CSVデータ3!T5+CSVデータ4!T5","v":6672},null,{"$f":"CSVデータ1!V5+CSVデータ2!V5+CSVデータ3!V5+CSVデータ4!V5","v":10597},null,{"$f":"CSVデータ1!X5+CSVデータ2!X5+CSVデータ3!X5+CSVデータ4!X5","v":7969},null,{"$f":"CSVデータ1!Z5+CSVデータ2!Z5+CSVデータ3!Z5+CSVデータ4!Z5","v":23842},null,{"$f":"CSVデータ1!AB5+CSVデータ2!AB5+CSVデータ3!AB5+CSVデータ4!AB5","v":103},null,{"$f":"CSVデータ1!AD5+CSVデータ2!AD5+CSVデータ3!AD5+CSVデータ4!AD5","v":5711},null,{"$f":"CSVデータ1!AF5+CSVデータ2!AF5+CSVデータ3!AF5+CSVデータ4!AF5","v":7200}]
[{"$f":"CSVデータ1!A6","v":"明細部"},{"$f":"CSVデータ1!B6","v":"国"},{"$f":"CSVデータ1!C6","v":42},{"$f":"CSVデータ1!D6","v":"男"},{"$f":"CSVデータ1!E6+CSVデータ2!E6+CSVデータ3!E6+CSVデータ4!E6","v":44259},{"$f":"CSVデータ1!F6+CSVデータ2!F6+CSVデータ3!F6+CSVデータ4!F6","v":16032},null,{"$f":"CSVデータ1!H6+CSVデータ2!H6+CSVデータ3!H6+CSVデータ4!H6","v":20311},null,{"$f":"CSVデータ1!J6+CSVデータ2!J6+CSVデータ3!J6+CSVデータ4!J6","v":13473},null,{"$f":"CSVデータ1!L6+CSVデータ2!L6+CSVデータ3!L6+CSVデータ4!L6","v":16563},null,{"$f":"CSVデータ1!N6+CSVデータ2!N6+CSVデータ3!N6+CSVデータ4!N6","v":3977},null,{"$f":"CSVデータ1!P6+CSVデータ2!P6+CSVデータ3!P6+CSVデータ4!P6","v":6980},null,{"$f":"CSVデータ1!R6+CSVデータ2!R6+CSVデータ3!R6+CSVデータ4!R6","v":13589},null,{"$f":"CSVデータ1!T6+CSVデータ2!T6+CSVデータ3!T6+CSVデータ4!T6","v":6995},null,{"$f":"CSVデータ1!V6+CSVデータ2!V6+CSVデータ3!V6+CSVデータ4!V6","v":11784},null,{"$f":"CSVデータ1!X6+CSVデータ2!X6+CSVデータ3!X6+CSVデータ4!X6","v":9382},null,{"$f":"CSVデータ1!Z6+CSVデータ2!Z6+CSVデータ3!Z6+CSVデータ4!Z6","v":24288},null,{"$f":"CSVデータ1!AB6+CSVデータ2!AB6+CSVデータ3!AB6+CSVデータ4!AB6","v":110},null,{"$f":"CSVデータ1!AD6+CSVデータ2!AD6+CSVデータ3!AD6+CSVデータ4!AD6","v":6097},null,{"$f":"CSVデータ1!AF6+CSVデータ2!AF6+CSVデータ3!AF6+CSVデータ4!AF6","v":7516}]
[{"$f":"CSVデータ1!A7","v":"明細部"},{"$f":"CSVデータ1!B7","v":"国"},{"$f":"CSVデータ1!C7","v":43},{"$f":"CSVデータ1!D7","v":"男"},{"$f":"CSVデータ1!E7+CSVデータ2!E7+CSVデータ3!E7+CSVデータ4!E7","v":46754},{"$f":"CSVデータ1!F7+CSVデータ2!F7+CSVデータ3!F7+CSVデータ4!F7","v":17762},null,{"$f":"CSVデータ1!H7+CSVデータ2!H7+CSVデータ3!H7+CSVデータ4!H7","v":23273},null,{"$f":"CSVデータ1!J7+CSVデータ2!J7+CSVデータ3!J7+CSVデータ4!J7","v":14956},null,{"$f":"CSVデータ1!L7+CSVデータ2!L7+CSVデータ3!L7+CSVデータ4!L7","v":17336},null,{"$f":"CSVデータ1!N7+CSVデータ2!N7+CSVデータ3!N7+CSVデータ4!N7","v":4356},null,{"$f":"CSVデータ1!P7+CSVデータ2!P7+CSVデータ3!P7+CSVデータ4!P7","v":7843},null,{"$f":"CSVデータ1!R7+CSVデータ2!R7+CSVデータ3!R7+CSVデータ4!R7","v":14830},null,{"$f":"CSVデータ1!T7+CSVデータ2!T7+CSVデータ3!T7+CSVデータ4!T7","v":7647},null,{"$f":"CSVデータ1!V7+CSVデータ2!V7+CSVデータ3!V7+CSVデータ4!V7","v":13140},null,{"$f":"CSVデータ1!X7+CSVデータ2!X7+CSVデータ3!X7+CSVデータ4!X7","v":10612},null,{"$f":"CSVデータ1!Z7+CSVデータ2!Z7+CSVデータ3!Z7+CSVデータ4!Z7","v":26143},null,{"$f":"CSVデータ1!AB7+CSVデータ2!AB7+CSVデータ3!AB7+CSVデータ4!AB7","v":146},null,{"$f":"CSVデータ1!AD7+CSVデータ2!AD7+CSVデータ3!AD7+CSVデータ4!AD7","v":6626},null,{"$f":"CSVデータ1!AF7+CSVデータ2!AF7+CSVデータ3!AF7+CSVデータ4!AF7","v":8054}]
[{"$f":"CSVデータ1!A8","v":"明細部"},{"$f":"CSVデータ1!B8","v":"国"},{"$f":"CSVデータ1!C8","v":44},{"$f":"CSVデータ1!D8","v":"男"},{"$f":"CSVデータ1!E8+CSVデータ2!E8+CSVデータ3!E8+CSVデータ4!E8","v":52391},{"$f":"CSVデータ1!F8+CSVデータ2!F8+CSVデータ3!F8+CSVデータ4!F8","v":19809},null,{"$f":"CSVデータ1!H8+CSVデータ2!H8+CSVデータ3!H8+CSVデータ4!H8","v":24822},null,{"$f":"CSVデータ1!J8+CSVデータ2!J8+CSVデータ3!J8+CSVデータ4!J8","v":16678},null,{"$f":"CSVデータ1!L8+CSVデータ2!L8+CSVデータ3!L8+CSVデータ4!L8","v":18780},null,{"$f":"CSVデータ1!N8+CSVデータ2!N8+CSVデータ3!N8+CSVデータ4!N8","v":4524},null,{"$f":"CSVデータ1!P8+CSVデータ2!P8+CSVデータ3!P8+CSVデータ4!P8","v":9165},null,{"$f":"CSVデータ1!R8+CSVデータ2!R8+CSVデータ3!R8+CSVデータ4!R8","v":16509},null,{"$f":"CSVデータ1!T8+CSVデータ2!T8+CSVデータ3!T8+CSVデータ4!T8","v":8138},null,{"$f":"CSVデータ1!V8+CSVデータ2!V8+CSVデータ3!V8+CSVデータ4!V8","v":14364},null,{"$f":"CSVデータ1!X8+CSVデータ2!X8+CSVデータ3!X8+CSVデータ4!X8","v":11886},null,{"$f":"CSVデータ1!Z8+CSVデータ2!Z8+CSVデータ3!Z8+CSVデータ4!Z8","v":28204},null,{"$f":"CSVデータ1!AB8+CSVデータ2!AB8+CSVデータ3!AB8+CSVデータ4!AB8","v":143},null,{"$f":"CSVデータ1!AD8+CSVデータ2!AD8+CSVデータ3!AD8+CSVデータ4!AD8","v":6994},null,{"$f":"CSVデータ1!AF8+CSVデータ2!AF8+CSVデータ3!AF8+CSVデータ4!AF8","v":8772}]
[{"$f":"CSVデータ1!A9","v":"明細部"},{"$f":"CSVデータ1!B9","v":"国"},{"$f":"CSVデータ1!C9","v":45},{"$f":"CSVデータ1!D9","v":"男"},{"$f":"CSVデータ1!E9+CSVデータ2!E9+CSVデータ3!E9+CSVデータ4!E9","v":56024},{"$f":"CSVデータ1!F9+CSVデータ2!F9+CSVデータ3!F9+CSVデータ4!F9","v":21055},null,{"$f":"CSVデータ1!H9+CSVデータ2!H9+CSVデータ3!H9+CSVデータ4!H9","v":26767},null,{"$f":"CSVデータ1!J9+CSVデータ2!J9+CSVデータ3!J9+CSVデータ4!J9","v":17777},null,{"$f":"CSVデータ1!L9+CSVデータ2!L9+CSVデータ3!L9+CSVデータ4!L9","v":18878},null,{"$f":"CSVデータ1!N9+CSVデータ2!N9+CSVデータ3!N9+CSVデータ4!N9","v":5054},null,{"$f":"CSVデータ1!P9+CSVデータ2!P9+CSVデータ3!P9+CSVデータ4!P9","v":10412},null,{"$f":"CSVデータ1!R9+CSVデータ2!R9+CSVデータ3!R9+CSVデータ4!R9","v":18622},null,{"$f":"CSVデータ1!T9+CSVデータ2!T9+CSVデータ3!T9+CSVデータ4!T9","v":8636},null,{"$f":"CSVデータ1!V9+CSVデータ2!V9+CSVデータ3!V9+CSVデータ4!V9","v":16278},null,{"$f":"CSVデータ1!X9+CSVデータ2!X9+CSVデータ3!X9+CSVデータ4!X9","v":13518},null,{"$f":"CSVデータ1!Z9+CSVデータ2!Z9+CSVデータ3!Z9+CSVデータ4!Z9","v":31564},null,{"$f":"CSVデータ1!AB9+CSVデータ2!AB9+CSVデータ3!AB9+CSVデータ4!AB9","v":189},null,{"$f":"CSVデータ1!AD9+CSVデータ2!AD9+CSVデータ3!AD9+CSVデータ4!AD9","v":7906},null,{"$f":"CSVデータ1!AF9+CSVデータ2!AF9+CSVデータ3!AF9+CSVデータ4!AF9","v":9942}]
[{"$f":"CSVデータ1!A10","v":"明細部"},{"$f":"CSVデータ1!B10","v":"国"},{"$f":"CSVデータ1!C10","v":46},{"$f":"CSVデータ1!D10","v":"男"},{"$f":"CSVデータ1!E10+CSVデータ2!E10+CSVデータ3!E10+CSVデータ4!E10","v":55132},{"$f":"CSVデータ1!F10+CSVデータ2!F10+CSVデータ3!F10+CSVデータ4!F10","v":22384},null,{"$f":"CSVデータ1!H10+CSVデータ2!H10+CSVデータ3!H10+CSVデータ4!H10","v":26816},null,{"$f":"CSVデータ1!J10+CSVデータ2!J10+CSVデータ3!J10+CSVデータ4!J10","v":19033},null,{"$f":"CSVデータ1!L10+CSVデータ2!L10+CSVデータ3!L10+CSVデータ4!L10","v":19563},null,{"$f":"CSVデータ1!N10+CSVデータ2!N10+CSVデータ3!N10+CSVデータ4!N10","v":5050},null,{"$f":"CSVデータ1!P10+CSVデータ2!P10+CSVデータ3!P10+CSVデータ4!P10","v":10300},null,{"$f":"CSVデータ1!R10+CSVデータ2!R10+CSVデータ3!R10+CSVデータ4!R10","v":19809},null,{"$f":"CSVデータ1!T10+CSVデータ2!T10+CSVデータ3!T10+CSVデータ4!T10","v":8549},null,{"$f":"CSVデータ1!V10+CSVデータ2!V10+CSVデータ3!V10+CSVデータ4!V10","v":16514},null,{"$f":"CSVデータ1!X10+CSVデータ2!X10+CSVデータ3!X10+CSVデータ4!X10","v":14241},null,{"$f":"CSVデータ1!Z10+CSVデータ2!Z10+CSVデータ3!Z10+CSVデータ4!Z10","v":31359},null,{"$f":"CSVデータ1!AB10+CSVデータ2!AB10+CSVデータ3!AB10+CSVデータ4!AB10","v":246},null,{"$f":"CSVデータ1!AD10+CSVデータ2!AD10+CSVデータ3!AD10+CSVデータ4!AD10","v":7969},null,{"$f":"CSVデータ1!AF10+CSVデータ2!AF10+CSVデータ3!AF10+CSVデータ4!AF10","v":9847}]
[{"$f":"CSVデータ1!A11","v":"明細部"},{"$f":"CSVデータ1!B11","v":"国"},{"$f":"CSVデータ1!C11","v":47},{"$f":"CSVデータ1!D11","v":"男"},{"$f":"CSVデータ1!E11+CSVデータ2!E11+CSVデータ3!E11+CSVデータ4!E11","v":57250},{"$f":"CSVデータ1!F11+CSVデータ2!F11+CSVデータ3!F11+CSVデータ4!F11","v":22213},null,{"$f":"CSVデータ1!H11+CSVデータ2!H11+CSVデータ3!H11+CSVデータ4!H11","v":28356},null,{"$f":"CSVデータ1!J11+CSVデータ2!J11+CSVデータ3!J11+CSVデータ4!J11","v":19300},null,{"$f":"CSVデータ1!L11+CSVデータ2!L11+CSVデータ3!L11+CSVデータ4!L11","v":19577},null,{"$f":"CSVデータ1!N11+CSVデータ2!N11+CSVデータ3!N11+CSVデータ4!N11","v":5093},null,{"$f":"CSVデータ1!P11+CSVデータ2!P11+CSVデータ3!P11+CSVデータ4!P11","v":10799},null,{"$f":"CSVデータ1!R11+CSVデータ2!R11+CSVデータ3!R11+CSVデータ4!R11","v":21549},null,{"$f":"CSVデータ1!T11+CSVデータ2!T11+CSVデータ3!T11+CSVデータ4!T11","v":8498},null,{"$f":"CSVデータ1!V11+CSVデータ2!V11+CSVデータ3!V11+CSVデータ4!V11","v":17323},null,{"$f":"CSVデータ1!X11+CSVデータ2!X11+CSVデータ3!X11+CSVデータ4!X11","v":15204},null,{"$f":"CSVデータ1!Z11+CSVデータ2!Z11+CSVデータ3!Z11+CSVデータ4!Z11","v":32643},null,{"$f":"CSVデータ1!AB11+CSVデータ2!AB11+CSVデータ3!AB11+CSVデータ4!AB11","v":253},null,{"$f":"CSVデータ1!AD11+CSVデータ2!AD11+CSVデータ3!AD11+CSVデータ4!AD11","v":7938},null,{"$f":"CSVデータ1!AF11+CSVデータ2!AF11+CSVデータ3!AF11+CSVデータ4!AF11","v":9283}]
[{"$f":"CSVデータ1!A12","v":"明細部"},{"$f":"CSVデータ1!B12","v":"国"},{"$f":"CSVデータ1!C12","v":48},{"$f":"CSVデータ1!D12","v":"男"},{"$f":"CSVデータ1!E12+CSVデータ2!E12+CSVデータ3!E12+CSVデータ4!E12","v":53634},{"$f":"CSVデータ1!F12+CSVデータ2!F12+CSVデータ3!F12+CSVデータ4!F12","v":22228},null,{"$f":"CSVデータ1!H12+CSVデータ2!H12+CSVデータ3!H12+CSVデータ4!H12","v":27182},null,{"$f":"CSVデータ1!J12+CSVデータ2!J12+CSVデータ3!J12+CSVデータ4!J12","v":18262},null,{"$f":"CSVデータ1!L12+CSVデータ2!L12+CSVデータ3!L12+CSVデータ4!L12","v":19128},null,{"$f":"CSVデータ1!N12+CSVデータ2!N12+CSVデータ3!N12+CSVデータ4!N12","v":4872},null,{"$f":"CSVデータ1!P12+CSVデータ2!P12+CSVデータ3!P12+CSVデータ4!P12","v":11124},null,{"$f":"CSVデータ1!R12+CSVデータ2!R12+CSVデータ3!R12+CSVデータ4!R12","v":22024},null,{"$f":"CSVデータ1!T12+CSVデータ2!T12+CSVデータ3!T12+CSVデータ4!T12","v":8420},null,{"$f":"CSVデータ1!V12+CSVデータ2!V12+CSVデータ3!V12+CSVデータ4!V12","v":17907},null,{"$f":"CSVデータ1!X12+CSVデータ2!X12+CSVデータ3!X12+CSVデータ4!X12","v":15285},null,{"$f":"CSVデータ1!Z12+CSVデータ2!Z12+CSVデータ3!Z12+CSVデータ4!Z12","v":30124},null,{"$f":"CSVデータ1!AB12+CSVデータ2!AB12+CSVデータ3!AB12+CSVデータ4!AB12","v":297},null,{"$f":"CSVデータ1!AD12+CSVデータ2!AD12+CSVデータ3!AD12+CSVデータ4!AD12","v":7989},null,{"$f":"CSVデータ1!AF12+CSVデータ2!AF12+CSVデータ3!AF12+CSVデータ4!AF12","v":9865}]
[{"$f":"CSVデータ1!A13","v":"明細部"},{"$f":"CSVデータ1!B13","v":"国"},{"$f":"CSVデータ1!C13","v":49},{"$f":"CSVデータ1!D13","v":"男"},{"$f":"CSVデータ1!E13+CSVデータ2!E13+CSVデータ3!E13+CSVデータ4!E13","v":56840},{"$f":"CSVデータ1!F13+CSVデータ2!F13+CSVデータ3!F13+CSVデータ4!F13","v":21851},null,{"$f":"CSVデータ1!H13+CSVデータ2!H13+CSVデータ3!H13+CSVデータ4!H13","v":27768},null,{"$f":"CSVデータ1!J13+CSVデータ2!J13+CSVデータ3!J13+CSVデータ4!J13","v":18828},null,{"$f":"CSVデータ1!L13+CSVデータ2!L13+CSVデータ3!L13+CSVデータ4!L13","v":18571},null,{"$f":"CSVデータ1!N13+CSVデータ2!N13+CSVデータ3!N13+CSVデータ4!N13","v":4897},null,{"$f":"CSVデータ1!P13+CSVデータ2!P13+CSVデータ3!P13+CSVデータ4!P13","v":11990},null,{"$f":"CSVデータ1!R13+CSVデータ2!R13+CSVデータ3!R13+CSVデータ4!R13","v":21924},null,{"$f":"CSVデータ1!T13+CSVデータ2!T13+CSVデータ3!T13+CSVデータ4!T13","v":8504},null,{"$f":"CSVデータ1!V13+CSVデータ2!V13+CSVデータ3!V13+CSVデータ4!V13","v":18432},null,{"$f":"CSVデータ1!X13+CSVデータ2!X13+CSVデータ3!X13+CSVデータ4!X13","v":15659},null,{"$f":"CSVデータ1!Z13+CSVデータ2!Z13+CSVデータ3!Z13+CSVデータ4!Z13","v":32082},null,{"$f":"CSVデータ1!AB13+CSVデータ2!AB13+CSVデータ3!AB13+CSVデータ4!AB13","v":320},null,{"$f":"CSVデータ1!AD13+CSVデータ2!AD13+CSVデータ3!AD13+CSVデータ4!AD13","v":8088},null,{"$f":"CSVデータ1!AF13+CSVデータ2!AF13+CSVデータ3!AF13+CSVデータ4!AF13","v":9745}]
[{"$f":"CSVデータ1!A14","v":"明細部"},{"$f":"CSVデータ1!B14","v":"国"},{"$f":"CSVデータ1!C14","v":50},{"$f":"CSVデータ1!D14","v":"男"},{"$f":"CSVデータ1!E14+CSVデータ2!E14+CSVデータ3!E14+CSVデータ4!E14","v":57165},{"$f":"CSVデータ1!F14+CSVデータ2!F14+CSVデータ3!F14+CSVデータ4!F14","v":22537},null,{"$f":"CSVデータ1!H14+CSVデータ2!H14+CSVデータ3!H14+CSVデータ4!H14","v":28757},null,{"$f":"CSVデータ1!J14+CSVデータ2!J14+CSVデータ3!J14+CSVデータ4!J14","v":18611},null,{"$f":"CSVデータ1!L14+CSVデータ2!L14+CSVデータ3!L14+CSVデータ4!L14","v":18685},null,{"$f":"CSVデータ1!N14+CSVデータ2!N14+CSVデータ3!N14+CSVデータ4!N14","v":4742},null,{"$f":"CSVデータ1!P14+CSVデータ2!P14+CSVデータ3!P14+CSVデータ4!P14","v":12818},null,{"$f":"CSVデータ1!R14+CSVデータ2!R14+CSVデータ3!R14+CSVデータ4!R14","v":23496},null,{"$f":"CSVデータ1!T14+CSVデータ2!T14+CSVデータ3!T14+CSVデータ4!T14","v":8539},null,{"$f":"CSVデータ1!V14+CSVデータ2!V14+CSVデータ3!V14+CSVデータ4!V14","v":20018},null,{"$f":"CSVデータ1!X14+CSVデータ2!X14+CSVデータ3!X14+CSVデータ4!X14","v":16661},null,{"$f":"CSVデータ1!Z14+CSVデータ2!Z14+CSVデータ3!Z14+CSVデータ4!Z14","v":31104},null,{"$f":"CSVデータ1!AB14+CSVデータ2!AB14+CSVデータ3!AB14+CSVデータ4!AB14","v":337},null,{"$f":"CSVデータ1!AD14+CSVデータ2!AD14+CSVデータ3!AD14+CSVデータ4!AD14","v":8504},null,{"$f":"CSVデータ1!AF14+CSVデータ2!AF14+CSVデータ3!AF14+CSVデータ4!AF14","v":11146}]
[{"$f":"CSVデータ1!A15","v":"明細部"},{"$f":"CSVデータ1!B15","v":"国"},{"$f":"CSVデータ1!C15","v":51},{"$f":"CSVデータ1!D15","v":"男"},{"$f":"CSVデータ1!E15+CSVデータ2!E15+CSVデータ3!E15+CSVデータ4!E15","v":54407},{"$f":"CSVデータ1!F15+CSVデータ2!F15+CSVデータ3!F15+CSVデータ4!F15","v":20988},null,{"$f":"CSVデータ1!H15+CSVデータ2!H15+CSVデータ3!H15+CSVデータ4!H15","v":29186},null,{"$f":"CSVデータ1!J15+CSVデータ2!J15+CSVデータ3!J15+CSVデータ4!J15","v":19162},null,{"$f":"CSVデータ1!L15+CSVデータ2!L15+CSVデータ3!L15+CSVデータ4!L15","v":18170},null,{"$f":"CSVデータ1!N15+CSVデータ2!N15+CSVデータ3!N15+CSVデータ4!N15","v":4984},null,{"$f":"CSVデータ1!P15+CSVデータ2!P15+CSVデータ3!P15+CSVデータ4!P15","v":13137},null,{"$f":"CSVデータ1!R15+CSVデータ2!R15+CSVデータ3!R15+CSVデータ4!R15","v":23792},null,{"$f":"CSVデータ1!T15+CSVデータ2!T15+CSVデータ3!T15+CSVデータ4!T15","v":8556},null,{"$f":"CSVデータ1!V15+CSVデータ2!V15+CSVデータ3!V15+CSVデータ4!V15","v":20506},null,{"$f":"CSVデータ1!X15+CSVデータ2!X15+CSVデータ3!X15+CSVデータ4!X15","v":17852},null,{"$f":"CSVデータ1!Z15+CSVデータ2!Z15+CSVデータ3!Z15+CSVデータ4!Z15","v":30810},null,{"$f":"CSVデータ1!AB15+CSVデータ2!AB15+CSVデータ3!AB15+CSVデータ4!AB15","v":369},null,{"$f":"CSVデータ1!AD15+CSVデータ2!AD15+CSVデータ3!AD15+CSVデータ4!AD15","v":8448},null,{"$f":"CSVデータ1!AF15+CSVデータ2!AF15+CSVデータ3!AF15+CSVデータ4!AF15","v":9657}]
[{"$f":"CSVデータ1!A16","v":"明細部"},{"$f":"CSVデータ1!B16","v":"国"},{"$f":"CSVデータ1!C16","v":52},{"$f":"CSVデータ1!D16","v":"男"},{"$f":"CSVデータ1!E16+CSVデータ2!E16+CSVデータ3!E16+CSVデータ4!E16","v":47021},{"$f":"CSVデータ1!F16+CSVデータ2!F16+CSVデータ3!F16+CSVデータ4!F16","v":18268},null,{"$f":"CSVデータ1!H16+CSVデータ2!H16+CSVデータ3!H16+CSVデータ4!H16","v":25542},null,{"$f":"CSVデータ1!J16+CSVデータ2!J16+CSVデータ3!J16+CSVデータ4!J16","v":16149},null,{"$f":"CSVデータ1!L16+CSVデータ2!L16+CSVデータ3!L16+CSVデータ4!L16","v":15278},null,{"$f":"CSVデータ1!N16+CSVデータ2!N16+CSVデータ3!N16+CSVデータ4!N16","v":4186},null,{"$f":"CSVデータ1!P16+CSVデータ2!P16+CSVデータ3!P16+CSVデータ4!P16","v":11601},null,{"$f":"CSVデータ1!R16+CSVデータ2!R16+CSVデータ3!R16+CSVデータ4!R16","v":21419},null,{"$f":"CSVデータ1!T16+CSVデータ2!T16+CSVデータ3!T16+CSVデータ4!T16","v":7278},null,{"$f":"CSVデータ1!V16+CSVデータ2!V16+CSVデータ3!V16+CSVデータ4!V16","v":17692},null,{"$f":"CSVデータ1!X16+CSVデータ2!X16+CSVデータ3!X16+CSVデータ4!X16","v":14682},null,{"$f":"CSVデータ1!Z16+CSVデータ2!Z16+CSVデータ3!Z16+CSVデータ4!Z16","v":25520},null,{"$f":"CSVデータ1!AB16+CSVデータ2!AB16+CSVデータ3!AB16+CSVデータ4!AB16","v":372},null,{"$f":"CSVデータ1!AD16+CSVデータ2!AD16+CSVデータ3!AD16+CSVデータ4!AD16","v":7483},null,{"$f":"CSVデータ1!AF16+CSVデータ2!AF16+CSVデータ3!AF16+CSVデータ4!AF16","v":8687}]
[{"$f":"CSVデータ1!A17","v":"明細部"},{"$f":"CSVデータ1!B17","v":"国"},{"$f":"CSVデータ1!C17","v":53},{"$f":"CSVデータ1!D17","v":"男"},{"$f":"CSVデータ1!E17+CSVデータ2!E17+CSVデータ3!E17+CSVデータ4!E17","v":52653},{"$f":"CSVデータ1!F17+CSVデータ2!F17+CSVデータ3!F17+CSVデータ4!F17","v":20446},null,{"$f":"CSVデータ1!H17+CSVデータ2!H17+CSVデータ3!H17+CSVデータ4!H17","v":27884},null,{"$f":"CSVデータ1!J17+CSVデータ2!J17+CSVデータ3!J17+CSVデータ4!J17","v":16986},null,{"$f":"CSVデータ1!L17+CSVデータ2!L17+CSVデータ3!L17+CSVデータ4!L17","v":15315},null,{"$f":"CSVデータ1!N17+CSVデータ2!N17+CSVデータ3!N17+CSVデータ4!N17","v":4131},null,{"$f":"CSVデータ1!P17+CSVデータ2!P17+CSVデータ3!P17+CSVデータ4!P17","v":13110},null,{"$f":"CSVデータ1!R17+CSVデータ2!R17+CSVデータ3!R17+CSVデータ4!R17","v":23782},null,{"$f":"CSVデータ1!T17+CSVデータ2!T17+CSVデータ3!T17+CSVデータ4!T17","v":8108},null,{"$f":"CSVデータ1!V17+CSVデータ2!V17+CSVデータ3!V17+CSVデータ4!V17","v":20989},null,{"$f":"CSVデータ1!X17+CSVデータ2!X17+CSVデータ3!X17+CSVデータ4!X17","v":17203},null,{"$f":"CSVデータ1!Z17+CSVデータ2!Z17+CSVデータ3!Z17+CSVデータ4!Z17","v":28395},null,{"$f":"CSVデータ1!AB17+CSVデータ2!AB17+CSVデータ3!AB17+CSVデータ4!AB17","v":483},null,{"$f":"CSVデータ1!AD17+CSVデータ2!AD17+CSVデータ3!AD17+CSVデータ4!AD17","v":8312},null,{"$f":"CSVデータ1!AF17+CSVデータ2!AF17+CSVデータ3!AF17+CSVデータ4!AF17","v":9775}]
[{"$f":"CSVデータ1!A18","v":"明細部"},{"$f":"CSVデータ1!B18","v":"国"},{"$f":"CSVデータ1!C18","v":54},{"$f":"CSVデータ1!D18","v":"男"},{"$f":"CSVデータ1!E18+CSVデータ2!E18+CSVデータ3!E18+CSVデータ4!E18","v":56778},{"$f":"CSVデータ1!F18+CSVデータ2!F18+CSVデータ3!F18+CSVデータ4!F18","v":21780},null,{"$f":"CSVデータ1!H18+CSVデータ2!H18+CSVデータ3!H18+CSVデータ4!H18","v":30113},null,{"$f":"CSVデータ1!J18+CSVデータ2!J18+CSVデータ3!J18+CSVデータ4!J18","v":18188},null,{"$f":"CSVデータ1!L18+CSVデータ2!L18+CSVデータ3!L18+CSVデータ4!L18","v":15770},null,{"$f":"CSVデータ1!N18+CSVデータ2!N18+CSVデータ3!N18+CSVデータ4!N18","v":4431},null,{"$f":"CSVデータ1!P18+CSVデータ2!P18+CSVデータ3!P18+CSVデータ4!P18","v":13864},null,{"$f":"CSVデータ1!R18+CSVデータ2!R18+CSVデータ3!R18+CSVデータ4!R18","v":25661},null,{"$f":"CSVデータ1!T18+CSVデータ2!T18+CSVデータ3!T18+CSVデータ4!T18","v":8092},null,{"$f":"CSVデータ1!V18+CSVデータ2!V18+CSVデータ3!V18+CSVデータ4!V18","v":22878},null,{"$f":"CSVデータ1!X18+CSVデータ2!X18+CSVデータ3!X18+CSVデータ4!X18","v":18112},null,{"$f":"CSVデータ1!Z18+CSVデータ2!Z18+CSVデータ3!Z18+CSVデータ4!Z18","v":29094},null,{"$f":"CSVデータ1!AB18+CSVデータ2!AB18+CSVデータ3!AB18+CSVデータ4!AB18","v":521},null,{"$f":"CSVデータ1!AD18+CSVデータ2!AD18+CSVデータ3!AD18+CSVデータ4!AD18","v":9003},null,{"$f":"CSVデータ1!AF18+CSVデータ2!AF18+CSVデータ3!AF18+CSVデータ4!AF18","v":9909}]
[{"$f":"CSVデータ1!A19","v":"明細部"},{"$f":"CSVデータ1!B19","v":"国"},{"$f":"CSVデータ1!C19","v":55},{"$f":"CSVデータ1!D19","v":"男"},{"$f":"CSVデータ1!E19+CSVデータ2!E19+CSVデータ3!E19+CSVデータ4!E19","v":55615},{"$f":"CSVデータ1!F19+CSVデータ2!F19+CSVデータ3!F19+CSVデータ4!F19","v":20529},null,{"$f":"CSVデータ1!H19+CSVデータ2!H19+CSVデータ3!H19+CSVデータ4!H19","v":28442},null,{"$f":"CSVデータ1!J19+CSVデータ2!J19+CSVデータ3!J19+CSVデータ4!J19","v":18246},null,{"$f":"CSVデータ1!L19+CSVデータ2!L19+CSVデータ3!L19+CSVデータ4!L19","v":15307},null,{"$f":"CSVデータ1!N19+CSVデータ2!N19+CSVデータ3!N19+CSVデータ4!N19","v":4488},null,{"$f":"CSVデータ1!P19+CSVデータ2!P19+CSVデータ3!P19+CSVデータ4!P19","v":14292},null,{"$f":"CSVデータ1!R19+CSVデータ2!R19+CSVデータ3!R19+CSVデータ4!R19","v":25396},null,{"$f":"CSVデータ1!T19+CSVデータ2!T19+CSVデータ3!T19+CSVデータ4!T19","v":8013},null,{"$f":"CSVデータ1!V19+CSVデータ2!V19+CSVデータ3!V19+CSVデータ4!V19","v":22766},null,{"$f":"CSVデータ1!X19+CSVデータ2!X19+CSVデータ3!X19+CSVデータ4!X19","v":17231},null,{"$f":"CSVデータ1!Z19+CSVデータ2!Z19+CSVデータ3!Z19+CSVデータ4!Z19","v":29093},null,{"$f":"CSVデータ1!AB19+CSVデータ2!AB19+CSVデータ3!AB19+CSVデータ4!AB19","v":502},null,{"$f":"CSVデータ1!AD19+CSVデータ2!AD19+CSVデータ3!AD19+CSVデータ4!AD19","v":8805},null,{"$f":"CSVデータ1!AF19+CSVデータ2!AF19+CSVデータ3!AF19+CSVデータ4!AF19","v":10867}]
[{"$f":"CSVデータ1!A20","v":"明細部"},{"$f":"CSVデータ1!B20","v":"国"},{"$f":"CSVデータ1!C20","v":56},{"$f":"CSVデータ1!D20","v":"男"},{"$f":"CSVデータ1!E20+CSVデータ2!E20+CSVデータ3!E20+CSVデータ4!E20","v":56139},{"$f":"CSVデータ1!F20+CSVデータ2!F20+CSVデータ3!F20+CSVデータ4!F20","v":20333},null,{"$f":"CSVデータ1!H20+CSVデータ2!H20+CSVデータ3!H20+CSVデータ4!H20","v":29367},null,{"$f":"CSVデータ1!J20+CSVデータ2!J20+CSVデータ3!J20+CSVデータ4!J20","v":18857},null,{"$f":"CSVデータ1!L20+CSVデータ2!L20+CSVデータ3!L20+CSVデータ4!L20","v":15776},null,{"$f":"CSVデータ1!N20+CSVデータ2!N20+CSVデータ3!N20+CSVデータ4!N20","v":4464},null,{"$f":"CSVデータ1!P20+CSVデータ2!P20+CSVデータ3!P20+CSVデータ4!P20","v":15138},null,{"$f":"CSVデータ1!R20+CSVデータ2!R20+CSVデータ3!R20+CSVデータ4!R20","v":26476},null,{"$f":"CSVデータ1!T20+CSVデータ2!T20+CSVデータ3!T20+CSVデータ4!T20","v":8168},null,{"$f":"CSVデータ1!V20+CSVデータ2!V20+CSVデータ3!V20+CSVデータ4!V20","v":22544},null,{"$f":"CSVデータ1!X20+CSVデータ2!X20+CSVデータ3!X20+CSVデータ4!X20","v":18870},null,{"$f":"CSVデータ1!Z20+CSVデータ2!Z20+CSVデータ3!Z20+CSVデータ4!Z20","v":28734},null,{"$f":"CSVデータ1!AB20+CSVデータ2!AB20+CSVデータ3!AB20+CSVデータ4!AB20","v":546},null,{"$f":"CSVデータ1!AD20+CSVデータ2!AD20+CSVデータ3!AD20+CSVデータ4!AD20","v":9502},null,{"$f":"CSVデータ1!AF20+CSVデータ2!AF20+CSVデータ3!AF20+CSVデータ4!AF20","v":10245}]
[{"$f":"CSVデータ1!A21","v":"明細部"},{"$f":"CSVデータ1!B21","v":"国"},{"$f":"CSVデータ1!C21","v":57},{"$f":"CSVデータ1!D21","v":"男"},{"$f":"CSVデータ1!E21+CSVデータ2!E21+CSVデータ3!E21+CSVデータ4!E21","v":57707},{"$f":"CSVデータ1!F21+CSVデータ2!F21+CSVデータ3!F21+CSVデータ4!F21","v":21081},null,{"$f":"CSVデータ1!H21+CSVデータ2!H21+CSVデータ3!H21+CSVデータ4!H21","v":29638},null,{"$f":"CSVデータ1!J21+CSVデータ2!J21+CSVデータ3!J21+CSVデータ4!J21","v":18338},null,{"$f":"CSVデータ1!L21+CSVデータ2!L21+CSVデータ3!L21+CSVデータ4!L21","v":15403},null,{"$f":"CSVデータ1!N21+CSVデータ2!N21+CSVデータ3!N21+CSVデータ4!N21","v":4619},null,{"$f":"CSVデータ1!P21+CSVデータ2!P21+CSVデータ3!P21+CSVデータ4!P21","v":16266},null,{"$f":"CSVデータ1!R21+CSVデータ2!R21+CSVデータ3!R21+CSVデータ4!R21","v":28025},null,{"$f":"CSVデータ1!T21+CSVデータ2!T21+CSVデータ3!T21+CSVデータ4!T21","v":8117},null,{"$f":"CSVデータ1!V21+CSVデータ2!V21+CSVデータ3!V21+CSVデータ4!V21","v":23907},null,{"$f":"CSVデータ1!X21+CSVデータ2!X21+CSVデータ3!X21+CSVデータ4!X21","v":19240},null,{"$f":"CSVデータ1!Z21+CSVデータ2!Z21+CSVデータ3!Z21+CSVデータ4!Z21","v":30652},null,{"$f":"CSVデータ1!AB21+CSVデータ2!AB21+CSVデータ3!AB21+CSVデータ4!AB21","v":593},null,{"$f":"CSVデータ1!AD21+CSVデータ2!AD21+CSVデータ3!AD21+CSVデータ4!AD21","v":9524},null,{"$f":"CSVデータ1!AF21+CSVデータ2!AF21+CSVデータ3!AF21+CSVデータ4!AF21","v":11276}]
[{"$f":"CSVデータ1!A22","v":"明細部"},{"$f":"CSVデータ1!B22","v":"国"},{"$f":"CSVデータ1!C22","v":58},{"$f":"CSVデータ1!D22","v":"男"},{"$f":"CSVデータ1!E22+CSVデータ2!E22+CSVデータ3!E22+CSVデータ4!E22","v":58658},{"$f":"CSVデータ1!F22+CSVデータ2!F22+CSVデータ3!F22+CSVデータ4!F22","v":21256},null,{"$f":"CSVデータ1!H22+CSVデータ2!H22+CSVデータ3!H22+CSVデータ4!H22","v":29903},null,{"$f":"CSVデータ1!J22+CSVデータ2!J22+CSVデータ3!J22+CSVデータ4!J22","v":18721},null,{"$f":"CSVデータ1!L22+CSVデータ2!L22+CSVデータ3!L22+CSVデータ4!L22","v":16002},null,{"$f":"CSVデータ1!N22+CSVデータ2!N22+CSVデータ3!N22+CSVデータ4!N22","v":4593},null,{"$f":"CSVデータ1!P22+CSVデータ2!P22+CSVデータ3!P22+CSVデータ4!P22","v":17307},null,{"$f":"CSVデータ1!R22+CSVデータ2!R22+CSVデータ3!R22+CSVデータ4!R22","v":30340},null,{"$f":"CSVデータ1!T22+CSVデータ2!T22+CSVデータ3!T22+CSVデータ4!T22","v":8089},null,{"$f":"CSVデータ1!V22+CSVデータ2!V22+CSVデータ3!V22+CSVデータ4!V22","v":25627},null,{"$f":"CSVデータ1!X22+CSVデータ2!X22+CSVデータ3!X22+CSVデータ4!X22","v":19964},null,{"$f":"CSVデータ1!Z22+CSVデータ2!Z22+CSVデータ3!Z22+CSVデータ4!Z22","v":31254},null,{"$f":"CSVデータ1!AB22+CSVデータ2!AB22+CSVデータ3!AB22+CSVデータ4!AB22","v":614},null,{"$f":"CSVデータ1!AD22+CSVデータ2!AD22+CSVデータ3!AD22+CSVデータ4!AD22","v":10372},null,{"$f":"CSVデータ1!AF22+CSVデータ2!AF22+CSVデータ3!AF22+CSVデータ4!AF22","v":11935}]
[{"$f":"CSVデータ1!A23","v":"明細部"},{"$f":"CSVデータ1!B23","v":"国"},{"$f":"CSVデータ1!C23","v":59},{"$f":"CSVデータ1!D23","v":"男"},{"$f":"CSVデータ1!E23+CSVデータ2!E23+CSVデータ3!E23+CSVデータ4!E23","v":59626},{"$f":"CSVデータ1!F23+CSVデータ2!F23+CSVデータ3!F23+CSVデータ4!F23","v":22425},null,{"$f":"CSVデータ1!H23+CSVデータ2!H23+CSVデータ3!H23+CSVデータ4!H23","v":31827},null,{"$f":"CSVデータ1!J23+CSVデータ2!J23+CSVデータ3!J23+CSVデータ4!J23","v":19091},null,{"$f":"CSVデータ1!L23+CSVデータ2!L23+CSVデータ3!L23+CSVデータ4!L23","v":15397},null,{"$f":"CSVデータ1!N23+CSVデータ2!N23+CSVデータ3!N23+CSVデータ4!N23","v":4988},null,{"$f":"CSVデータ1!P23+CSVデータ2!P23+CSVデータ3!P23+CSVデータ4!P23","v":18370},null,{"$f":"CSVデータ1!R23+CSVデータ2!R23+CSVデータ3!R23+CSVデータ4!R23","v":31602},null,{"$f":"CSVデータ1!T23+CSVデータ2!T23+CSVデータ3!T23+CSVデータ4!T23","v":8591},null,{"$f":"CSVデータ1!V23+CSVデータ2!V23+CSVデータ3!V23+CSVデータ4!V23","v":27484},null,{"$f":"CSVデータ1!X23+CSVデータ2!X23+CSVデータ3!X23+CSVデータ4!X23","v":19842},null,{"$f":"CSVデータ1!Z23+CSVデータ2!Z23+CSVデータ3!Z23+CSVデータ4!Z23","v":31605},null,{"$f":"CSVデータ1!AB23+CSVデータ2!AB23+CSVデータ3!AB23+CSVデータ4!AB23","v":737},null,{"$f":"CSVデータ1!AD23+CSVデータ2!AD23+CSVデータ3!AD23+CSVデータ4!AD23","v":11215},null,{"$f":"CSVデータ1!AF23+CSVデータ2!AF23+CSVデータ3!AF23+CSVデータ4!AF23","v":12537}]
[{"$f":"CSVデータ1!A24","v":"明細部"},{"$f":"CSVデータ1!B24","v":"国"},{"$f":"CSVデータ1!C24","v":60},{"$f":"CSVデータ1!D24","v":"男"},{"$f":"CSVデータ1!E24+CSVデータ2!E24+CSVデータ3!E24+CSVデータ4!E24","v":67062},{"$f":"CSVデータ1!F24+CSVデータ2!F24+CSVデータ3!F24+CSVデータ4!F24","v":25346},null,{"$f":"CSVデータ1!H24+CSVデータ2!H24+CSVデータ3!H24+CSVデータ4!H24","v":37448},null,{"$f":"CSVデータ1!J24+CSVデータ2!J24+CSVデータ3!J24+CSVデータ4!J24","v":22072},null,{"$f":"CSVデータ1!L24+CSVデータ2!L24+CSVデータ3!L24+CSVデータ4!L24","v":16991},null,{"$f":"CSVデータ1!N24+CSVデータ2!N24+CSVデータ3!N24+CSVデータ4!N24","v":5224},null,{"$f":"CSVデータ1!P24+CSVデータ2!P24+CSVデータ3!P24+CSVデータ4!P24","v":20971},null,{"$f":"CSVデータ1!R24+CSVデータ2!R24+CSVデータ3!R24+CSVデータ4!R24","v":36404},null,{"$f":"CSVデータ1!T24+CSVデータ2!T24+CSVデータ3!T24+CSVデータ4!T24","v":9305},null,{"$f":"CSVデータ1!V24+CSVデータ2!V24+CSVデータ3!V24+CSVデータ4!V24","v":32369},null,{"$f":"CSVデータ1!X24+CSVデータ2!X24+CSVデータ3!X24+CSVデータ4!X24","v":22108},null,{"$f":"CSVデータ1!Z24+CSVデータ2!Z24+CSVデータ3!Z24+CSVデータ4!Z24","v":34095},null,{"$f":"CSVデータ1!AB24+CSVデータ2!AB24+CSVデータ3!AB24+CSVデータ4!AB24","v":827},null,{"$f":"CSVデータ1!AD24+CSVデータ2!AD24+CSVデータ3!AD24+CSVデータ4!AD24","v":12643},null,{"$f":"CSVデータ1!AF24+CSVデータ2!AF24+CSVデータ3!AF24+CSVデータ4!AF24","v":15075}]
[{"$f":"CSVデータ1!A25","v":"明細部"},{"$f":"CSVデータ1!B25","v":"国"},{"$f":"CSVデータ1!C25","v":61},{"$f":"CSVデータ1!D25","v":"男"},{"$f":"CSVデータ1!E25+CSVデータ2!E25+CSVデータ3!E25+CSVデータ4!E25","v":70403},{"$f":"CSVデータ1!F25+CSVデータ2!F25+CSVデータ3!F25+CSVデータ4!F25","v":26814},null,{"$f":"CSVデータ1!H25+CSVデータ2!H25+CSVデータ3!H25+CSVデータ4!H25","v":38734},null,{"$f":"CSVデータ1!J25+CSVデータ2!J25+CSVデータ3!J25+CSVデータ4!J25","v":22258},null,{"$f":"CSVデータ1!L25+CSVデータ2!L25+CSVデータ3!L25+CSVデータ4!L25","v":18102},null,{"$f":"CSVデータ1!N25+CSVデータ2!N25+CSVデータ3!N25+CSVデータ4!N25","v":5814},null,{"$f":"CSVデータ1!P25+CSVデータ2!P25+CSVデータ3!P25+CSVデータ4!P25","v":22019},null,{"$f":"CSVデータ1!R25+CSVデータ2!R25+CSVデータ3!R25+CSVデータ4!R25","v":39904},null,{"$f":"CSVデータ1!T25+CSVデータ2!T25+CSVデータ3!T25+CSVデータ4!T25","v":10033},null,{"$f":"CSVデータ1!V25+CSVデータ2!V25+CSVデータ3!V25+CSVデータ4!V25","v":34988},null,{"$f":"CSVデータ1!X25+CSVデータ2!X25+CSVデータ3!X25+CSVデータ4!X25","v":23807},null,{"$f":"CSVデータ1!Z25+CSVデータ2!Z25+CSVデータ3!Z25+CSVデータ4!Z25","v":36737},null,{"$f":"CSVデータ1!AB25+CSVデータ2!AB25+CSVデータ3!AB25+CSVデータ4!AB25","v":1055},null,{"$f":"CSVデータ1!AD25+CSVデータ2!AD25+CSVデータ3!AD25+CSVデータ4!AD25","v":14368},null,{"$f":"CSVデータ1!AF25+CSVデータ2!AF25+CSVデータ3!AF25+CSVデータ4!AF25","v":15497}]
[{"$f":"CSVデータ1!A26","v":"明細部"},{"$f":"CSVデータ1!B26","v":"国"},{"$f":"CSVデータ1!C26","v":62},{"$f":"CSVデータ1!D26","v":"男"},{"$f":"CSVデータ1!E26+CSVデータ2!E26+CSVデータ3!E26+CSVデータ4!E26","v":88129},{"$f":"CSVデータ1!F26+CSVデータ2!F26+CSVデータ3!F26+CSVデータ4!F26","v":29547},null,{"$f":"CSVデータ1!H26+CSVデータ2!H26+CSVデータ3!H26+CSVデータ4!H26","v":46341},null,{"$f":"CSVデータ1!J26+CSVデータ2!J26+CSVデータ3!J26+CSVデータ4!J26","v":26805},null,{"$f":"CSVデータ1!L26+CSVデータ2!L26+CSVデータ3!L26+CSVデータ4!L26","v":20020},null,{"$f":"CSVデータ1!N26+CSVデータ2!N26+CSVデータ3!N26+CSVデータ4!N26","v":6668},null,{"$f":"CSVデータ1!P26+CSVデータ2!P26+CSVデータ3!P26+CSVデータ4!P26","v":27115},null,{"$f":"CSVデータ1!R26+CSVデータ2!R26+CSVデータ3!R26+CSVデータ4!R26","v":47790},null,{"$f":"CSVデータ1!T26+CSVデータ2!T26+CSVデータ3!T26+CSVデータ4!T26","v":11921},null,{"$f":"CSVデータ1!V26+CSVデータ2!V26+CSVデータ3!V26+CSVデータ4!V26","v":41345},null,{"$f":"CSVデータ1!X26+CSVデータ2!X26+CSVデータ3!X26+CSVデータ4!X26","v":25386},null,{"$f":"CSVデータ1!Z26+CSVデータ2!Z26+CSVデータ3!Z26+CSVデータ4!Z26","v":41971},null,{"$f":"CSVデータ1!AB26+CSVデータ2!AB26+CSVデータ3!AB26+CSVデータ4!AB26","v":1340},null,{"$f":"CSVデータ1!AD26+CSVデータ2!AD26+CSVデータ3!AD26+CSVデータ4!AD26","v":16183},null,{"$f":"CSVデータ1!AF26+CSVデータ2!AF26+CSVデータ3!AF26+CSVデータ4!AF26","v":17287}]
[{"$f":"CSVデータ1!A27","v":"明細部"},{"$f":"CSVデータ1!B27","v":"国"},{"$f":"CSVデータ1!C27","v":63},{"$f":"CSVデータ1!D27","v":"男"},{"$f":"CSVデータ1!E27+CSVデータ2!E27+CSVデータ3!E27+CSVデータ4!E27","v":115427},{"$f":"CSVデータ1!F27+CSVデータ2!F27+CSVデータ3!F27+CSVデータ4!F27","v":40061},null,{"$f":"CSVデータ1!H27+CSVデータ2!H27+CSVデータ3!H27+CSVデータ4!H27","v":63174},null,{"$f":"CSVデータ1!J27+CSVデータ2!J27+CSVデータ3!J27+CSVデータ4!J27","v":34913},null,{"$f":"CSVデータ1!L27+CSVデータ2!L27+CSVデータ3!L27+CSVデータ4!L27","v":25752},null,{"$f":"CSVデータ1!N27+CSVデータ2!N27+CSVデータ3!N27+CSVデータ4!N27","v":8988},null,{"$f":"CSVデータ1!P27+CSVデータ2!P27+CSVデータ3!P27+CSVデータ4!P27","v":36009},null,{"$f":"CSVデータ1!R27+CSVデータ2!R27+CSVデータ3!R27+CSVデータ4!R27","v":65982},null,{"$f":"CSVデータ1!T27+CSVデータ2!T27+CSVデータ3!T27+CSVデータ4!T27","v":14812},null,{"$f":"CSVデータ1!V27+CSVデータ2!V27+CSVデータ3!V27+CSVデータ4!V27","v":55064},null,{"$f":"CSVデータ1!X27+CSVデータ2!X27+CSVデータ3!X27+CSVデータ4!X27","v":34906},null,{"$f":"CSVデータ1!Z27+CSVデータ2!Z27+CSVデータ3!Z27+CSVデータ4!Z27","v":56717},null,{"$f":"CSVデータ1!AB27+CSVデータ2!AB27+CSVデータ3!AB27+CSVデータ4!AB27","v":1942},null,{"$f":"CSVデータ1!AD27+CSVデータ2!AD27+CSVデータ3!AD27+CSVデータ4!AD27","v":23124},null,{"$f":"CSVデータ1!AF27+CSVデータ2!AF27+CSVデータ3!AF27+CSVデータ4!AF27","v":24706}]
[{"$f":"CSVデータ1!A28","v":"明細部"},{"$f":"CSVデータ1!B28","v":"国"},{"$f":"CSVデータ1!C28","v":64},{"$f":"CSVデータ1!D28","v":"男"},{"$f":"CSVデータ1!E28+CSVデータ2!E28+CSVデータ3!E28+CSVデータ4!E28","v":139170},{"$f":"CSVデータ1!F28+CSVデータ2!F28+CSVデータ3!F28+CSVデータ4!F28","v":45156},null,{"$f":"CSVデータ1!H28+CSVデータ2!H28+CSVデータ3!H28+CSVデータ4!H28","v":75155},null,{"$f":"CSVデータ1!J28+CSVデータ2!J28+CSVデータ3!J28+CSVデータ4!J28","v":41480},null,{"$f":"CSVデータ1!L28+CSVデータ2!L28+CSVデータ3!L28+CSVデータ4!L28","v":30967},null,{"$f":"CSVデータ1!N28+CSVデータ2!N28+CSVデータ3!N28+CSVデータ4!N28","v":10775},null,{"$f":"CSVデータ1!P28+CSVデータ2!P28+CSVデータ3!P28+CSVデータ4!P28","v":43641},null,{"$f":"CSVデータ1!R28+CSVデータ2!R28+CSVデータ3!R28+CSVデータ4!R28","v":81039},null,{"$f":"CSVデータ1!T28+CSVデータ2!T28+CSVデータ3!T28+CSVデータ4!T28","v":17387},null,{"$f":"CSVデータ1!V28+CSVデータ2!V28+CSVデータ3!V28+CSVデータ4!V28","v":68130},null,{"$f":"CSVデータ1!X28+CSVデータ2!X28+CSVデータ3!X28+CSVデータ4!X28","v":40016},null,{"$f":"CSVデータ1!Z28+CSVデータ2!Z28+CSVデータ3!Z28+CSVデータ4!Z28","v":68576},null,{"$f":"CSVデータ1!AB28+CSVデータ2!AB28+CSVデータ3!AB28+CSVデータ4!AB28","v":2393},null,{"$f":"CSVデータ1!AD28+CSVデータ2!AD28+CSVデータ3!AD28+CSVデータ4!AD28","v":28871},null,{"$f":"CSVデータ1!AF28+CSVデータ2!AF28+CSVデータ3!AF28+CSVデータ4!AF28","v":29320}]
[{"$f":"CSVデータ1!A29","v":"明細部"},{"$f":"CSVデータ1!B29","v":"国"},{"$f":"CSVデータ1!C29","v":65},{"$f":"CSVデータ1!D29","v":"男"},{"$f":"CSVデータ1!E29+CSVデータ2!E29+CSVデータ3!E29+CSVデータ4!E29","v":168728},{"$f":"CSVデータ1!F29+CSVデータ2!F29+CSVデータ3!F29+CSVデータ4!F29","v":57787},null,{"$f":"CSVデータ1!H29+CSVデータ2!H29+CSVデータ3!H29+CSVデータ4!H29","v":88465},null,{"$f":"CSVデータ1!J29+CSVデータ2!J29+CSVデータ3!J29+CSVデータ4!J29","v":48938},null,{"$f":"CSVデータ1!L29+CSVデータ2!L29+CSVデータ3!L29+CSVデータ4!L29","v":34796},null,{"$f":"CSVデータ1!N29+CSVデータ2!N29+CSVデータ3!N29+CSVデータ4!N29","v":13307},null,{"$f":"CSVデータ1!P29+CSVデータ2!P29+CSVデータ3!P29+CSVデータ4!P29","v":54972},null,{"$f":"CSVデータ1!R29+CSVデータ2!R29+CSVデータ3!R29+CSVデータ4!R29","v":101819},null,{"$f":"CSVデータ1!T29+CSVデータ2!T29+CSVデータ3!T29+CSVデータ4!T29","v":21220},null,{"$f":"CSVデータ1!V29+CSVデータ2!V29+CSVデータ3!V29+CSVデータ4!V29","v":83504},null,{"$f":"CSVデータ1!X29+CSVデータ2!X29+CSVデータ3!X29+CSVデータ4!X29","v":48981},null,{"$f":"CSVデータ1!Z29+CSVデータ2!Z29+CSVデータ3!Z29+CSVデータ4!Z29","v":80627},null,{"$f":"CSVデータ1!AB29+CSVデータ2!AB29+CSVデータ3!AB29+CSVデータ4!AB29","v":3007},null,{"$f":"CSVデータ1!AD29+CSVデータ2!AD29+CSVデータ3!AD29+CSVデータ4!AD29","v":37515},null,{"$f":"CSVデータ1!AF29+CSVデータ2!AF29+CSVデータ3!AF29+CSVデータ4!AF29","v":35216}]
[{"$f":"CSVデータ1!A30","v":"明細部"},{"$f":"CSVデータ1!B30","v":"国"},{"$f":"CSVデータ1!C30","v":66},{"$f":"CSVデータ1!D30","v":"男"},{"$f":"CSVデータ1!E30+CSVデータ2!E30+CSVデータ3!E30+CSVデータ4!E30","v":221319},{"$f":"CSVデータ1!F30+CSVデータ2!F30+CSVデータ3!F30+CSVデータ4!F30","v":72286},null,{"$f":"CSVデータ1!H30+CSVデータ2!H30+CSVデータ3!H30+CSVデータ4!H30","v":121469},null,{"$f":"CSVデータ1!J30+CSVデータ2!J30+CSVデータ3!J30+CSVデータ4!J30","v":65122},null,{"$f":"CSVデータ1!L30+CSVデータ2!L30+CSVデータ3!L30+CSVデータ4!L30","v":44109},null,{"$f":"CSVデータ1!N30+CSVデータ2!N30+CSVデータ3!N30+CSVデータ4!N30","v":16740},null,{"$f":"CSVデータ1!P30+CSVデータ2!P30+CSVデータ3!P30+CSVデータ4!P30","v":69555},null,{"$f":"CSVデータ1!R30+CSVデータ2!R30+CSVデータ3!R30+CSVデータ4!R30","v":126844},null,{"$f":"CSVデータ1!T30+CSVデータ2!T30+CSVデータ3!T30+CSVデータ4!T30","v":27372},null,{"$f":"CSVデータ1!V30+CSVデータ2!V30+CSVデータ3!V30+CSVデータ4!V30","v":111622},null,{"$f":"CSVデータ1!X30+CSVデータ2!X30+CSVデータ3!X30+CSVデータ4!X30","v":58679},null,{"$f":"CSVデータ1!Z30+CSVデータ2!Z30+CSVデータ3!Z30+CSVデータ4!Z30","v":108440},null,{"$f":"CSVデータ1!AB30+CSVデータ2!AB30+CSVデータ3!AB30+CSVデータ4!AB30","v":4181},null,{"$f":"CSVデータ1!AD30+CSVデータ2!AD30+CSVデータ3!AD30+CSVデータ4!AD30","v":49267},null,{"$f":"CSVデータ1!AF30+CSVデータ2!AF30+CSVデータ3!AF30+CSVデータ4!AF30","v":46531}]
[{"$f":"CSVデータ1!A31","v":"明細部"},{"$f":"CSVデータ1!B31","v":"国"},{"$f":"CSVデータ1!C31","v":67},{"$f":"CSVデータ1!D31","v":"男"},{"$f":"CSVデータ1!E31+CSVデータ2!E31+CSVデータ3!E31+CSVデータ4!E31","v":253431},{"$f":"CSVデータ1!F31+CSVデータ2!F31+CSVデータ3!F31+CSVデータ4!F31","v":84535},null,{"$f":"CSVデータ1!H31+CSVデータ2!H31+CSVデータ3!H31+CSVデータ4!H31","v":137895},null,{"$f":"CSVデータ1!J31+CSVデータ2!J31+CSVデータ3!J31+CSVデータ4!J31","v":74275},null,{"$f":"CSVデータ1!L31+CSVデータ2!L31+CSVデータ3!L31+CSVデータ4!L31","v":50830},null,{"$f":"CSVデータ1!N31+CSVデータ2!N31+CSVデータ3!N31+CSVデータ4!N31","v":19580},null,{"$f":"CSVデータ1!P31+CSVデータ2!P31+CSVデータ3!P31+CSVデータ4!P31","v":87933},null,{"$f":"CSVデータ1!R31+CSVデータ2!R31+CSVデータ3!R31+CSVデータ4!R31","v":151991},null,{"$f":"CSVデータ1!T31+CSVデータ2!T31+CSVデータ3!T31+CSVデータ4!T31","v":32597},null,{"$f":"CSVデータ1!V31+CSVデータ2!V31+CSVデータ3!V31+CSVデータ4!V31","v":135519},null,{"$f":"CSVデータ1!X31+CSVデータ2!X31+CSVデータ3!X31+CSVデータ4!X31","v":65411},null,{"$f":"CSVデータ1!Z31+CSVデータ2!Z31+CSVデータ3!Z31+CSVデータ4!Z31","v":126275},null,{"$f":"CSVデータ1!AB31+CSVデータ2!AB31+CSVデータ3!AB31+CSVデータ4!AB31","v":5247},null,{"$f":"CSVデータ1!AD31+CSVデータ2!AD31+CSVデータ3!AD31+CSVデータ4!AD31","v":58066},null,{"$f":"CSVデータ1!AF31+CSVデータ2!AF31+CSVデータ3!AF31+CSVデータ4!AF31","v":50590}]
[{"$f":"CSVデータ1!A32","v":"明細部"},{"$f":"CSVデータ1!B32","v":"国"},{"$f":"CSVデータ1!C32","v":68},{"$f":"CSVデータ1!D32","v":"男"},{"$f":"CSVデータ1!E32+CSVデータ2!E32+CSVデータ3!E32+CSVデータ4!E32","v":316266},{"$f":"CSVデータ1!F32+CSVデータ2!F32+CSVデータ3!F32+CSVデータ4!F32","v":96064},null,{"$f":"CSVデータ1!H32+CSVデータ2!H32+CSVデータ3!H32+CSVデータ4!H32","v":172760},null,{"$f":"CSVデータ1!J32+CSVデータ2!J32+CSVデータ3!J32+CSVデータ4!J32","v":89190},null,{"$f":"CSVデータ1!L32+CSVデータ2!L32+CSVデータ3!L32+CSVデータ4!L32","v":57990},null,{"$f":"CSVデータ1!N32+CSVデータ2!N32+CSVデータ3!N32+CSVデータ4!N32","v":23691},null,{"$f":"CSVデータ1!P32+CSVデータ2!P32+CSVデータ3!P32+CSVデータ4!P32","v":105174},null,{"$f":"CSVデータ1!R32+CSVデータ2!R32+CSVデータ3!R32+CSVデータ4!R32","v":195439},null,{"$f":"CSVデータ1!T32+CSVデータ2!T32+CSVデータ3!T32+CSVデータ4!T32","v":40883},null,{"$f":"CSVデータ1!V32+CSVデータ2!V32+CSVデータ3!V32+CSVデータ4!V32","v":173250},null,{"$f":"CSVデータ1!X32+CSVデータ2!X32+CSVデータ3!X32+CSVデータ4!X32","v":78401},null,{"$f":"CSVデータ1!Z32+CSVデータ2!Z32+CSVデータ3!Z32+CSVデータ4!Z32","v":154437},null,{"$f":"CSVデータ1!AB32+CSVデータ2!AB32+CSVデータ3!AB32+CSVデータ4!AB32","v":6960},null,{"$f":"CSVデータ1!AD32+CSVデータ2!AD32+CSVデータ3!AD32+CSVデータ4!AD32","v":72904},null,{"$f":"CSVデータ1!AF32+CSVデータ2!AF32+CSVデータ3!AF32+CSVデータ4!AF32","v":64615}]
[{"$f":"CSVデータ1!A33","v":"明細部"},{"$f":"CSVデータ1!B33","v":"国"},{"$f":"CSVデータ1!C33","v":69},{"$f":"CSVデータ1!D33","v":"男"},{"$f":"CSVデータ1!E33+CSVデータ2!E33+CSVデータ3!E33+CSVデータ4!E33","v":381377},{"$f":"CSVデータ1!F33+CSVデータ2!F33+CSVデータ3!F33+CSVデータ4!F33","v":112519},null,{"$f":"CSVデータ1!H33+CSVデータ2!H33+CSVデータ3!H33+CSVデータ4!H33","v":201751},null,{"$f":"CSVデータ1!J33+CSVデータ2!J33+CSVデータ3!J33+CSVデータ4!J33","v":101899},null,{"$f":"CSVデータ1!L33+CSVデータ2!L33+CSVデータ3!L33+CSVデータ4!L33","v":65588},null,{"$f":"CSVデータ1!N33+CSVデータ2!N33+CSVデータ3!N33+CSVデータ4!N33","v":28152},null,{"$f":"CSVデータ1!P33+CSVデータ2!P33+CSVデータ3!P33+CSVデータ4!P33","v":126357},null,{"$f":"CSVデータ1!R33+CSVデータ2!R33+CSVデータ3!R33+CSVデータ4!R33","v":227014},null,{"$f":"CSVデータ1!T33+CSVデータ2!T33+CSVデータ3!T33+CSVデータ4!T33","v":44416},null,{"$f":"CSVデータ1!V33+CSVデータ2!V33+CSVデータ3!V33+CSVデータ4!V33","v":195568},null,{"$f":"CSVデータ1!X33+CSVデータ2!X33+CSVデータ3!X33+CSVデータ4!X33","v":89683},null,{"$f":"CSVデータ1!Z33+CSVデータ2!Z33+CSVデータ3!Z33+CSVデータ4!Z33","v":172012},null,{"$f":"CSVデータ1!AB33+CSVデータ2!AB33+CSVデータ3!AB33+CSVデータ4!AB33","v":8787},null,{"$f":"CSVデータ1!AD33+CSVデータ2!AD33+CSVデータ3!AD33+CSVデータ4!AD33","v":89423},null,{"$f":"CSVデータ1!AF33+CSVデータ2!AF33+CSVデータ3!AF33+CSVデータ4!AF33","v":70787}]
[{"$f":"CSVデータ1!A34","v":"明細部"},{"$f":"CSVデータ1!B34","v":"国"},{"$f":"CSVデータ1!C34","v":70},{"$f":"CSVデータ1!D34","v":"男"},{"$f":"CSVデータ1!E34+CSVデータ2!E34+CSVデータ3!E34+CSVデータ4!E34","v":397948},{"$f":"CSVデータ1!F34+CSVデータ2!F34+CSVデータ3!F34+CSVデータ4!F34","v":120675},null,{"$f":"CSVデータ1!H34+CSVデータ2!H34+CSVデータ3!H34+CSVデータ4!H34","v":216162},null,{"$f":"CSVデータ1!J34+CSVデータ2!J34+CSVデータ3!J34+CSVデータ4!J34","v":109185},null,{"$f":"CSVデータ1!L34+CSVデータ2!L34+CSVデータ3!L34+CSVデータ4!L34","v":68792},null,{"$f":"CSVデータ1!N34+CSVデータ2!N34+CSVデータ3!N34+CSVデータ4!N34","v":32270},null,{"$f":"CSVデータ1!P34+CSVデータ2!P34+CSVデータ3!P34+CSVデータ4!P34","v":133409},null,{"$f":"CSVデータ1!R34+CSVデータ2!R34+CSVデータ3!R34+CSVデータ4!R34","v":252233},null,{"$f":"CSVデータ1!T34+CSVデータ2!T34+CSVデータ3!T34+CSVデータ4!T34","v":48474},null,{"$f":"CSVデータ1!V34+CSVデータ2!V34+CSVデータ3!V34+CSVデータ4!V34","v":222641},null,{"$f":"CSVデータ1!X34+CSVデータ2!X34+CSVデータ3!X34+CSVデータ4!X34","v":93738},null,{"$f":"CSVデータ1!Z34+CSVデータ2!Z34+CSVデータ3!Z34+CSVデータ4!Z34","v":182264},null,{"$f":"CSVデータ1!AB34+CSVデータ2!AB34+CSVデータ3!AB34+CSVデータ4!AB34","v":10135},null,{"$f":"CSVデータ1!AD34+CSVデータ2!AD34+CSVデータ3!AD34+CSVデータ4!AD34","v":102808},null,{"$f":"CSVデータ1!AF34+CSVデータ2!AF34+CSVデータ3!AF34+CSVデータ4!AF34","v":76470}]
[{"$f":"CSVデータ1!A35","v":"明細部"},{"$f":"CSVデータ1!B35","v":"国"},{"$f":"CSVデータ1!C35","v":71},{"$f":"CSVデータ1!D35","v":"男"},{"$f":"CSVデータ1!E35+CSVデータ2!E35+CSVデータ3!E35+CSVデータ4!E35","v":434892},{"$f":"CSVデータ1!F35+CSVデータ2!F35+CSVデータ3!F35+CSVデータ4!F35","v":127051},null,{"$f":"CSVデータ1!H35+CSVデータ2!H35+CSVデータ3!H35+CSVデータ4!H35","v":219979},null,{"$f":"CSVデータ1!J35+CSVデータ2!J35+CSVデータ3!J35+CSVデータ4!J35","v":105250},null,{"$f":"CSVデータ1!L35+CSVデータ2!L35+CSVデータ3!L35+CSVデータ4!L35","v":71080},null,{"$f":"CSVデータ1!N35+CSVデータ2!N35+CSVデータ3!N35+CSVデータ4!N35","v":34369},null,{"$f":"CSVデータ1!P35+CSVデータ2!P35+CSVデータ3!P35+CSVデータ4!P35","v":142239},null,{"$f":"CSVデータ1!R35+CSVデータ2!R35+CSVデータ3!R35+CSVデータ4!R35","v":276837},null,{"$f":"CSVデータ1!T35+CSVデータ2!T35+CSVデータ3!T35+CSVデータ4!T35","v":48794},null,{"$f":"CSVデータ1!V35+CSVデータ2!V35+CSVデータ3!V35+CSVデータ4!V35","v":239700},null,{"$f":"CSVデータ1!X35+CSVデータ2!X35+CSVデータ3!X35+CSVデータ4!X35","v":93218},null,{"$f":"CSVデータ1!Z35+CSVデータ2!Z35+CSVデータ3!Z35+CSVデータ4!Z35","v":189487},null,{"$f":"CSVデータ1!AB35+CSVデータ2!AB35+CSVデータ3!AB35+CSVデータ4!AB35","v":12259},null,{"$f":"CSVデータ1!AD35+CSVデータ2!AD35+CSVデータ3!AD35+CSVデータ4!AD35","v":112777},null,{"$f":"CSVデータ1!AF35+CSVデータ2!AF35+CSVデータ3!AF35+CSVデータ4!AF35","v":78634}]
[{"$f":"CSVデータ1!A36","v":"明細部"},{"$f":"CSVデータ1!B36","v":"国"},{"$f":"CSVデータ1!C36","v":72},{"$f":"CSVデータ1!D36","v":"男"},{"$f":"CSVデータ1!E36+CSVデータ2!E36+CSVデータ3!E36+CSVデータ4!E36","v":343143},{"$f":"CSVデータ1!F36+CSVデータ2!F36+CSVデータ3!F36+CSVデータ4!F36","v":96148},null,{"$f":"CSVデータ1!H36+CSVデータ2!H36+CSVデータ3!H36+CSVデータ4!H36","v":172116},null,{"$f":"CSVデータ1!J36+CSVデータ2!J36+CSVデータ3!J36+CSVデータ4!J36","v":84219},null,{"$f":"CSVデータ1!L36+CSVデータ2!L36+CSVデータ3!L36+CSVデータ4!L36","v":51352},null,{"$f":"CSVデータ1!N36+CSVデータ2!N36+CSVデータ3!N36+CSVデータ4!N36","v":25775},null,{"$f":"CSVデータ1!P36+CSVデータ2!P36+CSVデータ3!P36+CSVデータ4!P36","v":109263},null,{"$f":"CSVデータ1!R36+CSVデータ2!R36+CSVデータ3!R36+CSVデータ4!R36","v":213426},null,{"$f":"CSVデータ1!T36+CSVデータ2!T36+CSVデータ3!T36+CSVデータ4!T36","v":38795},null,{"$f":"CSVデータ1!V36+CSVデータ2!V36+CSVデータ3!V36+CSVデータ4!V36","v":183035},null,{"$f":"CSVデータ1!X36+CSVデータ2!X36+CSVデータ3!X36+CSVデータ4!X36","v":66379},null,{"$f":"CSVデータ1!Z36+CSVデータ2!Z36+CSVデータ3!Z36+CSVデータ4!Z36","v":150633},null,{"$f":"CSVデータ1!AB36+CSVデータ2!AB36+CSVデータ3!AB36+CSVデータ4!AB36","v":10587},null,{"$f":"CSVデータ1!AD36+CSVデータ2!AD36+CSVデータ3!AD36+CSVデータ4!AD36","v":84447},null,{"$f":"CSVデータ1!AF36+CSVデータ2!AF36+CSVデータ3!AF36+CSVデータ4!AF36","v":61209}]
[{"$f":"CSVデータ1!A37","v":"明細部"},{"$f":"CSVデータ1!B37","v":"国"},{"$f":"CSVデータ1!C37","v":73},{"$f":"CSVデータ1!D37","v":"男"},{"$f":"CSVデータ1!E37+CSVデータ2!E37+CSVデータ3!E37+CSVデータ4!E37","v":233987},{"$f":"CSVデータ1!F37+CSVデータ2!F37+CSVデータ3!F37+CSVデータ4!F37","v":64157},null,{"$f":"CSVデータ1!H37+CSVデータ2!H37+CSVデータ3!H37+CSVデータ4!H37","v":123119},null,{"$f":"CSVデータ1!J37+CSVデータ2!J37+CSVデータ3!J37+CSVデータ4!J37","v":56557},null,{"$f":"CSVデータ1!L37+CSVデータ2!L37+CSVデータ3!L37+CSVデータ4!L37","v":34558},null,{"$f":"CSVデータ1!N37+CSVデータ2!N37+CSVデータ3!N37+CSVデータ4!N37","v":18533},null,{"$f":"CSVデータ1!P37+CSVデータ2!P37+CSVデータ3!P37+CSVデータ4!P37","v":78527},null,{"$f":"CSVデータ1!R37+CSVデータ2!R37+CSVデータ3!R37+CSVデータ4!R37","v":157561},null,{"$f":"CSVデータ1!T37+CSVデータ2!T37+CSVデータ3!T37+CSVデータ4!T37","v":26288},null,{"$f":"CSVデータ1!V37+CSVデータ2!V37+CSVデータ3!V37+CSVデータ4!V37","v":130521},null,{"$f":"CSVデータ1!X37+CSVデータ2!X37+CSVデータ3!X37+CSVデータ4!X37","v":44755},null,{"$f":"CSVデータ1!Z37+CSVデータ2!Z37+CSVデータ3!Z37+CSVデータ4!Z37","v":101569},null,{"$f":"CSVデータ1!AB37+CSVデータ2!AB37+CSVデータ3!AB37+CSVデータ4!AB37","v":7935},null,{"$f":"CSVデータ1!AD37+CSVデータ2!AD37+CSVデータ3!AD37+CSVデータ4!AD37","v":64202},null,{"$f":"CSVデータ1!AF37+CSVデータ2!AF37+CSVデータ3!AF37+CSVデータ4!AF37","v":39103}]
[{"$f":"CSVデータ1!A38","v":"明細部"},{"$f":"CSVデータ1!B38","v":"国"},{"$f":"CSVデータ1!C38","v":74},{"$f":"CSVデータ1!D38","v":"男"},{"$f":"CSVデータ1!E38+CSVデータ2!E38+CSVデータ3!E38+CSVデータ4!E38","v":304524},{"$f":"CSVデータ1!F38+CSVデータ2!F38+CSVデータ3!F38+CSVデータ4!F38","v":83268},null,{"$f":"CSVデータ1!H38+CSVデータ2!H38+CSVデータ3!H38+CSVデータ4!H38","v":155363},null,{"$f":"CSVデータ1!J38+CSVデータ2!J38+CSVデータ3!J38+CSVデータ4!J38","v":69432},null,{"$f":"CSVデータ1!L38+CSVデータ2!L38+CSVデータ3!L38+CSVデータ4!L38","v":41688},null,{"$f":"CSVデータ1!N38+CSVデータ2!N38+CSVデータ3!N38+CSVデータ4!N38","v":24390},null,{"$f":"CSVデータ1!P38+CSVデータ2!P38+CSVデータ3!P38+CSVデータ4!P38","v":94275},null,{"$f":"CSVデータ1!R38+CSVデータ2!R38+CSVデータ3!R38+CSVデータ4!R38","v":203727},null,{"$f":"CSVデータ1!T38+CSVデータ2!T38+CSVデータ3!T38+CSVデータ4!T38","v":33139},null,{"$f":"CSVデータ1!V38+CSVデータ2!V38+CSVデータ3!V38+CSVデータ4!V38","v":166763},null,{"$f":"CSVデータ1!X38+CSVデータ2!X38+CSVデータ3!X38+CSVデータ4!X38","v":53013},null,{"$f":"CSVデータ1!Z38+CSVデータ2!Z38+CSVデータ3!Z38+CSVデータ4!Z38","v":127100},null,{"$f":"CSVデータ1!AB38+CSVデータ2!AB38+CSVデータ3!AB38+CSVデータ4!AB38","v":11123},null,{"$f":"CSVデータ1!AD38+CSVデータ2!AD38+CSVデータ3!AD38+CSVデータ4!AD38","v":81087},null,{"$f":"CSVデータ1!AF38+CSVデータ2!AF38+CSVデータ3!AF38+CSVデータ4!AF38","v":53394}]
[{"$f":"CSVデータ1!A39","v":"明細部"},{"$f":"CSVデータ1!B39","v":"国"},{"$f":"CSVデータ1!C39","v":40},{"$f":"CSVデータ1!D39","v":"女"},{"$f":"CSVデータ1!E39+CSVデータ2!E39+CSVデータ3!E39+CSVデータ4!E39","v":41797},{"$f":"CSVデータ1!F39+CSVデータ2!F39+CSVデータ3!F39+CSVデータ4!F39","v":6945},null,{"$f":"CSVデータ1!H39+CSVデータ2!H39+CSVデータ3!H39+CSVデータ4!H39","v":4600},null,{"$f":"CSVデータ1!J39+CSVデータ2!J39+CSVデータ3!J39+CSVデータ4!J39","v":3463},null,{"$f":"CSVデータ1!L39+CSVデータ2!L39+CSVデータ3!L39+CSVデータ4!L39","v":2659},null,{"$f":"CSVデータ1!N39+CSVデータ2!N39+CSVデータ3!N39+CSVデータ4!N39","v":691},null,{"$f":"CSVデータ1!P39+CSVデータ2!P39+CSVデータ3!P39+CSVデータ4!P39","v":2409},null,{"$f":"CSVデータ1!R39+CSVデータ2!R39+CSVデータ3!R39+CSVデータ4!R39","v":7968},null,{"$f":"CSVデータ1!T39+CSVデータ2!T39+CSVデータ3!T39+CSVデータ4!T39","v":340},null,{"$f":"CSVデータ1!V39+CSVデータ2!V39+CSVデータ3!V39+CSVデータ4!V39","v":3810},null,{"$f":"CSVデータ1!X39+CSVデータ2!X39+CSVデータ3!X39+CSVデータ4!X39","v":2990},null,{"$f":"CSVデータ1!Z39+CSVデータ2!Z39+CSVデータ3!Z39+CSVデータ4!Z39","v":13837},null,{"$f":"CSVデータ1!AB39+CSVデータ2!AB39+CSVデータ3!AB39+CSVデータ4!AB39","v":17},null,{"$f":"CSVデータ1!AD39+CSVデータ2!AD39+CSVデータ3!AD39+CSVデータ4!AD39","v":4600},null,{"$f":"CSVデータ1!AF39+CSVデータ2!AF39+CSVデータ3!AF39+CSVデータ4!AF39","v":6330}]
[{"$f":"CSVデータ1!A40","v":"明細部"},{"$f":"CSVデータ1!B40","v":"国"},{"$f":"CSVデータ1!C40","v":41},{"$f":"CSVデータ1!D40","v":"女"},{"$f":"CSVデータ1!E40+CSVデータ2!E40+CSVデータ3!E40+CSVデータ4!E40","v":40766},{"$f":"CSVデータ1!F40+CSVデータ2!F40+CSVデータ3!F40+CSVデータ4!F40","v":6903},null,{"$f":"CSVデータ1!H40+CSVデータ2!H40+CSVデータ3!H40+CSVデータ4!H40","v":4351},null,{"$f":"CSVデータ1!J40+CSVデータ2!J40+CSVデータ3!J40+CSVデータ4!J40","v":3179},null,{"$f":"CSVデータ1!L40+CSVデータ2!L40+CSVデータ3!L40+CSVデータ4!L40","v":2307},null,{"$f":"CSVデータ1!N40+CSVデータ2!N40+CSVデータ3!N40+CSVデータ4!N40","v":651},null,{"$f":"CSVデータ1!P40+CSVデータ2!P40+CSVデータ3!P40+CSVデータ4!P40","v":2254},null,{"$f":"CSVデータ1!R40+CSVデータ2!R40+CSVデータ3!R40+CSVデータ4!R40","v":8076},null,{"$f":"CSVデータ1!T40+CSVデータ2!T40+CSVデータ3!T40+CSVデータ4!T40","v":304},null,{"$f":"CSVデータ1!V40+CSVデータ2!V40+CSVデータ3!V40+CSVデータ4!V40","v":4166},null,{"$f":"CSVデータ1!X40+CSVデータ2!X40+CSVデータ3!X40+CSVデータ4!X40","v":3080},null,{"$f":"CSVデータ1!Z40+CSVデータ2!Z40+CSVデータ3!Z40+CSVデータ4!Z40","v":13418},null,{"$f":"CSVデータ1!AB40+CSVデータ2!AB40+CSVデータ3!AB40+CSVデータ4!AB40","v":11},null,{"$f":"CSVデータ1!AD40+CSVデータ2!AD40+CSVデータ3!AD40+CSVデータ4!AD40","v":4311},null,{"$f":"CSVデータ1!AF40+CSVデータ2!AF40+CSVデータ3!AF40+CSVデータ4!AF40","v":5432}]
[{"$f":"CSVデータ1!A41","v":"明細部"},{"$f":"CSVデータ1!B41","v":"国"},{"$f":"CSVデータ1!C41","v":42},{"$f":"CSVデータ1!D41","v":"女"},{"$f":"CSVデータ1!E41+CSVデータ2!E41+CSVデータ3!E41+CSVデータ4!E41","v":40097},{"$f":"CSVデータ1!F41+CSVデータ2!F41+CSVデータ3!F41+CSVデータ4!F41","v":7313},null,{"$f":"CSVデータ1!H41+CSVデータ2!H41+CSVデータ3!H41+CSVデータ4!H41","v":4531},null,{"$f":"CSVデータ1!J41+CSVデータ2!J41+CSVデータ3!J41+CSVデータ4!J41","v":3361},null,{"$f":"CSVデータ1!L41+CSVデータ2!L41+CSVデータ3!L41+CSVデータ4!L41","v":2426},null,{"$f":"CSVデータ1!N41+CSVデータ2!N41+CSVデータ3!N41+CSVデータ4!N41","v":599},null,{"$f":"CSVデータ1!P41+CSVデータ2!P41+CSVデータ3!P41+CSVデータ4!P41","v":2377},null,{"$f":"CSVデータ1!R41+CSVデータ2!R41+CSVデータ3!R41+CSVデータ4!R41","v":8523},null,{"$f":"CSVデータ1!T41+CSVデータ2!T41+CSVデータ3!T41+CSVデータ4!T41","v":304},null,{"$f":"CSVデータ1!V41+CSVデータ2!V41+CSVデータ3!V41+CSVデータ4!V41","v":4394},null,{"$f":"CSVデータ1!X41+CSVデータ2!X41+CSVデータ3!X41+CSVデータ4!X41","v":3041},null,{"$f":"CSVデータ1!Z41+CSVデータ2!Z41+CSVデータ3!Z41+CSVデータ4!Z41","v":14219},null,{"$f":"CSVデータ1!AB41+CSVデータ2!AB41+CSVデータ3!AB41+CSVデータ4!AB41","v":19},null,{"$f":"CSVデータ1!AD41+CSVデータ2!AD41+CSVデータ3!AD41+CSVデータ4!AD41","v":4252},null,{"$f":"CSVデータ1!AF41+CSVデータ2!AF41+CSVデータ3!AF41+CSVデータ4!AF41","v":5709}]
[{"$f":"CSVデータ1!A42","v":"明細部"},{"$f":"CSVデータ1!B42","v":"国"},{"$f":"CSVデータ1!C42","v":43},{"$f":"CSVデータ1!D42","v":"女"},{"$f":"CSVデータ1!E42+CSVデータ2!E42+CSVデータ3!E42+CSVデータ4!E42","v":43434},{"$f":"CSVデータ1!F42+CSVデータ2!F42+CSVデータ3!F42+CSVデータ4!F42","v":7707},null,{"$f":"CSVデータ1!H42+CSVデータ2!H42+CSVデータ3!H42+CSVデータ4!H42","v":5050},null,{"$f":"CSVデータ1!J42+CSVデータ2!J42+CSVデータ3!J42+CSVデータ4!J42","v":4038},null,{"$f":"CSVデータ1!L42+CSVデータ2!L42+CSVデータ3!L42+CSVデータ4!L42","v":2869},null,{"$f":"CSVデータ1!N42+CSVデータ2!N42+CSVデータ3!N42+CSVデータ4!N42","v":776},null,{"$f":"CSVデータ1!P42+CSVデータ2!P42+CSVデータ3!P42+CSVデータ4!P42","v":2648},null,{"$f":"CSVデータ1!R42+CSVデータ2!R42+CSVデータ3!R42+CSVデータ4!R42","v":9475},null,{"$f":"CSVデータ1!T42+CSVデータ2!T42+CSVデータ3!T42+CSVデータ4!T42","v":366},null,{"$f":"CSVデータ1!V42+CSVデータ2!V42+CSVデータ3!V42+CSVデータ4!V42","v":5121},null,{"$f":"CSVデータ1!X42+CSVデータ2!X42+CSVデータ3!X42+CSVデータ4!X42","v":3720},null,{"$f":"CSVデータ1!Z42+CSVデータ2!Z42+CSVデータ3!Z42+CSVデータ4!Z42","v":16252},null,{"$f":"CSVデータ1!AB42+CSVデータ2!AB42+CSVデータ3!AB42+CSVデータ4!AB42","v":26},null,{"$f":"CSVデータ1!AD42+CSVデータ2!AD42+CSVデータ3!AD42+CSVデータ4!AD42","v":4572},null,{"$f":"CSVデータ1!AF42+CSVデータ2!AF42+CSVデータ3!AF42+CSVデータ4!AF42","v":6197}]
[{"$f":"CSVデータ1!A43","v":"明細部"},{"$f":"CSVデータ1!B43","v":"国"},{"$f":"CSVデータ1!C43","v":44},{"$f":"CSVデータ1!D43","v":"女"},{"$f":"CSVデータ1!E43+CSVデータ2!E43+CSVデータ3!E43+CSVデータ4!E43","v":47752},{"$f":"CSVデータ1!F43+CSVデータ2!F43+CSVデータ3!F43+CSVデータ4!F43","v":9360},null,{"$f":"CSVデータ1!H43+CSVデータ2!H43+CSVデータ3!H43+CSVデータ4!H43","v":5803},null,{"$f":"CSVデータ1!J43+CSVデータ2!J43+CSVデータ3!J43+CSVデータ4!J43","v":4179},null,{"$f":"CSVデータ1!L43+CSVデータ2!L43+CSVデータ3!L43+CSVデータ4!L43","v":3162},null,{"$f":"CSVデータ1!N43+CSVデータ2!N43+CSVデータ3!N43+CSVデータ4!N43","v":726},null,{"$f":"CSVデータ1!P43+CSVデータ2!P43+CSVデータ3!P43+CSVデータ4!P43","v":3043},null,{"$f":"CSVデータ1!R43+CSVデータ2!R43+CSVデータ3!R43+CSVデータ4!R43","v":11224},null,{"$f":"CSVデータ1!T43+CSVデータ2!T43+CSVデータ3!T43+CSVデータ4!T43","v":375},null,{"$f":"CSVデータ1!V43+CSVデータ2!V43+CSVデータ3!V43+CSVデータ4!V43","v":6580},null,{"$f":"CSVデータ1!X43+CSVデータ2!X43+CSVデータ3!X43+CSVデータ4!X43","v":4527},null,{"$f":"CSVデータ1!Z43+CSVデータ2!Z43+CSVデータ3!Z43+CSVデータ4!Z43","v":17757},null,{"$f":"CSVデータ1!AB43+CSVデータ2!AB43+CSVデータ3!AB43+CSVデータ4!AB43","v":42},null,{"$f":"CSVデータ1!AD43+CSVデータ2!AD43+CSVデータ3!AD43+CSVデータ4!AD43","v":5008},null,{"$f":"CSVデータ1!AF43+CSVデータ2!AF43+CSVデータ3!AF43+CSVデータ4!AF43","v":6754}]
[{"$f":"CSVデータ1!A44","v":"明細部"},{"$f":"CSVデータ1!B44","v":"国"},{"$f":"CSVデータ1!C44","v":45},{"$f":"CSVデータ1!D44","v":"女"},{"$f":"CSVデータ1!E44+CSVデータ2!E44+CSVデータ3!E44+CSVデータ4!E44","v":50394},{"$f":"CSVデータ1!F44+CSVデータ2!F44+CSVデータ3!F44+CSVデータ4!F44","v":9707},null,{"$f":"CSVデータ1!H44+CSVデータ2!H44+CSVデータ3!H44+CSVデータ4!H44","v":6092},null,{"$f":"CSVデータ1!J44+CSVデータ2!J44+CSVデータ3!J44+CSVデータ4!J44","v":4776},null,{"$f":"CSVデータ1!L44+CSVデータ2!L44+CSVデータ3!L44+CSVデータ4!L44","v":3217},null,{"$f":"CSVデータ1!N44+CSVデータ2!N44+CSVデータ3!N44+CSVデータ4!N44","v":805},null,{"$f":"CSVデータ1!P44+CSVデータ2!P44+CSVデータ3!P44+CSVデータ4!P44","v":3578},null,{"$f":"CSVデータ1!R44+CSVデータ2!R44+CSVデータ3!R44+CSVデータ4!R44","v":12338},null,{"$f":"CSVデータ1!T44+CSVデータ2!T44+CSVデータ3!T44+CSVデータ4!T44","v":478},null,{"$f":"CSVデータ1!V44+CSVデータ2!V44+CSVデータ3!V44+CSVデータ4!V44","v":7006},null,{"$f":"CSVデータ1!X44+CSVデータ2!X44+CSVデータ3!X44+CSVデータ4!X44","v":4945},null,{"$f":"CSVデータ1!Z44+CSVデータ2!Z44+CSVデータ3!Z44+CSVデータ4!Z44","v":19300},null,{"$f":"CSVデータ1!AB44+CSVデータ2!AB44+CSVデータ3!AB44+CSVデータ4!AB44","v":34},null,{"$f":"CSVデータ1!AD44+CSVデータ2!AD44+CSVデータ3!AD44+CSVデータ4!AD44","v":5587},null,{"$f":"CSVデータ1!AF44+CSVデータ2!AF44+CSVデータ3!AF44+CSVデータ4!AF44","v":8107}]
[{"$f":"CSVデータ1!A45","v":"明細部"},{"$f":"CSVデータ1!B45","v":"国"},{"$f":"CSVデータ1!C45","v":46},{"$f":"CSVデータ1!D45","v":"女"},{"$f":"CSVデータ1!E45+CSVデータ2!E45+CSVデータ3!E45+CSVデータ4!E45","v":53716},{"$f":"CSVデータ1!F45+CSVデータ2!F45+CSVデータ3!F45+CSVデータ4!F45","v":10390},null,{"$f":"CSVデータ1!H45+CSVデータ2!H45+CSVデータ3!H45+CSVデータ4!H45","v":6886},null,{"$f":"CSVデータ1!J45+CSVデータ2!J45+CSVデータ3!J45+CSVデータ4!J45","v":5073},null,{"$f":"CSVデータ1!L45+CSVデータ2!L45+CSVデータ3!L45+CSVデータ4!L45","v":3538},null,{"$f":"CSVデータ1!N45+CSVデータ2!N45+CSVデータ3!N45+CSVデータ4!N45","v":858},null,{"$f":"CSVデータ1!P45+CSVデータ2!P45+CSVデータ3!P45+CSVデータ4!P45","v":3818},null,{"$f":"CSVデータ1!R45+CSVデータ2!R45+CSVデータ3!R45+CSVデータ4!R45","v":12695},null,{"$f":"CSVデータ1!T45+CSVデータ2!T45+CSVデータ3!T45+CSVデータ4!T45","v":484},null,{"$f":"CSVデータ1!V45+CSVデータ2!V45+CSVデータ3!V45+CSVデータ4!V45","v":8399},null,{"$f":"CSVデータ1!X45+CSVデータ2!X45+CSVデータ3!X45+CSVデータ4!X45","v":5604},null,{"$f":"CSVデータ1!Z45+CSVデータ2!Z45+CSVデータ3!Z45+CSVデータ4!Z45","v":21525},null,{"$f":"CSVデータ1!AB45+CSVデータ2!AB45+CSVデータ3!AB45+CSVデータ4!AB45","v":55},null,{"$f":"CSVデータ1!AD45+CSVデータ2!AD45+CSVデータ3!AD45+CSVデータ4!AD45","v":6244},null,{"$f":"CSVデータ1!AF45+CSVデータ2!AF45+CSVデータ3!AF45+CSVデータ4!AF45","v":7557}]
[{"$f":"CSVデータ1!A46","v":"明細部"},{"$f":"CSVデータ1!B46","v":"国"},{"$f":"CSVデータ1!C46","v":47},{"$f":"CSVデータ1!D46","v":"女"},{"$f":"CSVデータ1!E46+CSVデータ2!E46+CSVデータ3!E46+CSVデータ4!E46","v":49720},{"$f":"CSVデータ1!F46+CSVデータ2!F46+CSVデータ3!F46+CSVデータ4!F46","v":9829},null,{"$f":"CSVデータ1!H46+CSVデータ2!H46+CSVデータ3!H46+CSVデータ4!H46","v":6849},null,{"$f":"CSVデータ1!J46+CSVデータ2!J46+CSVデータ3!J46+CSVデータ4!J46","v":5546},null,{"$f":"CSVデータ1!L46+CSVデータ2!L46+CSVデータ3!L46+CSVデータ4!L46","v":3740},null,{"$f":"CSVデータ1!N46+CSVデータ2!N46+CSVデータ3!N46+CSVデータ4!N46","v":876},null,{"$f":"CSVデータ1!P46+CSVデータ2!P46+CSVデータ3!P46+CSVデータ4!P46","v":3939},null,{"$f":"CSVデータ1!R46+CSVデータ2!R46+CSVデータ3!R46+CSVデータ4!R46","v":14106},null,{"$f":"CSVデータ1!T46+CSVデータ2!T46+CSVデータ3!T46+CSVデータ4!T46","v":482},null,{"$f":"CSVデータ1!V46+CSVデータ2!V46+CSVデータ3!V46+CSVデータ4!V46","v":8812},null,{"$f":"CSVデータ1!X46+CSVデータ2!X46+CSVデータ3!X46+CSVデータ4!X46","v":5969},null,{"$f":"CSVデータ1!Z46+CSVデータ2!Z46+CSVデータ3!Z46+CSVデータ4!Z46","v":21862},null,{"$f":"CSVデータ1!AB46+CSVデータ2!AB46+CSVデータ3!AB46+CSVデータ4!AB46","v":49},null,{"$f":"CSVデータ1!AD46+CSVデータ2!AD46+CSVデータ3!AD46+CSVデータ4!AD46","v":5998},null,{"$f":"CSVデータ1!AF46+CSVデータ2!AF46+CSVデータ3!AF46+CSVデータ4!AF46","v":7358}]
[{"$f":"CSVデータ1!A47","v":"明細部"},{"$f":"CSVデータ1!B47","v":"国"},{"$f":"CSVデータ1!C47","v":48},{"$f":"CSVデータ1!D47","v":"女"},{"$f":"CSVデータ1!E47+CSVデータ2!E47+CSVデータ3!E47+CSVデータ4!E47","v":53733},{"$f":"CSVデータ1!F47+CSVデータ2!F47+CSVデータ3!F47+CSVデータ4!F47","v":10697},null,{"$f":"CSVデータ1!H47+CSVデータ2!H47+CSVデータ3!H47+CSVデータ4!H47","v":6948},null,{"$f":"CSVデータ1!J47+CSVデータ2!J47+CSVデータ3!J47+CSVデータ4!J47","v":5498},null,{"$f":"CSVデータ1!L47+CSVデータ2!L47+CSVデータ3!L47+CSVデータ4!L47","v":4107},null,{"$f":"CSVデータ1!N47+CSVデータ2!N47+CSVデータ3!N47+CSVデータ4!N47","v":688},null,{"$f":"CSVデータ1!P47+CSVデータ2!P47+CSVデータ3!P47+CSVデータ4!P47","v":4604},null,{"$f":"CSVデータ1!R47+CSVデータ2!R47+CSVデータ3!R47+CSVデータ4!R47","v":14399},null,{"$f":"CSVデータ1!T47+CSVデータ2!T47+CSVデータ3!T47+CSVデータ4!T47","v":563},null,{"$f":"CSVデータ1!V47+CSVデータ2!V47+CSVデータ3!V47+CSVデータ4!V47","v":9656},null,{"$f":"CSVデータ1!X47+CSVデータ2!X47+CSVデータ3!X47+CSVデータ4!X47","v":6294},null,{"$f":"CSVデータ1!Z47+CSVデータ2!Z47+CSVデータ3!Z47+CSVデータ4!Z47","v":23405},null,{"$f":"CSVデータ1!AB47+CSVデータ2!AB47+CSVデータ3!AB47+CSVデータ4!AB47","v":48},null,{"$f":"CSVデータ1!AD47+CSVデータ2!AD47+CSVデータ3!AD47+CSVデータ4!AD47","v":6194},null,{"$f":"CSVデータ1!AF47+CSVデータ2!AF47+CSVデータ3!AF47+CSVデータ4!AF47","v":7972}]
[{"$f":"CSVデータ1!A48","v":"明細部"},{"$f":"CSVデータ1!B48","v":"国"},{"$f":"CSVデータ1!C48","v":49},{"$f":"CSVデータ1!D48","v":"女"},{"$f":"CSVデータ1!E48+CSVデータ2!E48+CSVデータ3!E48+CSVデータ4!E48","v":52739},{"$f":"CSVデータ1!F48+CSVデータ2!F48+CSVデータ3!F48+CSVデータ4!F48","v":10560},null,{"$f":"CSVデータ1!H48+CSVデータ2!H48+CSVデータ3!H48+CSVデータ4!H48","v":7365},null,{"$f":"CSVデータ1!J48+CSVデータ2!J48+CSVデータ3!J48+CSVデータ4!J48","v":6041},null,{"$f":"CSVデータ1!L48+CSVデータ2!L48+CSVデータ3!L48+CSVデータ4!L48","v":4109},null,{"$f":"CSVデータ1!N48+CSVデータ2!N48+CSVデータ3!N48+CSVデータ4!N48","v":781},null,{"$f":"CSVデータ1!P48+CSVデータ2!P48+CSVデータ3!P48+CSVデータ4!P48","v":4556},null,{"$f":"CSVデータ1!R48+CSVデータ2!R48+CSVデータ3!R48+CSVデータ4!R48","v":16142},null,{"$f":"CSVデータ1!T48+CSVデータ2!T48+CSVデータ3!T48+CSVデータ4!T48","v":624},null,{"$f":"CSVデータ1!V48+CSVデータ2!V48+CSVデータ3!V48+CSVデータ4!V48","v":10202},null,{"$f":"CSVデータ1!X48+CSVデータ2!X48+CSVデータ3!X48+CSVデータ4!X48","v":6600},null,{"$f":"CSVデータ1!Z48+CSVデータ2!Z48+CSVデータ3!Z48+CSVデータ4!Z48","v":25204},null,{"$f":"CSVデータ1!AB48+CSVデータ2!AB48+CSVデータ3!AB48+CSVデータ4!AB48","v":37},null,{"$f":"CSVデータ1!AD48+CSVデータ2!AD48+CSVデータ3!AD48+CSVデータ4!AD48","v":6189},null,{"$f":"CSVデータ1!AF48+CSVデータ2!AF48+CSVデータ3!AF48+CSVデータ4!AF48","v":8198}]
[{"$f":"CSVデータ1!A49","v":"明細部"},{"$f":"CSVデータ1!B49","v":"国"},{"$f":"CSVデータ1!C49","v":50},{"$f":"CSVデータ1!D49","v":"女"},{"$f":"CSVデータ1!E49+CSVデータ2!E49+CSVデータ3!E49+CSVデータ4!E49","v":56219},{"$f":"CSVデータ1!F49+CSVデータ2!F49+CSVデータ3!F49+CSVデータ4!F49","v":11658},null,{"$f":"CSVデータ1!H49+CSVデータ2!H49+CSVデータ3!H49+CSVデータ4!H49","v":7755},null,{"$f":"CSVデータ1!J49+CSVデータ2!J49+CSVデータ3!J49+CSVデータ4!J49","v":7015},null,{"$f":"CSVデータ1!L49+CSVデータ2!L49+CSVデータ3!L49+CSVデータ4!L49","v":4937},null,{"$f":"CSVデータ1!N49+CSVデータ2!N49+CSVデータ3!N49+CSVデータ4!N49","v":806},null,{"$f":"CSVデータ1!P49+CSVデータ2!P49+CSVデータ3!P49+CSVデータ4!P49","v":5477},null,{"$f":"CSVデータ1!R49+CSVデータ2!R49+CSVデータ3!R49+CSVデータ4!R49","v":18063},null,{"$f":"CSVデータ1!T49+CSVデータ2!T49+CSVデータ3!T49+CSVデータ4!T49","v":746},null,{"$f":"CSVデータ1!V49+CSVデータ2!V49+CSVデータ3!V49+CSVデータ4!V49","v":12019},null,{"$f":"CSVデータ1!X49+CSVデータ2!X49+CSVデータ3!X49+CSVデータ4!X49","v":7519},null,{"$f":"CSVデータ1!Z49+CSVデータ2!Z49+CSVデータ3!Z49+CSVデータ4!Z49","v":28110},null,{"$f":"CSVデータ1!AB49+CSVデータ2!AB49+CSVデータ3!AB49+CSVデータ4!AB49","v":60},null,{"$f":"CSVデータ1!AD49+CSVデータ2!AD49+CSVデータ3!AD49+CSVデータ4!AD49","v":7300},null,{"$f":"CSVデータ1!AF49+CSVデータ2!AF49+CSVデータ3!AF49+CSVデータ4!AF49","v":9740}]
[{"$f":"CSVデータ1!A50","v":"明細部"},{"$f":"CSVデータ1!B50","v":"国"},{"$f":"CSVデータ1!C50","v":51},{"$f":"CSVデータ1!D50","v":"女"},{"$f":"CSVデータ1!E50+CSVデータ2!E50+CSVデータ3!E50+CSVデータ4!E50","v":55067},{"$f":"CSVデータ1!F50+CSVデータ2!F50+CSVデータ3!F50+CSVデータ4!F50","v":11464},null,{"$f":"CSVデータ1!H50+CSVデータ2!H50+CSVデータ3!H50+CSVデータ4!H50","v":8379},null,{"$f":"CSVデータ1!J50+CSVデータ2!J50+CSVデータ3!J50+CSVデータ4!J50","v":7161},null,{"$f":"CSVデータ1!L50+CSVデータ2!L50+CSVデータ3!L50+CSVデータ4!L50","v":5452},null,{"$f":"CSVデータ1!N50+CSVデータ2!N50+CSVデータ3!N50+CSVデータ4!N50","v":748},null,{"$f":"CSVデータ1!P50+CSVデータ2!P50+CSVデータ3!P50+CSVデータ4!P50","v":5893},null,{"$f":"CSVデータ1!R50+CSVデータ2!R50+CSVデータ3!R50+CSVデータ4!R50","v":20004},null,{"$f":"CSVデータ1!T50+CSVデータ2!T50+CSVデータ3!T50+CSVデータ4!T50","v":850},null,{"$f":"CSVデータ1!V50+CSVデータ2!V50+CSVデータ3!V50+CSVデータ4!V50","v":13694},null,{"$f":"CSVデータ1!X50+CSVデータ2!X50+CSVデータ3!X50+CSVデータ4!X50","v":8122},null,{"$f":"CSVデータ1!Z50+CSVデータ2!Z50+CSVデータ3!Z50+CSVデータ4!Z50","v":29768},null,{"$f":"CSVデータ1!AB50+CSVデータ2!AB50+CSVデータ3!AB50+CSVデータ4!AB50","v":67},null,{"$f":"CSVデータ1!AD50+CSVデータ2!AD50+CSVデータ3!AD50+CSVデータ4!AD50","v":6973},null,{"$f":"CSVデータ1!AF50+CSVデータ2!AF50+CSVデータ3!AF50+CSVデータ4!AF50","v":8560}]
[{"$f":"CSVデータ1!A51","v":"明細部"},{"$f":"CSVデータ1!B51","v":"国"},{"$f":"CSVデータ1!C51","v":52},{"$f":"CSVデータ1!D51","v":"女"},{"$f":"CSVデータ1!E51+CSVデータ2!E51+CSVデータ3!E51+CSVデータ4!E51","v":48620},{"$f":"CSVデータ1!F51+CSVデータ2!F51+CSVデータ3!F51+CSVデータ4!F51","v":9931},null,{"$f":"CSVデータ1!H51+CSVデータ2!H51+CSVデータ3!H51+CSVデータ4!H51","v":7732},null,{"$f":"CSVデータ1!J51+CSVデータ2!J51+CSVデータ3!J51+CSVデータ4!J51","v":6828},null,{"$f":"CSVデータ1!L51+CSVデータ2!L51+CSVデータ3!L51+CSVデータ4!L51","v":5511},null,{"$f":"CSVデータ1!N51+CSVデータ2!N51+CSVデータ3!N51+CSVデータ4!N51","v":617},null,{"$f":"CSVデータ1!P51+CSVデータ2!P51+CSVデータ3!P51+CSVデータ4!P51","v":5147},null,{"$f":"CSVデータ1!R51+CSVデータ2!R51+CSVデータ3!R51+CSVデータ4!R51","v":18475},null,{"$f":"CSVデータ1!T51+CSVデータ2!T51+CSVデータ3!T51+CSVデータ4!T51","v":785},null,{"$f":"CSVデータ1!V51+CSVデータ2!V51+CSVデータ3!V51+CSVデータ4!V51","v":11426},null,{"$f":"CSVデータ1!X51+CSVデータ2!X51+CSVデータ3!X51+CSVデータ4!X51","v":7657},null,{"$f":"CSVデータ1!Z51+CSVデータ2!Z51+CSVデータ3!Z51+CSVデータ4!Z51","v":28222},null,{"$f":"CSVデータ1!AB51+CSVデータ2!AB51+CSVデータ3!AB51+CSVデータ4!AB51","v":52},null,{"$f":"CSVデータ1!AD51+CSVデータ2!AD51+CSVデータ3!AD51+CSVデータ4!AD51","v":6015},null,{"$f":"CSVデータ1!AF51+CSVデータ2!AF51+CSVデータ3!AF51+CSVデータ4!AF51","v":7780}]
[{"$f":"CSVデータ1!A52","v":"明細部"},{"$f":"CSVデータ1!B52","v":"国"},{"$f":"CSVデータ1!C52","v":53},{"$f":"CSVデータ1!D52","v":"女"},{"$f":"CSVデータ1!E52+CSVデータ2!E52+CSVデータ3!E52+CSVデータ4!E52","v":54317},{"$f":"CSVデータ1!F52+CSVデータ2!F52+CSVデータ3!F52+CSVデータ4!F52","v":10956},null,{"$f":"CSVデータ1!H52+CSVデータ2!H52+CSVデータ3!H52+CSVデータ4!H52","v":8797},null,{"$f":"CSVデータ1!J52+CSVデータ2!J52+CSVデータ3!J52+CSVデータ4!J52","v":7728},null,{"$f":"CSVデータ1!L52+CSVデータ2!L52+CSVデータ3!L52+CSVデータ4!L52","v":6228},null,{"$f":"CSVデータ1!N52+CSVデータ2!N52+CSVデータ3!N52+CSVデータ4!N52","v":697},null,{"$f":"CSVデータ1!P52+CSVデータ2!P52+CSVデータ3!P52+CSVデータ4!P52","v":6261},null,{"$f":"CSVデータ1!R52+CSVデータ2!R52+CSVデータ3!R52+CSVデータ4!R52","v":23029},null,{"$f":"CSVデータ1!T52+CSVデータ2!T52+CSVデータ3!T52+CSVデータ4!T52","v":924},null,{"$f":"CSVデータ1!V52+CSVデータ2!V52+CSVデータ3!V52+CSVデータ4!V52","v":13680},null,{"$f":"CSVデータ1!X52+CSVデータ2!X52+CSVデータ3!X52+CSVデータ4!X52","v":8884},null,{"$f":"CSVデータ1!Z52+CSVデータ2!Z52+CSVデータ3!Z52+CSVデータ4!Z52","v":34035},null,{"$f":"CSVデータ1!AB52+CSVデータ2!AB52+CSVデータ3!AB52+CSVデータ4!AB52","v":73},null,{"$f":"CSVデータ1!AD52+CSVデータ2!AD52+CSVデータ3!AD52+CSVデータ4!AD52","v":6988},null,{"$f":"CSVデータ1!AF52+CSVデータ2!AF52+CSVデータ3!AF52+CSVデータ4!AF52","v":8599}]
[{"$f":"CSVデータ1!A53","v":"明細部"},{"$f":"CSVデータ1!B53","v":"国"},{"$f":"CSVデータ1!C53","v":54},{"$f":"CSVデータ1!D53","v":"女"},{"$f":"CSVデータ1!E53+CSVデータ2!E53+CSVデータ3!E53+CSVデータ4!E53","v":59398},{"$f":"CSVデータ1!F53+CSVデータ2!F53+CSVデータ3!F53+CSVデータ4!F53","v":12254},null,{"$f":"CSVデータ1!H53+CSVデータ2!H53+CSVデータ3!H53+CSVデータ4!H53","v":9560},null,{"$f":"CSVデータ1!J53+CSVデータ2!J53+CSVデータ3!J53+CSVデータ4!J53","v":8693},null,{"$f":"CSVデータ1!L53+CSVデータ2!L53+CSVデータ3!L53+CSVデータ4!L53","v":7190},null,{"$f":"CSVデータ1!N53+CSVデータ2!N53+CSVデータ3!N53+CSVデータ4!N53","v":736},null,{"$f":"CSVデータ1!P53+CSVデータ2!P53+CSVデータ3!P53+CSVデータ4!P53","v":7655},null,{"$f":"CSVデータ1!R53+CSVデータ2!R53+CSVデータ3!R53+CSVデータ4!R53","v":25985},null,{"$f":"CSVデータ1!T53+CSVデータ2!T53+CSVデータ3!T53+CSVデータ4!T53","v":1063},null,{"$f":"CSVデータ1!V53+CSVデータ2!V53+CSVデータ3!V53+CSVデータ4!V53","v":16543},null,{"$f":"CSVデータ1!X53+CSVデータ2!X53+CSVデータ3!X53+CSVデータ4!X53","v":9472},null,{"$f":"CSVデータ1!Z53+CSVデータ2!Z53+CSVデータ3!Z53+CSVデータ4!Z53","v":36672},null,{"$f":"CSVデータ1!AB53+CSVデータ2!AB53+CSVデータ3!AB53+CSVデータ4!AB53","v":78},null,{"$f":"CSVデータ1!AD53+CSVデータ2!AD53+CSVデータ3!AD53+CSVデータ4!AD53","v":7897},null,{"$f":"CSVデータ1!AF53+CSVデータ2!AF53+CSVデータ3!AF53+CSVデータ4!AF53","v":9629}]
[{"$f":"CSVデータ1!A54","v":"明細部"},{"$f":"CSVデータ1!B54","v":"国"},{"$f":"CSVデータ1!C54","v":55},{"$f":"CSVデータ1!D54","v":"女"},{"$f":"CSVデータ1!E54+CSVデータ2!E54+CSVデータ3!E54+CSVデータ4!E54","v":65044},{"$f":"CSVデータ1!F54+CSVデータ2!F54+CSVデータ3!F54+CSVデータ4!F54","v":12738},null,{"$f":"CSVデータ1!H54+CSVデータ2!H54+CSVデータ3!H54+CSVデータ4!H54","v":10326},null,{"$f":"CSVデータ1!J54+CSVデータ2!J54+CSVデータ3!J54+CSVデータ4!J54","v":9081},null,{"$f":"CSVデータ1!L54+CSVデータ2!L54+CSVデータ3!L54+CSVデータ4!L54","v":7692},null,{"$f":"CSVデータ1!N54+CSVデータ2!N54+CSVデータ3!N54+CSVデータ4!N54","v":721},null,{"$f":"CSVデータ1!P54+CSVデータ2!P54+CSVデータ3!P54+CSVデータ4!P54","v":8280},null,{"$f":"CSVデータ1!R54+CSVデータ2!R54+CSVデータ3!R54+CSVデータ4!R54","v":28692},null,{"$f":"CSVデータ1!T54+CSVデータ2!T54+CSVデータ3!T54+CSVデータ4!T54","v":1137},null,{"$f":"CSVデータ1!V54+CSVデータ2!V54+CSVデータ3!V54+CSVデータ4!V54","v":17157},null,{"$f":"CSVデータ1!X54+CSVデータ2!X54+CSVデータ3!X54+CSVデータ4!X54","v":10073},null,{"$f":"CSVデータ1!Z54+CSVデータ2!Z54+CSVデータ3!Z54+CSVデータ4!Z54","v":38544},null,{"$f":"CSVデータ1!AB54+CSVデータ2!AB54+CSVデータ3!AB54+CSVデータ4!AB54","v":75},null,{"$f":"CSVデータ1!AD54+CSVデータ2!AD54+CSVデータ3!AD54+CSVデータ4!AD54","v":8492},null,{"$f":"CSVデータ1!AF54+CSVデータ2!AF54+CSVデータ3!AF54+CSVデータ4!AF54","v":11250}]
[{"$f":"CSVデータ1!A55","v":"明細部"},{"$f":"CSVデータ1!B55","v":"国"},{"$f":"CSVデータ1!C55","v":56},{"$f":"CSVデータ1!D55","v":"女"},{"$f":"CSVデータ1!E55+CSVデータ2!E55+CSVデータ3!E55+CSVデータ4!E55","v":65653},{"$f":"CSVデータ1!F55+CSVデータ2!F55+CSVデータ3!F55+CSVデータ4!F55","v":13388},null,{"$f":"CSVデータ1!H55+CSVデータ2!H55+CSVデータ3!H55+CSVデータ4!H55","v":10203},null,{"$f":"CSVデータ1!J55+CSVデータ2!J55+CSVデータ3!J55+CSVデータ4!J55","v":9913},null,{"$f":"CSVデータ1!L55+CSVデータ2!L55+CSVデータ3!L55+CSVデータ4!L55","v":8017},null,{"$f":"CSVデータ1!N55+CSVデータ2!N55+CSVデータ3!N55+CSVデータ4!N55","v":782},null,{"$f":"CSVデータ1!P55+CSVデータ2!P55+CSVデータ3!P55+CSVデータ4!P55","v":9013},null,{"$f":"CSVデータ1!R55+CSVデータ2!R55+CSVデータ3!R55+CSVデータ4!R55","v":30019},null,{"$f":"CSVデータ1!T55+CSVデータ2!T55+CSVデータ3!T55+CSVデータ4!T55","v":1163},null,{"$f":"CSVデータ1!V55+CSVデータ2!V55+CSVデータ3!V55+CSVデータ4!V55","v":18663},null,{"$f":"CSVデータ1!X55+CSVデータ2!X55+CSVデータ3!X55+CSVデータ4!X55","v":10301},null,{"$f":"CSVデータ1!Z55+CSVデータ2!Z55+CSVデータ3!Z55+CSVデータ4!Z55","v":41188},null,{"$f":"CSVデータ1!AB55+CSVデータ2!AB55+CSVデータ3!AB55+CSVデータ4!AB55","v":84},null,{"$f":"CSVデータ1!AD55+CSVデータ2!AD55+CSVデータ3!AD55+CSVデータ4!AD55","v":9398},null,{"$f":"CSVデータ1!AF55+CSVデータ2!AF55+CSVデータ3!AF55+CSVデータ4!AF55","v":10768}]
[{"$f":"CSVデータ1!A56","v":"明細部"},{"$f":"CSVデータ1!B56","v":"国"},{"$f":"CSVデータ1!C56","v":57},{"$f":"CSVデータ1!D56","v":"女"},{"$f":"CSVデータ1!E56+CSVデータ2!E56+CSVデータ3!E56+CSVデータ4!E56","v":69844},{"$f":"CSVデータ1!F56+CSVデータ2!F56+CSVデータ3!F56+CSVデータ4!F56","v":13720},null,{"$f":"CSVデータ1!H56+CSVデータ2!H56+CSVデータ3!H56+CSVデータ4!H56","v":11175},null,{"$f":"CSVデータ1!J56+CSVデータ2!J56+CSVデータ3!J56+CSVデータ4!J56","v":10609},null,{"$f":"CSVデータ1!L56+CSVデータ2!L56+CSVデータ3!L56+CSVデータ4!L56","v":8492},null,{"$f":"CSVデータ1!N56+CSVデータ2!N56+CSVデータ3!N56+CSVデータ4!N56","v":807},null,{"$f":"CSVデータ1!P56+CSVデータ2!P56+CSVデータ3!P56+CSVデータ4!P56","v":10492},null,{"$f":"CSVデータ1!R56+CSVデータ2!R56+CSVデータ3!R56+CSVデータ4!R56","v":34939},null,{"$f":"CSVデータ1!T56+CSVデータ2!T56+CSVデータ3!T56+CSVデータ4!T56","v":1222},null,{"$f":"CSVデータ1!V56+CSVデータ2!V56+CSVデータ3!V56+CSVデータ4!V56","v":21001},null,{"$f":"CSVデータ1!X56+CSVデータ2!X56+CSVデータ3!X56+CSVデータ4!X56","v":11058},null,{"$f":"CSVデータ1!Z56+CSVデータ2!Z56+CSVデータ3!Z56+CSVデータ4!Z56","v":45702},null,{"$f":"CSVデータ1!AB56+CSVデータ2!AB56+CSVデータ3!AB56+CSVデータ4!AB56","v":100},null,{"$f":"CSVデータ1!AD56+CSVデータ2!AD56+CSVデータ3!AD56+CSVデータ4!AD56","v":9563},null,{"$f":"CSVデータ1!AF56+CSVデータ2!AF56+CSVデータ3!AF56+CSVデータ4!AF56","v":11332}]
[{"$f":"CSVデータ1!A57","v":"明細部"},{"$f":"CSVデータ1!B57","v":"国"},{"$f":"CSVデータ1!C57","v":58},{"$f":"CSVデータ1!D57","v":"女"},{"$f":"CSVデータ1!E57+CSVデータ2!E57+CSVデータ3!E57+CSVデータ4!E57","v":75963},{"$f":"CSVデータ1!F57+CSVデータ2!F57+CSVデータ3!F57+CSVデータ4!F57","v":15463},null,{"$f":"CSVデータ1!H57+CSVデータ2!H57+CSVデータ3!H57+CSVデータ4!H57","v":12914},null,{"$f":"CSVデータ1!J57+CSVデータ2!J57+CSVデータ3!J57+CSVデータ4!J57","v":11613},null,{"$f":"CSVデータ1!L57+CSVデータ2!L57+CSVデータ3!L57+CSVデータ4!L57","v":8996},null,{"$f":"CSVデータ1!N57+CSVデータ2!N57+CSVデータ3!N57+CSVデータ4!N57","v":814},null,{"$f":"CSVデータ1!P57+CSVデータ2!P57+CSVデータ3!P57+CSVデータ4!P57","v":11328},null,{"$f":"CSVデータ1!R57+CSVデータ2!R57+CSVデータ3!R57+CSVデータ4!R57","v":39427},null,{"$f":"CSVデータ1!T57+CSVデータ2!T57+CSVデータ3!T57+CSVデータ4!T57","v":1320},null,{"$f":"CSVデータ1!V57+CSVデータ2!V57+CSVデータ3!V57+CSVデータ4!V57","v":24798},null,{"$f":"CSVデータ1!X57+CSVデータ2!X57+CSVデータ3!X57+CSVデータ4!X57","v":13061},null,{"$f":"CSVデータ1!Z57+CSVデータ2!Z57+CSVデータ3!Z57+CSVデータ4!Z57","v":51079},null,{"$f":"CSVデータ1!AB57+CSVデータ2!AB57+CSVデータ3!AB57+CSVデータ4!AB57","v":135},null,{"$f":"CSVデータ1!AD57+CSVデータ2!AD57+CSVデータ3!AD57+CSVデータ4!AD57","v":10491},null,{"$f":"CSVデータ1!AF57+CSVデータ2!AF57+CSVデータ3!AF57+CSVデータ4!AF57","v":13161}]
[{"$f":"CSVデータ1!A58","v":"明細部"},{"$f":"CSVデータ1!B58","v":"国"},{"$f":"CSVデータ1!C58","v":59},{"$f":"CSVデータ1!D58","v":"女"},{"$f":"CSVデータ1!E58+CSVデータ2!E58+CSVデータ3!E58+CSVデータ4!E58","v":85191},{"$f":"CSVデータ1!F58+CSVデータ2!F58+CSVデータ3!F58+CSVデータ4!F58","v":18390},null,{"$f":"CSVデータ1!H58+CSVデータ2!H58+CSVデータ3!H58+CSVデータ4!H58","v":14709},null,{"$f":"CSVデータ1!J58+CSVデータ2!J58+CSVデータ3!J58+CSVデータ4!J58","v":13342},null,{"$f":"CSVデータ1!L58+CSVデータ2!L58+CSVデータ3!L58+CSVデータ4!L58","v":9907},null,{"$f":"CSVデータ1!N58+CSVデータ2!N58+CSVデータ3!N58+CSVデータ4!N58","v":1032},null,{"$f":"CSVデータ1!P58+CSVデータ2!P58+CSVデータ3!P58+CSVデータ4!P58","v":13669},null,{"$f":"CSVデータ1!R58+CSVデータ2!R58+CSVデータ3!R58+CSVデータ4!R58","v":43448},null,{"$f":"CSVデータ1!T58+CSVデータ2!T58+CSVデータ3!T58+CSVデータ4!T58","v":1421},null,{"$f":"CSVデータ1!V58+CSVデータ2!V58+CSVデータ3!V58+CSVデータ4!V58","v":28596},null,{"$f":"CSVデータ1!X58+CSVデータ2!X58+CSVデータ3!X58+CSVデータ4!X58","v":15001},null,{"$f":"CSVデータ1!Z58+CSVデータ2!Z58+CSVデータ3!Z58+CSVデータ4!Z58","v":56716},null,{"$f":"CSVデータ1!AB58+CSVデータ2!AB58+CSVデータ3!AB58+CSVデータ4!AB58","v":138},null,{"$f":"CSVデータ1!AD58+CSVデータ2!AD58+CSVデータ3!AD58+CSVデータ4!AD58","v":12617},null,{"$f":"CSVデータ1!AF58+CSVデータ2!AF58+CSVデータ3!AF58+CSVデータ4!AF58","v":14849}]
[{"$f":"CSVデータ1!A59","v":"明細部"},{"$f":"CSVデータ1!B59","v":"国"},{"$f":"CSVデータ1!C59","v":60},{"$f":"CSVデータ1!D59","v":"女"},{"$f":"CSVデータ1!E59+CSVデータ2!E59+CSVデータ3!E59+CSVデータ4!E59","v":107677},{"$f":"CSVデータ1!F59+CSVデータ2!F59+CSVデータ3!F59+CSVデータ4!F59","v":21660},null,{"$f":"CSVデータ1!H59+CSVデータ2!H59+CSVデータ3!H59+CSVデータ4!H59","v":17662},null,{"$f":"CSVデータ1!J59+CSVデータ2!J59+CSVデータ3!J59+CSVデータ4!J59","v":16569},null,{"$f":"CSVデータ1!L59+CSVデータ2!L59+CSVデータ3!L59+CSVデータ4!L59","v":11460},null,{"$f":"CSVデータ1!N59+CSVデータ2!N59+CSVデータ3!N59+CSVデータ4!N59","v":1324},null,{"$f":"CSVデータ1!P59+CSVデータ2!P59+CSVデータ3!P59+CSVデータ4!P59","v":17926},null,{"$f":"CSVデータ1!R59+CSVデータ2!R59+CSVデータ3!R59+CSVデータ4!R59","v":58440},null,{"$f":"CSVデータ1!T59+CSVデータ2!T59+CSVデータ3!T59+CSVデータ4!T59","v":1787},null,{"$f":"CSVデータ1!V59+CSVデータ2!V59+CSVデータ3!V59+CSVデータ4!V59","v":35467},null,{"$f":"CSVデータ1!X59+CSVデータ2!X59+CSVデータ3!X59+CSVデータ4!X59","v":17963},null,{"$f":"CSVデータ1!Z59+CSVデータ2!Z59+CSVデータ3!Z59+CSVデータ4!Z59","v":68734},null,{"$f":"CSVデータ1!AB59+CSVデータ2!AB59+CSVデータ3!AB59+CSVデータ4!AB59","v":178},null,{"$f":"CSVデータ1!AD59+CSVデータ2!AD59+CSVデータ3!AD59+CSVデータ4!AD59","v":16031},null,{"$f":"CSVデータ1!AF59+CSVデータ2!AF59+CSVデータ3!AF59+CSVデータ4!AF59","v":19185}]
[{"$f":"CSVデータ1!A60","v":"明細部"},{"$f":"CSVデータ1!B60","v":"国"},{"$f":"CSVデータ1!C60","v":61},{"$f":"CSVデータ1!D60","v":"女"},{"$f":"CSVデータ1!E60+CSVデータ2!E60+CSVデータ3!E60+CSVデータ4!E60","v":123052},{"$f":"CSVデータ1!F60+CSVデータ2!F60+CSVデータ3!F60+CSVデータ4!F60","v":25427},null,{"$f":"CSVデータ1!H60+CSVデータ2!H60+CSVデータ3!H60+CSVデータ4!H60","v":20821},null,{"$f":"CSVデータ1!J60+CSVデータ2!J60+CSVデータ3!J60+CSVデータ4!J60","v":19590},null,{"$f":"CSVデータ1!L60+CSVデータ2!L60+CSVデータ3!L60+CSVデータ4!L60","v":13274},null,{"$f":"CSVデータ1!N60+CSVデータ2!N60+CSVデータ3!N60+CSVデータ4!N60","v":1382},null,{"$f":"CSVデータ1!P60+CSVデータ2!P60+CSVデータ3!P60+CSVデータ4!P60","v":20330},null,{"$f":"CSVデータ1!R60+CSVデータ2!R60+CSVデータ3!R60+CSVデータ4!R60","v":67871},null,{"$f":"CSVデータ1!T60+CSVデータ2!T60+CSVデータ3!T60+CSVデータ4!T60","v":2108},null,{"$f":"CSVデータ1!V60+CSVデータ2!V60+CSVデータ3!V60+CSVデータ4!V60","v":42735},null,{"$f":"CSVデータ1!X60+CSVデータ2!X60+CSVデータ3!X60+CSVデータ4!X60","v":19696},null,{"$f":"CSVデータ1!Z60+CSVデータ2!Z60+CSVデータ3!Z60+CSVデータ4!Z60","v":75364},null,{"$f":"CSVデータ1!AB60+CSVデータ2!AB60+CSVデータ3!AB60+CSVデータ4!AB60","v":197},null,{"$f":"CSVデータ1!AD60+CSVデータ2!AD60+CSVデータ3!AD60+CSVデータ4!AD60","v":18302},null,{"$f":"CSVデータ1!AF60+CSVデータ2!AF60+CSVデータ3!AF60+CSVデータ4!AF60","v":21060}]
[{"$f":"CSVデータ1!A61","v":"明細部"},{"$f":"CSVデータ1!B61","v":"国"},{"$f":"CSVデータ1!C61","v":62},{"$f":"CSVデータ1!D61","v":"女"},{"$f":"CSVデータ1!E61+CSVデータ2!E61+CSVデータ3!E61+CSVデータ4!E61","v":154605},{"$f":"CSVデータ1!F61+CSVデータ2!F61+CSVデータ3!F61+CSVデータ4!F61","v":30946},null,{"$f":"CSVデータ1!H61+CSVデータ2!H61+CSVデータ3!H61+CSVデータ4!H61","v":26285},null,{"$f":"CSVデータ1!J61+CSVデータ2!J61+CSVデータ3!J61+CSVデータ4!J61","v":24053},null,{"$f":"CSVデータ1!L61+CSVデータ2!L61+CSVデータ3!L61+CSVデータ4!L61","v":15722},null,{"$f":"CSVデータ1!N61+CSVデータ2!N61+CSVデータ3!N61+CSVデータ4!N61","v":1866},null,{"$f":"CSVデータ1!P61+CSVデータ2!P61+CSVデータ3!P61+CSVデータ4!P61","v":25952},null,{"$f":"CSVデータ1!R61+CSVデータ2!R61+CSVデータ3!R61+CSVデータ4!R61","v":85529},null,{"$f":"CSVデータ1!T61+CSVデータ2!T61+CSVデータ3!T61+CSVデータ4!T61","v":2455},null,{"$f":"CSVデータ1!V61+CSVデータ2!V61+CSVデータ3!V61+CSVデータ4!V61","v":53738},null,{"$f":"CSVデータ1!X61+CSVデータ2!X61+CSVデータ3!X61+CSVデータ4!X61","v":25311},null,{"$f":"CSVデータ1!Z61+CSVデータ2!Z61+CSVデータ3!Z61+CSVデータ4!Z61","v":94447},null,{"$f":"CSVデータ1!AB61+CSVデータ2!AB61+CSVデータ3!AB61+CSVデータ4!AB61","v":254},null,{"$f":"CSVデータ1!AD61+CSVデータ2!AD61+CSVデータ3!AD61+CSVデータ4!AD61","v":22835},null,{"$f":"CSVデータ1!AF61+CSVデータ2!AF61+CSVデータ3!AF61+CSVデータ4!AF61","v":27511}]
[{"$f":"CSVデータ1!A62","v":"明細部"},{"$f":"CSVデータ1!B62","v":"国"},{"$f":"CSVデータ1!C62","v":63},{"$f":"CSVデータ1!D62","v":"女"},{"$f":"CSVデータ1!E62+CSVデータ2!E62+CSVデータ3!E62+CSVデータ4!E62","v":189583},{"$f":"CSVデータ1!F62+CSVデータ2!F62+CSVデータ3!F62+CSVデータ4!F62","v":38271},null,{"$f":"CSVデータ1!H62+CSVデータ2!H62+CSVデータ3!H62+CSVデータ4!H62","v":33042},null,{"$f":"CSVデータ1!J62+CSVデータ2!J62+CSVデータ3!J62+CSVデータ4!J62","v":28656},null,{"$f":"CSVデータ1!L62+CSVデータ2!L62+CSVデータ3!L62+CSVデータ4!L62","v":19556},null,{"$f":"CSVデータ1!N62+CSVデータ2!N62+CSVデータ3!N62+CSVデータ4!N62","v":2265},null,{"$f":"CSVデータ1!P62+CSVデータ2!P62+CSVデータ3!P62+CSVデータ4!P62","v":32394},null,{"$f":"CSVデータ1!R62+CSVデータ2!R62+CSVデータ3!R62+CSVデータ4!R62","v":107208},null,{"$f":"CSVデータ1!T62+CSVデータ2!T62+CSVデータ3!T62+CSVデータ4!T62","v":2848},null,{"$f":"CSVデータ1!V62+CSVデータ2!V62+CSVデータ3!V62+CSVデータ4!V62","v":71158},null,{"$f":"CSVデータ1!X62+CSVデータ2!X62+CSVデータ3!X62+CSVデータ4!X62","v":31304},null,{"$f":"CSVデータ1!Z62+CSVデータ2!Z62+CSVデータ3!Z62+CSVデータ4!Z62","v":117854},null,{"$f":"CSVデータ1!AB62+CSVデータ2!AB62+CSVデータ3!AB62+CSVデータ4!AB62","v":328},null,{"$f":"CSVデータ1!AD62+CSVデータ2!AD62+CSVデータ3!AD62+CSVデータ4!AD62","v":28698},null,{"$f":"CSVデータ1!AF62+CSVデータ2!AF62+CSVデータ3!AF62+CSVデータ4!AF62","v":34097}]
[{"$f":"CSVデータ1!A63","v":"明細部"},{"$f":"CSVデータ1!B63","v":"国"},{"$f":"CSVデータ1!C63","v":64},{"$f":"CSVデータ1!D63","v":"女"},{"$f":"CSVデータ1!E63+CSVデータ2!E63+CSVデータ3!E63+CSVデータ4!E63","v":214791},{"$f":"CSVデータ1!F63+CSVデータ2!F63+CSVデータ3!F63+CSVデータ4!F63","v":47096},null,{"$f":"CSVデータ1!H63+CSVデータ2!H63+CSVデータ3!H63+CSVデータ4!H63","v":38154},null,{"$f":"CSVデータ1!J63+CSVデータ2!J63+CSVデータ3!J63+CSVデータ4!J63","v":36493},null,{"$f":"CSVデータ1!L63+CSVデータ2!L63+CSVデータ3!L63+CSVデータ4!L63","v":22121},null,{"$f":"CSVデータ1!N63+CSVデータ2!N63+CSVデータ3!N63+CSVデータ4!N63","v":2876},null,{"$f":"CSVデータ1!P63+CSVデータ2!P63+CSVデータ3!P63+CSVデータ4!P63","v":40698},null,{"$f":"CSVデータ1!R63+CSVデータ2!R63+CSVデータ3!R63+CSVデータ4!R63","v":130551},null,{"$f":"CSVデータ1!T63+CSVデータ2!T63+CSVデータ3!T63+CSVデータ4!T63","v":3312},null,{"$f":"CSVデータ1!V63+CSVデータ2!V63+CSVデータ3!V63+CSVデータ4!V63","v":90463},null,{"$f":"CSVデータ1!X63+CSVデータ2!X63+CSVデータ3!X63+CSVデータ4!X63","v":36790},null,{"$f":"CSVデータ1!Z63+CSVデータ2!Z63+CSVデータ3!Z63+CSVデータ4!Z63","v":135667},null,{"$f":"CSVデータ1!AB63+CSVデータ2!AB63+CSVデータ3!AB63+CSVデータ4!AB63","v":406},null,{"$f":"CSVデータ1!AD63+CSVデータ2!AD63+CSVデータ3!AD63+CSVデータ4!AD63","v":35915},null,{"$f":"CSVデータ1!AF63+CSVデータ2!AF63+CSVデータ3!AF63+CSVデータ4!AF63","v":41386}]
[{"$f":"CSVデータ1!A64","v":"明細部"},{"$f":"CSVデータ1!B64","v":"国"},{"$f":"CSVデータ1!C64","v":65},{"$f":"CSVデータ1!D64","v":"女"},{"$f":"CSVデータ1!E64+CSVデータ2!E64+CSVデータ3!E64+CSVデータ4!E64","v":260095},{"$f":"CSVデータ1!F64+CSVデータ2!F64+CSVデータ3!F64+CSVデータ4!F64","v":57080},null,{"$f":"CSVデータ1!H64+CSVデータ2!H64+CSVデータ3!H64+CSVデータ4!H64","v":47134},null,{"$f":"CSVデータ1!J64+CSVデータ2!J64+CSVデータ3!J64+CSVデータ4!J64","v":43424},null,{"$f":"CSVデータ1!L64+CSVデータ2!L64+CSVデータ3!L64+CSVデータ4!L64","v":26868},null,{"$f":"CSVデータ1!N64+CSVデータ2!N64+CSVデータ3!N64+CSVデータ4!N64","v":3817},null,{"$f":"CSVデータ1!P64+CSVデータ2!P64+CSVデータ3!P64+CSVデータ4!P64","v":49954},null,{"$f":"CSVデータ1!R64+CSVデータ2!R64+CSVデータ3!R64+CSVデータ4!R64","v":152948},null,{"$f":"CSVデータ1!T64+CSVデータ2!T64+CSVデータ3!T64+CSVデータ4!T64","v":4291},null,{"$f":"CSVデータ1!V64+CSVデータ2!V64+CSVデータ3!V64+CSVデータ4!V64","v":113041},null,{"$f":"CSVデータ1!X64+CSVデータ2!X64+CSVデータ3!X64+CSVデータ4!X64","v":45211},null,{"$f":"CSVデータ1!Z64+CSVデータ2!Z64+CSVデータ3!Z64+CSVデータ4!Z64","v":170377},null,{"$f":"CSVデータ1!AB64+CSVデータ2!AB64+CSVデータ3!AB64+CSVデータ4!AB64","v":497},null,{"$f":"CSVデータ1!AD64+CSVデータ2!AD64+CSVデータ3!AD64+CSVデータ4!AD64","v":44377},null,{"$f":"CSVデータ1!AF64+CSVデータ2!AF64+CSVデータ3!AF64+CSVデータ4!AF64","v":48398}]
[{"$f":"CSVデータ1!A65","v":"明細部"},{"$f":"CSVデータ1!B65","v":"国"},{"$f":"CSVデータ1!C65","v":66},{"$f":"CSVデータ1!D65","v":"女"},{"$f":"CSVデータ1!E65+CSVデータ2!E65+CSVデータ3!E65+CSVデータ4!E65","v":318720},{"$f":"CSVデータ1!F65+CSVデータ2!F65+CSVデータ3!F65+CSVデータ4!F65","v":70496},null,{"$f":"CSVデータ1!H65+CSVデータ2!H65+CSVデータ3!H65+CSVデータ4!H65","v":58211},null,{"$f":"CSVデータ1!J65+CSVデータ2!J65+CSVデータ3!J65+CSVデータ4!J65","v":54688},null,{"$f":"CSVデータ1!L65+CSVデータ2!L65+CSVデータ3!L65+CSVデータ4!L65","v":30463},null,{"$f":"CSVデータ1!N65+CSVデータ2!N65+CSVデータ3!N65+CSVデータ4!N65","v":4620},null,{"$f":"CSVデータ1!P65+CSVデータ2!P65+CSVデータ3!P65+CSVデータ4!P65","v":63833},null,{"$f":"CSVデータ1!R65+CSVデータ2!R65+CSVデータ3!R65+CSVデータ4!R65","v":194159},null,{"$f":"CSVデータ1!T65+CSVデータ2!T65+CSVデータ3!T65+CSVデータ4!T65","v":5171},null,{"$f":"CSVデータ1!V65+CSVデータ2!V65+CSVデータ3!V65+CSVデータ4!V65","v":137115},null,{"$f":"CSVデータ1!X65+CSVデータ2!X65+CSVデータ3!X65+CSVデータ4!X65","v":50123},null,{"$f":"CSVデータ1!Z65+CSVデータ2!Z65+CSVデータ3!Z65+CSVデータ4!Z65","v":187189},null,{"$f":"CSVデータ1!AB65+CSVデータ2!AB65+CSVデータ3!AB65+CSVデータ4!AB65","v":622},null,{"$f":"CSVデータ1!AD65+CSVデータ2!AD65+CSVデータ3!AD65+CSVデータ4!AD65","v":52194},null,{"$f":"CSVデータ1!AF65+CSVデータ2!AF65+CSVデータ3!AF65+CSVデータ4!AF65","v":55053}]
[{"$f":"CSVデータ1!A66","v":"明細部"},{"$f":"CSVデータ1!B66","v":"国"},{"$f":"CSVデータ1!C66","v":67},{"$f":"CSVデータ1!D66","v":"女"},{"$f":"CSVデータ1!E66+CSVデータ2!E66+CSVデータ3!E66+CSVデータ4!E66","v":365456},{"$f":"CSVデータ1!F66+CSVデータ2!F66+CSVデータ3!F66+CSVデータ4!F66","v":75858},null,{"$f":"CSVデータ1!H66+CSVデータ2!H66+CSVデータ3!H66+CSVデータ4!H66","v":68551},null,{"$f":"CSVデータ1!J66+CSVデータ2!J66+CSVデータ3!J66+CSVデータ4!J66","v":58674},null,{"$f":"CSVデータ1!L66+CSVデータ2!L66+CSVデータ3!L66+CSVデータ4!L66","v":32495},null,{"$f":"CSVデータ1!N66+CSVデータ2!N66+CSVデータ3!N66+CSVデータ4!N66","v":5519},null,{"$f":"CSVデータ1!P66+CSVデータ2!P66+CSVデータ3!P66+CSVデータ4!P66","v":74137},null,{"$f":"CSVデータ1!R66+CSVデータ2!R66+CSVデータ3!R66+CSVデータ4!R66","v":221866},null,{"$f":"CSVデータ1!T66+CSVデータ2!T66+CSVデータ3!T66+CSVデータ4!T66","v":5696},null,{"$f":"CSVデータ1!V66+CSVデータ2!V66+CSVデータ3!V66+CSVデータ4!V66","v":159925},null,{"$f":"CSVデータ1!X66+CSVデータ2!X66+CSVデータ3!X66+CSVデータ4!X66","v":58182},null,{"$f":"CSVデータ1!Z66+CSVデータ2!Z66+CSVデータ3!Z66+CSVデータ4!Z66","v":224239},null,{"$f":"CSVデータ1!AB66+CSVデータ2!AB66+CSVデータ3!AB66+CSVデータ4!AB66","v":697},null,{"$f":"CSVデータ1!AD66+CSVデータ2!AD66+CSVデータ3!AD66+CSVデータ4!AD66","v":62593},null,{"$f":"CSVデータ1!AF66+CSVデータ2!AF66+CSVデータ3!AF66+CSVデータ4!AF66","v":62687}]
[{"$f":"CSVデータ1!A67","v":"明細部"},{"$f":"CSVデータ1!B67","v":"国"},{"$f":"CSVデータ1!C67","v":68},{"$f":"CSVデータ1!D67","v":"女"},{"$f":"CSVデータ1!E67+CSVデータ2!E67+CSVデータ3!E67+CSVデータ4!E67","v":403431},{"$f":"CSVデータ1!F67+CSVデータ2!F67+CSVデータ3!F67+CSVデータ4!F67","v":92211},null,{"$f":"CSVデータ1!H67+CSVデータ2!H67+CSVデータ3!H67+CSVデータ4!H67","v":80856},null,{"$f":"CSVデータ1!J67+CSVデータ2!J67+CSVデータ3!J67+CSVデータ4!J67","v":70975},null,{"$f":"CSVデータ1!L67+CSVデータ2!L67+CSVデータ3!L67+CSVデータ4!L67","v":38637},null,{"$f":"CSVデータ1!N67+CSVデータ2!N67+CSVデータ3!N67+CSVデータ4!N67","v":6286},null,{"$f":"CSVデータ1!P67+CSVデータ2!P67+CSVデータ3!P67+CSVデータ4!P67","v":86186},null,{"$f":"CSVデータ1!R67+CSVデータ2!R67+CSVデータ3!R67+CSVデータ4!R67","v":254074},null,{"$f":"CSVデータ1!T67+CSVデータ2!T67+CSVデータ3!T67+CSVデータ4!T67","v":6959},null,{"$f":"CSVデータ1!V67+CSVデータ2!V67+CSVデータ3!V67+CSVデータ4!V67","v":191694},null,{"$f":"CSVデータ1!X67+CSVデータ2!X67+CSVデータ3!X67+CSVデータ4!X67","v":67184},null,{"$f":"CSVデータ1!Z67+CSVデータ2!Z67+CSVデータ3!Z67+CSVデータ4!Z67","v":244530},null,{"$f":"CSVデータ1!AB67+CSVデータ2!AB67+CSVデータ3!AB67+CSVデータ4!AB67","v":945},null,{"$f":"CSVデータ1!AD67+CSVデータ2!AD67+CSVデータ3!AD67+CSVデータ4!AD67","v":71955},null,{"$f":"CSVデータ1!AF67+CSVデータ2!AF67+CSVデータ3!AF67+CSVデータ4!AF67","v":71808}]
[{"$f":"CSVデータ1!A68","v":"明細部"},{"$f":"CSVデータ1!B68","v":"国"},{"$f":"CSVデータ1!C68","v":69},{"$f":"CSVデータ1!D68","v":"女"},{"$f":"CSVデータ1!E68+CSVデータ2!E68+CSVデータ3!E68+CSVデータ4!E68","v":469628},{"$f":"CSVデータ1!F68+CSVデータ2!F68+CSVデータ3!F68+CSVデータ4!F68","v":103812},null,{"$f":"CSVデータ1!H68+CSVデータ2!H68+CSVデータ3!H68+CSVデータ4!H68","v":87450},null,{"$f":"CSVデータ1!J68+CSVデータ2!J68+CSVデータ3!J68+CSVデータ4!J68","v":79218},null,{"$f":"CSVデータ1!L68+CSVデータ2!L68+CSVデータ3!L68+CSVデータ4!L68","v":41100},null,{"$f":"CSVデータ1!N68+CSVデータ2!N68+CSVデータ3!N68+CSVデータ4!N68","v":7744},null,{"$f":"CSVデータ1!P68+CSVデータ2!P68+CSVデータ3!P68+CSVデータ4!P68","v":100451},null,{"$f":"CSVデータ1!R68+CSVデータ2!R68+CSVデータ3!R68+CSVデータ4!R68","v":293898},null,{"$f":"CSVデータ1!T68+CSVデータ2!T68+CSVデータ3!T68+CSVデータ4!T68","v":8005},null,{"$f":"CSVデータ1!V68+CSVデータ2!V68+CSVデータ3!V68+CSVデータ4!V68","v":234597},null,{"$f":"CSVデータ1!X68+CSVデータ2!X68+CSVデータ3!X68+CSVデータ4!X68","v":75083},null,{"$f":"CSVデータ1!Z68+CSVデータ2!Z68+CSVデータ3!Z68+CSVデータ4!Z68","v":287409},null,{"$f":"CSVデータ1!AB68+CSVデータ2!AB68+CSVデータ3!AB68+CSVデータ4!AB68","v":1160},null,{"$f":"CSVデータ1!AD68+CSVデータ2!AD68+CSVデータ3!AD68+CSVデータ4!AD68","v":83133},null,{"$f":"CSVデータ1!AF68+CSVデータ2!AF68+CSVデータ3!AF68+CSVデータ4!AF68","v":77109}]
[{"$f":"CSVデータ1!A69","v":"明細部"},{"$f":"CSVデータ1!B69","v":"国"},{"$f":"CSVデータ1!C69","v":70},{"$f":"CSVデータ1!D69","v":"女"},{"$f":"CSVデータ1!E69+CSVデータ2!E69+CSVデータ3!E69+CSVデータ4!E69","v":501982},{"$f":"CSVデータ1!F69+CSVデータ2!F69+CSVデータ3!F69+CSVデータ4!F69","v":110018},null,{"$f":"CSVデータ1!H69+CSVデータ2!H69+CSVデータ3!H69+CSVデータ4!H69","v":101654},null,{"$f":"CSVデータ1!J69+CSVデータ2!J69+CSVデータ3!J69+CSVデータ4!J69","v":91472},null,{"$f":"CSVデータ1!L69+CSVデータ2!L69+CSVデータ3!L69+CSVデータ4!L69","v":44426},null,{"$f":"CSVデータ1!N69+CSVデータ2!N69+CSVデータ3!N69+CSVデータ4!N69","v":8373},null,{"$f":"CSVデータ1!P69+CSVデータ2!P69+CSVデータ3!P69+CSVデータ4!P69","v":108702},null,{"$f":"CSVデータ1!R69+CSVデータ2!R69+CSVデータ3!R69+CSVデータ4!R69","v":324344},null,{"$f":"CSVデータ1!T69+CSVデータ2!T69+CSVデータ3!T69+CSVデータ4!T69","v":9139},null,{"$f":"CSVデータ1!V69+CSVデータ2!V69+CSVデータ3!V69+CSVデータ4!V69","v":258882},null,{"$f":"CSVデータ1!X69+CSVデータ2!X69+CSVデータ3!X69+CSVデータ4!X69","v":79924},null,{"$f":"CSVデータ1!Z69+CSVデータ2!Z69+CSVデータ3!Z69+CSVデータ4!Z69","v":299998},null,{"$f":"CSVデータ1!AB69+CSVデータ2!AB69+CSVデータ3!AB69+CSVデータ4!AB69","v":1456},null,{"$f":"CSVデータ1!AD69+CSVデータ2!AD69+CSVデータ3!AD69+CSVデータ4!AD69","v":93486},null,{"$f":"CSVデータ1!AF69+CSVデータ2!AF69+CSVデータ3!AF69+CSVデータ4!AF69","v":78975}]
[{"$f":"CSVデータ1!A70","v":"明細部"},{"$f":"CSVデータ1!B70","v":"国"},{"$f":"CSVデータ1!C70","v":71},{"$f":"CSVデータ1!D70","v":"女"},{"$f":"CSVデータ1!E70+CSVデータ2!E70+CSVデータ3!E70+CSVデータ4!E70","v":535880},{"$f":"CSVデータ1!F70+CSVデータ2!F70+CSVデータ3!F70+CSVデータ4!F70","v":117171},null,{"$f":"CSVデータ1!H70+CSVデータ2!H70+CSVデータ3!H70+CSVデータ4!H70","v":103208},null,{"$f":"CSVデータ1!J70+CSVデータ2!J70+CSVデータ3!J70+CSVデータ4!J70","v":90466},null,{"$f":"CSVデータ1!L70+CSVデータ2!L70+CSVデータ3!L70+CSVデータ4!L70","v":44733},null,{"$f":"CSVデータ1!N70+CSVデータ2!N70+CSVデータ3!N70+CSVデータ4!N70","v":9459},null,{"$f":"CSVデータ1!P70+CSVデータ2!P70+CSVデータ3!P70+CSVデータ4!P70","v":109648},null,{"$f":"CSVデータ1!R70+CSVデータ2!R70+CSVデータ3!R70+CSVデータ4!R70","v":354798},null,{"$f":"CSVデータ1!T70+CSVデータ2!T70+CSVデータ3!T70+CSVデータ4!T70","v":9584},null,{"$f":"CSVデータ1!V70+CSVデータ2!V70+CSVデータ3!V70+CSVデータ4!V70","v":272680},null,{"$f":"CSVデータ1!X70+CSVデータ2!X70+CSVデータ3!X70+CSVデータ4!X70","v":81445},null,{"$f":"CSVデータ1!Z70+CSVデータ2!Z70+CSVデータ3!Z70+CSVデータ4!Z70","v":314319},null,{"$f":"CSVデータ1!AB70+CSVデータ2!AB70+CSVデータ3!AB70+CSVデータ4!AB70","v":1600},null,{"$f":"CSVデータ1!AD70+CSVデータ2!AD70+CSVデータ3!AD70+CSVデータ4!AD70","v":101420},null,{"$f":"CSVデータ1!AF70+CSVデータ2!AF70+CSVデータ3!AF70+CSVデータ4!AF70","v":83638}]
[{"$f":"CSVデータ1!A71","v":"明細部"},{"$f":"CSVデータ1!B71","v":"国"},{"$f":"CSVデータ1!C71","v":72},{"$f":"CSVデータ1!D71","v":"女"},{"$f":"CSVデータ1!E71+CSVデータ2!E71+CSVデータ3!E71+CSVデータ4!E71","v":409801},{"$f":"CSVデータ1!F71+CSVデータ2!F71+CSVデータ3!F71+CSVデータ4!F71","v":90084},null,{"$f":"CSVデータ1!H71+CSVデータ2!H71+CSVデータ3!H71+CSVデータ4!H71","v":82045},null,{"$f":"CSVデータ1!J71+CSVデータ2!J71+CSVデータ3!J71+CSVデータ4!J71","v":74183},null,{"$f":"CSVデータ1!L71+CSVデータ2!L71+CSVデータ3!L71+CSVデータ4!L71","v":35129},null,{"$f":"CSVデータ1!N71+CSVデータ2!N71+CSVデータ3!N71+CSVデータ4!N71","v":7924},null,{"$f":"CSVデータ1!P71+CSVデータ2!P71+CSVデータ3!P71+CSVデータ4!P71","v":91260},null,{"$f":"CSVデータ1!R71+CSVデータ2!R71+CSVデータ3!R71+CSVデータ4!R71","v":264353},null,{"$f":"CSVデータ1!T71+CSVデータ2!T71+CSVデータ3!T71+CSVデータ4!T71","v":7841},null,{"$f":"CSVデータ1!V71+CSVデータ2!V71+CSVデータ3!V71+CSVデータ4!V71","v":230835},null,{"$f":"CSVデータ1!X71+CSVデータ2!X71+CSVデータ3!X71+CSVデータ4!X71","v":62381},null,{"$f":"CSVデータ1!Z71+CSVデータ2!Z71+CSVデータ3!Z71+CSVデータ4!Z71","v":236429},null,{"$f":"CSVデータ1!AB71+CSVデータ2!AB71+CSVデータ3!AB71+CSVデータ4!AB71","v":1400},null,{"$f":"CSVデータ1!AD71+CSVデータ2!AD71+CSVデータ3!AD71+CSVデータ4!AD71","v":81496},null,{"$f":"CSVデータ1!AF71+CSVデータ2!AF71+CSVデータ3!AF71+CSVデータ4!AF71","v":61779}]
[{"$f":"CSVデータ1!A72","v":"明細部"},{"$f":"CSVデータ1!B72","v":"国"},{"$f":"CSVデータ1!C72","v":73},{"$f":"CSVデータ1!D72","v":"女"},{"$f":"CSVデータ1!E72+CSVデータ2!E72+CSVデータ3!E72+CSVデータ4!E72","v":300459},{"$f":"CSVデータ1!F72+CSVデータ2!F72+CSVデータ3!F72+CSVデータ4!F72","v":68651},null,{"$f":"CSVデータ1!H72+CSVデータ2!H72+CSVデータ3!H72+CSVデータ4!H72","v":60566},null,{"$f":"CSVデータ1!J72+CSVデータ2!J72+CSVデータ3!J72+CSVデータ4!J72","v":50082},null,{"$f":"CSVデータ1!L72+CSVデータ2!L72+CSVデータ3!L72+CSVデータ4!L72","v":23862},null,{"$f":"CSVデータ1!N72+CSVデータ2!N72+CSVデータ3!N72+CSVデータ4!N72","v":5417},null,{"$f":"CSVデータ1!P72+CSVデータ2!P72+CSVデータ3!P72+CSVデータ4!P72","v":64454},null,{"$f":"CSVデータ1!R72+CSVデータ2!R72+CSVデータ3!R72+CSVデータ4!R72","v":192508},null,{"$f":"CSVデータ1!T72+CSVデータ2!T72+CSVデータ3!T72+CSVデータ4!T72","v":5870},null,{"$f":"CSVデータ1!V72+CSVデータ2!V72+CSVデータ3!V72+CSVデータ4!V72","v":167930},null,{"$f":"CSVデータ1!X72+CSVデータ2!X72+CSVデータ3!X72+CSVデータ4!X72","v":40379},null,{"$f":"CSVデータ1!Z72+CSVデータ2!Z72+CSVデータ3!Z72+CSVデータ4!Z72","v":167508},null,{"$f":"CSVデータ1!AB72+CSVデータ2!AB72+CSVデータ3!AB72+CSVデータ4!AB72","v":1092},null,{"$f":"CSVデータ1!AD72+CSVデータ2!AD72+CSVデータ3!AD72+CSVデータ4!AD72","v":62123},null,{"$f":"CSVデータ1!AF72+CSVデータ2!AF72+CSVデータ3!AF72+CSVデータ4!AF72","v":42875}]
[{"$f":"CSVデータ1!A73","v":"明細部"},{"$f":"CSVデータ1!B73","v":"国"},{"$f":"CSVデータ1!C73","v":74},{"$f":"CSVデータ1!D73","v":"女"},{"$f":"CSVデータ1!E73+CSVデータ2!E73+CSVデータ3!E73+CSVデータ4!E73","v":386305},{"$f":"CSVデータ1!F73+CSVデータ2!F73+CSVデータ3!F73+CSVデータ4!F73","v":86598},null,{"$f":"CSVデータ1!H73+CSVデータ2!H73+CSVデータ3!H73+CSVデータ4!H73","v":81526},null,{"$f":"CSVデータ1!J73+CSVデータ2!J73+CSVデータ3!J73+CSVデータ4!J73","v":65299},null,{"$f":"CSVデータ1!L73+CSVデータ2!L73+CSVデータ3!L73+CSVデータ4!L73","v":28273},null,{"$f":"CSVデータ1!N73+CSVデータ2!N73+CSVデータ3!N73+CSVデータ4!N73","v":7718},null,{"$f":"CSVデータ1!P73+CSVデータ2!P73+CSVデータ3!P73+CSVデータ4!P73","v":82577},null,{"$f":"CSVデータ1!R73+CSVデータ2!R73+CSVデータ3!R73+CSVデータ4!R73","v":261955},null,{"$f":"CSVデータ1!T73+CSVデータ2!T73+CSVデータ3!T73+CSVデータ4!T73","v":8069},null,{"$f":"CSVデータ1!V73+CSVデータ2!V73+CSVデータ3!V73+CSVデータ4!V73","v":206917},null,{"$f":"CSVデータ1!X73+CSVデータ2!X73+CSVデータ3!X73+CSVデータ4!X73","v":51366},null,{"$f":"CSVデータ1!Z73+CSVデータ2!Z73+CSVデータ3!Z73+CSVデータ4!Z73","v":214579},null,{"$f":"CSVデータ1!AB73+CSVデータ2!AB73+CSVデータ3!AB73+CSVデータ4!AB73","v":1564},null,{"$f":"CSVデータ1!AD73+CSVデータ2!AD73+CSVデータ3!AD73+CSVデータ4!AD73","v":78815},null,{"$f":"CSVデータ1!AF73+CSVデータ2!AF73+CSVデータ3!AF73+CSVデータ4!AF73","v":52912}]
[{"$f":"CSVデータ1!A74","v":"明細部"},{"$f":"CSVデータ1!B74","v":"県"},{"$f":"CSVデータ1!C74","v":40},{"$f":"CSVデータ1!D74","v":"男"},{"$f":"CSVデータ1!E74+CSVデータ2!E74+CSVデータ3!E74+CSVデータ4!E74","v":270},{"$f":"CSVデータ1!F74+CSVデータ2!F74+CSVデータ3!F74+CSVデータ4!F74","v":84},null,{"$f":"CSVデータ1!H74+CSVデータ2!H74+CSVデータ3!H74+CSVデータ4!H74","v":117},null,{"$f":"CSVデータ1!J74+CSVデータ2!J74+CSVデータ3!J74+CSVデータ4!J74","v":66},null,{"$f":"CSVデータ1!L74+CSVデータ2!L74+CSVデータ3!L74+CSVデータ4!L74","v":97},null,{"$f":"CSVデータ1!N74+CSVデータ2!N74+CSVデータ3!N74+CSVデータ4!N74","v":27},null,{"$f":"CSVデータ1!P74+CSVデータ2!P74+CSVデータ3!P74+CSVデータ4!P74","v":31},null,{"$f":"CSVデータ1!R74+CSVデータ2!R74+CSVデータ3!R74+CSVデータ4!R74","v":58},null,{"$f":"CSVデータ1!T74+CSVデータ2!T74+CSVデータ3!T74+CSVデータ4!T74","v":44},null,{"$f":"CSVデータ1!V74+CSVデータ2!V74+CSVデータ3!V74+CSVデータ4!V74","v":70},null,{"$f":"CSVデータ1!X74+CSVデータ2!X74+CSVデータ3!X74+CSVデータ4!X74","v":53},null,{"$f":"CSVデータ1!Z74+CSVデータ2!Z74+CSVデータ3!Z74+CSVデータ4!Z74","v":145},null,{"$f":"CSVデータ1!AB74+CSVデータ2!AB74+CSVデータ3!AB74+CSVデータ4!AB74","v":1},null,{"$f":"CSVデータ1!AD74+CSVデータ2!AD74+CSVデータ3!AD74+CSVデータ4!AD74","v":121},null,{"$f":"CSVデータ1!AF74+CSVデータ2!AF74+CSVデータ3!AF74+CSVデータ4!AF74","v":34}]
[{"$f":"CSVデータ1!A75","v":"明細部"},{"$f":"CSVデータ1!B75","v":"県"},{"$f":"CSVデータ1!C75","v":41},{"$f":"CSVデータ1!D75","v":"男"},{"$f":"CSVデータ1!E75+CSVデータ2!E75+CSVデータ3!E75+CSVデータ4!E75","v":255},{"$f":"CSVデータ1!F75+CSVデータ2!F75+CSVデータ3!F75+CSVデータ4!F75","v":93},null,{"$f":"CSVデータ1!H75+CSVデータ2!H75+CSVデータ3!H75+CSVデータ4!H75","v":124},null,{"$f":"CSVデータ1!J75+CSVデータ2!J75+CSVデータ3!J75+CSVデータ4!J75","v":83},null,{"$f":"CSVデータ1!L75+CSVデータ2!L75+CSVデータ3!L75+CSVデータ4!L75","v":116},null,{"$f":"CSVデータ1!N75+CSVデータ2!N75+CSVデータ3!N75+CSVデータ4!N75","v":20},null,{"$f":"CSVデータ1!P75+CSVデータ2!P75+CSVデータ3!P75+CSVデータ4!P75","v":30},null,{"$f":"CSVデータ1!R75+CSVデータ2!R75+CSVデータ3!R75+CSVデータ4!R75","v":66},null,{"$f":"CSVデータ1!T75+CSVデータ2!T75+CSVデータ3!T75+CSVデータ4!T75","v":61},null,{"$f":"CSVデータ1!V75+CSVデータ2!V75+CSVデータ3!V75+CSVデータ4!V75","v":70},null,{"$f":"CSVデータ1!X75+CSVデータ2!X75+CSVデータ3!X75+CSVデータ4!X75","v":54},null,{"$f":"CSVデータ1!Z75+CSVデータ2!Z75+CSVデータ3!Z75+CSVデータ4!Z75","v":154},null,{"$f":"CSVデータ1!AB75+CSVデータ2!AB75+CSVデータ3!AB75+CSVデータ4!AB75","v":1},null,{"$f":"CSVデータ1!AD75+CSVデータ2!AD75+CSVデータ3!AD75+CSVデータ4!AD75","v":144},null,{"$f":"CSVデータ1!AF75+CSVデータ2!AF75+CSVデータ3!AF75+CSVデータ4!AF75","v":30}]
[{"$f":"CSVデータ1!A76","v":"明細部"},{"$f":"CSVデータ1!B76","v":"県"},{"$f":"CSVデータ1!C76","v":42},{"$f":"CSVデータ1!D76","v":"男"},{"$f":"CSVデータ1!E76+CSVデータ2!E76+CSVデータ3!E76+CSVデータ4!E76","v":285},{"$f":"CSVデータ1!F76+CSVデータ2!F76+CSVデータ3!F76+CSVデータ4!F76","v":96},null,{"$f":"CSVデータ1!H76+CSVデータ2!H76+CSVデータ3!H76+CSVデータ4!H76","v":149},null,{"$f":"CSVデータ1!J76+CSVデータ2!J76+CSVデータ3!J76+CSVデータ4!J76","v":96},null,{"$f":"CSVデータ1!L76+CSVデータ2!L76+CSVデータ3!L76+CSVデータ4!L76","v":98},null,{"$f":"CSVデータ1!N76+CSVデータ2!N76+CSVデータ3!N76+CSVデータ4!N76","v":18},null,{"$f":"CSVデータ1!P76+CSVデータ2!P76+CSVデータ3!P76+CSVデータ4!P76","v":37},null,{"$f":"CSVデータ1!R76+CSVデータ2!R76+CSVデータ3!R76+CSVデータ4!R76","v":70},null,{"$f":"CSVデータ1!T76+CSVデータ2!T76+CSVデータ3!T76+CSVデータ4!T76","v":70},null,{"$f":"CSVデータ1!V76+CSVデータ2!V76+CSVデータ3!V76+CSVデータ4!V76","v":76},null,{"$f":"CSVデータ1!X76+CSVデータ2!X76+CSVデータ3!X76+CSVデータ4!X76","v":58},null,{"$f":"CSVデータ1!Z76+CSVデータ2!Z76+CSVデータ3!Z76+CSVデータ4!Z76","v":154},null,{"$f":"CSVデータ1!AB76+CSVデータ2!AB76+CSVデータ3!AB76+CSVデータ4!AB76","v":1},null,{"$f":"CSVデータ1!AD76+CSVデータ2!AD76+CSVデータ3!AD76+CSVデータ4!AD76","v":121},null,{"$f":"CSVデータ1!AF76+CSVデータ2!AF76+CSVデータ3!AF76+CSVデータ4!AF76","v":37}]
[{"$f":"CSVデータ1!A77","v":"明細部"},{"$f":"CSVデータ1!B77","v":"県"},{"$f":"CSVデータ1!C77","v":43},{"$f":"CSVデータ1!D77","v":"男"},{"$f":"CSVデータ1!E77+CSVデータ2!E77+CSVデータ3!E77+CSVデータ4!E77","v":320},{"$f":"CSVデータ1!F77+CSVデータ2!F77+CSVデータ3!F77+CSVデータ4!F77","v":109},null,{"$f":"CSVデータ1!H77+CSVデータ2!H77+CSVデータ3!H77+CSVデータ4!H77","v":144},null,{"$f":"CSVデータ1!J77+CSVデータ2!J77+CSVデータ3!J77+CSVデータ4!J77","v":81},null,{"$f":"CSVデータ1!L77+CSVデータ2!L77+CSVデータ3!L77+CSVデータ4!L77","v":107},null,{"$f":"CSVデータ1!N77+CSVデータ2!N77+CSVデータ3!N77+CSVデータ4!N77","v":32},null,{"$f":"CSVデータ1!P77+CSVデータ2!P77+CSVデータ3!P77+CSVデータ4!P77","v":41},null,{"$f":"CSVデータ1!R77+CSVデータ2!R77+CSVデータ3!R77+CSVデータ4!R77","v":79},null,{"$f":"CSVデータ1!T77+CSVデータ2!T77+CSVデータ3!T77+CSVデータ4!T77","v":61},null,{"$f":"CSVデータ1!V77+CSVデータ2!V77+CSVデータ3!V77+CSVデータ4!V77","v":88},null,{"$f":"CSVデータ1!X77+CSVデータ2!X77+CSVデータ3!X77+CSVデータ4!X77","v":65},null,{"$f":"CSVデータ1!Z77+CSVデータ2!Z77+CSVデータ3!Z77+CSVデータ4!Z77","v":181},null,{"$f":"CSVデータ1!AB77+CSVデータ2!AB77+CSVデータ3!AB77+CSVデータ4!AB77","v":0},null,{"$f":"CSVデータ1!AD77+CSVデータ2!AD77+CSVデータ3!AD77+CSVデータ4!AD77","v":157},null,{"$f":"CSVデータ1!AF77+CSVデータ2!AF77+CSVデータ3!AF77+CSVデータ4!AF77","v":23}]
[{"$f":"CSVデータ1!A78","v":"明細部"},{"$f":"CSVデータ1!B78","v":"県"},{"$f":"CSVデータ1!C78","v":44},{"$f":"CSVデータ1!D78","v":"男"},{"$f":"CSVデータ1!E78+CSVデータ2!E78+CSVデータ3!E78+CSVデータ4!E78","v":311},{"$f":"CSVデータ1!F78+CSVデータ2!F78+CSVデータ3!F78+CSVデータ4!F78","v":117},null,{"$f":"CSVデータ1!H78+CSVデータ2!H78+CSVデータ3!H78+CSVデータ4!H78","v":163},null,{"$f":"CSVデータ1!J78+CSVデータ2!J78+CSVデータ3!J78+CSVデータ4!J78","v":115},null,{"$f":"CSVデータ1!L78+CSVデータ2!L78+CSVデータ3!L78+CSVデータ4!L78","v":127},null,{"$f":"CSVデータ1!N78+CSVデータ2!N78+CSVデータ3!N78+CSVデータ4!N78","v":33},null,{"$f":"CSVデータ1!P78+CSVデータ2!P78+CSVデータ3!P78+CSVデータ4!P78","v":34},null,{"$f":"CSVデータ1!R78+CSVデータ2!R78+CSVデータ3!R78+CSVデータ4!R78","v":88},null,{"$f":"CSVデータ1!T78+CSVデータ2!T78+CSVデータ3!T78+CSVデータ4!T78","v":62},null,{"$f":"CSVデータ1!V78+CSVデータ2!V78+CSVデータ3!V78+CSVデータ4!V78","v":98},null,{"$f":"CSVデータ1!X78+CSVデータ2!X78+CSVデータ3!X78+CSVデータ4!X78","v":83},null,{"$f":"CSVデータ1!Z78+CSVデータ2!Z78+CSVデータ3!Z78+CSVデータ4!Z78","v":176},null,{"$f":"CSVデータ1!AB78+CSVデータ2!AB78+CSVデータ3!AB78+CSVデータ4!AB78","v":2},null,{"$f":"CSVデータ1!AD78+CSVデータ2!AD78+CSVデータ3!AD78+CSVデータ4!AD78","v":143},null,{"$f":"CSVデータ1!AF78+CSVデータ2!AF78+CSVデータ3!AF78+CSVデータ4!AF78","v":37}]
[{"$f":"CSVデータ1!A79","v":"明細部"},{"$f":"CSVデータ1!B79","v":"県"},{"$f":"CSVデータ1!C79","v":45},{"$f":"CSVデータ1!D79","v":"男"},{"$f":"CSVデータ1!E79+CSVデータ2!E79+CSVデータ3!E79+CSVデータ4!E79","v":339},{"$f":"CSVデータ1!F79+CSVデータ2!F79+CSVデータ3!F79+CSVデータ4!F79","v":127},null,{"$f":"CSVデータ1!H79+CSVデータ2!H79+CSVデータ3!H79+CSVデータ4!H79","v":159},null,{"$f":"CSVデータ1!J79+CSVデータ2!J79+CSVデータ3!J79+CSVデータ4!J79","v":102},null,{"$f":"CSVデータ1!L79+CSVデータ2!L79+CSVデータ3!L79+CSVデータ4!L79","v":99},null,{"$f":"CSVデータ1!N79+CSVデータ2!N79+CSVデータ3!N79+CSVデータ4!N79","v":29},null,{"$f":"CSVデータ1!P79+CSVデータ2!P79+CSVデータ3!P79+CSVデータ4!P79","v":50},null,{"$f":"CSVデータ1!R79+CSVデータ2!R79+CSVデータ3!R79+CSVデータ4!R79","v":88},null,{"$f":"CSVデータ1!T79+CSVデータ2!T79+CSVデータ3!T79+CSVデータ4!T79","v":67},null,{"$f":"CSVデータ1!V79+CSVデータ2!V79+CSVデータ3!V79+CSVデータ4!V79","v":98},null,{"$f":"CSVデータ1!X79+CSVデータ2!X79+CSVデータ3!X79+CSVデータ4!X79","v":75},null,{"$f":"CSVデータ1!Z79+CSVデータ2!Z79+CSVデータ3!Z79+CSVデータ4!Z79","v":189},null,{"$f":"CSVデータ1!AB79+CSVデータ2!AB79+CSVデータ3!AB79+CSVデータ4!AB79","v":0},null,{"$f":"CSVデータ1!AD79+CSVデータ2!AD79+CSVデータ3!AD79+CSVデータ4!AD79","v":187},null,{"$f":"CSVデータ1!AF79+CSVデータ2!AF79+CSVデータ3!AF79+CSVデータ4!AF79","v":26}]
[{"$f":"CSVデータ1!A80","v":"明細部"},{"$f":"CSVデータ1!B80","v":"県"},{"$f":"CSVデータ1!C80","v":46},{"$f":"CSVデータ1!D80","v":"男"},{"$f":"CSVデータ1!E80+CSVデータ2!E80+CSVデータ3!E80+CSVデータ4!E80","v":412},{"$f":"CSVデータ1!F80+CSVデータ2!F80+CSVデータ3!F80+CSVデータ4!F80","v":148},null,{"$f":"CSVデータ1!H80+CSVデータ2!H80+CSVデータ3!H80+CSVデータ4!H80","v":207},null,{"$f":"CSVデータ1!J80+CSVデータ2!J80+CSVデータ3!J80+CSVデータ4!J80","v":152},null,{"$f":"CSVデータ1!L80+CSVデータ2!L80+CSVデータ3!L80+CSVデータ4!L80","v":161},null,{"$f":"CSVデータ1!N80+CSVデータ2!N80+CSVデータ3!N80+CSVデータ4!N80","v":52},null,{"$f":"CSVデータ1!P80+CSVデータ2!P80+CSVデータ3!P80+CSVデータ4!P80","v":71},null,{"$f":"CSVデータ1!R80+CSVデータ2!R80+CSVデータ3!R80+CSVデータ4!R80","v":133},null,{"$f":"CSVデータ1!T80+CSVデータ2!T80+CSVデータ3!T80+CSVデータ4!T80","v":98},null,{"$f":"CSVデータ1!V80+CSVデータ2!V80+CSVデータ3!V80+CSVデータ4!V80","v":133},null,{"$f":"CSVデータ1!X80+CSVデータ2!X80+CSVデータ3!X80+CSVデータ4!X80","v":107},null,{"$f":"CSVデータ1!Z80+CSVデータ2!Z80+CSVデータ3!Z80+CSVデータ4!Z80","v":231},null,{"$f":"CSVデータ1!AB80+CSVデータ2!AB80+CSVデータ3!AB80+CSVデータ4!AB80","v":4},null,{"$f":"CSVデータ1!AD80+CSVデータ2!AD80+CSVデータ3!AD80+CSVデータ4!AD80","v":208},null,{"$f":"CSVデータ1!AF80+CSVデータ2!AF80+CSVデータ3!AF80+CSVデータ4!AF80","v":36}]
[{"$f":"CSVデータ1!A81","v":"明細部"},{"$f":"CSVデータ1!B81","v":"県"},{"$f":"CSVデータ1!C81","v":47},{"$f":"CSVデータ1!D81","v":"男"},{"$f":"CSVデータ1!E81+CSVデータ2!E81+CSVデータ3!E81+CSVデータ4!E81","v":353},{"$f":"CSVデータ1!F81+CSVデータ2!F81+CSVデータ3!F81+CSVデータ4!F81","v":138},null,{"$f":"CSVデータ1!H81+CSVデータ2!H81+CSVデータ3!H81+CSVデータ4!H81","v":199},null,{"$f":"CSVデータ1!J81+CSVデータ2!J81+CSVデータ3!J81+CSVデータ4!J81","v":125},null,{"$f":"CSVデータ1!L81+CSVデータ2!L81+CSVデータ3!L81+CSVデータ4!L81","v":126},null,{"$f":"CSVデータ1!N81+CSVデータ2!N81+CSVデータ3!N81+CSVデータ4!N81","v":24},null,{"$f":"CSVデータ1!P81+CSVデータ2!P81+CSVデータ3!P81+CSVデータ4!P81","v":55},null,{"$f":"CSVデータ1!R81+CSVデータ2!R81+CSVデータ3!R81+CSVデータ4!R81","v":121},null,{"$f":"CSVデータ1!T81+CSVデータ2!T81+CSVデータ3!T81+CSVデータ4!T81","v":87},null,{"$f":"CSVデータ1!V81+CSVデータ2!V81+CSVデータ3!V81+CSVデータ4!V81","v":112},null,{"$f":"CSVデータ1!X81+CSVデータ2!X81+CSVデータ3!X81+CSVデータ4!X81","v":92},null,{"$f":"CSVデータ1!Z81+CSVデータ2!Z81+CSVデータ3!Z81+CSVデータ4!Z81","v":223},null,{"$f":"CSVデータ1!AB81+CSVデータ2!AB81+CSVデータ3!AB81+CSVデータ4!AB81","v":0},null,{"$f":"CSVデータ1!AD81+CSVデータ2!AD81+CSVデータ3!AD81+CSVデータ4!AD81","v":189},null,{"$f":"CSVデータ1!AF81+CSVデータ2!AF81+CSVデータ3!AF81+CSVデータ4!AF81","v":42}]
[{"$f":"CSVデータ1!A82","v":"明細部"},{"$f":"CSVデータ1!B82","v":"県"},{"$f":"CSVデータ1!C82","v":48},{"$f":"CSVデータ1!D82","v":"男"},{"$f":"CSVデータ1!E82+CSVデータ2!E82+CSVデータ3!E82+CSVデータ4!E82","v":354},{"$f":"CSVデータ1!F82+CSVデータ2!F82+CSVデータ3!F82+CSVデータ4!F82","v":135},null,{"$f":"CSVデータ1!H82+CSVデータ2!H82+CSVデータ3!H82+CSVデータ4!H82","v":187},null,{"$f":"CSVデータ1!J82+CSVデータ2!J82+CSVデータ3!J82+CSVデータ4!J82","v":84},null,{"$f":"CSVデータ1!L82+CSVデータ2!L82+CSVデータ3!L82+CSVデータ4!L82","v":115},null,{"$f":"CSVデータ1!N82+CSVデータ2!N82+CSVデータ3!N82+CSVデータ4!N82","v":21},null,{"$f":"CSVデータ1!P82+CSVデータ2!P82+CSVデータ3!P82+CSVデータ4!P82","v":53},null,{"$f":"CSVデータ1!R82+CSVデータ2!R82+CSVデータ3!R82+CSVデータ4!R82","v":102},null,{"$f":"CSVデータ1!T82+CSVデータ2!T82+CSVデータ3!T82+CSVデータ4!T82","v":68},null,{"$f":"CSVデータ1!V82+CSVデータ2!V82+CSVデータ3!V82+CSVデータ4!V82","v":111},null,{"$f":"CSVデータ1!X82+CSVデータ2!X82+CSVデータ3!X82+CSVデータ4!X82","v":92},null,{"$f":"CSVデータ1!Z82+CSVデータ2!Z82+CSVデータ3!Z82+CSVデータ4!Z82","v":207},null,{"$f":"CSVデータ1!AB82+CSVデータ2!AB82+CSVデータ3!AB82+CSVデータ4!AB82","v":0},null,{"$f":"CSVデータ1!AD82+CSVデータ2!AD82+CSVデータ3!AD82+CSVデータ4!AD82","v":150},null,{"$f":"CSVデータ1!AF82+CSVデータ2!AF82+CSVデータ3!AF82+CSVデータ4!AF82","v":46}]
[{"$f":"CSVデータ1!A83","v":"明細部"},{"$f":"CSVデータ1!B83","v":"県"},{"$f":"CSVデータ1!C83","v":49},{"$f":"CSVデータ1!D83","v":"男"},{"$f":"CSVデータ1!E83+CSVデータ2!E83+CSVデータ3!E83+CSVデータ4!E83","v":305},{"$f":"CSVデータ1!F83+CSVデータ2!F83+CSVデータ3!F83+CSVデータ4!F83","v":114},null,{"$f":"CSVデータ1!H83+CSVデータ2!H83+CSVデータ3!H83+CSVデータ4!H83","v":165},null,{"$f":"CSVデータ1!J83+CSVデータ2!J83+CSVデータ3!J83+CSVデータ4!J83","v":97},null,{"$f":"CSVデータ1!L83+CSVデータ2!L83+CSVデータ3!L83+CSVデータ4!L83","v":107},null,{"$f":"CSVデータ1!N83+CSVデータ2!N83+CSVデータ3!N83+CSVデータ4!N83","v":24},null,{"$f":"CSVデータ1!P83+CSVデータ2!P83+CSVデータ3!P83+CSVデータ4!P83","v":47},null,{"$f":"CSVデータ1!R83+CSVデータ2!R83+CSVデータ3!R83+CSVデータ4!R83","v":111},null,{"$f":"CSVデータ1!T83+CSVデータ2!T83+CSVデータ3!T83+CSVデータ4!T83","v":58},null,{"$f":"CSVデータ1!V83+CSVデータ2!V83+CSVデータ3!V83+CSVデータ4!V83","v":107},null,{"$f":"CSVデータ1!X83+CSVデータ2!X83+CSVデータ3!X83+CSVデータ4!X83","v":87},null,{"$f":"CSVデータ1!Z83+CSVデータ2!Z83+CSVデータ3!Z83+CSVデータ4!Z83","v":162},null,{"$f":"CSVデータ1!AB83+CSVデータ2!AB83+CSVデータ3!AB83+CSVデータ4!AB83","v":1},null,{"$f":"CSVデータ1!AD83+CSVデータ2!AD83+CSVデータ3!AD83+CSVデータ4!AD83","v":141},null,{"$f":"CSVデータ1!AF83+CSVデータ2!AF83+CSVデータ3!AF83+CSVデータ4!AF83","v":26}]
[{"$f":"CSVデータ1!A84","v":"明細部"},{"$f":"CSVデータ1!B84","v":"県"},{"$f":"CSVデータ1!C84","v":50},{"$f":"CSVデータ1!D84","v":"男"},{"$f":"CSVデータ1!E84+CSVデータ2!E84+CSVデータ3!E84+CSVデータ4!E84","v":369},{"$f":"CSVデータ1!F84+CSVデータ2!F84+CSVデータ3!F84+CSVデータ4!F84","v":153},null,{"$f":"CSVデータ1!H84+CSVデータ2!H84+CSVデータ3!H84+CSVデータ4!H84","v":198},null,{"$f":"CSVデータ1!J84+CSVデータ2!J84+CSVデータ3!J84+CSVデータ4!J84","v":121},null,{"$f":"CSVデータ1!L84+CSVデータ2!L84+CSVデータ3!L84+CSVデータ4!L84","v":129},null,{"$f":"CSVデータ1!N84+CSVデータ2!N84+CSVデータ3!N84+CSVデータ4!N84","v":27},null,{"$f":"CSVデータ1!P84+CSVデータ2!P84+CSVデータ3!P84+CSVデータ4!P84","v":67},null,{"$f":"CSVデータ1!R84+CSVデータ2!R84+CSVデータ3!R84+CSVデータ4!R84","v":132},null,{"$f":"CSVデータ1!T84+CSVデータ2!T84+CSVデータ3!T84+CSVデータ4!T84","v":56},null,{"$f":"CSVデータ1!V84+CSVデータ2!V84+CSVデータ3!V84+CSVデータ4!V84","v":132},null,{"$f":"CSVデータ1!X84+CSVデータ2!X84+CSVデータ3!X84+CSVデータ4!X84","v":113},null,{"$f":"CSVデータ1!Z84+CSVデータ2!Z84+CSVデータ3!Z84+CSVデータ4!Z84","v":190},null,{"$f":"CSVデータ1!AB84+CSVデータ2!AB84+CSVデータ3!AB84+CSVデータ4!AB84","v":0},null,{"$f":"CSVデータ1!AD84+CSVデータ2!AD84+CSVデータ3!AD84+CSVデータ4!AD84","v":153},null,{"$f":"CSVデータ1!AF84+CSVデータ2!AF84+CSVデータ3!AF84+CSVデータ4!AF84","v":41}]
[{"$f":"CSVデータ1!A85","v":"明細部"},{"$f":"CSVデータ1!B85","v":"県"},{"$f":"CSVデータ1!C85","v":51},{"$f":"CSVデータ1!D85","v":"男"},{"$f":"CSVデータ1!E85+CSVデータ2!E85+CSVデータ3!E85+CSVデータ4!E85","v":362},{"$f":"CSVデータ1!F85+CSVデータ2!F85+CSVデータ3!F85+CSVデータ4!F85","v":145},null,{"$f":"CSVデータ1!H85+CSVデータ2!H85+CSVデータ3!H85+CSVデータ4!H85","v":203},null,{"$f":"CSVデータ1!J85+CSVデータ2!J85+CSVデータ3!J85+CSVデータ4!J85","v":127},null,{"$f":"CSVデータ1!L85+CSVデータ2!L85+CSVデータ3!L85+CSVデータ4!L85","v":116},null,{"$f":"CSVデータ1!N85+CSVデータ2!N85+CSVデータ3!N85+CSVデータ4!N85","v":26},null,{"$f":"CSVデータ1!P85+CSVデータ2!P85+CSVデータ3!P85+CSVデータ4!P85","v":57},null,{"$f":"CSVデータ1!R85+CSVデータ2!R85+CSVデータ3!R85+CSVデータ4!R85","v":125},null,{"$f":"CSVデータ1!T85+CSVデータ2!T85+CSVデータ3!T85+CSVデータ4!T85","v":78},null,{"$f":"CSVデータ1!V85+CSVデータ2!V85+CSVデータ3!V85+CSVデータ4!V85","v":146},null,{"$f":"CSVデータ1!X85+CSVデータ2!X85+CSVデータ3!X85+CSVデータ4!X85","v":109},null,{"$f":"CSVデータ1!Z85+CSVデータ2!Z85+CSVデータ3!Z85+CSVデータ4!Z85","v":241},null,{"$f":"CSVデータ1!AB85+CSVデータ2!AB85+CSVデータ3!AB85+CSVデータ4!AB85","v":0},null,{"$f":"CSVデータ1!AD85+CSVデータ2!AD85+CSVデータ3!AD85+CSVデータ4!AD85","v":191},null,{"$f":"CSVデータ1!AF85+CSVデータ2!AF85+CSVデータ3!AF85+CSVデータ4!AF85","v":39}]
[{"$f":"CSVデータ1!A86","v":"明細部"},{"$f":"CSVデータ1!B86","v":"県"},{"$f":"CSVデータ1!C86","v":52},{"$f":"CSVデータ1!D86","v":"男"},{"$f":"CSVデータ1!E86+CSVデータ2!E86+CSVデータ3!E86+CSVデータ4!E86","v":275},{"$f":"CSVデータ1!F86+CSVデータ2!F86+CSVデータ3!F86+CSVデータ4!F86","v":122},null,{"$f":"CSVデータ1!H86+CSVデータ2!H86+CSVデータ3!H86+CSVデータ4!H86","v":165},null,{"$f":"CSVデータ1!J86+CSVデータ2!J86+CSVデータ3!J86+CSVデータ4!J86","v":76},null,{"$f":"CSVデータ1!L86+CSVデータ2!L86+CSVデータ3!L86+CSVデータ4!L86","v":84},null,{"$f":"CSVデータ1!N86+CSVデータ2!N86+CSVデータ3!N86+CSVデータ4!N86","v":23},null,{"$f":"CSVデータ1!P86+CSVデータ2!P86+CSVデータ3!P86+CSVデータ4!P86","v":44},null,{"$f":"CSVデータ1!R86+CSVデータ2!R86+CSVデータ3!R86+CSVデータ4!R86","v":97},null,{"$f":"CSVデータ1!T86+CSVデータ2!T86+CSVデータ3!T86+CSVデータ4!T86","v":44},null,{"$f":"CSVデータ1!V86+CSVデータ2!V86+CSVデータ3!V86+CSVデータ4!V86","v":108},null,{"$f":"CSVデータ1!X86+CSVデータ2!X86+CSVデータ3!X86+CSVデータ4!X86","v":77},null,{"$f":"CSVデータ1!Z86+CSVデータ2!Z86+CSVデータ3!Z86+CSVデータ4!Z86","v":154},null,{"$f":"CSVデータ1!AB86+CSVデータ2!AB86+CSVデータ3!AB86+CSVデータ4!AB86","v":1},null,{"$f":"CSVデータ1!AD86+CSVデータ2!AD86+CSVデータ3!AD86+CSVデータ4!AD86","v":129},null,{"$f":"CSVデータ1!AF86+CSVデータ2!AF86+CSVデータ3!AF86+CSVデータ4!AF86","v":22}]
[{"$f":"CSVデータ1!A87","v":"明細部"},{"$f":"CSVデータ1!B87","v":"県"},{"$f":"CSVデータ1!C87","v":53},{"$f":"CSVデータ1!D87","v":"男"},{"$f":"CSVデータ1!E87+CSVデータ2!E87+CSVデータ3!E87+CSVデータ4!E87","v":366},{"$f":"CSVデータ1!F87+CSVデータ2!F87+CSVデータ3!F87+CSVデータ4!F87","v":145},null,{"$f":"CSVデータ1!H87+CSVデータ2!H87+CSVデータ3!H87+CSVデータ4!H87","v":212},null,{"$f":"CSVデータ1!J87+CSVデータ2!J87+CSVデータ3!J87+CSVデータ4!J87","v":112},null,{"$f":"CSVデータ1!L87+CSVデータ2!L87+CSVデータ3!L87+CSVデータ4!L87","v":122},null,{"$f":"CSVデータ1!N87+CSVデータ2!N87+CSVデータ3!N87+CSVデータ4!N87","v":19},null,{"$f":"CSVデータ1!P87+CSVデータ2!P87+CSVデータ3!P87+CSVデータ4!P87","v":64},null,{"$f":"CSVデータ1!R87+CSVデータ2!R87+CSVデータ3!R87+CSVデータ4!R87","v":147},null,{"$f":"CSVデータ1!T87+CSVデータ2!T87+CSVデータ3!T87+CSVデータ4!T87","v":59},null,{"$f":"CSVデータ1!V87+CSVデータ2!V87+CSVデータ3!V87+CSVデータ4!V87","v":141},null,{"$f":"CSVデータ1!X87+CSVデータ2!X87+CSVデータ3!X87+CSVデータ4!X87","v":115},null,{"$f":"CSVデータ1!Z87+CSVデータ2!Z87+CSVデータ3!Z87+CSVデータ4!Z87","v":206},null,{"$f":"CSVデータ1!AB87+CSVデータ2!AB87+CSVデータ3!AB87+CSVデータ4!AB87","v":1},null,{"$f":"CSVデータ1!AD87+CSVデータ2!AD87+CSVデータ3!AD87+CSVデータ4!AD87","v":194},null,{"$f":"CSVデータ1!AF87+CSVデータ2!AF87+CSVデータ3!AF87+CSVデータ4!AF87","v":37}]
[{"$f":"CSVデータ1!A88","v":"明細部"},{"$f":"CSVデータ1!B88","v":"県"},{"$f":"CSVデータ1!C88","v":54},{"$f":"CSVデータ1!D88","v":"男"},{"$f":"CSVデータ1!E88+CSVデータ2!E88+CSVデータ3!E88+CSVデータ4!E88","v":376},{"$f":"CSVデータ1!F88+CSVデータ2!F88+CSVデータ3!F88+CSVデータ4!F88","v":135},null,{"$f":"CSVデータ1!H88+CSVデータ2!H88+CSVデータ3!H88+CSVデータ4!H88","v":216},null,{"$f":"CSVデータ1!J88+CSVデータ2!J88+CSVデータ3!J88+CSVデータ4!J88","v":131},null,{"$f":"CSVデータ1!L88+CSVデータ2!L88+CSVデータ3!L88+CSVデータ4!L88","v":111},null,{"$f":"CSVデータ1!N88+CSVデータ2!N88+CSVデータ3!N88+CSVデータ4!N88","v":30},null,{"$f":"CSVデータ1!P88+CSVデータ2!P88+CSVデータ3!P88+CSVデータ4!P88","v":69},null,{"$f":"CSVデータ1!R88+CSVデータ2!R88+CSVデータ3!R88+CSVデータ4!R88","v":151},null,{"$f":"CSVデータ1!T88+CSVデータ2!T88+CSVデータ3!T88+CSVデータ4!T88","v":57},null,{"$f":"CSVデータ1!V88+CSVデータ2!V88+CSVデータ3!V88+CSVデータ4!V88","v":159},null,{"$f":"CSVデータ1!X88+CSVデータ2!X88+CSVデータ3!X88+CSVデータ4!X88","v":120},null,{"$f":"CSVデータ1!Z88+CSVデータ2!Z88+CSVデータ3!Z88+CSVデータ4!Z88","v":208},null,{"$f":"CSVデータ1!AB88+CSVデータ2!AB88+CSVデータ3!AB88+CSVデータ4!AB88","v":5},null,{"$f":"CSVデータ1!AD88+CSVデータ2!AD88+CSVデータ3!AD88+CSVデータ4!AD88","v":184},null,{"$f":"CSVデータ1!AF88+CSVデータ2!AF88+CSVデータ3!AF88+CSVデータ4!AF88","v":39}]
[{"$f":"CSVデータ1!A89","v":"明細部"},{"$f":"CSVデータ1!B89","v":"県"},{"$f":"CSVデータ1!C89","v":55},{"$f":"CSVデータ1!D89","v":"男"},{"$f":"CSVデータ1!E89+CSVデータ2!E89+CSVデータ3!E89+CSVデータ4!E89","v":398},{"$f":"CSVデータ1!F89+CSVデータ2!F89+CSVデータ3!F89+CSVデータ4!F89","v":130},null,{"$f":"CSVデータ1!H89+CSVデータ2!H89+CSVデータ3!H89+CSVデータ4!H89","v":187},null,{"$f":"CSVデータ1!J89+CSVデータ2!J89+CSVデータ3!J89+CSVデータ4!J89","v":123},null,{"$f":"CSVデータ1!L89+CSVデータ2!L89+CSVデータ3!L89+CSVデータ4!L89","v":113},null,{"$f":"CSVデータ1!N89+CSVデータ2!N89+CSVデータ3!N89+CSVデータ4!N89","v":25},null,{"$f":"CSVデータ1!P89+CSVデータ2!P89+CSVデータ3!P89+CSVデータ4!P89","v":99},null,{"$f":"CSVデータ1!R89+CSVデータ2!R89+CSVデータ3!R89+CSVデータ4!R89","v":140},null,{"$f":"CSVデータ1!T89+CSVデータ2!T89+CSVデータ3!T89+CSVデータ4!T89","v":84},null,{"$f":"CSVデータ1!V89+CSVデータ2!V89+CSVデータ3!V89+CSVデータ4!V89","v":152},null,{"$f":"CSVデータ1!X89+CSVデータ2!X89+CSVデータ3!X89+CSVデータ4!X89","v":125},null,{"$f":"CSVデータ1!Z89+CSVデータ2!Z89+CSVデータ3!Z89+CSVデータ4!Z89","v":226},null,{"$f":"CSVデータ1!AB89+CSVデータ2!AB89+CSVデータ3!AB89+CSVデータ4!AB89","v":6},null,{"$f":"CSVデータ1!AD89+CSVデータ2!AD89+CSVデータ3!AD89+CSVデータ4!AD89","v":187},null,{"$f":"CSVデータ1!AF89+CSVデータ2!AF89+CSVデータ3!AF89+CSVデータ4!AF89","v":50}]
[{"$f":"CSVデータ1!A90","v":"明細部"},{"$f":"CSVデータ1!B90","v":"県"},{"$f":"CSVデータ1!C90","v":56},{"$f":"CSVデータ1!D90","v":"男"},{"$f":"CSVデータ1!E90+CSVデータ2!E90+CSVデータ3!E90+CSVデータ4!E90","v":353},{"$f":"CSVデータ1!F90+CSVデータ2!F90+CSVデータ3!F90+CSVデータ4!F90","v":147},null,{"$f":"CSVデータ1!H90+CSVデータ2!H90+CSVデータ3!H90+CSVデータ4!H90","v":209},null,{"$f":"CSVデータ1!J90+CSVデータ2!J90+CSVデータ3!J90+CSVデータ4!J90","v":131},null,{"$f":"CSVデータ1!L90+CSVデータ2!L90+CSVデータ3!L90+CSVデータ4!L90","v":120},null,{"$f":"CSVデータ1!N90+CSVデータ2!N90+CSVデータ3!N90+CSVデータ4!N90","v":38},null,{"$f":"CSVデータ1!P90+CSVデータ2!P90+CSVデータ3!P90+CSVデータ4!P90","v":79},null,{"$f":"CSVデータ1!R90+CSVデータ2!R90+CSVデータ3!R90+CSVデータ4!R90","v":171},null,{"$f":"CSVデータ1!T90+CSVデータ2!T90+CSVデータ3!T90+CSVデータ4!T90","v":72},null,{"$f":"CSVデータ1!V90+CSVデータ2!V90+CSVデータ3!V90+CSVデータ4!V90","v":166},null,{"$f":"CSVデータ1!X90+CSVデータ2!X90+CSVデータ3!X90+CSVデータ4!X90","v":123},null,{"$f":"CSVデータ1!Z90+CSVデータ2!Z90+CSVデータ3!Z90+CSVデータ4!Z90","v":190},null,{"$f":"CSVデータ1!AB90+CSVデータ2!AB90+CSVデータ3!AB90+CSVデータ4!AB90","v":2},null,{"$f":"CSVデータ1!AD90+CSVデータ2!AD90+CSVデータ3!AD90+CSVデータ4!AD90","v":184},null,{"$f":"CSVデータ1!AF90+CSVデータ2!AF90+CSVデータ3!AF90+CSVデータ4!AF90","v":40}]
[{"$f":"CSVデータ1!A91","v":"明細部"},{"$f":"CSVデータ1!B91","v":"県"},{"$f":"CSVデータ1!C91","v":57},{"$f":"CSVデータ1!D91","v":"男"},{"$f":"CSVデータ1!E91+CSVデータ2!E91+CSVデータ3!E91+CSVデータ4!E91","v":374},{"$f":"CSVデータ1!F91+CSVデータ2!F91+CSVデータ3!F91+CSVデータ4!F91","v":147},null,{"$f":"CSVデータ1!H91+CSVデータ2!H91+CSVデータ3!H91+CSVデータ4!H91","v":213},null,{"$f":"CSVデータ1!J91+CSVデータ2!J91+CSVデータ3!J91+CSVデータ4!J91","v":123},null,{"$f":"CSVデータ1!L91+CSVデータ2!L91+CSVデータ3!L91+CSVデータ4!L91","v":105},null,{"$f":"CSVデータ1!N91+CSVデータ2!N91+CSVデータ3!N91+CSVデータ4!N91","v":20},null,{"$f":"CSVデータ1!P91+CSVデータ2!P91+CSVデータ3!P91+CSVデータ4!P91","v":76},null,{"$f":"CSVデータ1!R91+CSVデータ2!R91+CSVデータ3!R91+CSVデータ4!R91","v":163},null,{"$f":"CSVデータ1!T91+CSVデータ2!T91+CSVデータ3!T91+CSVデータ4!T91","v":56},null,{"$f":"CSVデータ1!V91+CSVデータ2!V91+CSVデータ3!V91+CSVデータ4!V91","v":184},null,{"$f":"CSVデータ1!X91+CSVデータ2!X91+CSVデータ3!X91+CSVデータ4!X91","v":124},null,{"$f":"CSVデータ1!Z91+CSVデータ2!Z91+CSVデータ3!Z91+CSVデータ4!Z91","v":209},null,{"$f":"CSVデータ1!AB91+CSVデータ2!AB91+CSVデータ3!AB91+CSVデータ4!AB91","v":8},null,{"$f":"CSVデータ1!AD91+CSVデータ2!AD91+CSVデータ3!AD91+CSVデータ4!AD91","v":158},null,{"$f":"CSVデータ1!AF91+CSVデータ2!AF91+CSVデータ3!AF91+CSVデータ4!AF91","v":43}]
[{"$f":"CSVデータ1!A92","v":"明細部"},{"$f":"CSVデータ1!B92","v":"県"},{"$f":"CSVデータ1!C92","v":58},{"$f":"CSVデータ1!D92","v":"男"},{"$f":"CSVデータ1!E92+CSVデータ2!E92+CSVデータ3!E92+CSVデータ4!E92","v":352},{"$f":"CSVデータ1!F92+CSVデータ2!F92+CSVデータ3!F92+CSVデータ4!F92","v":124},null,{"$f":"CSVデータ1!H92+CSVデータ2!H92+CSVデータ3!H92+CSVデータ4!H92","v":206},null,{"$f":"CSVデータ1!J92+CSVデータ2!J92+CSVデータ3!J92+CSVデータ4!J92","v":124},null,{"$f":"CSVデータ1!L92+CSVデータ2!L92+CSVデータ3!L92+CSVデータ4!L92","v":94},null,{"$f":"CSVデータ1!N92+CSVデータ2!N92+CSVデータ3!N92+CSVデータ4!N92","v":19},null,{"$f":"CSVデータ1!P92+CSVデータ2!P92+CSVデータ3!P92+CSVデータ4!P92","v":82},null,{"$f":"CSVデータ1!R92+CSVデータ2!R92+CSVデータ3!R92+CSVデータ4!R92","v":138},null,{"$f":"CSVデータ1!T92+CSVデータ2!T92+CSVデータ3!T92+CSVデータ4!T92","v":64},null,{"$f":"CSVデータ1!V92+CSVデータ2!V92+CSVデータ3!V92+CSVデータ4!V92","v":132},null,{"$f":"CSVデータ1!X92+CSVデータ2!X92+CSVデータ3!X92+CSVデータ4!X92","v":95},null,{"$f":"CSVデータ1!Z92+CSVデータ2!Z92+CSVデータ3!Z92+CSVデータ4!Z92","v":205},null,{"$f":"CSVデータ1!AB92+CSVデータ2!AB92+CSVデータ3!AB92+CSVデータ4!AB92","v":2},null,{"$f":"CSVデータ1!AD92+CSVデータ2!AD92+CSVデータ3!AD92+CSVデータ4!AD92","v":210},null,{"$f":"CSVデータ1!AF92+CSVデータ2!AF92+CSVデータ3!AF92+CSVデータ4!AF92","v":26}]
[{"$f":"CSVデータ1!A93","v":"明細部"},{"$f":"CSVデータ1!B93","v":"県"},{"$f":"CSVデータ1!C93","v":59},{"$f":"CSVデータ1!D93","v":"男"},{"$f":"CSVデータ1!E93+CSVデータ2!E93+CSVデータ3!E93+CSVデータ4!E93","v":470},{"$f":"CSVデータ1!F93+CSVデータ2!F93+CSVデータ3!F93+CSVデータ4!F93","v":156},null,{"$f":"CSVデータ1!H93+CSVデータ2!H93+CSVデータ3!H93+CSVデータ4!H93","v":254},null,{"$f":"CSVデータ1!J93+CSVデータ2!J93+CSVデータ3!J93+CSVデータ4!J93","v":144},null,{"$f":"CSVデータ1!L93+CSVデータ2!L93+CSVデータ3!L93+CSVデータ4!L93","v":104},null,{"$f":"CSVデータ1!N93+CSVデータ2!N93+CSVデータ3!N93+CSVデータ4!N93","v":26},null,{"$f":"CSVデータ1!P93+CSVデータ2!P93+CSVデータ3!P93+CSVデータ4!P93","v":124},null,{"$f":"CSVデータ1!R93+CSVデータ2!R93+CSVデータ3!R93+CSVデータ4!R93","v":207},null,{"$f":"CSVデータ1!T93+CSVデータ2!T93+CSVデータ3!T93+CSVデータ4!T93","v":89},null,{"$f":"CSVデータ1!V93+CSVデータ2!V93+CSVデータ3!V93+CSVデータ4!V93","v":208},null,{"$f":"CSVデータ1!X93+CSVデータ2!X93+CSVデータ3!X93+CSVデータ4!X93","v":143},null,{"$f":"CSVデータ1!Z93+CSVデータ2!Z93+CSVデータ3!Z93+CSVデータ4!Z93","v":228},null,{"$f":"CSVデータ1!AB93+CSVデータ2!AB93+CSVデータ3!AB93+CSVデータ4!AB93","v":1},null,{"$f":"CSVデータ1!AD93+CSVデータ2!AD93+CSVデータ3!AD93+CSVデータ4!AD93","v":224},null,{"$f":"CSVデータ1!AF93+CSVデータ2!AF93+CSVデータ3!AF93+CSVデータ4!AF93","v":44}]
[{"$f":"CSVデータ1!A94","v":"明細部"},{"$f":"CSVデータ1!B94","v":"県"},{"$f":"CSVデータ1!C94","v":60},{"$f":"CSVデータ1!D94","v":"男"},{"$f":"CSVデータ1!E94+CSVデータ2!E94+CSVデータ3!E94+CSVデータ4!E94","v":440},{"$f":"CSVデータ1!F94+CSVデータ2!F94+CSVデータ3!F94+CSVデータ4!F94","v":147},null,{"$f":"CSVデータ1!H94+CSVデータ2!H94+CSVデータ3!H94+CSVデータ4!H94","v":255},null,{"$f":"CSVデータ1!J94+CSVデータ2!J94+CSVデータ3!J94+CSVデータ4!J94","v":154},null,{"$f":"CSVデータ1!L94+CSVデータ2!L94+CSVデータ3!L94+CSVデータ4!L94","v":118},null,{"$f":"CSVデータ1!N94+CSVデータ2!N94+CSVデータ3!N94+CSVデータ4!N94","v":33},null,{"$f":"CSVデータ1!P94+CSVデータ2!P94+CSVデータ3!P94+CSVデータ4!P94","v":118},null,{"$f":"CSVデータ1!R94+CSVデータ2!R94+CSVデータ3!R94+CSVデータ4!R94","v":233},null,{"$f":"CSVデータ1!T94+CSVデータ2!T94+CSVデータ3!T94+CSVデータ4!T94","v":75},null,{"$f":"CSVデータ1!V94+CSVデータ2!V94+CSVデータ3!V94+CSVデータ4!V94","v":202},null,{"$f":"CSVデータ1!X94+CSVデータ2!X94+CSVデータ3!X94+CSVデータ4!X94","v":141},null,{"$f":"CSVデータ1!Z94+CSVデータ2!Z94+CSVデータ3!Z94+CSVデータ4!Z94","v":257},null,{"$f":"CSVデータ1!AB94+CSVデータ2!AB94+CSVデータ3!AB94+CSVデータ4!AB94","v":6},null,{"$f":"CSVデータ1!AD94+CSVデータ2!AD94+CSVデータ3!AD94+CSVデータ4!AD94","v":231},null,{"$f":"CSVデータ1!AF94+CSVデータ2!AF94+CSVデータ3!AF94+CSVデータ4!AF94","v":34}]
[{"$f":"CSVデータ1!A95","v":"明細部"},{"$f":"CSVデータ1!B95","v":"県"},{"$f":"CSVデータ1!C95","v":61},{"$f":"CSVデータ1!D95","v":"男"},{"$f":"CSVデータ1!E95+CSVデータ2!E95+CSVデータ3!E95+CSVデータ4!E95","v":501},{"$f":"CSVデータ1!F95+CSVデータ2!F95+CSVデータ3!F95+CSVデータ4!F95","v":189},null,{"$f":"CSVデータ1!H95+CSVデータ2!H95+CSVデータ3!H95+CSVデータ4!H95","v":273},null,{"$f":"CSVデータ1!J95+CSVデータ2!J95+CSVデータ3!J95+CSVデータ4!J95","v":166},null,{"$f":"CSVデータ1!L95+CSVデータ2!L95+CSVデータ3!L95+CSVデータ4!L95","v":130},null,{"$f":"CSVデータ1!N95+CSVデータ2!N95+CSVデータ3!N95+CSVデータ4!N95","v":45},null,{"$f":"CSVデータ1!P95+CSVデータ2!P95+CSVデータ3!P95+CSVデータ4!P95","v":148},null,{"$f":"CSVデータ1!R95+CSVデータ2!R95+CSVデータ3!R95+CSVデータ4!R95","v":281},null,{"$f":"CSVデータ1!T95+CSVデータ2!T95+CSVデータ3!T95+CSVデータ4!T95","v":84},null,{"$f":"CSVデータ1!V95+CSVデータ2!V95+CSVデータ3!V95+CSVデータ4!V95","v":233},null,{"$f":"CSVデータ1!X95+CSVデータ2!X95+CSVデータ3!X95+CSVデータ4!X95","v":129},null,{"$f":"CSVデータ1!Z95+CSVデータ2!Z95+CSVデータ3!Z95+CSVデータ4!Z95","v":236},null,{"$f":"CSVデータ1!AB95+CSVデータ2!AB95+CSVデータ3!AB95+CSVデータ4!AB95","v":4},null,{"$f":"CSVデータ1!AD95+CSVデータ2!AD95+CSVデータ3!AD95+CSVデータ4!AD95","v":274},null,{"$f":"CSVデータ1!AF95+CSVデータ2!AF95+CSVデータ3!AF95+CSVデータ4!AF95","v":53}]
[{"$f":"CSVデータ1!A96","v":"明細部"},{"$f":"CSVデータ1!B96","v":"県"},{"$f":"CSVデータ1!C96","v":62},{"$f":"CSVデータ1!D96","v":"男"},{"$f":"CSVデータ1!E96+CSVデータ2!E96+CSVデータ3!E96+CSVデータ4!E96","v":674},{"$f":"CSVデータ1!F96+CSVデータ2!F96+CSVデータ3!F96+CSVデータ4!F96","v":235},null,{"$f":"CSVデータ1!H96+CSVデータ2!H96+CSVデータ3!H96+CSVデータ4!H96","v":360},null,{"$f":"CSVデータ1!J96+CSVデータ2!J96+CSVデータ3!J96+CSVデータ4!J96","v":212},null,{"$f":"CSVデータ1!L96+CSVデータ2!L96+CSVデータ3!L96+CSVデータ4!L96","v":149},null,{"$f":"CSVデータ1!N96+CSVデータ2!N96+CSVデータ3!N96+CSVデータ4!N96","v":54},null,{"$f":"CSVデータ1!P96+CSVデータ2!P96+CSVデータ3!P96+CSVデータ4!P96","v":187},null,{"$f":"CSVデータ1!R96+CSVデータ2!R96+CSVデータ3!R96+CSVデータ4!R96","v":361},null,{"$f":"CSVデータ1!T96+CSVデータ2!T96+CSVデータ3!T96+CSVデータ4!T96","v":100},null,{"$f":"CSVデータ1!V96+CSVデータ2!V96+CSVデータ3!V96+CSVデータ4!V96","v":330},null,{"$f":"CSVデータ1!X96+CSVデータ2!X96+CSVデータ3!X96+CSVデータ4!X96","v":205},null,{"$f":"CSVデータ1!Z96+CSVデータ2!Z96+CSVデータ3!Z96+CSVデータ4!Z96","v":361},null,{"$f":"CSVデータ1!AB96+CSVデータ2!AB96+CSVデータ3!AB96+CSVデータ4!AB96","v":9},null,{"$f":"CSVデータ1!AD96+CSVデータ2!AD96+CSVデータ3!AD96+CSVデータ4!AD96","v":381},null,{"$f":"CSVデータ1!AF96+CSVデータ2!AF96+CSVデータ3!AF96+CSVデータ4!AF96","v":80}]
[{"$f":"CSVデータ1!A97","v":"明細部"},{"$f":"CSVデータ1!B97","v":"県"},{"$f":"CSVデータ1!C97","v":63},{"$f":"CSVデータ1!D97","v":"男"},{"$f":"CSVデータ1!E97+CSVデータ2!E97+CSVデータ3!E97+CSVデータ4!E97","v":851},{"$f":"CSVデータ1!F97+CSVデータ2!F97+CSVデータ3!F97+CSVデータ4!F97","v":313},null,{"$f":"CSVデータ1!H97+CSVデータ2!H97+CSVデータ3!H97+CSVデータ4!H97","v":480},null,{"$f":"CSVデータ1!J97+CSVデータ2!J97+CSVデータ3!J97+CSVデータ4!J97","v":260},null,{"$f":"CSVデータ1!L97+CSVデータ2!L97+CSVデータ3!L97+CSVデータ4!L97","v":227},null,{"$f":"CSVデータ1!N97+CSVデータ2!N97+CSVデータ3!N97+CSVデータ4!N97","v":57},null,{"$f":"CSVデータ1!P97+CSVデータ2!P97+CSVデータ3!P97+CSVデータ4!P97","v":261},null,{"$f":"CSVデータ1!R97+CSVデータ2!R97+CSVデータ3!R97+CSVデータ4!R97","v":445},null,{"$f":"CSVデータ1!T97+CSVデータ2!T97+CSVデータ3!T97+CSVデータ4!T97","v":143},null,{"$f":"CSVデータ1!V97+CSVデータ2!V97+CSVデータ3!V97+CSVデータ4!V97","v":426},null,{"$f":"CSVデータ1!X97+CSVデータ2!X97+CSVデータ3!X97+CSVデータ4!X97","v":237},null,{"$f":"CSVデータ1!Z97+CSVデータ2!Z97+CSVデータ3!Z97+CSVデータ4!Z97","v":439},null,{"$f":"CSVデータ1!AB97+CSVデータ2!AB97+CSVデータ3!AB97+CSVデータ4!AB97","v":5},null,{"$f":"CSVデータ1!AD97+CSVデータ2!AD97+CSVデータ3!AD97+CSVデータ4!AD97","v":461},null,{"$f":"CSVデータ1!AF97+CSVデータ2!AF97+CSVデータ3!AF97+CSVデータ4!AF97","v":82}]
[{"$f":"CSVデータ1!A98","v":"明細部"},{"$f":"CSVデータ1!B98","v":"県"},{"$f":"CSVデータ1!C98","v":64},{"$f":"CSVデータ1!D98","v":"男"},{"$f":"CSVデータ1!E98+CSVデータ2!E98+CSVデータ3!E98+CSVデータ4!E98","v":1212},{"$f":"CSVデータ1!F98+CSVデータ2!F98+CSVデータ3!F98+CSVデータ4!F98","v":402},null,{"$f":"CSVデータ1!H98+CSVデータ2!H98+CSVデータ3!H98+CSVデータ4!H98","v":663},null,{"$f":"CSVデータ1!J98+CSVデータ2!J98+CSVデータ3!J98+CSVデータ4!J98","v":344},null,{"$f":"CSVデータ1!L98+CSVデータ2!L98+CSVデータ3!L98+CSVデータ4!L98","v":252},null,{"$f":"CSVデータ1!N98+CSVデータ2!N98+CSVデータ3!N98+CSVデータ4!N98","v":81},null,{"$f":"CSVデータ1!P98+CSVデータ2!P98+CSVデータ3!P98+CSVデータ4!P98","v":364},null,{"$f":"CSVデータ1!R98+CSVデータ2!R98+CSVデータ3!R98+CSVデータ4!R98","v":652},null,{"$f":"CSVデータ1!T98+CSVデータ2!T98+CSVデータ3!T98+CSVデータ4!T98","v":192},null,{"$f":"CSVデータ1!V98+CSVデータ2!V98+CSVデータ3!V98+CSVデータ4!V98","v":550},null,{"$f":"CSVデータ1!X98+CSVデータ2!X98+CSVデータ3!X98+CSVデータ4!X98","v":311},null,{"$f":"CSVデータ1!Z98+CSVデータ2!Z98+CSVデータ3!Z98+CSVデータ4!Z98","v":615},null,{"$f":"CSVデータ1!AB98+CSVデータ2!AB98+CSVデータ3!AB98+CSVデータ4!AB98","v":17},null,{"$f":"CSVデータ1!AD98+CSVデータ2!AD98+CSVデータ3!AD98+CSVデータ4!AD98","v":613},null,{"$f":"CSVデータ1!AF98+CSVデータ2!AF98+CSVデータ3!AF98+CSVデータ4!AF98","v":125}]
[{"$f":"CSVデータ1!A99","v":"明細部"},{"$f":"CSVデータ1!B99","v":"県"},{"$f":"CSVデータ1!C99","v":65},{"$f":"CSVデータ1!D99","v":"男"},{"$f":"CSVデータ1!E99+CSVデータ2!E99+CSVデータ3!E99+CSVデータ4!E99","v":1458},{"$f":"CSVデータ1!F99+CSVデータ2!F99+CSVデータ3!F99+CSVデータ4!F99","v":471},null,{"$f":"CSVデータ1!H99+CSVデータ2!H99+CSVデータ3!H99+CSVデータ4!H99","v":828},null,{"$f":"CSVデータ1!J99+CSVデータ2!J99+CSVデータ3!J99+CSVデータ4!J99","v":447},null,{"$f":"CSVデータ1!L99+CSVデータ2!L99+CSVデータ3!L99+CSVデータ4!L99","v":344},null,{"$f":"CSVデータ1!N99+CSVデータ2!N99+CSVデータ3!N99+CSVデータ4!N99","v":112},null,{"$f":"CSVデータ1!P99+CSVデータ2!P99+CSVデータ3!P99+CSVデータ4!P99","v":437},null,{"$f":"CSVデータ1!R99+CSVデータ2!R99+CSVデータ3!R99+CSVデータ4!R99","v":871},null,{"$f":"CSVデータ1!T99+CSVデータ2!T99+CSVデータ3!T99+CSVデータ4!T99","v":236},null,{"$f":"CSVデータ1!V99+CSVデータ2!V99+CSVデータ3!V99+CSVデータ4!V99","v":768},null,{"$f":"CSVデータ1!X99+CSVデータ2!X99+CSVデータ3!X99+CSVデータ4!X99","v":423},null,{"$f":"CSVデータ1!Z99+CSVデータ2!Z99+CSVデータ3!Z99+CSVデータ4!Z99","v":736},null,{"$f":"CSVデータ1!AB99+CSVデータ2!AB99+CSVデータ3!AB99+CSVデータ4!AB99","v":20},null,{"$f":"CSVデータ1!AD99+CSVデータ2!AD99+CSVデータ3!AD99+CSVデータ4!AD99","v":847},null,{"$f":"CSVデータ1!AF99+CSVデータ2!AF99+CSVデータ3!AF99+CSVデータ4!AF99","v":184}]
[{"$f":"CSVデータ1!A100","v":"明細部"},{"$f":"CSVデータ1!B100","v":"県"},{"$f":"CSVデータ1!C100","v":66},{"$f":"CSVデータ1!D100","v":"男"},{"$f":"CSVデータ1!E100+CSVデータ2!E100+CSVデータ3!E100+CSVデータ4!E100","v":1869},{"$f":"CSVデータ1!F100+CSVデータ2!F100+CSVデータ3!F100+CSVデータ4!F100","v":606},null,{"$f":"CSVデータ1!H100+CSVデータ2!H100+CSVデータ3!H100+CSVデータ4!H100","v":1011},null,{"$f":"CSVデータ1!J100+CSVデータ2!J100+CSVデータ3!J100+CSVデータ4!J100","v":510},null,{"$f":"CSVデータ1!L100+CSVデータ2!L100+CSVデータ3!L100+CSVデータ4!L100","v":412},null,{"$f":"CSVデータ1!N100+CSVデータ2!N100+CSVデータ3!N100+CSVデータ4!N100","v":136},null,{"$f":"CSVデータ1!P100+CSVデータ2!P100+CSVデータ3!P100+CSVデータ4!P100","v":578},null,{"$f":"CSVデータ1!R100+CSVデータ2!R100+CSVデータ3!R100+CSVデータ4!R100","v":1136},null,{"$f":"CSVデータ1!T100+CSVデータ2!T100+CSVデータ3!T100+CSVデータ4!T100","v":333},null,{"$f":"CSVデータ1!V100+CSVデータ2!V100+CSVデータ3!V100+CSVデータ4!V100","v":1042},null,{"$f":"CSVデータ1!X100+CSVデータ2!X100+CSVデータ3!X100+CSVデータ4!X100","v":544},null,{"$f":"CSVデータ1!Z100+CSVデータ2!Z100+CSVデータ3!Z100+CSVデータ4!Z100","v":936},null,{"$f":"CSVデータ1!AB100+CSVデータ2!AB100+CSVデータ3!AB100+CSVデータ4!AB100","v":29},null,{"$f":"CSVデータ1!AD100+CSVデータ2!AD100+CSVデータ3!AD100+CSVデータ4!AD100","v":1139},null,{"$f":"CSVデータ1!AF100+CSVデータ2!AF100+CSVデータ3!AF100+CSVデータ4!AF100","v":227}]
[{"$f":"CSVデータ1!A101","v":"明細部"},{"$f":"CSVデータ1!B101","v":"県"},{"$f":"CSVデータ1!C101","v":67},{"$f":"CSVデータ1!D101","v":"男"},{"$f":"CSVデータ1!E101+CSVデータ2!E101+CSVデータ3!E101+CSVデータ4!E101","v":2367},{"$f":"CSVデータ1!F101+CSVデータ2!F101+CSVデータ3!F101+CSVデータ4!F101","v":730},null,{"$f":"CSVデータ1!H101+CSVデータ2!H101+CSVデータ3!H101+CSVデータ4!H101","v":1292},null,{"$f":"CSVデータ1!J101+CSVデータ2!J101+CSVデータ3!J101+CSVデータ4!J101","v":604},null,{"$f":"CSVデータ1!L101+CSVデータ2!L101+CSVデータ3!L101+CSVデータ4!L101","v":466},null,{"$f":"CSVデータ1!N101+CSVデータ2!N101+CSVデータ3!N101+CSVデータ4!N101","v":169},null,{"$f":"CSVデータ1!P101+CSVデータ2!P101+CSVデータ3!P101+CSVデータ4!P101","v":742},null,{"$f":"CSVデータ1!R101+CSVデータ2!R101+CSVデータ3!R101+CSVデータ4!R101","v":1379},null,{"$f":"CSVデータ1!T101+CSVデータ2!T101+CSVデータ3!T101+CSVデータ4!T101","v":370},null,{"$f":"CSVデータ1!V101+CSVデータ2!V101+CSVデータ3!V101+CSVデータ4!V101","v":1198},null,{"$f":"CSVデータ1!X101+CSVデータ2!X101+CSVデータ3!X101+CSVデータ4!X101","v":564},null,{"$f":"CSVデータ1!Z101+CSVデータ2!Z101+CSVデータ3!Z101+CSVデータ4!Z101","v":1161},null,{"$f":"CSVデータ1!AB101+CSVデータ2!AB101+CSVデータ3!AB101+CSVデータ4!AB101","v":50},null,{"$f":"CSVデータ1!AD101+CSVデータ2!AD101+CSVデータ3!AD101+CSVデータ4!AD101","v":1402},null,{"$f":"CSVデータ1!AF101+CSVデータ2!AF101+CSVデータ3!AF101+CSVデータ4!AF101","v":256}]
[{"$f":"CSVデータ1!A102","v":"明細部"},{"$f":"CSVデータ1!B102","v":"県"},{"$f":"CSVデータ1!C102","v":68},{"$f":"CSVデータ1!D102","v":"男"},{"$f":"CSVデータ1!E102+CSVデータ2!E102+CSVデータ3!E102+CSVデータ4!E102","v":2980},{"$f":"CSVデータ1!F102+CSVデータ2!F102+CSVデータ3!F102+CSVデータ4!F102","v":888},null,{"$f":"CSVデータ1!H102+CSVデータ2!H102+CSVデータ3!H102+CSVデータ4!H102","v":1637},null,{"$f":"CSVデータ1!J102+CSVデータ2!J102+CSVデータ3!J102+CSVデータ4!J102","v":818},null,{"$f":"CSVデータ1!L102+CSVデータ2!L102+CSVデータ3!L102+CSVデータ4!L102","v":572},null,{"$f":"CSVデータ1!N102+CSVデータ2!N102+CSVデータ3!N102+CSVデータ4!N102","v":220},null,{"$f":"CSVデータ1!P102+CSVデータ2!P102+CSVデータ3!P102+CSVデータ4!P102","v":1031},null,{"$f":"CSVデータ1!R102+CSVデータ2!R102+CSVデータ3!R102+CSVデータ4!R102","v":1842},null,{"$f":"CSVデータ1!T102+CSVデータ2!T102+CSVデータ3!T102+CSVデータ4!T102","v":453},null,{"$f":"CSVデータ1!V102+CSVデータ2!V102+CSVデータ3!V102+CSVデータ4!V102","v":1632},null,{"$f":"CSVデータ1!X102+CSVデータ2!X102+CSVデータ3!X102+CSVデータ4!X102","v":706},null,{"$f":"CSVデータ1!Z102+CSVデータ2!Z102+CSVデータ3!Z102+CSVデータ4!Z102","v":1547},null,{"$f":"CSVデータ1!AB102+CSVデータ2!AB102+CSVデータ3!AB102+CSVデータ4!AB102","v":70},null,{"$f":"CSVデータ1!AD102+CSVデータ2!AD102+CSVデータ3!AD102+CSVデータ4!AD102","v":1820},null,{"$f":"CSVデータ1!AF102+CSVデータ2!AF102+CSVデータ3!AF102+CSVデータ4!AF102","v":301}]
[{"$f":"CSVデータ1!A103","v":"明細部"},{"$f":"CSVデータ1!B103","v":"県"},{"$f":"CSVデータ1!C103","v":69},{"$f":"CSVデータ1!D103","v":"男"},{"$f":"CSVデータ1!E103+CSVデータ2!E103+CSVデータ3!E103+CSVデータ4!E103","v":3649},{"$f":"CSVデータ1!F103+CSVデータ2!F103+CSVデータ3!F103+CSVデータ4!F103","v":1038},null,{"$f":"CSVデータ1!H103+CSVデータ2!H103+CSVデータ3!H103+CSVデータ4!H103","v":2007},null,{"$f":"CSVデータ1!J103+CSVデータ2!J103+CSVデータ3!J103+CSVデータ4!J103","v":888},null,{"$f":"CSVデータ1!L103+CSVデータ2!L103+CSVデータ3!L103+CSVデータ4!L103","v":602},null,{"$f":"CSVデータ1!N103+CSVデータ2!N103+CSVデータ3!N103+CSVデータ4!N103","v":210},null,{"$f":"CSVデータ1!P103+CSVデータ2!P103+CSVデータ3!P103+CSVデータ4!P103","v":1103},null,{"$f":"CSVデータ1!R103+CSVデータ2!R103+CSVデータ3!R103+CSVデータ4!R103","v":2157},null,{"$f":"CSVデータ1!T103+CSVデータ2!T103+CSVデータ3!T103+CSVデータ4!T103","v":585},null,{"$f":"CSVデータ1!V103+CSVデータ2!V103+CSVデータ3!V103+CSVデータ4!V103","v":1877},null,{"$f":"CSVデータ1!X103+CSVデータ2!X103+CSVデータ3!X103+CSVデータ4!X103","v":820},null,{"$f":"CSVデータ1!Z103+CSVデータ2!Z103+CSVデータ3!Z103+CSVデータ4!Z103","v":1786},null,{"$f":"CSVデータ1!AB103+CSVデータ2!AB103+CSVデータ3!AB103+CSVデータ4!AB103","v":72},null,{"$f":"CSVデータ1!AD103+CSVデータ2!AD103+CSVデータ3!AD103+CSVデータ4!AD103","v":2037},null,{"$f":"CSVデータ1!AF103+CSVデータ2!AF103+CSVデータ3!AF103+CSVデータ4!AF103","v":296}]
[{"$f":"CSVデータ1!A104","v":"明細部"},{"$f":"CSVデータ1!B104","v":"県"},{"$f":"CSVデータ1!C104","v":70},{"$f":"CSVデータ1!D104","v":"男"},{"$f":"CSVデータ1!E104+CSVデータ2!E104+CSVデータ3!E104+CSVデータ4!E104","v":4057},{"$f":"CSVデータ1!F104+CSVデータ2!F104+CSVデータ3!F104+CSVデータ4!F104","v":1173},null,{"$f":"CSVデータ1!H104+CSVデータ2!H104+CSVデータ3!H104+CSVデータ4!H104","v":2191},null,{"$f":"CSVデータ1!J104+CSVデータ2!J104+CSVデータ3!J104+CSVデータ4!J104","v":1040},null,{"$f":"CSVデータ1!L104+CSVデータ2!L104+CSVデータ3!L104+CSVデータ4!L104","v":685},null,{"$f":"CSVデータ1!N104+CSVデータ2!N104+CSVデータ3!N104+CSVデータ4!N104","v":283},null,{"$f":"CSVデータ1!P104+CSVデータ2!P104+CSVデータ3!P104+CSVデータ4!P104","v":1418},null,{"$f":"CSVデータ1!R104+CSVデータ2!R104+CSVデータ3!R104+CSVデータ4!R104","v":2518},null,{"$f":"CSVデータ1!T104+CSVデータ2!T104+CSVデータ3!T104+CSVデータ4!T104","v":602},null,{"$f":"CSVデータ1!V104+CSVデータ2!V104+CSVデータ3!V104+CSVデータ4!V104","v":2289},null,{"$f":"CSVデータ1!X104+CSVデータ2!X104+CSVデータ3!X104+CSVデータ4!X104","v":855},null,{"$f":"CSVデータ1!Z104+CSVデータ2!Z104+CSVデータ3!Z104+CSVデータ4!Z104","v":2080},null,{"$f":"CSVデータ1!AB104+CSVデータ2!AB104+CSVデータ3!AB104+CSVデータ4!AB104","v":99},null,{"$f":"CSVデータ1!AD104+CSVデータ2!AD104+CSVデータ3!AD104+CSVデータ4!AD104","v":2578},null,{"$f":"CSVデータ1!AF104+CSVデータ2!AF104+CSVデータ3!AF104+CSVデータ4!AF104","v":380}]
[{"$f":"CSVデータ1!A105","v":"明細部"},{"$f":"CSVデータ1!B105","v":"県"},{"$f":"CSVデータ1!C105","v":71},{"$f":"CSVデータ1!D105","v":"男"},{"$f":"CSVデータ1!E105+CSVデータ2!E105+CSVデータ3!E105+CSVデータ4!E105","v":4211},{"$f":"CSVデータ1!F105+CSVデータ2!F105+CSVデータ3!F105+CSVデータ4!F105","v":1140},null,{"$f":"CSVデータ1!H105+CSVデータ2!H105+CSVデータ3!H105+CSVデータ4!H105","v":2224},null,{"$f":"CSVデータ1!J105+CSVデータ2!J105+CSVデータ3!J105+CSVデータ4!J105","v":1092},null,{"$f":"CSVデータ1!L105+CSVデータ2!L105+CSVデータ3!L105+CSVデータ4!L105","v":694},null,{"$f":"CSVデータ1!N105+CSVデータ2!N105+CSVデータ3!N105+CSVデータ4!N105","v":265},null,{"$f":"CSVデータ1!P105+CSVデータ2!P105+CSVデータ3!P105+CSVデータ4!P105","v":1366},null,{"$f":"CSVデータ1!R105+CSVデータ2!R105+CSVデータ3!R105+CSVデータ4!R105","v":2623},null,{"$f":"CSVデータ1!T105+CSVデータ2!T105+CSVデータ3!T105+CSVデータ4!T105","v":631},null,{"$f":"CSVデータ1!V105+CSVデータ2!V105+CSVデータ3!V105+CSVデータ4!V105","v":2267},null,{"$f":"CSVデータ1!X105+CSVデータ2!X105+CSVデータ3!X105+CSVデータ4!X105","v":885},null,{"$f":"CSVデータ1!Z105+CSVデータ2!Z105+CSVデータ3!Z105+CSVデータ4!Z105","v":1939},null,{"$f":"CSVデータ1!AB105+CSVデータ2!AB105+CSVデータ3!AB105+CSVデータ4!AB105","v":106},null,{"$f":"CSVデータ1!AD105+CSVデータ2!AD105+CSVデータ3!AD105+CSVデータ4!AD105","v":2484},null,{"$f":"CSVデータ1!AF105+CSVデータ2!AF105+CSVデータ3!AF105+CSVデータ4!AF105","v":395}]
[{"$f":"CSVデータ1!A106","v":"明細部"},{"$f":"CSVデータ1!B106","v":"県"},{"$f":"CSVデータ1!C106","v":72},{"$f":"CSVデータ1!D106","v":"男"},{"$f":"CSVデータ1!E106+CSVデータ2!E106+CSVデータ3!E106+CSVデータ4!E106","v":3223},{"$f":"CSVデータ1!F106+CSVデータ2!F106+CSVデータ3!F106+CSVデータ4!F106","v":857},null,{"$f":"CSVデータ1!H106+CSVデータ2!H106+CSVデータ3!H106+CSVデータ4!H106","v":1704},null,{"$f":"CSVデータ1!J106+CSVデータ2!J106+CSVデータ3!J106+CSVデータ4!J106","v":772},null,{"$f":"CSVデータ1!L106+CSVデータ2!L106+CSVデータ3!L106+CSVデータ4!L106","v":514},null,{"$f":"CSVデータ1!N106+CSVデータ2!N106+CSVデータ3!N106+CSVデータ4!N106","v":216},null,{"$f":"CSVデータ1!P106+CSVデータ2!P106+CSVデータ3!P106+CSVデータ4!P106","v":1081},null,{"$f":"CSVデータ1!R106+CSVデータ2!R106+CSVデータ3!R106+CSVデータ4!R106","v":2079},null,{"$f":"CSVデータ1!T106+CSVデータ2!T106+CSVデータ3!T106+CSVデータ4!T106","v":496},null,{"$f":"CSVデータ1!V106+CSVデータ2!V106+CSVデータ3!V106+CSVデータ4!V106","v":1749},null,{"$f":"CSVデータ1!X106+CSVデータ2!X106+CSVデータ3!X106+CSVデータ4!X106","v":598},null,{"$f":"CSVデータ1!Z106+CSVデータ2!Z106+CSVデータ3!Z106+CSVデータ4!Z106","v":1447},null,{"$f":"CSVデータ1!AB106+CSVデータ2!AB106+CSVデータ3!AB106+CSVデータ4!AB106","v":90},null,{"$f":"CSVデータ1!AD106+CSVデータ2!AD106+CSVデータ3!AD106+CSVデータ4!AD106","v":1972},null,{"$f":"CSVデータ1!AF106+CSVデータ2!AF106+CSVデータ3!AF106+CSVデータ4!AF106","v":281}]
[{"$f":"CSVデータ1!A107","v":"明細部"},{"$f":"CSVデータ1!B107","v":"県"},{"$f":"CSVデータ1!C107","v":73},{"$f":"CSVデータ1!D107","v":"男"},{"$f":"CSVデータ1!E107+CSVデータ2!E107+CSVデータ3!E107+CSVデータ4!E107","v":2336},{"$f":"CSVデータ1!F107+CSVデータ2!F107+CSVデータ3!F107+CSVデータ4!F107","v":565},null,{"$f":"CSVデータ1!H107+CSVデータ2!H107+CSVデータ3!H107+CSVデータ4!H107","v":1133},null,{"$f":"CSVデータ1!J107+CSVデータ2!J107+CSVデータ3!J107+CSVデータ4!J107","v":482},null,{"$f":"CSVデータ1!L107+CSVデータ2!L107+CSVデータ3!L107+CSVデータ4!L107","v":354},null,{"$f":"CSVデータ1!N107+CSVデータ2!N107+CSVデータ3!N107+CSVデータ4!N107","v":157},null,{"$f":"CSVデータ1!P107+CSVデータ2!P107+CSVデータ3!P107+CSVデータ4!P107","v":735},null,{"$f":"CSVデータ1!R107+CSVデータ2!R107+CSVデータ3!R107+CSVデータ4!R107","v":1438},null,{"$f":"CSVデータ1!T107+CSVデータ2!T107+CSVデータ3!T107+CSVデータ4!T107","v":336},null,{"$f":"CSVデータ1!V107+CSVデータ2!V107+CSVデータ3!V107+CSVデータ4!V107","v":1245},null,{"$f":"CSVデータ1!X107+CSVデータ2!X107+CSVデータ3!X107+CSVデータ4!X107","v":379},null,{"$f":"CSVデータ1!Z107+CSVデータ2!Z107+CSVデータ3!Z107+CSVデータ4!Z107","v":1012},null,{"$f":"CSVデータ1!AB107+CSVデータ2!AB107+CSVデータ3!AB107+CSVデータ4!AB107","v":64},null,{"$f":"CSVデータ1!AD107+CSVデータ2!AD107+CSVデータ3!AD107+CSVデータ4!AD107","v":1386},null,{"$f":"CSVデータ1!AF107+CSVデータ2!AF107+CSVデータ3!AF107+CSVデータ4!AF107","v":179}]
[{"$f":"CSVデータ1!A108","v":"明細部"},{"$f":"CSVデータ1!B108","v":"県"},{"$f":"CSVデータ1!C108","v":74},{"$f":"CSVデータ1!D108","v":"男"},{"$f":"CSVデータ1!E108+CSVデータ2!E108+CSVデータ3!E108+CSVデータ4!E108","v":3064},{"$f":"CSVデータ1!F108+CSVデータ2!F108+CSVデータ3!F108+CSVデータ4!F108","v":727},null,{"$f":"CSVデータ1!H108+CSVデータ2!H108+CSVデータ3!H108+CSVデータ4!H108","v":1531},null,{"$f":"CSVデータ1!J108+CSVデータ2!J108+CSVデータ3!J108+CSVデータ4!J108","v":676},null,{"$f":"CSVデータ1!L108+CSVデータ2!L108+CSVデータ3!L108+CSVデータ4!L108","v":395},null,{"$f":"CSVデータ1!N108+CSVデータ2!N108+CSVデータ3!N108+CSVデータ4!N108","v":169},null,{"$f":"CSVデータ1!P108+CSVデータ2!P108+CSVデータ3!P108+CSVデータ4!P108","v":1029},null,{"$f":"CSVデータ1!R108+CSVデータ2!R108+CSVデータ3!R108+CSVデータ4!R108","v":1953},null,{"$f":"CSVデータ1!T108+CSVデータ2!T108+CSVデータ3!T108+CSVデータ4!T108","v":422},null,{"$f":"CSVデータ1!V108+CSVデータ2!V108+CSVデータ3!V108+CSVデータ4!V108","v":1660},null,{"$f":"CSVデータ1!X108+CSVデータ2!X108+CSVデータ3!X108+CSVデータ4!X108","v":499},null,{"$f":"CSVデータ1!Z108+CSVデータ2!Z108+CSVデータ3!Z108+CSVデータ4!Z108","v":1331},null,{"$f":"CSVデータ1!AB108+CSVデータ2!AB108+CSVデータ3!AB108+CSVデータ4!AB108","v":83},null,{"$f":"CSVデータ1!AD108+CSVデータ2!AD108+CSVデータ3!AD108+CSVデータ4!AD108","v":1855},null,{"$f":"CSVデータ1!AF108+CSVデータ2!AF108+CSVデータ3!AF108+CSVデータ4!AF108","v":210}]
[{"$f":"CSVデータ1!A109","v":"明細部"},{"$f":"CSVデータ1!B109","v":"県"},{"$f":"CSVデータ1!C109","v":40},{"$f":"CSVデータ1!D109","v":"女"},{"$f":"CSVデータ1!E109+CSVデータ2!E109+CSVデータ3!E109+CSVデータ4!E109","v":336},{"$f":"CSVデータ1!F109+CSVデータ2!F109+CSVデータ3!F109+CSVデータ4!F109","v":60},null,{"$f":"CSVデータ1!H109+CSVデータ2!H109+CSVデータ3!H109+CSVデータ4!H109","v":38},null,{"$f":"CSVデータ1!J109+CSVデータ2!J109+CSVデータ3!J109+CSVデータ4!J109","v":22},null,{"$f":"CSVデータ1!L109+CSVデータ2!L109+CSVデータ3!L109+CSVデータ4!L109","v":15},null,{"$f":"CSVデータ1!N109+CSVデータ2!N109+CSVデータ3!N109+CSVデータ4!N109","v":9},null,{"$f":"CSVデータ1!P109+CSVデータ2!P109+CSVデータ3!P109+CSVデータ4!P109","v":8},null,{"$f":"CSVデータ1!R109+CSVデータ2!R109+CSVデータ3!R109+CSVデータ4!R109","v":61},null,{"$f":"CSVデータ1!T109+CSVデータ2!T109+CSVデータ3!T109+CSVデータ4!T109","v":3},null,{"$f":"CSVデータ1!V109+CSVデータ2!V109+CSVデータ3!V109+CSVデータ4!V109","v":34},null,{"$f":"CSVデータ1!X109+CSVデータ2!X109+CSVデータ3!X109+CSVデータ4!X109","v":21},null,{"$f":"CSVデータ1!Z109+CSVデータ2!Z109+CSVデータ3!Z109+CSVデータ4!Z109","v":142},null,{"$f":"CSVデータ1!AB109+CSVデータ2!AB109+CSVデータ3!AB109+CSVデータ4!AB109","v":1},null,{"$f":"CSVデータ1!AD109+CSVデータ2!AD109+CSVデータ3!AD109+CSVデータ4!AD109","v":147},null,{"$f":"CSVデータ1!AF109+CSVデータ2!AF109+CSVデータ3!AF109+CSVデータ4!AF109","v":19}]
[{"$f":"CSVデータ1!A110","v":"明細部"},{"$f":"CSVデータ1!B110","v":"県"},{"$f":"CSVデータ1!C110","v":41},{"$f":"CSVデータ1!D110","v":"女"},{"$f":"CSVデータ1!E110+CSVデータ2!E110+CSVデータ3!E110+CSVデータ4!E110","v":308},{"$f":"CSVデータ1!F110+CSVデータ2!F110+CSVデータ3!F110+CSVデータ4!F110","v":50},null,{"$f":"CSVデータ1!H110+CSVデータ2!H110+CSVデータ3!H110+CSVデータ4!H110","v":27},null,{"$f":"CSVデータ1!J110+CSVデータ2!J110+CSVデータ3!J110+CSVデータ4!J110","v":26},null,{"$f":"CSVデータ1!L110+CSVデータ2!L110+CSVデータ3!L110+CSVデータ4!L110","v":7},null,{"$f":"CSVデータ1!N110+CSVデータ2!N110+CSVデータ3!N110+CSVデータ4!N110","v":3},null,{"$f":"CSVデータ1!P110+CSVデータ2!P110+CSVデータ3!P110+CSVデータ4!P110","v":8},null,{"$f":"CSVデータ1!R110+CSVデータ2!R110+CSVデータ3!R110+CSVデータ4!R110","v":42},null,{"$f":"CSVデータ1!T110+CSVデータ2!T110+CSVデータ3!T110+CSVデータ4!T110","v":4},null,{"$f":"CSVデータ1!V110+CSVデータ2!V110+CSVデータ3!V110+CSVデータ4!V110","v":29},null,{"$f":"CSVデータ1!X110+CSVデータ2!X110+CSVデータ3!X110+CSVデータ4!X110","v":13},null,{"$f":"CSVデータ1!Z110+CSVデータ2!Z110+CSVデータ3!Z110+CSVデータ4!Z110","v":85},null,{"$f":"CSVデータ1!AB110+CSVデータ2!AB110+CSVデータ3!AB110+CSVデータ4!AB110","v":0},null,{"$f":"CSVデータ1!AD110+CSVデータ2!AD110+CSVデータ3!AD110+CSVデータ4!AD110","v":132},null,{"$f":"CSVデータ1!AF110+CSVデータ2!AF110+CSVデータ3!AF110+CSVデータ4!AF110","v":22}]
[{"$f":"CSVデータ1!A111","v":"明細部"},{"$f":"CSVデータ1!B111","v":"県"},{"$f":"CSVデータ1!C111","v":42},{"$f":"CSVデータ1!D111","v":"女"},{"$f":"CSVデータ1!E111+CSVデータ2!E111+CSVデータ3!E111+CSVデータ4!E111","v":313},{"$f":"CSVデータ1!F111+CSVデータ2!F111+CSVデータ3!F111+CSVデータ4!F111","v":47},null,{"$f":"CSVデータ1!H111+CSVデータ2!H111+CSVデータ3!H111+CSVデータ4!H111","v":38},null,{"$f":"CSVデータ1!J111+CSVデータ2!J111+CSVデータ3!J111+CSVデータ4!J111","v":24},null,{"$f":"CSVデータ1!L111+CSVデータ2!L111+CSVデータ3!L111+CSVデータ4!L111","v":13},null,{"$f":"CSVデータ1!N111+CSVデータ2!N111+CSVデータ3!N111+CSVデータ4!N111","v":2},null,{"$f":"CSVデータ1!P111+CSVデータ2!P111+CSVデータ3!P111+CSVデータ4!P111","v":15},null,{"$f":"CSVデータ1!R111+CSVデータ2!R111+CSVデータ3!R111+CSVデータ4!R111","v":69},null,{"$f":"CSVデータ1!T111+CSVデータ2!T111+CSVデータ3!T111+CSVデータ4!T111","v":0},null,{"$f":"CSVデータ1!V111+CSVデータ2!V111+CSVデータ3!V111+CSVデータ4!V111","v":41},null,{"$f":"CSVデータ1!X111+CSVデータ2!X111+CSVデータ3!X111+CSVデータ4!X111","v":32},null,{"$f":"CSVデータ1!Z111+CSVデータ2!Z111+CSVデータ3!Z111+CSVデータ4!Z111","v":97},null,{"$f":"CSVデータ1!AB111+CSVデータ2!AB111+CSVデータ3!AB111+CSVデータ4!AB111","v":0},null,{"$f":"CSVデータ1!AD111+CSVデータ2!AD111+CSVデータ3!AD111+CSVデータ4!AD111","v":138},null,{"$f":"CSVデータ1!AF111+CSVデータ2!AF111+CSVデータ3!AF111+CSVデータ4!AF111","v":20}]
[{"$f":"CSVデータ1!A112","v":"明細部"},{"$f":"CSVデータ1!B112","v":"県"},{"$f":"CSVデータ1!C112","v":43},{"$f":"CSVデータ1!D112","v":"女"},{"$f":"CSVデータ1!E112+CSVデータ2!E112+CSVデータ3!E112+CSVデータ4!E112","v":345},{"$f":"CSVデータ1!F112+CSVデータ2!F112+CSVデータ3!F112+CSVデータ4!F112","v":56},null,{"$f":"CSVデータ1!H112+CSVデータ2!H112+CSVデータ3!H112+CSVデータ4!H112","v":30},null,{"$f":"CSVデータ1!J112+CSVデータ2!J112+CSVデータ3!J112+CSVデータ4!J112","v":19},null,{"$f":"CSVデータ1!L112+CSVデータ2!L112+CSVデータ3!L112+CSVデータ4!L112","v":16},null,{"$f":"CSVデータ1!N112+CSVデータ2!N112+CSVデータ3!N112+CSVデータ4!N112","v":5},null,{"$f":"CSVデータ1!P112+CSVデータ2!P112+CSVデータ3!P112+CSVデータ4!P112","v":20},null,{"$f":"CSVデータ1!R112+CSVデータ2!R112+CSVデータ3!R112+CSVデータ4!R112","v":67},null,{"$f":"CSVデータ1!T112+CSVデータ2!T112+CSVデータ3!T112+CSVデータ4!T112","v":2},null,{"$f":"CSVデータ1!V112+CSVデータ2!V112+CSVデータ3!V112+CSVデータ4!V112","v":33},null,{"$f":"CSVデータ1!X112+CSVデータ2!X112+CSVデータ3!X112+CSVデータ4!X112","v":26},null,{"$f":"CSVデータ1!Z112+CSVデータ2!Z112+CSVデータ3!Z112+CSVデータ4!Z112","v":123},null,{"$f":"CSVデータ1!AB112+CSVデータ2!AB112+CSVデータ3!AB112+CSVデータ4!AB112","v":0},null,{"$f":"CSVデータ1!AD112+CSVデータ2!AD112+CSVデータ3!AD112+CSVデータ4!AD112","v":148},null,{"$f":"CSVデータ1!AF112+CSVデータ2!AF112+CSVデータ3!AF112+CSVデータ4!AF112","v":18}]
[{"$f":"CSVデータ1!A113","v":"明細部"},{"$f":"CSVデータ1!B113","v":"県"},{"$f":"CSVデータ1!C113","v":44},{"$f":"CSVデータ1!D113","v":"女"},{"$f":"CSVデータ1!E113+CSVデータ2!E113+CSVデータ3!E113+CSVデータ4!E113","v":340},{"$f":"CSVデータ1!F113+CSVデータ2!F113+CSVデータ3!F113+CSVデータ4!F113","v":48},null,{"$f":"CSVデータ1!H113+CSVデータ2!H113+CSVデータ3!H113+CSVデータ4!H113","v":35},null,{"$f":"CSVデータ1!J113+CSVデータ2!J113+CSVデータ3!J113+CSVデータ4!J113","v":15},null,{"$f":"CSVデータ1!L113+CSVデータ2!L113+CSVデータ3!L113+CSVデータ4!L113","v":23},null,{"$f":"CSVデータ1!N113+CSVデータ2!N113+CSVデータ3!N113+CSVデータ4!N113","v":1},null,{"$f":"CSVデータ1!P113+CSVデータ2!P113+CSVデータ3!P113+CSVデータ4!P113","v":13},null,{"$f":"CSVデータ1!R113+CSVデータ2!R113+CSVデータ3!R113+CSVデータ4!R113","v":66},null,{"$f":"CSVデータ1!T113+CSVデータ2!T113+CSVデータ3!T113+CSVデータ4!T113","v":2},null,{"$f":"CSVデータ1!V113+CSVデータ2!V113+CSVデータ3!V113+CSVデータ4!V113","v":40},null,{"$f":"CSVデータ1!X113+CSVデータ2!X113+CSVデータ3!X113+CSVデータ4!X113","v":25},null,{"$f":"CSVデータ1!Z113+CSVデータ2!Z113+CSVデータ3!Z113+CSVデータ4!Z113","v":136},null,{"$f":"CSVデータ1!AB113+CSVデータ2!AB113+CSVデータ3!AB113+CSVデータ4!AB113","v":0},null,{"$f":"CSVデータ1!AD113+CSVデータ2!AD113+CSVデータ3!AD113+CSVデータ4!AD113","v":154},null,{"$f":"CSVデータ1!AF113+CSVデータ2!AF113+CSVデータ3!AF113+CSVデータ4!AF113","v":13}]
[{"$f":"CSVデータ1!A114","v":"明細部"},{"$f":"CSVデータ1!B114","v":"県"},{"$f":"CSVデータ1!C114","v":45},{"$f":"CSVデータ1!D114","v":"女"},{"$f":"CSVデータ1!E114+CSVデータ2!E114+CSVデータ3!E114+CSVデータ4!E114","v":423},{"$f":"CSVデータ1!F114+CSVデータ2!F114+CSVデータ3!F114+CSVデータ4!F114","v":54},null,{"$f":"CSVデータ1!H114+CSVデータ2!H114+CSVデータ3!H114+CSVデータ4!H114","v":41},null,{"$f":"CSVデータ1!J114+CSVデータ2!J114+CSVデータ3!J114+CSVデータ4!J114","v":28},null,{"$f":"CSVデータ1!L114+CSVデータ2!L114+CSVデータ3!L114+CSVデータ4!L114","v":25},null,{"$f":"CSVデータ1!N114+CSVデータ2!N114+CSVデータ3!N114+CSVデータ4!N114","v":6},null,{"$f":"CSVデータ1!P114+CSVデータ2!P114+CSVデータ3!P114+CSVデータ4!P114","v":20},null,{"$f":"CSVデータ1!R114+CSVデータ2!R114+CSVデータ3!R114+CSVデータ4!R114","v":81},null,{"$f":"CSVデータ1!T114+CSVデータ2!T114+CSVデータ3!T114+CSVデータ4!T114","v":5},null,{"$f":"CSVデータ1!V114+CSVデータ2!V114+CSVデータ3!V114+CSVデータ4!V114","v":61},null,{"$f":"CSVデータ1!X114+CSVデータ2!X114+CSVデータ3!X114+CSVデータ4!X114","v":33},null,{"$f":"CSVデータ1!Z114+CSVデータ2!Z114+CSVデータ3!Z114+CSVデータ4!Z114","v":193},null,{"$f":"CSVデータ1!AB114+CSVデータ2!AB114+CSVデータ3!AB114+CSVデータ4!AB114","v":1},null,{"$f":"CSVデータ1!AD114+CSVデータ2!AD114+CSVデータ3!AD114+CSVデータ4!AD114","v":196},null,{"$f":"CSVデータ1!AF114+CSVデータ2!AF114+CSVデータ3!AF114+CSVデータ4!AF114","v":23}]
[{"$f":"CSVデータ1!A115","v":"明細部"},{"$f":"CSVデータ1!B115","v":"県"},{"$f":"CSVデータ1!C115","v":46},{"$f":"CSVデータ1!D115","v":"女"},{"$f":"CSVデータ1!E115+CSVデータ2!E115+CSVデータ3!E115+CSVデータ4!E115","v":428},{"$f":"CSVデータ1!F115+CSVデータ2!F115+CSVデータ3!F115+CSVデータ4!F115","v":82},null,{"$f":"CSVデータ1!H115+CSVデータ2!H115+CSVデータ3!H115+CSVデータ4!H115","v":55},null,{"$f":"CSVデータ1!J115+CSVデータ2!J115+CSVデータ3!J115+CSVデータ4!J115","v":47},null,{"$f":"CSVデータ1!L115+CSVデータ2!L115+CSVデータ3!L115+CSVデータ4!L115","v":32},null,{"$f":"CSVデータ1!N115+CSVデータ2!N115+CSVデータ3!N115+CSVデータ4!N115","v":10},null,{"$f":"CSVデータ1!P115+CSVデータ2!P115+CSVデータ3!P115+CSVデータ4!P115","v":29},null,{"$f":"CSVデータ1!R115+CSVデータ2!R115+CSVデータ3!R115+CSVデータ4!R115","v":102},null,{"$f":"CSVデータ1!T115+CSVデータ2!T115+CSVデータ3!T115+CSVデータ4!T115","v":4},null,{"$f":"CSVデータ1!V115+CSVデータ2!V115+CSVデータ3!V115+CSVデータ4!V115","v":75},null,{"$f":"CSVデータ1!X115+CSVデータ2!X115+CSVデータ3!X115+CSVデータ4!X115","v":55},null,{"$f":"CSVデータ1!Z115+CSVデータ2!Z115+CSVデータ3!Z115+CSVデータ4!Z115","v":189},null,{"$f":"CSVデータ1!AB115+CSVデータ2!AB115+CSVデータ3!AB115+CSVデータ4!AB115","v":0},null,{"$f":"CSVデータ1!AD115+CSVデータ2!AD115+CSVデータ3!AD115+CSVデータ4!AD115","v":208},null,{"$f":"CSVデータ1!AF115+CSVデータ2!AF115+CSVデータ3!AF115+CSVデータ4!AF115","v":27}]
[{"$f":"CSVデータ1!A116","v":"明細部"},{"$f":"CSVデータ1!B116","v":"県"},{"$f":"CSVデータ1!C116","v":47},{"$f":"CSVデータ1!D116","v":"女"},{"$f":"CSVデータ1!E116+CSVデータ2!E116+CSVデータ3!E116+CSVデータ4!E116","v":408},{"$f":"CSVデータ1!F116+CSVデータ2!F116+CSVデータ3!F116+CSVデータ4!F116","v":65},null,{"$f":"CSVデータ1!H116+CSVデータ2!H116+CSVデータ3!H116+CSVデータ4!H116","v":44},null,{"$f":"CSVデータ1!J116+CSVデータ2!J116+CSVデータ3!J116+CSVデータ4!J116","v":41},null,{"$f":"CSVデータ1!L116+CSVデータ2!L116+CSVデータ3!L116+CSVデータ4!L116","v":42},null,{"$f":"CSVデータ1!N116+CSVデータ2!N116+CSVデータ3!N116+CSVデータ4!N116","v":2},null,{"$f":"CSVデータ1!P116+CSVデータ2!P116+CSVデータ3!P116+CSVデータ4!P116","v":24},null,{"$f":"CSVデータ1!R116+CSVデータ2!R116+CSVデータ3!R116+CSVデータ4!R116","v":106},null,{"$f":"CSVデータ1!T116+CSVデータ2!T116+CSVデータ3!T116+CSVデータ4!T116","v":1},null,{"$f":"CSVデータ1!V116+CSVデータ2!V116+CSVデータ3!V116+CSVデータ4!V116","v":66},null,{"$f":"CSVデータ1!X116+CSVデータ2!X116+CSVデータ3!X116+CSVデータ4!X116","v":47},null,{"$f":"CSVデータ1!Z116+CSVデータ2!Z116+CSVデータ3!Z116+CSVデータ4!Z116","v":181},null,{"$f":"CSVデータ1!AB116+CSVデータ2!AB116+CSVデータ3!AB116+CSVデータ4!AB116","v":0},null,{"$f":"CSVデータ1!AD116+CSVデータ2!AD116+CSVデータ3!AD116+CSVデータ4!AD116","v":210},null,{"$f":"CSVデータ1!AF116+CSVデータ2!AF116+CSVデータ3!AF116+CSVデータ4!AF116","v":30}]
[{"$f":"CSVデータ1!A117","v":"明細部"},{"$f":"CSVデータ1!B117","v":"県"},{"$f":"CSVデータ1!C117","v":48},{"$f":"CSVデータ1!D117","v":"女"},{"$f":"CSVデータ1!E117+CSVデータ2!E117+CSVデータ3!E117+CSVデータ4!E117","v":418},{"$f":"CSVデータ1!F117+CSVデータ2!F117+CSVデータ3!F117+CSVデータ4!F117","v":72},null,{"$f":"CSVデータ1!H117+CSVデータ2!H117+CSVデータ3!H117+CSVデータ4!H117","v":49},null,{"$f":"CSVデータ1!J117+CSVデータ2!J117+CSVデータ3!J117+CSVデータ4!J117","v":25},null,{"$f":"CSVデータ1!L117+CSVデータ2!L117+CSVデータ3!L117+CSVデータ4!L117","v":25},null,{"$f":"CSVデータ1!N117+CSVデータ2!N117+CSVデータ3!N117+CSVデータ4!N117","v":1},null,{"$f":"CSVデータ1!P117+CSVデータ2!P117+CSVデータ3!P117+CSVデータ4!P117","v":25},null,{"$f":"CSVデータ1!R117+CSVデータ2!R117+CSVデータ3!R117+CSVデータ4!R117","v":100},null,{"$f":"CSVデータ1!T117+CSVデータ2!T117+CSVデータ3!T117+CSVデータ4!T117","v":1},null,{"$f":"CSVデータ1!V117+CSVデータ2!V117+CSVデータ3!V117+CSVデータ4!V117","v":63},null,{"$f":"CSVデータ1!X117+CSVデータ2!X117+CSVデータ3!X117+CSVデータ4!X117","v":31},null,{"$f":"CSVデータ1!Z117+CSVデータ2!Z117+CSVデータ3!Z117+CSVデータ4!Z117","v":195},null,{"$f":"CSVデータ1!AB117+CSVデータ2!AB117+CSVデータ3!AB117+CSVデータ4!AB117","v":0},null,{"$f":"CSVデータ1!AD117+CSVデータ2!AD117+CSVデータ3!AD117+CSVデータ4!AD117","v":206},null,{"$f":"CSVデータ1!AF117+CSVデータ2!AF117+CSVデータ3!AF117+CSVデータ4!AF117","v":25}]
[{"$f":"CSVデータ1!A118","v":"明細部"},{"$f":"CSVデータ1!B118","v":"県"},{"$f":"CSVデータ1!C118","v":49},{"$f":"CSVデータ1!D118","v":"女"},{"$f":"CSVデータ1!E118+CSVデータ2!E118+CSVデータ3!E118+CSVデータ4!E118","v":368},{"$f":"CSVデータ1!F118+CSVデータ2!F118+CSVデータ3!F118+CSVデータ4!F118","v":67},null,{"$f":"CSVデータ1!H118+CSVデータ2!H118+CSVデータ3!H118+CSVデータ4!H118","v":46},null,{"$f":"CSVデータ1!J118+CSVデータ2!J118+CSVデータ3!J118+CSVデータ4!J118","v":24},null,{"$f":"CSVデータ1!L118+CSVデータ2!L118+CSVデータ3!L118+CSVデータ4!L118","v":20},null,{"$f":"CSVデータ1!N118+CSVデータ2!N118+CSVデータ3!N118+CSVデータ4!N118","v":4},null,{"$f":"CSVデータ1!P118+CSVデータ2!P118+CSVデータ3!P118+CSVデータ4!P118","v":20},null,{"$f":"CSVデータ1!R118+CSVデータ2!R118+CSVデータ3!R118+CSVデータ4!R118","v":102},null,{"$f":"CSVデータ1!T118+CSVデータ2!T118+CSVデータ3!T118+CSVデータ4!T118","v":2},null,{"$f":"CSVデータ1!V118+CSVデータ2!V118+CSVデータ3!V118+CSVデータ4!V118","v":74},null,{"$f":"CSVデータ1!X118+CSVデータ2!X118+CSVデータ3!X118+CSVデータ4!X118","v":43},null,{"$f":"CSVデータ1!Z118+CSVデータ2!Z118+CSVデータ3!Z118+CSVデータ4!Z118","v":198},null,{"$f":"CSVデータ1!AB118+CSVデータ2!AB118+CSVデータ3!AB118+CSVデータ4!AB118","v":1},null,{"$f":"CSVデータ1!AD118+CSVデータ2!AD118+CSVデータ3!AD118+CSVデータ4!AD118","v":185},null,{"$f":"CSVデータ1!AF118+CSVデータ2!AF118+CSVデータ3!AF118+CSVデータ4!AF118","v":23}]
[{"$f":"CSVデータ1!A119","v":"明細部"},{"$f":"CSVデータ1!B119","v":"県"},{"$f":"CSVデータ1!C119","v":50},{"$f":"CSVデータ1!D119","v":"女"},{"$f":"CSVデータ1!E119+CSVデータ2!E119+CSVデータ3!E119+CSVデータ4!E119","v":474},{"$f":"CSVデータ1!F119+CSVデータ2!F119+CSVデータ3!F119+CSVデータ4!F119","v":69},null,{"$f":"CSVデータ1!H119+CSVデータ2!H119+CSVデータ3!H119+CSVデータ4!H119","v":61},null,{"$f":"CSVデータ1!J119+CSVデータ2!J119+CSVデータ3!J119+CSVデータ4!J119","v":40},null,{"$f":"CSVデータ1!L119+CSVデータ2!L119+CSVデータ3!L119+CSVデータ4!L119","v":37},null,{"$f":"CSVデータ1!N119+CSVデータ2!N119+CSVデータ3!N119+CSVデータ4!N119","v":8},null,{"$f":"CSVデータ1!P119+CSVデータ2!P119+CSVデータ3!P119+CSVデータ4!P119","v":37},null,{"$f":"CSVデータ1!R119+CSVデータ2!R119+CSVデータ3!R119+CSVデータ4!R119","v":120},null,{"$f":"CSVデータ1!T119+CSVデータ2!T119+CSVデータ3!T119+CSVデータ4!T119","v":7},null,{"$f":"CSVデータ1!V119+CSVデータ2!V119+CSVデータ3!V119+CSVデータ4!V119","v":93},null,{"$f":"CSVデータ1!X119+CSVデータ2!X119+CSVデータ3!X119+CSVデータ4!X119","v":55},null,{"$f":"CSVデータ1!Z119+CSVデータ2!Z119+CSVデータ3!Z119+CSVデータ4!Z119","v":249},null,{"$f":"CSVデータ1!AB119+CSVデータ2!AB119+CSVデータ3!AB119+CSVデータ4!AB119","v":2},null,{"$f":"CSVデータ1!AD119+CSVデータ2!AD119+CSVデータ3!AD119+CSVデータ4!AD119","v":246},null,{"$f":"CSVデータ1!AF119+CSVデータ2!AF119+CSVデータ3!AF119+CSVデータ4!AF119","v":32}]
[{"$f":"CSVデータ1!A120","v":"明細部"},{"$f":"CSVデータ1!B120","v":"県"},{"$f":"CSVデータ1!C120","v":51},{"$f":"CSVデータ1!D120","v":"女"},{"$f":"CSVデータ1!E120+CSVデータ2!E120+CSVデータ3!E120+CSVデータ4!E120","v":451},{"$f":"CSVデータ1!F120+CSVデータ2!F120+CSVデータ3!F120+CSVデータ4!F120","v":71},null,{"$f":"CSVデータ1!H120+CSVデータ2!H120+CSVデータ3!H120+CSVデータ4!H120","v":45},null,{"$f":"CSVデータ1!J120+CSVデータ2!J120+CSVデータ3!J120+CSVデータ4!J120","v":42},null,{"$f":"CSVデータ1!L120+CSVデータ2!L120+CSVデータ3!L120+CSVデータ4!L120","v":39},null,{"$f":"CSVデータ1!N120+CSVデータ2!N120+CSVデータ3!N120+CSVデータ4!N120","v":4},null,{"$f":"CSVデータ1!P120+CSVデータ2!P120+CSVデータ3!P120+CSVデータ4!P120","v":41},null,{"$f":"CSVデータ1!R120+CSVデータ2!R120+CSVデータ3!R120+CSVデータ4!R120","v":134},null,{"$f":"CSVデータ1!T120+CSVデータ2!T120+CSVデータ3!T120+CSVデータ4!T120","v":3},null,{"$f":"CSVデータ1!V120+CSVデータ2!V120+CSVデータ3!V120+CSVデータ4!V120","v":99},null,{"$f":"CSVデータ1!X120+CSVデータ2!X120+CSVデータ3!X120+CSVデータ4!X120","v":50},null,{"$f":"CSVデータ1!Z120+CSVデータ2!Z120+CSVデータ3!Z120+CSVデータ4!Z120","v":241},null,{"$f":"CSVデータ1!AB120+CSVデータ2!AB120+CSVデータ3!AB120+CSVデータ4!AB120","v":1},null,{"$f":"CSVデータ1!AD120+CSVデータ2!AD120+CSVデータ3!AD120+CSVデータ4!AD120","v":230},null,{"$f":"CSVデータ1!AF120+CSVデータ2!AF120+CSVデータ3!AF120+CSVデータ4!AF120","v":23}]
[{"$f":"CSVデータ1!A121","v":"明細部"},{"$f":"CSVデータ1!B121","v":"県"},{"$f":"CSVデータ1!C121","v":52},{"$f":"CSVデータ1!D121","v":"女"},{"$f":"CSVデータ1!E121+CSVデータ2!E121+CSVデータ3!E121+CSVデータ4!E121","v":392},{"$f":"CSVデータ1!F121+CSVデータ2!F121+CSVデータ3!F121+CSVデータ4!F121","v":61},null,{"$f":"CSVデータ1!H121+CSVデータ2!H121+CSVデータ3!H121+CSVデータ4!H121","v":42},null,{"$f":"CSVデータ1!J121+CSVデータ2!J121+CSVデータ3!J121+CSVデータ4!J121","v":35},null,{"$f":"CSVデータ1!L121+CSVデータ2!L121+CSVデータ3!L121+CSVデータ4!L121","v":50},null,{"$f":"CSVデータ1!N121+CSVデータ2!N121+CSVデータ3!N121+CSVデータ4!N121","v":4},null,{"$f":"CSVデータ1!P121+CSVデータ2!P121+CSVデータ3!P121+CSVデータ4!P121","v":41},null,{"$f":"CSVデータ1!R121+CSVデータ2!R121+CSVデータ3!R121+CSVデータ4!R121","v":111},null,{"$f":"CSVデータ1!T121+CSVデータ2!T121+CSVデータ3!T121+CSVデータ4!T121","v":8},null,{"$f":"CSVデータ1!V121+CSVデータ2!V121+CSVデータ3!V121+CSVデータ4!V121","v":92},null,{"$f":"CSVデータ1!X121+CSVデータ2!X121+CSVデータ3!X121+CSVデータ4!X121","v":51},null,{"$f":"CSVデータ1!Z121+CSVデータ2!Z121+CSVデータ3!Z121+CSVデータ4!Z121","v":237},null,{"$f":"CSVデータ1!AB121+CSVデータ2!AB121+CSVデータ3!AB121+CSVデータ4!AB121","v":0},null,{"$f":"CSVデータ1!AD121+CSVデータ2!AD121+CSVデータ3!AD121+CSVデータ4!AD121","v":193},null,{"$f":"CSVデータ1!AF121+CSVデータ2!AF121+CSVデータ3!AF121+CSVデータ4!AF121","v":20}]
[{"$f":"CSVデータ1!A122","v":"明細部"},{"$f":"CSVデータ1!B122","v":"県"},{"$f":"CSVデータ1!C122","v":53},{"$f":"CSVデータ1!D122","v":"女"},{"$f":"CSVデータ1!E122+CSVデータ2!E122+CSVデータ3!E122+CSVデータ4!E122","v":474},{"$f":"CSVデータ1!F122+CSVデータ2!F122+CSVデータ3!F122+CSVデータ4!F122","v":83},null,{"$f":"CSVデータ1!H122+CSVデータ2!H122+CSVデータ3!H122+CSVデータ4!H122","v":64},null,{"$f":"CSVデータ1!J122+CSVデータ2!J122+CSVデータ3!J122+CSVデータ4!J122","v":56},null,{"$f":"CSVデータ1!L122+CSVデータ2!L122+CSVデータ3!L122+CSVデータ4!L122","v":56},null,{"$f":"CSVデータ1!N122+CSVデータ2!N122+CSVデータ3!N122+CSVデータ4!N122","v":6},null,{"$f":"CSVデータ1!P122+CSVデータ2!P122+CSVデータ3!P122+CSVデータ4!P122","v":47},null,{"$f":"CSVデータ1!R122+CSVデータ2!R122+CSVデータ3!R122+CSVデータ4!R122","v":181},null,{"$f":"CSVデータ1!T122+CSVデータ2!T122+CSVデータ3!T122+CSVデータ4!T122","v":10},null,{"$f":"CSVデータ1!V122+CSVデータ2!V122+CSVデータ3!V122+CSVデータ4!V122","v":129},null,{"$f":"CSVデータ1!X122+CSVデータ2!X122+CSVデータ3!X122+CSVデータ4!X122","v":61},null,{"$f":"CSVデータ1!Z122+CSVデータ2!Z122+CSVデータ3!Z122+CSVデータ4!Z122","v":302},null,{"$f":"CSVデータ1!AB122+CSVデータ2!AB122+CSVデータ3!AB122+CSVデータ4!AB122","v":0},null,{"$f":"CSVデータ1!AD122+CSVデータ2!AD122+CSVデータ3!AD122+CSVデータ4!AD122","v":254},null,{"$f":"CSVデータ1!AF122+CSVデータ2!AF122+CSVデータ3!AF122+CSVデータ4!AF122","v":42}]
[{"$f":"CSVデータ1!A123","v":"明細部"},{"$f":"CSVデータ1!B123","v":"県"},{"$f":"CSVデータ1!C123","v":54},{"$f":"CSVデータ1!D123","v":"女"},{"$f":"CSVデータ1!E123+CSVデータ2!E123+CSVデータ3!E123+CSVデータ4!E123","v":508},{"$f":"CSVデータ1!F123+CSVデータ2!F123+CSVデータ3!F123+CSVデータ4!F123","v":78},null,{"$f":"CSVデータ1!H123+CSVデータ2!H123+CSVデータ3!H123+CSVデータ4!H123","v":70},null,{"$f":"CSVデータ1!J123+CSVデータ2!J123+CSVデータ3!J123+CSVデータ4!J123","v":75},null,{"$f":"CSVデータ1!L123+CSVデータ2!L123+CSVデータ3!L123+CSVデータ4!L123","v":53},null,{"$f":"CSVデータ1!N123+CSVデータ2!N123+CSVデータ3!N123+CSVデータ4!N123","v":3},null,{"$f":"CSVデータ1!P123+CSVデータ2!P123+CSVデータ3!P123+CSVデータ4!P123","v":41},null,{"$f":"CSVデータ1!R123+CSVデータ2!R123+CSVデータ3!R123+CSVデータ4!R123","v":181},null,{"$f":"CSVデータ1!T123+CSVデータ2!T123+CSVデータ3!T123+CSVデータ4!T123","v":8},null,{"$f":"CSVデータ1!V123+CSVデータ2!V123+CSVデータ3!V123+CSVデータ4!V123","v":129},null,{"$f":"CSVデータ1!X123+CSVデータ2!X123+CSVデータ3!X123+CSVデータ4!X123","v":68},null,{"$f":"CSVデータ1!Z123+CSVデータ2!Z123+CSVデータ3!Z123+CSVデータ4!Z123","v":313},null,{"$f":"CSVデータ1!AB123+CSVデータ2!AB123+CSVデータ3!AB123+CSVデータ4!AB123","v":0},null,{"$f":"CSVデータ1!AD123+CSVデータ2!AD123+CSVデータ3!AD123+CSVデータ4!AD123","v":258},null,{"$f":"CSVデータ1!AF123+CSVデータ2!AF123+CSVデータ3!AF123+CSVデータ4!AF123","v":26}]
[{"$f":"CSVデータ1!A124","v":"明細部"},{"$f":"CSVデータ1!B124","v":"県"},{"$f":"CSVデータ1!C124","v":55},{"$f":"CSVデータ1!D124","v":"女"},{"$f":"CSVデータ1!E124+CSVデータ2!E124+CSVデータ3!E124+CSVデータ4!E124","v":597},{"$f":"CSVデータ1!F124+CSVデータ2!F124+CSVデータ3!F124+CSVデータ4!F124","v":94},null,{"$f":"CSVデータ1!H124+CSVデータ2!H124+CSVデータ3!H124+CSVデータ4!H124","v":70},null,{"$f":"CSVデータ1!J124+CSVデータ2!J124+CSVデータ3!J124+CSVデータ4!J124","v":99},null,{"$f":"CSVデータ1!L124+CSVデータ2!L124+CSVデータ3!L124+CSVデータ4!L124","v":69},null,{"$f":"CSVデータ1!N124+CSVデータ2!N124+CSVデータ3!N124+CSVデータ4!N124","v":6},null,{"$f":"CSVデータ1!P124+CSVデータ2!P124+CSVデータ3!P124+CSVデータ4!P124","v":51},null,{"$f":"CSVデータ1!R124+CSVデータ2!R124+CSVデータ3!R124+CSVデータ4!R124","v":219},null,{"$f":"CSVデータ1!T124+CSVデータ2!T124+CSVデータ3!T124+CSVデータ4!T124","v":11},null,{"$f":"CSVデータ1!V124+CSVデータ2!V124+CSVデータ3!V124+CSVデータ4!V124","v":164},null,{"$f":"CSVデータ1!X124+CSVデータ2!X124+CSVデータ3!X124+CSVデータ4!X124","v":84},null,{"$f":"CSVデータ1!Z124+CSVデータ2!Z124+CSVデータ3!Z124+CSVデータ4!Z124","v":387},null,{"$f":"CSVデータ1!AB124+CSVデータ2!AB124+CSVデータ3!AB124+CSVデータ4!AB124","v":1},null,{"$f":"CSVデータ1!AD124+CSVデータ2!AD124+CSVデータ3!AD124+CSVデータ4!AD124","v":280},null,{"$f":"CSVデータ1!AF124+CSVデータ2!AF124+CSVデータ3!AF124+CSVデータ4!AF124","v":38}]
[{"$f":"CSVデータ1!A125","v":"明細部"},{"$f":"CSVデータ1!B125","v":"県"},{"$f":"CSVデータ1!C125","v":56},{"$f":"CSVデータ1!D125","v":"女"},{"$f":"CSVデータ1!E125+CSVデータ2!E125+CSVデータ3!E125+CSVデータ4!E125","v":582},{"$f":"CSVデータ1!F125+CSVデータ2!F125+CSVデータ3!F125+CSVデータ4!F125","v":92},null,{"$f":"CSVデータ1!H125+CSVデータ2!H125+CSVデータ3!H125+CSVデータ4!H125","v":68},null,{"$f":"CSVデータ1!J125+CSVデータ2!J125+CSVデータ3!J125+CSVデータ4!J125","v":86},null,{"$f":"CSVデータ1!L125+CSVデータ2!L125+CSVデータ3!L125+CSVデータ4!L125","v":68},null,{"$f":"CSVデータ1!N125+CSVデータ2!N125+CSVデータ3!N125+CSVデータ4!N125","v":1},null,{"$f":"CSVデータ1!P125+CSVデータ2!P125+CSVデータ3!P125+CSVデータ4!P125","v":55},null,{"$f":"CSVデータ1!R125+CSVデータ2!R125+CSVデータ3!R125+CSVデータ4!R125","v":221},null,{"$f":"CSVデータ1!T125+CSVデータ2!T125+CSVデータ3!T125+CSVデータ4!T125","v":5},null,{"$f":"CSVデータ1!V125+CSVデータ2!V125+CSVデータ3!V125+CSVデータ4!V125","v":174},null,{"$f":"CSVデータ1!X125+CSVデータ2!X125+CSVデータ3!X125+CSVデータ4!X125","v":69},null,{"$f":"CSVデータ1!Z125+CSVデータ2!Z125+CSVデータ3!Z125+CSVデータ4!Z125","v":360},null,{"$f":"CSVデータ1!AB125+CSVデータ2!AB125+CSVデータ3!AB125+CSVデータ4!AB125","v":0},null,{"$f":"CSVデータ1!AD125+CSVデータ2!AD125+CSVデータ3!AD125+CSVデータ4!AD125","v":307},null,{"$f":"CSVデータ1!AF125+CSVデータ2!AF125+CSVデータ3!AF125+CSVデータ4!AF125","v":30}]
[{"$f":"CSVデータ1!A126","v":"明細部"},{"$f":"CSVデータ1!B126","v":"県"},{"$f":"CSVデータ1!C126","v":57},{"$f":"CSVデータ1!D126","v":"女"},{"$f":"CSVデータ1!E126+CSVデータ2!E126+CSVデータ3!E126+CSVデータ4!E126","v":657},{"$f":"CSVデータ1!F126+CSVデータ2!F126+CSVデータ3!F126+CSVデータ4!F126","v":99},null,{"$f":"CSVデータ1!H126+CSVデータ2!H126+CSVデータ3!H126+CSVデータ4!H126","v":79},null,{"$f":"CSVデータ1!J126+CSVデータ2!J126+CSVデータ3!J126+CSVデータ4!J126","v":81},null,{"$f":"CSVデータ1!L126+CSVデータ2!L126+CSVデータ3!L126+CSVデータ4!L126","v":59},null,{"$f":"CSVデータ1!N126+CSVデータ2!N126+CSVデータ3!N126+CSVデータ4!N126","v":4},null,{"$f":"CSVデータ1!P126+CSVデータ2!P126+CSVデータ3!P126+CSVデータ4!P126","v":71},null,{"$f":"CSVデータ1!R126+CSVデータ2!R126+CSVデータ3!R126+CSVデータ4!R126","v":268},null,{"$f":"CSVデータ1!T126+CSVデータ2!T126+CSVデータ3!T126+CSVデータ4!T126","v":16},null,{"$f":"CSVデータ1!V126+CSVデータ2!V126+CSVデータ3!V126+CSVデータ4!V126","v":194},null,{"$f":"CSVデータ1!X126+CSVデータ2!X126+CSVデータ3!X126+CSVデータ4!X126","v":93},null,{"$f":"CSVデータ1!Z126+CSVデータ2!Z126+CSVデータ3!Z126+CSVデータ4!Z126","v":403},null,{"$f":"CSVデータ1!AB126+CSVデータ2!AB126+CSVデータ3!AB126+CSVデータ4!AB126","v":2},null,{"$f":"CSVデータ1!AD126+CSVデータ2!AD126+CSVデータ3!AD126+CSVデータ4!AD126","v":332},null,{"$f":"CSVデータ1!AF126+CSVデータ2!AF126+CSVデータ3!AF126+CSVデータ4!AF126","v":49}]
[{"$f":"CSVデータ1!A127","v":"明細部"},{"$f":"CSVデータ1!B127","v":"県"},{"$f":"CSVデータ1!C127","v":58},{"$f":"CSVデータ1!D127","v":"女"},{"$f":"CSVデータ1!E127+CSVデータ2!E127+CSVデータ3!E127+CSVデータ4!E127","v":690},{"$f":"CSVデータ1!F127+CSVデータ2!F127+CSVデータ3!F127+CSVデータ4!F127","v":116},null,{"$f":"CSVデータ1!H127+CSVデータ2!H127+CSVデータ3!H127+CSVデータ4!H127","v":93},null,{"$f":"CSVデータ1!J127+CSVデータ2!J127+CSVデータ3!J127+CSVデータ4!J127","v":92},null,{"$f":"CSVデータ1!L127+CSVデータ2!L127+CSVデータ3!L127+CSVデータ4!L127","v":68},null,{"$f":"CSVデータ1!N127+CSVデータ2!N127+CSVデータ3!N127+CSVデータ4!N127","v":9},null,{"$f":"CSVデータ1!P127+CSVデータ2!P127+CSVデータ3!P127+CSVデータ4!P127","v":69},null,{"$f":"CSVデータ1!R127+CSVデータ2!R127+CSVデータ3!R127+CSVデータ4!R127","v":303},null,{"$f":"CSVデータ1!T127+CSVデータ2!T127+CSVデータ3!T127+CSVデータ4!T127","v":13},null,{"$f":"CSVデータ1!V127+CSVデータ2!V127+CSVデータ3!V127+CSVデータ4!V127","v":206},null,{"$f":"CSVデータ1!X127+CSVデータ2!X127+CSVデータ3!X127+CSVデータ4!X127","v":117},null,{"$f":"CSVデータ1!Z127+CSVデータ2!Z127+CSVデータ3!Z127+CSVデータ4!Z127","v":447},null,{"$f":"CSVデータ1!AB127+CSVデータ2!AB127+CSVデータ3!AB127+CSVデータ4!AB127","v":1},null,{"$f":"CSVデータ1!AD127+CSVデータ2!AD127+CSVデータ3!AD127+CSVデータ4!AD127","v":376},null,{"$f":"CSVデータ1!AF127+CSVデータ2!AF127+CSVデータ3!AF127+CSVデータ4!AF127","v":46}]
[{"$f":"CSVデータ1!A128","v":"明細部"},{"$f":"CSVデータ1!B128","v":"県"},{"$f":"CSVデータ1!C128","v":59},{"$f":"CSVデータ1!D128","v":"女"},{"$f":"CSVデータ1!E128+CSVデータ2!E128+CSVデータ3!E128+CSVデータ4!E128","v":855},{"$f":"CSVデータ1!F128+CSVデータ2!F128+CSVデータ3!F128+CSVデータ4!F128","v":149},null,{"$f":"CSVデータ1!H128+CSVデータ2!H128+CSVデータ3!H128+CSVデータ4!H128","v":144},null,{"$f":"CSVデータ1!J128+CSVデータ2!J128+CSVデータ3!J128+CSVデータ4!J128","v":107},null,{"$f":"CSVデータ1!L128+CSVデータ2!L128+CSVデータ3!L128+CSVデータ4!L128","v":89},null,{"$f":"CSVデータ1!N128+CSVデータ2!N128+CSVデータ3!N128+CSVデータ4!N128","v":1},null,{"$f":"CSVデータ1!P128+CSVデータ2!P128+CSVデータ3!P128+CSVデータ4!P128","v":118},null,{"$f":"CSVデータ1!R128+CSVデータ2!R128+CSVデータ3!R128+CSVデータ4!R128","v":372},null,{"$f":"CSVデータ1!T128+CSVデータ2!T128+CSVデータ3!T128+CSVデータ4!T128","v":6},null,{"$f":"CSVデータ1!V128+CSVデータ2!V128+CSVデータ3!V128+CSVデータ4!V128","v":281},null,{"$f":"CSVデータ1!X128+CSVデータ2!X128+CSVデータ3!X128+CSVデータ4!X128","v":135},null,{"$f":"CSVデータ1!Z128+CSVデータ2!Z128+CSVデータ3!Z128+CSVデータ4!Z128","v":544},null,{"$f":"CSVデータ1!AB128+CSVデータ2!AB128+CSVデータ3!AB128+CSVデータ4!AB128","v":1},null,{"$f":"CSVデータ1!AD128+CSVデータ2!AD128+CSVデータ3!AD128+CSVデータ4!AD128","v":405},null,{"$f":"CSVデータ1!AF128+CSVデータ2!AF128+CSVデータ3!AF128+CSVデータ4!AF128","v":69}]
[{"$f":"CSVデータ1!A129","v":"明細部"},{"$f":"CSVデータ1!B129","v":"県"},{"$f":"CSVデータ1!C129","v":60},{"$f":"CSVデータ1!D129","v":"女"},{"$f":"CSVデータ1!E129+CSVデータ2!E129+CSVデータ3!E129+CSVデータ4!E129","v":1035},{"$f":"CSVデータ1!F129+CSVデータ2!F129+CSVデータ3!F129+CSVデータ4!F129","v":171},null,{"$f":"CSVデータ1!H129+CSVデータ2!H129+CSVデータ3!H129+CSVデータ4!H129","v":153},null,{"$f":"CSVデータ1!J129+CSVデータ2!J129+CSVデータ3!J129+CSVデータ4!J129","v":123},null,{"$f":"CSVデータ1!L129+CSVデータ2!L129+CSVデータ3!L129+CSVデータ4!L129","v":99},null,{"$f":"CSVデータ1!N129+CSVデータ2!N129+CSVデータ3!N129+CSVデータ4!N129","v":16},null,{"$f":"CSVデータ1!P129+CSVデータ2!P129+CSVデータ3!P129+CSVデータ4!P129","v":141},null,{"$f":"CSVデータ1!R129+CSVデータ2!R129+CSVデータ3!R129+CSVデータ4!R129","v":503},null,{"$f":"CSVデータ1!T129+CSVデータ2!T129+CSVデータ3!T129+CSVデータ4!T129","v":12},null,{"$f":"CSVデータ1!V129+CSVデータ2!V129+CSVデータ3!V129+CSVデータ4!V129","v":351},null,{"$f":"CSVデータ1!X129+CSVデータ2!X129+CSVデータ3!X129+CSVデータ4!X129","v":146},null,{"$f":"CSVデータ1!Z129+CSVデータ2!Z129+CSVデータ3!Z129+CSVデータ4!Z129","v":692},null,{"$f":"CSVデータ1!AB129+CSVデータ2!AB129+CSVデータ3!AB129+CSVデータ4!AB129","v":0},null,{"$f":"CSVデータ1!AD129+CSVデータ2!AD129+CSVデータ3!AD129+CSVデータ4!AD129","v":584},null,{"$f":"CSVデータ1!AF129+CSVデータ2!AF129+CSVデータ3!AF129+CSVデータ4!AF129","v":71}]
[{"$f":"CSVデータ1!A130","v":"明細部"},{"$f":"CSVデータ1!B130","v":"県"},{"$f":"CSVデータ1!C130","v":61},{"$f":"CSVデータ1!D130","v":"女"},{"$f":"CSVデータ1!E130+CSVデータ2!E130+CSVデータ3!E130+CSVデータ4!E130","v":1116},{"$f":"CSVデータ1!F130+CSVデータ2!F130+CSVデータ3!F130+CSVデータ4!F130","v":201},null,{"$f":"CSVデータ1!H130+CSVデータ2!H130+CSVデータ3!H130+CSVデータ4!H130","v":189},null,{"$f":"CSVデータ1!J130+CSVデータ2!J130+CSVデータ3!J130+CSVデータ4!J130","v":182},null,{"$f":"CSVデータ1!L130+CSVデータ2!L130+CSVデータ3!L130+CSVデータ4!L130","v":140},null,{"$f":"CSVデータ1!N130+CSVデータ2!N130+CSVデータ3!N130+CSVデータ4!N130","v":11},null,{"$f":"CSVデータ1!P130+CSVデータ2!P130+CSVデータ3!P130+CSVデータ4!P130","v":143},null,{"$f":"CSVデータ1!R130+CSVデータ2!R130+CSVデータ3!R130+CSVデータ4!R130","v":533},null,{"$f":"CSVデータ1!T130+CSVデータ2!T130+CSVデータ3!T130+CSVデータ4!T130","v":16},null,{"$f":"CSVデータ1!V130+CSVデータ2!V130+CSVデータ3!V130+CSVデータ4!V130","v":377},null,{"$f":"CSVデータ1!X130+CSVデータ2!X130+CSVデータ3!X130+CSVデータ4!X130","v":172},null,{"$f":"CSVデータ1!Z130+CSVデータ2!Z130+CSVデータ3!Z130+CSVデータ4!Z130","v":799},null,{"$f":"CSVデータ1!AB130+CSVデータ2!AB130+CSVデータ3!AB130+CSVデータ4!AB130","v":1},null,{"$f":"CSVデータ1!AD130+CSVデータ2!AD130+CSVデータ3!AD130+CSVデータ4!AD130","v":598},null,{"$f":"CSVデータ1!AF130+CSVデータ2!AF130+CSVデータ3!AF130+CSVデータ4!AF130","v":84}]
[{"$f":"CSVデータ1!A131","v":"明細部"},{"$f":"CSVデータ1!B131","v":"県"},{"$f":"CSVデータ1!C131","v":62},{"$f":"CSVデータ1!D131","v":"女"},{"$f":"CSVデータ1!E131+CSVデータ2!E131+CSVデータ3!E131+CSVデータ4!E131","v":1454},{"$f":"CSVデータ1!F131+CSVデータ2!F131+CSVデータ3!F131+CSVデータ4!F131","v":298},null,{"$f":"CSVデータ1!H131+CSVデータ2!H131+CSVデータ3!H131+CSVデータ4!H131","v":249},null,{"$f":"CSVデータ1!J131+CSVデータ2!J131+CSVデータ3!J131+CSVデータ4!J131","v":248},null,{"$f":"CSVデータ1!L131+CSVデータ2!L131+CSVデータ3!L131+CSVデータ4!L131","v":168},null,{"$f":"CSVデータ1!N131+CSVデータ2!N131+CSVデータ3!N131+CSVデータ4!N131","v":12},null,{"$f":"CSVデータ1!P131+CSVデータ2!P131+CSVデータ3!P131+CSVデータ4!P131","v":218},null,{"$f":"CSVデータ1!R131+CSVデータ2!R131+CSVデータ3!R131+CSVデータ4!R131","v":724},null,{"$f":"CSVデータ1!T131+CSVデータ2!T131+CSVデータ3!T131+CSVデータ4!T131","v":27},null,{"$f":"CSVデータ1!V131+CSVデータ2!V131+CSVデータ3!V131+CSVデータ4!V131","v":533},null,{"$f":"CSVデータ1!X131+CSVデータ2!X131+CSVデータ3!X131+CSVデータ4!X131","v":218},null,{"$f":"CSVデータ1!Z131+CSVデータ2!Z131+CSVデータ3!Z131+CSVデータ4!Z131","v":992},null,{"$f":"CSVデータ1!AB131+CSVデータ2!AB131+CSVデータ3!AB131+CSVデータ4!AB131","v":2},null,{"$f":"CSVデータ1!AD131+CSVデータ2!AD131+CSVデータ3!AD131+CSVデータ4!AD131","v":809},null,{"$f":"CSVデータ1!AF131+CSVデータ2!AF131+CSVデータ3!AF131+CSVデータ4!AF131","v":99}]
[{"$f":"CSVデータ1!A132","v":"明細部"},{"$f":"CSVデータ1!B132","v":"県"},{"$f":"CSVデータ1!C132","v":63},{"$f":"CSVデータ1!D132","v":"女"},{"$f":"CSVデータ1!E132+CSVデータ2!E132+CSVデータ3!E132+CSVデータ4!E132","v":1755},{"$f":"CSVデータ1!F132+CSVデータ2!F132+CSVデータ3!F132+CSVデータ4!F132","v":305},null,{"$f":"CSVデータ1!H132+CSVデータ2!H132+CSVデータ3!H132+CSVデータ4!H132","v":286},null,{"$f":"CSVデータ1!J132+CSVデータ2!J132+CSVデータ3!J132+CSVデータ4!J132","v":282},null,{"$f":"CSVデータ1!L132+CSVデータ2!L132+CSVデータ3!L132+CSVデータ4!L132","v":157},null,{"$f":"CSVデータ1!N132+CSVデータ2!N132+CSVデータ3!N132+CSVデータ4!N132","v":17},null,{"$f":"CSVデータ1!P132+CSVデータ2!P132+CSVデータ3!P132+CSVデータ4!P132","v":290},null,{"$f":"CSVデータ1!R132+CSVデータ2!R132+CSVデータ3!R132+CSVデータ4!R132","v":852},null,{"$f":"CSVデータ1!T132+CSVデータ2!T132+CSVデータ3!T132+CSVデータ4!T132","v":37},null,{"$f":"CSVデータ1!V132+CSVデータ2!V132+CSVデータ3!V132+CSVデータ4!V132","v":658},null,{"$f":"CSVデータ1!X132+CSVデータ2!X132+CSVデータ3!X132+CSVデータ4!X132","v":267},null,{"$f":"CSVデータ1!Z132+CSVデータ2!Z132+CSVデータ3!Z132+CSVデータ4!Z132","v":1096},null,{"$f":"CSVデータ1!AB132+CSVデータ2!AB132+CSVデータ3!AB132+CSVデータ4!AB132","v":2},null,{"$f":"CSVデータ1!AD132+CSVデータ2!AD132+CSVデータ3!AD132+CSVデータ4!AD132","v":898},null,{"$f":"CSVデータ1!AF132+CSVデータ2!AF132+CSVデータ3!AF132+CSVデータ4!AF132","v":143}]
[{"$f":"CSVデータ1!A133","v":"明細部"},{"$f":"CSVデータ1!B133","v":"県"},{"$f":"CSVデータ1!C133","v":64},{"$f":"CSVデータ1!D133","v":"女"},{"$f":"CSVデータ1!E133+CSVデータ2!E133+CSVデータ3!E133+CSVデータ4!E133","v":2265},{"$f":"CSVデータ1!F133+CSVデータ2!F133+CSVデータ3!F133+CSVデータ4!F133","v":445},null,{"$f":"CSVデータ1!H133+CSVデータ2!H133+CSVデータ3!H133+CSVデータ4!H133","v":374},null,{"$f":"CSVデータ1!J133+CSVデータ2!J133+CSVデータ3!J133+CSVデータ4!J133","v":360},null,{"$f":"CSVデータ1!L133+CSVデータ2!L133+CSVデータ3!L133+CSVデータ4!L133","v":222},null,{"$f":"CSVデータ1!N133+CSVデータ2!N133+CSVデータ3!N133+CSVデータ4!N133","v":22},null,{"$f":"CSVデータ1!P133+CSVデータ2!P133+CSVデータ3!P133+CSVデータ4!P133","v":365},null,{"$f":"CSVデータ1!R133+CSVデータ2!R133+CSVデータ3!R133+CSVデータ4!R133","v":1120},null,{"$f":"CSVデータ1!T133+CSVデータ2!T133+CSVデータ3!T133+CSVデータ4!T133","v":29},null,{"$f":"CSVデータ1!V133+CSVデータ2!V133+CSVデータ3!V133+CSVデータ4!V133","v":888},null,{"$f":"CSVデータ1!X133+CSVデータ2!X133+CSVデータ3!X133+CSVデータ4!X133","v":326},null,{"$f":"CSVデータ1!Z133+CSVデータ2!Z133+CSVデータ3!Z133+CSVデータ4!Z133","v":1574},null,{"$f":"CSVデータ1!AB133+CSVデータ2!AB133+CSVデータ3!AB133+CSVデータ4!AB133","v":3},null,{"$f":"CSVデータ1!AD133+CSVデータ2!AD133+CSVデータ3!AD133+CSVデータ4!AD133","v":1257},null,{"$f":"CSVデータ1!AF133+CSVデータ2!AF133+CSVデータ3!AF133+CSVデータ4!AF133","v":190}]
[{"$f":"CSVデータ1!A134","v":"明細部"},{"$f":"CSVデータ1!B134","v":"県"},{"$f":"CSVデータ1!C134","v":65},{"$f":"CSVデータ1!D134","v":"女"},{"$f":"CSVデータ1!E134+CSVデータ2!E134+CSVデータ3!E134+CSVデータ4!E134","v":2780},{"$f":"CSVデータ1!F134+CSVデータ2!F134+CSVデータ3!F134+CSVデータ4!F134","v":544},null,{"$f":"CSVデータ1!H134+CSVデータ2!H134+CSVデータ3!H134+CSVデータ4!H134","v":472},null,{"$f":"CSVデータ1!J134+CSVデータ2!J134+CSVデータ3!J134+CSVデータ4!J134","v":436},null,{"$f":"CSVデータ1!L134+CSVデータ2!L134+CSVデータ3!L134+CSVデータ4!L134","v":283},null,{"$f":"CSVデータ1!N134+CSVデータ2!N134+CSVデータ3!N134+CSVデータ4!N134","v":18},null,{"$f":"CSVデータ1!P134+CSVデータ2!P134+CSVデータ3!P134+CSVデータ4!P134","v":463},null,{"$f":"CSVデータ1!R134+CSVデータ2!R134+CSVデータ3!R134+CSVデータ4!R134","v":1462},null,{"$f":"CSVデータ1!T134+CSVデータ2!T134+CSVデータ3!T134+CSVデータ4!T134","v":38},null,{"$f":"CSVデータ1!V134+CSVデータ2!V134+CSVデータ3!V134+CSVデータ4!V134","v":1197},null,{"$f":"CSVデータ1!X134+CSVデータ2!X134+CSVデータ3!X134+CSVデータ4!X134","v":457},null,{"$f":"CSVデータ1!Z134+CSVデータ2!Z134+CSVデータ3!Z134+CSVデータ4!Z134","v":1717},null,{"$f":"CSVデータ1!AB134+CSVデータ2!AB134+CSVデータ3!AB134+CSVデータ4!AB134","v":2},null,{"$f":"CSVデータ1!AD134+CSVデータ2!AD134+CSVデータ3!AD134+CSVデータ4!AD134","v":1450},null,{"$f":"CSVデータ1!AF134+CSVデータ2!AF134+CSVデータ3!AF134+CSVデータ4!AF134","v":183}]
[{"$f":"CSVデータ1!A135","v":"明細部"},{"$f":"CSVデータ1!B135","v":"県"},{"$f":"CSVデータ1!C135","v":66},{"$f":"CSVデータ1!D135","v":"女"},{"$f":"CSVデータ1!E135+CSVデータ2!E135+CSVデータ3!E135+CSVデータ4!E135","v":3299},{"$f":"CSVデータ1!F135+CSVデータ2!F135+CSVデータ3!F135+CSVデータ4!F135","v":634},null,{"$f":"CSVデータ1!H135+CSVデータ2!H135+CSVデータ3!H135+CSVデータ4!H135","v":568},null,{"$f":"CSVデータ1!J135+CSVデータ2!J135+CSVデータ3!J135+CSVデータ4!J135","v":576},null,{"$f":"CSVデータ1!L135+CSVデータ2!L135+CSVデータ3!L135+CSVデータ4!L135","v":315},null,{"$f":"CSVデータ1!N135+CSVデータ2!N135+CSVデータ3!N135+CSVデータ4!N135","v":43},null,{"$f":"CSVデータ1!P135+CSVデータ2!P135+CSVデータ3!P135+CSVデータ4!P135","v":561},null,{"$f":"CSVデータ1!R135+CSVデータ2!R135+CSVデータ3!R135+CSVデータ4!R135","v":1697},null,{"$f":"CSVデータ1!T135+CSVデータ2!T135+CSVデータ3!T135+CSVデータ4!T135","v":47},null,{"$f":"CSVデータ1!V135+CSVデータ2!V135+CSVデータ3!V135+CSVデータ4!V135","v":1427},null,{"$f":"CSVデータ1!X135+CSVデータ2!X135+CSVデータ3!X135+CSVデータ4!X135","v":490},null,{"$f":"CSVデータ1!Z135+CSVデータ2!Z135+CSVデータ3!Z135+CSVデータ4!Z135","v":2111},null,{"$f":"CSVデータ1!AB135+CSVデータ2!AB135+CSVデータ3!AB135+CSVデータ4!AB135","v":3},null,{"$f":"CSVデータ1!AD135+CSVデータ2!AD135+CSVデータ3!AD135+CSVデータ4!AD135","v":1825},null,{"$f":"CSVデータ1!AF135+CSVデータ2!AF135+CSVデータ3!AF135+CSVデータ4!AF135","v":262}]
[{"$f":"CSVデータ1!A136","v":"明細部"},{"$f":"CSVデータ1!B136","v":"県"},{"$f":"CSVデータ1!C136","v":67},{"$f":"CSVデータ1!D136","v":"女"},{"$f":"CSVデータ1!E136+CSVデータ2!E136+CSVデータ3!E136+CSVデータ4!E136","v":3753},{"$f":"CSVデータ1!F136+CSVデータ2!F136+CSVデータ3!F136+CSVデータ4!F136","v":702},null,{"$f":"CSVデータ1!H136+CSVデータ2!H136+CSVデータ3!H136+CSVデータ4!H136","v":645},null,{"$f":"CSVデータ1!J136+CSVデータ2!J136+CSVデータ3!J136+CSVデータ4!J136","v":619},null,{"$f":"CSVデータ1!L136+CSVデータ2!L136+CSVデータ3!L136+CSVデータ4!L136","v":362},null,{"$f":"CSVデータ1!N136+CSVデータ2!N136+CSVデータ3!N136+CSVデータ4!N136","v":38},null,{"$f":"CSVデータ1!P136+CSVデータ2!P136+CSVデータ3!P136+CSVデータ4!P136","v":626},null,{"$f":"CSVデータ1!R136+CSVデータ2!R136+CSVデータ3!R136+CSVデータ4!R136","v":2039},null,{"$f":"CSVデータ1!T136+CSVデータ2!T136+CSVデータ3!T136+CSVデータ4!T136","v":62},null,{"$f":"CSVデータ1!V136+CSVデータ2!V136+CSVデータ3!V136+CSVデータ4!V136","v":1571},null,{"$f":"CSVデータ1!X136+CSVデータ2!X136+CSVデータ3!X136+CSVデータ4!X136","v":502},null,{"$f":"CSVデータ1!Z136+CSVデータ2!Z136+CSVデータ3!Z136+CSVデータ4!Z136","v":2242},null,{"$f":"CSVデータ1!AB136+CSVデータ2!AB136+CSVデータ3!AB136+CSVデータ4!AB136","v":2},null,{"$f":"CSVデータ1!AD136+CSVデータ2!AD136+CSVデータ3!AD136+CSVデータ4!AD136","v":2071},null,{"$f":"CSVデータ1!AF136+CSVデータ2!AF136+CSVデータ3!AF136+CSVデータ4!AF136","v":247}]
[{"$f":"CSVデータ1!A137","v":"明細部"},{"$f":"CSVデータ1!B137","v":"県"},{"$f":"CSVデータ1!C137","v":68},{"$f":"CSVデータ1!D137","v":"女"},{"$f":"CSVデータ1!E137+CSVデータ2!E137+CSVデータ3!E137+CSVデータ4!E137","v":4325},{"$f":"CSVデータ1!F137+CSVデータ2!F137+CSVデータ3!F137+CSVデータ4!F137","v":766},null,{"$f":"CSVデータ1!H137+CSVデータ2!H137+CSVデータ3!H137+CSVデータ4!H137","v":725},null,{"$f":"CSVデータ1!J137+CSVデータ2!J137+CSVデータ3!J137+CSVデータ4!J137","v":705},null,{"$f":"CSVデータ1!L137+CSVデータ2!L137+CSVデータ3!L137+CSVデータ4!L137","v":361},null,{"$f":"CSVデータ1!N137+CSVデータ2!N137+CSVデータ3!N137+CSVデータ4!N137","v":48},null,{"$f":"CSVデータ1!P137+CSVデータ2!P137+CSVデータ3!P137+CSVデータ4!P137","v":774},null,{"$f":"CSVデータ1!R137+CSVデータ2!R137+CSVデータ3!R137+CSVデータ4!R137","v":2408},null,{"$f":"CSVデータ1!T137+CSVデータ2!T137+CSVデータ3!T137+CSVデータ4!T137","v":73},null,{"$f":"CSVデータ1!V137+CSVデータ2!V137+CSVデータ3!V137+CSVデータ4!V137","v":2079},null,{"$f":"CSVデータ1!X137+CSVデータ2!X137+CSVデータ3!X137+CSVデータ4!X137","v":668},null,{"$f":"CSVデータ1!Z137+CSVデータ2!Z137+CSVデータ3!Z137+CSVデータ4!Z137","v":2619},null,{"$f":"CSVデータ1!AB137+CSVデータ2!AB137+CSVデータ3!AB137+CSVデータ4!AB137","v":8},null,{"$f":"CSVデータ1!AD137+CSVデータ2!AD137+CSVデータ3!AD137+CSVデータ4!AD137","v":2422},null,{"$f":"CSVデータ1!AF137+CSVデータ2!AF137+CSVデータ3!AF137+CSVデータ4!AF137","v":318}]
[{"$f":"CSVデータ1!A138","v":"明細部"},{"$f":"CSVデータ1!B138","v":"県"},{"$f":"CSVデータ1!C138","v":69},{"$f":"CSVデータ1!D138","v":"女"},{"$f":"CSVデータ1!E138+CSVデータ2!E138+CSVデータ3!E138+CSVデータ4!E138","v":4727},{"$f":"CSVデータ1!F138+CSVデータ2!F138+CSVデータ3!F138+CSVデータ4!F138","v":905},null,{"$f":"CSVデータ1!H138+CSVデータ2!H138+CSVデータ3!H138+CSVデータ4!H138","v":761},null,{"$f":"CSVデータ1!J138+CSVデータ2!J138+CSVデータ3!J138+CSVデータ4!J138","v":775},null,{"$f":"CSVデータ1!L138+CSVデータ2!L138+CSVデータ3!L138+CSVデータ4!L138","v":418},null,{"$f":"CSVデータ1!N138+CSVデータ2!N138+CSVデータ3!N138+CSVデータ4!N138","v":76},null,{"$f":"CSVデータ1!P138+CSVデータ2!P138+CSVデータ3!P138+CSVデータ4!P138","v":879},null,{"$f":"CSVデータ1!R138+CSVデータ2!R138+CSVデータ3!R138+CSVデータ4!R138","v":2788},null,{"$f":"CSVデータ1!T138+CSVデータ2!T138+CSVデータ3!T138+CSVデータ4!T138","v":77},null,{"$f":"CSVデータ1!V138+CSVデータ2!V138+CSVデータ3!V138+CSVデータ4!V138","v":2272},null,{"$f":"CSVデータ1!X138+CSVデータ2!X138+CSVデータ3!X138+CSVデータ4!X138","v":694},null,{"$f":"CSVデータ1!Z138+CSVデータ2!Z138+CSVデータ3!Z138+CSVデータ4!Z138","v":2998},null,{"$f":"CSVデータ1!AB138+CSVデータ2!AB138+CSVデータ3!AB138+CSVデータ4!AB138","v":16},null,{"$f":"CSVデータ1!AD138+CSVデータ2!AD138+CSVデータ3!AD138+CSVデータ4!AD138","v":2723},null,{"$f":"CSVデータ1!AF138+CSVデータ2!AF138+CSVデータ3!AF138+CSVデータ4!AF138","v":273}]
[{"$f":"CSVデータ1!A139","v":"明細部"},{"$f":"CSVデータ1!B139","v":"県"},{"$f":"CSVデータ1!C139","v":70},{"$f":"CSVデータ1!D139","v":"女"},{"$f":"CSVデータ1!E139+CSVデータ2!E139+CSVデータ3!E139+CSVデータ4!E139","v":5872},{"$f":"CSVデータ1!F139+CSVデータ2!F139+CSVデータ3!F139+CSVデータ4!F139","v":1079},null,{"$f":"CSVデータ1!H139+CSVデータ2!H139+CSVデータ3!H139+CSVデータ4!H139","v":1047},null,{"$f":"CSVデータ1!J139+CSVデータ2!J139+CSVデータ3!J139+CSVデータ4!J139","v":948},null,{"$f":"CSVデータ1!L139+CSVデータ2!L139+CSVデータ3!L139+CSVデータ4!L139","v":424},null,{"$f":"CSVデータ1!N139+CSVデータ2!N139+CSVデータ3!N139+CSVデータ4!N139","v":76},null,{"$f":"CSVデータ1!P139+CSVデータ2!P139+CSVデータ3!P139+CSVデータ4!P139","v":1050},null,{"$f":"CSVデータ1!R139+CSVデータ2!R139+CSVデータ3!R139+CSVデータ4!R139","v":3159},null,{"$f":"CSVデータ1!T139+CSVデータ2!T139+CSVデータ3!T139+CSVデータ4!T139","v":110},null,{"$f":"CSVデータ1!V139+CSVデータ2!V139+CSVデータ3!V139+CSVデータ4!V139","v":2862},null,{"$f":"CSVデータ1!X139+CSVデータ2!X139+CSVデータ3!X139+CSVデータ4!X139","v":868},null,{"$f":"CSVデータ1!Z139+CSVデータ2!Z139+CSVデータ3!Z139+CSVデータ4!Z139","v":3631},null,{"$f":"CSVデータ1!AB139+CSVデータ2!AB139+CSVデータ3!AB139+CSVデータ4!AB139","v":14},null,{"$f":"CSVデータ1!AD139+CSVデータ2!AD139+CSVデータ3!AD139+CSVデータ4!AD139","v":3185},null,{"$f":"CSVデータ1!AF139+CSVデータ2!AF139+CSVデータ3!AF139+CSVデータ4!AF139","v":332}]
[{"$f":"CSVデータ1!A140","v":"明細部"},{"$f":"CSVデータ1!B140","v":"県"},{"$f":"CSVデータ1!C140","v":71},{"$f":"CSVデータ1!D140","v":"女"},{"$f":"CSVデータ1!E140+CSVデータ2!E140+CSVデータ3!E140+CSVデータ4!E140","v":5901},{"$f":"CSVデータ1!F140+CSVデータ2!F140+CSVデータ3!F140+CSVデータ4!F140","v":1097},null,{"$f":"CSVデータ1!H140+CSVデータ2!H140+CSVデータ3!H140+CSVデータ4!H140","v":1102},null,{"$f":"CSVデータ1!J140+CSVデータ2!J140+CSVデータ3!J140+CSVデータ4!J140","v":964},null,{"$f":"CSVデータ1!L140+CSVデータ2!L140+CSVデータ3!L140+CSVデータ4!L140","v":452},null,{"$f":"CSVデータ1!N140+CSVデータ2!N140+CSVデータ3!N140+CSVデータ4!N140","v":73},null,{"$f":"CSVデータ1!P140+CSVデータ2!P140+CSVデータ3!P140+CSVデータ4!P140","v":1147},null,{"$f":"CSVデータ1!R140+CSVデータ2!R140+CSVデータ3!R140+CSVデータ4!R140","v":3474},null,{"$f":"CSVデータ1!T140+CSVデータ2!T140+CSVデータ3!T140+CSVデータ4!T140","v":116},null,{"$f":"CSVデータ1!V140+CSVデータ2!V140+CSVデータ3!V140+CSVデータ4!V140","v":2925},null,{"$f":"CSVデータ1!X140+CSVデータ2!X140+CSVデータ3!X140+CSVデータ4!X140","v":784},null,{"$f":"CSVデータ1!Z140+CSVデータ2!Z140+CSVデータ3!Z140+CSVデータ4!Z140","v":3380},null,{"$f":"CSVデータ1!AB140+CSVデータ2!AB140+CSVデータ3!AB140+CSVデータ4!AB140","v":12},null,{"$f":"CSVデータ1!AD140+CSVデータ2!AD140+CSVデータ3!AD140+CSVデータ4!AD140","v":3203},null,{"$f":"CSVデータ1!AF140+CSVデータ2!AF140+CSVデータ3!AF140+CSVデータ4!AF140","v":311}]
[{"$f":"CSVデータ1!A141","v":"明細部"},{"$f":"CSVデータ1!B141","v":"県"},{"$f":"CSVデータ1!C141","v":72},{"$f":"CSVデータ1!D141","v":"女"},{"$f":"CSVデータ1!E141+CSVデータ2!E141+CSVデータ3!E141+CSVデータ4!E141","v":4411},{"$f":"CSVデータ1!F141+CSVデータ2!F141+CSVデータ3!F141+CSVデータ4!F141","v":799},null,{"$f":"CSVデータ1!H141+CSVデータ2!H141+CSVデータ3!H141+CSVデータ4!H141","v":821},null,{"$f":"CSVデータ1!J141+CSVデータ2!J141+CSVデータ3!J141+CSVデータ4!J141","v":687},null,{"$f":"CSVデータ1!L141+CSVデータ2!L141+CSVデータ3!L141+CSVデータ4!L141","v":373},null,{"$f":"CSVデータ1!N141+CSVデータ2!N141+CSVデータ3!N141+CSVデータ4!N141","v":60},null,{"$f":"CSVデータ1!P141+CSVデータ2!P141+CSVデータ3!P141+CSVデータ4!P141","v":970},null,{"$f":"CSVデータ1!R141+CSVデータ2!R141+CSVデータ3!R141+CSVデータ4!R141","v":2655},null,{"$f":"CSVデータ1!T141+CSVデータ2!T141+CSVデータ3!T141+CSVデータ4!T141","v":97},null,{"$f":"CSVデータ1!V141+CSVデータ2!V141+CSVデータ3!V141+CSVデータ4!V141","v":2287},null,{"$f":"CSVデータ1!X141+CSVデータ2!X141+CSVデータ3!X141+CSVデータ4!X141","v":635},null,{"$f":"CSVデータ1!Z141+CSVデータ2!Z141+CSVデータ3!Z141+CSVデータ4!Z141","v":2645},null,{"$f":"CSVデータ1!AB141+CSVデータ2!AB141+CSVデータ3!AB141+CSVデータ4!AB141","v":10},null,{"$f":"CSVデータ1!AD141+CSVデータ2!AD141+CSVデータ3!AD141+CSVデータ4!AD141","v":2607},null,{"$f":"CSVデータ1!AF141+CSVデータ2!AF141+CSVデータ3!AF141+CSVデータ4!AF141","v":250}]
[{"$f":"CSVデータ1!A142","v":"明細部"},{"$f":"CSVデータ1!B142","v":"県"},{"$f":"CSVデータ1!C142","v":73},{"$f":"CSVデータ1!D142","v":"女"},{"$f":"CSVデータ1!E142+CSVデータ2!E142+CSVデータ3!E142+CSVデータ4!E142","v":3291},{"$f":"CSVデータ1!F142+CSVデータ2!F142+CSVデータ3!F142+CSVデータ4!F142","v":636},null,{"$f":"CSVデータ1!H142+CSVデータ2!H142+CSVデータ3!H142+CSVデータ4!H142","v":634},null,{"$f":"CSVデータ1!J142+CSVデータ2!J142+CSVデータ3!J142+CSVデータ4!J142","v":519},null,{"$f":"CSVデータ1!L142+CSVデータ2!L142+CSVデータ3!L142+CSVデータ4!L142","v":285},null,{"$f":"CSVデータ1!N142+CSVデータ2!N142+CSVデータ3!N142+CSVデータ4!N142","v":50},null,{"$f":"CSVデータ1!P142+CSVデータ2!P142+CSVデータ3!P142+CSVデータ4!P142","v":702},null,{"$f":"CSVデータ1!R142+CSVデータ2!R142+CSVデータ3!R142+CSVデータ4!R142","v":1906},null,{"$f":"CSVデータ1!T142+CSVデータ2!T142+CSVデータ3!T142+CSVデータ4!T142","v":71},null,{"$f":"CSVデータ1!V142+CSVデータ2!V142+CSVデータ3!V142+CSVデータ4!V142","v":1731},null,{"$f":"CSVデータ1!X142+CSVデータ2!X142+CSVデータ3!X142+CSVデータ4!X142","v":400},null,{"$f":"CSVデータ1!Z142+CSVデータ2!Z142+CSVデータ3!Z142+CSVデータ4!Z142","v":1826},null,{"$f":"CSVデータ1!AB142+CSVデータ2!AB142+CSVデータ3!AB142+CSVデータ4!AB142","v":3},null,{"$f":"CSVデータ1!AD142+CSVデータ2!AD142+CSVデータ3!AD142+CSVデータ4!AD142","v":1813},null,{"$f":"CSVデータ1!AF142+CSVデータ2!AF142+CSVデータ3!AF142+CSVデータ4!AF142","v":149}]
[{"$f":"CSVデータ1!A143","v":"明細部"},{"$f":"CSVデータ1!B143","v":"県"},{"$f":"CSVデータ1!C143","v":74},{"$f":"CSVデータ1!D143","v":"女"},{"$f":"CSVデータ1!E143+CSVデータ2!E143+CSVデータ3!E143+CSVデータ4!E143","v":3976},{"$f":"CSVデータ1!F143+CSVデータ2!F143+CSVデータ3!F143+CSVデータ4!F143","v":782},null,{"$f":"CSVデータ1!H143+CSVデータ2!H143+CSVデータ3!H143+CSVデータ4!H143","v":761},null,{"$f":"CSVデータ1!J143+CSVデータ2!J143+CSVデータ3!J143+CSVデータ4!J143","v":608},null,{"$f":"CSVデータ1!L143+CSVデータ2!L143+CSVデータ3!L143+CSVデータ4!L143","v":278},null,{"$f":"CSVデータ1!N143+CSVデータ2!N143+CSVデータ3!N143+CSVデータ4!N143","v":54},null,{"$f":"CSVデータ1!P143+CSVデータ2!P143+CSVデータ3!P143+CSVデータ4!P143","v":830},null,{"$f":"CSVデータ1!R143+CSVデータ2!R143+CSVデータ3!R143+CSVデータ4!R143","v":2350},null,{"$f":"CSVデータ1!T143+CSVデータ2!T143+CSVデータ3!T143+CSVデータ4!T143","v":85},null,{"$f":"CSVデータ1!V143+CSVデータ2!V143+CSVデータ3!V143+CSVデータ4!V143","v":2129},null,{"$f":"CSVデータ1!X143+CSVデータ2!X143+CSVデータ3!X143+CSVデータ4!X143","v":458},null,{"$f":"CSVデータ1!Z143+CSVデータ2!Z143+CSVデータ3!Z143+CSVデータ4!Z143","v":2189},null,{"$f":"CSVデータ1!AB143+CSVデータ2!AB143+CSVデータ3!AB143+CSVデータ4!AB143","v":9},null,{"$f":"CSVデータ1!AD143+CSVデータ2!AD143+CSVデータ3!AD143+CSVデータ4!AD143","v":2184},null,{"$f":"CSVデータ1!AF143+CSVデータ2!AF143+CSVデータ3!AF143+CSVデータ4!AF143","v":175}]
[{"$f":"CSVデータ1!A144","v":"明細部"},{"$f":"CSVデータ1!B144","v":"保険者（地区）"},{"$f":"CSVデータ1!C144","v":40},{"$f":"CSVデータ1!D144","v":"男"},{"$f":"CSVデータ1!E144+CSVデータ2!E144+CSVデータ3!E144+CSVデータ4!E144","v":51.6},{"$f":"CSVデータ1!F144+CSVデータ2!F144+CSVデータ3!F144+CSVデータ4!F144","v":15.8},null,{"$f":"CSVデータ1!H144+CSVデータ2!H144+CSVデータ3!H144+CSVデータ4!H144","v":23},null,{"$f":"CSVデータ1!J144+CSVデータ2!J144+CSVデータ3!J144+CSVデータ4!J144","v":13},null,{"$f":"CSVデータ1!L144+CSVデータ2!L144+CSVデータ3!L144+CSVデータ4!L144","v":17.8},null,{"$f":"CSVデータ1!N144+CSVデータ2!N144+CSVデータ3!N144+CSVデータ4!N144","v":5.2},null,{"$f":"CSVデータ1!P144+CSVデータ2!P144+CSVデータ3!P144+CSVデータ4!P144","v":6},null,{"$f":"CSVデータ1!R144+CSVデータ2!R144+CSVデータ3!R144+CSVデータ4!R144","v":11.4},null,{"$f":"CSVデータ1!T144+CSVデータ2!T144+CSVデータ3!T144+CSVデータ4!T144","v":8.6},null,{"$f":"CSVデータ1!V144+CSVデータ2!V144+CSVデータ3!V144+CSVデータ4!V144","v":13},null,{"$f":"CSVデータ1!X144+CSVデータ2!X144+CSVデータ3!X144+CSVデータ4!X144","v":9.8000000000000007},null,{"$f":"CSVデータ1!Z144+CSVデータ2!Z144+CSVデータ3!Z144+CSVデータ4!Z144","v":27.8},null,{"$f":"CSVデータ1!AB144+CSVデータ2!AB144+CSVデータ3!AB144+CSVデータ4!AB144","v":0.2},null,{"$f":"CSVデータ1!AD144+CSVデータ2!AD144+CSVデータ3!AD144+CSVデータ4!AD144","v":23.8},null,{"$f":"CSVデータ1!AF144+CSVデータ2!AF144+CSVデータ3!AF144+CSVデータ4!AF144","v":6.2}]
[{"$f":"CSVデータ1!A145","v":"明細部"},{"$f":"CSVデータ1!B145","v":"保険者（地区）"},{"$f":"CSVデータ1!C145","v":41},{"$f":"CSVデータ1!D145","v":"男"},{"$f":"CSVデータ1!E145+CSVデータ2!E145+CSVデータ3!E145+CSVデータ4!E145","v":48},{"$f":"CSVデータ1!F145+CSVデータ2!F145+CSVデータ3!F145+CSVデータ4!F145","v":17.2},null,{"$f":"CSVデータ1!H145+CSVデータ2!H145+CSVデータ3!H145+CSVデータ4!H145","v":24.4},null,{"$f":"CSVデータ1!J145+CSVデータ2!J145+CSVデータ3!J145+CSVデータ4!J145","v":16.2},null,{"$f":"CSVデータ1!L145+CSVデータ2!L145+CSVデータ3!L145+CSVデータ4!L145","v":22.2},null,{"$f":"CSVデータ1!N145+CSVデータ2!N145+CSVデータ3!N145+CSVデータ4!N145","v":3.8},null,{"$f":"CSVデータ1!P145+CSVデータ2!P145+CSVデータ3!P145+CSVデータ4!P145","v":5.4},null,{"$f":"CSVデータ1!R145+CSVデータ2!R145+CSVデータ3!R145+CSVデータ4!R145","v":12.2},null,{"$f":"CSVデータ1!T145+CSVデータ2!T145+CSVデータ3!T145+CSVデータ4!T145","v":11.2},null,{"$f":"CSVデータ1!V145+CSVデータ2!V145+CSVデータ3!V145+CSVデータ4!V145","v":12.8},null,{"$f":"CSVデータ1!X145+CSVデータ2!X145+CSVデータ3!X145+CSVデータ4!X145","v":10.199999999999999},null,{"$f":"CSVデータ1!Z145+CSVデータ2!Z145+CSVデータ3!Z145+CSVデータ4!Z145","v":28.4},null,{"$f":"CSVデータ1!AB145+CSVデータ2!AB145+CSVデータ3!AB145+CSVデータ4!AB145","v":0.2},null,{"$f":"CSVデータ1!AD145+CSVデータ2!AD145+CSVデータ3!AD145+CSVデータ4!AD145","v":26.8},null,{"$f":"CSVデータ1!AF145+CSVデータ2!AF145+CSVデータ3!AF145+CSVデータ4!AF145","v":5.8}]
[{"$f":"CSVデータ1!A146","v":"明細部"},{"$f":"CSVデータ1!B146","v":"保険者（地区）"},{"$f":"CSVデータ1!C146","v":42},{"$f":"CSVデータ1!D146","v":"男"},{"$f":"CSVデータ1!E146+CSVデータ2!E146+CSVデータ3!E146+CSVデータ4!E146","v":56.2},{"$f":"CSVデータ1!F146+CSVデータ2!F146+CSVデータ3!F146+CSVデータ4!F146","v":17.399999999999999},null,{"$f":"CSVデータ1!H146+CSVデータ2!H146+CSVデータ3!H146+CSVデータ4!H146","v":27.6},null,{"$f":"CSVデータ1!J146+CSVデータ2!J146+CSVデータ3!J146+CSVデータ4!J146","v":18.399999999999999},null,{"$f":"CSVデータ1!L146+CSVデータ2!L146+CSVデータ3!L146+CSVデータ4!L146","v":18.8},null,{"$f":"CSVデータ1!N146+CSVデータ2!N146+CSVデータ3!N146+CSVデータ4!N146","v":3.8},null,{"$f":"CSVデータ1!P146+CSVデータ2!P146+CSVデータ3!P146+CSVデータ4!P146","v":7.2},null,{"$f":"CSVデータ1!R146+CSVデータ2!R146+CSVデータ3!R146+CSVデータ4!R146","v":14.2},null,{"$f":"CSVデータ1!T146+CSVデータ2!T146+CSVデータ3!T146+CSVデータ4!T146","v":12.2},null,{"$f":"CSVデータ1!V146+CSVデータ2!V146+CSVデータ3!V146+CSVデータ4!V146","v":14.2},null,{"$f":"CSVデータ1!X146+CSVデータ2!X146+CSVデータ3!X146+CSVデータ4!X146","v":10.199999999999999},null,{"$f":"CSVデータ1!Z146+CSVデータ2!Z146+CSVデータ3!Z146+CSVデータ4!Z146","v":29.4},null,{"$f":"CSVデータ1!AB146+CSVデータ2!AB146+CSVデータ3!AB146+CSVデータ4!AB146","v":0.2},null,{"$f":"CSVデータ1!AD146+CSVデータ2!AD146+CSVデータ3!AD146+CSVデータ4!AD146","v":25},null,{"$f":"CSVデータ1!AF146+CSVデータ2!AF146+CSVデータ3!AF146+CSVデータ4!AF146","v":7}]
[{"$f":"CSVデータ1!A147","v":"明細部"},{"$f":"CSVデータ1!B147","v":"保険者（地区）"},{"$f":"CSVデータ1!C147","v":43},{"$f":"CSVデータ1!D147","v":"男"},{"$f":"CSVデータ1!E147+CSVデータ2!E147+CSVデータ3!E147+CSVデータ4!E147","v":58.6},{"$f":"CSVデータ1!F147+CSVデータ2!F147+CSVデータ3!F147+CSVデータ4!F147","v":19.600000000000001},null,{"$f":"CSVデータ1!H147+CSVデータ2!H147+CSVデータ3!H147+CSVデータ4!H147","v":28.4},null,{"$f":"CSVデータ1!J147+CSVデータ2!J147+CSVデータ3!J147+CSVデータ4!J147","v":17},null,{"$f":"CSVデータ1!L147+CSVデータ2!L147+CSVデータ3!L147+CSVデータ4!L147","v":20.8},null,{"$f":"CSVデータ1!N147+CSVデータ2!N147+CSVデータ3!N147+CSVデータ4!N147","v":6.6},null,{"$f":"CSVデータ1!P147+CSVデータ2!P147+CSVデータ3!P147+CSVデータ4!P147","v":7.6},null,{"$f":"CSVデータ1!R147+CSVデータ2!R147+CSVデータ3!R147+CSVデータ4!R147","v":14.6},null,{"$f":"CSVデータ1!T147+CSVデータ2!T147+CSVデータ3!T147+CSVデータ4!T147","v":12},null,{"$f":"CSVデータ1!V147+CSVデータ2!V147+CSVデータ3!V147+CSVデータ4!V147","v":17.600000000000001},null,{"$f":"CSVデータ1!X147+CSVデータ2!X147+CSVデータ3!X147+CSVデータ4!X147","v":12.2},null,{"$f":"CSVデータ1!Z147+CSVデータ2!Z147+CSVデータ3!Z147+CSVデータ4!Z147","v":34.6},null,{"$f":"CSVデータ1!AB147+CSVデータ2!AB147+CSVデータ3!AB147+CSVデータ4!AB147","v":0},null,{"$f":"CSVデータ1!AD147+CSVデータ2!AD147+CSVデータ3!AD147+CSVデータ4!AD147","v":30.2},null,{"$f":"CSVデータ1!AF147+CSVデータ2!AF147+CSVデータ3!AF147+CSVデータ4!AF147","v":4.4000000000000004}]
[{"$f":"CSVデータ1!A148","v":"明細部"},{"$f":"CSVデータ1!B148","v":"保険者（地区）"},{"$f":"CSVデータ1!C148","v":44},{"$f":"CSVデータ1!D148","v":"男"},{"$f":"CSVデータ1!E148+CSVデータ2!E148+CSVデータ3!E148+CSVデータ4!E148","v":59.6},{"$f":"CSVデータ1!F148+CSVデータ2!F148+CSVデータ3!F148+CSVデータ4!F148","v":24},null,{"$f":"CSVデータ1!H148+CSVデータ2!H148+CSVデータ3!H148+CSVデータ4!H148","v":30.6},null,{"$f":"CSVデータ1!J148+CSVデータ2!J148+CSVデータ3!J148+CSVデータ4!J148","v":23.4},null,{"$f":"CSVデータ1!L148+CSVデータ2!L148+CSVデータ3!L148+CSVデータ4!L148","v":24.4},null,{"$f":"CSVデータ1!N148+CSVデータ2!N148+CSVデータ3!N148+CSVデータ4!N148","v":6.6},null,{"$f":"CSVデータ1!P148+CSVデータ2!P148+CSVデータ3!P148+CSVデータ4!P148","v":6.8},null,{"$f":"CSVデータ1!R148+CSVデータ2!R148+CSVデータ3!R148+CSVデータ4!R148","v":16.8},null,{"$f":"CSVデータ1!T148+CSVデータ2!T148+CSVデータ3!T148+CSVデータ4!T148","v":12.2},null,{"$f":"CSVデータ1!V148+CSVデータ2!V148+CSVデータ3!V148+CSVデータ4!V148","v":19.2},null,{"$f":"CSVデータ1!X148+CSVデータ2!X148+CSVデータ3!X148+CSVデータ4!X148","v":15},null,{"$f":"CSVデータ1!Z148+CSVデータ2!Z148+CSVデータ3!Z148+CSVデータ4!Z148","v":35.200000000000003},null,{"$f":"CSVデータ1!AB148+CSVデータ2!AB148+CSVデータ3!AB148+CSVデータ4!AB148","v":0.4},null,{"$f":"CSVデータ1!AD148+CSVデータ2!AD148+CSVデータ3!AD148+CSVデータ4!AD148","v":27.6},null,{"$f":"CSVデータ1!AF148+CSVデータ2!AF148+CSVデータ3!AF148+CSVデータ4!AF148","v":7}]
[{"$f":"CSVデータ1!A149","v":"明細部"},{"$f":"CSVデータ1!B149","v":"保険者（地区）"},{"$f":"CSVデータ1!C149","v":45},{"$f":"CSVデータ1!D149","v":"男"},{"$f":"CSVデータ1!E149+CSVデータ2!E149+CSVデータ3!E149+CSVデータ4!E149","v":67.599999999999994},{"$f":"CSVデータ1!F149+CSVデータ2!F149+CSVデータ3!F149+CSVデータ4!F149","v":22.8},null,{"$f":"CSVデータ1!H149+CSVデータ2!H149+CSVデータ3!H149+CSVデータ4!H149","v":30.6},null,{"$f":"CSVデータ1!J149+CSVデータ2!J149+CSVデータ3!J149+CSVデータ4!J149","v":18.8},null,{"$f":"CSVデータ1!L149+CSVデータ2!L149+CSVデータ3!L149+CSVデータ4!L149","v":19.399999999999999},null,{"$f":"CSVデータ1!N149+CSVデータ2!N149+CSVデータ3!N149+CSVデータ4!N149","v":5.8},null,{"$f":"CSVデータ1!P149+CSVデータ2!P149+CSVデータ3!P149+CSVデータ4!P149","v":9},null,{"$f":"CSVデータ1!R149+CSVデータ2!R149+CSVデータ3!R149+CSVデータ4!R149","v":18},null,{"$f":"CSVデータ1!T149+CSVデータ2!T149+CSVデータ3!T149+CSVデータ4!T149","v":12.8},null,{"$f":"CSVデータ1!V149+CSVデータ2!V149+CSVデータ3!V149+CSVデータ4!V149","v":18.2},null,{"$f":"CSVデータ1!X149+CSVデータ2!X149+CSVデータ3!X149+CSVデータ4!X149","v":13.8},null,{"$f":"CSVデータ1!Z149+CSVデータ2!Z149+CSVデータ3!Z149+CSVデータ4!Z149","v":37.200000000000003},null,{"$f":"CSVデータ1!AB149+CSVデータ2!AB149+CSVデータ3!AB149+CSVデータ4!AB149","v":0},null,{"$f":"CSVデータ1!AD149+CSVデータ2!AD149+CSVデータ3!AD149+CSVデータ4!AD149","v":38.4},null,{"$f":"CSVデータ1!AF149+CSVデータ2!AF149+CSVデータ3!AF149+CSVデータ4!AF149","v":5.2}]
[{"$f":"CSVデータ1!A150","v":"明細部"},{"$f":"CSVデータ1!B150","v":"保険者（地区）"},{"$f":"CSVデータ1!C150","v":46},{"$f":"CSVデータ1!D150","v":"男"},{"$f":"CSVデータ1!E150+CSVデータ2!E150+CSVデータ3!E150+CSVデータ4!E150","v":73.8},{"$f":"CSVデータ1!F150+CSVデータ2!F150+CSVデータ3!F150+CSVデータ4!F150","v":28.4},null,{"$f":"CSVデータ1!H150+CSVデータ2!H150+CSVデータ3!H150+CSVデータ4!H150","v":36},null,{"$f":"CSVデータ1!J150+CSVデータ2!J150+CSVデータ3!J150+CSVデータ4!J150","v":29},null,{"$f":"CSVデータ1!L150+CSVデータ2!L150+CSVデータ3!L150+CSVデータ4!L150","v":30},null,{"$f":"CSVデータ1!N150+CSVデータ2!N150+CSVデータ3!N150+CSVデータ4!N150","v":9.6},null,{"$f":"CSVデータ1!P150+CSVデータ2!P150+CSVデータ3!P150+CSVデータ4!P150","v":13.4},null,{"$f":"CSVデータ1!R150+CSVデータ2!R150+CSVデータ3!R150+CSVデータ4!R150","v":24.6},null,{"$f":"CSVデータ1!T150+CSVデータ2!T150+CSVデータ3!T150+CSVデータ4!T150","v":18.399999999999999},null,{"$f":"CSVデータ1!V150+CSVデータ2!V150+CSVデータ3!V150+CSVデータ4!V150","v":24.4},null,{"$f":"CSVデータ1!X150+CSVデータ2!X150+CSVデータ3!X150+CSVデータ4!X150","v":19.2},null,{"$f":"CSVデータ1!Z150+CSVデータ2!Z150+CSVデータ3!Z150+CSVデータ4!Z150","v":43},null,{"$f":"CSVデータ1!AB150+CSVデータ2!AB150+CSVデータ3!AB150+CSVデータ4!AB150","v":0.6},null,{"$f":"CSVデータ1!AD150+CSVデータ2!AD150+CSVデータ3!AD150+CSVデータ4!AD150","v":39},null,{"$f":"CSVデータ1!AF150+CSVデータ2!AF150+CSVデータ3!AF150+CSVデータ4!AF150","v":6.8}]
[{"$f":"CSVデータ1!A151","v":"明細部"},{"$f":"CSVデータ1!B151","v":"保険者（地区）"},{"$f":"CSVデータ1!C151","v":47},{"$f":"CSVデータ1!D151","v":"男"},{"$f":"CSVデータ1!E151+CSVデータ2!E151+CSVデータ3!E151+CSVデータ4!E151","v":68.2},{"$f":"CSVデータ1!F151+CSVデータ2!F151+CSVデータ3!F151+CSVデータ4!F151","v":27.8},null,{"$f":"CSVデータ1!H151+CSVデータ2!H151+CSVデータ3!H151+CSVデータ4!H151","v":36.6},null,{"$f":"CSVデータ1!J151+CSVデータ2!J151+CSVデータ3!J151+CSVデータ4!J151","v":23.2},null,{"$f":"CSVデータ1!L151+CSVデータ2!L151+CSVデータ3!L151+CSVデータ4!L151","v":23.4},null,{"$f":"CSVデータ1!N151+CSVデータ2!N151+CSVデータ3!N151+CSVデータ4!N151","v":4.8},null,{"$f":"CSVデータ1!P151+CSVデータ2!P151+CSVデータ3!P151+CSVデータ4!P151","v":10.4},null,{"$f":"CSVデータ1!R151+CSVデータ2!R151+CSVデータ3!R151+CSVデータ4!R151","v":23.4},null,{"$f":"CSVデータ1!T151+CSVデータ2!T151+CSVデータ3!T151+CSVデータ4!T151","v":16.2},null,{"$f":"CSVデータ1!V151+CSVデータ2!V151+CSVデータ3!V151+CSVデータ4!V151","v":22.2},null,{"$f":"CSVデータ1!X151+CSVデータ2!X151+CSVデータ3!X151+CSVデータ4!X151","v":17.8},null,{"$f":"CSVデータ1!Z151+CSVデータ2!Z151+CSVデータ3!Z151+CSVデータ4!Z151","v":40.4},null,{"$f":"CSVデータ1!AB151+CSVデータ2!AB151+CSVデータ3!AB151+CSVデータ4!AB151","v":0},null,{"$f":"CSVデータ1!AD151+CSVデータ2!AD151+CSVデータ3!AD151+CSVデータ4!AD151","v":36.4},null,{"$f":"CSVデータ1!AF151+CSVデータ2!AF151+CSVデータ3!AF151+CSVデータ4!AF151","v":8}]
[{"$f":"CSVデータ1!A152","v":"明細部"},{"$f":"CSVデータ1!B152","v":"保険者（地区）"},{"$f":"CSVデータ1!C152","v":48},{"$f":"CSVデータ1!D152","v":"男"},{"$f":"CSVデータ1!E152+CSVデータ2!E152+CSVデータ3!E152+CSVデータ4!E152","v":65.599999999999994},{"$f":"CSVデータ1!F152+CSVデータ2!F152+CSVデータ3!F152+CSVデータ4!F152","v":24.4},null,{"$f":"CSVデータ1!H152+CSVデータ2!H152+CSVデータ3!H152+CSVデータ4!H152","v":36.4},null,{"$f":"CSVデータ1!J152+CSVデータ2!J152+CSVデータ3!J152+CSVデータ4!J152","v":16.8},null,{"$f":"CSVデータ1!L152+CSVデータ2!L152+CSVデータ3!L152+CSVデータ4!L152","v":21.8},null,{"$f":"CSVデータ1!N152+CSVデータ2!N152+CSVデータ3!N152+CSVデータ4!N152","v":4.4000000000000004},null,{"$f":"CSVデータ1!P152+CSVデータ2!P152+CSVデータ3!P152+CSVデータ4!P152","v":9.8000000000000007},null,{"$f":"CSVデータ1!R152+CSVデータ2!R152+CSVデータ3!R152+CSVデータ4!R152","v":19.600000000000001},null,{"$f":"CSVデータ1!T152+CSVデータ2!T152+CSVデータ3!T152+CSVデータ4!T152","v":12.8},null,{"$f":"CSVデータ1!V152+CSVデータ2!V152+CSVデータ3!V152+CSVデータ4!V152","v":20.399999999999999},null,{"$f":"CSVデータ1!X152+CSVデータ2!X152+CSVデータ3!X152+CSVデータ4!X152","v":16.399999999999999},null,{"$f":"CSVデータ1!Z152+CSVデータ2!Z152+CSVデータ3!Z152+CSVデータ4!Z152","v":40.6},null,{"$f":"CSVデータ1!AB152+CSVデータ2!AB152+CSVデータ3!AB152+CSVデータ4!AB152","v":0},null,{"$f":"CSVデータ1!AD152+CSVデータ2!AD152+CSVデータ3!AD152+CSVデータ4!AD152","v":30.2},null,{"$f":"CSVデータ1!AF152+CSVデータ2!AF152+CSVデータ3!AF152+CSVデータ4!AF152","v":9.1999999999999993}]
[{"$f":"CSVデータ1!A153","v":"明細部"},{"$f":"CSVデータ1!B153","v":"保険者（地区）"},{"$f":"CSVデータ1!C153","v":49},{"$f":"CSVデータ1!D153","v":"男"},{"$f":"CSVデータ1!E153+CSVデータ2!E153+CSVデータ3!E153+CSVデータ4!E153","v":56.4},{"$f":"CSVデータ1!F153+CSVデータ2!F153+CSVデータ3!F153+CSVデータ4!F153","v":22.2},null,{"$f":"CSVデータ1!H153+CSVデータ2!H153+CSVデータ3!H153+CSVデータ4!H153","v":30.4},null,{"$f":"CSVデータ1!J153+CSVデータ2!J153+CSVデータ3!J153+CSVデータ4!J153","v":18.399999999999999},null,{"$f":"CSVデータ1!L153+CSVデータ2!L153+CSVデータ3!L153+CSVデータ4!L153","v":20.6},null,{"$f":"CSVデータ1!N153+CSVデータ2!N153+CSVデータ3!N153+CSVデータ4!N153","v":4.5999999999999996},null,{"$f":"CSVデータ1!P153+CSVデータ2!P153+CSVデータ3!P153+CSVデータ4!P153","v":8.8000000000000007},null,{"$f":"CSVデータ1!R153+CSVデータ2!R153+CSVデータ3!R153+CSVデータ4!R153","v":19.8},null,{"$f":"CSVデータ1!T153+CSVデータ2!T153+CSVデータ3!T153+CSVデータ4!T153","v":10.8},null,{"$f":"CSVデータ1!V153+CSVデータ2!V153+CSVデータ3!V153+CSVデータ4!V153","v":20},null,{"$f":"CSVデータ1!X153+CSVデータ2!X153+CSVデータ3!X153+CSVデータ4!X153","v":15.2},null,{"$f":"CSVデータ1!Z153+CSVデータ2!Z153+CSVデータ3!Z153+CSVデータ4!Z153","v":31.6},null,{"$f":"CSVデータ1!AB153+CSVデータ2!AB153+CSVデータ3!AB153+CSVデータ4!AB153","v":0.2},null,{"$f":"CSVデータ1!AD153+CSVデータ2!AD153+CSVデータ3!AD153+CSVデータ4!AD153","v":26.6},null,{"$f":"CSVデータ1!AF153+CSVデータ2!AF153+CSVデータ3!AF153+CSVデータ4!AF153","v":5.2}]
[{"$f":"CSVデータ1!A154","v":"明細部"},{"$f":"CSVデータ1!B154","v":"保険者（地区）"},{"$f":"CSVデータ1!C154","v":50},{"$f":"CSVデータ1!D154","v":"男"},{"$f":"CSVデータ1!E154+CSVデータ2!E154+CSVデータ3!E154+CSVデータ4!E154","v":69},{"$f":"CSVデータ1!F154+CSVデータ2!F154+CSVデータ3!F154+CSVデータ4!F154","v":29},null,{"$f":"CSVデータ1!H154+CSVデータ2!H154+CSVデータ3!H154+CSVデータ4!H154","v":40.799999999999997},null,{"$f":"CSVデータ1!J154+CSVデータ2!J154+CSVデータ3!J154+CSVデータ4!J154","v":22.2},null,{"$f":"CSVデータ1!L154+CSVデータ2!L154+CSVデータ3!L154+CSVデータ4!L154","v":25.8},null,{"$f":"CSVデータ1!N154+CSVデータ2!N154+CSVデータ3!N154+CSVデータ4!N154","v":5.2},null,{"$f":"CSVデータ1!P154+CSVデータ2!P154+CSVデータ3!P154+CSVデータ4!P154","v":13.2},null,{"$f":"CSVデータ1!R154+CSVデータ2!R154+CSVデータ3!R154+CSVデータ4!R154","v":24.8},null,{"$f":"CSVデータ1!T154+CSVデータ2!T154+CSVデータ3!T154+CSVデータ4!T154","v":10.4},null,{"$f":"CSVデータ1!V154+CSVデータ2!V154+CSVデータ3!V154+CSVデータ4!V154","v":25.8},null,{"$f":"CSVデータ1!X154+CSVデータ2!X154+CSVデータ3!X154+CSVデータ4!X154","v":22},null,{"$f":"CSVデータ1!Z154+CSVデータ2!Z154+CSVデータ3!Z154+CSVデータ4!Z154","v":34.6},null,{"$f":"CSVデータ1!AB154+CSVデータ2!AB154+CSVデータ3!AB154+CSVデータ4!AB154","v":0},null,{"$f":"CSVデータ1!AD154+CSVデータ2!AD154+CSVデータ3!AD154+CSVデータ4!AD154","v":28.6},null,{"$f":"CSVデータ1!AF154+CSVデータ2!AF154+CSVデータ3!AF154+CSVデータ4!AF154","v":8.1999999999999993}]
[{"$f":"CSVデータ1!A155","v":"明細部"},{"$f":"CSVデータ1!B155","v":"保険者（地区）"},{"$f":"CSVデータ1!C155","v":51},{"$f":"CSVデータ1!D155","v":"男"},{"$f":"CSVデータ1!E155+CSVデータ2!E155+CSVデータ3!E155+CSVデータ4!E155","v":67.2},{"$f":"CSVデータ1!F155+CSVデータ2!F155+CSVデータ3!F155+CSVデータ4!F155","v":28.2},null,{"$f":"CSVデータ1!H155+CSVデータ2!H155+CSVデータ3!H155+CSVデータ4!H155","v":39},null,{"$f":"CSVデータ1!J155+CSVデータ2!J155+CSVデータ3!J155+CSVデータ4!J155","v":23.2},null,{"$f":"CSVデータ1!L155+CSVデータ2!L155+CSVデータ3!L155+CSVデータ4!L155","v":20.399999999999999},null,{"$f":"CSVデータ1!N155+CSVデータ2!N155+CSVデータ3!N155+CSVデータ4!N155","v":5},null,{"$f":"CSVデータ1!P155+CSVデータ2!P155+CSVデータ3!P155+CSVデータ4!P155","v":10.8},null,{"$f":"CSVデータ1!R155+CSVデータ2!R155+CSVデータ3!R155+CSVデータ4!R155","v":23.6},null,{"$f":"CSVデータ1!T155+CSVデータ2!T155+CSVデータ3!T155+CSVデータ4!T155","v":15},null,{"$f":"CSVデータ1!V155+CSVデータ2!V155+CSVデータ3!V155+CSVデータ4!V155","v":27.2},null,{"$f":"CSVデータ1!X155+CSVデータ2!X155+CSVデータ3!X155+CSVデータ4!X155","v":19.600000000000001},null,{"$f":"CSVデータ1!Z155+CSVデータ2!Z155+CSVデータ3!Z155+CSVデータ4!Z155","v":44},null,{"$f":"CSVデータ1!AB155+CSVデータ2!AB155+CSVデータ3!AB155+CSVデータ4!AB155","v":0},null,{"$f":"CSVデータ1!AD155+CSVデータ2!AD155+CSVデータ3!AD155+CSVデータ4!AD155","v":36.200000000000003},null,{"$f":"CSVデータ1!AF155+CSVデータ2!AF155+CSVデータ3!AF155+CSVデータ4!AF155","v":8}]
[{"$f":"CSVデータ1!A156","v":"明細部"},{"$f":"CSVデータ1!B156","v":"保険者（地区）"},{"$f":"CSVデータ1!C156","v":52},{"$f":"CSVデータ1!D156","v":"男"},{"$f":"CSVデータ1!E156+CSVデータ2!E156+CSVデータ3!E156+CSVデータ4!E156","v":51.6},{"$f":"CSVデータ1!F156+CSVデータ2!F156+CSVデータ3!F156+CSVデータ4!F156","v":23},null,{"$f":"CSVデータ1!H156+CSVデータ2!H156+CSVデータ3!H156+CSVデータ4!H156","v":29},null,{"$f":"CSVデータ1!J156+CSVデータ2!J156+CSVデータ3!J156+CSVデータ4!J156","v":15},null,{"$f":"CSVデータ1!L156+CSVデータ2!L156+CSVデータ3!L156+CSVデータ4!L156","v":16.600000000000001},null,{"$f":"CSVデータ1!N156+CSVデータ2!N156+CSVデータ3!N156+CSVデータ4!N156","v":3.8},null,{"$f":"CSVデータ1!P156+CSVデータ2!P156+CSVデータ3!P156+CSVデータ4!P156","v":8.1999999999999993},null,{"$f":"CSVデータ1!R156+CSVデータ2!R156+CSVデータ3!R156+CSVデータ4!R156","v":18.600000000000001},null,{"$f":"CSVデータ1!T156+CSVデータ2!T156+CSVデータ3!T156+CSVデータ4!T156","v":8.8000000000000007},null,{"$f":"CSVデータ1!V156+CSVデータ2!V156+CSVデータ3!V156+CSVデータ4!V156","v":20.2},null,{"$f":"CSVデータ1!X156+CSVデータ2!X156+CSVデータ3!X156+CSVデータ4!X156","v":14.6},null,{"$f":"CSVデータ1!Z156+CSVデータ2!Z156+CSVデータ3!Z156+CSVデータ4!Z156","v":31},null,{"$f":"CSVデータ1!AB156+CSVデータ2!AB156+CSVデータ3!AB156+CSVデータ4!AB156","v":0.2},null,{"$f":"CSVデータ1!AD156+CSVデータ2!AD156+CSVデータ3!AD156+CSVデータ4!AD156","v":23.8},null,{"$f":"CSVデータ1!AF156+CSVデータ2!AF156+CSVデータ3!AF156+CSVデータ4!AF156","v":4.5999999999999996}]
[{"$f":"CSVデータ1!A157","v":"明細部"},{"$f":"CSVデータ1!B157","v":"保険者（地区）"},{"$f":"CSVデータ1!C157","v":53},{"$f":"CSVデータ1!D157","v":"男"},{"$f":"CSVデータ1!E157+CSVデータ2!E157+CSVデータ3!E157+CSVデータ4!E157","v":68},{"$f":"CSVデータ1!F157+CSVデータ2!F157+CSVデータ3!F157+CSVデータ4!F157","v":26.2},null,{"$f":"CSVデータ1!H157+CSVデータ2!H157+CSVデータ3!H157+CSVデータ4!H157","v":39.799999999999997},null,{"$f":"CSVデータ1!J157+CSVデータ2!J157+CSVデータ3!J157+CSVデータ4!J157","v":22},null,{"$f":"CSVデータ1!L157+CSVデータ2!L157+CSVデータ3!L157+CSVデータ4!L157","v":21.6},null,{"$f":"CSVデータ1!N157+CSVデータ2!N157+CSVデータ3!N157+CSVデータ4!N157","v":3.8},null,{"$f":"CSVデータ1!P157+CSVデータ2!P157+CSVデータ3!P157+CSVデータ4!P157","v":11.2},null,{"$f":"CSVデータ1!R157+CSVデータ2!R157+CSVデータ3!R157+CSVデータ4!R157","v":28.4},null,{"$f":"CSVデータ1!T157+CSVデータ2!T157+CSVデータ3!T157+CSVデータ4!T157","v":10.8},null,{"$f":"CSVデータ1!V157+CSVデータ2!V157+CSVデータ3!V157+CSVデータ4!V157","v":26.4},null,{"$f":"CSVデータ1!X157+CSVデータ2!X157+CSVデータ3!X157+CSVデータ4!X157","v":19.600000000000001},null,{"$f":"CSVデータ1!Z157+CSVデータ2!Z157+CSVデータ3!Z157+CSVデータ4!Z157","v":37.6},null,{"$f":"CSVデータ1!AB157+CSVデータ2!AB157+CSVデータ3!AB157+CSVデータ4!AB157","v":0.2},null,{"$f":"CSVデータ1!AD157+CSVデータ2!AD157+CSVデータ3!AD157+CSVデータ4!AD157","v":37.799999999999997},null,{"$f":"CSVデータ1!AF157+CSVデータ2!AF157+CSVデータ3!AF157+CSVデータ4!AF157","v":7.8}]
[{"$f":"CSVデータ1!A158","v":"明細部"},{"$f":"CSVデータ1!B158","v":"保険者（地区）"},{"$f":"CSVデータ1!C158","v":54},{"$f":"CSVデータ1!D158","v":"男"},{"$f":"CSVデータ1!E158+CSVデータ2!E158+CSVデータ3!E158+CSVデータ4!E158","v":69.599999999999994},{"$f":"CSVデータ1!F158+CSVデータ2!F158+CSVデータ3!F158+CSVデータ4!F158","v":26.6},null,{"$f":"CSVデータ1!H158+CSVデータ2!H158+CSVデータ3!H158+CSVデータ4!H158","v":40.4},null,{"$f":"CSVデータ1!J158+CSVデータ2!J158+CSVデータ3!J158+CSVデータ4!J158","v":25.8},null,{"$f":"CSVデータ1!L158+CSVデータ2!L158+CSVデータ3!L158+CSVデータ4!L158","v":20.8},null,{"$f":"CSVデータ1!N158+CSVデータ2!N158+CSVデータ3!N158+CSVデータ4!N158","v":5.4},null,{"$f":"CSVデータ1!P158+CSVデータ2!P158+CSVデータ3!P158+CSVデータ4!P158","v":12.4},null,{"$f":"CSVデータ1!R158+CSVデータ2!R158+CSVデータ3!R158+CSVデータ4!R158","v":29.2},null,{"$f":"CSVデータ1!T158+CSVデータ2!T158+CSVデータ3!T158+CSVデータ4!T158","v":10.4},null,{"$f":"CSVデータ1!V158+CSVデータ2!V158+CSVデータ3!V158+CSVデータ4!V158","v":30},null,{"$f":"CSVデータ1!X158+CSVデータ2!X158+CSVデータ3!X158+CSVデータ4!X158","v":21.6},null,{"$f":"CSVデータ1!Z158+CSVデータ2!Z158+CSVデータ3!Z158+CSVデータ4!Z158","v":40},null,{"$f":"CSVデータ1!AB158+CSVデータ2!AB158+CSVデータ3!AB158+CSVデータ4!AB158","v":0.8},null,{"$f":"CSVデータ1!AD158+CSVデータ2!AD158+CSVデータ3!AD158+CSVデータ4!AD158","v":34.6},null,{"$f":"CSVデータ1!AF158+CSVデータ2!AF158+CSVデータ3!AF158+CSVデータ4!AF158","v":7.6}]
[{"$f":"CSVデータ1!A159","v":"明細部"},{"$f":"CSVデータ1!B159","v":"保険者（地区）"},{"$f":"CSVデータ1!C159","v":55},{"$f":"CSVデータ1!D159","v":"男"},{"$f":"CSVデータ1!E159+CSVデータ2!E159+CSVデータ3!E159+CSVデータ4!E159","v":72.400000000000006},{"$f":"CSVデータ1!F159+CSVデータ2!F159+CSVデータ3!F159+CSVデータ4!F159","v":24.4},null,{"$f":"CSVデータ1!H159+CSVデータ2!H159+CSVデータ3!H159+CSVデータ4!H159","v":36.4},null,{"$f":"CSVデータ1!J159+CSVデータ2!J159+CSVデータ3!J159+CSVデータ4!J159","v":22.6},null,{"$f":"CSVデータ1!L159+CSVデータ2!L159+CSVデータ3!L159+CSVデータ4!L159","v":19.2},null,{"$f":"CSVデータ1!N159+CSVデータ2!N159+CSVデータ3!N159+CSVデータ4!N159","v":4.5999999999999996},null,{"$f":"CSVデータ1!P159+CSVデータ2!P159+CSVデータ3!P159+CSVデータ4!P159","v":17.600000000000001},null,{"$f":"CSVデータ1!R159+CSVデータ2!R159+CSVデータ3!R159+CSVデータ4!R159","v":25.2},null,{"$f":"CSVデータ1!T159+CSVデータ2!T159+CSVデータ3!T159+CSVデータ4!T159","v":15.2},null,{"$f":"CSVデータ1!V159+CSVデータ2!V159+CSVデータ3!V159+CSVデータ4!V159","v":27.4},null,{"$f":"CSVデータ1!X159+CSVデータ2!X159+CSVデータ3!X159+CSVデータ4!X159","v":20.6},null,{"$f":"CSVデータ1!Z159+CSVデータ2!Z159+CSVデータ3!Z159+CSVデータ4!Z159","v":38.799999999999997},null,{"$f":"CSVデータ1!AB159+CSVデータ2!AB159+CSVデータ3!AB159+CSVデータ4!AB159","v":1},null,{"$f":"CSVデータ1!AD159+CSVデータ2!AD159+CSVデータ3!AD159+CSVデータ4!AD159","v":37.799999999999997},null,{"$f":"CSVデータ1!AF159+CSVデータ2!AF159+CSVデータ3!AF159+CSVデータ4!AF159","v":9.4}]
[{"$f":"CSVデータ1!A160","v":"明細部"},{"$f":"CSVデータ1!B160","v":"保険者（地区）"},{"$f":"CSVデータ1!C160","v":56},{"$f":"CSVデータ1!D160","v":"男"},{"$f":"CSVデータ1!E160+CSVデータ2!E160+CSVデータ3!E160+CSVデータ4!E160","v":70.2},{"$f":"CSVデータ1!F160+CSVデータ2!F160+CSVデータ3!F160+CSVデータ4!F160","v":26.4},null,{"$f":"CSVデータ1!H160+CSVデータ2!H160+CSVデータ3!H160+CSVデータ4!H160","v":38.4},null,{"$f":"CSVデータ1!J160+CSVデータ2!J160+CSVデータ3!J160+CSVデータ4!J160","v":24.8},null,{"$f":"CSVデータ1!L160+CSVデータ2!L160+CSVデータ3!L160+CSVデータ4!L160","v":22.2},null,{"$f":"CSVデータ1!N160+CSVデータ2!N160+CSVデータ3!N160+CSVデータ4!N160","v":7.4},null,{"$f":"CSVデータ1!P160+CSVデータ2!P160+CSVデータ3!P160+CSVデータ4!P160","v":15.2},null,{"$f":"CSVデータ1!R160+CSVデータ2!R160+CSVデータ3!R160+CSVデータ4!R160","v":32.799999999999997},null,{"$f":"CSVデータ1!T160+CSVデータ2!T160+CSVデータ3!T160+CSVデータ4!T160","v":14.2},null,{"$f":"CSVデータ1!V160+CSVデータ2!V160+CSVデータ3!V160+CSVデータ4!V160","v":32.4},null,{"$f":"CSVデータ1!X160+CSVデータ2!X160+CSVデータ3!X160+CSVデータ4!X160","v":22},null,{"$f":"CSVデータ1!Z160+CSVデータ2!Z160+CSVデータ3!Z160+CSVデータ4!Z160","v":36.200000000000003},null,{"$f":"CSVデータ1!AB160+CSVデータ2!AB160+CSVデータ3!AB160+CSVデータ4!AB160","v":0.4},null,{"$f":"CSVデータ1!AD160+CSVデータ2!AD160+CSVデータ3!AD160+CSVデータ4!AD160","v":34.6},null,{"$f":"CSVデータ1!AF160+CSVデータ2!AF160+CSVデータ3!AF160+CSVデータ4!AF160","v":7.8}]
[{"$f":"CSVデータ1!A161","v":"明細部"},{"$f":"CSVデータ1!B161","v":"保険者（地区）"},{"$f":"CSVデータ1!C161","v":57},{"$f":"CSVデータ1!D161","v":"男"},{"$f":"CSVデータ1!E161+CSVデータ2!E161+CSVデータ3!E161+CSVデータ4!E161","v":67},{"$f":"CSVデータ1!F161+CSVデータ2!F161+CSVデータ3!F161+CSVデータ4!F161","v":27.2},null,{"$f":"CSVデータ1!H161+CSVデータ2!H161+CSVデータ3!H161+CSVデータ4!H161","v":38.799999999999997},null,{"$f":"CSVデータ1!J161+CSVデータ2!J161+CSVデータ3!J161+CSVデータ4!J161","v":23},null,{"$f":"CSVデータ1!L161+CSVデータ2!L161+CSVデータ3!L161+CSVデータ4!L161","v":20},null,{"$f":"CSVデータ1!N161+CSVデータ2!N161+CSVデータ3!N161+CSVデータ4!N161","v":3.6},null,{"$f":"CSVデータ1!P161+CSVデータ2!P161+CSVデータ3!P161+CSVデータ4!P161","v":12.8},null,{"$f":"CSVデータ1!R161+CSVデータ2!R161+CSVデータ3!R161+CSVデータ4!R161","v":29.2},null,{"$f":"CSVデータ1!T161+CSVデータ2!T161+CSVデータ3!T161+CSVデータ4!T161","v":10.199999999999999},null,{"$f":"CSVデータ1!V161+CSVデータ2!V161+CSVデータ3!V161+CSVデータ4!V161","v":33.799999999999997},null,{"$f":"CSVデータ1!X161+CSVデータ2!X161+CSVデータ3!X161+CSVデータ4!X161","v":20.8},null,{"$f":"CSVデータ1!Z161+CSVデータ2!Z161+CSVデータ3!Z161+CSVデータ4!Z161","v":39.4},null,{"$f":"CSVデータ1!AB161+CSVデータ2!AB161+CSVデータ3!AB161+CSVデータ4!AB161","v":1.2},null,{"$f":"CSVデータ1!AD161+CSVデータ2!AD161+CSVデータ3!AD161+CSVデータ4!AD161","v":30.4},null,{"$f":"CSVデータ1!AF161+CSVデータ2!AF161+CSVデータ3!AF161+CSVデータ4!AF161","v":8.4}]
[{"$f":"CSVデータ1!A162","v":"明細部"},{"$f":"CSVデータ1!B162","v":"保険者（地区）"},{"$f":"CSVデータ1!C162","v":58},{"$f":"CSVデータ1!D162","v":"男"},{"$f":"CSVデータ1!E162+CSVデータ2!E162+CSVデータ3!E162+CSVデータ4!E162","v":64.599999999999994},{"$f":"CSVデータ1!F162+CSVデータ2!F162+CSVデータ3!F162+CSVデータ4!F162","v":23},null,{"$f":"CSVデータ1!H162+CSVデータ2!H162+CSVデータ3!H162+CSVデータ4!H162","v":38.6},null,{"$f":"CSVデータ1!J162+CSVデータ2!J162+CSVデータ3!J162+CSVデータ4!J162","v":21.8},null,{"$f":"CSVデータ1!L162+CSVデータ2!L162+CSVデータ3!L162+CSVデータ4!L162","v":18.8},null,{"$f":"CSVデータ1!N162+CSVデータ2!N162+CSVデータ3!N162+CSVデータ4!N162","v":4},null,{"$f":"CSVデータ1!P162+CSVデータ2!P162+CSVデータ3!P162+CSVデータ4!P162","v":15.4},null,{"$f":"CSVデータ1!R162+CSVデータ2!R162+CSVデータ3!R162+CSVデータ4!R162","v":26},null,{"$f":"CSVデータ1!T162+CSVデータ2!T162+CSVデータ3!T162+CSVデータ4!T162","v":12.4},null,{"$f":"CSVデータ1!V162+CSVデータ2!V162+CSVデータ3!V162+CSVデータ4!V162","v":24.4},null,{"$f":"CSVデータ1!X162+CSVデータ2!X162+CSVデータ3!X162+CSVデータ4!X162","v":17.600000000000001},null,{"$f":"CSVデータ1!Z162+CSVデータ2!Z162+CSVデータ3!Z162+CSVデータ4!Z162","v":39},null,{"$f":"CSVデータ1!AB162+CSVデータ2!AB162+CSVデータ3!AB162+CSVデータ4!AB162","v":0.4},null,{"$f":"CSVデータ1!AD162+CSVデータ2!AD162+CSVデータ3!AD162+CSVデータ4!AD162","v":38.6},null,{"$f":"CSVデータ1!AF162+CSVデータ2!AF162+CSVデータ3!AF162+CSVデータ4!AF162","v":5.2}]
[{"$f":"CSVデータ1!A163","v":"明細部"},{"$f":"CSVデータ1!B163","v":"保険者（地区）"},{"$f":"CSVデータ1!C163","v":59},{"$f":"CSVデータ1!D163","v":"男"},{"$f":"CSVデータ1!E163+CSVデータ2!E163+CSVデータ3!E163+CSVデータ4!E163","v":80.8},{"$f":"CSVデータ1!F163+CSVデータ2!F163+CSVデータ3!F163+CSVデータ4!F163","v":27.6},null,{"$f":"CSVデータ1!H163+CSVデータ2!H163+CSVデータ3!H163+CSVデータ4!H163","v":48},null,{"$f":"CSVデータ1!J163+CSVデータ2!J163+CSVデータ3!J163+CSVデータ4!J163","v":28},null,{"$f":"CSVデータ1!L163+CSVデータ2!L163+CSVデータ3!L163+CSVデータ4!L163","v":20},null,{"$f":"CSVデータ1!N163+CSVデータ2!N163+CSVデータ3!N163+CSVデータ4!N163","v":5.4},null,{"$f":"CSVデータ1!P163+CSVデータ2!P163+CSVデータ3!P163+CSVデータ4!P163","v":22},null,{"$f":"CSVデータ1!R163+CSVデータ2!R163+CSVデータ3!R163+CSVデータ4!R163","v":38.6},null,{"$f":"CSVデータ1!T163+CSVデータ2!T163+CSVデータ3!T163+CSVデータ4!T163","v":16.2},null,{"$f":"CSVデータ1!V163+CSVデータ2!V163+CSVデータ3!V163+CSVデータ4!V163","v":37.6},null,{"$f":"CSVデータ1!X163+CSVデータ2!X163+CSVデータ3!X163+CSVデータ4!X163","v":25.4},null,{"$f":"CSVデータ1!Z163+CSVデータ2!Z163+CSVデータ3!Z163+CSVデータ4!Z163","v":40.799999999999997},null,{"$f":"CSVデータ1!AB163+CSVデータ2!AB163+CSVデータ3!AB163+CSVデータ4!AB163","v":0.2},null,{"$f":"CSVデータ1!AD163+CSVデータ2!AD163+CSVデータ3!AD163+CSVデータ4!AD163","v":41.6},null,{"$f":"CSVデータ1!AF163+CSVデータ2!AF163+CSVデータ3!AF163+CSVデータ4!AF163","v":8.1999999999999993}]
[{"$f":"CSVデータ1!A164","v":"明細部"},{"$f":"CSVデータ1!B164","v":"保険者（地区）"},{"$f":"CSVデータ1!C164","v":60},{"$f":"CSVデータ1!D164","v":"男"},{"$f":"CSVデータ1!E164+CSVデータ2!E164+CSVデータ3!E164+CSVデータ4!E164","v":81},{"$f":"CSVデータ1!F164+CSVデータ2!F164+CSVデータ3!F164+CSVデータ4!F164","v":27.6},null,{"$f":"CSVデータ1!H164+CSVデータ2!H164+CSVデータ3!H164+CSVデータ4!H164","v":48},null,{"$f":"CSVデータ1!J164+CSVデータ2!J164+CSVデータ3!J164+CSVデータ4!J164","v":27.4},null,{"$f":"CSVデータ1!L164+CSVデータ2!L164+CSVデータ3!L164+CSVデータ4!L164","v":21.4},null,{"$f":"CSVデータ1!N164+CSVデータ2!N164+CSVデータ3!N164+CSVデータ4!N164","v":7},null,{"$f":"CSVデータ1!P164+CSVデータ2!P164+CSVデータ3!P164+CSVデータ4!P164","v":21.4},null,{"$f":"CSVデータ1!R164+CSVデータ2!R164+CSVデータ3!R164+CSVデータ4!R164","v":43},null,{"$f":"CSVデータ1!T164+CSVデータ2!T164+CSVデータ3!T164+CSVデータ4!T164","v":14.6},null,{"$f":"CSVデータ1!V164+CSVデータ2!V164+CSVデータ3!V164+CSVデータ4!V164","v":37.6},null,{"$f":"CSVデータ1!X164+CSVデータ2!X164+CSVデータ3!X164+CSVデータ4!X164","v":26.4},null,{"$f":"CSVデータ1!Z164+CSVデータ2!Z164+CSVデータ3!Z164+CSVデータ4!Z164","v":43.6},null,{"$f":"CSVデータ1!AB164+CSVデータ2!AB164+CSVデータ3!AB164+CSVデータ4!AB164","v":1.2},null,{"$f":"CSVデータ1!AD164+CSVデータ2!AD164+CSVデータ3!AD164+CSVデータ4!AD164","v":44.8},null,{"$f":"CSVデータ1!AF164+CSVデータ2!AF164+CSVデータ3!AF164+CSVデータ4!AF164","v":6.6}]
[{"$f":"CSVデータ1!A165","v":"明細部"},{"$f":"CSVデータ1!B165","v":"保険者（地区）"},{"$f":"CSVデータ1!C165","v":61},{"$f":"CSVデータ1!D165","v":"男"},{"$f":"CSVデータ1!E165+CSVデータ2!E165+CSVデータ3!E165+CSVデータ4!E165","v":96.2},{"$f":"CSVデータ1!F165+CSVデータ2!F165+CSVデータ3!F165+CSVデータ4!F165","v":35.799999999999997},null,{"$f":"CSVデータ1!H165+CSVデータ2!H165+CSVデータ3!H165+CSVデータ4!H165","v":53.8},null,{"$f":"CSVデータ1!J165+CSVデータ2!J165+CSVデータ3!J165+CSVデータ4!J165","v":31.6},null,{"$f":"CSVデータ1!L165+CSVデータ2!L165+CSVデータ3!L165+CSVデータ4!L165","v":24},null,{"$f":"CSVデータ1!N165+CSVデータ2!N165+CSVデータ3!N165+CSVデータ4!N165","v":8.4},null,{"$f":"CSVデータ1!P165+CSVデータ2!P165+CSVデータ3!P165+CSVデータ4!P165","v":28.2},null,{"$f":"CSVデータ1!R165+CSVデータ2!R165+CSVデータ3!R165+CSVデータ4!R165","v":52.8},null,{"$f":"CSVデータ1!T165+CSVデータ2!T165+CSVデータ3!T165+CSVデータ4!T165","v":16.600000000000001},null,{"$f":"CSVデータ1!V165+CSVデータ2!V165+CSVデータ3!V165+CSVデータ4!V165","v":43.4},null,{"$f":"CSVデータ1!X165+CSVデータ2!X165+CSVデータ3!X165+CSVデータ4!X165","v":24.6},null,{"$f":"CSVデータ1!Z165+CSVデータ2!Z165+CSVデータ3!Z165+CSVデータ4!Z165","v":45.8},null,{"$f":"CSVデータ1!AB165+CSVデータ2!AB165+CSVデータ3!AB165+CSVデータ4!AB165","v":0.8},null,{"$f":"CSVデータ1!AD165+CSVデータ2!AD165+CSVデータ3!AD165+CSVデータ4!AD165","v":51.2},null,{"$f":"CSVデータ1!AF165+CSVデータ2!AF165+CSVデータ3!AF165+CSVデータ4!AF165","v":10.4}]
[{"$f":"CSVデータ1!A166","v":"明細部"},{"$f":"CSVデータ1!B166","v":"保険者（地区）"},{"$f":"CSVデータ1!C166","v":62},{"$f":"CSVデータ1!D166","v":"男"},{"$f":"CSVデータ1!E166+CSVデータ2!E166+CSVデータ3!E166+CSVデータ4!E166","v":127.2},{"$f":"CSVデータ1!F166+CSVデータ2!F166+CSVデータ3!F166+CSVデータ4!F166","v":46.8},null,{"$f":"CSVデータ1!H166+CSVデータ2!H166+CSVデータ3!H166+CSVデータ4!H166","v":69.599999999999994},null,{"$f":"CSVデータ1!J166+CSVデータ2!J166+CSVデータ3!J166+CSVデータ4!J166","v":40},null,{"$f":"CSVデータ1!L166+CSVデータ2!L166+CSVデータ3!L166+CSVデータ4!L166","v":30.8},null,{"$f":"CSVデータ1!N166+CSVデータ2!N166+CSVデータ3!N166+CSVデータ4!N166","v":11},null,{"$f":"CSVデータ1!P166+CSVデータ2!P166+CSVデータ3!P166+CSVデータ4!P166","v":35.799999999999997},null,{"$f":"CSVデータ1!R166+CSVデータ2!R166+CSVデータ3!R166+CSVデータ4!R166","v":69.599999999999994},null,{"$f":"CSVデータ1!T166+CSVデータ2!T166+CSVデータ3!T166+CSVデータ4!T166","v":19.8},null,{"$f":"CSVデータ1!V166+CSVデータ2!V166+CSVデータ3!V166+CSVデータ4!V166","v":61.6},null,{"$f":"CSVデータ1!X166+CSVデータ2!X166+CSVデータ3!X166+CSVデータ4!X166","v":37.4},null,{"$f":"CSVデータ1!Z166+CSVデータ2!Z166+CSVデータ3!Z166+CSVデータ4!Z166","v":64.599999999999994},null,{"$f":"CSVデータ1!AB166+CSVデータ2!AB166+CSVデータ3!AB166+CSVデータ4!AB166","v":1.8},null,{"$f":"CSVデータ1!AD166+CSVデータ2!AD166+CSVデータ3!AD166+CSVデータ4!AD166","v":73.8},null,{"$f":"CSVデータ1!AF166+CSVデータ2!AF166+CSVデータ3!AF166+CSVデータ4!AF166","v":14.8}]
[{"$f":"CSVデータ1!A167","v":"明細部"},{"$f":"CSVデータ1!B167","v":"保険者（地区）"},{"$f":"CSVデータ1!C167","v":63},{"$f":"CSVデータ1!D167","v":"男"},{"$f":"CSVデータ1!E167+CSVデータ2!E167+CSVデータ3!E167+CSVデータ4!E167","v":163.6},{"$f":"CSVデータ1!F167+CSVデータ2!F167+CSVデータ3!F167+CSVデータ4!F167","v":59.8},null,{"$f":"CSVデータ1!H167+CSVデータ2!H167+CSVデータ3!H167+CSVデータ4!H167","v":94.8},null,{"$f":"CSVデータ1!J167+CSVデータ2!J167+CSVデータ3!J167+CSVデータ4!J167","v":49},null,{"$f":"CSVデータ1!L167+CSVデータ2!L167+CSVデータ3!L167+CSVデータ4!L167","v":42.6},null,{"$f":"CSVデータ1!N167+CSVデータ2!N167+CSVデータ3!N167+CSVデータ4!N167","v":11.6},null,{"$f":"CSVデータ1!P167+CSVデータ2!P167+CSVデータ3!P167+CSVデータ4!P167","v":50.2},null,{"$f":"CSVデータ1!R167+CSVデータ2!R167+CSVデータ3!R167+CSVデータ4!R167","v":87.6},null,{"$f":"CSVデータ1!T167+CSVデータ2!T167+CSVデータ3!T167+CSVデータ4!T167","v":27.2},null,{"$f":"CSVデータ1!V167+CSVデータ2!V167+CSVデータ3!V167+CSVデータ4!V167","v":81.2},null,{"$f":"CSVデータ1!X167+CSVデータ2!X167+CSVデータ3!X167+CSVデータ4!X167","v":44.2},null,{"$f":"CSVデータ1!Z167+CSVデータ2!Z167+CSVデータ3!Z167+CSVデータ4!Z167","v":79.400000000000006},null,{"$f":"CSVデータ1!AB167+CSVデータ2!AB167+CSVデータ3!AB167+CSVデータ4!AB167","v":1},null,{"$f":"CSVデータ1!AD167+CSVデータ2!AD167+CSVデータ3!AD167+CSVデータ4!AD167","v":86.2},null,{"$f":"CSVデータ1!AF167+CSVデータ2!AF167+CSVデータ3!AF167+CSVデータ4!AF167","v":16.600000000000001}]
[{"$f":"CSVデータ1!A168","v":"明細部"},{"$f":"CSVデータ1!B168","v":"保険者（地区）"},{"$f":"CSVデータ1!C168","v":64},{"$f":"CSVデータ1!D168","v":"男"},{"$f":"CSVデータ1!E168+CSVデータ2!E168+CSVデータ3!E168+CSVデータ4!E168","v":242.4},{"$f":"CSVデータ1!F168+CSVデータ2!F168+CSVデータ3!F168+CSVデータ4!F168","v":77.8},null,{"$f":"CSVデータ1!H168+CSVデータ2!H168+CSVデータ3!H168+CSVデータ4!H168","v":131.4},null,{"$f":"CSVデータ1!J168+CSVデータ2!J168+CSVデータ3!J168+CSVデータ4!J168","v":67.8},null,{"$f":"CSVデータ1!L168+CSVデータ2!L168+CSVデータ3!L168+CSVデータ4!L168","v":48.2},null,{"$f":"CSVデータ1!N168+CSVデータ2!N168+CSVデータ3!N168+CSVデータ4!N168","v":16.8},null,{"$f":"CSVデータ1!P168+CSVデータ2!P168+CSVデータ3!P168+CSVデータ4!P168","v":71.400000000000006},null,{"$f":"CSVデータ1!R168+CSVデータ2!R168+CSVデータ3!R168+CSVデータ4!R168","v":129.19999999999999},null,{"$f":"CSVデータ1!T168+CSVデータ2!T168+CSVデータ3!T168+CSVデータ4!T168","v":39.200000000000003},null,{"$f":"CSVデータ1!V168+CSVデータ2!V168+CSVデータ3!V168+CSVデータ4!V168","v":109.2},null,{"$f":"CSVデータ1!X168+CSVデータ2!X168+CSVデータ3!X168+CSVデータ4!X168","v":62.6},null,{"$f":"CSVデータ1!Z168+CSVデータ2!Z168+CSVデータ3!Z168+CSVデータ4!Z168","v":127.8},null,{"$f":"CSVデータ1!AB168+CSVデータ2!AB168+CSVデータ3!AB168+CSVデータ4!AB168","v":3.6},null,{"$f":"CSVデータ1!AD168+CSVデータ2!AD168+CSVデータ3!AD168+CSVデータ4!AD168","v":122.6},null,{"$f":"CSVデータ1!AF168+CSVデータ2!AF168+CSVデータ3!AF168+CSVデータ4!AF168","v":26.2}]
[{"$f":"CSVデータ1!A169","v":"明細部"},{"$f":"CSVデータ1!B169","v":"保険者（地区）"},{"$f":"CSVデータ1!C169","v":65},{"$f":"CSVデータ1!D169","v":"男"},{"$f":"CSVデータ1!E169+CSVデータ2!E169+CSVデータ3!E169+CSVデータ4!E169","v":284.39999999999998},{"$f":"CSVデータ1!F169+CSVデータ2!F169+CSVデータ3!F169+CSVデータ4!F169","v":93.4},null,{"$f":"CSVデータ1!H169+CSVデータ2!H169+CSVデータ3!H169+CSVデータ4!H169","v":169.8},null,{"$f":"CSVデータ1!J169+CSVデータ2!J169+CSVデータ3!J169+CSVデータ4!J169","v":86.2},null,{"$f":"CSVデータ1!L169+CSVデータ2!L169+CSVデータ3!L169+CSVデータ4!L169","v":66},null,{"$f":"CSVデータ1!N169+CSVデータ2!N169+CSVデータ3!N169+CSVデータ4!N169","v":21.4},null,{"$f":"CSVデータ1!P169+CSVデータ2!P169+CSVデータ3!P169+CSVデータ4!P169","v":82.2},null,{"$f":"CSVデータ1!R169+CSVデータ2!R169+CSVデータ3!R169+CSVデータ4!R169","v":170.4},null,{"$f":"CSVデータ1!T169+CSVデータ2!T169+CSVデータ3!T169+CSVデータ4!T169","v":47.6},null,{"$f":"CSVデータ1!V169+CSVデータ2!V169+CSVデータ3!V169+CSVデータ4!V169","v":153},null,{"$f":"CSVデータ1!X169+CSVデータ2!X169+CSVデータ3!X169+CSVデータ4!X169","v":83.6},null,{"$f":"CSVデータ1!Z169+CSVデータ2!Z169+CSVデータ3!Z169+CSVデータ4!Z169","v":143.80000000000001},null,{"$f":"CSVデータ1!AB169+CSVデータ2!AB169+CSVデータ3!AB169+CSVデータ4!AB169","v":4},null,{"$f":"CSVデータ1!AD169+CSVデータ2!AD169+CSVデータ3!AD169+CSVデータ4!AD169","v":165.4},null,{"$f":"CSVデータ1!AF169+CSVデータ2!AF169+CSVデータ3!AF169+CSVデータ4!AF169","v":36.799999999999997}]
[{"$f":"CSVデータ1!A170","v":"明細部"},{"$f":"CSVデータ1!B170","v":"保険者（地区）"},{"$f":"CSVデータ1!C170","v":66},{"$f":"CSVデータ1!D170","v":"男"},{"$f":"CSVデータ1!E170+CSVデータ2!E170+CSVデータ3!E170+CSVデータ4!E170","v":385.6},{"$f":"CSVデータ1!F170+CSVデータ2!F170+CSVデータ3!F170+CSVデータ4!F170","v":116.8},null,{"$f":"CSVデータ1!H170+CSVデータ2!H170+CSVデータ3!H170+CSVデータ4!H170","v":206.4},null,{"$f":"CSVデータ1!J170+CSVデータ2!J170+CSVデータ3!J170+CSVデータ4!J170","v":108.2},null,{"$f":"CSVデータ1!L170+CSVデータ2!L170+CSVデータ3!L170+CSVデータ4!L170","v":81.400000000000006},null,{"$f":"CSVデータ1!N170+CSVデータ2!N170+CSVデータ3!N170+CSVデータ4!N170","v":27.4},null,{"$f":"CSVデータ1!P170+CSVデータ2!P170+CSVデータ3!P170+CSVデータ4!P170","v":116.6},null,{"$f":"CSVデータ1!R170+CSVデータ2!R170+CSVデータ3!R170+CSVデータ4!R170","v":219.4},null,{"$f":"CSVデータ1!T170+CSVデータ2!T170+CSVデータ3!T170+CSVデータ4!T170","v":68.400000000000006},null,{"$f":"CSVデータ1!V170+CSVデータ2!V170+CSVデータ3!V170+CSVデータ4!V170","v":194},null,{"$f":"CSVデータ1!X170+CSVデータ2!X170+CSVデータ3!X170+CSVデータ4!X170","v":101.2},null,{"$f":"CSVデータ1!Z170+CSVデータ2!Z170+CSVデータ3!Z170+CSVデータ4!Z170","v":181.4},null,{"$f":"CSVデータ1!AB170+CSVデータ2!AB170+CSVデータ3!AB170+CSVデータ4!AB170","v":5.8},null,{"$f":"CSVデータ1!AD170+CSVデータ2!AD170+CSVデータ3!AD170+CSVデータ4!AD170","v":232.2},null,{"$f":"CSVデータ1!AF170+CSVデータ2!AF170+CSVデータ3!AF170+CSVデータ4!AF170","v":44.2}]
[{"$f":"CSVデータ1!A171","v":"明細部"},{"$f":"CSVデータ1!B171","v":"保険者（地区）"},{"$f":"CSVデータ1!C171","v":67},{"$f":"CSVデータ1!D171","v":"男"},{"$f":"CSVデータ1!E171+CSVデータ2!E171+CSVデータ3!E171+CSVデータ4!E171","v":456.8},{"$f":"CSVデータ1!F171+CSVデータ2!F171+CSVデータ3!F171+CSVデータ4!F171","v":145.19999999999999},null,{"$f":"CSVデータ1!H171+CSVデータ2!H171+CSVデータ3!H171+CSVデータ4!H171","v":243},null,{"$f":"CSVデータ1!J171+CSVデータ2!J171+CSVデータ3!J171+CSVデータ4!J171","v":121.4},null,{"$f":"CSVデータ1!L171+CSVデータ2!L171+CSVデータ3!L171+CSVデータ4!L171","v":94.6},null,{"$f":"CSVデータ1!N171+CSVデータ2!N171+CSVデータ3!N171+CSVデータ4!N171","v":34.200000000000003},null,{"$f":"CSVデータ1!P171+CSVデータ2!P171+CSVデータ3!P171+CSVデータ4!P171","v":146},null,{"$f":"CSVデータ1!R171+CSVデータ2!R171+CSVデータ3!R171+CSVデータ4!R171","v":259.60000000000002},null,{"$f":"CSVデータ1!T171+CSVデータ2!T171+CSVデータ3!T171+CSVデータ4!T171","v":71.8},null,{"$f":"CSVデータ1!V171+CSVデータ2!V171+CSVデータ3!V171+CSVデータ4!V171","v":228.8},null,{"$f":"CSVデータ1!X171+CSVデータ2!X171+CSVデータ3!X171+CSVデータ4!X171","v":111},null,{"$f":"CSVデータ1!Z171+CSVデータ2!Z171+CSVデータ3!Z171+CSVデータ4!Z171","v":223},null,{"$f":"CSVデータ1!AB171+CSVデータ2!AB171+CSVデータ3!AB171+CSVデータ4!AB171","v":9.6},null,{"$f":"CSVデータ1!AD171+CSVデータ2!AD171+CSVデータ3!AD171+CSVデータ4!AD171","v":292.39999999999998},null,{"$f":"CSVデータ1!AF171+CSVデータ2!AF171+CSVデータ3!AF171+CSVデータ4!AF171","v":49.4}]
[{"$f":"CSVデータ1!A172","v":"明細部"},{"$f":"CSVデータ1!B172","v":"保険者（地区）"},{"$f":"CSVデータ1!C172","v":68},{"$f":"CSVデータ1!D172","v":"男"},{"$f":"CSVデータ1!E172+CSVデータ2!E172+CSVデータ3!E172+CSVデータ4!E172","v":603},{"$f":"CSVデータ1!F172+CSVデータ2!F172+CSVデータ3!F172+CSVデータ4!F172","v":178.2},null,{"$f":"CSVデータ1!H172+CSVデータ2!H172+CSVデータ3!H172+CSVデータ4!H172","v":344.2},null,{"$f":"CSVデータ1!J172+CSVデータ2!J172+CSVデータ3!J172+CSVデータ4!J172","v":161.19999999999999},null,{"$f":"CSVデータ1!L172+CSVデータ2!L172+CSVデータ3!L172+CSVデータ4!L172","v":108.4},null,{"$f":"CSVデータ1!N172+CSVデータ2!N172+CSVデータ3!N172+CSVデータ4!N172","v":45.8},null,{"$f":"CSVデータ1!P172+CSVデータ2!P172+CSVデータ3!P172+CSVデータ4!P172","v":207.6},null,{"$f":"CSVデータ1!R172+CSVデータ2!R172+CSVデータ3!R172+CSVデータ4!R172","v":361.8},null,{"$f":"CSVデータ1!T172+CSVデータ2!T172+CSVデータ3!T172+CSVデータ4!T172","v":94},null,{"$f":"CSVデータ1!V172+CSVデータ2!V172+CSVデータ3!V172+CSVデータ4!V172","v":308.2},null,{"$f":"CSVデータ1!X172+CSVデータ2!X172+CSVデータ3!X172+CSVデータ4!X172","v":145.4},null,{"$f":"CSVデータ1!Z172+CSVデータ2!Z172+CSVデータ3!Z172+CSVデータ4!Z172","v":311.39999999999998},null,{"$f":"CSVデータ1!AB172+CSVデータ2!AB172+CSVデータ3!AB172+CSVデータ4!AB172","v":14.2},null,{"$f":"CSVデータ1!AD172+CSVデータ2!AD172+CSVデータ3!AD172+CSVデータ4!AD172","v":342.2},null,{"$f":"CSVデータ1!AF172+CSVデータ2!AF172+CSVデータ3!AF172+CSVデータ4!AF172","v":60.2}]
[{"$f":"CSVデータ1!A173","v":"明細部"},{"$f":"CSVデータ1!B173","v":"保険者（地区）"},{"$f":"CSVデータ1!C173","v":69},{"$f":"CSVデータ1!D173","v":"男"},{"$f":"CSVデータ1!E173+CSVデータ2!E173+CSVデータ3!E173+CSVデータ4!E173","v":712},{"$f":"CSVデータ1!F173+CSVデータ2!F173+CSVデータ3!F173+CSVデータ4!F173","v":209.2},null,{"$f":"CSVデータ1!H173+CSVデータ2!H173+CSVデータ3!H173+CSVデータ4!H173","v":376},null,{"$f":"CSVデータ1!J173+CSVデータ2!J173+CSVデータ3!J173+CSVデータ4!J173","v":173.8},null,{"$f":"CSVデータ1!L173+CSVデータ2!L173+CSVデータ3!L173+CSVデータ4!L173","v":121.4},null,{"$f":"CSVデータ1!N173+CSVデータ2!N173+CSVデータ3!N173+CSVデータ4!N173","v":42},null,{"$f":"CSVデータ1!P173+CSVデータ2!P173+CSVデータ3!P173+CSVデータ4!P173","v":226.6},null,{"$f":"CSVデータ1!R173+CSVデータ2!R173+CSVデータ3!R173+CSVデータ4!R173","v":407.8},null,{"$f":"CSVデータ1!T173+CSVデータ2!T173+CSVデータ3!T173+CSVデータ4!T173","v":116.8},null,{"$f":"CSVデータ1!V173+CSVデータ2!V173+CSVデータ3!V173+CSVデータ4!V173","v":373.2},null,{"$f":"CSVデータ1!X173+CSVデータ2!X173+CSVデータ3!X173+CSVデータ4!X173","v":153.4},null,{"$f":"CSVデータ1!Z173+CSVデータ2!Z173+CSVデータ3!Z173+CSVデータ4!Z173","v":354.4},null,{"$f":"CSVデータ1!AB173+CSVデータ2!AB173+CSVデータ3!AB173+CSVデータ4!AB173","v":14.6},null,{"$f":"CSVデータ1!AD173+CSVデータ2!AD173+CSVデータ3!AD173+CSVデータ4!AD173","v":433},null,{"$f":"CSVデータ1!AF173+CSVデータ2!AF173+CSVデータ3!AF173+CSVデータ4!AF173","v":61}]
[{"$f":"CSVデータ1!A174","v":"明細部"},{"$f":"CSVデータ1!B174","v":"保険者（地区）"},{"$f":"CSVデータ1!C174","v":70},{"$f":"CSVデータ1!D174","v":"男"},{"$f":"CSVデータ1!E174+CSVデータ2!E174+CSVデータ3!E174+CSVデータ4!E174","v":815.4},{"$f":"CSVデータ1!F174+CSVデータ2!F174+CSVデータ3!F174+CSVデータ4!F174","v":222.6},null,{"$f":"CSVデータ1!H174+CSVデータ2!H174+CSVデータ3!H174+CSVデータ4!H174","v":426.8},null,{"$f":"CSVデータ1!J174+CSVデータ2!J174+CSVデータ3!J174+CSVデータ4!J174","v":217.2},null,{"$f":"CSVデータ1!L174+CSVデータ2!L174+CSVデータ3!L174+CSVデータ4!L174","v":128.6},null,{"$f":"CSVデータ1!N174+CSVデータ2!N174+CSVデータ3!N174+CSVデータ4!N174","v":55},null,{"$f":"CSVデータ1!P174+CSVデータ2!P174+CSVデータ3!P174+CSVデータ4!P174","v":268.8},null,{"$f":"CSVデータ1!R174+CSVデータ2!R174+CSVデータ3!R174+CSVデータ4!R174","v":484.8},null,{"$f":"CSVデータ1!T174+CSVデータ2!T174+CSVデータ3!T174+CSVデータ4!T174","v":126.2},null,{"$f":"CSVデータ1!V174+CSVデータ2!V174+CSVデータ3!V174+CSVデータ4!V174","v":437.6},null,{"$f":"CSVデータ1!X174+CSVデータ2!X174+CSVデータ3!X174+CSVデータ4!X174","v":167.4},null,{"$f":"CSVデータ1!Z174+CSVデータ2!Z174+CSVデータ3!Z174+CSVデータ4!Z174","v":391.4},null,{"$f":"CSVデータ1!AB174+CSVデータ2!AB174+CSVデータ3!AB174+CSVデータ4!AB174","v":19.600000000000001},null,{"$f":"CSVデータ1!AD174+CSVデータ2!AD174+CSVデータ3!AD174+CSVデータ4!AD174","v":517.20000000000005},null,{"$f":"CSVデータ1!AF174+CSVデータ2!AF174+CSVデータ3!AF174+CSVデータ4!AF174","v":74.8}]
[{"$f":"CSVデータ1!A175","v":"明細部"},{"$f":"CSVデータ1!B175","v":"保険者（地区）"},{"$f":"CSVデータ1!C175","v":71},{"$f":"CSVデータ1!D175","v":"男"},{"$f":"CSVデータ1!E175+CSVデータ2!E175+CSVデータ3!E175+CSVデータ4!E175","v":841.8},{"$f":"CSVデータ1!F175+CSVデータ2!F175+CSVデータ3!F175+CSVデータ4!F175","v":240.4},null,{"$f":"CSVデータ1!H175+CSVデータ2!H175+CSVデータ3!H175+CSVデータ4!H175","v":446.8},null,{"$f":"CSVデータ1!J175+CSVデータ2!J175+CSVデータ3!J175+CSVデータ4!J175","v":218.4},null,{"$f":"CSVデータ1!L175+CSVデータ2!L175+CSVデータ3!L175+CSVデータ4!L175","v":139.6},null,{"$f":"CSVデータ1!N175+CSVデータ2!N175+CSVデータ3!N175+CSVデータ4!N175","v":52.4},null,{"$f":"CSVデータ1!P175+CSVデータ2!P175+CSVデータ3!P175+CSVデータ4!P175","v":270.60000000000002},null,{"$f":"CSVデータ1!R175+CSVデータ2!R175+CSVデータ3!R175+CSVデータ4!R175","v":493.6},null,{"$f":"CSVデータ1!T175+CSVデータ2!T175+CSVデータ3!T175+CSVデータ4!T175","v":124.6},null,{"$f":"CSVデータ1!V175+CSVデータ2!V175+CSVデータ3!V175+CSVデータ4!V175","v":466.4},null,{"$f":"CSVデータ1!X175+CSVデータ2!X175+CSVデータ3!X175+CSVデータ4!X175","v":176.6},null,{"$f":"CSVデータ1!Z175+CSVデータ2!Z175+CSVデータ3!Z175+CSVデータ4!Z175","v":384.8},null,{"$f":"CSVデータ1!AB175+CSVデータ2!AB175+CSVデータ3!AB175+CSVデータ4!AB175","v":20.8},null,{"$f":"CSVデータ1!AD175+CSVデータ2!AD175+CSVデータ3!AD175+CSVデータ4!AD175","v":507.2},null,{"$f":"CSVデータ1!AF175+CSVデータ2!AF175+CSVデータ3!AF175+CSVデータ4!AF175","v":75}]
[{"$f":"CSVデータ1!A176","v":"明細部"},{"$f":"CSVデータ1!B176","v":"保険者（地区）"},{"$f":"CSVデータ1!C176","v":72},{"$f":"CSVデータ1!D176","v":"男"},{"$f":"CSVデータ1!E176+CSVデータ2!E176+CSVデータ3!E176+CSVデータ4!E176","v":629.79999999999995},{"$f":"CSVデータ1!F176+CSVデータ2!F176+CSVデータ3!F176+CSVデータ4!F176","v":171.6},null,{"$f":"CSVデータ1!H176+CSVデータ2!H176+CSVデータ3!H176+CSVデータ4!H176","v":347},null,{"$f":"CSVデータ1!J176+CSVデータ2!J176+CSVデータ3!J176+CSVデータ4!J176","v":156.6},null,{"$f":"CSVデータ1!L176+CSVデータ2!L176+CSVデータ3!L176+CSVデータ4!L176","v":98.2},null,{"$f":"CSVデータ1!N176+CSVデータ2!N176+CSVデータ3!N176+CSVデータ4!N176","v":41.6},null,{"$f":"CSVデータ1!P176+CSVデータ2!P176+CSVデータ3!P176+CSVデータ4!P176","v":216},null,{"$f":"CSVデータ1!R176+CSVデータ2!R176+CSVデータ3!R176+CSVデータ4!R176","v":410.8},null,{"$f":"CSVデータ1!T176+CSVデータ2!T176+CSVデータ3!T176+CSVデータ4!T176","v":99.6},null,{"$f":"CSVデータ1!V176+CSVデータ2!V176+CSVデータ3!V176+CSVデータ4!V176","v":355.8},null,{"$f":"CSVデータ1!X176+CSVデータ2!X176+CSVデータ3!X176+CSVデータ4!X176","v":120.6},null,{"$f":"CSVデータ1!Z176+CSVデータ2!Z176+CSVデータ3!Z176+CSVデータ4!Z176","v":295.8},null,{"$f":"CSVデータ1!AB176+CSVデータ2!AB176+CSVデータ3!AB176+CSVデータ4!AB176","v":18.2},null,{"$f":"CSVデータ1!AD176+CSVデータ2!AD176+CSVデータ3!AD176+CSVデータ4!AD176","v":401.4},null,{"$f":"CSVデータ1!AF176+CSVデータ2!AF176+CSVデータ3!AF176+CSVデータ4!AF176","v":56}]
[{"$f":"CSVデータ1!A177","v":"明細部"},{"$f":"CSVデータ1!B177","v":"保険者（地区）"},{"$f":"CSVデータ1!C177","v":73},{"$f":"CSVデータ1!D177","v":"男"},{"$f":"CSVデータ1!E177+CSVデータ2!E177+CSVデータ3!E177+CSVデータ4!E177","v":445.2},{"$f":"CSVデータ1!F177+CSVデータ2!F177+CSVデータ3!F177+CSVデータ4!F177","v":120.6},null,{"$f":"CSVデータ1!H177+CSVデータ2!H177+CSVデータ3!H177+CSVデータ4!H177","v":227},null,{"$f":"CSVデータ1!J177+CSVデータ2!J177+CSVデータ3!J177+CSVデータ4!J177","v":92.6},null,{"$f":"CSVデータ1!L177+CSVデータ2!L177+CSVデータ3!L177+CSVデータ4!L177","v":68.2},null,{"$f":"CSVデータ1!N177+CSVデータ2!N177+CSVデータ3!N177+CSVデータ4!N177","v":30.4},null,{"$f":"CSVデータ1!P177+CSVデータ2!P177+CSVデータ3!P177+CSVデータ4!P177","v":147.6},null,{"$f":"CSVデータ1!R177+CSVデータ2!R177+CSVデータ3!R177+CSVデータ4!R177","v":294},null,{"$f":"CSVデータ1!T177+CSVデータ2!T177+CSVデータ3!T177+CSVデータ4!T177","v":66.8},null,{"$f":"CSVデータ1!V177+CSVデータ2!V177+CSVデータ3!V177+CSVデータ4!V177","v":249.8},null,{"$f":"CSVデータ1!X177+CSVデータ2!X177+CSVデータ3!X177+CSVデータ4!X177","v":77.599999999999994},null,{"$f":"CSVデータ1!Z177+CSVデータ2!Z177+CSVデータ3!Z177+CSVデータ4!Z177","v":207.2},null,{"$f":"CSVデータ1!AB177+CSVデータ2!AB177+CSVデータ3!AB177+CSVデータ4!AB177","v":12.4},null,{"$f":"CSVデータ1!AD177+CSVデータ2!AD177+CSVデータ3!AD177+CSVデータ4!AD177","v":291.8},null,{"$f":"CSVデータ1!AF177+CSVデータ2!AF177+CSVデータ3!AF177+CSVデータ4!AF177","v":34.799999999999997}]
[{"$f":"CSVデータ1!A178","v":"明細部"},{"$f":"CSVデータ1!B178","v":"保険者（地区）"},{"$f":"CSVデータ1!C178","v":74},{"$f":"CSVデータ1!D178","v":"男"},{"$f":"CSVデータ1!E178+CSVデータ2!E178+CSVデータ3!E178+CSVデータ4!E178","v":613.20000000000005},{"$f":"CSVデータ1!F178+CSVデータ2!F178+CSVデータ3!F178+CSVデータ4!F178","v":140.4},null,{"$f":"CSVデータ1!H178+CSVデータ2!H178+CSVデータ3!H178+CSVデータ4!H178","v":306.8},null,{"$f":"CSVデータ1!J178+CSVデータ2!J178+CSVデータ3!J178+CSVデータ4!J178","v":130.4},null,{"$f":"CSVデータ1!L178+CSVデータ2!L178+CSVデータ3!L178+CSVデータ4!L178","v":82.4},null,{"$f":"CSVデータ1!N178+CSVデータ2!N178+CSVデータ3!N178+CSVデータ4!N178","v":32.799999999999997},null,{"$f":"CSVデータ1!P178+CSVデータ2!P178+CSVデータ3!P178+CSVデータ4!P178","v":203},null,{"$f":"CSVデータ1!R178+CSVデータ2!R178+CSVデータ3!R178+CSVデータ4!R178","v":379.2},null,{"$f":"CSVデータ1!T178+CSVデータ2!T178+CSVデータ3!T178+CSVデータ4!T178","v":84.8},null,{"$f":"CSVデータ1!V178+CSVデータ2!V178+CSVデータ3!V178+CSVデータ4!V178","v":335.4},null,{"$f":"CSVデータ1!X178+CSVデータ2!X178+CSVデータ3!X178+CSVデータ4!X178","v":91.8},null,{"$f":"CSVデータ1!Z178+CSVデータ2!Z178+CSVデータ3!Z178+CSVデータ4!Z178","v":264},null,{"$f":"CSVデータ1!AB178+CSVデータ2!AB178+CSVデータ3!AB178+CSVデータ4!AB178","v":16},null,{"$f":"CSVデータ1!AD178+CSVデータ2!AD178+CSVデータ3!AD178+CSVデータ4!AD178","v":362.2},null,{"$f":"CSVデータ1!AF178+CSVデータ2!AF178+CSVデータ3!AF178+CSVデータ4!AF178","v":40.4}]
[{"$f":"CSVデータ1!A179","v":"明細部"},{"$f":"CSVデータ1!B179","v":"保険者（地区）"},{"$f":"CSVデータ1!C179","v":40},{"$f":"CSVデータ1!D179","v":"女"},{"$f":"CSVデータ1!E179+CSVデータ2!E179+CSVデータ3!E179+CSVデータ4!E179","v":56.2},{"$f":"CSVデータ1!F179+CSVデータ2!F179+CSVデータ3!F179+CSVデータ4!F179","v":10.4},null,{"$f":"CSVデータ1!H179+CSVデータ2!H179+CSVデータ3!H179+CSVデータ4!H179","v":6.8},null,{"$f":"CSVデータ1!J179+CSVデータ2!J179+CSVデータ3!J179+CSVデータ4!J179","v":3.6},null,{"$f":"CSVデータ1!L179+CSVデータ2!L179+CSVデータ3!L179+CSVデータ4!L179","v":2.2000000000000002},null,{"$f":"CSVデータ1!N179+CSVデータ2!N179+CSVデータ3!N179+CSVデータ4!N179","v":1.6},null,{"$f":"CSVデータ1!P179+CSVデータ2!P179+CSVデータ3!P179+CSVデータ4!P179","v":1},null,{"$f":"CSVデータ1!R179+CSVデータ2!R179+CSVデータ3!R179+CSVデータ4!R179","v":10.4},null,{"$f":"CSVデータ1!T179+CSVデータ2!T179+CSVデータ3!T179+CSVデータ4!T179","v":0.6},null,{"$f":"CSVデータ1!V179+CSVデータ2!V179+CSVデータ3!V179+CSVデータ4!V179","v":5.6},null,{"$f":"CSVデータ1!X179+CSVデータ2!X179+CSVデータ3!X179+CSVデータ4!X179","v":3},null,{"$f":"CSVデータ1!Z179+CSVデータ2!Z179+CSVデータ3!Z179+CSVデータ4!Z179","v":23.8},null,{"$f":"CSVデータ1!AB179+CSVデータ2!AB179+CSVデータ3!AB179+CSVデータ4!AB179","v":0.2},null,{"$f":"CSVデータ1!AD179+CSVデータ2!AD179+CSVデータ3!AD179+CSVデータ4!AD179","v":28.8},null,{"$f":"CSVデータ1!AF179+CSVデータ2!AF179+CSVデータ3!AF179+CSVデータ4!AF179","v":3.4}]
[{"$f":"CSVデータ1!A180","v":"明細部"},{"$f":"CSVデータ1!B180","v":"保険者（地区）"},{"$f":"CSVデータ1!C180","v":41},{"$f":"CSVデータ1!D180","v":"女"},{"$f":"CSVデータ1!E180+CSVデータ2!E180+CSVデータ3!E180+CSVデータ4!E180","v":51.6},{"$f":"CSVデータ1!F180+CSVデータ2!F180+CSVデータ3!F180+CSVデータ4!F180","v":9.1999999999999993},null,{"$f":"CSVデータ1!H180+CSVデータ2!H180+CSVデータ3!H180+CSVデータ4!H180","v":5},null,{"$f":"CSVデータ1!J180+CSVデータ2!J180+CSVデータ3!J180+CSVデータ4!J180","v":4.8},null,{"$f":"CSVデータ1!L180+CSVデータ2!L180+CSVデータ3!L180+CSVデータ4!L180","v":1.6},null,{"$f":"CSVデータ1!N180+CSVデータ2!N180+CSVデータ3!N180+CSVデータ4!N180","v":0.4},null,{"$f":"CSVデータ1!P180+CSVデータ2!P180+CSVデータ3!P180+CSVデータ4!P180","v":1.6},null,{"$f":"CSVデータ1!R180+CSVデータ2!R180+CSVデータ3!R180+CSVデータ4!R180","v":6},null,{"$f":"CSVデータ1!T180+CSVデータ2!T180+CSVデータ3!T180+CSVデータ4!T180","v":0.6},null,{"$f":"CSVデータ1!V180+CSVデータ2!V180+CSVデータ3!V180+CSVデータ4!V180","v":4.4000000000000004},null,{"$f":"CSVデータ1!X180+CSVデータ2!X180+CSVデータ3!X180+CSVデータ4!X180","v":1.8},null,{"$f":"CSVデータ1!Z180+CSVデータ2!Z180+CSVデータ3!Z180+CSVデータ4!Z180","v":13.6},null,{"$f":"CSVデータ1!AB180+CSVデータ2!AB180+CSVデータ3!AB180+CSVデータ4!AB180","v":0},null,{"$f":"CSVデータ1!AD180+CSVデータ2!AD180+CSVデータ3!AD180+CSVデータ4!AD180","v":24.6},null,{"$f":"CSVデータ1!AF180+CSVデータ2!AF180+CSVデータ3!AF180+CSVデータ4!AF180","v":4.5999999999999996}]
[{"$f":"CSVデータ1!A181","v":"明細部"},{"$f":"CSVデータ1!B181","v":"保険者（地区）"},{"$f":"CSVデータ1!C181","v":42},{"$f":"CSVデータ1!D181","v":"女"},{"$f":"CSVデータ1!E181+CSVデータ2!E181+CSVデータ3!E181+CSVデータ4!E181","v":53},{"$f":"CSVデータ1!F181+CSVデータ2!F181+CSVデータ3!F181+CSVデータ4!F181","v":8.6},null,{"$f":"CSVデータ1!H181+CSVデータ2!H181+CSVデータ3!H181+CSVデータ4!H181","v":7},null,{"$f":"CSVデータ1!J181+CSVデータ2!J181+CSVデータ3!J181+CSVデータ4!J181","v":4.4000000000000004},null,{"$f":"CSVデータ1!L181+CSVデータ2!L181+CSVデータ3!L181+CSVデータ4!L181","v":2.4},null,{"$f":"CSVデータ1!N181+CSVデータ2!N181+CSVデータ3!N181+CSVデータ4!N181","v":0.2},null,{"$f":"CSVデータ1!P181+CSVデータ2!P181+CSVデータ3!P181+CSVデータ4!P181","v":3},null,{"$f":"CSVデータ1!R181+CSVデータ2!R181+CSVデータ3!R181+CSVデータ4!R181","v":11.8},null,{"$f":"CSVデータ1!T181+CSVデータ2!T181+CSVデータ3!T181+CSVデータ4!T181","v":0},null,{"$f":"CSVデータ1!V181+CSVデータ2!V181+CSVデータ3!V181+CSVデータ4!V181","v":7.6},null,{"$f":"CSVデータ1!X181+CSVデータ2!X181+CSVデータ3!X181+CSVデータ4!X181","v":5.4},null,{"$f":"CSVデータ1!Z181+CSVデータ2!Z181+CSVデータ3!Z181+CSVデータ4!Z181","v":15.8},null,{"$f":"CSVデータ1!AB181+CSVデータ2!AB181+CSVデータ3!AB181+CSVデータ4!AB181","v":0},null,{"$f":"CSVデータ1!AD181+CSVデータ2!AD181+CSVデータ3!AD181+CSVデータ4!AD181","v":26.6},null,{"$f":"CSVデータ1!AF181+CSVデータ2!AF181+CSVデータ3!AF181+CSVデータ4!AF181","v":4}]
[{"$f":"CSVデータ1!A182","v":"明細部"},{"$f":"CSVデータ1!B182","v":"保険者（地区）"},{"$f":"CSVデータ1!C182","v":43},{"$f":"CSVデータ1!D182","v":"女"},{"$f":"CSVデータ1!E182+CSVデータ2!E182+CSVデータ3!E182+CSVデータ4!E182","v":56},{"$f":"CSVデータ1!F182+CSVデータ2!F182+CSVデータ3!F182+CSVデータ4!F182","v":10.199999999999999},null,{"$f":"CSVデータ1!H182+CSVデータ2!H182+CSVデータ3!H182+CSVデータ4!H182","v":5.6},null,{"$f":"CSVデータ1!J182+CSVデータ2!J182+CSVデータ3!J182+CSVデータ4!J182","v":3.4},null,{"$f":"CSVデータ1!L182+CSVデータ2!L182+CSVデータ3!L182+CSVデータ4!L182","v":1.8},null,{"$f":"CSVデータ1!N182+CSVデータ2!N182+CSVデータ3!N182+CSVデータ4!N182","v":1},null,{"$f":"CSVデータ1!P182+CSVデータ2!P182+CSVデータ3!P182+CSVデータ4!P182","v":4},null,{"$f":"CSVデータ1!R182+CSVデータ2!R182+CSVデータ3!R182+CSVデータ4!R182","v":10.199999999999999},null,{"$f":"CSVデータ1!T182+CSVデータ2!T182+CSVデータ3!T182+CSVデータ4!T182","v":0.4},null,{"$f":"CSVデータ1!V182+CSVデータ2!V182+CSVデータ3!V182+CSVデータ4!V182","v":6.2},null,{"$f":"CSVデータ1!X182+CSVデータ2!X182+CSVデータ3!X182+CSVデータ4!X182","v":4.4000000000000004},null,{"$f":"CSVデータ1!Z182+CSVデータ2!Z182+CSVデータ3!Z182+CSVデータ4!Z182","v":20},null,{"$f":"CSVデータ1!AB182+CSVデータ2!AB182+CSVデータ3!AB182+CSVデータ4!AB182","v":0},null,{"$f":"CSVデータ1!AD182+CSVデータ2!AD182+CSVデータ3!AD182+CSVデータ4!AD182","v":27.2},null,{"$f":"CSVデータ1!AF182+CSVデータ2!AF182+CSVデータ3!AF182+CSVデータ4!AF182","v":3.6}]
[{"$f":"CSVデータ1!A183","v":"明細部"},{"$f":"CSVデータ1!B183","v":"保険者（地区）"},{"$f":"CSVデータ1!C183","v":44},{"$f":"CSVデータ1!D183","v":"女"},{"$f":"CSVデータ1!E183+CSVデータ2!E183+CSVデータ3!E183+CSVデータ4!E183","v":58.6},{"$f":"CSVデータ1!F183+CSVデータ2!F183+CSVデータ3!F183+CSVデータ4!F183","v":8.8000000000000007},null,{"$f":"CSVデータ1!H183+CSVデータ2!H183+CSVデータ3!H183+CSVデータ4!H183","v":6.4},null,{"$f":"CSVデータ1!J183+CSVデータ2!J183+CSVデータ3!J183+CSVデータ4!J183","v":3.2},null,{"$f":"CSVデータ1!L183+CSVデータ2!L183+CSVデータ3!L183+CSVデータ4!L183","v":4.4000000000000004},null,{"$f":"CSVデータ1!N183+CSVデータ2!N183+CSVデータ3!N183+CSVデータ4!N183","v":0.2},null,{"$f":"CSVデータ1!P183+CSVデータ2!P183+CSVデータ3!P183+CSVデータ4!P183","v":1.8},null,{"$f":"CSVデータ1!R183+CSVデータ2!R183+CSVデータ3!R183+CSVデータ4!R183","v":10},null,{"$f":"CSVデータ1!T183+CSVデータ2!T183+CSVデータ3!T183+CSVデータ4!T183","v":0.2},null,{"$f":"CSVデータ1!V183+CSVデータ2!V183+CSVデータ3!V183+CSVデータ4!V183","v":7},null,{"$f":"CSVデータ1!X183+CSVデータ2!X183+CSVデータ3!X183+CSVデータ4!X183","v":4.4000000000000004},null,{"$f":"CSVデータ1!Z183+CSVデータ2!Z183+CSVデータ3!Z183+CSVデータ4!Z183","v":21},null,{"$f":"CSVデータ1!AB183+CSVデータ2!AB183+CSVデータ3!AB183+CSVデータ4!AB183","v":0},null,{"$f":"CSVデータ1!AD183+CSVデータ2!AD183+CSVデータ3!AD183+CSVデータ4!AD183","v":29},null,{"$f":"CSVデータ1!AF183+CSVデータ2!AF183+CSVデータ3!AF183+CSVデータ4!AF183","v":2.6}]
[{"$f":"CSVデータ1!A184","v":"明細部"},{"$f":"CSVデータ1!B184","v":"保険者（地区）"},{"$f":"CSVデータ1!C184","v":45},{"$f":"CSVデータ1!D184","v":"女"},{"$f":"CSVデータ1!E184+CSVデータ2!E184+CSVデータ3!E184+CSVデータ4!E184","v":72.400000000000006},{"$f":"CSVデータ1!F184+CSVデータ2!F184+CSVデータ3!F184+CSVデータ4!F184","v":8.8000000000000007},null,{"$f":"CSVデータ1!H184+CSVデータ2!H184+CSVデータ3!H184+CSVデータ4!H184","v":6.8},null,{"$f":"CSVデータ1!J184+CSVデータ2!J184+CSVデータ3!J184+CSVデータ4!J184","v":4.8},null,{"$f":"CSVデータ1!L184+CSVデータ2!L184+CSVデータ3!L184+CSVデータ4!L184","v":4.5999999999999996},null,{"$f":"CSVデータ1!N184+CSVデータ2!N184+CSVデータ3!N184+CSVデータ4!N184","v":1},null,{"$f":"CSVデータ1!P184+CSVデータ2!P184+CSVデータ3!P184+CSVデータ4!P184","v":3.4},null,{"$f":"CSVデータ1!R184+CSVデータ2!R184+CSVデータ3!R184+CSVデータ4!R184","v":12.2},null,{"$f":"CSVデータ1!T184+CSVデータ2!T184+CSVデータ3!T184+CSVデータ4!T184","v":1},null,{"$f":"CSVデータ1!V184+CSVデータ2!V184+CSVデータ3!V184+CSVデータ4!V184","v":10},null,{"$f":"CSVデータ1!X184+CSVデータ2!X184+CSVデータ3!X184+CSVデータ4!X184","v":5.4},null,{"$f":"CSVデータ1!Z184+CSVデータ2!Z184+CSVデータ3!Z184+CSVデータ4!Z184","v":31.4},null,{"$f":"CSVデータ1!AB184+CSVデータ2!AB184+CSVデータ3!AB184+CSVデータ4!AB184","v":0.2},null,{"$f":"CSVデータ1!AD184+CSVデータ2!AD184+CSVデータ3!AD184+CSVデータ4!AD184","v":38.799999999999997},null,{"$f":"CSVデータ1!AF184+CSVデータ2!AF184+CSVデータ3!AF184+CSVデータ4!AF184","v":4.8}]
[{"$f":"CSVデータ1!A185","v":"明細部"},{"$f":"CSVデータ1!B185","v":"保険者（地区）"},{"$f":"CSVデータ1!C185","v":46},{"$f":"CSVデータ1!D185","v":"女"},{"$f":"CSVデータ1!E185+CSVデータ2!E185+CSVデータ3!E185+CSVデータ4!E185","v":71.8},{"$f":"CSVデータ1!F185+CSVデータ2!F185+CSVデータ3!F185+CSVデータ4!F185","v":14},null,{"$f":"CSVデータ1!H185+CSVデータ2!H185+CSVデータ3!H185+CSVデータ4!H185","v":10},null,{"$f":"CSVデータ1!J185+CSVデータ2!J185+CSVデータ3!J185+CSVデータ4!J185","v":8.1999999999999993},null,{"$f":"CSVデータ1!L185+CSVデータ2!L185+CSVデータ3!L185+CSVデータ4!L185","v":6},null,{"$f":"CSVデータ1!N185+CSVデータ2!N185+CSVデータ3!N185+CSVデータ4!N185","v":1.8},null,{"$f":"CSVデータ1!P185+CSVデータ2!P185+CSVデータ3!P185+CSVデータ4!P185","v":5},null,{"$f":"CSVデータ1!R185+CSVデータ2!R185+CSVデータ3!R185+CSVデータ4!R185","v":17.2},null,{"$f":"CSVデータ1!T185+CSVデータ2!T185+CSVデータ3!T185+CSVデータ4!T185","v":0.4},null,{"$f":"CSVデータ1!V185+CSVデータ2!V185+CSVデータ3!V185+CSVデータ4!V185","v":12.2},null,{"$f":"CSVデータ1!X185+CSVデータ2!X185+CSVデータ3!X185+CSVデータ4!X185","v":9.1999999999999993},null,{"$f":"CSVデータ1!Z185+CSVデータ2!Z185+CSVデータ3!Z185+CSVデータ4!Z185","v":31.8},null,{"$f":"CSVデータ1!AB185+CSVデータ2!AB185+CSVデータ3!AB185+CSVデータ4!AB185","v":0},null,{"$f":"CSVデータ1!AD185+CSVデータ2!AD185+CSVデータ3!AD185+CSVデータ4!AD185","v":39.200000000000003},null,{"$f":"CSVデータ1!AF185+CSVデータ2!AF185+CSVデータ3!AF185+CSVデータ4!AF185","v":4.8}]
[{"$f":"CSVデータ1!A186","v":"明細部"},{"$f":"CSVデータ1!B186","v":"保険者（地区）"},{"$f":"CSVデータ1!C186","v":47},{"$f":"CSVデータ1!D186","v":"女"},{"$f":"CSVデータ1!E186+CSVデータ2!E186+CSVデータ3!E186+CSVデータ4!E186","v":73},{"$f":"CSVデータ1!F186+CSVデータ2!F186+CSVデータ3!F186+CSVデータ4!F186","v":12.4},null,{"$f":"CSVデータ1!H186+CSVデータ2!H186+CSVデータ3!H186+CSVデータ4!H186","v":8.1999999999999993},null,{"$f":"CSVデータ1!J186+CSVデータ2!J186+CSVデータ3!J186+CSVデータ4!J186","v":7.4},null,{"$f":"CSVデータ1!L186+CSVデータ2!L186+CSVデータ3!L186+CSVデータ4!L186","v":7.6},null,{"$f":"CSVデータ1!N186+CSVデータ2!N186+CSVデータ3!N186+CSVデータ4!N186","v":0.4},null,{"$f":"CSVデータ1!P186+CSVデータ2!P186+CSVデータ3!P186+CSVデータ4!P186","v":4.5999999999999996},null,{"$f":"CSVデータ1!R186+CSVデータ2!R186+CSVデータ3!R186+CSVデータ4!R186","v":19},null,{"$f":"CSVデータ1!T186+CSVデータ2!T186+CSVデータ3!T186+CSVデータ4!T186","v":0.2},null,{"$f":"CSVデータ1!V186+CSVデータ2!V186+CSVデータ3!V186+CSVデータ4!V186","v":11.2},null,{"$f":"CSVデータ1!X186+CSVデータ2!X186+CSVデータ3!X186+CSVデータ4!X186","v":7.6},null,{"$f":"CSVデータ1!Z186+CSVデータ2!Z186+CSVデータ3!Z186+CSVデータ4!Z186","v":31.4},null,{"$f":"CSVデータ1!AB186+CSVデータ2!AB186+CSVデータ3!AB186+CSVデータ4!AB186","v":0},null,{"$f":"CSVデータ1!AD186+CSVデータ2!AD186+CSVデータ3!AD186+CSVデータ4!AD186","v":35.799999999999997},null,{"$f":"CSVデータ1!AF186+CSVデータ2!AF186+CSVデータ3!AF186+CSVデータ4!AF186","v":5.8}]
[{"$f":"CSVデータ1!A187","v":"明細部"},{"$f":"CSVデータ1!B187","v":"保険者（地区）"},{"$f":"CSVデータ1!C187","v":48},{"$f":"CSVデータ1!D187","v":"女"},{"$f":"CSVデータ1!E187+CSVデータ2!E187+CSVデータ3!E187+CSVデータ4!E187","v":71.2},{"$f":"CSVデータ1!F187+CSVデータ2!F187+CSVデータ3!F187+CSVデータ4!F187","v":13.6},null,{"$f":"CSVデータ1!H187+CSVデータ2!H187+CSVデータ3!H187+CSVデータ4!H187","v":10},null,{"$f":"CSVデータ1!J187+CSVデータ2!J187+CSVデータ3!J187+CSVデータ4!J187","v":4.2},null,{"$f":"CSVデータ1!L187+CSVデータ2!L187+CSVデータ3!L187+CSVデータ4!L187","v":4.5999999999999996},null,{"$f":"CSVデータ1!N187+CSVデータ2!N187+CSVデータ3!N187+CSVデータ4!N187","v":0.2},null,{"$f":"CSVデータ1!P187+CSVデータ2!P187+CSVデータ3!P187+CSVデータ4!P187","v":4.5999999999999996},null,{"$f":"CSVデータ1!R187+CSVデータ2!R187+CSVデータ3!R187+CSVデータ4!R187","v":17.2},null,{"$f":"CSVデータ1!T187+CSVデータ2!T187+CSVデータ3!T187+CSVデータ4!T187","v":0.2},null,{"$f":"CSVデータ1!V187+CSVデータ2!V187+CSVデータ3!V187+CSVデータ4!V187","v":10.8},null,{"$f":"CSVデータ1!X187+CSVデータ2!X187+CSVデータ3!X187+CSVデータ4!X187","v":4.8},null,{"$f":"CSVデータ1!Z187+CSVデータ2!Z187+CSVデータ3!Z187+CSVデータ4!Z187","v":33.799999999999997},null,{"$f":"CSVデータ1!AB187+CSVデータ2!AB187+CSVデータ3!AB187+CSVデータ4!AB187","v":0},null,{"$f":"CSVデータ1!AD187+CSVデータ2!AD187+CSVデータ3!AD187+CSVデータ4!AD187","v":41},null,{"$f":"CSVデータ1!AF187+CSVデータ2!AF187+CSVデータ3!AF187+CSVデータ4!AF187","v":4.5999999999999996}]
[{"$f":"CSVデータ1!A188","v":"明細部"},{"$f":"CSVデータ1!B188","v":"保険者（地区）"},{"$f":"CSVデータ1!C188","v":49},{"$f":"CSVデータ1!D188","v":"女"},{"$f":"CSVデータ1!E188+CSVデータ2!E188+CSVデータ3!E188+CSVデータ4!E188","v":60},{"$f":"CSVデータ1!F188+CSVデータ2!F188+CSVデータ3!F188+CSVデータ4!F188","v":11.8},null,{"$f":"CSVデータ1!H188+CSVデータ2!H188+CSVデータ3!H188+CSVデータ4!H188","v":9},null,{"$f":"CSVデータ1!J188+CSVデータ2!J188+CSVデータ3!J188+CSVデータ4!J188","v":4.5999999999999996},null,{"$f":"CSVデータ1!L188+CSVデータ2!L188+CSVデータ3!L188+CSVデータ4!L188","v":3.8},null,{"$f":"CSVデータ1!N188+CSVデータ2!N188+CSVデータ3!N188+CSVデータ4!N188","v":0.8},null,{"$f":"CSVデータ1!P188+CSVデータ2!P188+CSVデータ3!P188+CSVデータ4!P188","v":3.6},null,{"$f":"CSVデータ1!R188+CSVデータ2!R188+CSVデータ3!R188+CSVデータ4!R188","v":18},null,{"$f":"CSVデータ1!T188+CSVデータ2!T188+CSVデータ3!T188+CSVデータ4!T188","v":0.4},null,{"$f":"CSVデータ1!V188+CSVデータ2!V188+CSVデータ3!V188+CSVデータ4!V188","v":11.6},null,{"$f":"CSVデータ1!X188+CSVデータ2!X188+CSVデータ3!X188+CSVデータ4!X188","v":7},null,{"$f":"CSVデータ1!Z188+CSVデータ2!Z188+CSVデータ3!Z188+CSVデータ4!Z188","v":33.4},null,{"$f":"CSVデータ1!AB188+CSVデータ2!AB188+CSVデータ3!AB188+CSVデータ4!AB188","v":0.2},null,{"$f":"CSVデータ1!AD188+CSVデータ2!AD188+CSVデータ3!AD188+CSVデータ4!AD188","v":31.8},null,{"$f":"CSVデータ1!AF188+CSVデータ2!AF188+CSVデータ3!AF188+CSVデータ4!AF188","v":4.4000000000000004}]
[{"$f":"CSVデータ1!A189","v":"明細部"},{"$f":"CSVデータ1!B189","v":"保険者（地区）"},{"$f":"CSVデータ1!C189","v":50},{"$f":"CSVデータ1!D189","v":"女"},{"$f":"CSVデータ1!E189+CSVデータ2!E189+CSVデータ3!E189+CSVデータ4!E189","v":79.8},{"$f":"CSVデータ1!F189+CSVデータ2!F189+CSVデータ3!F189+CSVデータ4!F189","v":13.4},null,{"$f":"CSVデータ1!H189+CSVデータ2!H189+CSVデータ3!H189+CSVデータ4!H189","v":11.6},null,{"$f":"CSVデータ1!J189+CSVデータ2!J189+CSVデータ3!J189+CSVデータ4!J189","v":6.2},null,{"$f":"CSVデータ1!L189+CSVデータ2!L189+CSVデータ3!L189+CSVデータ4!L189","v":6.8},null,{"$f":"CSVデータ1!N189+CSVデータ2!N189+CSVデータ3!N189+CSVデータ4!N189","v":1.6},null,{"$f":"CSVデータ1!P189+CSVデータ2!P189+CSVデータ3!P189+CSVデータ4!P189","v":7},null,{"$f":"CSVデータ1!R189+CSVデータ2!R189+CSVデータ3!R189+CSVデータ4!R189","v":21},null,{"$f":"CSVデータ1!T189+CSVデータ2!T189+CSVデータ3!T189+CSVデータ4!T189","v":1.4},null,{"$f":"CSVデータ1!V189+CSVデータ2!V189+CSVデータ3!V189+CSVデータ4!V189","v":16.600000000000001},null,{"$f":"CSVデータ1!X189+CSVデータ2!X189+CSVデータ3!X189+CSVデータ4!X189","v":10},null,{"$f":"CSVデータ1!Z189+CSVデータ2!Z189+CSVデータ3!Z189+CSVデータ4!Z189","v":42.8},null,{"$f":"CSVデータ1!AB189+CSVデータ2!AB189+CSVデータ3!AB189+CSVデータ4!AB189","v":0.4},null,{"$f":"CSVデータ1!AD189+CSVデータ2!AD189+CSVデータ3!AD189+CSVデータ4!AD189","v":43.8},null,{"$f":"CSVデータ1!AF189+CSVデータ2!AF189+CSVデータ3!AF189+CSVデータ4!AF189","v":6.6}]
[{"$f":"CSVデータ1!A190","v":"明細部"},{"$f":"CSVデータ1!B190","v":"保険者（地区）"},{"$f":"CSVデータ1!C190","v":51},{"$f":"CSVデータ1!D190","v":"女"},{"$f":"CSVデータ1!E190+CSVデータ2!E190+CSVデータ3!E190+CSVデータ4!E190","v":75.8},{"$f":"CSVデータ1!F190+CSVデータ2!F190+CSVデータ3!F190+CSVデータ4!F190","v":13.2},null,{"$f":"CSVデータ1!H190+CSVデータ2!H190+CSVデータ3!H190+CSVデータ4!H190","v":8.1999999999999993},null,{"$f":"CSVデータ1!J190+CSVデータ2!J190+CSVデータ3!J190+CSVデータ4!J190","v":8.1999999999999993},null,{"$f":"CSVデータ1!L190+CSVデータ2!L190+CSVデータ3!L190+CSVデータ4!L190","v":7.4},null,{"$f":"CSVデータ1!N190+CSVデータ2!N190+CSVデータ3!N190+CSVデータ4!N190","v":0.6},null,{"$f":"CSVデータ1!P190+CSVデータ2!P190+CSVデータ3!P190+CSVデータ4!P190","v":7.2},null,{"$f":"CSVデータ1!R190+CSVデータ2!R190+CSVデータ3!R190+CSVデータ4!R190","v":24},null,{"$f":"CSVデータ1!T190+CSVデータ2!T190+CSVデータ3!T190+CSVデータ4!T190","v":0.8},null,{"$f":"CSVデータ1!V190+CSVデータ2!V190+CSVデータ3!V190+CSVデータ4!V190","v":15.6},null,{"$f":"CSVデータ1!X190+CSVデータ2!X190+CSVデータ3!X190+CSVデータ4!X190","v":8.8000000000000007},null,{"$f":"CSVデータ1!Z190+CSVデータ2!Z190+CSVデータ3!Z190+CSVデータ4!Z190","v":40.200000000000003},null,{"$f":"CSVデータ1!AB190+CSVデータ2!AB190+CSVデータ3!AB190+CSVデータ4!AB190","v":0.2},null,{"$f":"CSVデータ1!AD190+CSVデータ2!AD190+CSVデータ3!AD190+CSVデータ4!AD190","v":44},null,{"$f":"CSVデータ1!AF190+CSVデータ2!AF190+CSVデータ3!AF190+CSVデータ4!AF190","v":4.5999999999999996}]
[{"$f":"CSVデータ1!A191","v":"明細部"},{"$f":"CSVデータ1!B191","v":"保険者（地区）"},{"$f":"CSVデータ1!C191","v":52},{"$f":"CSVデータ1!D191","v":"女"},{"$f":"CSVデータ1!E191+CSVデータ2!E191+CSVデータ3!E191+CSVデータ4!E191","v":66},{"$f":"CSVデータ1!F191+CSVデータ2!F191+CSVデータ3!F191+CSVデータ4!F191","v":11.6},null,{"$f":"CSVデータ1!H191+CSVデータ2!H191+CSVデータ3!H191+CSVデータ4!H191","v":7.4},null,{"$f":"CSVデータ1!J191+CSVデータ2!J191+CSVデータ3!J191+CSVデータ4!J191","v":7.2},null,{"$f":"CSVデータ1!L191+CSVデータ2!L191+CSVデータ3!L191+CSVデータ4!L191","v":8.4},null,{"$f":"CSVデータ1!N191+CSVデータ2!N191+CSVデータ3!N191+CSVデータ4!N191","v":0.8},null,{"$f":"CSVデータ1!P191+CSVデータ2!P191+CSVデータ3!P191+CSVデータ4!P191","v":7.8},null,{"$f":"CSVデータ1!R191+CSVデータ2!R191+CSVデータ3!R191+CSVデータ4!R191","v":19.2},null,{"$f":"CSVデータ1!T191+CSVデータ2!T191+CSVデータ3!T191+CSVデータ4!T191","v":1.4},null,{"$f":"CSVデータ1!V191+CSVデータ2!V191+CSVデータ3!V191+CSVデータ4!V191","v":15.8},null,{"$f":"CSVデータ1!X191+CSVデータ2!X191+CSVデータ3!X191+CSVデータ4!X191","v":9.1999999999999993},null,{"$f":"CSVデータ1!Z191+CSVデータ2!Z191+CSVデータ3!Z191+CSVデータ4!Z191","v":39.200000000000003},null,{"$f":"CSVデータ1!AB191+CSVデータ2!AB191+CSVデータ3!AB191+CSVデータ4!AB191","v":0},null,{"$f":"CSVデータ1!AD191+CSVデータ2!AD191+CSVデータ3!AD191+CSVデータ4!AD191","v":36},null,{"$f":"CSVデータ1!AF191+CSVデータ2!AF191+CSVデータ3!AF191+CSVデータ4!AF191","v":4}]
[{"$f":"CSVデータ1!A192","v":"明細部"},{"$f":"CSVデータ1!B192","v":"保険者（地区）"},{"$f":"CSVデータ1!C192","v":53},{"$f":"CSVデータ1!D192","v":"女"},{"$f":"CSVデータ1!E192+CSVデータ2!E192+CSVデータ3!E192+CSVデータ4!E192","v":82.6},{"$f":"CSVデータ1!F192+CSVデータ2!F192+CSVデータ3!F192+CSVデータ4!F192","v":14.4},null,{"$f":"CSVデータ1!H192+CSVデータ2!H192+CSVデータ3!H192+CSVデータ4!H192","v":11.2},null,{"$f":"CSVデータ1!J192+CSVデータ2!J192+CSVデータ3!J192+CSVデータ4!J192","v":10.8},null,{"$f":"CSVデータ1!L192+CSVデータ2!L192+CSVデータ3!L192+CSVデータ4!L192","v":10},null,{"$f":"CSVデータ1!N192+CSVデータ2!N192+CSVデータ3!N192+CSVデータ4!N192","v":1.2},null,{"$f":"CSVデータ1!P192+CSVデータ2!P192+CSVデータ3!P192+CSVデータ4!P192","v":8.6},null,{"$f":"CSVデータ1!R192+CSVデータ2!R192+CSVデータ3!R192+CSVデータ4!R192","v":32.4},null,{"$f":"CSVデータ1!T192+CSVデータ2!T192+CSVデータ3!T192+CSVデータ4!T192","v":2},null,{"$f":"CSVデータ1!V192+CSVデータ2!V192+CSVデータ3!V192+CSVデータ4!V192","v":20.8},null,{"$f":"CSVデータ1!X192+CSVデータ2!X192+CSVデータ3!X192+CSVデータ4!X192","v":9.6},null,{"$f":"CSVデータ1!Z192+CSVデータ2!Z192+CSVデータ3!Z192+CSVデータ4!Z192","v":51.2},null,{"$f":"CSVデータ1!AB192+CSVデータ2!AB192+CSVデータ3!AB192+CSVデータ4!AB192","v":0},null,{"$f":"CSVデータ1!AD192+CSVデータ2!AD192+CSVデータ3!AD192+CSVデータ4!AD192","v":43.8},null,{"$f":"CSVデータ1!AF192+CSVデータ2!AF192+CSVデータ3!AF192+CSVデータ4!AF192","v":7.4}]
[{"$f":"CSVデータ1!A193","v":"明細部"},{"$f":"CSVデータ1!B193","v":"保険者（地区）"},{"$f":"CSVデータ1!C193","v":54},{"$f":"CSVデータ1!D193","v":"女"},{"$f":"CSVデータ1!E193+CSVデータ2!E193+CSVデータ3!E193+CSVデータ4!E193","v":92},{"$f":"CSVデータ1!F193+CSVデータ2!F193+CSVデータ3!F193+CSVデータ4!F193","v":14.6},null,{"$f":"CSVデータ1!H193+CSVデータ2!H193+CSVデータ3!H193+CSVデータ4!H193","v":13.2},null,{"$f":"CSVデータ1!J193+CSVデータ2!J193+CSVデータ3!J193+CSVデータ4!J193","v":13.8},null,{"$f":"CSVデータ1!L193+CSVデータ2!L193+CSVデータ3!L193+CSVデータ4!L193","v":10},null,{"$f":"CSVデータ1!N193+CSVデータ2!N193+CSVデータ3!N193+CSVデータ4!N193","v":0.4},null,{"$f":"CSVデータ1!P193+CSVデータ2!P193+CSVデータ3!P193+CSVデータ4!P193","v":7.2},null,{"$f":"CSVデータ1!R193+CSVデータ2!R193+CSVデータ3!R193+CSVデータ4!R193","v":32.6},null,{"$f":"CSVデータ1!T193+CSVデータ2!T193+CSVデータ3!T193+CSVデータ4!T193","v":1.6},null,{"$f":"CSVデータ1!V193+CSVデータ2!V193+CSVデータ3!V193+CSVデータ4!V193","v":24},null,{"$f":"CSVデータ1!X193+CSVデータ2!X193+CSVデータ3!X193+CSVデータ4!X193","v":12.2},null,{"$f":"CSVデータ1!Z193+CSVデータ2!Z193+CSVデータ3!Z193+CSVデータ4!Z193","v":56},null,{"$f":"CSVデータ1!AB193+CSVデータ2!AB193+CSVデータ3!AB193+CSVデータ4!AB193","v":0},null,{"$f":"CSVデータ1!AD193+CSVデータ2!AD193+CSVデータ3!AD193+CSVデータ4!AD193","v":49.2},null,{"$f":"CSVデータ1!AF193+CSVデータ2!AF193+CSVデータ3!AF193+CSVデータ4!AF193","v":5}]
[{"$f":"CSVデータ1!A194","v":"明細部"},{"$f":"CSVデータ1!B194","v":"保険者（地区）"},{"$f":"CSVデータ1!C194","v":55},{"$f":"CSVデータ1!D194","v":"女"},{"$f":"CSVデータ1!E194+CSVデータ2!E194+CSVデータ3!E194+CSVデータ4!E194","v":101.4},{"$f":"CSVデータ1!F194+CSVデータ2!F194+CSVデータ3!F194+CSVデータ4!F194","v":17},null,{"$f":"CSVデータ1!H194+CSVデータ2!H194+CSVデータ3!H194+CSVデータ4!H194","v":12.8},null,{"$f":"CSVデータ1!J194+CSVデータ2!J194+CSVデータ3!J194+CSVデータ4!J194","v":20},null,{"$f":"CSVデータ1!L194+CSVデータ2!L194+CSVデータ3!L194+CSVデータ4!L194","v":11.8},null,{"$f":"CSVデータ1!N194+CSVデータ2!N194+CSVデータ3!N194+CSVデータ4!N194","v":1.2},null,{"$f":"CSVデータ1!P194+CSVデータ2!P194+CSVデータ3!P194+CSVデータ4!P194","v":8.8000000000000007},null,{"$f":"CSVデータ1!R194+CSVデータ2!R194+CSVデータ3!R194+CSVデータ4!R194","v":38.799999999999997},null,{"$f":"CSVデータ1!T194+CSVデータ2!T194+CSVデータ3!T194+CSVデータ4!T194","v":2.2000000000000002},null,{"$f":"CSVデータ1!V194+CSVデータ2!V194+CSVデータ3!V194+CSVデータ4!V194","v":30.4},null,{"$f":"CSVデータ1!X194+CSVデータ2!X194+CSVデータ3!X194+CSVデータ4!X194","v":14},null,{"$f":"CSVデータ1!Z194+CSVデータ2!Z194+CSVデータ3!Z194+CSVデータ4!Z194","v":71},null,{"$f":"CSVデータ1!AB194+CSVデータ2!AB194+CSVデータ3!AB194+CSVデータ4!AB194","v":0.2},null,{"$f":"CSVデータ1!AD194+CSVデータ2!AD194+CSVデータ3!AD194+CSVデータ4!AD194","v":51.2},null,{"$f":"CSVデータ1!AF194+CSVデータ2!AF194+CSVデータ3!AF194+CSVデータ4!AF194","v":7.2}]
[{"$f":"CSVデータ1!A195","v":"明細部"},{"$f":"CSVデータ1!B195","v":"保険者（地区）"},{"$f":"CSVデータ1!C195","v":56},{"$f":"CSVデータ1!D195","v":"女"},{"$f":"CSVデータ1!E195+CSVデータ2!E195+CSVデータ3!E195+CSVデータ4!E195","v":102.2},{"$f":"CSVデータ1!F195+CSVデータ2!F195+CSVデータ3!F195+CSVデータ4!F195","v":16.8},null,{"$f":"CSVデータ1!H195+CSVデータ2!H195+CSVデータ3!H195+CSVデータ4!H195","v":12.8},null,{"$f":"CSVデータ1!J195+CSVデータ2!J195+CSVデータ3!J195+CSVデータ4!J195","v":17.8},null,{"$f":"CSVデータ1!L195+CSVデータ2!L195+CSVデータ3!L195+CSVデータ4!L195","v":12.8},null,{"$f":"CSVデータ1!N195+CSVデータ2!N195+CSVデータ3!N195+CSVデータ4!N195","v":0.2},null,{"$f":"CSVデータ1!P195+CSVデータ2!P195+CSVデータ3!P195+CSVデータ4!P195","v":10.8},null,{"$f":"CSVデータ1!R195+CSVデータ2!R195+CSVデータ3!R195+CSVデータ4!R195","v":40.4},null,{"$f":"CSVデータ1!T195+CSVデータ2!T195+CSVデータ3!T195+CSVデータ4!T195","v":1},null,{"$f":"CSVデータ1!V195+CSVデータ2!V195+CSVデータ3!V195+CSVデータ4!V195","v":30.8},null,{"$f":"CSVデータ1!X195+CSVデータ2!X195+CSVデータ3!X195+CSVデータ4!X195","v":12.8},null,{"$f":"CSVデータ1!Z195+CSVデータ2!Z195+CSVデータ3!Z195+CSVデータ4!Z195","v":64.599999999999994},null,{"$f":"CSVデータ1!AB195+CSVデータ2!AB195+CSVデータ3!AB195+CSVデータ4!AB195","v":0},null,{"$f":"CSVデータ1!AD195+CSVデータ2!AD195+CSVデータ3!AD195+CSVデータ4!AD195","v":55.2},null,{"$f":"CSVデータ1!AF195+CSVデータ2!AF195+CSVデータ3!AF195+CSVデータ4!AF195","v":6}]
[{"$f":"CSVデータ1!A196","v":"明細部"},{"$f":"CSVデータ1!B196","v":"保険者（地区）"},{"$f":"CSVデータ1!C196","v":57},{"$f":"CSVデータ1!D196","v":"女"},{"$f":"CSVデータ1!E196+CSVデータ2!E196+CSVデータ3!E196+CSVデータ4!E196","v":121},{"$f":"CSVデータ1!F196+CSVデータ2!F196+CSVデータ3!F196+CSVデータ4!F196","v":18.2},null,{"$f":"CSVデータ1!H196+CSVデータ2!H196+CSVデータ3!H196+CSVデータ4!H196","v":13.8},null,{"$f":"CSVデータ1!J196+CSVデータ2!J196+CSVデータ3!J196+CSVデータ4!J196","v":15.4},null,{"$f":"CSVデータ1!L196+CSVデータ2!L196+CSVデータ3!L196+CSVデータ4!L196","v":11},null,{"$f":"CSVデータ1!N196+CSVデータ2!N196+CSVデータ3!N196+CSVデータ4!N196","v":0.8},null,{"$f":"CSVデータ1!P196+CSVデータ2!P196+CSVデータ3!P196+CSVデータ4!P196","v":13},null,{"$f":"CSVデータ1!R196+CSVデータ2!R196+CSVデータ3!R196+CSVデータ4!R196","v":47},null,{"$f":"CSVデータ1!T196+CSVデータ2!T196+CSVデータ3!T196+CSVデータ4!T196","v":2.4},null,{"$f":"CSVデータ1!V196+CSVデータ2!V196+CSVデータ3!V196+CSVデータ4!V196","v":32.6},null,{"$f":"CSVデータ1!X196+CSVデータ2!X196+CSVデータ3!X196+CSVデータ4!X196","v":17.399999999999999},null,{"$f":"CSVデータ1!Z196+CSVデータ2!Z196+CSVデータ3!Z196+CSVデータ4!Z196","v":73.599999999999994},null,{"$f":"CSVデータ1!AB196+CSVデータ2!AB196+CSVデータ3!AB196+CSVデータ4!AB196","v":0.2},null,{"$f":"CSVデータ1!AD196+CSVデータ2!AD196+CSVデータ3!AD196+CSVデータ4!AD196","v":59.4},null,{"$f":"CSVデータ1!AF196+CSVデータ2!AF196+CSVデータ3!AF196+CSVデータ4!AF196","v":10}]
[{"$f":"CSVデータ1!A197","v":"明細部"},{"$f":"CSVデータ1!B197","v":"保険者（地区）"},{"$f":"CSVデータ1!C197","v":58},{"$f":"CSVデータ1!D197","v":"女"},{"$f":"CSVデータ1!E197+CSVデータ2!E197+CSVデータ3!E197+CSVデータ4!E197","v":125.8},{"$f":"CSVデータ1!F197+CSVデータ2!F197+CSVデータ3!F197+CSVデータ4!F197","v":20.8},null,{"$f":"CSVデータ1!H197+CSVデータ2!H197+CSVデータ3!H197+CSVデータ4!H197","v":16.8},null,{"$f":"CSVデータ1!J197+CSVデータ2!J197+CSVデータ3!J197+CSVデータ4!J197","v":16.2},null,{"$f":"CSVデータ1!L197+CSVデータ2!L197+CSVデータ3!L197+CSVデータ4!L197","v":12.8},null,{"$f":"CSVデータ1!N197+CSVデータ2!N197+CSVデータ3!N197+CSVデータ4!N197","v":1.6},null,{"$f":"CSVデータ1!P197+CSVデータ2!P197+CSVデータ3!P197+CSVデータ4!P197","v":13.4},null,{"$f":"CSVデータ1!R197+CSVデータ2!R197+CSVデータ3!R197+CSVデータ4!R197","v":59.4},null,{"$f":"CSVデータ1!T197+CSVデータ2!T197+CSVデータ3!T197+CSVデータ4!T197","v":2.2000000000000002},null,{"$f":"CSVデータ1!V197+CSVデータ2!V197+CSVデータ3!V197+CSVデータ4!V197","v":38.799999999999997},null,{"$f":"CSVデータ1!X197+CSVデータ2!X197+CSVデータ3!X197+CSVデータ4!X197","v":21.8},null,{"$f":"CSVデータ1!Z197+CSVデータ2!Z197+CSVデータ3!Z197+CSVデータ4!Z197","v":84.4},null,{"$f":"CSVデータ1!AB197+CSVデータ2!AB197+CSVデータ3!AB197+CSVデータ4!AB197","v":0.2},null,{"$f":"CSVデータ1!AD197+CSVデータ2!AD197+CSVデータ3!AD197+CSVデータ4!AD197","v":72.400000000000006},null,{"$f":"CSVデータ1!AF197+CSVデータ2!AF197+CSVデータ3!AF197+CSVデータ4!AF197","v":9.1999999999999993}]
[{"$f":"CSVデータ1!A198","v":"明細部"},{"$f":"CSVデータ1!B198","v":"保険者（地区）"},{"$f":"CSVデータ1!C198","v":59},{"$f":"CSVデータ1!D198","v":"女"},{"$f":"CSVデータ1!E198+CSVデータ2!E198+CSVデータ3!E198+CSVデータ4!E198","v":151.19999999999999},{"$f":"CSVデータ1!F198+CSVデータ2!F198+CSVデータ3!F198+CSVデータ4!F198","v":29.2},null,{"$f":"CSVデータ1!H198+CSVデータ2!H198+CSVデータ3!H198+CSVデータ4!H198","v":28.6},null,{"$f":"CSVデータ1!J198+CSVデータ2!J198+CSVデータ3!J198+CSVデータ4!J198","v":20.399999999999999},null,{"$f":"CSVデータ1!L198+CSVデータ2!L198+CSVデータ3!L198+CSVデータ4!L198","v":16.8},null,{"$f":"CSVデータ1!N198+CSVデータ2!N198+CSVデータ3!N198+CSVデータ4!N198","v":0.2},null,{"$f":"CSVデータ1!P198+CSVデータ2!P198+CSVデータ3!P198+CSVデータ4!P198","v":23},null,{"$f":"CSVデータ1!R198+CSVデータ2!R198+CSVデータ3!R198+CSVデータ4!R198","v":68.8},null,{"$f":"CSVデータ1!T198+CSVデータ2!T198+CSVデータ3!T198+CSVデータ4!T198","v":1.2},null,{"$f":"CSVデータ1!V198+CSVデータ2!V198+CSVデータ3!V198+CSVデータ4!V198","v":57.2},null,{"$f":"CSVデータ1!X198+CSVデータ2!X198+CSVデータ3!X198+CSVデータ4!X198","v":26.6},null,{"$f":"CSVデータ1!Z198+CSVデータ2!Z198+CSVデータ3!Z198+CSVデータ4!Z198","v":101.8},null,{"$f":"CSVデータ1!AB198+CSVデータ2!AB198+CSVデータ3!AB198+CSVデータ4!AB198","v":0},null,{"$f":"CSVデータ1!AD198+CSVデータ2!AD198+CSVデータ3!AD198+CSVデータ4!AD198","v":77.8},null,{"$f":"CSVデータ1!AF198+CSVデータ2!AF198+CSVデータ3!AF198+CSVデータ4!AF198","v":14.4}]
[{"$f":"CSVデータ1!A199","v":"明細部"},{"$f":"CSVデータ1!B199","v":"保険者（地区）"},{"$f":"CSVデータ1!C199","v":60},{"$f":"CSVデータ1!D199","v":"女"},{"$f":"CSVデータ1!E199+CSVデータ2!E199+CSVデータ3!E199+CSVデータ4!E199","v":197.8},{"$f":"CSVデータ1!F199+CSVデータ2!F199+CSVデータ3!F199+CSVデータ4!F199","v":33.6},null,{"$f":"CSVデータ1!H199+CSVデータ2!H199+CSVデータ3!H199+CSVデータ4!H199","v":30.4},null,{"$f":"CSVデータ1!J199+CSVデータ2!J199+CSVデータ3!J199+CSVデータ4!J199","v":23},null,{"$f":"CSVデータ1!L199+CSVデータ2!L199+CSVデータ3!L199+CSVデータ4!L199","v":17.399999999999999},null,{"$f":"CSVデータ1!N199+CSVデータ2!N199+CSVデータ3!N199+CSVデータ4!N199","v":3.2},null,{"$f":"CSVデータ1!P199+CSVデータ2!P199+CSVデータ3!P199+CSVデータ4!P199","v":27.4},null,{"$f":"CSVデータ1!R199+CSVデータ2!R199+CSVデータ3!R199+CSVデータ4!R199","v":93.4},null,{"$f":"CSVデータ1!T199+CSVデータ2!T199+CSVデータ3!T199+CSVデータ4!T199","v":2},null,{"$f":"CSVデータ1!V199+CSVデータ2!V199+CSVデータ3!V199+CSVデータ4!V199","v":64.8},null,{"$f":"CSVデータ1!X199+CSVデータ2!X199+CSVデータ3!X199+CSVデータ4!X199","v":29.2},null,{"$f":"CSVデータ1!Z199+CSVデータ2!Z199+CSVデータ3!Z199+CSVデータ4!Z199","v":137.4},null,{"$f":"CSVデータ1!AB199+CSVデータ2!AB199+CSVデータ3!AB199+CSVデータ4!AB199","v":0},null,{"$f":"CSVデータ1!AD199+CSVデータ2!AD199+CSVデータ3!AD199+CSVデータ4!AD199","v":108.6},null,{"$f":"CSVデータ1!AF199+CSVデータ2!AF199+CSVデータ3!AF199+CSVデータ4!AF199","v":14.4}]
[{"$f":"CSVデータ1!A200","v":"明細部"},{"$f":"CSVデータ1!B200","v":"保険者（地区）"},{"$f":"CSVデータ1!C200","v":61},{"$f":"CSVデータ1!D200","v":"女"},{"$f":"CSVデータ1!E200+CSVデータ2!E200+CSVデータ3!E200+CSVデータ4!E200","v":215.8},{"$f":"CSVデータ1!F200+CSVデータ2!F200+CSVデータ3!F200+CSVデータ4!F200","v":41.2},null,{"$f":"CSVデータ1!H200+CSVデータ2!H200+CSVデータ3!H200+CSVデータ4!H200","v":37.200000000000003},null,{"$f":"CSVデータ1!J200+CSVデータ2!J200+CSVデータ3!J200+CSVデータ4!J200","v":34.799999999999997},null,{"$f":"CSVデータ1!L200+CSVデータ2!L200+CSVデータ3!L200+CSVデータ4!L200","v":27.2},null,{"$f":"CSVデータ1!N200+CSVデータ2!N200+CSVデータ3!N200+CSVデータ4!N200","v":2.4},null,{"$f":"CSVデータ1!P200+CSVデータ2!P200+CSVデータ3!P200+CSVデータ4!P200","v":29.8},null,{"$f":"CSVデータ1!R200+CSVデータ2!R200+CSVデータ3!R200+CSVデータ4!R200","v":109},null,{"$f":"CSVデータ1!T200+CSVデータ2!T200+CSVデータ3!T200+CSVデータ4!T200","v":3},null,{"$f":"CSVデータ1!V200+CSVデータ2!V200+CSVデータ3!V200+CSVデータ4!V200","v":75},null,{"$f":"CSVデータ1!X200+CSVデータ2!X200+CSVデータ3!X200+CSVデータ4!X200","v":32.6},null,{"$f":"CSVデータ1!Z200+CSVデータ2!Z200+CSVデータ3!Z200+CSVデータ4!Z200","v":151},null,{"$f":"CSVデータ1!AB200+CSVデータ2!AB200+CSVデータ3!AB200+CSVデータ4!AB200","v":0.2},null,{"$f":"CSVデータ1!AD200+CSVデータ2!AD200+CSVデータ3!AD200+CSVデータ4!AD200","v":121.6},null,{"$f":"CSVデータ1!AF200+CSVデータ2!AF200+CSVデータ3!AF200+CSVデータ4!AF200","v":16.399999999999999}]
[{"$f":"CSVデータ1!A201","v":"明細部"},{"$f":"CSVデータ1!B201","v":"保険者（地区）"},{"$f":"CSVデータ1!C201","v":62},{"$f":"CSVデータ1!D201","v":"女"},{"$f":"CSVデータ1!E201+CSVデータ2!E201+CSVデータ3!E201+CSVデータ4!E201","v":279.39999999999998},{"$f":"CSVデータ1!F201+CSVデータ2!F201+CSVデータ3!F201+CSVデータ4!F201","v":56.8},null,{"$f":"CSVデータ1!H201+CSVデータ2!H201+CSVデータ3!H201+CSVデータ4!H201","v":48.6},null,{"$f":"CSVデータ1!J201+CSVデータ2!J201+CSVデータ3!J201+CSVデータ4!J201","v":46.8},null,{"$f":"CSVデータ1!L201+CSVデータ2!L201+CSVデータ3!L201+CSVデータ4!L201","v":33.6},null,{"$f":"CSVデータ1!N201+CSVデータ2!N201+CSVデータ3!N201+CSVデータ4!N201","v":2.4},null,{"$f":"CSVデータ1!P201+CSVデータ2!P201+CSVデータ3!P201+CSVデータ4!P201","v":42.8},null,{"$f":"CSVデータ1!R201+CSVデータ2!R201+CSVデータ3!R201+CSVデータ4!R201","v":135.19999999999999},null,{"$f":"CSVデータ1!T201+CSVデータ2!T201+CSVデータ3!T201+CSVデータ4!T201","v":4.8},null,{"$f":"CSVデータ1!V201+CSVデータ2!V201+CSVデータ3!V201+CSVデータ4!V201","v":104.6},null,{"$f":"CSVデータ1!X201+CSVデータ2!X201+CSVデータ3!X201+CSVデータ4!X201","v":43},null,{"$f":"CSVデータ1!Z201+CSVデータ2!Z201+CSVデータ3!Z201+CSVデータ4!Z201","v":185.2},null,{"$f":"CSVデータ1!AB201+CSVデータ2!AB201+CSVデータ3!AB201+CSVデータ4!AB201","v":0.4},null,{"$f":"CSVデータ1!AD201+CSVデータ2!AD201+CSVデータ3!AD201+CSVデータ4!AD201","v":148.80000000000001},null,{"$f":"CSVデータ1!AF201+CSVデータ2!AF201+CSVデータ3!AF201+CSVデータ4!AF201","v":19.8}]
[{"$f":"CSVデータ1!A202","v":"明細部"},{"$f":"CSVデータ1!B202","v":"保険者（地区）"},{"$f":"CSVデータ1!C202","v":63},{"$f":"CSVデータ1!D202","v":"女"},{"$f":"CSVデータ1!E202+CSVデータ2!E202+CSVデータ3!E202+CSVデータ4!E202","v":332.2},{"$f":"CSVデータ1!F202+CSVデータ2!F202+CSVデータ3!F202+CSVデータ4!F202","v":61.6},null,{"$f":"CSVデータ1!H202+CSVデータ2!H202+CSVデータ3!H202+CSVデータ4!H202","v":53.6},null,{"$f":"CSVデータ1!J202+CSVデータ2!J202+CSVデータ3!J202+CSVデータ4!J202","v":52.2},null,{"$f":"CSVデータ1!L202+CSVデータ2!L202+CSVデータ3!L202+CSVデータ4!L202","v":31.6},null,{"$f":"CSVデータ1!N202+CSVデータ2!N202+CSVデータ3!N202+CSVデータ4!N202","v":3.4},null,{"$f":"CSVデータ1!P202+CSVデータ2!P202+CSVデータ3!P202+CSVデータ4!P202","v":56.4},null,{"$f":"CSVデータ1!R202+CSVデータ2!R202+CSVデータ3!R202+CSVデータ4!R202","v":165.8},null,{"$f":"CSVデータ1!T202+CSVデータ2!T202+CSVデータ3!T202+CSVデータ4!T202","v":6.8},null,{"$f":"CSVデータ1!V202+CSVデータ2!V202+CSVデータ3!V202+CSVデータ4!V202","v":130.19999999999999},null,{"$f":"CSVデータ1!X202+CSVデータ2!X202+CSVデータ3!X202+CSVデータ4!X202","v":54.2},null,{"$f":"CSVデータ1!Z202+CSVデータ2!Z202+CSVデータ3!Z202+CSVデータ4!Z202","v":209.4},null,{"$f":"CSVデータ1!AB202+CSVデータ2!AB202+CSVデータ3!AB202+CSVデータ4!AB202","v":0.4},null,{"$f":"CSVデータ1!AD202+CSVデータ2!AD202+CSVデータ3!AD202+CSVデータ4!AD202","v":181.2},null,{"$f":"CSVデータ1!AF202+CSVデータ2!AF202+CSVデータ3!AF202+CSVデータ4!AF202","v":27.2}]
[{"$f":"CSVデータ1!A203","v":"明細部"},{"$f":"CSVデータ1!B203","v":"保険者（地区）"},{"$f":"CSVデータ1!C203","v":64},{"$f":"CSVデータ1!D203","v":"女"},{"$f":"CSVデータ1!E203+CSVデータ2!E203+CSVデータ3!E203+CSVデータ4!E203","v":445.6},{"$f":"CSVデータ1!F203+CSVデータ2!F203+CSVデータ3!F203+CSVデータ4!F203","v":82.6},null,{"$f":"CSVデータ1!H203+CSVデータ2!H203+CSVデータ3!H203+CSVデータ4!H203","v":75.599999999999994},null,{"$f":"CSVデータ1!J203+CSVデータ2!J203+CSVデータ3!J203+CSVデータ4!J203","v":70.8},null,{"$f":"CSVデータ1!L203+CSVデータ2!L203+CSVデータ3!L203+CSVデータ4!L203","v":42.8},null,{"$f":"CSVデータ1!N203+CSVデータ2!N203+CSVデータ3!N203+CSVデータ4!N203","v":4.4000000000000004},null,{"$f":"CSVデータ1!P203+CSVデータ2!P203+CSVデータ3!P203+CSVデータ4!P203","v":74.400000000000006},null,{"$f":"CSVデータ1!R203+CSVデータ2!R203+CSVデータ3!R203+CSVデータ4!R203","v":220.6},null,{"$f":"CSVデータ1!T203+CSVデータ2!T203+CSVデータ3!T203+CSVデータ4!T203","v":5.6},null,{"$f":"CSVデータ1!V203+CSVデータ2!V203+CSVデータ3!V203+CSVデータ4!V203","v":186.2},null,{"$f":"CSVデータ1!X203+CSVデータ2!X203+CSVデータ3!X203+CSVデータ4!X203","v":67.400000000000006},null,{"$f":"CSVデータ1!Z203+CSVデータ2!Z203+CSVデータ3!Z203+CSVデータ4!Z203","v":299.8},null,{"$f":"CSVデータ1!AB203+CSVデータ2!AB203+CSVデータ3!AB203+CSVデータ4!AB203","v":0.8},null,{"$f":"CSVデータ1!AD203+CSVデータ2!AD203+CSVデータ3!AD203+CSVデータ4!AD203","v":245.8},null,{"$f":"CSVデータ1!AF203+CSVデータ2!AF203+CSVデータ3!AF203+CSVデータ4!AF203","v":38.6}]
[{"$f":"CSVデータ1!A204","v":"明細部"},{"$f":"CSVデータ1!B204","v":"保険者（地区）"},{"$f":"CSVデータ1!C204","v":65},{"$f":"CSVデータ1!D204","v":"女"},{"$f":"CSVデータ1!E204+CSVデータ2!E204+CSVデータ3!E204+CSVデータ4!E204","v":521.20000000000005},{"$f":"CSVデータ1!F204+CSVデータ2!F204+CSVデータ3!F204+CSVデータ4!F204","v":110},null,{"$f":"CSVデータ1!H204+CSVデータ2!H204+CSVデータ3!H204+CSVデータ4!H204","v":96.8},null,{"$f":"CSVデータ1!J204+CSVデータ2!J204+CSVデータ3!J204+CSVデータ4!J204","v":85.4},null,{"$f":"CSVデータ1!L204+CSVデータ2!L204+CSVデータ3!L204+CSVデータ4!L204","v":57.2},null,{"$f":"CSVデータ1!N204+CSVデータ2!N204+CSVデータ3!N204+CSVデータ4!N204","v":3.6},null,{"$f":"CSVデータ1!P204+CSVデータ2!P204+CSVデータ3!P204+CSVデータ4!P204","v":97.2},null,{"$f":"CSVデータ1!R204+CSVデータ2!R204+CSVデータ3!R204+CSVデータ4!R204","v":273.8},null,{"$f":"CSVデータ1!T204+CSVデータ2!T204+CSVデータ3!T204+CSVデータ4!T204","v":7.2},null,{"$f":"CSVデータ1!V204+CSVデータ2!V204+CSVデータ3!V204+CSVデータ4!V204","v":223.4},null,{"$f":"CSVデータ1!X204+CSVデータ2!X204+CSVデータ3!X204+CSVデータ4!X204","v":96.4},null,{"$f":"CSVデータ1!Z204+CSVデータ2!Z204+CSVデータ3!Z204+CSVデータ4!Z204","v":356},null,{"$f":"CSVデータ1!AB204+CSVデータ2!AB204+CSVデータ3!AB204+CSVデータ4!AB204","v":0.4},null,{"$f":"CSVデータ1!AD204+CSVデータ2!AD204+CSVデータ3!AD204+CSVデータ4!AD204","v":304.8},null,{"$f":"CSVデータ1!AF204+CSVデータ2!AF204+CSVデータ3!AF204+CSVデータ4!AF204","v":38.6}]
[{"$f":"CSVデータ1!A205","v":"明細部"},{"$f":"CSVデータ1!B205","v":"保険者（地区）"},{"$f":"CSVデータ1!C205","v":66},{"$f":"CSVデータ1!D205","v":"女"},{"$f":"CSVデータ1!E205+CSVデータ2!E205+CSVデータ3!E205+CSVデータ4!E205","v":634.20000000000005},{"$f":"CSVデータ1!F205+CSVデータ2!F205+CSVデータ3!F205+CSVデータ4!F205","v":127.6},null,{"$f":"CSVデータ1!H205+CSVデータ2!H205+CSVデータ3!H205+CSVデータ4!H205","v":110.8},null,{"$f":"CSVデータ1!J205+CSVデータ2!J205+CSVデータ3!J205+CSVデータ4!J205","v":109.8},null,{"$f":"CSVデータ1!L205+CSVデータ2!L205+CSVデータ3!L205+CSVデータ4!L205","v":63.2},null,{"$f":"CSVデータ1!N205+CSVデータ2!N205+CSVデータ3!N205+CSVデータ4!N205","v":8.6},null,{"$f":"CSVデータ1!P205+CSVデータ2!P205+CSVデータ3!P205+CSVデータ4!P205","v":111.2},null,{"$f":"CSVデータ1!R205+CSVデータ2!R205+CSVデータ3!R205+CSVデータ4!R205","v":340.2},null,{"$f":"CSVデータ1!T205+CSVデータ2!T205+CSVデータ3!T205+CSVデータ4!T205","v":9.1999999999999993},null,{"$f":"CSVデータ1!V205+CSVデータ2!V205+CSVデータ3!V205+CSVデータ4!V205","v":280},null,{"$f":"CSVデータ1!X205+CSVデータ2!X205+CSVデータ3!X205+CSVデータ4!X205","v":94.4},null,{"$f":"CSVデータ1!Z205+CSVデータ2!Z205+CSVデータ3!Z205+CSVデータ4!Z205","v":417.8},null,{"$f":"CSVデータ1!AB205+CSVデータ2!AB205+CSVデータ3!AB205+CSVデータ4!AB205","v":0.6},null,{"$f":"CSVデータ1!AD205+CSVデータ2!AD205+CSVデータ3!AD205+CSVデータ4!AD205","v":350.8},null,{"$f":"CSVデータ1!AF205+CSVデータ2!AF205+CSVデータ3!AF205+CSVデータ4!AF205","v":50.6}]
[{"$f":"CSVデータ1!A206","v":"明細部"},{"$f":"CSVデータ1!B206","v":"保険者（地区）"},{"$f":"CSVデータ1!C206","v":67},{"$f":"CSVデータ1!D206","v":"女"},{"$f":"CSVデータ1!E206+CSVデータ2!E206+CSVデータ3!E206+CSVデータ4!E206","v":743.2},{"$f":"CSVデータ1!F206+CSVデータ2!F206+CSVデータ3!F206+CSVデータ4!F206","v":137.6},null,{"$f":"CSVデータ1!H206+CSVデータ2!H206+CSVデータ3!H206+CSVデータ4!H206","v":124.2},null,{"$f":"CSVデータ1!J206+CSVデータ2!J206+CSVデータ3!J206+CSVデータ4!J206","v":122.8},null,{"$f":"CSVデータ1!L206+CSVデータ2!L206+CSVデータ3!L206+CSVデータ4!L206","v":71.8},null,{"$f":"CSVデータ1!N206+CSVデータ2!N206+CSVデータ3!N206+CSVデータ4!N206","v":7.6},null,{"$f":"CSVデータ1!P206+CSVデータ2!P206+CSVデータ3!P206+CSVデータ4!P206","v":123.8},null,{"$f":"CSVデータ1!R206+CSVデータ2!R206+CSVデータ3!R206+CSVデータ4!R206","v":393.8},null,{"$f":"CSVデータ1!T206+CSVデータ2!T206+CSVデータ3!T206+CSVデータ4!T206","v":12},null,{"$f":"CSVデータ1!V206+CSVデータ2!V206+CSVデータ3!V206+CSVデータ4!V206","v":316},null,{"$f":"CSVデータ1!X206+CSVデータ2!X206+CSVデータ3!X206+CSVデータ4!X206","v":97.6},null,{"$f":"CSVデータ1!Z206+CSVデータ2!Z206+CSVデータ3!Z206+CSVデータ4!Z206","v":459.8},null,{"$f":"CSVデータ1!AB206+CSVデータ2!AB206+CSVデータ3!AB206+CSVデータ4!AB206","v":0.4},null,{"$f":"CSVデータ1!AD206+CSVデータ2!AD206+CSVデータ3!AD206+CSVデータ4!AD206","v":389.8},null,{"$f":"CSVデータ1!AF206+CSVデータ2!AF206+CSVデータ3!AF206+CSVデータ4!AF206","v":49.6}]
[{"$f":"CSVデータ1!A207","v":"明細部"},{"$f":"CSVデータ1!B207","v":"保険者（地区）"},{"$f":"CSVデータ1!C207","v":68},{"$f":"CSVデータ1!D207","v":"女"},{"$f":"CSVデータ1!E207+CSVデータ2!E207+CSVデータ3!E207+CSVデータ4!E207","v":830.2},{"$f":"CSVデータ1!F207+CSVデータ2!F207+CSVデータ3!F207+CSVデータ4!F207","v":150.4},null,{"$f":"CSVデータ1!H207+CSVデータ2!H207+CSVデータ3!H207+CSVデータ4!H207","v":145.4},null,{"$f":"CSVデータ1!J207+CSVデータ2!J207+CSVデータ3!J207+CSVデータ4!J207","v":136},null,{"$f":"CSVデータ1!L207+CSVデータ2!L207+CSVデータ3!L207+CSVデータ4!L207","v":70.2},null,{"$f":"CSVデータ1!N207+CSVデータ2!N207+CSVデータ3!N207+CSVデータ4!N207","v":9.8000000000000007},null,{"$f":"CSVデータ1!P207+CSVデータ2!P207+CSVデータ3!P207+CSVデータ4!P207","v":160.4},null,{"$f":"CSVデータ1!R207+CSVデータ2!R207+CSVデータ3!R207+CSVデータ4!R207","v":471.8},null,{"$f":"CSVデータ1!T207+CSVデータ2!T207+CSVデータ3!T207+CSVデータ4!T207","v":14.4},null,{"$f":"CSVデータ1!V207+CSVデータ2!V207+CSVデータ3!V207+CSVデータ4!V207","v":406},null,{"$f":"CSVデータ1!X207+CSVデータ2!X207+CSVデータ3!X207+CSVデータ4!X207","v":134.6},null,{"$f":"CSVデータ1!Z207+CSVデータ2!Z207+CSVデータ3!Z207+CSVデータ4!Z207","v":537.4},null,{"$f":"CSVデータ1!AB207+CSVデータ2!AB207+CSVデータ3!AB207+CSVデータ4!AB207","v":1.6},null,{"$f":"CSVデータ1!AD207+CSVデータ2!AD207+CSVデータ3!AD207+CSVデータ4!AD207","v":473},null,{"$f":"CSVデータ1!AF207+CSVデータ2!AF207+CSVデータ3!AF207+CSVデータ4!AF207","v":61.4}]
[{"$f":"CSVデータ1!A208","v":"明細部"},{"$f":"CSVデータ1!B208","v":"保険者（地区）"},{"$f":"CSVデータ1!C208","v":69},{"$f":"CSVデータ1!D208","v":"女"},{"$f":"CSVデータ1!E208+CSVデータ2!E208+CSVデータ3!E208+CSVデータ4!E208","v":950.4},{"$f":"CSVデータ1!F208+CSVデータ2!F208+CSVデータ3!F208+CSVデータ4!F208","v":178},null,{"$f":"CSVデータ1!H208+CSVデータ2!H208+CSVデータ3!H208+CSVデータ4!H208","v":160.80000000000001},null,{"$f":"CSVデータ1!J208+CSVデータ2!J208+CSVデータ3!J208+CSVデータ4!J208","v":152.6},null,{"$f":"CSVデータ1!L208+CSVデータ2!L208+CSVデータ3!L208+CSVデータ4!L208","v":83.2},null,{"$f":"CSVデータ1!N208+CSVデータ2!N208+CSVデータ3!N208+CSVデータ4!N208","v":15},null,{"$f":"CSVデータ1!P208+CSVデータ2!P208+CSVデータ3!P208+CSVデータ4!P208","v":176.2},null,{"$f":"CSVデータ1!R208+CSVデータ2!R208+CSVデータ3!R208+CSVデータ4!R208","v":524.79999999999995},null,{"$f":"CSVデータ1!T208+CSVデータ2!T208+CSVデータ3!T208+CSVデータ4!T208","v":16},null,{"$f":"CSVデータ1!V208+CSVデータ2!V208+CSVデータ3!V208+CSVデータ4!V208","v":449.6},null,{"$f":"CSVデータ1!X208+CSVデータ2!X208+CSVデータ3!X208+CSVデータ4!X208","v":138.4},null,{"$f":"CSVデータ1!Z208+CSVデータ2!Z208+CSVデータ3!Z208+CSVデータ4!Z208","v":584.6},null,{"$f":"CSVデータ1!AB208+CSVデータ2!AB208+CSVデータ3!AB208+CSVデータ4!AB208","v":3.2},null,{"$f":"CSVデータ1!AD208+CSVデータ2!AD208+CSVデータ3!AD208+CSVデータ4!AD208","v":545.4},null,{"$f":"CSVデータ1!AF208+CSVデータ2!AF208+CSVデータ3!AF208+CSVデータ4!AF208","v":54.2}]
[{"$f":"CSVデータ1!A209","v":"明細部"},{"$f":"CSVデータ1!B209","v":"保険者（地区）"},{"$f":"CSVデータ1!C209","v":70},{"$f":"CSVデータ1!D209","v":"女"},{"$f":"CSVデータ1!E209+CSVデータ2!E209+CSVデータ3!E209+CSVデータ4!E209","v":1140.5999999999999},{"$f":"CSVデータ1!F209+CSVデータ2!F209+CSVデータ3!F209+CSVデータ4!F209","v":224.6},null,{"$f":"CSVデータ1!H209+CSVデータ2!H209+CSVデータ3!H209+CSVデータ4!H209","v":206.8},null,{"$f":"CSVデータ1!J209+CSVデータ2!J209+CSVデータ3!J209+CSVデータ4!J209","v":201.2},null,{"$f":"CSVデータ1!L209+CSVデータ2!L209+CSVデータ3!L209+CSVデータ4!L209","v":89.6},null,{"$f":"CSVデータ1!N209+CSVデータ2!N209+CSVデータ3!N209+CSVデータ4!N209","v":15.2},null,{"$f":"CSVデータ1!P209+CSVデータ2!P209+CSVデータ3!P209+CSVデータ4!P209","v":220.4},null,{"$f":"CSVデータ1!R209+CSVデータ2!R209+CSVデータ3!R209+CSVデータ4!R209","v":655.8},null,{"$f":"CSVデータ1!T209+CSVデータ2!T209+CSVデータ3!T209+CSVデータ4!T209","v":23.4},null,{"$f":"CSVデータ1!V209+CSVデータ2!V209+CSVデータ3!V209+CSVデータ4!V209","v":589},null,{"$f":"CSVデータ1!X209+CSVデータ2!X209+CSVデータ3!X209+CSVデータ4!X209","v":168},null,{"$f":"CSVデータ1!Z209+CSVデータ2!Z209+CSVデータ3!Z209+CSVデータ4!Z209","v":719.8},null,{"$f":"CSVデータ1!AB209+CSVデータ2!AB209+CSVデータ3!AB209+CSVデータ4!AB209","v":3},null,{"$f":"CSVデータ1!AD209+CSVデータ2!AD209+CSVデータ3!AD209+CSVデータ4!AD209","v":629.20000000000005},null,{"$f":"CSVデータ1!AF209+CSVデータ2!AF209+CSVデータ3!AF209+CSVデータ4!AF209","v":62.4}]
[{"$f":"CSVデータ1!A210","v":"明細部"},{"$f":"CSVデータ1!B210","v":"保険者（地区）"},{"$f":"CSVデータ1!C210","v":71},{"$f":"CSVデータ1!D210","v":"女"},{"$f":"CSVデータ1!E210+CSVデータ2!E210+CSVデータ3!E210+CSVデータ4!E210","v":1163.2},{"$f":"CSVデータ1!F210+CSVデータ2!F210+CSVデータ3!F210+CSVデータ4!F210","v":227.4},null,{"$f":"CSVデータ1!H210+CSVデータ2!H210+CSVデータ3!H210+CSVデータ4!H210","v":215},null,{"$f":"CSVデータ1!J210+CSVデータ2!J210+CSVデータ3!J210+CSVデータ4!J210","v":187.6},null,{"$f":"CSVデータ1!L210+CSVデータ2!L210+CSVデータ3!L210+CSVデータ4!L210","v":90.8},null,{"$f":"CSVデータ1!N210+CSVデータ2!N210+CSVデータ3!N210+CSVデータ4!N210","v":14.4},null,{"$f":"CSVデータ1!P210+CSVデータ2!P210+CSVデータ3!P210+CSVデータ4!P210","v":230},null,{"$f":"CSVデータ1!R210+CSVデータ2!R210+CSVデータ3!R210+CSVデータ4!R210","v":689.4},null,{"$f":"CSVデータ1!T210+CSVデータ2!T210+CSVデータ3!T210+CSVデータ4!T210","v":21.4},null,{"$f":"CSVデータ1!V210+CSVデータ2!V210+CSVデータ3!V210+CSVデータ4!V210","v":593},null,{"$f":"CSVデータ1!X210+CSVデータ2!X210+CSVデータ3!X210+CSVデータ4!X210","v":152.80000000000001},null,{"$f":"CSVデータ1!Z210+CSVデータ2!Z210+CSVデータ3!Z210+CSVデータ4!Z210","v":701.6},null,{"$f":"CSVデータ1!AB210+CSVデータ2!AB210+CSVデータ3!AB210+CSVデータ4!AB210","v":2.2000000000000002},null,{"$f":"CSVデータ1!AD210+CSVデータ2!AD210+CSVデータ3!AD210+CSVデータ4!AD210","v":642.20000000000005},null,{"$f":"CSVデータ1!AF210+CSVデータ2!AF210+CSVデータ3!AF210+CSVデータ4!AF210","v":62}]
[{"$f":"CSVデータ1!A211","v":"明細部"},{"$f":"CSVデータ1!B211","v":"保険者（地区）"},{"$f":"CSVデータ1!C211","v":72},{"$f":"CSVデータ1!D211","v":"女"},{"$f":"CSVデータ1!E211+CSVデータ2!E211+CSVデータ3!E211+CSVデータ4!E211","v":859.2},{"$f":"CSVデータ1!F211+CSVデータ2!F211+CSVデータ3!F211+CSVデータ4!F211","v":159.80000000000001},null,{"$f":"CSVデータ1!H211+CSVデータ2!H211+CSVデータ3!H211+CSVデータ4!H211","v":156.4},null,{"$f":"CSVデータ1!J211+CSVデータ2!J211+CSVデータ3!J211+CSVデータ4!J211","v":136.4},null,{"$f":"CSVデータ1!L211+CSVデータ2!L211+CSVデータ3!L211+CSVデータ4!L211","v":75.8},null,{"$f":"CSVデータ1!N211+CSVデータ2!N211+CSVデータ3!N211+CSVデータ4!N211","v":12},null,{"$f":"CSVデータ1!P211+CSVデータ2!P211+CSVデータ3!P211+CSVデータ4!P211","v":188.8},null,{"$f":"CSVデータ1!R211+CSVデータ2!R211+CSVデータ3!R211+CSVデータ4!R211","v":522.6},null,{"$f":"CSVデータ1!T211+CSVデータ2!T211+CSVデータ3!T211+CSVデータ4!T211","v":19.600000000000001},null,{"$f":"CSVデータ1!V211+CSVデータ2!V211+CSVデータ3!V211+CSVデータ4!V211","v":467.4},null,{"$f":"CSVデータ1!X211+CSVデータ2!X211+CSVデータ3!X211+CSVデータ4!X211","v":119.8},null,{"$f":"CSVデータ1!Z211+CSVデータ2!Z211+CSVデータ3!Z211+CSVデータ4!Z211","v":518},null,{"$f":"CSVデータ1!AB211+CSVデータ2!AB211+CSVデータ3!AB211+CSVデータ4!AB211","v":2.2000000000000002},null,{"$f":"CSVデータ1!AD211+CSVデータ2!AD211+CSVデータ3!AD211+CSVデータ4!AD211","v":499.4},null,{"$f":"CSVデータ1!AF211+CSVデータ2!AF211+CSVデータ3!AF211+CSVデータ4!AF211","v":48.6}]
[{"$f":"CSVデータ1!A212","v":"明細部"},{"$f":"CSVデータ1!B212","v":"保険者（地区）"},{"$f":"CSVデータ1!C212","v":73},{"$f":"CSVデータ1!D212","v":"女"},{"$f":"CSVデータ1!E212+CSVデータ2!E212+CSVデータ3!E212+CSVデータ4!E212","v":623},{"$f":"CSVデータ1!F212+CSVデータ2!F212+CSVデータ3!F212+CSVデータ4!F212","v":121.6},null,{"$f":"CSVデータ1!H212+CSVデータ2!H212+CSVデータ3!H212+CSVデータ4!H212","v":124.8},null,{"$f":"CSVデータ1!J212+CSVデータ2!J212+CSVデータ3!J212+CSVデータ4!J212","v":108.6},null,{"$f":"CSVデータ1!L212+CSVデータ2!L212+CSVデータ3!L212+CSVデータ4!L212","v":57.6},null,{"$f":"CSVデータ1!N212+CSVデータ2!N212+CSVデータ3!N212+CSVデータ4!N212","v":9.8000000000000007},null,{"$f":"CSVデータ1!P212+CSVデータ2!P212+CSVデータ3!P212+CSVデータ4!P212","v":132},null,{"$f":"CSVデータ1!R212+CSVデータ2!R212+CSVデータ3!R212+CSVデータ4!R212","v":389.6},null,{"$f":"CSVデータ1!T212+CSVデータ2!T212+CSVデータ3!T212+CSVデータ4!T212","v":14.2},null,{"$f":"CSVデータ1!V212+CSVデータ2!V212+CSVデータ3!V212+CSVデータ4!V212","v":336.8},null,{"$f":"CSVデータ1!X212+CSVデータ2!X212+CSVデータ3!X212+CSVデータ4!X212","v":75.2},null,{"$f":"CSVデータ1!Z212+CSVデータ2!Z212+CSVデータ3!Z212+CSVデータ4!Z212","v":364},null,{"$f":"CSVデータ1!AB212+CSVデータ2!AB212+CSVデータ3!AB212+CSVデータ4!AB212","v":0.8},null,{"$f":"CSVデータ1!AD212+CSVデータ2!AD212+CSVデータ3!AD212+CSVデータ4!AD212","v":360.6},null,{"$f":"CSVデータ1!AF212+CSVデータ2!AF212+CSVデータ3!AF212+CSVデータ4!AF212","v":30.8}]
[{"$f":"CSVデータ1!A213","v":"明細部"},{"$f":"CSVデータ1!B213","v":"保険者（地区）"},{"$f":"CSVデータ1!C213","v":74},{"$f":"CSVデータ1!D213","v":"女"},{"$f":"CSVデータ1!E213+CSVデータ2!E213+CSVデータ3!E213+CSVデータ4!E213","v":781.2},{"$f":"CSVデータ1!F213+CSVデータ2!F213+CSVデータ3!F213+CSVデータ4!F213","v":149.6},null,{"$f":"CSVデータ1!H213+CSVデータ2!H213+CSVデータ3!H213+CSVデータ4!H213","v":144.6},null,{"$f":"CSVデータ1!J213+CSVデータ2!J213+CSVデータ3!J213+CSVデータ4!J213","v":127.4},null,{"$f":"CSVデータ1!L213+CSVデータ2!L213+CSVデータ3!L213+CSVデータ4!L213","v":57.4},null,{"$f":"CSVデータ1!N213+CSVデータ2!N213+CSVデータ3!N213+CSVデータ4!N213","v":10.6},null,{"$f":"CSVデータ1!P213+CSVデータ2!P213+CSVデータ3!P213+CSVデータ4!P213","v":172.8},null,{"$f":"CSVデータ1!R213+CSVデータ2!R213+CSVデータ3!R213+CSVデータ4!R213","v":488.6},null,{"$f":"CSVデータ1!T213+CSVデータ2!T213+CSVデータ3!T213+CSVデータ4!T213","v":17.2},null,{"$f":"CSVデータ1!V213+CSVデータ2!V213+CSVデータ3!V213+CSVデータ4!V213","v":412},null,{"$f":"CSVデータ1!X213+CSVデータ2!X213+CSVデータ3!X213+CSVデータ4!X213","v":86.4},null,{"$f":"CSVデータ1!Z213+CSVデータ2!Z213+CSVデータ3!Z213+CSVデータ4!Z213","v":440.8},null,{"$f":"CSVデータ1!AB213+CSVデータ2!AB213+CSVデータ3!AB213+CSVデータ4!AB213","v":1.8},null,{"$f":"CSVデータ1!AD213+CSVデータ2!AD213+CSVデータ3!AD213+CSVデータ4!AD213","v":431.2},null,{"$f":"CSVデータ1!AF213+CSVデータ2!AF213+CSVデータ3!AF213+CSVデータ4!AF213","v":36.6}]

{"sheet":"出力票","index":6,"n_rows":123,"n_cols":28,"rows_kept":123,"cut":false,"hidden":false,"merged":[[5,24,5,27],[45,24,45,27],[85,24,85,27],[6,22,6,23],[7,22,7,23],[8,22,8,23],[6,24,6,27],[46,22,46,23],[46,24,46,27],[122,0,122,27],[42,0,42,27],[108,0,110,0],[111,0,113,0],[114,0,116,0],[99,0,101,0],[105,0,107,1],[93,0,95,0],[96,0,98,0],[90,0,92,1],[90,2,92,2],[87,0,87,1],[87,24,87,25],[87,26,87,27],[88,0,88,1],[88,24,88,25],[86,0,86,1],[105,2,107,2],[68,0,70,0],[71,0,73,0],[74,0,76,0],[106,3,106,7],[106,8,106,12],[82,0,82,27],[91,18,91,22],[106,13,106,17],[106,18,106,22],[90,8,90,22],[105,8,105,22],[53,0,55,0],[56,0,58,0],[59,0,61,0],[65,0,67,1],[65,2,67,2],[65,3,65,27],[105,3,105,7],[91,3,91,7],[91,8,91,12],[91,13,91,17],[90,3,90,7],[66,3,66,7],[66,8,66,12],[66,13,66,17],[66,18,66,22],[66,23,66,27],[86,22,86,23],[86,24,86,27],[87,22,87,23],[88,22,88,23],[48,0,48,1],[48,24,48,25],[48,26,48,27],[50,0,52,1],[50,2,52,2],[50,3,50,27],[51,3,51,7],[51,8,51,12],[51,13,51,17],[51,18,51,22],[51,23,51,27],[48,22,48,23],[88,26,88,27],[78,0,78,27],[79,0,79,27],[80,0,80,27],[11,18,11,22],[46,0,46,1],[47,0,47,1],[47,24,47,25],[47,26,47,27],[47,22,47,23],[7,26,7,27],[8,26,8,27],[7,24,7,25],[8,24,8,25],[28,0,30,0],[31,0,33,0],[34,0,36,0],[118,0,118,27],[119,0,119,27],[120,0,120,27],[6,0,6,1],[7,0,7,1],[8,0,8,1],[25,0,27,1],[13,0,15,0],[16,0,18,0],[19,0,21,0],[25,2,27,2],[25,3,25,27],[26,3,26,7],[26,8,26,12],[26,13,26,17],[26,18,26,22],[26,23,26,27],[10,3,10,27],[11,23,11,27],[11,3,11,7],[11,8,11,12],[10,0,12,1],[10,2,12,2],[11,13,11,17]]}
[null,null,"集計対象年齢（最大範囲40～74歳）"]
[null,null,"群１下限（A歳）",null,40,"必ず「計算開始」をクリックしてから結果をご覧ください。"]
[null,null,"群１上限（B歳）",null,64,"　A歳～B歳、B+1歳～C歳の２群に分けて（およびA～C歳全体について）集計します。"]
[null,null,"群２上限（C歳）",null,74]
[null,null,null,null,null,null,null,null,null,null,null,null,null,"厚生労働省様式（様式５－２）【補足】"]
[null,null,null,null,null,null,null,null,null,null,null,null,null,"健診有所見者状況（男女別・年齢調整）",null,null,null,null,null,null,null,null,null,null,{"$f":"IF(CSVデータ2!E$2<>\"\",\"※人数は複数年度の延べ数\",\"\")","v":""}]
["保険者番号：",null,{"$f":"CSVデータ!B2","v":999999},null,null,null,null,null,null,null,null,null,null,"第３期特定健診用",null,null,null,null,null,null,null,null,"作成年月 ：",null,{"$f":"CSVデータ!E$2","v":"H30年度"}]
["保険者名 ：",null,{"$f":"CSVデータ!C2","v":"見本データ"},null,null,null,null,null,null,null,null,null,null,null,null,null,null,null,null,null,null,null,"印刷日 ：",null,{"$f":"TODAY()","v":"2025-07-02"}]
["地区 ：",null,{"$f":"IF(CSVデータ!D2=\"\",\"\",CSVデータ!D2)","v":0},null,null,null,null,null,null,null,null,null,null,null,null,null,null,null,null,null,null,null,"ページ ：",null,"1/3"]
[]
["男性",null,{"$f":"\"受診者\"&IF(CSVデータ2!E$2<>\"\",CHAR(10)&\"延べ人数\",\"\")&\"※\"","v":"受診者※"},"摂取エネルギーの過剰"]
[null,null,null,"BMI",null,null,null,null,"腹囲",null,null,null,null,"中性脂肪",null,null,null,null,"ALT(GPT)",null,null,null,null,"HDLコレステロール"]
[null,null,null,"25以上","割合(%)","年齢\n調整(%)","標準化\n比(全国)","標準化\n比(県)","85以上","割合(%)","年齢\n調整(%)","標準化\n比(全国)","標準化\n比(県)","150以上","割合(%)","年齢\n調整(%)","標準化\n比(全国)","標準化\n比(県)","31以上","割合(%)","年齢\n調整(%)","標準化\n比(全国)","標準化\n比(県)","40未満","割合(%)","年齢\n調整(%)","標準化\n比(全国)","標準化\n比(県)"]
[{"$f":"E2&\"～\"&E3&\"歳\"","v":"40～64歳"},"全国",1548252,571820,0.36933264093958862,0.36933264093958862,"100(基準)","-",797889,0.51534827663713656,0.51534827663713656,"100(基準)","-",495191,0.31983876009848528,0.31983876009848528,"100(基準)","-",452984,0.29257769407047429,0.29257769407047429,"100(基準)","-",128758,8.3163464345597488E-2,8.3163464345597488E-2,"100(基準)","-"]
[null,"県",10577,3851,0.36409189751347265,0.36481064033746541,98.9,"100(基準)",5708,0.53966152973432924,0.53835924511266775,"*104.3","100(基準)",3349,0.31663042450600359,0.31686884828415185,99.2,"100(基準)",3127,0.29564148624373643,0.29982903462156646,102.5,"100(基準)",803,7.5919447858561029E-2,7.6291875680442545E-2,"*91.7","100(基準)"]
[null,"地域（地区）",1998,729,0.36486486486486486,0.36575893505300366,99.2,100.3,1091,0.54604604604604601,0.54462115879922668,105.5,101.2,638,0.31931931931931934,0.32025732046840211,100.1,100.9,592,0.29629629629629628,0.30099902722631483,102.8,100.3,160,8.0080080080080079E-2,8.0405586440498306E-2,96.7,105.4]
[{"$f":"E3+1&\"～\"&E4&\"歳\"","v":"65～74歳"},"全国",3055615,914490,0.29928181397198272,0.29928181397198272,"100(基準)","-",1609079,0.52659742801367315,0.52659742801367315,"100(基準)","-",804067,0.26314408065152189,0.26314408065152189,"100(基準)","-",520783,0.1704347569965457,0.1704347569965457,"100(基準)","-",236807,7.7498965020135063E-2,7.7498965020135063E-2,"100(基準)","-"]
[null,"県",29214,8195,0.28051619086739232,0.28117851187131976,"*93.9","100(基準)",15558,0.53255288560279324,0.53306209960829853,101.2,"100(基準)",7329,0.25087286917231466,0.25129370026785947,"*95.6","100(基準)",5038,0.17245156431847744,0.17310112898465707,101.5,"100(基準)",1937,6.6303826932292739E-2,6.6375617664296949E-2,"*85.5","100(基準)"]
[null,"地域（地区）",5787,1638,0.28304821150855364,0.28365723406516891,"*94.7",100.9,3094,0.53464662173837918,0.5350469869740696,101.6,100.4,1465,0.25315362018316917,0.25353487305217881,96.4,100.9,988,0.17072749265595299,0.17137592708805552,100.5,99,382,6.6010022464143767E-2,6.6115572451452567E-2,"*85.1",99.6]
["総\n数","全国",4603867,1486310,0.32283947385969231,0.32283947385969231,"100(基準)","-",2406968,0.52281440797486112,0.52281440797486112,"100(基準)","-",1299258,0.28221015072763833,0.28221015072763833,"100(基準)","-",973767,0.21151067135518903,0.21151067135518903,"100(基準)","-",365565,7.9403901111826214E-2,7.9403901111826214E-2,"100(基準)","-"]
[null,"県",39791,12046,0.30273177351662434,0.30930347946094966,"*95.4","100(基準)",21266,0.53444246186323541,0.53484349688181454,"*102.0","100(基準)",10678,0.26835213993114021,0.27334621700357764,"*96.7","100(基準)",8165,0.20519715513558343,0.21571893991580607,101.9,"100(基準)",2740,6.8859792415370311E-2,6.9710393909139273E-2,"*87.2","100(基準)"]
[null,"地域（地区）",7785,2367,0.30404624277456649,0.31126752835860028,96.1,100.7,4185,0.53757225433526012,0.53826672174847623,102.6,100.6,2103,0.27013487475915221,0.2759732194807491,97.5,100.9,1580,0.2029543994861914,0.21496737402500227,101.3,99.5,542,6.9621066152858055E-2,7.0921215780977084E-2,"*88.2",101.2]
[null,null,null,null,null,1]
[]
[]
["女性",null,{"$f":"C$11","v":"受診者※"},"摂取エネルギーの過剰"]
[null,null,null,"BMI",null,null,null,null,"腹囲",null,null,null,null,"中性脂肪",null,null,null,null,"ALT(GPT)",null,null,null,null,"HDLコレステロール"]
[null,null,null,"25以上","割合(%)","年齢\n調整(%)","標準化\n比(全国)","標準化\n比(県)","90以上","割合(%)","年齢\n調整(%)","標準化\n比(全国)","標準化\n比(県)","150以上","割合(%)","年齢\n調整(%)","標準化\n比(全国)","標準化\n比(県)","31以上","割合(%)","年齢\n調整(%)","標準化\n比(全国)","標準化\n比(県)","40未満","割合(%)","年齢\n調整(%)","標準化\n比(全国)","標準化\n比(県)"]
[{"$f":"+A14","v":"40～64歳"},"全国",1899172,382773,0.20154730587856182,0.20154730587856182,"100(基準)","-",295989,0.15585160269843912,0.15585160269843912,"100(基準)","-",262498,0.13821707565191568,0.13821707565191568,"100(基準)","-",186689,9.8300206616357022E-2,9.8300206616357022E-2,"100(基準)","-",24924,1.3123613869623183E-2,1.3123613869623183E-2,"100(基準)","-"]
[null,"県",16992,2933,0.17261064030131826,0.17178984743582126,"*85.4","100(基準)",2390,0.14065442561205274,0.13873787236505486,"*89.3","100(基準)",2179,0.12823681732580039,0.12522971390522164,"*91.3","100(基準)",1592,9.3691148775894545E-2,9.2200156404808234E-2,"*94.1","100(基準)",167,9.8281544256120529E-3,9.9162244205366033E-3,"*75.6","100(基準)"]
[null,"地域（地区）",3093,554,0.17911412867765922,0.17813810762360063,"*88.5",103.4,458,0.14807630132557387,0.14527544186708283,93.4,104.3,411,0.13288069835111543,0.12851996707094918,93.8,102.3,301,9.7316521176850954E-2,9.5329581670340544E-2,97.3,103.1,30,9.6993210475266739E-3,9.8388676352091572E-3,74.900000000000006,98.8]
[{"$f":"+A17","v":"65～74歳"},"全国",3951757,871979,0.22065602717980887,0.22065602717980887,"100(基準)","-",771201,0.19515395303911653,0.19515395303911653,"100(基準)","-",678481,0.17169097188921281,0.17169097188921281,"100(基準)","-",345986,8.7552448189501531E-2,8.7552448189501531E-2,"100(基準)","-",66877,1.6923358394759596E-2,1.6923358394759596E-2,"100(基準)","-"]
[null,"県",42335,7944,0.18764615566316287,0.18765604950431555,"*85.0","100(基準)",7536,0.17800873981339319,0.17775707809798655,"*91.1","100(基準)",6837,0.16149757883547891,0.16157852571330816,"*94.0","100(基準)",3551,8.3878587457186723E-2,8.4083381815939287E-2,"*96.0","100(基準)",536,1.2660918861462147E-2,1.2639666521607855E-2,"*74.6","100(基準)"]
[null,"地域（地区）",8245,1588,0.1926015767131595,0.19257187016567937,"*87.3",102.6,1486,0.18023044269254093,0.18006197806370422,"*92.3",101.2,1368,0.1659187386294724,0.16589674524288039,96.6,102.7,717,8.6961795027289263E-2,8.7132066645707149E-2,99.5,103.7,108,1.3098847786537296E-2,1.3084107808827307E-2,"*77.2",103.5]
["総\n数","全国",5850929,1254752,0.21445346542403779,0.21445346542403779,"100(基準)","-",1067190,0.18239667580994404,0.18239667580994404,"100(基準)","-",940979,0.16082557146053217,0.16082557146053217,"100(基準)","-",532675,9.1041097917954561E-2,9.1041097917954561E-2,"100(基準)","-",91801,1.5689987008900636E-2,1.5689987008900636E-2,"100(基準)","-"]
[null,"県",59327,10877,0.18333979469718678,0.18250598757144532,"*85.1","100(基準)",9926,0.16730999376337924,0.16509170769437659,"*90.7","100(基準)",9016,0.15197127783302711,0.14977994712532883,"*93.4","100(基準)",5143,8.6689028604176849E-2,8.6718031976536242E-2,"*95.4","100(基準)",703,1.18495794494918E-2,1.1755655626590039E-2,"*74.9","100(基準)"]
[null,"地域（地区）",11338,2142,0.18892220850238137,0.18788676841951826,"*87.6",102.8,1944,0.17145881107779148,0.16877050357792428,"*92.5",102,1779,0.15690597989063326,0.15376449572244646,95.9,102.6,1018,8.9786558475921679E-2,8.9792924605932439E-2,98.8,103.5,138,1.2171458811077791E-2,1.2030724786915617E-2,"*76.7",102.4]
["※全て健診受診者数（検査した人数とは限らない）を分母として割合等を計算しているため、必須項目以外の解釈には注意を要する。"]
["国保データベース（KDB）のCSVファイル（厚生労働省様式（様式５－２） 健診有所見者状況（男女別・年代別））より計算。"]
["年齢調整(%)は全国受診者数（男女別）を基準人口とした直接法による。従って、厳密な男女比較はできない。受診者が少ない地域では、年齢調整(%)がエラーまたは異常な値となることがあるため、標準化比で評価することが望ましい。"]
["標準化比は全国または県を基準とした間接法による。標準化比に*が付記されたものは、基準に比べて有意な差(p<0.05)があること意味する。複数年度をプールした場合には過度に有意になりやすくなる。"]
[]
["Ver. 1.7 (2025.7.2) 平成30年度厚生労働行政推進調査事業費補助金（政策科学推進研究事業）「都道府県医療費適正化計画推進のための健診・医療等の情報活用を担う地域の保健医療人材の育成に関する研究」（研究代表：横山徹爾）"]
[]
[null,null,null,null,null,null,null,null,null,null,null,null,null,{"$f":"N5","v":"厚生労働省様式（様式５－２）【補足】"}]
[null,null,null,null,null,null,null,null,null,null,null,null,null,"健診有所見者状況（男女別・年齢調整）",null,null,null,null,null,null,null,null,null,null,{"$f":"IF(CSVデータ2!E$2<>\"\",\"※人数は複数年度の延べ数\",\"\")","v":""}]
["保険者番号：",null,{"$f":"CSVデータ!B2","v":999999},null,null,null,null,null,null,null,null,null,null,"第３期特定健診用",null,null,null,null,null,null,null,null,"作成年月 ：",null,{"$f":"CSVデータ!E$2","v":"H30年度"}]
["保険者名 ：",null,{"$f":"CSVデータ!C2","v":"見本データ"},null,null,null,null,null,null,null,null,null,null,null,null,null,null,null,null,null,null,null,"印刷日 ：",null,{"$f":"TODAY()","v":"2025-07-02"}]
["地区 ：",null,{"$f":"IF(CSVデータ!D2=\"\",\"\",CSVデータ!D2)","v":0},null,null,null,null,null,null,null,null,null,null,null,null,null,null,null,null,null,null,null,"ページ ：",null,"2/3"]
[]
["男性",null,{"$f":"C$11","v":"受診者※"},"血管を傷つける"]
[null,null,null,"血糖",null,null,null,null,"HbA1c",null,null,null,null,"尿酸",null,null,null,null,"収縮期血圧",null,null,null,null,"拡張期血圧"]
[null,null,null,"100以上","割合(%)","年齢\n調整(%)","標準化\n比(全国)","標準化\n比(県)","5.6以上","割合(%)","年齢\n調整(%)","標準化\n比(全国)","標準化\n比(県)","7.0以上","割合(%)","年齢\n調整(%)","標準化\n比(全国)","標準化\n比(県)","130以上","割合(%)","年齢\n調整(%)","標準化\n比(全国)","標準化\n比(県)","85以上","割合(%)","年齢\n調整(%)","標準化\n比(全国)","標準化\n比(県)"]
[{"$f":"+A14","v":"40～64歳"},"全国",1548252,387032,0.24997997741969655,0.24997997741969655,"100(基準)","-",704827,0.45524049056613525,0.45524049056613525,"100(基準)","-",224178,0.14479425829903658,0.14479425829903658,"100(基準)","-",603210,0.38960711822106481,0.38960711822106481,"100(基準)","-",447985,0.2893488915241188,0.2893488915241188,"100(基準)","-"]
[null,"県",10577,2288,0.21631842677507801,0.21092066467126153,"*85.0","100(基準)",4359,0.41212063912262459,0.40351197957981544,"*89.1","100(基準)",1929,0.18237685544105134,0.18384438262995986,"*126.7","100(基準)",4232,0.40011345372033658,0.39449785743193649,101,"100(基準)",2933,0.27729980145598943,0.27640728552423177,"*95.2","100(基準)"]
[null,"地域（地区）",1998,428,0.21421421421421422,0.20840717602214756,"*84.1",98.8,835,0.41791791791791794,0.40859707217848312,"*90.2",101.2,367,0.18368368368368368,0.18504942236885408,"*127.6",100.8,798,0.39939939939939939,0.39375077169976724,100.7,99.8,540,0.27027027027027029,0.26950777492235367,92.9,97.6]
[{"$f":"+A17","v":"65～74歳"},"全国",3055615,1001704,0.32782402233265645,0.32782402233265645,"100(基準)","-",1906891,0.6240612773533315,0.6240612773533315,"100(基準)","-",361978,0.11846322262457804,0.11846322262457804,"100(基準)","-",1642123,0.53741161762852974,0.53741161762852974,"100(基準)","-",692258,0.22655275615547116,0.22655275615547116,"100(基準)","-"]
[null,"県",29214,9520,0.32587115766413366,0.32557210429634592,99.4,"100(基準)",17996,0.61600602450879716,0.61551193831307027,98.6,"100(基準)",4464,0.15280345040049292,0.15302886837562274,"*129.2","100(基準)",15727,0.53833778325460391,0.53805737127730402,100.1,"100(基準)",6273,0.21472581638940233,0.21571122938259185,"*95.1","100(基準)"]
[null,"地域（地区）",5787,1887,0.32607568688439609,0.32588053563592578,99.5,100.1,3482,0.60169345083808534,0.60108995377544716,"*96.3",97.7,902,0.15586659754622428,0.15608689010306009,"*131.8",102,3102,0.53602903058579576,0.53540578096988545,99.7,99.6,1229,0.21237255918437878,0.21327640320477953,"*94.1",98.9]
["総\n数","全国",4603867,1388736,0.30164555144620814,0.30164555144620814,"100(基準)","-",2611718,0.5672878908100516,0.5672878908100516,"100(基準)","-",586156,0.12731818708055642,0.12731818708055642,"100(基準)","-",2245333,0.48770587855817726,0.48770587855817726,"100(基準)","-",1140243,0.24767070812427899,0.24767070812427899,"100(基準)","-"]
[null,"県",39791,11808,0.29675052147470532,0.28701553419942172,"*96.3","100(基準)",22355,0.56181045965168008,0.54421766328108534,"*96.6","100(基準)",6393,0.16066447186549723,0.1633919352442586,"*128.4","100(基準)",19959,0.50159583825488174,0.48977919459884695,100.3,"100(基準)",9206,0.23135884999120404,0.23612293769506182,"*95.2","100(基準)"]
[null,"地域（地区）",7785,2315,0.29736673089274246,0.28637497129865208,96.3,99.8,4317,0.55452793834296721,0.53635578814506235,"*95.1",98.3,1269,0.16300578034682081,0.16582681058850854,"*130.5",101.7,3900,0.50096339113680155,0.48776807740188938,99.9,99.6,1769,0.22723185613359023,0.2321866657567771,"*93.7",98.5]
[null,null,null,null,null,1]
[]
[]
["女性",null,{"$f":"C$11","v":"受診者※"},"血管を傷つける"]
[null,null,null,"血糖",null,null,null,null,"HbA1c",null,null,null,null,"尿酸",null,null,null,null,"収縮期血圧",null,null,null,null,"拡張期血圧"]
[null,null,null,"100以上","割合(%)","年齢\n調整(%)","標準化\n比(全国)","標準化\n比(県)","5.6以上","割合(%)","年齢\n調整(%)","標準化\n比(全国)","標準化\n比(県)","7.0以上","割合(%)","年齢\n調整(%)","標準化\n比(全国)","標準化\n比(県)","130以上","割合(%)","年齢\n調整(%)","標準化\n比(全国)","標準化\n比(県)","85以上","割合(%)","年齢\n調整(%)","標準化\n比(全国)","標準化\n比(県)"]
[{"$f":"+A14","v":"40～64歳"},"全国",1899172,253741,0.13360611887706852,0.13360611887706852,"100(基準)","-",846626,0.44578690081783007,0.44578690081783007,"100(基準)","-",27461,1.4459459174840403E-2,1.4459459174840403E-2,"100(基準)","-",539284,0.28395742986943784,0.28395742986943784,"100(基準)","-",278982,0.14689664759168733,0.14689664759168733,"100(基準)","-"]
[null,"県",16992,1910,0.11240583804143126,0.10886862562219218,"*81.8","100(基準)",6638,0.39065442561205271,0.38080468160715847,"*85.4","100(基準)",232,1.3653483992467044E-2,1.3352986163977107E-2,92.9,"100(基準)",4884,0.28742937853107342,0.27929895684248957,98.4,"100(基準)",2238,0.1317090395480226,0.12951139634143852,"*88.3","100(基準)"]
[null,"地域（地区）",3093,371,0.11994827028774653,0.11423158216997094,"*86.0",104.7,1238,0.40025864856126736,0.38423413832205355,"*86.2",101,41,1.3255738764953119E-2,1.2786786079268449E-2,89.6,96,932,0.30132557387649533,0.28760591538117625,101.6,103.1,421,0.13611380536695764,0.13223508038170845,"*90.5",102.5]
[{"$f":"+A17","v":"65～74歳"},"全国",3951757,831202,0.2103373259033893,0.2103373259033893,"100(基準)","-",2514903,0.63640122608753524,0.63640122608753524,"100(基準)","-",70625,1.7871797279033097E-2,1.7871797279033097E-2,"100(基準)","-",1973616,0.49942746985707875,0.49942746985707875,"100(基準)","-",611278,0.15468511854347319,0.15468511854347319,"100(基準)","-"]
[null,"県",42335,8002,0.189016180465336,0.18866430623204899,"*89.8","100(基準)",23938,0.56544230542104645,0.56506740594485805,"*88.8","100(基準)",776,1.8329987008385496E-2,1.8265071392625083E-2,102.4,"100(基準)",20480,0.48376048187079251,0.4829820080057497,"*96.7","100(基準)",5956,0.14068737451281446,0.14089114232263622,"*91.1","100(基準)"]
[null,"地域（地区）",8245,1612,0.19551243177683444,0.19516657019447095,"*92.9",103.4,4752,0.57634930260764095,0.57557213206962232,"*90.5",101.9,153,1.8556701030927835E-2,1.8487308033492206E-2,103.6,101.2,4073,0.49399636143117043,0.49303571043540134,98.7,102.1,1163,0.14105518496058217,0.14134083134493189,"*91.3",100.3]
["総\n数","全国",5850929,1084943,0.18543089482029265,0.18543089482029265,"100(基準)","-",3361529,0.5745291046943144,0.5745291046943144,"100(基準)","-",98086,1.6764175398470908E-2,1.6764175398470908E-2,"100(基準)","-",2512900,0.42948735149580519,0.42948735149580519,"100(基準)","-",890260,0.15215703352407797,0.15215703352407797,"100(基準)","-"]
[null,"県",59327,9912,0.1670740135182969,0.16276316774016453,"*88.2","100(基準)",30576,0.51538085525983113,0.50525697127612801,"*88.0","100(基準)",1008,1.6990577645928498E-2,1.6670641734042348E-2,100,"100(基準)",25364,0.42752878116203413,0.41686786653456948,"*97.0","100(基準)",8194,0.13811586630033543,0.13719735370640052,"*90.3","100(基準)"]
[null,"地域（地区）",11338,1983,0.17489857117657434,0.1688956202177295,"*91.5",103.7,5990,0.52831187158228965,0.51346511278062434,"*89.6",101.7,194,1.7110601517022404E-2,1.6636957143770757E-2,100.3,100.1,5005,0.44143587934379963,0.42635458770553697,99.2,102.3,1584,0.13970717939671901,0.13838516613888904,"*91.1",100.8]
[{"$f":"A38","v":"※全て健診受診者数（検査した人数とは限らない）を分母として割合等を計算しているため、必須項目以外の解釈には注意を要する。"}]
[{"$f":"+A39","v":"国保データベース（KDB）のCSVファイル（厚生労働省様式（様式５－２） 健診有所見者状況（男女別・年代別））より計算。"}]
[{"$f":"+A40","v":"年齢調整(%)は全国受診者数（男女別）を基準人口とした直接法による。従って、厳密な男女比較はできない。受診者が少ない地域では、年齢調整(%)がエラーまたは異常な値となることがあるため、標準化比で評価することが望ましい。"}]
[{"$f":"+A41","v":"標準化比は全国または県を基準とした間接法による。標準化比に*が付記されたものは、基準に比べて有意な差(p<0.05)があること意味する。複数年度をプールした場合には過度に有意になりやすくなる。"}]
[]
[{"$f":"+A43","v":"Ver. 1.7 (2025.7.2) 平成30年度厚生労働行政推進調査事業費補助金（政策科学推進研究事業）「都道府県医療費適正化計画推進のための健診・医療等の情報活用を担う地域の保健医療人材の育成に関する研究」（研究代表：横山徹爾）"}]
[]
[null,null,null,null,null,null,null,null,null,null,null,null,null,{"$f":"N45","v":"厚生労働省様式（様式５－２）【補足】"}]
[null,null,null,null,null,null,null,null,null,null,null,null,null,"健診有所見者状況（男女別・年齢調整）",null,null,null,null,null,null,null,null,null,null,{"$f":"IF(CSVデータ2!E$2<>\"\",\"※人数は複数年度の延べ数\",\"\")","v":""}]
["保険者番号：",null,{"$f":"CSVデータ!B2","v":999999},null,null,null,null,null,null,null,null,null,null,"第３期特定健診用",null,null,null,null,null,null,null,null,"作成年月 ：",null,{"$f":"CSVデータ!E$2","v":"H30年度"}]
["保険者名 ：",null,{"$f":"CSVデータ!C2","v":"見本データ"},null,null,null,null,null,null,null,null,null,null,null,null,null,null,null,null,null,null,null,"印刷日 ：",null,{"$f":"TODAY()","v":"2025-07-02"}]
["地区 ：",null,{"$f":"IF(CSVデータ!D2=\"\",\"\",CSVデータ!D2)","v":0},null,null,null,null,null,null,null,null,null,null,null,null,null,null,null,null,null,null,null,"ページ ：",null,"3/3"]
[]
["男性",null,{"$f":"C$11","v":"受診者※"},"内臓脂肪症候群以外の動脈硬化要因",null,null,null,null,"臓器障害（※は詳細検査）"]
[null,null,null,"LDLコレステロール",null,null,null,null,"クレアチニン",null,null,null,null,"心電図※",null,null,null,null,"眼底検査※"]
[null,null,null,"120以上","割合(%)","年齢\n調整(%)","標準化\n比(全国)","標準化\n比(県)","1.3以上","割合(%)","年齢\n調整(%)","標準化\n比(全国)","標準化\n比(県)","検査あり","割合(%)","年齢\n調整(%)","標準化\n比(全国)","標準化\n比(県)","検査あり","割合(%)","年齢\n調整(%)","標準化\n比(全国)","標準化\n比(県)"]
[{"$f":"+A14","v":"40～64歳"},"全国",1548252,819402,0.52924330147805398,0.52924330147805398,"100(基準)","-",14537,9.3892983829505783E-3,9.3892983829505783E-3,"100(基準)","-",257560,0.16635534783743214,0.16635534783743214,"100(基準)","-",296027,0.19120078643528315,0.19120078643528315,"100(基準)","-"]
[null,"県",10577,5787,0.54713056632315404,0.54896062361236975,"*103.8","100(基準)",77,7.2799470549305099E-3,6.998211903203857E-3,"*74.3","100(基準)",5335,0.50439633166304243,0.50264981131835829,"*299.5","100(基準)",1092,0.10324288550628723,0.10336945132981157,"*53.6","100(基準)"]
[null,"地域（地区）",1998,1092,0.54654654654654655,0.54921409401326315,103.7,99.9,13,6.5065065065065065E-3,6.0521066788648322E-3,66.099999999999994,89.2,1029,0.51501501501501501,0.51360729466664268,"*305.5",102,214,0.10710710710710711,0.10719721580279268,"*55.6",103.7]
[{"$f":"+A17","v":"65～74歳"},"全国",3055615,1392844,0.45583098656080689,0.45583098656080689,"100(基準)","-",80221,2.6253634702015798E-2,2.6253634702015798E-2,"100(基準)","-",752496,0.24626662717652584,0.24626662717652584,"100(基準)","-",576549,0.18868509285364812,0.18868509285364812,"100(基準)","-"]
[null,"県",29214,13975,0.47836653659204492,0.47901660434749371,"*105.1","100(基準)",683,2.3379201752584379E-2,2.3266252096437769E-2,"*88.5","100(基準)",17520,0.59971246662559052,0.59936414317862308,"*243.0","100(基準)",2709,9.272951324707332E-2,9.302037493599058E-2,"*49.2","100(基準)"]
[null,"地域（地区）",5787,2756,0.47623984793502677,0.47683959089377065,"*104.6",99.6,136,2.3500950406082598E-2,2.3400366526408933E-2,89,100.5,3543,0.61223431829963715,0.61186172970352282,"*248.1",102.1,532,9.1930188353205461E-2,9.224798816483458E-2,"*48.8",99.1]
["総\n数","全国",4603867,2212246,0.48051909405723492,0.48051909405723492,"100(基準)","-",94758,2.0582262693513952E-2,2.0582262693513952E-2,"100(基準)","-",1010056,0.21939295813714862,0.21939295813714862,"100(基準)","-",872576,0.1895311050471267,0.1895311050471267,"100(基準)","-"]
[null,"県",39791,19762,0.49664496996808322,0.50253834546531551,"*104.7","100(基準)",760,1.9099796436380087E-2,1.7795410787326365E-2,"*86.8","100(基準)",22855,0.5743761152019301,0.56683971149297308,"*254.2","100(基準)",3801,9.5524113493000926E-2,9.6500705324528327E-2,"*50.4","100(基準)"]
[null,"地域（地区）",7785,3848,0.49428387925497752,0.5011786887008447,"*104.4",99.7,149,1.9139370584457291E-2,1.756625402805052E-2,86.4,99.4,4572,0.58728323699421969,0.57881937084417256,"*259.0",102.1,746,9.5825305073859987E-2,9.7275320967655329E-2,"*50.6",100.4]
[null,null,null,null,null,1]
[]
[]
["女性",null,{"$f":"C$11","v":"受診者※"},"内臓脂肪症候群以外の動脈硬化要因",null,null,null,null,"臓器障害（※は詳細検査）"]
[null,null,null,"LDLコレステロール",null,null,null,null,"クレアチニン",null,null,null,null,"心電図※",null,null,null,null,"眼底検査※"]
[null,null,null,"120以上","割合(%)","年齢\n調整(%)","標準化\n比(全国)","標準化\n比(県)","1.3以上","割合(%)","年齢\n調整(%)","標準化\n比(全国)","標準化\n比(県)","検査あり","割合(%)","年齢\n調整(%)","標準化\n比(全国)","標準化\n比(県)","検査あり","割合(%)","年齢\n調整(%)","標準化\n比(全国)","標準化\n比(県)"]
[{"$f":"+A14","v":"40～64歳"},"全国",1899172,1068881,0.56281421587934111,0.56281421587934111,"100(基準)","-",2563,1.349535481778375E-3,1.349535481778375E-3,"100(基準)","-",260470,0.13714924188014566,0.13714924188014566,"100(基準)","-",318521,0.16771572032443613,0.16771572032443613,"100(基準)","-"]
[null,"県",16992,10175,0.59881120527306964,0.58976410465748408,"*104.9","100(基準)",19,1.1181732580037664E-3,1.1085362357362283E-3,80.7,"100(基準)",8751,0.51500706214689262,0.51252854398120562,"*371.4","100(基準)",1182,6.9562146892655372E-2,6.8928715281949798E-2,"*41.2","100(基準)"]
[null,"地域（地区）",3093,1863,0.60232783705140636,0.5883482630647211,"*104.8",99.8,1,3.2331070158422246E-4,2.8267640934361281E-4,23,28.9,1663,0.53766569673456188,0.53623210291904033,"*385.3",104.1,234,7.5654704170708048E-2,7.5126363442258273E-2,"*44.6",108.1]
[{"$f":"+A17","v":"65～74歳"},"全国",3951757,2346577,0.59380599566218262,0.59380599566218262,"100(基準)","-",11033,2.791922681480668E-3,2.791922681480668E-3,"100(基準)","-",731592,0.18513081649504259,0.18513081649504259,"100(基準)","-",635234,0.16074723218052123,0.16074723218052123,"100(基準)","-"]
[null,"県",42335,25358,0.59898429195700953,0.59948067588584852,101,"100(基準)",79,1.8660682650289359E-3,1.8604690178501131E-3,"*66.5","100(基準)",23483,0.55469469705917085,0.55471602409684106,"*299.1","100(基準)",2500,5.9052793197118224E-2,5.9274509200927139E-2,"*36.8","100(基準)"]
[null,"地域（地区）",8245,5101,0.61867798665858098,0.6192229093657875,"*104.3","*103.3",16,1.9405700424499697E-3,1.9328708383191747E-3,69.099999999999994,104,4626,0.56106731352334749,0.56106998336892577,"*302.6",101.1,496,6.0157671315949061E-2,6.03860588718814E-2,"*37.5",101.9]
["総\n数","全国",5850929,3415458,0.58374627345503594,0.58374627345503594,"100(基準)","-",13596,2.3237335472708694E-3,2.3237335472708694E-3,"100(基準)","-",992062,0.16955632173967586,0.16955632173967586,"100(基準)","-",953755,0.16300915632372226,0.16300915632372226,"100(基準)","-"]
[null,"県",59327,35533,0.59893471775077112,0.59632674255100282,"*102.0","100(基準)",98,1.6518617155763817E-3,1.6163967199854853E-3,"*68.8","100(基準)",32234,0.54332765857029686,0.54102225324674669,"*315.8","100(基準)",3682,6.2062804456655483E-2,6.2408199230546024E-2,"*38.1","100(基準)"]
[null,"地域（地区）",11338,6964,0.61421767507496916,0.60920120789498022,"*104.4",102.3,17,1.4993826071617569E-3,1.3972288823039204E-3,61.8,90.2,6289,0.55468336567295817,0.55300777528371914,"*320.8",101.9,730,6.4385253131063677E-2,6.5170662088145301E-2,"*39.5",103.8]
[{"$f":"A78","v":"※全て健診受診者数（検査した人数とは限らない）を分母として割合等を計算しているため、必須項目以外の解釈には注意を要する。"}]
[{"$f":"+A79","v":"国保データベース（KDB）のCSVファイル（厚生労働省様式（様式５－２） 健診有所見者状況（男女別・年代別））より計算。"}]
[{"$f":"+A80","v":"年齢調整(%)は全国受診者数（男女別）を基準人口とした直接法による。従って、厳密な男女比較はできない。受診者が少ない地域では、年齢調整(%)がエラーまたは異常な値となることがあるため、標準化比で評価することが望ましい。"}]
[{"$f":"+A81","v":"標準化比は全国または県を基準とした間接法による。標準化比に*が付記されたものは、基準に比べて有意な差(p<0.05)があること意味する。複数年度をプールした場合には過度に有意になりやすくなる。"}]
[]
[{"$f":"+A83","v":"Ver. 1.7 (2025.7.2) 平成30年度厚生労働行政推進調査事業費補助金（政策科学推進研究事業）「都道府県医療費適正化計画推進のための健診・医療等の情報活用を担う地域の保健医療人材の育成に関する研究」（研究代表：横山徹爾）"}]

{"sheet":"temp","index":7,"n_rows":0,"n_cols":0,"rows_kept":0,"cut":false,"hidden":true,"merged":[]}