{"text_format":"1","workbook":"xlsx","n_sheets":9,"sheets":["使い方","CSVデータ1","CSVデータ2","CSVデータ3","CSVデータ4","CSVデータ","出力票","項目定義","temp"],"not_rendered":{"charts":0,"images":0,"macros":1,"external_links":0,"defined_names":1,"comments":0,"pivot_tables":0},"unopened":[],"bounds":{"document_bytes":16777216,"sheet_cells":100000,"rows_first":2000,"rows_last":500,"rows_between":2000,"halvings":0,"cell_chars":16384,"cell_head_chars":4096},"cells_cut":0,"cells_raw":0,"read":"whole","date_system":"1900"}

{"sheet":"使い方","index":0,"n_rows":24,"n_cols":1,"rows_kept":24,"cut":false,"hidden":false,"merged":[[14,0,14,8]]}
["年齢調整・厚生労働省様式（様式５－２）ツールの使い方(Version 2.0)"]
["令和６年度（第４期特定健診）の項目に対応しています。（第３期はVer.1.7をお使いください）"]
["（１）ＫＤＢの厚生労働省様式（様式５－２）の画面から、ＣＳＶファイルを出力・保存する。"]
["（２）（１）のCSVファイルをエクセルで開く。"]
["（３）（２）で開いたCSVファイルの内容（データのある範囲だけ※）を、このツールの「CSVデータ1」シートにコピー＆ペーストする。"]
["（４）人数が少ない等の理由で複数年を合算して計算したい場合は、同様に「CSVデータ2」～「CSVデータ4」シートに他の年度をコピー＆ペーストする。"]
["　　（単年度だけで分析する場合には（４）は不要です。）"]
["（５）「出力票」シートの左上にある「計算開始」をクリックすると、計算結果が表示されるので、印刷する。※※"]
[]
["※A1～AO213"]
["※※「集計対象年齢」の範囲を指定することも出来ます。（通常は変える必要はありません）"]
["見本データは全て仮想値です。"]
[]
[]
["このエクセルファイルは、マクロを使っています。\nセキュリティの警告でマクロが無効にされた場合は、コンテンツの有効化を行って下さい。"]
[]
[]
["履歴"]
["Ver.2.0　2025/7/2　第４期特定健診の項目に対応しました。第３期はVer.1.7をお使いください。"]
["Ver.1.7  2025/7/2　最新のKDBのCSVファイルを使用するとエラーが起きることがある点を修正しました。第４期はVer.2.0をお使いください。"]
["Ver.1.6  2019/12/2　複数年度を合算（プール）して計算できるようにしました。"]
["Ver.1.5  2019/6/19　様式番号（旧様式6-2～7）を変更。集計対象年齢を指定できるようにしました。"]
["Ver.1.3  2016/9/20　ALT(GOT)→ALT(GPT)に修正しました。"]
["Ver.1.2  2014/11/20　公開"]

{"sheet":"CSVデータ1","index":1,"n_rows":213,"n_cols":41,"rows_kept":213,"cut":false,"hidden":false,"merged":[]}
["レコード種別","保険者番号","保険者名","地区名","作成年月","県計・国計"]
["共通部",999999,"見本データ",null,"R06年度","国保組合含む"]
["レコード種別","集計単位","年齢","性別","受診者","ＢＭＩ人数","ＢＭＩ割合","腹囲人数","腹囲割合","空腹時中性脂肪人数","空腹時中性脂肪割合","ＡＬＴ（ＧＰＴ）人数","ＡＬＴ（ＧＰＴ）割合","ＨＤＬコレステロール人数","ＨＤＬコレステロール割合","空腹時血糖人数","空腹時血糖割合","ＨｂＡ１ｃ人数","ＨｂＡ１ｃ割合","尿酸人数","尿酸割合","収縮期血圧人数","収縮期血圧割合","拡張期血圧人数","拡張期血圧割合","ＬＤＬコレステロール人数","ＬＤＬコレステロール割合","血清クレアチニン人数","血清クレアチニン割合","心電図人数","心電図割合","眼底検査人数","眼底検査割合","随時血糖人数","随時血糖割合","ｎｏｎ－ＨＤＬコレステロール人数","ｎｏｎ－ＨＤＬコレステロール割合","ｅＧＦＲ人数","ｅＧＦＲ割合","随時中性脂肪人数","随時中性脂肪割合"]
["明細部","国",40,"男",1965,727,36.997455470737911,948,48.244274809160302,420,21.374045801526716,722,36.743002544529261,162,8.2442748091603058,267,13.587786259541984,616,31.348600508905854,327,16.641221374045799,459,23.358778625954198,365,18.575063613231553,1062,54.045801526717554,3,0.15267175572519084,243,12.366412213740457,403,20.508905852417303,31,1.5776081424936386,151,7.6844783715012728,32,1.6284987277353689,121,6.1577608142493645]
["明細部","国",41,"男",1965,723,36.793893129770993,904,46.00508905852417,404,20.559796437659035,699,35.572519083969468,153,7.7862595419847329,331,16.844783715012724,638,32.468193384223923,302,15.368956743002546,495,25.190839694656486,390,19.847328244274809,1049,53.384223918575067,6,0.30534351145038169,280,14.249363867684478,368,18.727735368956743,26,1.3231552162849873,153,7.7862595419847329,44,2.2391857506361323,107,5.44529262086514]
["明細部","国",42,"男",1933,702,36.316606311433006,902,46.66321779617175,427,22.090015519917227,679,35.12674599068805,158,8.1738230729436108,291,15.054319710294878,682,35.281945162959133,323,16.709777547853079,483,24.987066735644074,394,20.382824624935335,1045,54.061045007759958,5,0.2586652871184687,265,13.709260217278841,403,20.848422141748575,29,1.5002586652871184,169,8.742886704604242,54,2.7935851008794619,94,4.8629073978272119]
["明細部","国",43,"男",2139,776,36.278634876110331,977,45.675549322113135,447,20.897615708274895,735,34.361851332398317,161,7.5268817204301079,331,15.474520804114073,716,33.47358578775129,330,15.427769985974754,566,26.460963066853672,463,21.645628798503974,1091,51.005142589995323,6,0.28050490883590462,279,13.043478260869565,399,18.653576437587656,34,1.5895278167367928,173,8.0878915381019176,49,2.2907900888265544,123,5.7503506311360448]
["明細部","国",44,"男",2229,817,36.653207716464777,1063,47.689546882009871,510,22.880215343203229,751,33.692238672050244,173,7.7613279497532526,400,17.945266935845673,771,34.589502018842531,340,15.25347689546882,593,26.603858232391207,504,22.611036339165544,1197,53.701211305518171,6,0.26917900403768508,331,14.849708389412292,460,20.637056976222521,26,1.1664423508299686,206,9.2418124719605199,55,2.4674742036787798,104,4.6657694033198744]
["明細部","国",45,"男",2420,878,36.280991735537185,1133,46.81818181818182,518,21.404958677685951,819,33.84297520661157,182,7.5206611570247937,447,18.471074380165291,893,36.900826446280995,352,14.545454545454545,698,28.84297520661157,612,25.289256198347111,1276,52.72727272727272,7,0.28925619834710742,325,13.429752066115702,536,22.148760330578511,36,1.4876033057851239,211,8.7190082644628095,80,3.3057851239669422,119,4.9173553719008263]
["明細部","国",46,"男",2490,947,38.032128514056225,1212,48.674698795180724,542,21.76706827309237,809,32.489959839357432,176,7.068273092369477,479,19.236947791164656,905,36.345381526104418,362,14.538152610441768,713,28.634538152610439,651,26.144578313253014,1343,53.935742971887549,6,0.24096385542168677,333,13.373493975903614,520,20.883534136546185,33,1.3253012048192772,217,8.714859437751004,92,3.6947791164658637,131,5.261044176706827]
["明細部","国",47,"男",2623,1026,39.115516584064046,1322,50.400304994281356,583,22.226458253907737,891,33.968738086160883,200,7.6248570339306143,507,19.329012581014108,1049,39.992375142966068,403,15.364086923370188,790,30.118185284025923,708,26.991993900114373,1459,55.623332062523822,9,0.34311856652687761,353,13.457872664887532,576,21.959588257720167,48,1.8299656881433473,246,9.3785741517346555,107,4.0792985131528781,172,6.557377049180328]
["明細部","国",48,"男",2703,1080,39.955604883462819,1371,50.721420643729189,680,25.157232704402517,861,31.853496115427305,201,7.4361820199778021,572,21.161672216056235,1131,41.842397336293011,410,15.168331483536813,878,32.482426933037367,821,30.37365889752127,1455,53.829078801331853,13,0.48094709581945988,382,14.132445431002591,563,20.828708842027378,49,1.8128005919348871,241,8.9160192378838321,134,4.9574546799852017,159,5.8823529411764701]
["明細部","国",49,"男",2984,1209,40.516085790884723,1497,50.167560321715818,734,24.597855227882036,951,31.869973190348528,221,7.4061662198391414,627,21.012064343163537,1274,42.694369973190348,421,14.108579088471851,1014,33.981233243967829,936,31.367292225201069,1640,54.959785522788209,12,0.40214477211796246,417,13.974530831099196,646,21.648793565683647,54,1.8096514745308312,272,9.1152815013404833,164,5.4959785522788209,186,6.2332439678284182]
["明細部","国",50,"男",3341,1347,40.317270278359771,1727,51.691110445974267,797,23.855133193654595,998,29.871296019155942,247,7.3929961089494167,739,22.119126010176593,1460,43.699491170308292,464,13.888057467824005,1155,34.570487877880872,1065,31.876683627656387,1827,54.684226279557016,28,0.83807243340317272,496,14.845854534570488,738,22.089194851840766,63,1.8856629751571385,289,8.6501047590541749,203,6.0760251421730018,191,5.7168512421430711]
["明細部","国",51,"男",3366,1398,41.532976827094473,1809,53.743315508021396,789,23.440285204991088,1011,30.035650623885918,258,7.66488413547237,765,22.727272727272727,1509,44.830659536541887,478,14.200831847890672,1210,35.947712418300654,1106,32.857991681521092,1795,53.327391562685676,20,0.59417706476530008,515,15.300059417706477,681,20.231729055258469,66,1.9607843137254901,317,9.4177064765300056,243,7.2192513368983953,208,6.1794414735591205]
["明細部","国",52,"男",3398,1432,42.142436727486761,1811,53.296056503825781,808,23.778693349028838,1030,30.311948204826365,226,6.650971159505592,839,24.690994702766332,1611,47.410241318422599,499,14.685108887580931,1251,36.815773984696882,1151,33.872866391995295,1830,53.855208946439085,24,0.70629782224838134,523,15.391406709829312,785,23.101824602707474,68,2.0011771630370805,341,10.035314891112419,246,7.239552678045909,198,5.8269570335491467]
["明細部","国",53,"男",3360,1404,41.785714285714285,1823,54.25595238095238,777,23.125,965,28.720238095238095,240,7.1428571428571423,780,23.214285714285715,1605,47.767857142857146,454,13.511904761904761,1298,38.63095238095238,1146,34.107142857142861,1807,53.779761904761905,34,1.0119047619047619,565,16.815476190476193,758,22.55952380952381,51,1.5178571428571428,288,8.5714285714285712,250,7.4404761904761907,193,5.7440476190476186]
["明細部","国",54,"男",3318,1303,39.270644966847499,1807,54.460518384569014,763,22.995780590717299,949,28.601567209162145,225,6.7811934900542497,834,25.135623869801083,1662,50.090415913200722,485,14.617239300783606,1294,38.999397227245332,1125,33.905967450271248,1734,52.260397830018078,39,1.1754068716094033,516,15.551537070524413,752,22.664255575647982,73,2.2001205545509341,287,8.6497890295358655,322,9.7046413502109701,196,5.9071729957805905]
["明細部","国",55,"男",3340,1327,39.730538922155688,1807,54.101796407185631,736,22.035928143712574,957,28.652694610778447,232,6.9461077844311383,890,26.646706586826348,1679,50.269461077844312,431,12.904191616766466,1316,39.401197604790418,1113,33.32335329341317,1775,53.143712574850298,28,0.83832335329341312,564,16.886227544910177,750,22.45508982035928,68,2.0359281437125749,272,8.1437125748502996,307,9.1916167664670656,199,5.9580838323353289]
["明細部","国",56,"男",3274,1287,39.309712889431886,1812,55.345143555284061,729,22.266340867440441,810,24.740378741600487,241,7.3610262675626146,820,25.045815516188146,1681,51.343921808185712,463,14.141722663408673,1309,39.981673793524742,1101,33.628588882101404,1655,50.549786194257784,40,1.2217470983506415,539,16.463042150274891,711,21.71655467318265,75,2.2907758094074526,252,7.6970067196090408,336,10.262675626145388,194,5.9254734270006111]
["明細部","国",57,"男",3341,1367,40.915893445076321,1878,56.210715354684226,790,23.645615085303799,887,26.54893744387908,242,7.2433403172702793,917,27.446872193953908,1816,54.354983537862914,445,13.319365459443281,1411,42.232864411852738,1169,34.989524094582457,1708,51.122418437593531,43,1.2870398084405865,598,17.898832684824903,740,22.149057168512421,77,2.3046991918587252,295,8.8296917090691416,394,11.792876384316072,204,6.1059563005088293]
["明細部","国",58,"男",2830,1171,41.378091872791515,1578,55.759717314487631,629,22.226148409893991,732,25.865724381625444,219,7.7385159010600706,793,28.021201413427558,1582,55.901060070671384,375,13.250883392226148,1218,43.03886925795053,960,33.922261484098939,1473,52.049469964664311,40,1.4134275618374559,539,19.045936395759718,658,23.25088339222615,73,2.5795053003533566,235,8.3038869257950516,352,12.438162544169613,179,6.3250883392226145]
["明細部","国",59,"男",3125,1228,39.295999999999999,1774,56.767999999999994,705,22.56,769,24.608000000000001,208,6.6559999999999997,916,29.311999999999998,1749,55.967999999999996,439,14.048,1370,43.84,1073,34.335999999999999,1607,51.424000000000007,47,1.504,550,17.599999999999998,713,22.815999999999999,86,2.7519999999999998,257,8.2240000000000002,432,13.824,205,6.5600000000000005]
["明細部","国",60,"男",3572,1367,38.269876819708848,1978,55.375139977603581,748,20.940649496080628,827,23.15229563269877,230,6.4389697648376263,1076,30.123180291153417,2048,57.33482642777156,473,13.241881298992162,1537,43.029115341545356,1156,32.362821948488239,1771,49.580067189249718,76,2.1276595744680851,648,18.141097424412095,805,22.53639417693169,74,2.0716685330347144,280,7.8387458006718926,514,14.389697648376259,207,5.7950727883538633]
["明細部","国",61,"男",3769,1433,38.020695144600694,2041,54.152295038471742,780,20.695144600689837,883,23.427964977447598,254,6.7391881135579732,1166,30.936587954364551,2177,57.760679225258691,477,12.655876890421863,1710,45.370124701512339,1285,34.093924117803134,1856,49.243831254974793,69,1.8307243300610243,765,20.297161050676571,914,24.250464314141681,106,2.8124170867604139,286,7.5882196869196079,627,16.635712390554524,235,6.2350756168745027]
["明細部","国",62,"男",4116,1560,37.900874635568513,2256,54.810495626822153,829,20.140913508260446,934,22.691933916423711,241,5.8551992225461609,1287,31.268221574344025,2437,59.207968901846456,577,14.018464528668611,1884,45.772594752186592,1384,33.624878522837712,1951,47.400388726919338,81,1.9679300291545192,849,20.6268221574344,961,23.347910592808553,98,2.3809523809523809,276,6.7055393586005829,735,17.857142857142858,251,6.0981535471331387]
["明細部","国",63,"男",4785,1667,34.8380355276907,2515,52.56008359456635,911,19.03866248693835,1009,21.086729362591431,292,6.1024033437826546,1480,30.929989550679203,2728,57.011494252873561,617,12.894461859979101,2196,45.893416927899686,1518,31.724137931034484,2264,47.314524555903866,94,1.9644723092998955,989,20.668756530825497,1153,24.096133751306166,132,2.7586206896551726,317,6.6248693834900729,827,17.283176593521421,280,5.851619644723093]
["明細部","国",64,"男",5199,1813,34.872090786689746,2792,53.702635122138872,956,18.388151567609157,1108,21.311790728986342,301,5.7895749182535106,1622,31.198307366801309,3083,59.299865358722833,677,13.02173494902866,2466,47.432198499711482,1638,31.506058857472592,2367,45.527986151182922,112,2.1542604346989807,1122,21.581073283323715,1209,23.254472013848819,145,2.7889978842085017,341,6.5589536449317167,1016,19.542219657626468,321,6.1742642815926141]
["明細部","国",65,"男",5998,2223,37.062354118039345,3369,56.168722907635882,1193,19.889963321107036,1255,20.923641213737913,377,6.2854284761587191,2036,33.944648216072025,3782,63.054351450483495,801,13.354451483827942,2913,48.566188729576524,1887,31.46048682894298,2804,46.748916305435145,131,2.1840613537845952,1362,22.707569189729909,1493,24.891630543514502,151,2.5175058352784259,412,6.8689563187729243,1305,21.757252417472493,376,6.2687562520840272]
["明細部","国",66,"男",8024,2757,34.359421734795617,4431,55.221834496510468,1561,19.454137587238286,1602,19.965104685942173,503,6.2686939182452646,2732,34.047856430707881,5069,63.172981056829514,1018,12.686939182452642,4064,50.648055832502493,2477,30.869890329012961,3599,44.852941176470587,198,2.4675972083748756,1939,24.165004985044867,2128,26.520438683948157,251,3.1281156530408776,538,6.7048853439680967,1893,23.591724825523428,540,6.7298105682951155]
["明細部","国",67,"男",9381,3281,34.974949365739263,5307,56.571794051806847,1749,18.64406779661017,1743,18.580108730412537,560,5.9695128451124617,3166,33.749067263617945,5861,62.477347830721676,1109,11.821767402195928,4690,49.994670077816863,2642,28.163308815691291,4210,44.877944782006182,226,2.4091248267775289,2256,24.048608890310202,2393,25.509007568489501,255,2.7182603133994241,589,6.2786483317343569,2280,24.304445155100733,581,6.1933695768041783]
["明細部","国",68,"男",11160,3790,33.960573476702507,6148,55.089605734767019,2025,18.14516129032258,2016,18.064516129032256,687,6.155913978494624,3843,34.435483870967744,7170,64.247311827956992,1285,11.514336917562725,5791,51.890681003584227,2991,26.801075268817204,4937,44.238351254480285,311,2.7867383512544803,2779,24.901433691756271,2775,24.865591397849464,330,2.956989247311828,684,6.129032258064516,2812,25.197132616487455,696,6.236559139784946]
["明細部","国",69,"男",12759,4173,32.706324947096164,7048,55.239438827494311,2192,17.180029782898345,2100,16.458970138725608,755,5.9173916451132538,4489,35.183008072732974,8188,64.174308331373936,1398,10.956971549494474,6455,50.591739164511331,3172,24.860882514303629,5429,42.550356611019673,359,2.8137001332392821,3187,24.978446586723095,3092,24.233874128066464,398,3.1193667215299006,752,5.893878830629359,3356,26.303001802649113,798,6.2544086527157301]
["明細部","国",70,"男",13370,4370,32.68511593118923,7410,55.422587883320872,2272,16.993268511593119,2251,16.836200448765894,826,6.178010471204189,4731,35.385190725504863,9118,68.197456993268517,1550,11.593118922961855,7167,53.60508601346298,3361,25.13836948391922,5823,43.552729992520568,441,3.2984293193717278,3547,26.529543754674645,3397,25.407629020194467,443,3.3133881824981302,835,6.2453253552729997,3893,29.117427075542256,847,6.3350785340314131]
["明細部","国",71,"男",14768,4706,31.866197183098592,7920,53.629469122426862,2308,15.628385698808234,2303,15.594528710725895,876,5.9317443120260025,5082,34.412242686890579,9600,65.005417118093177,1515,10.258667388949078,7548,51.110509209100762,3345,22.650325027085589,6030,40.831527627302279,492,3.3315276273022754,3822,25.880281690140844,3518,23.821776814734559,468,3.169014084507042,827,5.5999458288190684,4382,29.672264355362948,894,6.0536294691224271]
["明細部","国",72,"男",15940,5185,32.528230865746551,9022,56.599749058971142,2418,15.169385194479299,2414,15.144291091593477,1044,6.5495608531994982,5706,35.796737766624844,10869,68.186951066499375,1631,10.232120451693852,8782,55.094102885821826,3545,22.239648682559597,6611,41.474278544542031,555,3.4818067754077795,4478,28.092848180677542,3888,24.391468005018822,582,3.6511919698870763,866,5.4328732747804267,4811,30.181932245922212,958,6.0100376411543293]
["明細部","国",73,"男",17277,5334,30.87341552352839,9328,53.990854893789432,2579,14.927360074086938,2411,13.954969033975805,1198,6.9340742026972269,6058,35.063957863054931,12109,70.087399432771889,1861,10.771545985992939,9317,53.927186432829778,3689,21.352086589106907,7032,40.701510678937311,700,4.0516293337963774,4990,28.882329108062741,4121,23.852520692249811,629,3.6406783585113156,864,5.0008682062858139,5764,33.36227354286045,1035,5.9906233721132143]
["明細部","国",74,"男",19491,5764,29.572623262018364,10426,53.491354984351744,2599,13.334359447950336,2551,13.088091939869685,1311,6.7261813144528242,6649,34.113180442255398,13115,67.287466009953306,1868,9.5839105228053967,10455,53.640141603817149,3785,19.419219126776461,7593,38.956441434508235,778,3.9915858601405776,5637,28.921040480221638,4588,23.539069314042379,685,3.5144425632343137,914,4.6893437997024261,6565,33.682212303114255,1201,6.1618182751013286]
["明細部","国",40,"女",1680,323,19.226190476190478,220,13.095238095238097,101,6.0119047619047619,106,6.3095238095238093,27,1.607142857142857,85,5.0595238095238093,366,21.785714285714285,17,1.0119047619047619,146,8.6904761904761898,127,7.5595238095238093,543,32.321428571428577,1,5.9523809523809527E-2,182,10.833333333333334,295,17.559523809523807,7,0.41666666666666669,56,3.3333333333333335,29,1.7261904761904763,23,1.3690476190476191]
["明細部","国",41,"女",1463,297,20.300751879699249,201,13.738892686261106,102,6.9719753930280248,96,6.5618591934381412,23,1.5721120984278878,94,6.4251537935748466,333,22.761449077238552,15,1.0252904989747096,147,10.047846889952153,121,8.2706766917293226,500,34.176349965823647,0,0,167,11.414900888585098,279,19.070403280929597,9,0.61517429938482571,52,3.5543403964456601,31,2.1189336978810664,35,2.3923444976076556]
["明細部","国",42,"女",1515,279,18.415841584158414,180,11.881188118811881,92,6.0726072607260724,97,6.4026402640264033,18,1.1881188118811881,82,5.4125412541254123,341,22.508250825082506,16,1.056105610561056,162,10.693069306930694,145,9.5709570957095718,495,32.673267326732677,0,0,174,11.485148514851486,286,18.877887788778878,7,0.46204620462046203,51,3.3663366336633667,35,2.3102310231023102,26,1.7161716171617163]
["明細部","国",43,"女",1517,327,21.555702043506923,212,13.974950560316415,94,6.1964403427818056,99,6.5260382333553064,23,1.5161502966381015,102,6.7237969676994069,411,27.092946605141726,16,1.054713249835201,177,11.667765326301911,147,9.6901779828609094,534,35.201054713249832,2,0.13183915622940012,169,11.140408701384311,282,18.589321028345417,20,1.3183915622940012,57,3.7574159525379036,50,3.2959789057350033,27,1.7798286090969018]
["明細部","国",44,"女",1473,281,19.076714188730481,185,12.559402579769177,87,5.9063136456211813,99,6.7209775967413439,14,0.95044127630685671,81,5.4989816700610996,355,24.100475220638153,12,0.81466395112016288,187,12.695179904955872,163,11.065852002715546,577,39.171758316361164,2,0.1357773251866938,179,12.152070604209097,275,18.669382213170401,15,1.0183299389002036,58,3.9375424304141213,49,3.3265444670739988,21,1.4256619144602851]
["明細部","国",45,"女",1729,347,20.069404279930595,228,13.186813186813188,111,6.4198958935801036,112,6.4777327935222671,28,1.6194331983805668,123,7.1139386928860615,448,25.910931174089068,16,0.92539039907460952,250,14.459224985540775,179,10.352805089647195,666,38.519375361480627,2,0.11567379988432619,204,11.798727588201272,341,19.722382880277618,21,1.214574898785425,83,4.8004626951995375,68,3.9329091960670906,27,1.5615962984384038]
["明細部","国",46,"女",1754,367,20.923603192702394,237,13.511972633979475,126,7.1835803876852911,128,7.2976054732041051,26,1.4823261117445838,134,7.6396807297605482,457,26.054732041049032,21,1.1972633979475484,266,15.16533637400228,201,11.45952109464082,690,39.338654503990881,1,5.7012542759407071E-2,200,11.402508551881414,331,18.871151653363739,13,0.74116305587229192,89,5.0741163055872294,88,5.0171037628278219,36,2.0524515393386547]
["明細部","国",47,"女",1826,382,20.920043811610075,235,12.869660460021906,127,6.9550930996714122,138,7.5575027382256295,31,1.6976998904709748,147,8.0503833515881702,523,28.641840087623223,22,1.2048192771084338,313,17.14129244249726,237,12.979189485213583,726,39.75903614457831,1,5.4764512595837894E-2,209,11.445783132530121,339,18.565169769989048,12,0.65717415115005473,82,4.4906900328587076,70,3.8335158817086525,40,2.190580503833516]
["明細部","国",48,"女",1842,421,22.85559174809989,281,15.255157437567862,137,7.4375678610206304,138,7.4918566775244306,24,1.3029315960912053,178,9.6634093376764394,564,30.618892508143325,25,1.3572204125950056,324,17.589576547231271,240,13.029315960912053,809,43.919652551574373,0,0,244,13.246471226927254,342,18.566775244299674,14,0.76004343105320304,99,5.3745928338762221,83,4.5059717698154182,48,2.6058631921824107]
["明細部","国",49,"女",2066,440,21.297192642787994,294,14.230396902226525,177,8.5672797676669887,162,7.8412391093901261,30,1.452081316553727,161,7.7928363988383351,651,31.510164569215878,26,1.2584704743465636,393,19.022265246853824,292,14.133591481122942,936,45.304937076476278,4,0.1936108422071636,243,11.761858664085189,382,18.489835430784122,18,0.87124878993223631,103,4.9854791868344623,127,6.1471442400774441,46,2.2265246853823815]
["明細部","国",50,"女",2252,480,21.314387211367674,332,14.742451154529308,193,8.5701598579040841,196,8.7033747779751334,26,1.1545293072824157,230,10.213143872113676,793,35.213143872113676,28,1.2433392539964476,466,20.692717584369451,316,14.031971580817052,1053,46.758436944937834,2,8.8809946714031973E-2,289,12.833037300177619,412,18.294849023090588,14,0.62166962699822381,155,6.8827708703374775,143,6.3499111900532856,47,2.0870337477797514]
["明細部","国",51,"女",2243,488,21.756576014266606,363,16.183682567989301,219,9.7637093178778418,204,9.0949621043245656,35,1.5604101649576461,232,10.343290236290683,839,37.405260811413285,39,1.7387427552385197,463,20.641997325011147,324,14.444939812750778,1161,51.761034329023623,3,0.13374944271065536,294,13.107445385644226,434,19.349086045474813,26,1.15916183682568,161,7.1778867588051716,156,6.9549710209540789,63,2.8087382969237629]
["明細部","国",52,"女",2344,517,22.056313993174061,398,16.97952218430034,229,9.7696245733788398,220,9.3856655290102378,23,0.98122866894197958,261,11.134812286689421,939,40.05972696245734,39,1.6638225255972698,548,23.378839590443686,361,15.401023890784982,1291,55.076791808873715,1,4.2662116040955635E-2,286,12.201365187713311,414,17.662116040955631,32,1.3651877133105803,169,7.2098976109215025,174,7.4232081911262791,73,3.1143344709897609]
["明細部","国",53,"女",2402,517,21.523730224812656,413,17.194004995836803,229,9.5337218984179852,263,10.949208992506245,31,1.2905911740216487,282,11.740216486261449,1007,41.923397169025812,40,1.665278934221482,592,24.646128226477934,395,16.444629475437136,1380,57.452123230641128,5,0.20815986677768525,311,12.947543713572024,451,18.776019983347211,23,0.95753538717735209,180,7.4937552039966704,221,9.200666111573689,79,3.2889258950874272]
["明細部","国",54,"女",2536,552,21.766561514195583,433,17.074132492113563,255,10.055205047318612,299,11.790220820189274,31,1.222397476340694,326,12.854889589905364,1180,46.529968454258672,51,2.0110410094637223,634,25,432,17.034700315457414,1451,57.216088328075706,5,0.19716088328075709,333,13.130914826498422,483,19.045741324921135,26,1.025236593059937,211,8.3201892744479498,246,9.7003154574132484,69,2.7208201892744479]
["明細部","国",55,"女",2565,585,22.807017543859647,458,17.855750487329438,264,10.292397660818715,321,12.514619883040936,36,1.4035087719298245,360,14.035087719298245,1260,49.122807017543856,50,1.9493177387914229,698,27.212475633528264,431,16.803118908382068,1521,59.298245614035082,3,0.11695906432748539,369,14.385964912280702,503,19.610136452241715,29,1.1306042884990253,215,8.3820662768031191,290,11.306042884990253,94,3.6647173489278755]
["明細部","国",56,"女",2658,587,22.084273890142963,475,17.870579382994734,264,9.932279909706546,280,10.534236267870579,32,1.2039127163280661,385,14.484574868322047,1346,50.639578630549288,50,1.8811136192626037,690,25.959367945823931,435,16.365688487584652,1620,60.948081264108353,10,0.3762227238525207,378,14.221218961625281,543,20.428893905191874,37,1.3920240782543265,240,9.0293453724604973,286,10.759969902182091,99,3.724604966139955]
["明細部","国",57,"女",2621,573,21.861884776802746,502,19.152995040061047,281,10.721098817245327,297,11.331552842426555,27,1.0301411674933232,396,15.108737123235406,1383,52.766119801602443,61,2.3273559710034339,733,27.966425028615031,469,17.893933613124762,1574,60.053414727203361,5,0.19076688286913393,396,15.108737123235406,523,19.954215948111408,34,1.2972148035101108,212,8.088515833651277,329,12.552460892789011,76,2.8996566196108358]
["明細部","国",58,"女",2508,542,21.610845295055821,461,18.381180223285487,233,9.2902711323763967,294,11.722488038277511,26,1.036682615629984,378,15.07177033492823,1295,51.634768740031902,55,2.1929824561403506,756,30.14354066985646,434,17.304625199362043,1504,59.968102073365223,8,0.31897926634768742,355,14.154704944178627,516,20.574162679425836,38,1.5151515151515151,201,8.0143540669856463,343,13.676236044657097,86,3.4290271132376398]
["明細部","国",59,"女",2877,596,20.716023635731666,506,17.58776503302051,287,9.9756690997566917,301,10.46228710462287,28,0.97323600973236013,453,15.745568300312826,1530,53.180396246089678,57,1.9812304483837331,909,31.595411887382692,501,17.413972888425445,1749,60.792492179353495,11,0.3823427181091415,459,15.954118873826904,584,20.298922488703511,44,1.529370872436566,254,8.8286409454292674,421,14.633298574904414,84,2.9197080291970803]
["明細部","国",60,"女",3460,703,20.317919075144509,615,17.77456647398844,348,10.057803468208093,349,10.086705202312139,43,1.2427745664739884,574,16.589595375722542,1934,55.895953757225435,69,1.9942196531791907,1026,29.653179190751445,563,16.271676300578033,2161,62.456647398843934,7,0.20231213872832368,546,15.78034682080925,710,20.520231213872833,54,1.5606936416184971,299,8.6416184971098264,541,15.635838150289016,118,3.4104046242774562]
["明細部","国",61,"女",3632,768,21.145374449339208,680,18.722466960352424,384,10.572687224669604,402,11.068281938325992,32,0.88105726872246704,609,16.767621145374452,2084,57.378854625550659,76,2.0925110132158591,1218,33.535242290748904,664,18.281938325991192,2204,60.682819383259911,8,0.22026431718061676,567,15.611233480176212,785,21.613436123348016,42,1.1563876651982379,292,8.0396475770925111,581,15.996696035242291,105,2.8909691629955945]
["明細部","国",62,"女",4486,888,19.794917521176995,766,17.075345519393672,407,9.0726705305394564,393,8.7605884975479285,40,0.89166295140436924,736,16.40659830584039,2580,57.51226036558181,76,1.6941596076683014,1473,32.835488185465891,736,16.40659830584039,2681,59.763709317877847,12,0.26749888542131073,701,15.626393223361571,992,22.113241194828355,69,1.5381185911725368,349,7.7797592510031208,735,16.384306732055283,138,3.0762371823450736]
["明細部","国",63,"女",5077,1028,20.248178057908213,864,17.017923970848926,492,9.690762261177861,466,9.1786488083513884,45,0.88635020681504828,902,17.766397478826079,3037,59.818790624384476,97,1.9105771124679931,1832,36.084301753003743,879,17.313374039787277,3112,61.296040969076223,9,0.17727004136300964,841,16.564900531810125,1145,22.552688595627338,81,1.5954303722670866,415,8.1741185739610014,869,17.11640732716171,164,3.2302540870592873]
["明細部","国",64,"女",5967,1180,19.775431540137422,1082,18.133065191888722,581,9.7368862074744431,570,9.55253896430367,56,0.93849505614211504,1095,18.350930115635997,3642,61.03569632981398,114,1.9105077928607341,2290,38.377744260097202,1094,18.334171275347746,3554,59.560918384447788,12,0.20110608345902461,1111,18.619071560248031,1418,23.764035528741413,91,1.5250544662309369,472,7.9101726160549699,1197,20.060331825037707,207,3.4690799396681751]
["明細部","国",65,"女",7432,1437,19.335306781485468,1275,17.155543595263726,651,8.759418729817007,598,8.0462863293864366,63,0.84768568353067819,1395,18.770182992465013,4545,61.154467168998927,122,1.6415500538213132,2905,39.087728740581269,1279,17.209364908503769,4252,57.212055974165764,16,0.2152852529601722,1294,17.411194833153928,1702,22.900968783638319,130,1.7491926803013993,578,7.7771797631862221,1416,19.052744886975244,256,3.4445640473627552]
["明細部","国",66,"女",9001,1853,20.586601488723474,1547,17.186979224530607,847,9.4100655482724136,799,8.8767914676147104,82,0.91100988779024561,1822,20.242195311632042,5717,63.515164981668704,165,1.83312965226086,3877,43.072991889790025,1600,17.775802688590154,5189,57.649150094433956,22,0.24441728696811466,1746,19.39784468392401,2226,24.730585490501056,148,1.6442617486945896,710,7.8880124430618812,1908,21.197644706143763,348,3.8662370847683594]
["明細部","国",67,"女",9838,1940,19.719455173815817,1731,17.595039642203698,880,8.9449075015246997,804,8.1723927627566582,105,1.0672900996137427,2007,20.400487904045541,6280,63.834112624517182,173,1.7584874974588331,4272,43.423460052856271,1648,16.751372230128077,5569,56.607033949989841,22,0.22362268753811751,1827,18.570847733279123,2307,23.449888188656232,138,1.4027241309209189,665,6.7595039642203698,2152,21.874364708274037,355,3.6084570034559871]
["明細部","国",68,"女",11171,2317,20.741204905559037,2041,18.270521887028917,1074,9.6141795721063463,877,7.8506848088801355,108,0.96678900725091754,2444,21.878077164085578,7347,65.768507743263811,201,1.7993017634947632,5020,44.93778533703339,1919,17.178408378838061,6303,56.422880673171605,17,0.15217975114134813,2224,19.90869214931519,2714,24.29504968221287,203,1.8172052636290397,821,7.3493868051204014,2524,22.594217169456631,379,3.3927132754453497]
["明細部","国",69,"女",12721,2633,20.698058328747742,2321,18.245420957471897,1207,9.4882477792626361,966,7.5937426302963598,158,1.242040720069177,2715,21.342661740429211,8388,65.938212404685174,252,1.9809763383381811,6224,48.926971150066819,2142,16.838298875874539,7194,56.552157849225694,44,0.34588475748761888,2567,20.179231192516312,3114,24.479207609464666,261,2.0517254932788305,842,6.6189764955585249,2998,23.56732961245185,520,4.0877289521264046]
["明細部","国",70,"女",14146,2979,21.058956595504029,2566,18.139403364908809,1268,8.9636646401809692,1047,7.4013855506857062,135,0.95433338046090765,3088,21.829492436024317,9457,66.852820585324466,234,1.6541778594655734,6851,48.430651774353173,2332,16.485225505443236,7732,54.658560723879546,37,0.26155803760780433,2881,20.366181252650925,3346,23.653329563127386,284,2.0076346670436873,974,6.8853386116216591,3510,24.812667891983601,560,3.9587162448748763]
["明細部","国",71,"女",15419,3263,21.16220247746287,2963,19.216551008496012,1367,8.86568519359232,1066,6.9135482197289058,153,0.99228224917309815,3534,22.919774304429598,10173,65.977041312666202,281,1.8224268759322912,7954,51.585705947207991,2516,16.31753031973539,8296,53.803748621830202,60,0.38913029379337183,3230,20.948180815876515,3556,23.062455412153838,356,2.3088397431740062,947,6.1417731370387179,4121,26.726765678708087,643,4.170179648485635]
["明細部","国",72,"女",17175,3659,21.304221251819506,3239,18.858806404657933,1505,8.7627365356622988,1202,6.9985443959243083,179,1.042212518195051,3962,23.068413391557495,11656,67.866084425036391,313,1.8224163027656477,8781,51.126637554585152,2651,15.435225618631732,9146,53.251819505094609,52,0.3027656477438137,3683,21.443959243085882,3796,22.101892285298401,373,2.1717612809315865,1121,6.5269286754002911,4735,27.569141193595343,672,3.9126637554585155]
["明細部","国",73,"女",18738,3882,20.717259045789305,3494,18.646600490980894,1693,9.0351158074501026,1197,6.388088376560999,201,1.0726865193723985,4275,22.814601344860712,12775,68.17696659195218,343,1.8305048564414557,10172,54.285409328636987,2856,15.241754723022735,9713,51.83584160529405,72,0.38424591738712777,4153,22.163517984843633,4102,21.891343793361084,469,2.5029352118689294,1066,5.6889742768705309,5533,29.528231401430251,802,4.2800725797843953]
["明細部","国",74,"女",20734,4397,21.206713610494841,3924,18.925436481142086,1815,8.7537378219349851,1282,6.183080929873638,249,1.2009260152406676,4828,23.285424905951576,14354,69.229285231986111,391,1.8857914536510079,11471,55.324587633838142,3139,15.13938458570464,10683,51.524066750265263,88,0.4244236519726054,4707,22.701842384489247,4469,21.553969325745154,564,2.7201697694607887,1246,6.0094530722484807,6469,31.199961416031641,939,4.5287932863895053]
["明細部","県",40,"男",96,41,42.708333333333329,52,54.166666666666664,27,28.125,34,35.416666666666671,11,11.458333333333332,14,14.583333333333334,31,32.291666666666671,21,21.875,33,34.375,21,21.875,52,54.166666666666664,0,0,15,15.625,9,9.375,0,0,4,4.1666666666666661,1,1.0416666666666665,0,0]
["明細部","県",41,"男",106,42,39.622641509433961,54,50.943396226415096,24,22.641509433962266,33,31.132075471698112,8,7.5471698113207548,20,18.867924528301888,34,32.075471698113205,22,20.754716981132077,30,28.30188679245283,16,15.09433962264151,50,47.169811320754718,0,0,35,33.018867924528301,8,7.5471698113207548,0,0,5,4.716981132075472,3,2.8301886792452833,3,2.8301886792452833]
["明細部","県",42,"男",98,32,32.653061224489797,53,54.081632653061227,30,30.612244897959183,31,31.632653061224492,12,12.244897959183673,14,14.285714285714285,35,35.714285714285715,24,24.489795918367346,24,24.489795918367346,17,17.346938775510203,51,52.040816326530617,0,0,20,20.408163265306122,6,6.1224489795918364,0,0,2,2.0408163265306123,2,2.0408163265306123,2,2.0408163265306123]
["明細部","県",43,"男",110,43,39.090909090909093,54,49.090909090909093,24,21.818181818181817,29,26.36363636363636,3,2.7272727272727271,12,10.909090909090908,36,32.727272727272727,20,18.181818181818183,34,30.909090909090907,27,24.545454545454547,62,56.36363636363636,0,0,20,18.181818181818183,11,10,0,0,5,4.5454545454545459,3,2.7272727272727271,3,2.7272727272727271]
["明細部","県",44,"男",129,48,37.209302325581397,63,48.837209302325576,25,19.379844961240313,35,27.131782945736433,12,9.3023255813953494,26,20.155038759689923,44,34.108527131782942,22,17.054263565891471,41,31.782945736434108,36,27.906976744186046,63,48.837209302325576,0,0,30,23.255813953488371,10,7.7519379844961236,0,0,2,1.5503875968992249,5,3.8759689922480618,2,1.5503875968992249]
["明細部","県",45,"男",131,45,34.351145038167942,64,48.854961832061065,32,24.427480916030532,40,30.534351145038169,13,9.9236641221374047,27,20.610687022900763,46,35.114503816793892,19,14.503816793893129,36,27.480916030534353,31,23.664122137404579,71,54.198473282442748,0,0,26,19.847328244274809,12,9.1603053435114496,0,0,4,3.0534351145038165,2,1.5267175572519083,2,1.5267175572519083]
["明細部","県",46,"男",126,57,45.238095238095241,71,56.349206349206348,29,23.015873015873016,50,39.682539682539684,9,7.1428571428571423,27,21.428571428571427,50,39.682539682539684,24,19.047619047619047,45,35.714285714285715,38,30.158730158730158,80,63.492063492063487,0,0,29,23.015873015873016,9,7.1428571428571423,0,0,4,3.1746031746031744,5,3.9682539682539679,3,2.3809523809523809]
["明細部","県",47,"男",154,68,44.155844155844157,96,62.337662337662337,43,27.922077922077921,57,37.012987012987011,17,11.038961038961039,32,20.779220779220779,61,39.61038961038961,33,21.428571428571427,46,29.870129870129869,44,28.571428571428569,85,55.194805194805198,0,0,33,21.428571428571427,9,5.8441558441558437,0,0,4,2.5974025974025974,5,3.2467532467532463,2,1.2987012987012987]
["明細部","県",48,"男",146,65,44.520547945205479,79,54.109589041095894,54,36.986301369863014,47,32.19178082191781,11,7.5342465753424657,42,28.767123287671232,77,52.739726027397261,31,21.232876712328768,58,39.726027397260275,47,32.19178082191781,84,57.534246575342465,1,0.68493150684931503,29,19.863013698630137,7,4.7945205479452051,1,0.68493150684931503,4,2.7397260273972601,8,5.4794520547945202,0,0]
["明細部","県",49,"男",145,61,42.068965517241381,76,52.413793103448278,41,28.27586206896552,50,34.482758620689658,7,4.8275862068965516,31,21.379310344827587,67,46.206896551724135,32,22.068965517241381,49,33.793103448275865,54,37.241379310344833,90,62.068965517241381,2,1.3793103448275863,29,20,12,8.2758620689655178,1,0.68965517241379315,7,4.8275862068965516,17,11.724137931034482,4,2.7586206896551726]
["明細部","県",50,"男",173,71,41.040462427745666,96,55.49132947976878,39,22.543352601156069,50,28.901734104046245,14,8.0924855491329488,46,26.589595375722542,85,49.132947976878611,32,18.497109826589593,69,39.884393063583815,64,36.994219653179186,99,57.225433526011557,4,2.3121387283236992,40,23.121387283236995,15,8.6705202312138727,3,1.7341040462427744,3,1.7341040462427744,11,6.3583815028901727,6,3.4682080924855487]
["明細部","県",51,"男",161,68,42.236024844720497,93,57.763975155279503,44,27.329192546583851,37,22.981366459627328,13,8.0745341614906838,38,23.602484472049689,71,44.099378881987576,35,21.739130434782609,72,44.720496894409941,65,40.372670807453417,87,54.037267080745345,0,0,31,19.254658385093169,9,5.5900621118012426,0,0,5,3.1055900621118013,11,6.8322981366459627,5,3.1055900621118013]
["明細部","県",52,"男",176,84,47.727272727272727,101,57.386363636363633,51,28.97727272727273,54,30.681818181818183,14,7.9545454545454541,51,28.97727272727273,100,56.81818181818182,30,17.045454545454543,66,37.5,56,31.818181818181817,90,51.136363636363633,0,0,46,26.136363636363637,13,7.3863636363636367,2,1.1363636363636365,3,1.7045454545454544,12,6.8181818181818175,6,3.4090909090909087]
["明細部","県",53,"男",183,76,41.530054644808743,93,50.819672131147541,37,20.21857923497268,51,27.868852459016392,10,5.4644808743169397,52,28.415300546448087,90,49.180327868852459,23,12.568306010928962,91,49.72677595628415,73,39.89071038251366,92,50.27322404371585,1,0.54644808743169404,49,26.775956284153008,12,6.557377049180328,2,1.0928961748633881,2,1.0928961748633881,15,8.1967213114754092,4,2.1857923497267762]
["明細部","県",54,"男",177,71,40.112994350282491,102,57.627118644067799,53,29.943502824858758,56,31.638418079096049,11,6.2146892655367232,58,32.7683615819209,94,53.10734463276836,36,20.33898305084746,83,46.89265536723164,78,44.067796610169488,84,47.457627118644069,5,2.8248587570621471,41,23.163841807909606,15,8.4745762711864394,3,1.6949152542372881,3,1.6949152542372881,14,7.9096045197740121,6,3.3898305084745761]
["明細部","県",55,"男",200,85,42.5,111,55.500000000000007,49,24.5,57,28.499999999999996,20,10,47,23.5,110,55.000000000000007,30,15,83,41.5,69,34.5,99,49.5,0,0,48,24,20,10,4,2,3,1.5,22,11,6,3]
["明細部","県",56,"男",185,72,38.918918918918919,103,55.67567567567567,44,23.783783783783786,38,20.54054054054054,12,6.4864864864864868,49,26.486486486486488,99,53.513513513513509,36,19.45945945945946,69,37.297297297297298,59,31.891891891891895,92,49.729729729729733,1,0.54054054054054057,53,28.648648648648649,16,8.6486486486486491,1,0.54054054054054057,3,1.6216216216216217,23,12.432432432432433,3,1.6216216216216217]
["明細部","県",57,"男",196,74,37.755102040816325,109,55.612244897959187,54,27.551020408163261,61,31.122448979591837,12,6.1224489795918364,60,30.612244897959183,118,60.204081632653065,30,15.306122448979592,88,44.897959183673471,76,38.775510204081634,95,48.469387755102041,1,0.51020408163265307,51,26.020408163265309,17,8.6734693877551017,3,1.5306122448979591,4,2.0408163265306123,28,14.285714285714285,5,2.5510204081632653]
["明細部","県",58,"男",139,55,39.568345323741006,77,55.39568345323741,28,20.14388489208633,41,29.496402877697843,12,8.6330935251798557,42,30.215827338129497,78,56.115107913669057,22,15.827338129496402,59,42.446043165467628,44,31.654676258992804,70,50.359712230215827,1,0.71942446043165476,37,26.618705035971225,8,5.755395683453238,3,2.1582733812949639,4,2.877697841726619,24,17.266187050359711,6,4.3165467625899279]
["明細部","県",59,"男",166,62,37.349397590361441,103,62.048192771084345,37,22.289156626506024,37,22.289156626506024,11,6.6265060240963862,45,27.108433734939759,93,56.024096385542165,28,16.867469879518072,78,46.987951807228917,59,35.542168674698793,82,49.397590361445779,3,1.8072289156626504,42,25.301204819277107,15,9.0361445783132535,4,2.4096385542168677,2,1.2048192771084338,24,14.457831325301203,5,3.0120481927710845]
["明細部","県",60,"男",181,71,39.226519337016576,107,59.11602209944752,43,23.756906077348066,42,23.204419889502763,11,6.0773480662983426,59,32.596685082872931,108,59.668508287292823,34,18.784530386740332,80,44.19889502762431,62,34.254143646408842,93,51.381215469613259,7,3.867403314917127,43,23.756906077348066,20,11.049723756906078,3,1.6574585635359116,4,2.2099447513812152,33,18.232044198895029,5,2.7624309392265194]
["明細部","県",61,"男",181,65,35.911602209944753,96,53.038674033149171,40,22.099447513812155,32,17.679558011049721,15,8.2872928176795568,49,27.071823204419886,108,59.668508287292823,33,18.232044198895029,79,43.646408839779006,50,27.624309392265197,91,50.276243093922659,3,1.6574585635359116,53,29.281767955801101,19,10.497237569060774,7,3.867403314917127,4,2.2099447513812152,29,16.022099447513813,8,4.4198895027624303]
["明細部","県",62,"男",201,73,36.318407960199004,116,57.711442786069654,53,26.368159203980102,47,23.383084577114428,12,5.9701492537313428,68,33.830845771144283,128,63.681592039800996,37,18.407960199004975,96,47.761194029850742,76,37.810945273631837,95,47.263681592039802,2,0.99502487562189057,50,24.875621890547265,19,9.4527363184079594,4,1.9900497512437811,6,2.9850746268656714,44,21.890547263681594,6,2.9850746268656714]
["明細部","県",63,"男",230,79,34.347826086956523,122,53.04347826086957,45,19.565217391304348,45,19.565217391304348,13,5.6521739130434785,72,31.304347826086961,130,56.521739130434781,39,16.956521739130434,91,39.565217391304344,71,30.869565217391305,108,46.956521739130437,6,2.6086956521739131,68,29.565217391304348,39,16.956521739130434,3,1.3043478260869565,7,3.0434782608695654,46,20,4,1.7391304347826086]
["明細部","県",64,"男",250,84,33.6,143,57.199999999999996,52,20.8,56,22.400000000000002,12,4.8,84,33.6,155,62,37,14.799999999999999,131,52.400000000000006,77,30.8,117,46.800000000000004,6,2.4,69,27.6,30,12,8,3.2,5,2,59,23.599999999999998,9,3.5999999999999996]
["明細部","県",65,"男",287,93,32.404181184668992,158,55.052264808362374,58,20.209059233449477,64,22.299651567944252,17,5.9233449477351918,101,35.191637630662022,187,65.156794425087099,46,16.027874564459928,133,46.341463414634148,87,30.313588850174217,134,46.689895470383277,7,2.4390243902439024,88,30.662020905923342,43,14.982578397212542,7,2.4390243902439024,9,3.1358885017421603,70,24.390243902439025,8,2.7874564459930316]
["明細部","県",66,"男",386,128,33.160621761658035,205,53.108808290155437,88,22.797927461139896,66,17.098445595854923,31,8.0310880829015545,125,32.383419689119172,259,67.098445595854926,71,18.393782383419687,216,55.958549222797927,135,34.974093264248708,184,47.668393782383419,9,2.3316062176165802,109,28.238341968911918,48,12.435233160621761,18,4.6632124352331603,12,3.1088082901554404,89,23.05699481865285,11,2.849740932642487]
["明細部","県",67,"男",461,167,36.225596529284168,280,60.737527114967463,99,21.475054229934923,86,18.655097613882862,23,4.9891540130151846,156,33.839479392624725,283,61.388286334056396,73,15.835140997830802,221,47.939262472885034,133,28.850325379609544,226,49.023861171366597,12,2.6030368763557483,151,32.754880694143168,72,15.61822125813449,13,2.8199566160520604,18,3.9045553145336225,132,28.633405639913235,17,3.68763557483731]
["明細部","県",68,"男",546,162,29.670329670329672,297,54.395604395604394,123,22.527472527472529,77,14.102564102564102,31,5.6776556776556779,178,32.600732600732599,353,64.652014652014657,84,15.384615384615385,276,50.549450549450547,140,25.641025641025639,229,41.941391941391942,21,3.8461538461538463,173,31.684981684981683,58,10.622710622710622,13,2.3809523809523809,9,1.6483516483516485,166,30.402930402930401,14,2.5641025641025639]
["明細部","県",69,"男",658,201,30.547112462006076,365,55.471124620060785,135,20.516717325227962,90,13.677811550151976,47,7.1428571428571423,233,35.410334346504555,448,68.085106382978722,99,15.045592705167174,331,50.303951367781153,166,25.227963525835868,312,47.416413373860181,14,2.1276595744680851,197,29.939209726443771,76,11.550151975683891,22,3.3434650455927049,18,2.735562310030395,194,29.483282674772038,21,3.1914893617021276]
["明細部","県",70,"男",706,208,29.461756373937675,406,57.507082152974512,130,18.413597733711047,107,15.155807365439095,43,6.0906515580736542,238,33.711048158640224,487,68.980169971671387,88,12.464589235127479,363,51.416430594900852,158,22.379603399433428,292,41.359773371104815,23,3.2577903682719547,228,32.294617563739372,89,12.606232294617564,19,2.6912181303116145,18,2.5495750708215295,211,29.886685552407933,18,2.5495750708215295]
["明細部","県",71,"男",723,209,28.907330567081608,404,55.878284923928078,136,18.810511756569849,89,12.309820193637622,36,4.9792531120331951,238,32.91839557399723,503,69.571230982019358,90,12.448132780082988,381,52.697095435684652,173,23.92807745504841,301,41.632088520055326,26,3.5961272475795294,241,33.333333333333329,94,13.001383125864455,26,3.5961272475795294,18,2.4896265560165975,228,31.535269709543567,25,3.4578146611341634]
["明細部","県",72,"男",848,280,33.018867924528301,509,60.023584905660378,146,17.216981132075471,115,13.561320754716983,53,6.25,294,34.669811320754718,606,71.462264150943398,109,12.853773584905662,463,54.59905660377359,180,21.226415094339622,378,44.575471698113205,30,3.5377358490566038,286,33.726415094339622,118,13.915094339622641,30,3.5377358490566038,15,1.7688679245283019,273,32.193396226415096,24,2.8301886792452833]
["明細部","県",73,"男",946,272,28.752642706131077,508,53.699788583509509,167,17.653276955602536,129,13.636363636363635,69,7.2938689217758981,335,35.412262156448207,695,73.467230443974628,137,14.482029598308669,513,54.22832980972516,180,19.027484143763214,401,42.389006342494717,51,5.3911205073995774,331,34.989429175475692,122,12.896405919661733,36,3.8054968287526427,26,2.7484143763213531,323,34.143763213530654,35,3.6997885835095139]
["明細部","県",74,"男",1027,296,28.821811100292109,567,55.209347614410909,148,14.410905550146055,125,12.171372930866601,68,6.6212268743914313,356,34.664070107108081,767,74.683544303797461,124,12.074001947419669,556,54.138266796494648,213,20.740019474196689,409,39.824732229795522,39,3.79746835443038,377,36.708860759493675,121,11.781888997078871,34,3.3106134371957157,18,1.7526777020447908,378,36.806231742940604,35,3.4079844206426486]
["明細部","県",40,"女",75,19,25.333333333333336,12,16,3,4,9,12,1,1.3333333333333335,2,2.666666666666667,25,33.333333333333329,0,0,6,8,3,4,31,41.333333333333336,0,0,15,20,4,5.3333333333333339,0,0,0,0,0,0,0,0]
["明細部","県",41,"女",65,16,24.615384615384617,12,18.461538461538463,9,13.846153846153847,3,4.6153846153846159,2,3.0769230769230771,6,9.2307692307692317,16,24.615384615384617,0,0,6,9.2307692307692317,6,9.2307692307692317,20,30.76923076923077,0,0,9,13.846153846153847,6,9.2307692307692317,0,0,1,1.5384615384615385,0,0,0,0]
["明細部","県",42,"女",71,12,16.901408450704224,6,8.4507042253521121,4,5.6338028169014089,5,7.042253521126761,0,0,3,4.225352112676056,17,23.943661971830984,1,1.4084507042253522,6,8.4507042253521121,7,9.8591549295774641,23,32.394366197183103,0,0,14,19.718309859154928,6,8.4507042253521121,0,0,0,0,3,4.225352112676056,0,0]
["明細部","県",43,"女",85,18,21.176470588235293,12,14.117647058823529,3,3.5294117647058822,6,7.0588235294117645,1,1.1764705882352942,6,7.0588235294117645,19,22.352941176470591,1,1.1764705882352942,12,14.117647058823529,9,10.588235294117647,26,30.588235294117649,0,0,17,20,8,9.4117647058823533,0,0,1,1.1764705882352942,1,1.1764705882352942,1,1.1764705882352942]
["明細部","県",44,"女",69,16,23.188405797101449,11,15.942028985507244,2,2.8985507246376812,6,8.695652173913043,0,0,3,4.3478260869565215,14,20.289855072463769,0,0,9,13.043478260869565,9,13.043478260869565,24,34.782608695652172,0,0,7,10.144927536231885,6,8.695652173913043,0,0,0,0,1,1.4492753623188406,1,1.4492753623188406]
["明細部","県",45,"女",69,19,27.536231884057973,14,20.289855072463769,4,5.7971014492753623,6,8.695652173913043,1,1.4492753623188406,5,7.2463768115942031,16,23.188405797101449,0,0,14,20.289855072463769,8,11.594202898550725,34,49.275362318840585,0,0,12,17.391304347826086,8,11.594202898550725,0,0,4,5.7971014492753623,5,7.2463768115942031,0,0]
["明細部","県",46,"女",84,19,22.61904761904762,11,13.095238095238097,5,5.9523809523809517,7,8.3333333333333321,1,1.1904761904761905,9,10.714285714285714,23,27.380952380952383,0,0,17,20.238095238095237,12,14.285714285714285,33,39.285714285714285,0,0,16,19.047619047619047,6,7.1428571428571423,0,0,1,1.1904761904761905,6,7.1428571428571423,1,1.1904761904761905]
["明細部","県",47,"女",88,20,22.727272727272727,13,14.772727272727273,8,9.0909090909090917,3,3.4090909090909087,0,0,8,9.0909090909090917,31,35.227272727272727,1,1.1363636363636365,16,18.181818181818183,15,17.045454545454543,40,45.454545454545453,0,0,16,18.181818181818183,6,6.8181818181818175,0,0,0,0,8,9.0909090909090917,0,0]
["明細部","県",48,"女",92,19,20.652173913043477,12,13.043478260869565,6,6.5217391304347823,5,5.4347826086956523,2,2.1739130434782608,9,9.7826086956521738,35,38.04347826086957,2,2.1739130434782608,21,22.826086956521738,16,17.391304347826086,36,39.130434782608695,0,0,18,19.565217391304348,6,6.5217391304347823,0,0,3,3.2608695652173911,4,4.3478260869565215,1,1.0869565217391304]
["明細部","県",49,"女",94,12,12.76595744680851,9,9.5744680851063837,11,11.702127659574469,6,6.3829787234042552,0,0,5,5.3191489361702127,37,39.361702127659576,2,2.1276595744680851,17,18.085106382978726,13,13.829787234042554,34,36.170212765957451,0,0,17,18.085106382978726,7,7.4468085106382977,0,0,1,1.0638297872340425,4,4.2553191489361701,0,0]
["明細部","県",50,"女",106,13,12.264150943396226,9,8.4905660377358494,12,11.320754716981133,10,9.433962264150944,1,0.94339622641509435,6,5.6603773584905666,38,35.849056603773583,1,0.94339622641509435,22,20.754716981132077,18,16.981132075471699,53,50,0,0,17,16.037735849056602,14,13.20754716981132,0,0,1,0.94339622641509435,6,5.6603773584905666,0,0]
["明細部","県",51,"女",121,18,14.87603305785124,12,9.9173553719008272,11,9.0909090909090917,9,7.4380165289256199,2,1.6528925619834711,8,6.6115702479338845,52,42.97520661157025,1,0.82644628099173556,22,18.181818181818183,18,14.87603305785124,66,54.54545454545454,0,0,23,19.008264462809919,10,8.2644628099173563,2,1.6528925619834711,7,5.785123966942149,8,6.6115702479338845,2,1.6528925619834711]
["明細部","県",52,"女",125,25,20,22,17.599999999999998,10,8,10,8,3,2.4,17,13.600000000000001,50,40,2,1.6,34,27.200000000000003,20,16,67,53.6,0,0,23,18.399999999999999,8,6.4,2,1.6,4,3.2,10,8,2,1.6]
["明細部","県",53,"女",116,28,24.137931034482758,20,17.241379310344829,21,18.103448275862068,9,7.7586206896551726,0,0,14,12.068965517241379,55,47.413793103448278,0,0,35,30.172413793103448,24,20.689655172413794,65,56.034482758620683,0,0,16,13.793103448275861,4,3.4482758620689653,0,0,2,1.7241379310344827,9,7.7586206896551726,0,0]
["明細部","県",54,"女",149,28,18.791946308724832,23,15.436241610738255,20,13.422818791946309,18,12.080536912751679,4,2.6845637583892619,21,14.093959731543624,79,53.020134228187921,3,2.0134228187919461,35,23.48993288590604,25,16.778523489932887,86,57.718120805369132,0,0,33,22.14765100671141,15,10.067114093959731,0,0,4,2.6845637583892619,18,12.080536912751679,2,1.3422818791946309]
["明細部","県",55,"女",140,27,19.285714285714288,19,13.571428571428571,11,7.8571428571428568,15,10.714285714285714,1,0.7142857142857143,19,13.571428571428571,66,47.142857142857139,1,0.7142857142857143,38,27.142857142857142,26,18.571428571428573,87,62.142857142857146,0,0,27,19.285714285714288,11,7.8571428571428568,2,1.4285714285714286,3,2.1428571428571428,15,10.714285714285714,3,2.1428571428571428]
["明細部","県",56,"女",129,26,20.155038759689923,19,14.728682170542637,14,10.852713178294573,12,9.3023255813953494,0,0,19,14.728682170542637,80,62.015503875968989,4,3.1007751937984498,40,31.007751937984494,20,15.503875968992247,83,64.341085271317837,0,0,34,26.356589147286826,13,10.077519379844961,0,0,3,2.3255813953488373,23,17.829457364341085,2,1.5503875968992249]
["明細部","県",57,"女",137,31,22.627737226277372,30,21.897810218978105,16,11.678832116788321,14,10.218978102189782,0,0,21,15.328467153284672,70,51.094890510948908,6,4.3795620437956204,38,27.737226277372262,27,19.708029197080293,84,61.313868613138688,0,0,29,21.167883211678831,13,9.4890510948905096,0,0,0,0,21,15.328467153284672,0,0]
["明細部","県",58,"女",132,28,21.212121212121211,23,17.424242424242426,14,10.606060606060606,10,7.5757575757575761,1,0.75757575757575757,20,15.151515151515152,70,53.030303030303031,1,0.75757575757575757,43,32.575757575757578,24,18.181818181818183,84,63.636363636363633,0,0,29,21.969696969696969,6,4.5454545454545459,3,2.2727272727272729,4,3.0303030303030303,21,15.909090909090908,2,1.5151515151515151]
["明細部","県",59,"女",154,28,18.181818181818183,22,14.285714285714285,17,11.038961038961039,17,11.038961038961039,0,0,26,16.883116883116884,84,54.54545454545454,2,1.2987012987012987,50,32.467532467532465,24,15.584415584415584,100,64.935064935064929,0,0,37,24.025974025974026,12,7.7922077922077921,1,0.64935064935064934,4,2.5974025974025974,30,19.480519480519483,5,3.2467532467532463]
["明細部","県",60,"女",177,31,17.514124293785311,32,18.07909604519774,22,12.429378531073446,18,10.16949152542373,1,0.56497175141242939,30,16.949152542372879,112,63.276836158192097,6,3.3898305084745761,52,29.378531073446329,29,16.38418079096045,103,58.192090395480221,0,0,32,18.07909604519774,16,9.0395480225988702,3,1.6949152542372881,6,3.3898305084745761,34,19.209039548022599,2,1.1299435028248588]
["明細部","県",61,"女",192,38,19.791666666666664,32,16.666666666666664,21,10.9375,21,10.9375,1,0.52083333333333326,27,14.0625,117,60.9375,5,2.604166666666667,60,31.25,31,16.145833333333336,106,55.208333333333336,0,0,35,18.229166666666664,20,10.416666666666668,5,2.604166666666667,9,4.6875,32,16.666666666666664,1,0.52083333333333326]
["明細部","県",62,"女",215,44,20.465116279069768,41,19.069767441860467,25,11.627906976744185,17,7.9069767441860463,1,0.46511627906976744,33,15.348837209302326,131,60.930232558139529,5,2.3255813953488373,65,30.232558139534881,34,15.813953488372093,133,61.860465116279073,0,0,47,21.86046511627907,32,14.883720930232558,3,1.3953488372093024,9,4.1860465116279073,53,24.651162790697676,3,1.3953488372093024]
["明細部","県",63,"女",246,48,19.512195121951219,38,15.447154471544716,25,10.16260162601626,17,6.9105691056910574,2,0.81300813008130091,36,14.634146341463413,152,61.788617886178862,3,1.2195121951219512,80,32.520325203252028,45,18.292682926829269,154,62.601626016260155,0,0,59,23.983739837398375,29,11.788617886178862,3,1.2195121951219512,6,2.4390243902439024,58,23.577235772357724,5,2.0325203252032518]
["明細部","県",64,"女",320,59,18.4375,58,18.125,32,10,31,9.6875,1,0.3125,52,16.25,203,63.4375,7,2.1875,110,34.375,59,18.4375,177,55.3125,0,0,65,20.3125,37,11.5625,3,0.9375,6,1.875,64,20,5,1.5625]
["明細部","県",65,"女",334,49,14.67065868263473,48,14.37125748502994,43,12.874251497005988,23,6.88622754491018,1,0.29940119760479045,66,19.760479041916167,212,63.473053892215567,8,2.3952095808383236,134,40.119760479041915,61,18.263473053892216,207,61.97604790419161,0,0,77,23.053892215568865,42,12.574850299401197,4,1.1976047904191618,8,2.3952095808383236,74,22.155688622754489,2,0.5988023952095809]
["明細部","県",66,"女",407,72,17.690417690417689,62,15.233415233415235,33,8.1081081081081088,33,8.1081081081081088,0,0,74,18.181818181818183,272,66.830466830466833,5,1.2285012285012284,168,41.277641277641273,83,20.393120393120391,248,60.933660933660938,0,0,102,25.061425061425062,59,14.496314496314497,8,1.9656019656019657,11,2.7027027027027026,98,24.078624078624077,9,2.2113022113022112]
["明細部","県",67,"女",496,89,17.943548387096776,82,16.532258064516128,53,10.685483870967742,36,7.2580645161290329,6,1.2096774193548387,94,18.951612903225808,328,66.129032258064512,8,1.6129032258064515,219,44.153225806451616,88,17.741935483870968,297,59.879032258064512,3,0.60483870967741937,127,25.60483870967742,53,10.685483870967742,6,1.2096774193548387,15,3.024193548387097,132,26.612903225806448,11,2.217741935483871]
["明細部","県",68,"女",570,110,19.298245614035086,101,17.719298245614034,70,12.280701754385964,36,6.3157894736842106,8,1.4035087719298245,104,18.245614035087719,387,67.89473684210526,15,2.6315789473684208,252,44.210526315789473,90,15.789473684210526,304,53.333333333333336,0,0,127,22.280701754385966,64,11.228070175438596,13,2.2807017543859649,19,3.3333333333333335,143,25.087719298245613,12,2.1052631578947367]
["明細部","県",69,"女",648,104,16.049382716049383,107,16.512345679012348,72,11.111111111111111,46,7.098765432098765,5,0.77160493827160492,144,22.222222222222221,463,71.450617283950606,9,1.3888888888888888,324,50,109,16.820987654320987,384,59.259259259259252,1,0.15432098765432098,155,23.919753086419753,70,10.802469135802468,10,1.5432098765432098,11,1.6975308641975309,161,24.845679012345677,9,1.3888888888888888]
["明細部","県",70,"女",723,131,18.118948824343015,132,18.257261410788381,74,10.235131396957122,54,7.4688796680497926,12,1.6597510373443984,166,22.959889349930844,495,68.46473029045643,15,2.0746887966804977,334,46.19640387275242,106,14.661134163208853,396,54.77178423236515,0,0,158,21.853388658367912,70,9.6818810511756581,17,2.3513139695712311,13,1.7980636237897647,200,27.662517289073307,12,1.6597510373443984]
["明細部","県",71,"女",765,127,16.601307189542482,144,18.823529411764707,80,10.457516339869281,55,7.18954248366013,8,1.0457516339869279,176,23.006535947712418,529,69.150326797385617,12,1.5686274509803921,396,51.764705882352949,124,16.209150326797385,425,55.555555555555557,3,0.39215686274509803,173,22.614379084967322,83,10.84967320261438,13,1.6993464052287581,18,2.3529411764705883,210,27.450980392156865,18,2.3529411764705883]
["明細部","県",72,"女",840,148,17.61904761904762,143,17.023809523809526,107,12.738095238095237,50,5.9523809523809517,6,0.7142857142857143,189,22.5,621,73.928571428571431,15,1.7857142857142856,467,55.595238095238095,139,16.547619047619047,448,53.333333333333336,0,0,219,26.071428571428573,78,9.2857142857142865,23,2.7380952380952381,26,3.0952380952380953,235,27.976190476190478,11,1.3095238095238095]
["明細部","県",73,"女",984,180,18.292682926829269,187,19.004065040650406,103,10.467479674796747,54,5.4878048780487809,9,0.91463414634146334,215,21.849593495934961,717,72.865853658536579,17,1.7276422764227644,537,54.573170731707322,156,15.853658536585366,557,56.605691056910565,5,0.50813008130081294,249,25.304878048780488,100,10.16260162601626,31,3.1504065040650406,12,1.2195121951219512,308,31.300813008130078,17,1.7276422764227644]
["明細部","県",74,"女",1075,192,17.86046511627907,201,18.697674418604652,107,9.9534883720930232,66,6.1395348837209305,9,0.83720930232558144,245,22.790697674418606,763,70.976744186046517,23,2.1395348837209305,585,54.418604651162795,166,15.441860465116278,582,54.139534883720927,3,0.27906976744186046,299,27.813953488372096,88,8.1860465116279055,23,2.1395348837209305,24,2.2325581395348837,362,33.674418604651166,18,1.6744186046511629]
["明細部","保険者（地区）",40,"男",3,1,33.333333333333329,1,33.333333333333329,0,0,0,0,0,0,0,0,0,0,0,0,0,0,0,0,0,0,0,0,0,0,0,0,0,0,0,0,0,0,0,0]
["明細部","保険者（地区）",41,"男",5,0,0,2,40,0,0,1,20,0,0,0,0,0,0,0,0,0,0,0,0,1,20,0,0,2,40,0,0,0,0,0,0,0,0,0,0]
["明細部","保険者（地区）",42,"男",3,1,33.333333333333329,1,33.333333333333329,1,33.333333333333329,0,0,1,33.333333333333329,2,66.666666666666657,0,0,0,0,0,0,0,0,0,0,0,0,0,0,0,0,0,0,0,0,0,0,0,0]
["明細部","保険者（地区）",43,"男",2,1,50,0,0,0,0,0,0,0,0,0,0,0,0,0,0,0,0,0,0,1,50,0,0,0,0,0,0,0,0,0,0,0,0,0,0]
["明細部","保険者（地区）",44,"男",8,1,12.5,2,25,0,0,0,0,0,0,0,0,1,12.5,1,12.5,0,0,2,25,3,37.5,0,0,3,37.5,1,12.5,0,0,0,0,0,0,0,0]
["明細部","保険者（地区）",45,"男",2,1,50,2,100,0,0,1,50,0,0,0,0,0,0,0,0,0,0,0,0,2,100,0,0,0,0,0,0,0,0,0,0,0,0,0,0]
["明細部","保険者（地区）",46,"男",6,2,33.333333333333329,3,50,0,0,3,50,0,0,0,0,2,33.333333333333329,0,0,3,50,0,0,3,50,0,0,2,33.333333333333329,0,0,0,0,0,0,0,0,0,0]
["明細部","保険者（地区）",47,"男",6,2,33.333333333333329,5,83.333333333333343,0,0,2,33.333333333333329,0,0,1,16.666666666666664,2,33.333333333333329,1,16.666666666666664,2,33.333333333333329,2,33.333333333333329,4,66.666666666666657,0,0,0,0,0,0,0,0,0,0,0,0,0,0]
["明細部","保険者（地区）",48,"男",5,0,0,1,20,0,0,2,40,0,0,1,20,2,40,1,20,0,0,0,0,3,60,0,0,2,40,0,0,0,0,0,0,0,0,0,0]
["明細部","保険者（地区）",49,"男",0,0,{"$error":"#DIV/0!"},0,{"$error":"#DIV/0!"},0,{"$error":"#DIV/0!"},0,{"$error":"#DIV/0!"},0,{"$error":"#DIV/0!"},0,{"$error":"#DIV/0!"},0,{"$error":"#DIV/0!"},0,{"$error":"#DIV/0!"},0,{"$error":"#DIV/0!"},0,{"$error":"#DIV/0!"},0,{"$error":"#DIV/0!"},0,{"$error":"#DIV/0!"},0,{"$error":"#DIV/0!"},0,{"$error":"#DIV/0!"},0,{"$error":"#DIV/0!"},0,{"$error":"#DIV/0!"},0,{"$error":"#DIV/0!"},0,{"$error":"#DIV/0!"}]
["明細部","保険者（地区）",50,"男",4,1,25,2,50,1,25,3,75,0,0,0,0,2,50,1,25,1,25,0,0,2,50,0,0,0,0,0,0,0,0,0,0,0,0,0,0]
["明細部","保険者（地区）",51,"男",8,6,75,5,62.5,6,75,3,37.5,0,0,2,25,1,12.5,1,12.5,1,12.5,2,25,3,37.5,0,0,3,37.5,0,0,0,0,0,0,0,0,0,0]
["明細部","保険者（地区）",52,"男",6,4,66.666666666666657,5,83.333333333333343,2,33.333333333333329,3,50,0,0,3,50,2,33.333333333333329,0,0,2,33.333333333333329,1,16.666666666666664,2,33.333333333333329,0,0,2,33.333333333333329,0,0,0,0,0,0,0,0,0,0]
["明細部","保険者（地区）",53,"男",6,2,33.333333333333329,3,50,2,33.333333333333329,2,33.333333333333329,0,0,0,0,2,33.333333333333329,0,0,3,50,2,33.333333333333329,0,0,0,0,2,33.333333333333329,0,0,0,0,0,0,0,0,0,0]
["明細部","保険者（地区）",54,"男",12,6,50,8,66.666666666666657,3,25,2,16.666666666666664,1,8.3333333333333321,2,16.666666666666664,6,50,4,33.333333333333329,4,33.333333333333329,4,33.333333333333329,6,50,0,0,4,33.333333333333329,0,0,0,0,0,0,0,0,0,0]
["明細部","保険者（地区）",55,"男",7,3,42.857142857142854,5,71.428571428571431,2,28.571428571428569,2,28.571428571428569,0,0,0,0,3,42.857142857142854,0,0,2,28.571428571428569,0,0,4,57.142857142857139,0,0,2,28.571428571428569,0,0,0,0,0,0,0,0,0,0]
["明細部","保険者（地区）",56,"男",5,2,40,2,40,0,0,1,20,0,0,1,20,2,40,1,20,0,0,1,20,2,40,0,0,3,60,0,0,0,0,0,0,0,0,0,0]
["明細部","保険者（地区）",57,"男",5,1,20,3,60,0,0,3,60,0,0,2,40,3,60,0,0,3,60,1,20,1,20,0,0,3,60,0,0,0,0,0,0,1,20,0,0]
["明細部","保険者（地区）",58,"男",5,3,60,3,60,0,0,3,60,0,0,1,20,2,40,1,20,2,40,1,20,2,40,0,0,3,60,0,0,0,0,0,0,0,0,0,0]
["明細部","保険者（地区）",59,"男",15,6,40,11,73.333333333333329,4,26.666666666666668,4,26.666666666666668,0,0,5,33.333333333333329,6,40,3,20,8,53.333333333333336,7,46.666666666666664,6,40,0,0,4,26.666666666666668,0,0,0,0,0,0,0,0,0,0]
["明細部","保険者（地区）",60,"男",8,3,37.5,5,62.5,0,0,1,12.5,0,0,0,0,2,25,2,25,2,25,3,37.5,4,50,0,0,1,12.5,0,0,0,0,0,0,0,0,0,0]
["明細部","保険者（地区）",61,"男",9,2,22.222222222222221,3,33.333333333333329,0,0,0,0,2,22.222222222222221,0,0,3,33.333333333333329,1,11.111111111111111,5,55.555555555555557,1,11.111111111111111,3,33.333333333333329,0,0,1,11.111111111111111,0,0,0,0,0,0,1,11.111111111111111,1,11.111111111111111]
["明細部","保険者（地区）",62,"男",4,2,50,3,75,1,25,0,0,0,0,1,25,3,75,1,25,2,50,0,0,0,0,0,0,1,25,0,0,0,0,0,0,1,25,1,25]
["明細部","保険者（地区）",63,"男",7,3,42.857142857142854,5,71.428571428571431,3,42.857142857142854,2,28.571428571428569,0,0,4,57.142857142857139,3,42.857142857142854,1,14.285714285714285,2,28.571428571428569,1,14.285714285714285,3,42.857142857142854,0,0,1,14.285714285714285,0,0,0,0,0,0,0,0,0,0]
["明細部","保険者（地区）",64,"男",13,3,23.076923076923077,8,61.53846153846154,1,7.6923076923076925,2,15.384615384615385,0,0,3,23.076923076923077,5,38.461538461538467,1,7.6923076923076925,6,46.153846153846153,3,23.076923076923077,3,23.076923076923077,0,0,6,46.153846153846153,0,0,0,0,0,0,3,23.076923076923077,0,0]
["明細部","保険者（地区）",65,"男",8,3,37.5,3,37.5,0,0,3,37.5,2,25,2,25,4,50,0,0,3,37.5,2,25,3,37.5,0,0,2,25,0,0,2,25,0,0,0,0,0,0]
["明細部","保険者（地区）",66,"男",12,4,33.333333333333329,6,50,5,41.666666666666671,4,33.333333333333329,0,0,5,41.666666666666671,7,58.333333333333336,3,25,8,66.666666666666657,4,33.333333333333329,5,41.666666666666671,0,0,3,25,0,0,0,0,0,0,2,16.666666666666664,0,0]
["明細部","保険者（地区）",67,"男",13,6,46.153846153846153,8,61.53846153846154,2,15.384615384615385,3,23.076923076923077,0,0,7,53.846153846153847,6,46.153846153846153,2,15.384615384615385,5,38.461538461538467,3,23.076923076923077,5,38.461538461538467,0,0,7,53.846153846153847,0,0,0,0,0,0,3,23.076923076923077,0,0]
["明細部","保険者（地区）",68,"男",15,2,13.333333333333334,3,20,3,20,0,0,0,0,3,20,3,20,3,20,8,53.333333333333336,6,40,7,46.666666666666664,0,0,6,40,0,0,0,0,0,0,4,26.666666666666668,1,6.666666666666667]
["明細部","保険者（地区）",69,"男",23,6,26.086956521739129,12,52.173913043478258,5,21.739130434782609,3,13.043478260869565,1,4.3478260869565215,10,43.478260869565219,10,43.478260869565219,4,17.391304347826086,12,52.173913043478258,4,17.391304347826086,5,21.739130434782609,0,0,10,43.478260869565219,0,0,0,0,0,0,3,13.043478260869565,2,8.695652173913043]
["明細部","保険者（地区）",70,"男",19,8,42.105263157894733,13,68.421052631578945,4,21.052631578947366,3,15.789473684210526,0,0,5,26.315789473684209,10,52.631578947368418,1,5.2631578947368416,9,47.368421052631575,2,10.526315789473683,8,42.105263157894733,0,0,7,36.84210526315789,1,5.2631578947368416,0,0,0,0,5,26.315789473684209,0,0]
["明細部","保険者（地区）",71,"男",13,5,38.461538461538467,6,46.153846153846153,1,7.6923076923076925,3,23.076923076923077,0,0,4,30.76923076923077,6,46.153846153846153,0,0,6,46.153846153846153,2,15.384615384615385,9,69.230769230769226,0,0,8,61.53846153846154,0,0,0,0,0,0,4,30.76923076923077,0,0]
["明細部","保険者（地区）",72,"男",27,11,40.74074074074074,16,59.259259259259252,3,11.111111111111111,5,18.518518518518519,3,11.111111111111111,4,14.814814814814813,11,40.74074074074074,3,11.111111111111111,18,66.666666666666657,5,18.518518518518519,13,48.148148148148145,0,0,10,37.037037037037038,0,0,0,0,0,0,9,33.333333333333329,0,0]
["明細部","保険者（地区）",73,"男",23,7,30.434782608695656,12,52.173913043478258,5,21.739130434782609,3,13.043478260869565,1,4.3478260869565215,10,43.478260869565219,12,52.173913043478258,3,13.043478260869565,13,56.521739130434781,5,21.739130434782609,9,39.130434782608695,0,0,12,52.173913043478258,0,0,1,4.3478260869565215,0,0,7,30.434782608695656,0,0]
["明細部","保険者（地区）",74,"男",31,10,32.258064516129032,18,58.064516129032263,5,16.129032258064516,2,6.4516129032258061,1,3.225806451612903,13,41.935483870967744,16,51.612903225806448,3,9.67741935483871,16,51.612903225806448,8,25.806451612903224,9,29.032258064516132,0,0,19,61.29032258064516,0,0,0,0,0,0,9,29.032258064516132,1,3.225806451612903]
["明細部","保険者（地区）",40,"女",6,2,33.333333333333329,1,16.666666666666664,0,0,0,0,0,0,0,0,0,0,0,0,0,0,0,0,2,33.333333333333329,0,0,0,0,0,0,0,0,0,0,0,0,0,0]
["明細部","保険者（地区）",41,"女",4,1,25,2,50,1,25,0,0,0,0,0,0,1,25,0,0,0,0,1,25,2,50,0,0,0,0,0,0,0,0,0,0,0,0,0,0]
["明細部","保険者（地区）",42,"女",1,0,0,0,0,0,0,0,0,0,0,0,0,0,0,0,0,0,0,0,0,0,0,0,0,0,0,0,0,0,0,0,0,0,0,0,0]
["明細部","保険者（地区）",43,"女",3,1,33.333333333333329,0,0,0,0,0,0,0,0,0,0,1,33.333333333333329,0,0,0,0,0,0,1,33.333333333333329,0,0,0,0,0,0,0,0,0,0,0,0,0,0]
["明細部","保険者（地区）",44,"女",2,0,0,1,50,0,0,0,0,0,0,0,0,0,0,0,0,0,0,0,0,2,100,0,0,0,0,0,0,0,0,0,0,0,0,0,0]
["明細部","保険者（地区）",45,"女",1,1,100,0,0,0,0,0,0,0,0,0,0,0,0,0,0,0,0,0,0,0,0,0,0,0,0,0,0,0,0,0,0,0,0,0,0]
["明細部","保険者（地区）",46,"女",1,0,0,0,0,0,0,0,0,0,0,0,0,0,0,0,0,0,0,0,0,0,0,0,0,0,0,0,0,0,0,0,0,0,0,0,0]
["明細部","保険者（地区）",47,"女",3,0,0,0,0,1,33.333333333333329,0,0,0,0,0,0,0,0,0,0,2,66.666666666666657,1,33.333333333333329,0,0,0,0,0,0,0,0,0,0,0,0,0,0,0,0]
["明細部","保険者（地区）",48,"女",3,1,33.333333333333329,0,0,0,0,0,0,0,0,0,0,0,0,0,0,1,33.333333333333329,0,0,1,33.333333333333329,0,0,1,33.333333333333329,0,0,0,0,0,0,0,0,0,0]
["明細部","保険者（地区）",49,"女",3,0,0,0,0,0,0,0,0,0,0,0,0,0,0,0,0,0,0,0,0,2,66.666666666666657,0,0,0,0,0,0,0,0,0,0,0,0,0,0]
["明細部","保険者（地区）",50,"女",5,0,0,0,0,0,0,0,0,0,0,0,0,1,20,0,0,1,20,1,20,1,20,0,0,2,40,0,0,0,0,0,0,0,0,0,0]
["明細部","保険者（地区）",51,"女",6,1,16.666666666666664,1,16.666666666666664,0,0,0,0,0,0,0,0,1,16.666666666666664,0,0,0,0,0,0,2,33.333333333333329,0,0,1,16.666666666666664,0,0,0,0,0,0,0,0,0,0]
["明細部","保険者（地区）",52,"女",6,1,16.666666666666664,1,16.666666666666664,0,0,0,0,0,0,0,0,0,0,0,0,0,0,1,16.666666666666664,2,33.333333333333329,0,0,2,33.333333333333329,0,0,0,0,0,0,0,0,0,0]
["明細部","保険者（地区）",53,"女",8,2,25,1,12.5,0,0,0,0,0,0,0,0,2,25,0,0,0,0,0,0,2,25,0,0,2,25,0,0,0,0,0,0,1,12.5,0,0]
["明細部","保険者（地区）",54,"女",5,1,20,1,20,2,40,1,20,0,0,1,20,0,0,0,0,3,60,0,0,2,40,0,0,0,0,0,0,0,0,0,0,0,0,0,0]
["明細部","保険者（地区）",55,"女",3,1,33.333333333333329,0,0,0,0,0,0,0,0,0,0,0,0,0,0,0,0,0,0,2,66.666666666666657,0,0,0,0,0,0,0,0,0,0,0,0,0,0]
["明細部","保険者（地区）",56,"女",9,1,11.111111111111111,1,11.111111111111111,0,0,2,22.222222222222221,0,0,1,11.111111111111111,4,44.444444444444443,0,0,2,22.222222222222221,2,22.222222222222221,5,55.555555555555557,0,0,2,22.222222222222221,0,0,0,0,0,0,1,11.111111111111111,0,0]
["明細部","保険者（地区）",57,"女",7,3,42.857142857142854,2,28.571428571428569,0,0,0,0,0,0,2,28.571428571428569,2,28.571428571428569,0,0,4,57.142857142857139,3,42.857142857142854,6,85.714285714285708,0,0,1,14.285714285714285,0,0,0,0,0,0,0,0,0,0]
["明細部","保険者（地区）",58,"女",8,2,25,0,0,0,0,0,0,0,0,2,25,3,37.5,0,0,3,37.5,1,12.5,4,50,0,0,1,12.5,0,0,0,0,0,0,0,0,0,0]
["明細部","保険者（地区）",59,"女",9,3,33.333333333333329,2,22.222222222222221,1,11.111111111111111,0,0,0,0,3,33.333333333333329,4,44.444444444444443,0,0,5,55.555555555555557,3,33.333333333333329,6,66.666666666666657,0,0,4,44.444444444444443,0,0,0,0,0,0,1,11.111111111111111,0,0]
["明細部","保険者（地区）",60,"女",8,0,0,0,0,0,0,0,0,0,0,2,25,3,37.5,0,0,3,37.5,1,12.5,2,25,0,0,2,25,0,0,0,0,0,0,0,0,0,0]
["明細部","保険者（地区）",61,"女",11,4,36.363636363636367,4,36.363636363636367,2,18.181818181818183,0,0,0,0,1,9.0909090909090917,6,54.54545454545454,1,9.0909090909090917,5,45.454545454545453,2,18.181818181818183,6,54.54545454545454,0,0,2,18.181818181818183,0,0,0,0,0,0,3,27.27272727272727,0,0]
["明細部","保険者（地区）",62,"女",10,0,0,1,10,3,30,0,0,0,0,2,20,4,40,0,0,2,20,0,0,7,70,0,0,1,10,0,0,0,0,0,0,3,30,0,0]
["明細部","保険者（地区）",63,"女",13,3,23.076923076923077,2,15.384615384615385,2,15.384615384615385,0,0,0,0,2,15.384615384615385,6,46.153846153846153,0,0,3,23.076923076923077,3,23.076923076923077,8,61.53846153846154,0,0,6,46.153846153846153,0,0,0,0,0,0,1,7.6923076923076925,0,0]
["明細部","保険者（地区）",64,"女",13,2,15.384615384615385,1,7.6923076923076925,3,23.076923076923077,1,7.6923076923076925,0,0,1,7.6923076923076925,5,38.461538461538467,0,0,1,7.6923076923076925,3,23.076923076923077,7,53.846153846153847,0,0,4,30.76923076923077,0,0,0,0,0,0,2,15.384615384615385,0,0]
["明細部","保険者（地区）",65,"女",12,0,0,0,0,0,0,1,8.3333333333333321,0,0,2,16.666666666666664,5,41.666666666666671,0,0,6,50,3,25,8,66.666666666666657,0,0,4,33.333333333333329,0,0,0,0,0,0,3,25,0,0]
["明細部","保険者（地区）",66,"女",12,2,16.666666666666664,2,16.666666666666664,0,0,1,8.3333333333333321,0,0,2,16.666666666666664,4,33.333333333333329,0,0,7,58.333333333333336,1,8.3333333333333321,6,50,0,0,2,16.666666666666664,0,0,0,0,0,0,2,16.666666666666664,0,0]
["明細部","保険者（地区）",67,"女",16,1,6.25,0,0,1,6.25,0,0,0,0,5,31.25,4,25,0,0,7,43.75,1,6.25,10,62.5,0,0,5,31.25,0,0,0,0,0,0,3,18.75,0,0]
["明細部","保険者（地区）",68,"女",22,4,18.181818181818183,5,22.727272727272727,2,9.0909090909090917,2,9.0909090909090917,0,0,5,22.727272727272727,10,45.454545454545453,0,0,11,50,6,27.27272727272727,13,59.090909090909093,0,0,4,18.181818181818183,0,0,0,0,0,0,4,18.181818181818183,0,0]
["明細部","保険者（地区）",69,"女",13,1,7.6923076923076925,0,0,0,0,0,0,0,0,3,23.076923076923077,7,53.846153846153847,0,0,3,23.076923076923077,1,7.6923076923076925,9,69.230769230769226,0,0,3,23.076923076923077,0,0,0,0,0,0,1,7.6923076923076925,0,0]
["明細部","保険者（地区）",70,"女",21,4,19.047619047619047,5,23.809523809523807,3,14.285714285714285,3,14.285714285714285,0,0,7,33.333333333333329,12,57.142857142857139,0,0,10,47.619047619047613,2,9.5238095238095237,12,57.142857142857139,0,0,8,38.095238095238095,1,4.7619047619047619,0,0,0,0,11,52.380952380952387,0,0]
["明細部","保険者（地区）",71,"女",23,2,8.695652173913043,2,8.695652173913043,2,8.695652173913043,3,13.043478260869565,0,0,6,26.086956521739129,8,34.782608695652172,0,0,12,52.173913043478258,3,13.043478260869565,12,52.173913043478258,0,0,4,17.391304347826086,1,4.3478260869565215,0,0,0,0,3,13.043478260869565,0,0]
["明細部","保険者（地区）",72,"女",20,3,15,2,10,2,10,0,0,0,0,4,20,13,65,0,0,11,55.000000000000007,3,15,11,55.000000000000007,0,0,11,55.000000000000007,1,5,0,0,0,0,6,30,0,0]
["明細部","保険者（地区）",73,"女",23,5,21.739130434782609,4,17.391304347826086,3,13.043478260869565,2,8.695652173913043,0,0,9,39.130434782608695,12,52.173913043478258,0,0,15,65.217391304347828,4,17.391304347826086,15,65.217391304347828,0,0,6,26.086956521739129,0,0,0,0,0,0,5,21.739130434782609,0,0]
["明細部","保険者（地区）",74,"女",33,7,21.212121212121211,9,27.27272727272727,3,9.0909090909090917,0,0,0,0,6,18.181818181818183,17,51.515151515151516,0,0,11,33.333333333333329,3,9.0909090909090917,17,51.515151515151516,0,0,11,33.333333333333329,1,3.0303030303030303,0,0,0,0,7,21.212121212121211,1,3.0303030303030303]

{"sheet":"CSVデータ2","index":2,"n_rows":213,"n_cols":41,"rows_kept":213,"cut":false,"hidden":false,"merged":[]}
["レコード種別","保険者番号","保険者名","地区名","作成年月","県計・国計"]
["共通部"]
["レコード種別","集計単位","年齢","性別","受診者","ＢＭＩ人数","ＢＭＩ割合","腹囲人数","腹囲割合","空腹時中性脂肪人数","空腹時中性脂肪割合","ＡＬＴ（ＧＰＴ）人数","ＡＬＴ（ＧＰＴ）割合","ＨＤＬコレステロール人数","ＨＤＬコレステロール割合","空腹時血糖人数","空腹時血糖割合","ＨｂＡ１ｃ人数","ＨｂＡ１ｃ割合","尿酸人数","尿酸割合","収縮期血圧人数","収縮期血圧割合","拡張期血圧人数","拡張期血圧割合","ＬＤＬコレステロール人数","ＬＤＬコレステロール割合","血清クレアチニン人数","血清クレアチニン割合","心電図人数","心電図割合","眼底検査人数","眼底検査割合","随時血糖人数","随時血糖割合","ｎｏｎ－ＨＤＬコレステロール人数","ｎｏｎ－ＨＤＬコレステロール割合","ｅＧＦＲ人数","ｅＧＦＲ割合","随時中性脂肪人数","随時中性脂肪割合"]
["明細部","国",40,"男"]
["明細部","国",41,"男"]
["明細部","国",42,"男"]
["明細部","国",43,"男"]
["明細部","国",44,"男"]
["明細部","国",45,"男"]
["明細部","国",46,"男"]
["明細部","国",47,"男"]
["明細部","国",48,"男"]
["明細部","国",49,"男"]
["明細部","国",50,"男"]
["明細部","国",51,"男"]
["明細部","国",52,"男"]
["明細部","国",53,"男"]
["明細部","国",54,"男"]
["明細部","国",55,"男"]
["明細部","国",56,"男"]
["明細部","国",57,"男"]
["明細部","国",58,"男"]
["明細部","国",59,"男"]
["明細部","国",60,"男"]
["明細部","国",61,"男"]
["明細部","国",62,"男"]
["明細部","国",63,"男"]
["明細部","国",64,"男"]
["明細部","国",65,"男"]
["明細部","国",66,"男"]
["明細部","国",67,"男"]
["明細部","国",68,"男"]
["明細部","国",69,"男"]
["明細部","国",70,"男"]
["明細部","国",71,"男"]
["明細部","国",72,"男"]
["明細部","国",73,"男"]
["明細部","国",74,"男"]
["明細部","国",40,"女"]
["明細部","国",41,"女"]
["明細部","国",42,"女"]
["明細部","国",43,"女"]
["明細部","国",44,"女"]
["明細部","国",45,"女"]
["明細部","国",46,"女"]
["明細部","国",47,"女"]
["明細部","国",48,"女"]
["明細部","国",49,"女"]
["明細部","国",50,"女"]
["明細部","国",51,"女"]
["明細部","国",52,"女"]
["明細部","国",53,"女"]
["明細部","国",54,"女"]
["明細部","国",55,"女"]
["明細部","国",56,"女"]
["明細部","国",57,"女"]
["明細部","国",58,"女"]
["明細部","国",59,"女"]
["明細部","国",60,"女"]
["明細部","国",61,"女"]
["明細部","国",62,"女"]
["明細部","国",63,"女"]
["明細部","国",64,"女"]
["明細部","国",65,"女"]
["明細部","国",66,"女"]
["明細部","国",67,"女"]
["明細部","国",68,"女"]
["明細部","国",69,"女"]
["明細部","国",70,"女"]
["明細部","国",71,"女"]
["明細部","国",72,"女"]
["明細部","国",73,"女"]
["明細部","国",74,"女"]
["明細部","県",40,"男"]
["明細部","県",41,"男"]
["明細部","県",42,"男"]
["明細部","県",43,"男"]
["明細部","県",44,"男"]
["明細部","県",45,"男"]
["明細部","県",46,"男"]
["明細部","県",47,"男"]
["明細部","県",48,"男"]
["明細部","県",49,"男"]
["明細部","県",50,"男"]
["明細部","県",51,"男"]
["明細部","県",52,"男"]
["明細部","県",53,"男"]
["明細部","県",54,"男"]
["明細部","県",55,"男"]
["明細部","県",56,"男"]
["明細部","県",57,"男"]
["明細部","県",58,"男"]
["明細部","県",59,"男"]
["明細部","県",60,"男"]
["明細部","県",61,"男"]
["明細部","県",62,"男"]
["明細部","県",63,"男"]
["明細部","県",64,"男"]
["明細部","県",65,"男"]
["明細部","県",66,"男"]
["明細部","県",67,"男"]
["明細部","県",68,"男"]
["明細部","県",69,"男"]
["明細部","県",70,"男"]
["明細部","県",71,"男"]
["明細部","県",72,"男"]
["明細部","県",73,"男"]
["明細部","県",74,"男"]
["明細部","県",40,"女"]
["明細部","県",41,"女"]
["明細部","県",42,"女"]
["明細部","県",43,"女"]
["明細部","県",44,"女"]
["明細部","県",45,"女"]
["明細部","県",46,"女"]
["明細部","県",47,"女"]
["明細部","県",48,"女"]
["明細部","県",49,"女"]
["明細部","県",50,"女"]
["明細部","県",51,"女"]
["明細部","県",52,"女"]
["明細部","県",53,"女"]
["明細部","県",54,"女"]
["明細部","県",55,"女"]
["明細部","県",56,"女"]
["明細部","県",57,"女"]
["明細部","県",58,"女"]
["明細部","県",59,"女"]
["明細部","県",60,"女"]
["明細部","県",61,"女"]
["明細部","県",62,"女"]
["明細部","県",63,"女"]
["明細部","県",64,"女"]
["明細部","県",65,"女"]
["明細部","県",66,"女"]
["明細部","県",67,"女"]
["明細部","県",68,"女"]
["明細部","県",69,"女"]
["明細部","県",70,"女"]
["明細部","県",71,"女"]
["明細部","県",72,"女"]
["明細部","県",73,"女"]
["明細部","県",74,"女"]
["明細部","保険者（地区）",40,"男"]
["明細部","保険者（地区）",41,"男"]
["明細部","保険者（地区）",42,"男"]
["明細部","保険者（地区）",43,"男"]
["明細部","保険者（地区）",44,"男"]
["明細部","保険者（地区）",45,"男"]
["明細部","保険者（地区）",46,"男"]
["明細部","保険者（地区）",47,"男"]
["明細部","保険者（地区）",48,"男"]
["明細部","保険者（地区）",49,"男"]
["明細部","保険者（地区）",50,"男"]
["明細部","保険者（地区）",51,"男"]
["明細部","保険者（地区）",52,"男"]
["明細部","保険者（地区）",53,"男"]
["明細部","保険者（地区）",54,"男"]
["明細部","保険者（地区）",55,"男"]
["明細部","保険者（地区）",56,"男"]
["明細部","保険者（地区）",57,"男"]
["明細部","保険者（地区）",58,"男"]
["明細部","保険者（地区）",59,"男"]
["明細部","保険者（地区）",60,"男"]
["明細部","保険者（地区）",61,"男"]
["明細部","保険者（地区）",62,"男"]
["明細部","保険者（地区）",63,"男"]
["明細部","保険者（地区）",64,"男"]
["明細部","保険者（地区）",65,"男"]
["明細部","保険者（地区）",66,"男"]
["明細部","保険者（地区）",67,"男"]
["明細部","保険者（地区）",68,"男"]
["明細部","保険者（地区）",69,"男"]
["明細部","保険者（地区）",70,"男"]
["明細部","保険者（地区）",71,"男"]
["明細部","保険者（地区）",72,"男"]
["明細部","保険者（地区）",73,"男"]
["明細部","保険者（地区）",74,"男"]
["明細部","保険者（地区）",40,"女"]
["明細部","保険者（地区）",41,"女"]
["明細部","保険者（地区）",42,"女"]
["明細部","保険者（地区）",43,"女"]
["明細部","保険者（地区）",44,"女"]
["明細部","保険者（地区）",45,"女"]
["明細部","保険者（地区）",46,"女"]
["明細部","保険者（地区）",47,"女"]
["明細部","保険者（地区）",48,"女"]
["明細部","保険者（地区）",49,"女"]
["明細部","保険者（地区）",50,"女"]
["明細部","保険者（地区）",51,"女"]
["明細部","保険者（地区）",52,"女"]
["明細部","保険者（地区）",53,"女"]
["明細部","保険者（地区）",54,"女"]
["明細部","保険者（地区）",55,"女"]
["明細部","保険者（地区）",56,"女"]
["明細部","保険者（地区）",57,"女"]
["明細部","保険者（地区）",58,"女"]
["明細部","保険者（地区）",59,"女"]
["明細部","保険者（地区）",60,"女"]
["明細部","保険者（地区）",61,"女"]
["明細部","保険者（地区）",62,"女"]
["明細部","保険者（地区）",63,"女"]
["明細部","保険者（地区）",64,"女"]
["明細部","保険者（地区）",65,"女"]
["明細部","保険者（地区）",66,"女"]
["明細部","保険者（地区）",67,"女"]
["明細部","保険者（地区）",68,"女"]
["明細部","保険者（地区）",69,"女"]
["明細部","保険者（地区）",70,"女"]
["明細部","保険者（地区）",71,"女"]
["明細部","保険者（地区）",72,"女"]
["明細部","保険者（地区）",73,"女"]
["明細部","保険者（地区）",74,"女"]

{"sheet":"CSVデータ3","index":3,"n_rows":213,"n_cols":41,"rows_kept":213,"cut":false,"hidden":false,"merged":[]}
["レコード種別","保険者番号","保険者名","地区名","作成年月","県計・国計"]
["共通部"]
["レコード種別","集計単位","年齢","性別","受診者","ＢＭＩ人数","ＢＭＩ割合","腹囲人数","腹囲割合","空腹時中性脂肪人数","空腹時中性脂肪割合","ＡＬＴ（ＧＰＴ）人数","ＡＬＴ（ＧＰＴ）割合","ＨＤＬコレステロール人数","ＨＤＬコレステロール割合","空腹時血糖人数","空腹時血糖割合","ＨｂＡ１ｃ人数","ＨｂＡ１ｃ割合","尿酸人数","尿酸割合","収縮期血圧人数","収縮期血圧割合","拡張期血圧人数","拡張期血圧割合","ＬＤＬコレステロール人数","ＬＤＬコレステロール割合","血清クレアチニン人数","血清クレアチニン割合","心電図人数","心電図割合","眼底検査人数","眼底検査割合","随時血糖人数","随時血糖割合","ｎｏｎ－ＨＤＬコレステロール人数","ｎｏｎ－ＨＤＬコレステロール割合","ｅＧＦＲ人数","ｅＧＦＲ割合","随時中性脂肪人数","随時中性脂肪割合"]
["明細部","国",40,"男"]
["明細部","国",41,"男"]
["明細部","国",42,"男"]
["明細部","国",43,"男"]
["明細部","国",44,"男"]
["明細部","国",45,"男"]
["明細部","国",46,"男"]
["明細部","国",47,"男"]
["明細部","国",48,"男"]
["明細部","国",49,"男"]
["明細部","国",50,"男"]
["明細部","国",51,"男"]
["明細部","国",52,"男"]
["明細部","国",53,"男"]
["明細部","国",54,"男"]
["明細部","国",55,"男"]
["明細部","国",56,"男"]
["明細部","国",57,"男"]
["明細部","国",58,"男"]
["明細部","国",59,"男"]
["明細部","国",60,"男"]
["明細部","国",61,"男"]
["明細部","国",62,"男"]
["明細部","国",63,"男"]
["明細部","国",64,"男"]
["明細部","国",65,"男"]
["明細部","国",66,"男"]
["明細部","国",67,"男"]
["明細部","国",68,"男"]
["明細部","国",69,"男"]
["明細部","国",70,"男"]
["明細部","国",71,"男"]
["明細部","国",72,"男"]
["明細部","国",73,"男"]
["明細部","国",74,"男"]
["明細部","国",40,"女"]
["明細部","国",41,"女"]
["明細部","国",42,"女"]
["明細部","国",43,"女"]
["明細部","国",44,"女"]
["明細部","国",45,"女"]
["明細部","国",46,"女"]
["明細部","国",47,"女"]
["明細部","国",48,"女"]
["明細部","国",49,"女"]
["明細部","国",50,"女"]
["明細部","国",51,"女"]
["明細部","国",52,"女"]
["明細部","国",53,"女"]
["明細部","国",54,"女"]
["明細部","国",55,"女"]
["明細部","国",56,"女"]
["明細部","国",57,"女"]
["明細部","国",58,"女"]
["明細部","国",59,"女"]
["明細部","国",60,"女"]
["明細部","国",61,"女"]
["明細部","国",62,"女"]
["明細部","国",63,"女"]
["明細部","国",64,"女"]
["明細部","国",65,"女"]
["明細部","国",66,"女"]
["明細部","国",67,"女"]
["明細部","国",68,"女"]
["明細部","国",69,"女"]
["明細部","国",70,"女"]
["明細部","国",71,"女"]
["明細部","国",72,"女"]
["明細部","国",73,"女"]
["明細部","国",74,"女"]
["明細部","県",40,"男"]
["明細部","県",41,"男"]
["明細部","県",42,"男"]
["明細部","県",43,"男"]
["明細部","県",44,"男"]
["明細部","県",45,"男"]
["明細部","県",46,"男"]
["明細部","県",47,"男"]
["明細部","県",48,"男"]
["明細部","県",49,"男"]
["明細部","県",50,"男"]
["明細部","県",51,"男"]
["明細部","県",52,"男"]
["明細部","県",53,"男"]
["明細部","県",54,"男"]
["明細部","県",55,"男"]
["明細部","県",56,"男"]
["明細部","県",57,"男"]
["明細部","県",58,"男"]
["明細部","県",59,"男"]
["明細部","県",60,"男"]
["明細部","県",61,"男"]
["明細部","県",62,"男"]
["明細部","県",63,"男"]
["明細部","県",64,"男"]
["明細部","県",65,"男"]
["明細部","県",66,"男"]
["明細部","県",67,"男"]
["明細部","県",68,"男"]
["明細部","県",69,"男"]
["明細部","県",70,"男"]
["明細部","県",71,"男"]
["明細部","県",72,"男"]
["明細部","県",73,"男"]
["明細部","県",74,"男"]
["明細部","県",40,"女"]
["明細部","県",41,"女"]
["明細部","県",42,"女"]
["明細部","県",43,"女"]
["明細部","県",44,"女"]
["明細部","県",45,"女"]
["明細部","県",46,"女"]
["明細部","県",47,"女"]
["明細部","県",48,"女"]
["明細部","県",49,"女"]
["明細部","県",50,"女"]
["明細部","県",51,"女"]
["明細部","県",52,"女"]
["明細部","県",53,"女"]
["明細部","県",54,"女"]
["明細部","県",55,"女"]
["明細部","県",56,"女"]
["明細部","県",57,"女"]
["明細部","県",58,"女"]
["明細部","県",59,"女"]
["明細部","県",60,"女"]
["明細部","県",61,"女"]
["明細部","県",62,"女"]
["明細部","県",63,"女"]
["明細部","県",64,"女"]
["明細部","県",65,"女"]
["明細部","県",66,"女"]
["明細部","県",67,"女"]
["明細部","県",68,"女"]
["明細部","県",69,"女"]
["明細部","県",70,"女"]
["明細部","県",71,"女"]
["明細部","県",72,"女"]
["明細部","県",73,"女"]
["明細部","県",74,"女"]
["明細部","保険者（地区）",40,"男"]
["明細部","保険者（地区）",41,"男"]
["明細部","保険者（地区）",42,"男"]
["明細部","保険者（地区）",43,"男"]
["明細部","保険者（地区）",44,"男"]
["明細部","保険者（地区）",45,"男"]
["明細部","保険者（地区）",46,"男"]
["明細部","保険者（地区）",47,"男"]
["明細部","保険者（地区）",48,"男"]
["明細部","保険者（地区）",49,"男"]
["明細部","保険者（地区）",50,"男"]
["明細部","保険者（地区）",51,"男"]
["明細部","保険者（地区）",52,"男"]
["明細部","保険者（地区）",53,"男"]
["明細部","保険者（地区）",54,"男"]
["明細部","保険者（地区）",55,"男"]
["明細部","保険者（地区）",56,"男"]
["明細部","保険者（地区）",57,"男"]
["明細部","保険者（地区）",58,"男"]
["明細部","保険者（地区）",59,"男"]
["明細部","保険者（地区）",60,"男"]
["明細部","保険者（地区）",61,"男"]
["明細部","保険者（地区）",62,"男"]
["明細部","保険者（地区）",63,"男"]
["明細部","保険者（地区）",64,"男"]
["明細部","保険者（地区）",65,"男"]
["明細部","保険者（地区）",66,"男"]
["明細部","保険者（地区）",67,"男"]
["明細部","保険者（地区）",68,"男"]
["明細部","保険者（地区）",69,"男"]
["明細部","保険者（地区）",70,"男"]
["明細部","保険者（地区）",71,"男"]
["明細部","保険者（地区）",72,"男"]
["明細部","保険者（地区）",73,"男"]
["明細部","保険者（地区）",74,"男"]
["明細部","保険者（地区）",40,"女"]
["明細部","保険者（地区）",41,"女"]
["明細部","保険者（地区）",42,"女"]
["明細部","保険者（地区）",43,"女"]
["明細部","保険者（地区）",44,"女"]
["明細部","保険者（地区）",45,"女"]
["明細部","保険者（地区）",46,"女"]
["明細部","保険者（地区）",47,"女"]
["明細部","保険者（地区）",48,"女"]
["明細部","保険者（地区）",49,"女"]
["明細部","保険者（地区）",50,"女"]
["明細部","保険者（地区）",51,"女"]
["明細部","保険者（地区）",52,"女"]
["明細部","保険者（地区）",53,"女"]
["明細部","保険者（地区）",54,"女"]
["明細部","保険者（地区）",55,"女"]
["明細部","保険者（地区）",56,"女"]
["明細部","保険者（地区）",57,"女"]
["明細部","保険者（地区）",58,"女"]
["明細部","保険者（地区）",59,"女"]
["明細部","保険者（地区）",60,"女"]
["明細部","保険者（地区）",61,"女"]
["明細部","保険者（地区）",62,"女"]
["明細部","保険者（地区）",63,"女"]
["明細部","保険者（地区）",64,"女"]
["明細部","保険者（地区）",65,"女"]
["明細部","保険者（地区）",66,"女"]
["明細部","保険者（地区）",67,"女"]
["明細部","保険者（地区）",68,"女"]
["明細部","保険者（地区）",69,"女"]
["明細部","保険者（地区）",70,"女"]
["明細部","保険者（地区）",71,"女"]
["明細部","保険者（地区）",72,"女"]
["明細部","保険者（地区）",73,"女"]
["明細部","保険者（地区）",74,"女"]

{"sheet":"CSVデータ4","index":4,"n_rows":213,"n_cols":41,"rows_kept":213,"cut":false,"hidden":false,"merged":[]}
["レコード種別","保険者番号","保険者名","地区名","作成年月","県計・国計"]
["共通部"]
["レコード種別","集計単位","年齢","性別","受診者","ＢＭＩ人数","ＢＭＩ割合","腹囲人数","腹囲割合","空腹時中性脂肪人数","空腹時中性脂肪割合","ＡＬＴ（ＧＰＴ）人数","ＡＬＴ（ＧＰＴ）割合","ＨＤＬコレステロール人数","ＨＤＬコレステロール割合","空腹時血糖人数","空腹時血糖割合","ＨｂＡ１ｃ人数","ＨｂＡ１ｃ割合","尿酸人数","尿酸割合","収縮期血圧人数","収縮期血圧割合","拡張期血圧人数","拡張期血圧割合","ＬＤＬコレステロール人数","ＬＤＬコレステロール割合","血清クレアチニン人数","血清クレアチニン割合","心電図人数","心電図割合","眼底検査人数","眼底検査割合","随時血糖人数","随時血糖割合","ｎｏｎ－ＨＤＬコレステロール人数","ｎｏｎ－ＨＤＬコレステロール割合","ｅＧＦＲ人数","ｅＧＦＲ割合","随時中性脂肪人数","随時中性脂肪割合"]
["明細部","国",40,"男"]
["明細部","国",41,"男"]
["明細部","国",42,"男"]
["明細部","国",43,"男"]
["明細部","国",44,"男"]
["明細部","国",45,"男"]
["明細部","国",46,"男"]
["明細部","国",47,"男"]
["明細部","国",48,"男"]
["明細部","国",49,"男"]
["明細部","国",50,"男"]
["明細部","国",51,"男"]
["明細部","国",52,"男"]
["明細部","国",53,"男"]
["明細部","国",54,"男"]
["明細部","国",55,"男"]
["明細部","国",56,"男"]
["明細部","国",57,"男"]
["明細部","国",58,"男"]
["明細部","国",59,"男"]
["明細部","国",60,"男"]
["明細部","国",61,"男"]
["明細部","国",62,"男"]
["明細部","国",63,"男"]
["明細部","国",64,"男"]
["明細部","国",65,"男"]
["明細部","国",66,"男"]
["明細部","国",67,"男"]
["明細部","国",68,"男"]
["明細部","国",69,"男"]
["明細部","国",70,"男"]
["明細部","国",71,"男"]
["明細部","国",72,"男"]
["明細部","国",73,"男"]
["明細部","国",74,"男"]
["明細部","国",40,"女"]
["明細部","国",41,"女"]
["明細部","国",42,"女"]
["明細部","国",43,"女"]
["明細部","国",44,"女"]
["明細部","国",45,"女"]
["明細部","国",46,"女"]
["明細部","国",47,"女"]
["明細部","国",48,"女"]
["明細部","国",49,"女"]
["明細部","国",50,"女"]
["明細部","国",51,"女"]
["明細部","国",52,"女"]
["明細部","国",53,"女"]
["明細部","国",54,"女"]
["明細部","国",55,"女"]
["明細部","国",56,"女"]
["明細部","国",57,"女"]
["明細部","国",58,"女"]
["明細部","国",59,"女"]
["明細部","国",60,"女"]
["明細部","国",61,"女"]
["明細部","国",62,"女"]
["明細部","国",63,"女"]
["明細部","国",64,"女"]
["明細部","国",65,"女"]
["明細部","国",66,"女"]
["明細部","国",67,"女"]
["明細部","国",68,"女"]
["明細部","国",69,"女"]
["明細部","国",70,"女"]
["明細部","国",71,"女"]
["明細部","国",72,"女"]
["明細部","国",73,"女"]
["明細部","国",74,"女"]
["明細部","県",40,"男"]
["明細部","県",41,"男"]
["明細部","県",42,"男"]
["明細部","県",43,"男"]
["明細部","県",44,"男"]
["明細部","県",45,"男"]
["明細部","県",46,"男"]
["明細部","県",47,"男"]
["明細部","県",48,"男"]
["明細部","県",49,"男"]
["明細部","県",50,"男"]
["明細部","県",51,"男"]
["明細部","県",52,"男"]
["明細部","県",53,"男"]
["明細部","県",54,"男"]
["明細部","県",55,"男"]
["明細部","県",56,"男"]
["明細部","県",57,"男"]
["明細部","県",58,"男"]
["明細部","県",59,"男"]
["明細部","県",60,"男"]
["明細部","県",61,"男"]
["明細部","県",62,"男"]
["明細部","県",63,"男"]
["明細部","県",64,"男"]
["明細部","県",65,"男"]
["明細部","県",66,"男"]
["明細部","県",67,"男"]
["明細部","県",68,"男"]
["明細部","県",69,"男"]
["明細部","県",70,"男"]
["明細部","県",71,"男"]
["明細部","県",72,"男"]
["明細部","県",73,"男"]
["明細部","県",74,"男"]
["明細部","県",40,"女"]
["明細部","県",41,"女"]
["明細部","県",42,"女"]
["明細部","県",43,"女"]
["明細部","県",44,"女"]
["明細部","県",45,"女"]
["明細部","県",46,"女"]
["明細部","県",47,"女"]
["明細部","県",48,"女"]
["明細部","県",49,"女"]
["明細部","県",50,"女"]
["明細部","県",51,"女"]
["明細部","県",52,"女"]
["明細部","県",53,"女"]
["明細部","県",54,"女"]
["明細部","県",55,"女"]
["明細部","県",56,"女"]
["明細部","県",57,"女"]
["明細部","県",58,"女"]
["明細部","県",59,"女"]
["明細部","県",60,"女"]
["明細部","県",61,"女"]
["明細部","県",62,"女"]
["明細部","県",63,"女"]
["明細部","県",64,"女"]
["明細部","県",65,"女"]
["明細部","県",66,"女"]
["明細部","県",67,"女"]
["明細部","県",68,"女"]
["明細部","県",69,"女"]
["明細部","県",70,"女"]
["明細部","県",71,"女"]
["明細部","県",72,"女"]
["明細部","県",73,"女"]
["明細部","県",74,"女"]
["明細部","保険者（地区）",40,"男"]
["明細部","保険者（地区）",41,"男"]
["明細部","保険者（地区）",42,"男"]
["明細部","保険者（地区）",43,"男"]
["明細部","保険者（地区）",44,"男"]
["明細部","保険者（地区）",45,"男"]
["明細部","保険者（地区）",46,"男"]
["明細部","保険者（地区）",47,"男"]
["明細部","保険者（地区）",48,"男"]
["明細部","保険者（地区）",49,"男"]
["明細部","保険者（地区）",50,"男"]
["明細部","保険者（地区）",51,"男"]
["明細部","保険者（地区）",52,"男"]
["明細部","保険者（地区）",53,"男"]
["明細部","保険者（地区）",54,"男"]
["明細部","保険者（地区）",55,"男"]
["明細部","保険者（地区）",56,"男"]
["明細部","保険者（地区）",57,"男"]
["明細部","保険者（地区）",58,"男"]
["明細部","保険者（地区）",59,"男"]
["明細部","保険者（地区）",60,"男"]
["明細部","保険者（地区）",61,"男"]
["明細部","保険者（地区）",62,"男"]
["明細部","保険者（地区）",63,"男"]
["明細部","保険者（地区）",64,"男"]
["明細部","保険者（地区）",65,"男"]
["明細部","保険者（地区）",66,"男"]
["明細部","保険者（地区）",67,"男"]
["明細部","保険者（地区）",68,"男"]
["明細部","保険者（地区）",69,"男"]
["明細部","保険者（地区）",70,"男"]
["明細部","保険者（地区）",71,"男"]
["明細部","保険者（地区）",72,"男"]
["明細部","保険者（地区）",73,"男"]
["明細部","保険者（地区）",74,"男"]
["明細部","保険者（地区）",40,"女"]
["明細部","保険者（地区）",41,"女"]
["明細部","保険者（地区）",42,"女"]
["明細部","保険者（地区）",43,"女"]
["明細部","保険者（地区）",44,"女"]
["明細部","保険者（地区）",45,"女"]
["明細部","保険者（地区）",46,"女"]
["明細部","保険者（地区）",47,"女"]
["明細部","保険者（地区）",48,"女"]
["明細部","保険者（地区）",49,"女"]
["明細部","保険者（地区）",50,"女"]
["明細部","保険者（地区）",51,"女"]
["明細部","保険者（地区）",52,"女"]
["明細部","保険者（地区）",53,"女"]
["明細部","保険者（地区）",54,"女"]
["明細部","保険者（地区）",55,"女"]
["明細部","保険者（地区）",56,"女"]
["明細部","保険者（地区）",57,"女"]
["明細部","保険者（地区）",58,"女"]
["明細部","保険者（地区）",59,"女"]
["明細部","保険者（地区）",60,"女"]
["明細部","保険者（地区）",61,"女"]
["明細部","保険者（地区）",62,"女"]
["明細部","保険者（地区）",63,"女"]
["明細部","保険者（地区）",64,"女"]
["明細部","保険者（地区）",65,"女"]
["明細部","保険者（地区）",66,"女"]
["明細部","保険者（地区）",67,"女"]
["明細部","保険者（地区）",68,"女"]
["明細部","保険者（地区）",69,"女"]
["明細部","保険者（地区）",70,"女"]
["明細部","保険者（地区）",71,"女"]
["明細部","保険者（地区）",72,"女"]
["明細部","保険者（地区）",73,"女"]
["明細部","保険者（地区）",74,"女"]

{"sheet":"CSVデータ","index":5,"n_rows":213,"n_cols":41,"rows_kept":213,"cut":false,"hidden":true,"merged":[]}
[{"$f":"CSVデータ1!A1","v":"レコード種別"},{"$f":"CSVデータ1!B1","v":"保険者番号"},{"$f":"CSVデータ1!C1","v":"保険者名"},{"$f":"CSVデータ1!D1","v":"地区名"},{"$f":"CSVデータ1!E1","v":"作成年月"}]
[{"$f":"CSVデータ1!A2","v":"共通部"},{"$f":"CSVデータ1!B2","v":999999},{"$f":"CSVデータ1!C2","v":"見本データ"},{"$f":"CSVデータ1!D2","v":0},{"$f":"CSVデータ1!E2&CSVデータ2!E2&CSVデータ3!E2&CSVデータ4!E2","v":"R06年度"}]
[{"$f":"CSVデータ1!A3","v":"レコード種別"},{"$f":"CSVデータ1!B3","v":"集計単位"},{"$f":"CSVデータ1!C3","v":"年齢"},{"$f":"CSVデータ1!D3","v":"性別"},{"$f":"CSVデータ1!E3","v":"受診者"},{"$f":"CSVデータ1!F3","v":"ＢＭＩ人数"},{"$f":"CSVデータ1!G3","v":"ＢＭＩ割合"},{"$f":"CSVデータ1!H3","v":"腹囲人数"},{"$f":"CSVデータ1!I3","v":"腹囲割合"},{"$f":"CSVデータ1!J3","v":"空腹時中性脂肪人数"},{"$f":"CSVデータ1!K3","v":"空腹時中性脂肪割合"},{"$f":"CSVデータ1!L3","v":"ＡＬＴ（ＧＰＴ）人数"},{"$f":"CSVデータ1!M3","v":"ＡＬＴ（ＧＰＴ）割合"},{"$f":"CSVデータ1!N3","v":"ＨＤＬコレステロール人数"},{"$f":"CSVデータ1!O3","v":"ＨＤＬコレステロール割合"},{"$f":"CSVデータ1!P3","v":"空腹時血糖人数"},{"$f":"CSVデータ1!Q3","v":"空腹時血糖割合"},{"$f":"CSVデータ1!R3","v":"ＨｂＡ１ｃ人数"},{"$f":"CSVデータ1!S3","v":"ＨｂＡ１ｃ割合"},{"$f":"CSVデータ1!T3","v":"尿酸人数"},{"$f":"CSVデータ1!U3","v":"尿酸割合"},{"$f":"CSVデータ1!V3","v":"収縮期血圧人数"},{"$f":"CSVデータ1!W3","v":"収縮期血圧割合"},{"$f":"CSVデータ1!X3","v":"拡張期血圧人数"},{"$f":"CSVデータ1!Y3","v":"拡張期血圧割合"},{"$f":"CSVデータ1!Z3","v":"ＬＤＬコレステロール人数"},{"$f":"CSVデータ1!AA3","v":"ＬＤＬコレステロール割合"},{"$f":"CSVデータ1!AB3","v":"血清クレアチニン人数"},{"$f":"CSVデータ1!AC3","v":"血清クレアチニン割合"},{"$f":"CSVデータ1!AD3","v":"心電図人数"},{"$f":"CSVデータ1!AE3","v":"心電図割合"},{"$f":"CSVデータ1!AF3","v":"眼底検査人数"},{"$f":"CSVデータ1!AG3","v":"眼底検査割合"},{"$f":"CSVデータ1!AH3","v":"随時血糖人数"},{"$f":"CSVデータ1!AI3","v":"随時血糖割合"},{"$f":"CSVデータ1!AJ3","v":"ｎｏｎ－ＨＤＬコレステロール人数"},{"$f":"CSVデータ1!AK3","v":"ｎｏｎ－ＨＤＬコレステロール割合"},{"$f":"CSVデータ1!AL3","v":"ｅＧＦＲ人数"},{"$f":"CSVデータ1!AM3","v":"ｅＧＦＲ割合"},{"$f":"CSVデータ1!AN3","v":"随時中性脂肪人数"},{"$f":"CSVデータ1!AO3","v":"随時中性脂肪割合"}]
[{"$f":"CSVデータ1!A4","v":"明細部"},{"$f":"CSVデータ1!B4","v":"国"},{"$f":"CSVデータ1!C4","v":40},{"$f":"CSVデータ1!D4","v":"男"},{"$f":"IF(ISNUMBER(CSVデータ1!E4),CSVデータ1!E4,0)+IF(ISNUMBER(CSVデータ2!E4),CSVデータ2!E4,0)+IF(ISNUMBER(CSVデータ3!E4),CSVデータ3!E4,0)+IF(ISNUMBER(CSVデータ4!E4),CSVデータ4!E4,0)","v":1965},{"$f":"IF(ISNUMBER(CSVデータ1!F4),CSVデータ1!F4,0)+IF(ISNUMBER(CSVデータ2!F4),CSVデータ2!F4,0)+IF(ISNUMBER(CSVデータ3!F4),CSVデータ3!F4,0)+IF(ISNUMBER(CSVデータ4!F4),CSVデータ4!F4,0)","v":727},null,{"$f":"IF(ISNUMBER(CSVデータ1!H4),CSVデータ1!H4,0)+IF(ISNUMBER(CSVデータ2!H4),CSVデータ2!H4,0)+IF(ISNUMBER(CSVデータ3!H4),CSVデータ3!H4,0)+IF(ISNUMBER(CSVデータ4!H4),CSVデータ4!H4,0)","v":948},null,{"$f":"IF(ISNUMBER(CSVデータ1!J4),CSVデータ1!J4,0)+IF(ISNUMBER(CSVデータ2!J4),CSVデータ2!J4,0)+IF(ISNUMBER(CSVデータ3!J4),CSVデータ3!J4,0)+IF(ISNUMBER(CSVデータ4!J4),CSVデータ4!J4,0)","v":420},null,{"$f":"IF(ISNUMBER(CSVデータ1!L4),CSVデータ1!L4,0)+IF(ISNUMBER(CSVデータ2!L4),CSVデータ2!L4,0)+IF(ISNUMBER(CSVデータ3!L4),CSVデータ3!L4,0)+IF(ISNUMBER(CSVデータ4!L4),CSVデータ4!L4,0)","v":722},null,{"$f":"IF(ISNUMBER(CSVデータ1!N4),CSVデータ1!N4,0)+IF(ISNUMBER(CSVデータ2!N4),CSVデータ2!N4,0)+IF(ISNUMBER(CSVデータ3!N4),CSVデータ3!N4,0)+IF(ISNUMBER(CSVデータ4!N4),CSVデータ4!N4,0)","v":162},null,{"$f":"IF(ISNUMBER(CSVデータ1!P4),CSVデータ1!P4,0)+IF(ISNUMBER(CSVデータ2!P4),CSVデータ2!P4,0)+IF(ISNUMBER(CSVデータ3!P4),CSVデータ3!P4,0)+IF(ISNUMBER(CSVデータ4!P4),CSVデータ4!P4,0)","v":267},null,{"$f":"IF(ISNUMBER(CSVデータ1!R4),CSVデータ1!R4,0)+IF(ISNUMBER(CSVデータ2!R4),CSVデータ2!R4,0)+IF(ISNUMBER(CSVデータ3!R4),CSVデータ3!R4,0)+IF(ISNUMBER(CSVデータ4!R4),CSVデータ4!R4,0)","v":616},null,{"$f":"IF(ISNUMBER(CSVデータ1!T4),CSVデータ1!T4,0)+IF(ISNUMBER(CSVデータ2!T4),CSVデータ2!T4,0)+IF(ISNUMBER(CSVデータ3!T4),CSVデータ3!T4,0)+IF(ISNUMBER(CSVデータ4!T4),CSVデータ4!T4,0)","v":327},null,{"$f":"IF(ISNUMBER(CSVデータ1!V4),CSVデータ1!V4,0)+IF(ISNUMBER(CSVデータ2!V4),CSVデータ2!V4,0)+IF(ISNUMBER(CSVデータ3!V4),CSVデータ3!V4,0)+IF(ISNUMBER(CSVデータ4!V4),CSVデータ4!V4,0)","v":459},null,{"$f":"IF(ISNUMBER(CSVデータ1!X4),CSVデータ1!X4,0)+IF(ISNUMBER(CSVデータ2!X4),CSVデータ2!X4,0)+IF(ISNUMBER(CSVデータ3!X4),CSVデータ3!X4,0)+IF(ISNUMBER(CSVデータ4!X4),CSVデータ4!X4,0)","v":365},null,{"$f":"IF(ISNUMBER(CSVデータ1!Z4),CSVデータ1!Z4,0)+IF(ISNUMBER(CSVデータ2!Z4),CSVデータ2!Z4,0)+IF(ISNUMBER(CSVデータ3!Z4),CSVデータ3!Z4,0)+IF(ISNUMBER(CSVデータ4!Z4),CSVデータ4!Z4,0)","v":1062},null,{"$f":"IF(ISNUMBER(CSVデータ1!AB4),CSVデータ1!AB4,0)+IF(ISNUMBER(CSVデータ2!AB4),CSVデータ2!AB4,0)+IF(ISNUMBER(CSVデータ3!AB4),CSVデータ3!AB4,0)+IF(ISNUMBER(CSVデータ4!AB4),CSVデータ4!AB4,0)","v":3},null,{"$f":"IF(ISNUMBER(CSVデータ1!AD4),CSVデータ1!AD4,0)+IF(ISNUMBER(CSVデータ2!AD4),CSVデータ2!AD4,0)+IF(ISNUMBER(CSVデータ3!AD4),CSVデータ3!AD4,0)+IF(ISNUMBER(CSVデータ4!AD4),CSVデータ4!AD4,0)","v":243},null,{"$f":"IF(ISNUMBER(CSVデータ1!AF4),CSVデータ1!AF4,0)+IF(ISNUMBER(CSVデータ2!AF4),CSVデータ2!AF4,0)+IF(ISNUMBER(CSVデータ3!AF4),CSVデータ3!AF4,0)+IF(ISNUMBER(CSVデータ4!AF4),CSVデータ4!AF4,0)","v":403},null,{"$f":"IF(ISNUMBER(CSVデータ1!AH4),CSVデータ1!AH4,0)+IF(ISNUMBER(CSVデータ2!AH4),CSVデータ2!AH4,0)+IF(ISNUMBER(CSVデータ3!AH4),CSVデータ3!AH4,0)+IF(ISNUMBER(CSVデータ4!AH4),CSVデータ4!AH4,0)","v":31},null,{"$f":"IF(ISNUMBER(CSVデータ1!AJ4),CSVデータ1!AJ4,0)+IF(ISNUMBER(CSVデータ2!AJ4),CSVデータ2!AJ4,0)+IF(ISNUMBER(CSVデータ3!AJ4),CSVデータ3!AJ4,0)+IF(ISNUMBER(CSVデータ4!AJ4),CSVデータ4!AJ4,0)","v":151},null,{"$f":"IF(ISNUMBER(CSVデータ1!AL4),CSVデータ1!AL4,0)+IF(ISNUMBER(CSVデータ2!AL4),CSVデータ2!AL4,0)+IF(ISNUMBER(CSVデータ3!AL4),CSVデータ3!AL4,0)+IF(ISNUMBER(CSVデータ4!AL4),CSVデータ4!AL4,0)","v":32},null,{"$f":"IF(ISNUMBER(CSVデータ1!AN4),CSVデータ1!AN4,0)+IF(ISNUMBER(CSVデータ2!AN4),CSVデータ2!AN4,0)+IF(ISNUMBER(CSVデータ3!AN4),CSVデータ3!AN4,0)+IF(ISNUMBER(CSVデータ4!AN4),CSVデータ4!AN4,0)","v":121}]
[{"$f":"CSVデータ1!A5","v":"明細部"},{"$f":"CSVデータ1!B5","v":"国"},{"$f":"CSVデータ1!C5","v":41},{"$f":"CSVデータ1!D5","v":"男"},{"$f":"IF(ISNUMBER(CSVデータ1!E5),CSVデータ1!E5,0)+IF(ISNUMBER(CSVデータ2!E5),CSVデータ2!E5,0)+IF(ISNUMBER(CSVデータ3!E5),CSVデータ3!E5,0)+IF(ISNUMBER(CSVデータ4!E5),CSVデータ4!E5,0)","v":1965},{"$f":"IF(ISNUMBER(CSVデータ1!F5),CSVデータ1!F5,0)+IF(ISNUMBER(CSVデータ2!F5),CSVデータ2!F5,0)+IF(ISNUMBER(CSVデータ3!F5),CSVデータ3!F5,0)+IF(ISNUMBER(CSVデータ4!F5),CSVデータ4!F5,0)","v":723},null,{"$f":"IF(ISNUMBER(CSVデータ1!H5),CSVデータ1!H5,0)+IF(ISNUMBER(CSVデータ2!H5),CSVデータ2!H5,0)+IF(ISNUMBER(CSVデータ3!H5),CSVデータ3!H5,0)+IF(ISNUMBER(CSVデータ4!H5),CSVデータ4!H5,0)","v":904},null,{"$f":"IF(ISNUMBER(CSVデータ1!J5),CSVデータ1!J5,0)+IF(ISNUMBER(CSVデータ2!J5),CSVデータ2!J5,0)+IF(ISNUMBER(CSVデータ3!J5),CSVデータ3!J5,0)+IF(ISNUMBER(CSVデータ4!J5),CSVデータ4!J5,0)","v":404},null,{"$f":"IF(ISNUMBER(CSVデータ1!L5),CSVデータ1!L5,0)+IF(ISNUMBER(CSVデータ2!L5),CSVデータ2!L5,0)+IF(ISNUMBER(CSVデータ3!L5),CSVデータ3!L5,0)+IF(ISNUMBER(CSVデータ4!L5),CSVデータ4!L5,0)","v":699},null,{"$f":"IF(ISNUMBER(CSVデータ1!N5),CSVデータ1!N5,0)+IF(ISNUMBER(CSVデータ2!N5),CSVデータ2!N5,0)+IF(ISNUMBER(CSVデータ3!N5),CSVデータ3!N5,0)+IF(ISNUMBER(CSVデータ4!N5),CSVデータ4!N5,0)","v":153},null,{"$f":"IF(ISNUMBER(CSVデータ1!P5),CSVデータ1!P5,0)+IF(ISNUMBER(CSVデータ2!P5),CSVデータ2!P5,0)+IF(ISNUMBER(CSVデータ3!P5),CSVデータ3!P5,0)+IF(ISNUMBER(CSVデータ4!P5),CSVデータ4!P5,0)","v":331},null,{"$f":"IF(ISNUMBER(CSVデータ1!R5),CSVデータ1!R5,0)+IF(ISNUMBER(CSVデータ2!R5),CSVデータ2!R5,0)+IF(ISNUMBER(CSVデータ3!R5),CSVデータ3!R5,0)+IF(ISNUMBER(CSVデータ4!R5),CSVデータ4!R5,0)","v":638},null,{"$f":"IF(ISNUMBER(CSVデータ1!T5),CSVデータ1!T5,0)+IF(ISNUMBER(CSVデータ2!T5),CSVデータ2!T5,0)+IF(ISNUMBER(CSVデータ3!T5),CSVデータ3!T5,0)+IF(ISNUMBER(CSVデータ4!T5),CSVデータ4!T5,0)","v":302},null,{"$f":"IF(ISNUMBER(CSVデータ1!V5),CSVデータ1!V5,0)+IF(ISNUMBER(CSVデータ2!V5),CSVデータ2!V5,0)+IF(ISNUMBER(CSVデータ3!V5),CSVデータ3!V5,0)+IF(ISNUMBER(CSVデータ4!V5),CSVデータ4!V5,0)","v":495},null,{"$f":"IF(ISNUMBER(CSVデータ1!X5),CSVデータ1!X5,0)+IF(ISNUMBER(CSVデータ2!X5),CSVデータ2!X5,0)+IF(ISNUMBER(CSVデータ3!X5),CSVデータ3!X5,0)+IF(ISNUMBER(CSVデータ4!X5),CSVデータ4!X5,0)","v":390},null,{"$f":"IF(ISNUMBER(CSVデータ1!Z5),CSVデータ1!Z5,0)+IF(ISNUMBER(CSVデータ2!Z5),CSVデータ2!Z5,0)+IF(ISNUMBER(CSVデータ3!Z5),CSVデータ3!Z5,0)+IF(ISNUMBER(CSVデータ4!Z5),CSVデータ4!Z5,0)","v":1049},null,{"$f":"IF(ISNUMBER(CSVデータ1!AB5),CSVデータ1!AB5,0)+IF(ISNUMBER(CSVデータ2!AB5),CSVデータ2!AB5,0)+IF(ISNUMBER(CSVデータ3!AB5),CSVデータ3!AB5,0)+IF(ISNUMBER(CSVデータ4!AB5),CSVデータ4!AB5,0)","v":6},null,{"$f":"IF(ISNUMBER(CSVデータ1!AD5),CSVデータ1!AD5,0)+IF(ISNUMBER(CSVデータ2!AD5),CSVデータ2!AD5,0)+IF(ISNUMBER(CSVデータ3!AD5),CSVデータ3!AD5,0)+IF(ISNUMBER(CSVデータ4!AD5),CSVデータ4!AD5,0)","v":280},null,{"$f":"IF(ISNUMBER(CSVデータ1!AF5),CSVデータ1!AF5,0)+IF(ISNUMBER(CSVデータ2!AF5),CSVデータ2!AF5,0)+IF(ISNUMBER(CSVデータ3!AF5),CSVデータ3!AF5,0)+IF(ISNUMBER(CSVデータ4!AF5),CSVデータ4!AF5,0)","v":368},null,{"$f":"IF(ISNUMBER(CSVデータ1!AH5),CSVデータ1!AH5,0)+IF(ISNUMBER(CSVデータ2!AH5),CSVデータ2!AH5,0)+IF(ISNUMBER(CSVデータ3!AH5),CSVデータ3!AH5,0)+IF(ISNUMBER(CSVデータ4!AH5),CSVデータ4!AH5,0)","v":26},null,{"$f":"IF(ISNUMBER(CSVデータ1!AJ5),CSVデータ1!AJ5,0)+IF(ISNUMBER(CSVデータ2!AJ5),CSVデータ2!AJ5,0)+IF(ISNUMBER(CSVデータ3!AJ5),CSVデータ3!AJ5,0)+IF(ISNUMBER(CSVデータ4!AJ5),CSVデータ4!AJ5,0)","v":153},null,{"$f":"IF(ISNUMBER(CSVデータ1!AL5),CSVデータ1!AL5,0)+IF(ISNUMBER(CSVデータ2!AL5),CSVデータ2!AL5,0)+IF(ISNUMBER(CSVデータ3!AL5),CSVデータ3!AL5,0)+IF(ISNUMBER(CSVデータ4!AL5),CSVデータ4!AL5,0)","v":44},null,{"$f":"IF(ISNUMBER(CSVデータ1!AN5),CSVデータ1!AN5,0)+IF(ISNUMBER(CSVデータ2!AN5),CSVデータ2!AN5,0)+IF(ISNUMBER(CSVデータ3!AN5),CSVデータ3!AN5,0)+IF(ISNUMBER(CSVデータ4!AN5),CSVデータ4!AN5,0)","v":107}]
[{"$f":"CSVデータ1!A6","v":"明細部"},{"$f":"CSVデータ1!B6","v":"国"},{"$f":"CSVデータ1!C6","v":42},{"$f":"CSVデータ1!D6","v":"男"},{"$f":"IF(ISNUMBER(CSVデータ1!E6),CSVデータ1!E6,0)+IF(ISNUMBER(CSVデータ2!E6),CSVデータ2!E6,0)+IF(ISNUMBER(CSVデータ3!E6),CSVデータ3!E6,0)+IF(ISNUMBER(CSVデータ4!E6),CSVデータ4!E6,0)","v":1933},{"$f":"IF(ISNUMBER(CSVデータ1!F6),CSVデータ1!F6,0)+IF(ISNUMBER(CSVデータ2!F6),CSVデータ2!F6,0)+IF(ISNUMBER(CSVデータ3!F6),CSVデータ3!F6,0)+IF(ISNUMBER(CSVデータ4!F6),CSVデータ4!F6,0)","v":702},null,{"$f":"IF(ISNUMBER(CSVデータ1!H6),CSVデータ1!H6,0)+IF(ISNUMBER(CSVデータ2!H6),CSVデータ2!H6,0)+IF(ISNUMBER(CSVデータ3!H6),CSVデータ3!H6,0)+IF(ISNUMBER(CSVデータ4!H6),CSVデータ4!H6,0)","v":902},null,{"$f":"IF(ISNUMBER(CSVデータ1!J6),CSVデータ1!J6,0)+IF(ISNUMBER(CSVデータ2!J6),CSVデータ2!J6,0)+IF(ISNUMBER(CSVデータ3!J6),CSVデータ3!J6,0)+IF(ISNUMBER(CSVデータ4!J6),CSVデータ4!J6,0)","v":427},null,{"$f":"IF(ISNUMBER(CSVデータ1!L6),CSVデータ1!L6,0)+IF(ISNUMBER(CSVデータ2!L6),CSVデータ2!L6,0)+IF(ISNUMBER(CSVデータ3!L6),CSVデータ3!L6,0)+IF(ISNUMBER(CSVデータ4!L6),CSVデータ4!L6,0)","v":679},null,{"$f":"IF(ISNUMBER(CSVデータ1!N6),CSVデータ1!N6,0)+IF(ISNUMBER(CSVデータ2!N6),CSVデータ2!N6,0)+IF(ISNUMBER(CSVデータ3!N6),CSVデータ3!N6,0)+IF(ISNUMBER(CSVデータ4!N6),CSVデータ4!N6,0)","v":158},null,{"$f":"IF(ISNUMBER(CSVデータ1!P6),CSVデータ1!P6,0)+IF(ISNUMBER(CSVデータ2!P6),CSVデータ2!P6,0)+IF(ISNUMBER(CSVデータ3!P6),CSVデータ3!P6,0)+IF(ISNUMBER(CSVデータ4!P6),CSVデータ4!P6,0)","v":291},null,{"$f":"IF(ISNUMBER(CSVデータ1!R6),CSVデータ1!R6,0)+IF(ISNUMBER(CSVデータ2!R6),CSVデータ2!R6,0)+IF(ISNUMBER(CSVデータ3!R6),CSVデータ3!R6,0)+IF(ISNUMBER(CSVデータ4!R6),CSVデータ4!R6,0)","v":682},null,{"$f":"IF(ISNUMBER(CSVデータ1!T6),CSVデータ1!T6,0)+IF(ISNUMBER(CSVデータ2!T6),CSVデータ2!T6,0)+IF(ISNUMBER(CSVデータ3!T6),CSVデータ3!T6,0)+IF(ISNUMBER(CSVデータ4!T6),CSVデータ4!T6,0)","v":323},null,{"$f":"IF(ISNUMBER(CSVデータ1!V6),CSVデータ1!V6,0)+IF(ISNUMBER(CSVデータ2!V6),CSVデータ2!V6,0)+IF(ISNUMBER(CSVデータ3!V6),CSVデータ3!V6,0)+IF(ISNUMBER(CSVデータ4!V6),CSVデータ4!V6,0)","v":483},null,{"$f":"IF(ISNUMBER(CSVデータ1!X6),CSVデータ1!X6,0)+IF(ISNUMBER(CSVデータ2!X6),CSVデータ2!X6,0)+IF(ISNUMBER(CSVデータ3!X6),CSVデータ3!X6,0)+IF(ISNUMBER(CSVデータ4!X6),CSVデータ4!X6,0)","v":394},null,{"$f":"IF(ISNUMBER(CSVデータ1!Z6),CSVデータ1!Z6,0)+IF(ISNUMBER(CSVデータ2!Z6),CSVデータ2!Z6,0)+IF(ISNUMBER(CSVデータ3!Z6),CSVデータ3!Z6,0)+IF(ISNUMBER(CSVデータ4!Z6),CSVデータ4!Z6,0)","v":1045},null,{"$f":"IF(ISNUMBER(CSVデータ1!AB6),CSVデータ1!AB6,0)+IF(ISNUMBER(CSVデータ2!AB6),CSVデータ2!AB6,0)+IF(ISNUMBER(CSVデータ3!AB6),CSVデータ3!AB6,0)+IF(ISNUMBER(CSVデータ4!AB6),CSVデータ4!AB6,0)","v":5},null,{"$f":"IF(ISNUMBER(CSVデータ1!AD6),CSVデータ1!AD6,0)+IF(ISNUMBER(CSVデータ2!AD6),CSVデータ2!AD6,0)+IF(ISNUMBER(CSVデータ3!AD6),CSVデータ3!AD6,0)+IF(ISNUMBER(CSVデータ4!AD6),CSVデータ4!AD6,0)","v":265},null,{"$f":"IF(ISNUMBER(CSVデータ1!AF6),CSVデータ1!AF6,0)+IF(ISNUMBER(CSVデータ2!AF6),CSVデータ2!AF6,0)+IF(ISNUMBER(CSVデータ3!AF6),CSVデータ3!AF6,0)+IF(ISNUMBER(CSVデータ4!AF6),CSVデータ4!AF6,0)","v":403},null,{"$f":"IF(ISNUMBER(CSVデータ1!AH6),CSVデータ1!AH6,0)+IF(ISNUMBER(CSVデータ2!AH6),CSVデータ2!AH6,0)+IF(ISNUMBER(CSVデータ3!AH6),CSVデータ3!AH6,0)+IF(ISNUMBER(CSVデータ4!AH6),CSVデータ4!AH6,0)","v":29},null,{"$f":"IF(ISNUMBER(CSVデータ1!AJ6),CSVデータ1!AJ6,0)+IF(ISNUMBER(CSVデータ2!AJ6),CSVデータ2!AJ6,0)+IF(ISNUMBER(CSVデータ3!AJ6),CSVデータ3!AJ6,0)+IF(ISNUMBER(CSVデータ4!AJ6),CSVデータ4!AJ6,0)","v":169},null,{"$f":"IF(ISNUMBER(CSVデータ1!AL6),CSVデータ1!AL6,0)+IF(ISNUMBER(CSVデータ2!AL6),CSVデータ2!AL6,0)+IF(ISNUMBER(CSVデータ3!AL6),CSVデータ3!AL6,0)+IF(ISNUMBER(CSVデータ4!AL6),CSVデータ4!AL6,0)","v":54},null,{"$f":"IF(ISNUMBER(CSVデータ1!AN6),CSVデータ1!AN6,0)+IF(ISNUMBER(CSVデータ2!AN6),CSVデータ2!AN6,0)+IF(ISNUMBER(CSVデータ3!AN6),CSVデータ3!AN6,0)+IF(ISNUMBER(CSVデータ4!AN6),CSVデータ4!AN6,0)","v":94}]
[{"$f":"CSVデータ1!A7","v":"明細部"},{"$f":"CSVデータ1!B7","v":"国"},{"$f":"CSVデータ1!C7","v":43},{"$f":"CSVデータ1!D7","v":"男"},{"$f":"IF(ISNUMBER(CSVデータ1!E7),CSVデータ1!E7,0)+IF(ISNUMBER(CSVデータ2!E7),CSVデータ2!E7,0)+IF(ISNUMBER(CSVデータ3!E7),CSVデータ3!E7,0)+IF(ISNUMBER(CSVデータ4!E7),CSVデータ4!E7,0)","v":2139},{"$f":"IF(ISNUMBER(CSVデータ1!F7),CSVデータ1!F7,0)+IF(ISNUMBER(CSVデータ2!F7),CSVデータ2!F7,0)+IF(ISNUMBER(CSVデータ3!F7),CSVデータ3!F7,0)+IF(ISNUMBER(CSVデータ4!F7),CSVデータ4!F7,0)","v":776},null,{"$f":"IF(ISNUMBER(CSVデータ1!H7),CSVデータ1!H7,0)+IF(ISNUMBER(CSVデータ2!H7),CSVデータ2!H7,0)+IF(ISNUMBER(CSVデータ3!H7),CSVデータ3!H7,0)+IF(ISNUMBER(CSVデータ4!H7),CSVデータ4!H7,0)","v":977},null,{"$f":"IF(ISNUMBER(CSVデータ1!J7),CSVデータ1!J7,0)+IF(ISNUMBER(CSVデータ2!J7),CSVデータ2!J7,0)+IF(ISNUMBER(CSVデータ3!J7),CSVデータ3!J7,0)+IF(ISNUMBER(CSVデータ4!J7),CSVデータ4!J7,0)","v":447},null,{"$f":"IF(ISNUMBER(CSVデータ1!L7),CSVデータ1!L7,0)+IF(ISNUMBER(CSVデータ2!L7),CSVデータ2!L7,0)+IF(ISNUMBER(CSVデータ3!L7),CSVデータ3!L7,0)+IF(ISNUMBER(CSVデータ4!L7),CSVデータ4!L7,0)","v":735},null,{"$f":"IF(ISNUMBER(CSVデータ1!N7),CSVデータ1!N7,0)+IF(ISNUMBER(CSVデータ2!N7),CSVデータ2!N7,0)+IF(ISNUMBER(CSVデータ3!N7),CSVデータ3!N7,0)+IF(ISNUMBER(CSVデータ4!N7),CSVデータ4!N7,0)","v":161},null,{"$f":"IF(ISNUMBER(CSVデータ1!P7),CSVデータ1!P7,0)+IF(ISNUMBER(CSVデータ2!P7),CSVデータ2!P7,0)+IF(ISNUMBER(CSVデータ3!P7),CSVデータ3!P7,0)+IF(ISNUMBER(CSVデータ4!P7),CSVデータ4!P7,0)","v":331},null,{"$f":"IF(ISNUMBER(CSVデータ1!R7),CSVデータ1!R7,0)+IF(ISNUMBER(CSVデータ2!R7),CSVデータ2!R7,0)+IF(ISNUMBER(CSVデータ3!R7),CSVデータ3!R7,0)+IF(ISNUMBER(CSVデータ4!R7),CSVデータ4!R7,0)","v":716},null,{"$f":"IF(ISNUMBER(CSVデータ1!T7),CSVデータ1!T7,0)+IF(ISNUMBER(CSVデータ2!T7),CSVデータ2!T7,0)+IF(ISNUMBER(CSVデータ3!T7),CSVデータ3!T7,0)+IF(ISNUMBER(CSVデータ4!T7),CSVデータ4!T7,0)","v":330},null,{"$f":"IF(ISNUMBER(CSVデータ1!V7),CSVデータ1!V7,0)+IF(ISNUMBER(CSVデータ2!V7),CSVデータ2!V7,0)+IF(ISNUMBER(CSVデータ3!V7),CSVデータ3!V7,0)+IF(ISNUMBER(CSVデータ4!V7),CSVデータ4!V7,0)","v":566},null,{"$f":"IF(ISNUMBER(CSVデータ1!X7),CSVデータ1!X7,0)+IF(ISNUMBER(CSVデータ2!X7),CSVデータ2!X7,0)+IF(ISNUMBER(CSVデータ3!X7),CSVデータ3!X7,0)+IF(ISNUMBER(CSVデータ4!X7),CSVデータ4!X7,0)","v":463},null,{"$f":"IF(ISNUMBER(CSVデータ1!Z7),CSVデータ1!Z7,0)+IF(ISNUMBER(CSVデータ2!Z7),CSVデータ2!Z7,0)+IF(ISNUMBER(CSVデータ3!Z7),CSVデータ3!Z7,0)+IF(ISNUMBER(CSVデータ4!Z7),CSVデータ4!Z7,0)","v":1091},null,{"$f":"IF(ISNUMBER(CSVデータ1!AB7),CSVデータ1!AB7,0)+IF(ISNUMBER(CSVデータ2!AB7),CSVデータ2!AB7,0)+IF(ISNUMBER(CSVデータ3!AB7),CSVデータ3!AB7,0)+IF(ISNUMBER(CSVデータ4!AB7),CSVデータ4!AB7,0)","v":6},null,{"$f":"IF(ISNUMBER(CSVデータ1!AD7),CSVデータ1!AD7,0)+IF(ISNUMBER(CSVデータ2!AD7),CSVデータ2!AD7,0)+IF(ISNUMBER(CSVデータ3!AD7),CSVデータ3!AD7,0)+IF(ISNUMBER(CSVデータ4!AD7),CSVデータ4!AD7,0)","v":279},null,{"$f":"IF(ISNUMBER(CSVデータ1!AF7),CSVデータ1!AF7,0)+IF(ISNUMBER(CSVデータ2!AF7),CSVデータ2!AF7,0)+IF(ISNUMBER(CSVデータ3!AF7),CSVデータ3!AF7,0)+IF(ISNUMBER(CSVデータ4!AF7),CSVデータ4!AF7,0)","v":399},null,{"$f":"IF(ISNUMBER(CSVデータ1!AH7),CSVデータ1!AH7,0)+IF(ISNUMBER(CSVデータ2!AH7),CSVデータ2!AH7,0)+IF(ISNUMBER(CSVデータ3!AH7),CSVデータ3!AH7,0)+IF(ISNUMBER(CSVデータ4!AH7),CSVデータ4!AH7,0)","v":34},null,{"$f":"IF(ISNUMBER(CSVデータ1!AJ7),CSVデータ1!AJ7,0)+IF(ISNUMBER(CSVデータ2!AJ7),CSVデータ2!AJ7,0)+IF(ISNUMBER(CSVデータ3!AJ7),CSVデータ3!AJ7,0)+IF(ISNUMBER(CSVデータ4!AJ7),CSVデータ4!AJ7,0)","v":173},null,{"$f":"IF(ISNUMBER(CSVデータ1!AL7),CSVデータ1!AL7,0)+IF(ISNUMBER(CSVデータ2!AL7),CSVデータ2!AL7,0)+IF(ISNUMBER(CSVデータ3!AL7),CSVデータ3!AL7,0)+IF(ISNUMBER(CSVデータ4!AL7),CSVデータ4!AL7,0)","v":49},null,{"$f":"IF(ISNUMBER(CSVデータ1!AN7),CSVデータ1!AN7,0)+IF(ISNUMBER(CSVデータ2!AN7),CSVデータ2!AN7,0)+IF(ISNUMBER(CSVデータ3!AN7),CSVデータ3!AN7,0)+IF(ISNUMBER(CSVデータ4!AN7),CSVデータ4!AN7,0)","v":123}]
[{"$f":"CSVデータ1!A8","v":"明細部"},{"$f":"CSVデータ1!B8","v":"国"},{"$f":"CSVデータ1!C8","v":44},{"$f":"CSVデータ1!D8","v":"男"},{"$f":"IF(ISNUMBER(CSVデータ1!E8),CSVデータ1!E8,0)+IF(ISNUMBER(CSVデータ2!E8),CSVデータ2!E8,0)+IF(ISNUMBER(CSVデータ3!E8),CSVデータ3!E8,0)+IF(ISNUMBER(CSVデータ4!E8),CSVデータ4!E8,0)","v":2229},{"$f":"IF(ISNUMBER(CSVデータ1!F8),CSVデータ1!F8,0)+IF(ISNUMBER(CSVデータ2!F8),CSVデータ2!F8,0)+IF(ISNUMBER(CSVデータ3!F8),CSVデータ3!F8,0)+IF(ISNUMBER(CSVデータ4!F8),CSVデータ4!F8,0)","v":817},null,{"$f":"IF(ISNUMBER(CSVデータ1!H8),CSVデータ1!H8,0)+IF(ISNUMBER(CSVデータ2!H8),CSVデータ2!H8,0)+IF(ISNUMBER(CSVデータ3!H8),CSVデータ3!H8,0)+IF(ISNUMBER(CSVデータ4!H8),CSVデータ4!H8,0)","v":1063},null,{"$f":"IF(ISNUMBER(CSVデータ1!J8),CSVデータ1!J8,0)+IF(ISNUMBER(CSVデータ2!J8),CSVデータ2!J8,0)+IF(ISNUMBER(CSVデータ3!J8),CSVデータ3!J8,0)+IF(ISNUMBER(CSVデータ4!J8),CSVデータ4!J8,0)","v":510},null,{"$f":"IF(ISNUMBER(CSVデータ1!L8),CSVデータ1!L8,0)+IF(ISNUMBER(CSVデータ2!L8),CSVデータ2!L8,0)+IF(ISNUMBER(CSVデータ3!L8),CSVデータ3!L8,0)+IF(ISNUMBER(CSVデータ4!L8),CSVデータ4!L8,0)","v":751},null,{"$f":"IF(ISNUMBER(CSVデータ1!N8),CSVデータ1!N8,0)+IF(ISNUMBER(CSVデータ2!N8),CSVデータ2!N8,0)+IF(ISNUMBER(CSVデータ3!N8),CSVデータ3!N8,0)+IF(ISNUMBER(CSVデータ4!N8),CSVデータ4!N8,0)","v":173},null,{"$f":"IF(ISNUMBER(CSVデータ1!P8),CSVデータ1!P8,0)+IF(ISNUMBER(CSVデータ2!P8),CSVデータ2!P8,0)+IF(ISNUMBER(CSVデータ3!P8),CSVデータ3!P8,0)+IF(ISNUMBER(CSVデータ4!P8),CSVデータ4!P8,0)","v":400},null,{"$f":"IF(ISNUMBER(CSVデータ1!R8),CSVデータ1!R8,0)+IF(ISNUMBER(CSVデータ2!R8),CSVデータ2!R8,0)+IF(ISNUMBER(CSVデータ3!R8),CSVデータ3!R8,0)+IF(ISNUMBER(CSVデータ4!R8),CSVデータ4!R8,0)","v":771},null,{"$f":"IF(ISNUMBER(CSVデータ1!T8),CSVデータ1!T8,0)+IF(ISNUMBER(CSVデータ2!T8),CSVデータ2!T8,0)+IF(ISNUMBER(CSVデータ3!T8),CSVデータ3!T8,0)+IF(ISNUMBER(CSVデータ4!T8),CSVデータ4!T8,0)","v":340},null,{"$f":"IF(ISNUMBER(CSVデータ1!V8),CSVデータ1!V8,0)+IF(ISNUMBER(CSVデータ2!V8),CSVデータ2!V8,0)+IF(ISNUMBER(CSVデータ3!V8),CSVデータ3!V8,0)+IF(ISNUMBER(CSVデータ4!V8),CSVデータ4!V8,0)","v":593},null,{"$f":"IF(ISNUMBER(CSVデータ1!X8),CSVデータ1!X8,0)+IF(ISNUMBER(CSVデータ2!X8),CSVデータ2!X8,0)+IF(ISNUMBER(CSVデータ3!X8),CSVデータ3!X8,0)+IF(ISNUMBER(CSVデータ4!X8),CSVデータ4!X8,0)","v":504},null,{"$f":"IF(ISNUMBER(CSVデータ1!Z8),CSVデータ1!Z8,0)+IF(ISNUMBER(CSVデータ2!Z8),CSVデータ2!Z8,0)+IF(ISNUMBER(CSVデータ3!Z8),CSVデータ3!Z8,0)+IF(ISNUMBER(CSVデータ4!Z8),CSVデータ4!Z8,0)","v":1197},null,{"$f":"IF(ISNUMBER(CSVデータ1!AB8),CSVデータ1!AB8,0)+IF(ISNUMBER(CSVデータ2!AB8),CSVデータ2!AB8,0)+IF(ISNUMBER(CSVデータ3!AB8),CSVデータ3!AB8,0)+IF(ISNUMBER(CSVデータ4!AB8),CSVデータ4!AB8,0)","v":6},null,{"$f":"IF(ISNUMBER(CSVデータ1!AD8),CSVデータ1!AD8,0)+IF(ISNUMBER(CSVデータ2!AD8),CSVデータ2!AD8,0)+IF(ISNUMBER(CSVデータ3!AD8),CSVデータ3!AD8,0)+IF(ISNUMBER(CSVデータ4!AD8),CSVデータ4!AD8,0)","v":331},null,{"$f":"IF(ISNUMBER(CSVデータ1!AF8),CSVデータ1!AF8,0)+IF(ISNUMBER(CSVデータ2!AF8),CSVデータ2!AF8,0)+IF(ISNUMBER(CSVデータ3!AF8),CSVデータ3!AF8,0)+IF(ISNUMBER(CSVデータ4!AF8),CSVデータ4!AF8,0)","v":460},null,{"$f":"IF(ISNUMBER(CSVデータ1!AH8),CSVデータ1!AH8,0)+IF(ISNUMBER(CSVデータ2!AH8),CSVデータ2!AH8,0)+IF(ISNUMBER(CSVデータ3!AH8),CSVデータ3!AH8,0)+IF(ISNUMBER(CSVデータ4!AH8),CSVデータ4!AH8,0)","v":26},null,{"$f":"IF(ISNUMBER(CSVデータ1!AJ8),CSVデータ1!AJ8,0)+IF(ISNUMBER(CSVデータ2!AJ8),CSVデータ2!AJ8,0)+IF(ISNUMBER(CSVデータ3!AJ8),CSVデータ3!AJ8,0)+IF(ISNUMBER(CSVデータ4!AJ8),CSVデータ4!AJ8,0)","v":206},null,{"$f":"IF(ISNUMBER(CSVデータ1!AL8),CSVデータ1!AL8,0)+IF(ISNUMBER(CSVデータ2!AL8),CSVデータ2!AL8,0)+IF(ISNUMBER(CSVデータ3!AL8),CSVデータ3!AL8,0)+IF(ISNUMBER(CSVデータ4!AL8),CSVデータ4!AL8,0)","v":55},null,{"$f":"IF(ISNUMBER(CSVデータ1!AN8),CSVデータ1!AN8,0)+IF(ISNUMBER(CSVデータ2!AN8),CSVデータ2!AN8,0)+IF(ISNUMBER(CSVデータ3!AN8),CSVデータ3!AN8,0)+IF(ISNUMBER(CSVデータ4!AN8),CSVデータ4!AN8,0)","v":104}]
[{"$f":"CSVデータ1!A9","v":"明細部"},{"$f":"CSVデータ1!B9","v":"国"},{"$f":"CSVデータ1!C9","v":45},{"$f":"CSVデータ1!D9","v":"男"},{"$f":"IF(ISNUMBER(CSVデータ1!E9),CSVデータ1!E9,0)+IF(ISNUMBER(CSVデータ2!E9),CSVデータ2!E9,0)+IF(ISNUMBER(CSVデータ3!E9),CSVデータ3!E9,0)+IF(ISNUMBER(CSVデータ4!E9),CSVデータ4!E9,0)","v":2420},{"$f":"IF(ISNUMBER(CSVデータ1!F9),CSVデータ1!F9,0)+IF(ISNUMBER(CSVデータ2!F9),CSVデータ2!F9,0)+IF(ISNUMBER(CSVデータ3!F9),CSVデータ3!F9,0)+IF(ISNUMBER(CSVデータ4!F9),CSVデータ4!F9,0)","v":878},null,{"$f":"IF(ISNUMBER(CSVデータ1!H9),CSVデータ1!H9,0)+IF(ISNUMBER(CSVデータ2!H9),CSVデータ2!H9,0)+IF(ISNUMBER(CSVデータ3!H9),CSVデータ3!H9,0)+IF(ISNUMBER(CSVデータ4!H9),CSVデータ4!H9,0)","v":1133},null,{"$f":"IF(ISNUMBER(CSVデータ1!J9),CSVデータ1!J9,0)+IF(ISNUMBER(CSVデータ2!J9),CSVデータ2!J9,0)+IF(ISNUMBER(CSVデータ3!J9),CSVデータ3!J9,0)+IF(ISNUMBER(CSVデータ4!J9),CSVデータ4!J9,0)","v":518},null,{"$f":"IF(ISNUMBER(CSVデータ1!L9),CSVデータ1!L9,0)+IF(ISNUMBER(CSVデータ2!L9),CSVデータ2!L9,0)+IF(ISNUMBER(CSVデータ3!L9),CSVデータ3!L9,0)+IF(ISNUMBER(CSVデータ4!L9),CSVデータ4!L9,0)","v":819},null,{"$f":"IF(ISNUMBER(CSVデータ1!N9),CSVデータ1!N9,0)+IF(ISNUMBER(CSVデータ2!N9),CSVデータ2!N9,0)+IF(ISNUMBER(CSVデータ3!N9),CSVデータ3!N9,0)+IF(ISNUMBER(CSVデータ4!N9),CSVデータ4!N9,0)","v":182},null,{"$f":"IF(ISNUMBER(CSVデータ1!P9),CSVデータ1!P9,0)+IF(ISNUMBER(CSVデータ2!P9),CSVデータ2!P9,0)+IF(ISNUMBER(CSVデータ3!P9),CSVデータ3!P9,0)+IF(ISNUMBER(CSVデータ4!P9),CSVデータ4!P9,0)","v":447},null,{"$f":"IF(ISNUMBER(CSVデータ1!R9),CSVデータ1!R9,0)+IF(ISNUMBER(CSVデータ2!R9),CSVデータ2!R9,0)+IF(ISNUMBER(CSVデータ3!R9),CSVデータ3!R9,0)+IF(ISNUMBER(CSVデータ4!R9),CSVデータ4!R9,0)","v":893},null,{"$f":"IF(ISNUMBER(CSVデータ1!T9),CSVデータ1!T9,0)+IF(ISNUMBER(CSVデータ2!T9),CSVデータ2!T9,0)+IF(ISNUMBER(CSVデータ3!T9),CSVデータ3!T9,0)+IF(ISNUMBER(CSVデータ4!T9),CSVデータ4!T9,0)","v":352},null,{"$f":"IF(ISNUMBER(CSVデータ1!V9),CSVデータ1!V9,0)+IF(ISNUMBER(CSVデータ2!V9),CSVデータ2!V9,0)+IF(ISNUMBER(CSVデータ3!V9),CSVデータ3!V9,0)+IF(ISNUMBER(CSVデータ4!V9),CSVデータ4!V9,0)","v":698},null,{"$f":"IF(ISNUMBER(CSVデータ1!X9),CSVデータ1!X9,0)+IF(ISNUMBER(CSVデータ2!X9),CSVデータ2!X9,0)+IF(ISNUMBER(CSVデータ3!X9),CSVデータ3!X9,0)+IF(ISNUMBER(CSVデータ4!X9),CSVデータ4!X9,0)","v":612},null,{"$f":"IF(ISNUMBER(CSVデータ1!Z9),CSVデータ1!Z9,0)+IF(ISNUMBER(CSVデータ2!Z9),CSVデータ2!Z9,0)+IF(ISNUMBER(CSVデータ3!Z9),CSVデータ3!Z9,0)+IF(ISNUMBER(CSVデータ4!Z9),CSVデータ4!Z9,0)","v":1276},null,{"$f":"IF(ISNUMBER(CSVデータ1!AB9),CSVデータ1!AB9,0)+IF(ISNUMBER(CSVデータ2!AB9),CSVデータ2!AB9,0)+IF(ISNUMBER(CSVデータ3!AB9),CSVデータ3!AB9,0)+IF(ISNUMBER(CSVデータ4!AB9),CSVデータ4!AB9,0)","v":7},null,{"$f":"IF(ISNUMBER(CSVデータ1!AD9),CSVデータ1!AD9,0)+IF(ISNUMBER(CSVデータ2!AD9),CSVデータ2!AD9,0)+IF(ISNUMBER(CSVデータ3!AD9),CSVデータ3!AD9,0)+IF(ISNUMBER(CSVデータ4!AD9),CSVデータ4!AD9,0)","v":325},null,{"$f":"IF(ISNUMBER(CSVデータ1!AF9),CSVデータ1!AF9,0)+IF(ISNUMBER(CSVデータ2!AF9),CSVデータ2!AF9,0)+IF(ISNUMBER(CSVデータ3!AF9),CSVデータ3!AF9,0)+IF(ISNUMBER(CSVデータ4!AF9),CSVデータ4!AF9,0)","v":536},null,{"$f":"IF(ISNUMBER(CSVデータ1!AH9),CSVデータ1!AH9,0)+IF(ISNUMBER(CSVデータ2!AH9),CSVデータ2!AH9,0)+IF(ISNUMBER(CSVデータ3!AH9),CSVデータ3!AH9,0)+IF(ISNUMBER(CSVデータ4!AH9),CSVデータ4!AH9,0)","v":36},null,{"$f":"IF(ISNUMBER(CSVデータ1!AJ9),CSVデータ1!AJ9,0)+IF(ISNUMBER(CSVデータ2!AJ9),CSVデータ2!AJ9,0)+IF(ISNUMBER(CSVデータ3!AJ9),CSVデータ3!AJ9,0)+IF(ISNUMBER(CSVデータ4!AJ9),CSVデータ4!AJ9,0)","v":211},null,{"$f":"IF(ISNUMBER(CSVデータ1!AL9),CSVデータ1!AL9,0)+IF(ISNUMBER(CSVデータ2!AL9),CSVデータ2!AL9,0)+IF(ISNUMBER(CSVデータ3!AL9),CSVデータ3!AL9,0)+IF(ISNUMBER(CSVデータ4!AL9),CSVデータ4!AL9,0)","v":80},null,{"$f":"IF(ISNUMBER(CSVデータ1!AN9),CSVデータ1!AN9,0)+IF(ISNUMBER(CSVデータ2!AN9),CSVデータ2!AN9,0)+IF(ISNUMBER(CSVデータ3!AN9),CSVデータ3!AN9,0)+IF(ISNUMBER(CSVデータ4!AN9),CSVデータ4!AN9,0)","v":119}]
[{"$f":"CSVデータ1!A10","v":"明細部"},{"$f":"CSVデータ1!B10","v":"国"},{"$f":"CSVデータ1!C10","v":46},{"$f":"CSVデータ1!D10","v":"男"},{"$f":"IF(ISNUMBER(CSVデータ1!E10),CSVデータ1!E10,0)+IF(ISNUMBER(CSVデータ2!E10),CSVデータ2!E10,0)+IF(ISNUMBER(CSVデータ3!E10),CSVデータ3!E10,0)+IF(ISNUMBER(CSVデータ4!E10),CSVデータ4!E10,0)","v":2490},{"$f":"IF(ISNUMBER(CSVデータ1!F10),CSVデータ1!F10,0)+IF(ISNUMBER(CSVデータ2!F10),CSVデータ2!F10,0)+IF(ISNUMBER(CSVデータ3!F10),CSVデータ3!F10,0)+IF(ISNUMBER(CSVデータ4!F10),CSVデータ4!F10,0)","v":947},null,{"$f":"IF(ISNUMBER(CSVデータ1!H10),CSVデータ1!H10,0)+IF(ISNUMBER(CSVデータ2!H10),CSVデータ2!H10,0)+IF(ISNUMBER(CSVデータ3!H10),CSVデータ3!H10,0)+IF(ISNUMBER(CSVデータ4!H10),CSVデータ4!H10,0)","v":1212},null,{"$f":"IF(ISNUMBER(CSVデータ1!J10),CSVデータ1!J10,0)+IF(ISNUMBER(CSVデータ2!J10),CSVデータ2!J10,0)+IF(ISNUMBER(CSVデータ3!J10),CSVデータ3!J10,0)+IF(ISNUMBER(CSVデータ4!J10),CSVデータ4!J10,0)","v":542},null,{"$f":"IF(ISNUMBER(CSVデータ1!L10),CSVデータ1!L10,0)+IF(ISNUMBER(CSVデータ2!L10),CSVデータ2!L10,0)+IF(ISNUMBER(CSVデータ3!L10),CSVデータ3!L10,0)+IF(ISNUMBER(CSVデータ4!L10),CSVデータ4!L10,0)","v":809},null,{"$f":"IF(ISNUMBER(CSVデータ1!N10),CSVデータ1!N10,0)+IF(ISNUMBER(CSVデータ2!N10),CSVデータ2!N10,0)+IF(ISNUMBER(CSVデータ3!N10),CSVデータ3!N10,0)+IF(ISNUMBER(CSVデータ4!N10),CSVデータ4!N10,0)","v":176},null,{"$f":"IF(ISNUMBER(CSVデータ1!P10),CSVデータ1!P10,0)+IF(ISNUMBER(CSVデータ2!P10),CSVデータ2!P10,0)+IF(ISNUMBER(CSVデータ3!P10),CSVデータ3!P10,0)+IF(ISNUMBER(CSVデータ4!P10),CSVデータ4!P10,0)","v":479},null,{"$f":"IF(ISNUMBER(CSVデータ1!R10),CSVデータ1!R10,0)+IF(ISNUMBER(CSVデータ2!R10),CSVデータ2!R10,0)+IF(ISNUMBER(CSVデータ3!R10),CSVデータ3!R10,0)+IF(ISNUMBER(CSVデータ4!R10),CSVデータ4!R10,0)","v":905},null,{"$f":"IF(ISNUMBER(CSVデータ1!T10),CSVデータ1!T10,0)+IF(ISNUMBER(CSVデータ2!T10),CSVデータ2!T10,0)+IF(ISNUMBER(CSVデータ3!T10),CSVデータ3!T10,0)+IF(ISNUMBER(CSVデータ4!T10),CSVデータ4!T10,0)","v":362},null,{"$f":"IF(ISNUMBER(CSVデータ1!V10),CSVデータ1!V10,0)+IF(ISNUMBER(CSVデータ2!V10),CSVデータ2!V10,0)+IF(ISNUMBER(CSVデータ3!V10),CSVデータ3!V10,0)+IF(ISNUMBER(CSVデータ4!V10),CSVデータ4!V10,0)","v":713},null,{"$f":"IF(ISNUMBER(CSVデータ1!X10),CSVデータ1!X10,0)+IF(ISNUMBER(CSVデータ2!X10),CSVデータ2!X10,0)+IF(ISNUMBER(CSVデータ3!X10),CSVデータ3!X10,0)+IF(ISNUMBER(CSVデータ4!X10),CSVデータ4!X10,0)","v":651},null,{"$f":"IF(ISNUMBER(CSVデータ1!Z10),CSVデータ1!Z10,0)+IF(ISNUMBER(CSVデータ2!Z10),CSVデータ2!Z10,0)+IF(ISNUMBER(CSVデータ3!Z10),CSVデータ3!Z10,0)+IF(ISNUMBER(CSVデータ4!Z10),CSVデータ4!Z10,0)","v":1343},null,{"$f":"IF(ISNUMBER(CSVデータ1!AB10),CSVデータ1!AB10,0)+IF(ISNUMBER(CSVデータ2!AB10),CSVデータ2!AB10,0)+IF(ISNUMBER(CSVデータ3!AB10),CSVデータ3!AB10,0)+IF(ISNUMBER(CSVデータ4!AB10),CSVデータ4!AB10,0)","v":6},null,{"$f":"IF(ISNUMBER(CSVデータ1!AD10),CSVデータ1!AD10,0)+IF(ISNUMBER(CSVデータ2!AD10),CSVデータ2!AD10,0)+IF(ISNUMBER(CSVデータ3!AD10),CSVデータ3!AD10,0)+IF(ISNUMBER(CSVデータ4!AD10),CSVデータ4!AD10,0)","v":333},null,{"$f":"IF(ISNUMBER(CSVデータ1!AF10),CSVデータ1!AF10,0)+IF(ISNUMBER(CSVデータ2!AF10),CSVデータ2!AF10,0)+IF(ISNUMBER(CSVデータ3!AF10),CSVデータ3!AF10,0)+IF(ISNUMBER(CSVデータ4!AF10),CSVデータ4!AF10,0)","v":520},null,{"$f":"IF(ISNUMBER(CSVデータ1!AH10),CSVデータ1!AH10,0)+IF(ISNUMBER(CSVデータ2!AH10),CSVデータ2!AH10,0)+IF(ISNUMBER(CSVデータ3!AH10),CSVデータ3!AH10,0)+IF(ISNUMBER(CSVデータ4!AH10),CSVデータ4!AH10,0)","v":33},null,{"$f":"IF(ISNUMBER(CSVデータ1!AJ10),CSVデータ1!AJ10,0)+IF(ISNUMBER(CSVデータ2!AJ10),CSVデータ2!AJ10,0)+IF(ISNUMBER(CSVデータ3!AJ10),CSVデータ3!AJ10,0)+IF(ISNUMBER(CSVデータ4!AJ10),CSVデータ4!AJ10,0)","v":217},null,{"$f":"IF(ISNUMBER(CSVデータ1!AL10),CSVデータ1!AL10,0)+IF(ISNUMBER(CSVデータ2!AL10),CSVデータ2!AL10,0)+IF(ISNUMBER(CSVデータ3!AL10),CSVデータ3!AL10,0)+IF(ISNUMBER(CSVデータ4!AL10),CSVデータ4!AL10,0)","v":92},null,{"$f":"IF(ISNUMBER(CSVデータ1!AN10),CSVデータ1!AN10,0)+IF(ISNUMBER(CSVデータ2!AN10),CSVデータ2!AN10,0)+IF(ISNUMBER(CSVデータ3!AN10),CSVデータ3!AN10,0)+IF(ISNUMBER(CSVデータ4!AN10),CSVデータ4!AN10,0)","v":131}]
[{"$f":"CSVデータ1!A11","v":"明細部"},{"$f":"CSVデータ1!B11","v":"国"},{"$f":"CSVデータ1!C11","v":47},{"$f":"CSVデータ1!D11","v":"男"},{"$f":"IF(ISNUMBER(CSVデータ1!E11),CSVデータ1!E11,0)+IF(ISNUMBER(CSVデータ2!E11),CSVデータ2!E11,0)+IF(ISNUMBER(CSVデータ3!E11),CSVデータ3!E11,0)+IF(ISNUMBER(CSVデータ4!E11),CSVデータ4!E11,0)","v":2623},{"$f":"IF(ISNUMBER(CSVデータ1!F11),CSVデータ1!F11,0)+IF(ISNUMBER(CSVデータ2!F11),CSVデータ2!F11,0)+IF(ISNUMBER(CSVデータ3!F11),CSVデータ3!F11,0)+IF(ISNUMBER(CSVデータ4!F11),CSVデータ4!F11,0)","v":1026},null,{"$f":"IF(ISNUMBER(CSVデータ1!H11),CSVデータ1!H11,0)+IF(ISNUMBER(CSVデータ2!H11),CSVデータ2!H11,0)+IF(ISNUMBER(CSVデータ3!H11),CSVデータ3!H11,0)+IF(ISNUMBER(CSVデータ4!H11),CSVデータ4!H11,0)","v":1322},null,{"$f":"IF(ISNUMBER(CSVデータ1!J11),CSVデータ1!J11,0)+IF(ISNUMBER(CSVデータ2!J11),CSVデータ2!J11,0)+IF(ISNUMBER(CSVデータ3!J11),CSVデータ3!J11,0)+IF(ISNUMBER(CSVデータ4!J11),CSVデータ4!J11,0)","v":583},null,{"$f":"IF(ISNUMBER(CSVデータ1!L11),CSVデータ1!L11,0)+IF(ISNUMBER(CSVデータ2!L11),CSVデータ2!L11,0)+IF(ISNUMBER(CSVデータ3!L11),CSVデータ3!L11,0)+IF(ISNUMBER(CSVデータ4!L11),CSVデータ4!L11,0)","v":891},null,{"$f":"IF(ISNUMBER(CSVデータ1!N11),CSVデータ1!N11,0)+IF(ISNUMBER(CSVデータ2!N11),CSVデータ2!N11,0)+IF(ISNUMBER(CSVデータ3!N11),CSVデータ3!N11,0)+IF(ISNUMBER(CSVデータ4!N11),CSVデータ4!N11,0)","v":200},null,{"$f":"IF(ISNUMBER(CSVデータ1!P11),CSVデータ1!P11,0)+IF(ISNUMBER(CSVデータ2!P11),CSVデータ2!P11,0)+IF(ISNUMBER(CSVデータ3!P11),CSVデータ3!P11,0)+IF(ISNUMBER(CSVデータ4!P11),CSVデータ4!P11,0)","v":507},null,{"$f":"IF(ISNUMBER(CSVデータ1!R11),CSVデータ1!R11,0)+IF(ISNUMBER(CSVデータ2!R11),CSVデータ2!R11,0)+IF(ISNUMBER(CSVデータ3!R11),CSVデータ3!R11,0)+IF(ISNUMBER(CSVデータ4!R11),CSVデータ4!R11,0)","v":1049},null,{"$f":"IF(ISNUMBER(CSVデータ1!T11),CSVデータ1!T11,0)+IF(ISNUMBER(CSVデータ2!T11),CSVデータ2!T11,0)+IF(ISNUMBER(CSVデータ3!T11),CSVデータ3!T11,0)+IF(ISNUMBER(CSVデータ4!T11),CSVデータ4!T11,0)","v":403},null,{"$f":"IF(ISNUMBER(CSVデータ1!V11),CSVデータ1!V11,0)+IF(ISNUMBER(CSVデータ2!V11),CSVデータ2!V11,0)+IF(ISNUMBER(CSVデータ3!V11),CSVデータ3!V11,0)+IF(ISNUMBER(CSVデータ4!V11),CSVデータ4!V11,0)","v":790},null,{"$f":"IF(ISNUMBER(CSVデータ1!X11),CSVデータ1!X11,0)+IF(ISNUMBER(CSVデータ2!X11),CSVデータ2!X11,0)+IF(ISNUMBER(CSVデータ3!X11),CSVデータ3!X11,0)+IF(ISNUMBER(CSVデータ4!X11),CSVデータ4!X11,0)","v":708},null,{"$f":"IF(ISNUMBER(CSVデータ1!Z11),CSVデータ1!Z11,0)+IF(ISNUMBER(CSVデータ2!Z11),CSVデータ2!Z11,0)+IF(ISNUMBER(CSVデータ3!Z11),CSVデータ3!Z11,0)+IF(ISNUMBER(CSVデータ4!Z11),CSVデータ4!Z11,0)","v":1459},null,{"$f":"IF(ISNUMBER(CSVデータ1!AB11),CSVデータ1!AB11,0)+IF(ISNUMBER(CSVデータ2!AB11),CSVデータ2!AB11,0)+IF(ISNUMBER(CSVデータ3!AB11),CSVデータ3!AB11,0)+IF(ISNUMBER(CSVデータ4!AB11),CSVデータ4!AB11,0)","v":9},null,{"$f":"IF(ISNUMBER(CSVデータ1!AD11),CSVデータ1!AD11,0)+IF(ISNUMBER(CSVデータ2!AD11),CSVデータ2!AD11,0)+IF(ISNUMBER(CSVデータ3!AD11),CSVデータ3!AD11,0)+IF(ISNUMBER(CSVデータ4!AD11),CSVデータ4!AD11,0)","v":353},null,{"$f":"IF(ISNUMBER(CSVデータ1!AF11),CSVデータ1!AF11,0)+IF(ISNUMBER(CSVデータ2!AF11),CSVデータ2!AF11,0)+IF(ISNUMBER(CSVデータ3!AF11),CSVデータ3!AF11,0)+IF(ISNUMBER(CSVデータ4!AF11),CSVデータ4!AF11,0)","v":576},null,{"$f":"IF(ISNUMBER(CSVデータ1!AH11),CSVデータ1!AH11,0)+IF(ISNUMBER(CSVデータ2!AH11),CSVデータ2!AH11,0)+IF(ISNUMBER(CSVデータ3!AH11),CSVデータ3!AH11,0)+IF(ISNUMBER(CSVデータ4!AH11),CSVデータ4!AH11,0)","v":48},null,{"$f":"IF(ISNUMBER(CSVデータ1!AJ11),CSVデータ1!AJ11,0)+IF(ISNUMBER(CSVデータ2!AJ11),CSVデータ2!AJ11,0)+IF(ISNUMBER(CSVデータ3!AJ11),CSVデータ3!AJ11,0)+IF(ISNUMBER(CSVデータ4!AJ11),CSVデータ4!AJ11,0)","v":246},null,{"$f":"IF(ISNUMBER(CSVデータ1!AL11),CSVデータ1!AL11,0)+IF(ISNUMBER(CSVデータ2!AL11),CSVデータ2!AL11,0)+IF(ISNUMBER(CSVデータ3!AL11),CSVデータ3!AL11,0)+IF(ISNUMBER(CSVデータ4!AL11),CSVデータ4!AL11,0)","v":107},null,{"$f":"IF(ISNUMBER(CSVデータ1!AN11),CSVデータ1!AN11,0)+IF(ISNUMBER(CSVデータ2!AN11),CSVデータ2!AN11,0)+IF(ISNUMBER(CSVデータ3!AN11),CSVデータ3!AN11,0)+IF(ISNUMBER(CSVデータ4!AN11),CSVデータ4!AN11,0)","v":172}]
[{"$f":"CSVデータ1!A12","v":"明細部"},{"$f":"CSVデータ1!B12","v":"国"},{"$f":"CSVデータ1!C12","v":48},{"$f":"CSVデータ1!D12","v":"男"},{"$f":"IF(ISNUMBER(CSVデータ1!E12),CSVデータ1!E12,0)+IF(ISNUMBER(CSVデータ2!E12),CSVデータ2!E12,0)+IF(ISNUMBER(CSVデータ3!E12),CSVデータ3!E12,0)+IF(ISNUMBER(CSVデータ4!E12),CSVデータ4!E12,0)","v":2703},{"$f":"IF(ISNUMBER(CSVデータ1!F12),CSVデータ1!F12,0)+IF(ISNUMBER(CSVデータ2!F12),CSVデータ2!F12,0)+IF(ISNUMBER(CSVデータ3!F12),CSVデータ3!F12,0)+IF(ISNUMBER(CSVデータ4!F12),CSVデータ4!F12,0)","v":1080},null,{"$f":"IF(ISNUMBER(CSVデータ1!H12),CSVデータ1!H12,0)+IF(ISNUMBER(CSVデータ2!H12),CSVデータ2!H12,0)+IF(ISNUMBER(CSVデータ3!H12),CSVデータ3!H12,0)+IF(ISNUMBER(CSVデータ4!H12),CSVデータ4!H12,0)","v":1371},null,{"$f":"IF(ISNUMBER(CSVデータ1!J12),CSVデータ1!J12,0)+IF(ISNUMBER(CSVデータ2!J12),CSVデータ2!J12,0)+IF(ISNUMBER(CSVデータ3!J12),CSVデータ3!J12,0)+IF(ISNUMBER(CSVデータ4!J12),CSVデータ4!J12,0)","v":680},null,{"$f":"IF(ISNUMBER(CSVデータ1!L12),CSVデータ1!L12,0)+IF(ISNUMBER(CSVデータ2!L12),CSVデータ2!L12,0)+IF(ISNUMBER(CSVデータ3!L12),CSVデータ3!L12,0)+IF(ISNUMBER(CSVデータ4!L12),CSVデータ4!L12,0)","v":861},null,{"$f":"IF(ISNUMBER(CSVデータ1!N12),CSVデータ1!N12,0)+IF(ISNUMBER(CSVデータ2!N12),CSVデータ2!N12,0)+IF(ISNUMBER(CSVデータ3!N12),CSVデータ3!N12,0)+IF(ISNUMBER(CSVデータ4!N12),CSVデータ4!N12,0)","v":201},null,{"$f":"IF(ISNUMBER(CSVデータ1!P12),CSVデータ1!P12,0)+IF(ISNUMBER(CSVデータ2!P12),CSVデータ2!P12,0)+IF(ISNUMBER(CSVデータ3!P12),CSVデータ3!P12,0)+IF(ISNUMBER(CSVデータ4!P12),CSVデータ4!P12,0)","v":572},null,{"$f":"IF(ISNUMBER(CSVデータ1!R12),CSVデータ1!R12,0)+IF(ISNUMBER(CSVデータ2!R12),CSVデータ2!R12,0)+IF(ISNUMBER(CSVデータ3!R12),CSVデータ3!R12,0)+IF(ISNUMBER(CSVデータ4!R12),CSVデータ4!R12,0)","v":1131},null,{"$f":"IF(ISNUMBER(CSVデータ1!T12),CSVデータ1!T12,0)+IF(ISNUMBER(CSVデータ2!T12),CSVデータ2!T12,0)+IF(ISNUMBER(CSVデータ3!T12),CSVデータ3!T12,0)+IF(ISNUMBER(CSVデータ4!T12),CSVデータ4!T12,0)","v":410},null,{"$f":"IF(ISNUMBER(CSVデータ1!V12),CSVデータ1!V12,0)+IF(ISNUMBER(CSVデータ2!V12),CSVデータ2!V12,0)+IF(ISNUMBER(CSVデータ3!V12),CSVデータ3!V12,0)+IF(ISNUMBER(CSVデータ4!V12),CSVデータ4!V12,0)","v":878},null,{"$f":"IF(ISNUMBER(CSVデータ1!X12),CSVデータ1!X12,0)+IF(ISNUMBER(CSVデータ2!X12),CSVデータ2!X12,0)+IF(ISNUMBER(CSVデータ3!X12),CSVデータ3!X12,0)+IF(ISNUMBER(CSVデータ4!X12),CSVデータ4!X12,0)","v":821},null,{"$f":"IF(ISNUMBER(CSVデータ1!Z12),CSVデータ1!Z12,0)+IF(ISNUMBER(CSVデータ2!Z12),CSVデータ2!Z12,0)+IF(ISNUMBER(CSVデータ3!Z12),CSVデータ3!Z12,0)+IF(ISNUMBER(CSVデータ4!Z12),CSVデータ4!Z12,0)","v":1455},null,{"$f":"IF(ISNUMBER(CSVデータ1!AB12),CSVデータ1!AB12,0)+IF(ISNUMBER(CSVデータ2!AB12),CSVデータ2!AB12,0)+IF(ISNUMBER(CSVデータ3!AB12),CSVデータ3!AB12,0)+IF(ISNUMBER(CSVデータ4!AB12),CSVデータ4!AB12,0)","v":13},null,{"$f":"IF(ISNUMBER(CSVデータ1!AD12),CSVデータ1!AD12,0)+IF(ISNUMBER(CSVデータ2!AD12),CSVデータ2!AD12,0)+IF(ISNUMBER(CSVデータ3!AD12),CSVデータ3!AD12,0)+IF(ISNUMBER(CSVデータ4!AD12),CSVデータ4!AD12,0)","v":382},null,{"$f":"IF(ISNUMBER(CSVデータ1!AF12),CSVデータ1!AF12,0)+IF(ISNUMBER(CSVデータ2!AF12),CSVデータ2!AF12,0)+IF(ISNUMBER(CSVデータ3!AF12),CSVデータ3!AF12,0)+IF(ISNUMBER(CSVデータ4!AF12),CSVデータ4!AF12,0)","v":563},null,{"$f":"IF(ISNUMBER(CSVデータ1!AH12),CSVデータ1!AH12,0)+IF(ISNUMBER(CSVデータ2!AH12),CSVデータ2!AH12,0)+IF(ISNUMBER(CSVデータ3!AH12),CSVデータ3!AH12,0)+IF(ISNUMBER(CSVデータ4!AH12),CSVデータ4!AH12,0)","v":49},null,{"$f":"IF(ISNUMBER(CSVデータ1!AJ12),CSVデータ1!AJ12,0)+IF(ISNUMBER(CSVデータ2!AJ12),CSVデータ2!AJ12,0)+IF(ISNUMBER(CSVデータ3!AJ12),CSVデータ3!AJ12,0)+IF(ISNUMBER(CSVデータ4!AJ12),CSVデータ4!AJ12,0)","v":241},null,{"$f":"IF(ISNUMBER(CSVデータ1!AL12),CSVデータ1!AL12,0)+IF(ISNUMBER(CSVデータ2!AL12),CSVデータ2!AL12,0)+IF(ISNUMBER(CSVデータ3!AL12),CSVデータ3!AL12,0)+IF(ISNUMBER(CSVデータ4!AL12),CSVデータ4!AL12,0)","v":134},null,{"$f":"IF(ISNUMBER(CSVデータ1!AN12),CSVデータ1!AN12,0)+IF(ISNUMBER(CSVデータ2!AN12),CSVデータ2!AN12,0)+IF(ISNUMBER(CSVデータ3!AN12),CSVデータ3!AN12,0)+IF(ISNUMBER(CSVデータ4!AN12),CSVデータ4!AN12,0)","v":159}]
[{"$f":"CSVデータ1!A13","v":"明細部"},{"$f":"CSVデータ1!B13","v":"国"},{"$f":"CSVデータ1!C13","v":49},{"$f":"CSVデータ1!D13","v":"男"},{"$f":"IF(ISNUMBER(CSVデータ1!E13),CSVデータ1!E13,0)+IF(ISNUMBER(CSVデータ2!E13),CSVデータ2!E13,0)+IF(ISNUMBER(CSVデータ3!E13),CSVデータ3!E13,0)+IF(ISNUMBER(CSVデータ4!E13),CSVデータ4!E13,0)","v":2984},{"$f":"IF(ISNUMBER(CSVデータ1!F13),CSVデータ1!F13,0)+IF(ISNUMBER(CSVデータ2!F13),CSVデータ2!F13,0)+IF(ISNUMBER(CSVデータ3!F13),CSVデータ3!F13,0)+IF(ISNUMBER(CSVデータ4!F13),CSVデータ4!F13,0)","v":1209},null,{"$f":"IF(ISNUMBER(CSVデータ1!H13),CSVデータ1!H13,0)+IF(ISNUMBER(CSVデータ2!H13),CSVデータ2!H13,0)+IF(ISNUMBER(CSVデータ3!H13),CSVデータ3!H13,0)+IF(ISNUMBER(CSVデータ4!H13),CSVデータ4!H13,0)","v":1497},null,{"$f":"IF(ISNUMBER(CSVデータ1!J13),CSVデータ1!J13,0)+IF(ISNUMBER(CSVデータ2!J13),CSVデータ2!J13,0)+IF(ISNUMBER(CSVデータ3!J13),CSVデータ3!J13,0)+IF(ISNUMBER(CSVデータ4!J13),CSVデータ4!J13,0)","v":734},null,{"$f":"IF(ISNUMBER(CSVデータ1!L13),CSVデータ1!L13,0)+IF(ISNUMBER(CSVデータ2!L13),CSVデータ2!L13,0)+IF(ISNUMBER(CSVデータ3!L13),CSVデータ3!L13,0)+IF(ISNUMBER(CSVデータ4!L13),CSVデータ4!L13,0)","v":951},null,{"$f":"IF(ISNUMBER(CSVデータ1!N13),CSVデータ1!N13,0)+IF(ISNUMBER(CSVデータ2!N13),CSVデータ2!N13,0)+IF(ISNUMBER(CSVデータ3!N13),CSVデータ3!N13,0)+IF(ISNUMBER(CSVデータ4!N13),CSVデータ4!N13,0)","v":221},null,{"$f":"IF(ISNUMBER(CSVデータ1!P13),CSVデータ1!P13,0)+IF(ISNUMBER(CSVデータ2!P13),CSVデータ2!P13,0)+IF(ISNUMBER(CSVデータ3!P13),CSVデータ3!P13,0)+IF(ISNUMBER(CSVデータ4!P13),CSVデータ4!P13,0)","v":627},null,{"$f":"IF(ISNUMBER(CSVデータ1!R13),CSVデータ1!R13,0)+IF(ISNUMBER(CSVデータ2!R13),CSVデータ2!R13,0)+IF(ISNUMBER(CSVデータ3!R13),CSVデータ3!R13,0)+IF(ISNUMBER(CSVデータ4!R13),CSVデータ4!R13,0)","v":1274},null,{"$f":"IF(ISNUMBER(CSVデータ1!T13),CSVデータ1!T13,0)+IF(ISNUMBER(CSVデータ2!T13),CSVデータ2!T13,0)+IF(ISNUMBER(CSVデータ3!T13),CSVデータ3!T13,0)+IF(ISNUMBER(CSVデータ4!T13),CSVデータ4!T13,0)","v":421},null,{"$f":"IF(ISNUMBER(CSVデータ1!V13),CSVデータ1!V13,0)+IF(ISNUMBER(CSVデータ2!V13),CSVデータ2!V13,0)+IF(ISNUMBER(CSVデータ3!V13),CSVデータ3!V13,0)+IF(ISNUMBER(CSVデータ4!V13),CSVデータ4!V13,0)","v":1014},null,{"$f":"IF(ISNUMBER(CSVデータ1!X13),CSVデータ1!X13,0)+IF(ISNUMBER(CSVデータ2!X13),CSVデータ2!X13,0)+IF(ISNUMBER(CSVデータ3!X13),CSVデータ3!X13,0)+IF(ISNUMBER(CSVデータ4!X13),CSVデータ4!X13,0)","v":936},null,{"$f":"IF(ISNUMBER(CSVデータ1!Z13),CSVデータ1!Z13,0)+IF(ISNUMBER(CSVデータ2!Z13),CSVデータ2!Z13,0)+IF(ISNUMBER(CSVデータ3!Z13),CSVデータ3!Z13,0)+IF(ISNUMBER(CSVデータ4!Z13),CSVデータ4!Z13,0)","v":1640},null,{"$f":"IF(ISNUMBER(CSVデータ1!AB13),CSVデータ1!AB13,0)+IF(ISNUMBER(CSVデータ2!AB13),CSVデータ2!AB13,0)+IF(ISNUMBER(CSVデータ3!AB13),CSVデータ3!AB13,0)+IF(ISNUMBER(CSVデータ4!AB13),CSVデータ4!AB13,0)","v":12},null,{"$f":"IF(ISNUMBER(CSVデータ1!AD13),CSVデータ1!AD13,0)+IF(ISNUMBER(CSVデータ2!AD13),CSVデータ2!AD13,0)+IF(ISNUMBER(CSVデータ3!AD13),CSVデータ3!AD13,0)+IF(ISNUMBER(CSVデータ4!AD13),CSVデータ4!AD13,0)","v":417},null,{"$f":"IF(ISNUMBER(CSVデータ1!AF13),CSVデータ1!AF13,0)+IF(ISNUMBER(CSVデータ2!AF13),CSVデータ2!AF13,0)+IF(ISNUMBER(CSVデータ3!AF13),CSVデータ3!AF13,0)+IF(ISNUMBER(CSVデータ4!AF13),CSVデータ4!AF13,0)","v":646},null,{"$f":"IF(ISNUMBER(CSVデータ1!AH13),CSVデータ1!AH13,0)+IF(ISNUMBER(CSVデータ2!AH13),CSVデータ2!AH13,0)+IF(ISNUMBER(CSVデータ3!AH13),CSVデータ3!AH13,0)+IF(ISNUMBER(CSVデータ4!AH13),CSVデータ4!AH13,0)","v":54},null,{"$f":"IF(ISNUMBER(CSVデータ1!AJ13),CSVデータ1!AJ13,0)+IF(ISNUMBER(CSVデータ2!AJ13),CSVデータ2!AJ13,0)+IF(ISNUMBER(CSVデータ3!AJ13),CSVデータ3!AJ13,0)+IF(ISNUMBER(CSVデータ4!AJ13),CSVデータ4!AJ13,0)","v":272},null,{"$f":"IF(ISNUMBER(CSVデータ1!AL13),CSVデータ1!AL13,0)+IF(ISNUMBER(CSVデータ2!AL13),CSVデータ2!AL13,0)+IF(ISNUMBER(CSVデータ3!AL13),CSVデータ3!AL13,0)+IF(ISNUMBER(CSVデータ4!AL13),CSVデータ4!AL13,0)","v":164},null,{"$f":"IF(ISNUMBER(CSVデータ1!AN13),CSVデータ1!AN13,0)+IF(ISNUMBER(CSVデータ2!AN13),CSVデータ2!AN13,0)+IF(ISNUMBER(CSVデータ3!AN13),CSVデータ3!AN13,0)+IF(ISNUMBER(CSVデータ4!AN13),CSVデータ4!AN13,0)","v":186}]
[{"$f":"CSVデータ1!A14","v":"明細部"},{"$f":"CSVデータ1!B14","v":"国"},{"$f":"CSVデータ1!C14","v":50},{"$f":"CSVデータ1!D14","v":"男"},{"$f":"IF(ISNUMBER(CSVデータ1!E14),CSVデータ1!E14,0)+IF(ISNUMBER(CSVデータ2!E14),CSVデータ2!E14,0)+IF(ISNUMBER(CSVデータ3!E14),CSVデータ3!E14,0)+IF(ISNUMBER(CSVデータ4!E14),CSVデータ4!E14,0)","v":3341},{"$f":"IF(ISNUMBER(CSVデータ1!F14),CSVデータ1!F14,0)+IF(ISNUMBER(CSVデータ2!F14),CSVデータ2!F14,0)+IF(ISNUMBER(CSVデータ3!F14),CSVデータ3!F14,0)+IF(ISNUMBER(CSVデータ4!F14),CSVデータ4!F14,0)","v":1347},null,{"$f":"IF(ISNUMBER(CSVデータ1!H14),CSVデータ1!H14,0)+IF(ISNUMBER(CSVデータ2!H14),CSVデータ2!H14,0)+IF(ISNUMBER(CSVデータ3!H14),CSVデータ3!H14,0)+IF(ISNUMBER(CSVデータ4!H14),CSVデータ4!H14,0)","v":1727},null,{"$f":"IF(ISNUMBER(CSVデータ1!J14),CSVデータ1!J14,0)+IF(ISNUMBER(CSVデータ2!J14),CSVデータ2!J14,0)+IF(ISNUMBER(CSVデータ3!J14),CSVデータ3!J14,0)+IF(ISNUMBER(CSVデータ4!J14),CSVデータ4!J14,0)","v":797},null,{"$f":"IF(ISNUMBER(CSVデータ1!L14),CSVデータ1!L14,0)+IF(ISNUMBER(CSVデータ2!L14),CSVデータ2!L14,0)+IF(ISNUMBER(CSVデータ3!L14),CSVデータ3!L14,0)+IF(ISNUMBER(CSVデータ4!L14),CSVデータ4!L14,0)","v":998},null,{"$f":"IF(ISNUMBER(CSVデータ1!N14),CSVデータ1!N14,0)+IF(ISNUMBER(CSVデータ2!N14),CSVデータ2!N14,0)+IF(ISNUMBER(CSVデータ3!N14),CSVデータ3!N14,0)+IF(ISNUMBER(CSVデータ4!N14),CSVデータ4!N14,0)","v":247},null,{"$f":"IF(ISNUMBER(CSVデータ1!P14),CSVデータ1!P14,0)+IF(ISNUMBER(CSVデータ2!P14),CSVデータ2!P14,0)+IF(ISNUMBER(CSVデータ3!P14),CSVデータ3!P14,0)+IF(ISNUMBER(CSVデータ4!P14),CSVデータ4!P14,0)","v":739},null,{"$f":"IF(ISNUMBER(CSVデータ1!R14),CSVデータ1!R14,0)+IF(ISNUMBER(CSVデータ2!R14),CSVデータ2!R14,0)+IF(ISNUMBER(CSVデータ3!R14),CSVデータ3!R14,0)+IF(ISNUMBER(CSVデータ4!R14),CSVデータ4!R14,0)","v":1460},null,{"$f":"IF(ISNUMBER(CSVデータ1!T14),CSVデータ1!T14,0)+IF(ISNUMBER(CSVデータ2!T14),CSVデータ2!T14,0)+IF(ISNUMBER(CSVデータ3!T14),CSVデータ3!T14,0)+IF(ISNUMBER(CSVデータ4!T14),CSVデータ4!T14,0)","v":464},null,{"$f":"IF(ISNUMBER(CSVデータ1!V14),CSVデータ1!V14,0)+IF(ISNUMBER(CSVデータ2!V14),CSVデータ2!V14,0)+IF(ISNUMBER(CSVデータ3!V14),CSVデータ3!V14,0)+IF(ISNUMBER(CSVデータ4!V14),CSVデータ4!V14,0)","v":1155},null,{"$f":"IF(ISNUMBER(CSVデータ1!X14),CSVデータ1!X14,0)+IF(ISNUMBER(CSVデータ2!X14),CSVデータ2!X14,0)+IF(ISNUMBER(CSVデータ3!X14),CSVデータ3!X14,0)+IF(ISNUMBER(CSVデータ4!X14),CSVデータ4!X14,0)","v":1065},null,{"$f":"IF(ISNUMBER(CSVデータ1!Z14),CSVデータ1!Z14,0)+IF(ISNUMBER(CSVデータ2!Z14),CSVデータ2!Z14,0)+IF(ISNUMBER(CSVデータ3!Z14),CSVデータ3!Z14,0)+IF(ISNUMBER(CSVデータ4!Z14),CSVデータ4!Z14,0)","v":1827},null,{"$f":"IF(ISNUMBER(CSVデータ1!AB14),CSVデータ1!AB14,0)+IF(ISNUMBER(CSVデータ2!AB14),CSVデータ2!AB14,0)+IF(ISNUMBER(CSVデータ3!AB14),CSVデータ3!AB14,0)+IF(ISNUMBER(CSVデータ4!AB14),CSVデータ4!AB14,0)","v":28},null,{"$f":"IF(ISNUMBER(CSVデータ1!AD14),CSVデータ1!AD14,0)+IF(ISNUMBER(CSVデータ2!AD14),CSVデータ2!AD14,0)+IF(ISNUMBER(CSVデータ3!AD14),CSVデータ3!AD14,0)+IF(ISNUMBER(CSVデータ4!AD14),CSVデータ4!AD14,0)","v":496},null,{"$f":"IF(ISNUMBER(CSVデータ1!AF14),CSVデータ1!AF14,0)+IF(ISNUMBER(CSVデータ2!AF14),CSVデータ2!AF14,0)+IF(ISNUMBER(CSVデータ3!AF14),CSVデータ3!AF14,0)+IF(ISNUMBER(CSVデータ4!AF14),CSVデータ4!AF14,0)","v":738},null,{"$f":"IF(ISNUMBER(CSVデータ1!AH14),CSVデータ1!AH14,0)+IF(ISNUMBER(CSVデータ2!AH14),CSVデータ2!AH14,0)+IF(ISNUMBER(CSVデータ3!AH14),CSVデータ3!AH14,0)+IF(ISNUMBER(CSVデータ4!AH14),CSVデータ4!AH14,0)","v":63},null,{"$f":"IF(ISNUMBER(CSVデータ1!AJ14),CSVデータ1!AJ14,0)+IF(ISNUMBER(CSVデータ2!AJ14),CSVデータ2!AJ14,0)+IF(ISNUMBER(CSVデータ3!AJ14),CSVデータ3!AJ14,0)+IF(ISNUMBER(CSVデータ4!AJ14),CSVデータ4!AJ14,0)","v":289},null,{"$f":"IF(ISNUMBER(CSVデータ1!AL14),CSVデータ1!AL14,0)+IF(ISNUMBER(CSVデータ2!AL14),CSVデータ2!AL14,0)+IF(ISNUMBER(CSVデータ3!AL14),CSVデータ3!AL14,0)+IF(ISNUMBER(CSVデータ4!AL14),CSVデータ4!AL14,0)","v":203},null,{"$f":"IF(ISNUMBER(CSVデータ1!AN14),CSVデータ1!AN14,0)+IF(ISNUMBER(CSVデータ2!AN14),CSVデータ2!AN14,0)+IF(ISNUMBER(CSVデータ3!AN14),CSVデータ3!AN14,0)+IF(ISNUMBER(CSVデータ4!AN14),CSVデータ4!AN14,0)","v":191}]
[{"$f":"CSVデータ1!A15","v":"明細部"},{"$f":"CSVデータ1!B15","v":"国"},{"$f":"CSVデータ1!C15","v":51},{"$f":"CSVデータ1!D15","v":"男"},{"$f":"IF(ISNUMBER(CSVデータ1!E15),CSVデータ1!E15,0)+IF(ISNUMBER(CSVデータ2!E15),CSVデータ2!E15,0)+IF(ISNUMBER(CSVデータ3!E15),CSVデータ3!E15,0)+IF(ISNUMBER(CSVデータ4!E15),CSVデータ4!E15,0)","v":3366},{"$f":"IF(ISNUMBER(CSVデータ1!F15),CSVデータ1!F15,0)+IF(ISNUMBER(CSVデータ2!F15),CSVデータ2!F15,0)+IF(ISNUMBER(CSVデータ3!F15),CSVデータ3!F15,0)+IF(ISNUMBER(CSVデータ4!F15),CSVデータ4!F15,0)","v":1398},null,{"$f":"IF(ISNUMBER(CSVデータ1!H15),CSVデータ1!H15,0)+IF(ISNUMBER(CSVデータ2!H15),CSVデータ2!H15,0)+IF(ISNUMBER(CSVデータ3!H15),CSVデータ3!H15,0)+IF(ISNUMBER(CSVデータ4!H15),CSVデータ4!H15,0)","v":1809},null,{"$f":"IF(ISNUMBER(CSVデータ1!J15),CSVデータ1!J15,0)+IF(ISNUMBER(CSVデータ2!J15),CSVデータ2!J15,0)+IF(ISNUMBER(CSVデータ3!J15),CSVデータ3!J15,0)+IF(ISNUMBER(CSVデータ4!J15),CSVデータ4!J15,0)","v":789},null,{"$f":"IF(ISNUMBER(CSVデータ1!L15),CSVデータ1!L15,0)+IF(ISNUMBER(CSVデータ2!L15),CSVデータ2!L15,0)+IF(ISNUMBER(CSVデータ3!L15),CSVデータ3!L15,0)+IF(ISNUMBER(CSVデータ4!L15),CSVデータ4!L15,0)","v":1011},null,{"$f":"IF(ISNUMBER(CSVデータ1!N15),CSVデータ1!N15,0)+IF(ISNUMBER(CSVデータ2!N15),CSVデータ2!N15,0)+IF(ISNUMBER(CSVデータ3!N15),CSVデータ3!N15,0)+IF(ISNUMBER(CSVデータ4!N15),CSVデータ4!N15,0)","v":258},null,{"$f":"IF(ISNUMBER(CSVデータ1!P15),CSVデータ1!P15,0)+IF(ISNUMBER(CSVデータ2!P15),CSVデータ2!P15,0)+IF(ISNUMBER(CSVデータ3!P15),CSVデータ3!P15,0)+IF(ISNUMBER(CSVデータ4!P15),CSVデータ4!P15,0)","v":765},null,{"$f":"IF(ISNUMBER(CSVデータ1!R15),CSVデータ1!R15,0)+IF(ISNUMBER(CSVデータ2!R15),CSVデータ2!R15,0)+IF(ISNUMBER(CSVデータ3!R15),CSVデータ3!R15,0)+IF(ISNUMBER(CSVデータ4!R15),CSVデータ4!R15,0)","v":1509},null,{"$f":"IF(ISNUMBER(CSVデータ1!T15),CSVデータ1!T15,0)+IF(ISNUMBER(CSVデータ2!T15),CSVデータ2!T15,0)+IF(ISNUMBER(CSVデータ3!T15),CSVデータ3!T15,0)+IF(ISNUMBER(CSVデータ4!T15),CSVデータ4!T15,0)","v":478},null,{"$f":"IF(ISNUMBER(CSVデータ1!V15),CSVデータ1!V15,0)+IF(ISNUMBER(CSVデータ2!V15),CSVデータ2!V15,0)+IF(ISNUMBER(CSVデータ3!V15),CSVデータ3!V15,0)+IF(ISNUMBER(CSVデータ4!V15),CSVデータ4!V15,0)","v":1210},null,{"$f":"IF(ISNUMBER(CSVデータ1!X15),CSVデータ1!X15,0)+IF(ISNUMBER(CSVデータ2!X15),CSVデータ2!X15,0)+IF(ISNUMBER(CSVデータ3!X15),CSVデータ3!X15,0)+IF(ISNUMBER(CSVデータ4!X15),CSVデータ4!X15,0)","v":1106},null,{"$f":"IF(ISNUMBER(CSVデータ1!Z15),CSVデータ1!Z15,0)+IF(ISNUMBER(CSVデータ2!Z15),CSVデータ2!Z15,0)+IF(ISNUMBER(CSVデータ3!Z15),CSVデータ3!Z15,0)+IF(ISNUMBER(CSVデータ4!Z15),CSVデータ4!Z15,0)","v":1795},null,{"$f":"IF(ISNUMBER(CSVデータ1!AB15),CSVデータ1!AB15,0)+IF(ISNUMBER(CSVデータ2!AB15),CSVデータ2!AB15,0)+IF(ISNUMBER(CSVデータ3!AB15),CSVデータ3!AB15,0)+IF(ISNUMBER(CSVデータ4!AB15),CSVデータ4!AB15,0)","v":20},null,{"$f":"IF(ISNUMBER(CSVデータ1!AD15),CSVデータ1!AD15,0)+IF(ISNUMBER(CSVデータ2!AD15),CSVデータ2!AD15,0)+IF(ISNUMBER(CSVデータ3!AD15),CSVデータ3!AD15,0)+IF(ISNUMBER(CSVデータ4!AD15),CSVデータ4!AD15,0)","v":515},null,{"$f":"IF(ISNUMBER(CSVデータ1!AF15),CSVデータ1!AF15,0)+IF(ISNUMBER(CSVデータ2!AF15),CSVデータ2!AF15,0)+IF(ISNUMBER(CSVデータ3!AF15),CSVデータ3!AF15,0)+IF(ISNUMBER(CSVデータ4!AF15),CSVデータ4!AF15,0)","v":681},null,{"$f":"IF(ISNUMBER(CSVデータ1!AH15),CSVデータ1!AH15,0)+IF(ISNUMBER(CSVデータ2!AH15),CSVデータ2!AH15,0)+IF(ISNUMBER(CSVデータ3!AH15),CSVデータ3!AH15,0)+IF(ISNUMBER(CSVデータ4!AH15),CSVデータ4!AH15,0)","v":66},null,{"$f":"IF(ISNUMBER(CSVデータ1!AJ15),CSVデータ1!AJ15,0)+IF(ISNUMBER(CSVデータ2!AJ15),CSVデータ2!AJ15,0)+IF(ISNUMBER(CSVデータ3!AJ15),CSVデータ3!AJ15,0)+IF(ISNUMBER(CSVデータ4!AJ15),CSVデータ4!AJ15,0)","v":317},null,{"$f":"IF(ISNUMBER(CSVデータ1!AL15),CSVデータ1!AL15,0)+IF(ISNUMBER(CSVデータ2!AL15),CSVデータ2!AL15,0)+IF(ISNUMBER(CSVデータ3!AL15),CSVデータ3!AL15,0)+IF(ISNUMBER(CSVデータ4!AL15),CSVデータ4!AL15,0)","v":243},null,{"$f":"IF(ISNUMBER(CSVデータ1!AN15),CSVデータ1!AN15,0)+IF(ISNUMBER(CSVデータ2!AN15),CSVデータ2!AN15,0)+IF(ISNUMBER(CSVデータ3!AN15),CSVデータ3!AN15,0)+IF(ISNUMBER(CSVデータ4!AN15),CSVデータ4!AN15,0)","v":208}]
[{"$f":"CSVデータ1!A16","v":"明細部"},{"$f":"CSVデータ1!B16","v":"国"},{"$f":"CSVデータ1!C16","v":52},{"$f":"CSVデータ1!D16","v":"男"},{"$f":"IF(ISNUMBER(CSVデータ1!E16),CSVデータ1!E16,0)+IF(ISNUMBER(CSVデータ2!E16),CSVデータ2!E16,0)+IF(ISNUMBER(CSVデータ3!E16),CSVデータ3!E16,0)+IF(ISNUMBER(CSVデータ4!E16),CSVデータ4!E16,0)","v":3398},{"$f":"IF(ISNUMBER(CSVデータ1!F16),CSVデータ1!F16,0)+IF(ISNUMBER(CSVデータ2!F16),CSVデータ2!F16,0)+IF(ISNUMBER(CSVデータ3!F16),CSVデータ3!F16,0)+IF(ISNUMBER(CSVデータ4!F16),CSVデータ4!F16,0)","v":1432},null,{"$f":"IF(ISNUMBER(CSVデータ1!H16),CSVデータ1!H16,0)+IF(ISNUMBER(CSVデータ2!H16),CSVデータ2!H16,0)+IF(ISNUMBER(CSVデータ3!H16),CSVデータ3!H16,0)+IF(ISNUMBER(CSVデータ4!H16),CSVデータ4!H16,0)","v":1811},null,{"$f":"IF(ISNUMBER(CSVデータ1!J16),CSVデータ1!J16,0)+IF(ISNUMBER(CSVデータ2!J16),CSVデータ2!J16,0)+IF(ISNUMBER(CSVデータ3!J16),CSVデータ3!J16,0)+IF(ISNUMBER(CSVデータ4!J16),CSVデータ4!J16,0)","v":808},null,{"$f":"IF(ISNUMBER(CSVデータ1!L16),CSVデータ1!L16,0)+IF(ISNUMBER(CSVデータ2!L16),CSVデータ2!L16,0)+IF(ISNUMBER(CSVデータ3!L16),CSVデータ3!L16,0)+IF(ISNUMBER(CSVデータ4!L16),CSVデータ4!L16,0)","v":1030},null,{"$f":"IF(ISNUMBER(CSVデータ1!N16),CSVデータ1!N16,0)+IF(ISNUMBER(CSVデータ2!N16),CSVデータ2!N16,0)+IF(ISNUMBER(CSVデータ3!N16),CSVデータ3!N16,0)+IF(ISNUMBER(CSVデータ4!N16),CSVデータ4!N16,0)","v":226},null,{"$f":"IF(ISNUMBER(CSVデータ1!P16),CSVデータ1!P16,0)+IF(ISNUMBER(CSVデータ2!P16),CSVデータ2!P16,0)+IF(ISNUMBER(CSVデータ3!P16),CSVデータ3!P16,0)+IF(ISNUMBER(CSVデータ4!P16),CSVデータ4!P16,0)","v":839},null,{"$f":"IF(ISNUMBER(CSVデータ1!R16),CSVデータ1!R16,0)+IF(ISNUMBER(CSVデータ2!R16),CSVデータ2!R16,0)+IF(ISNUMBER(CSVデータ3!R16),CSVデータ3!R16,0)+IF(ISNUMBER(CSVデータ4!R16),CSVデータ4!R16,0)","v":1611},null,{"$f":"IF(ISNUMBER(CSVデータ1!T16),CSVデータ1!T16,0)+IF(ISNUMBER(CSVデータ2!T16),CSVデータ2!T16,0)+IF(ISNUMBER(CSVデータ3!T16),CSVデータ3!T16,0)+IF(ISNUMBER(CSVデータ4!T16),CSVデータ4!T16,0)","v":499},null,{"$f":"IF(ISNUMBER(CSVデータ1!V16),CSVデータ1!V16,0)+IF(ISNUMBER(CSVデータ2!V16),CSVデータ2!V16,0)+IF(ISNUMBER(CSVデータ3!V16),CSVデータ3!V16,0)+IF(ISNUMBER(CSVデータ4!V16),CSVデータ4!V16,0)","v":1251},null,{"$f":"IF(ISNUMBER(CSVデータ1!X16),CSVデータ1!X16,0)+IF(ISNUMBER(CSVデータ2!X16),CSVデータ2!X16,0)+IF(ISNUMBER(CSVデータ3!X16),CSVデータ3!X16,0)+IF(ISNUMBER(CSVデータ4!X16),CSVデータ4!X16,0)","v":1151},null,{"$f":"IF(ISNUMBER(CSVデータ1!Z16),CSVデータ1!Z16,0)+IF(ISNUMBER(CSVデータ2!Z16),CSVデータ2!Z16,0)+IF(ISNUMBER(CSVデータ3!Z16),CSVデータ3!Z16,0)+IF(ISNUMBER(CSVデータ4!Z16),CSVデータ4!Z16,0)","v":1830},null,{"$f":"IF(ISNUMBER(CSVデータ1!AB16),CSVデータ1!AB16,0)+IF(ISNUMBER(CSVデータ2!AB16),CSVデータ2!AB16,0)+IF(ISNUMBER(CSVデータ3!AB16),CSVデータ3!AB16,0)+IF(ISNUMBER(CSVデータ4!AB16),CSVデータ4!AB16,0)","v":24},null,{"$f":"IF(ISNUMBER(CSVデータ1!AD16),CSVデータ1!AD16,0)+IF(ISNUMBER(CSVデータ2!AD16),CSVデータ2!AD16,0)+IF(ISNUMBER(CSVデータ3!AD16),CSVデータ3!AD16,0)+IF(ISNUMBER(CSVデータ4!AD16),CSVデータ4!AD16,0)","v":523},null,{"$f":"IF(ISNUMBER(CSVデータ1!AF16),CSVデータ1!AF16,0)+IF(ISNUMBER(CSVデータ2!AF16),CSVデータ2!AF16,0)+IF(ISNUMBER(CSVデータ3!AF16),CSVデータ3!AF16,0)+IF(ISNUMBER(CSVデータ4!AF16),CSVデータ4!AF16,0)","v":785},null,{"$f":"IF(ISNUMBER(CSVデータ1!AH16),CSVデータ1!AH16,0)+IF(ISNUMBER(CSVデータ2!AH16),CSVデータ2!AH16,0)+IF(ISNUMBER(CSVデータ3!AH16),CSVデータ3!AH16,0)+IF(ISNUMBER(CSVデータ4!AH16),CSVデータ4!AH16,0)","v":68},null,{"$f":"IF(ISNUMBER(CSVデータ1!AJ16),CSVデータ1!AJ16,0)+IF(ISNUMBER(CSVデータ2!AJ16),CSVデータ2!AJ16,0)+IF(ISNUMBER(CSVデータ3!AJ16),CSVデータ3!AJ16,0)+IF(ISNUMBER(CSVデータ4!AJ16),CSVデータ4!AJ16,0)","v":341},null,{"$f":"IF(ISNUMBER(CSVデータ1!AL16),CSVデータ1!AL16,0)+IF(ISNUMBER(CSVデータ2!AL16),CSVデータ2!AL16,0)+IF(ISNUMBER(CSVデータ3!AL16),CSVデータ3!AL16,0)+IF(ISNUMBER(CSVデータ4!AL16),CSVデータ4!AL16,0)","v":246},null,{"$f":"IF(ISNUMBER(CSVデータ1!AN16),CSVデータ1!AN16,0)+IF(ISNUMBER(CSVデータ2!AN16),CSVデータ2!AN16,0)+IF(ISNUMBER(CSVデータ3!AN16),CSVデータ3!AN16,0)+IF(ISNUMBER(CSVデータ4!AN16),CSVデータ4!AN16,0)","v":198}]
[{"$f":"CSVデータ1!A17","v":"明細部"},{"$f":"CSVデータ1!B17","v":"国"},{"$f":"CSVデータ1!C17","v":53},{"$f":"CSVデータ1!D17","v":"男"},{"$f":"IF(ISNUMBER(CSVデータ1!E17),CSVデータ1!E17,0)+IF(ISNUMBER(CSVデータ2!E17),CSVデータ2!E17,0)+IF(ISNUMBER(CSVデータ3!E17),CSVデータ3!E17,0)+IF(ISNUMBER(CSVデータ4!E17),CSVデータ4!E17,0)","v":3360},{"$f":"IF(ISNUMBER(CSVデータ1!F17),CSVデータ1!F17,0)+IF(ISNUMBER(CSVデータ2!F17),CSVデータ2!F17,0)+IF(ISNUMBER(CSVデータ3!F17),CSVデータ3!F17,0)+IF(ISNUMBER(CSVデータ4!F17),CSVデータ4!F17,0)","v":1404},null,{"$f":"IF(ISNUMBER(CSVデータ1!H17),CSVデータ1!H17,0)+IF(ISNUMBER(CSVデータ2!H17),CSVデータ2!H17,0)+IF(ISNUMBER(CSVデータ3!H17),CSVデータ3!H17,0)+IF(ISNUMBER(CSVデータ4!H17),CSVデータ4!H17,0)","v":1823},null,{"$f":"IF(ISNUMBER(CSVデータ1!J17),CSVデータ1!J17,0)+IF(ISNUMBER(CSVデータ2!J17),CSVデータ2!J17,0)+IF(ISNUMBER(CSVデータ3!J17),CSVデータ3!J17,0)+IF(ISNUMBER(CSVデータ4!J17),CSVデータ4!J17,0)","v":777},null,{"$f":"IF(ISNUMBER(CSVデータ1!L17),CSVデータ1!L17,0)+IF(ISNUMBER(CSVデータ2!L17),CSVデータ2!L17,0)+IF(ISNUMBER(CSVデータ3!L17),CSVデータ3!L17,0)+IF(ISNUMBER(CSVデータ4!L17),CSVデータ4!L17,0)","v":965},null,{"$f":"IF(ISNUMBER(CSVデータ1!N17),CSVデータ1!N17,0)+IF(ISNUMBER(CSVデータ2!N17),CSVデータ2!N17,0)+IF(ISNUMBER(CSVデータ3!N17),CSVデータ3!N17,0)+IF(ISNUMBER(CSVデータ4!N17),CSVデータ4!N17,0)","v":240},null,{"$f":"IF(ISNUMBER(CSVデータ1!P17),CSVデータ1!P17,0)+IF(ISNUMBER(CSVデータ2!P17),CSVデータ2!P17,0)+IF(ISNUMBER(CSVデータ3!P17),CSVデータ3!P17,0)+IF(ISNUMBER(CSVデータ4!P17),CSVデータ4!P17,0)","v":780},null,{"$f":"IF(ISNUMBER(CSVデータ1!R17),CSVデータ1!R17,0)+IF(ISNUMBER(CSVデータ2!R17),CSVデータ2!R17,0)+IF(ISNUMBER(CSVデータ3!R17),CSVデータ3!R17,0)+IF(ISNUMBER(CSVデータ4!R17),CSVデータ4!R17,0)","v":1605},null,{"$f":"IF(ISNUMBER(CSVデータ1!T17),CSVデータ1!T17,0)+IF(ISNUMBER(CSVデータ2!T17),CSVデータ2!T17,0)+IF(ISNUMBER(CSVデータ3!T17),CSVデータ3!T17,0)+IF(ISNUMBER(CSVデータ4!T17),CSVデータ4!T17,0)","v":454},null,{"$f":"IF(ISNUMBER(CSVデータ1!V17),CSVデータ1!V17,0)+IF(ISNUMBER(CSVデータ2!V17),CSVデータ2!V17,0)+IF(ISNUMBER(CSVデータ3!V17),CSVデータ3!V17,0)+IF(ISNUMBER(CSVデータ4!V17),CSVデータ4!V17,0)","v":1298},null,{"$f":"IF(ISNUMBER(CSVデータ1!X17),CSVデータ1!X17,0)+IF(ISNUMBER(CSVデータ2!X17),CSVデータ2!X17,0)+IF(ISNUMBER(CSVデータ3!X17),CSVデータ3!X17,0)+IF(ISNUMBER(CSVデータ4!X17),CSVデータ4!X17,0)","v":1146},null,{"$f":"IF(ISNUMBER(CSVデータ1!Z17),CSVデータ1!Z17,0)+IF(ISNUMBER(CSVデータ2!Z17),CSVデータ2!Z17,0)+IF(ISNUMBER(CSVデータ3!Z17),CSVデータ3!Z17,0)+IF(ISNUMBER(CSVデータ4!Z17),CSVデータ4!Z17,0)","v":1807},null,{"$f":"IF(ISNUMBER(CSVデータ1!AB17),CSVデータ1!AB17,0)+IF(ISNUMBER(CSVデータ2!AB17),CSVデータ2!AB17,0)+IF(ISNUMBER(CSVデータ3!AB17),CSVデータ3!AB17,0)+IF(ISNUMBER(CSVデータ4!AB17),CSVデータ4!AB17,0)","v":34},null,{"$f":"IF(ISNUMBER(CSVデータ1!AD17),CSVデータ1!AD17,0)+IF(ISNUMBER(CSVデータ2!AD17),CSVデータ2!AD17,0)+IF(ISNUMBER(CSVデータ3!AD17),CSVデータ3!AD17,0)+IF(ISNUMBER(CSVデータ4!AD17),CSVデータ4!AD17,0)","v":565},null,{"$f":"IF(ISNUMBER(CSVデータ1!AF17),CSVデータ1!AF17,0)+IF(ISNUMBER(CSVデータ2!AF17),CSVデータ2!AF17,0)+IF(ISNUMBER(CSVデータ3!AF17),CSVデータ3!AF17,0)+IF(ISNUMBER(CSVデータ4!AF17),CSVデータ4!AF17,0)","v":758},null,{"$f":"IF(ISNUMBER(CSVデータ1!AH17),CSVデータ1!AH17,0)+IF(ISNUMBER(CSVデータ2!AH17),CSVデータ2!AH17,0)+IF(ISNUMBER(CSVデータ3!AH17),CSVデータ3!AH17,0)+IF(ISNUMBER(CSVデータ4!AH17),CSVデータ4!AH17,0)","v":51},null,{"$f":"IF(ISNUMBER(CSVデータ1!AJ17),CSVデータ1!AJ17,0)+IF(ISNUMBER(CSVデータ2!AJ17),CSVデータ2!AJ17,0)+IF(ISNUMBER(CSVデータ3!AJ17),CSVデータ3!AJ17,0)+IF(ISNUMBER(CSVデータ4!AJ17),CSVデータ4!AJ17,0)","v":288},null,{"$f":"IF(ISNUMBER(CSVデータ1!AL17),CSVデータ1!AL17,0)+IF(ISNUMBER(CSVデータ2!AL17),CSVデータ2!AL17,0)+IF(ISNUMBER(CSVデータ3!AL17),CSVデータ3!AL17,0)+IF(ISNUMBER(CSVデータ4!AL17),CSVデータ4!AL17,0)","v":250},null,{"$f":"IF(ISNUMBER(CSVデータ1!AN17),CSVデータ1!AN17,0)+IF(ISNUMBER(CSVデータ2!AN17),CSVデータ2!AN17,0)+IF(ISNUMBER(CSVデータ3!AN17),CSVデータ3!AN17,0)+IF(ISNUMBER(CSVデータ4!AN17),CSVデータ4!AN17,0)","v":193}]
[{"$f":"CSVデータ1!A18","v":"明細部"},{"$f":"CSVデータ1!B18","v":"国"},{"$f":"CSVデータ1!C18","v":54},{"$f":"CSVデータ1!D18","v":"男"},{"$f":"IF(ISNUMBER(CSVデータ1!E18),CSVデータ1!E18,0)+IF(ISNUMBER(CSVデータ2!E18),CSVデータ2!E18,0)+IF(ISNUMBER(CSVデータ3!E18),CSVデータ3!E18,0)+IF(ISNUMBER(CSVデータ4!E18),CSVデータ4!E18,0)","v":3318},{"$f":"IF(ISNUMBER(CSVデータ1!F18),CSVデータ1!F18,0)+IF(ISNUMBER(CSVデータ2!F18),CSVデータ2!F18,0)+IF(ISNUMBER(CSVデータ3!F18),CSVデータ3!F18,0)+IF(ISNUMBER(CSVデータ4!F18),CSVデータ4!F18,0)","v":1303},null,{"$f":"IF(ISNUMBER(CSVデータ1!H18),CSVデータ1!H18,0)+IF(ISNUMBER(CSVデータ2!H18),CSVデータ2!H18,0)+IF(ISNUMBER(CSVデータ3!H18),CSVデータ3!H18,0)+IF(ISNUMBER(CSVデータ4!H18),CSVデータ4!H18,0)","v":1807},null,{"$f":"IF(ISNUMBER(CSVデータ1!J18),CSVデータ1!J18,0)+IF(ISNUMBER(CSVデータ2!J18),CSVデータ2!J18,0)+IF(ISNUMBER(CSVデータ3!J18),CSVデータ3!J18,0)+IF(ISNUMBER(CSVデータ4!J18),CSVデータ4!J18,0)","v":763},null,{"$f":"IF(ISNUMBER(CSVデータ1!L18),CSVデータ1!L18,0)+IF(ISNUMBER(CSVデータ2!L18),CSVデータ2!L18,0)+IF(ISNUMBER(CSVデータ3!L18),CSVデータ3!L18,0)+IF(ISNUMBER(CSVデータ4!L18),CSVデータ4!L18,0)","v":949},null,{"$f":"IF(ISNUMBER(CSVデータ1!N18),CSVデータ1!N18,0)+IF(ISNUMBER(CSVデータ2!N18),CSVデータ2!N18,0)+IF(ISNUMBER(CSVデータ3!N18),CSVデータ3!N18,0)+IF(ISNUMBER(CSVデータ4!N18),CSVデータ4!N18,0)","v":225},null,{"$f":"IF(ISNUMBER(CSVデータ1!P18),CSVデータ1!P18,0)+IF(ISNUMBER(CSVデータ2!P18),CSVデータ2!P18,0)+IF(ISNUMBER(CSVデータ3!P18),CSVデータ3!P18,0)+IF(ISNUMBER(CSVデータ4!P18),CSVデータ4!P18,0)","v":834},null,{"$f":"IF(ISNUMBER(CSVデータ1!R18),CSVデータ1!R18,0)+IF(ISNUMBER(CSVデータ2!R18),CSVデータ2!R18,0)+IF(ISNUMBER(CSVデータ3!R18),CSVデータ3!R18,0)+IF(ISNUMBER(CSVデータ4!R18),CSVデータ4!R18,0)","v":1662},null,{"$f":"IF(ISNUMBER(CSVデータ1!T18),CSVデータ1!T18,0)+IF(ISNUMBER(CSVデータ2!T18),CSVデータ2!T18,0)+IF(ISNUMBER(CSVデータ3!T18),CSVデータ3!T18,0)+IF(ISNUMBER(CSVデータ4!T18),CSVデータ4!T18,0)","v":485},null,{"$f":"IF(ISNUMBER(CSVデータ1!V18),CSVデータ1!V18,0)+IF(ISNUMBER(CSVデータ2!V18),CSVデータ2!V18,0)+IF(ISNUMBER(CSVデータ3!V18),CSVデータ3!V18,0)+IF(ISNUMBER(CSVデータ4!V18),CSVデータ4!V18,0)","v":1294},null,{"$f":"IF(ISNUMBER(CSVデータ1!X18),CSVデータ1!X18,0)+IF(ISNUMBER(CSVデータ2!X18),CSVデータ2!X18,0)+IF(ISNUMBER(CSVデータ3!X18),CSVデータ3!X18,0)+IF(ISNUMBER(CSVデータ4!X18),CSVデータ4!X18,0)","v":1125},null,{"$f":"IF(ISNUMBER(CSVデータ1!Z18),CSVデータ1!Z18,0)+IF(ISNUMBER(CSVデータ2!Z18),CSVデータ2!Z18,0)+IF(ISNUMBER(CSVデータ3!Z18),CSVデータ3!Z18,0)+IF(ISNUMBER(CSVデータ4!Z18),CSVデータ4!Z18,0)","v":1734},null,{"$f":"IF(ISNUMBER(CSVデータ1!AB18),CSVデータ1!AB18,0)+IF(ISNUMBER(CSVデータ2!AB18),CSVデータ2!AB18,0)+IF(ISNUMBER(CSVデータ3!AB18),CSVデータ3!AB18,0)+IF(ISNUMBER(CSVデータ4!AB18),CSVデータ4!AB18,0)","v":39},null,{"$f":"IF(ISNUMBER(CSVデータ1!AD18),CSVデータ1!AD18,0)+IF(ISNUMBER(CSVデータ2!AD18),CSVデータ2!AD18,0)+IF(ISNUMBER(CSVデータ3!AD18),CSVデータ3!AD18,0)+IF(ISNUMBER(CSVデータ4!AD18),CSVデータ4!AD18,0)","v":516},null,{"$f":"IF(ISNUMBER(CSVデータ1!AF18),CSVデータ1!AF18,0)+IF(ISNUMBER(CSVデータ2!AF18),CSVデータ2!AF18,0)+IF(ISNUMBER(CSVデータ3!AF18),CSVデータ3!AF18,0)+IF(ISNUMBER(CSVデータ4!AF18),CSVデータ4!AF18,0)","v":752},null,{"$f":"IF(ISNUMBER(CSVデータ1!AH18),CSVデータ1!AH18,0)+IF(ISNUMBER(CSVデータ2!AH18),CSVデータ2!AH18,0)+IF(ISNUMBER(CSVデータ3!AH18),CSVデータ3!AH18,0)+IF(ISNUMBER(CSVデータ4!AH18),CSVデータ4!AH18,0)","v":73},null,{"$f":"IF(ISNUMBER(CSVデータ1!AJ18),CSVデータ1!AJ18,0)+IF(ISNUMBER(CSVデータ2!AJ18),CSVデータ2!AJ18,0)+IF(ISNUMBER(CSVデータ3!AJ18),CSVデータ3!AJ18,0)+IF(ISNUMBER(CSVデータ4!AJ18),CSVデータ4!AJ18,0)","v":287},null,{"$f":"IF(ISNUMBER(CSVデータ1!AL18),CSVデータ1!AL18,0)+IF(ISNUMBER(CSVデータ2!AL18),CSVデータ2!AL18,0)+IF(ISNUMBER(CSVデータ3!AL18),CSVデータ3!AL18,0)+IF(ISNUMBER(CSVデータ4!AL18),CSVデータ4!AL18,0)","v":322},null,{"$f":"IF(ISNUMBER(CSVデータ1!AN18),CSVデータ1!AN18,0)+IF(ISNUMBER(CSVデータ2!AN18),CSVデータ2!AN18,0)+IF(ISNUMBER(CSVデータ3!AN18),CSVデータ3!AN18,0)+IF(ISNUMBER(CSVデータ4!AN18),CSVデータ4!AN18,0)","v":196}]
[{"$f":"CSVデータ1!A19","v":"明細部"},{"$f":"CSVデータ1!B19","v":"国"},{"$f":"CSVデータ1!C19","v":55},{"$f":"CSVデータ1!D19","v":"男"},{"$f":"IF(ISNUMBER(CSVデータ1!E19),CSVデータ1!E19,0)+IF(ISNUMBER(CSVデータ2!E19),CSVデータ2!E19,0)+IF(ISNUMBER(CSVデータ3!E19),CSVデータ3!E19,0)+IF(ISNUMBER(CSVデータ4!E19),CSVデータ4!E19,0)","v":3340},{"$f":"IF(ISNUMBER(CSVデータ1!F19),CSVデータ1!F19,0)+IF(ISNUMBER(CSVデータ2!F19),CSVデータ2!F19,0)+IF(ISNUMBER(CSVデータ3!F19),CSVデータ3!F19,0)+IF(ISNUMBER(CSVデータ4!F19),CSVデータ4!F19,0)","v":1327},null,{"$f":"IF(ISNUMBER(CSVデータ1!H19),CSVデータ1!H19,0)+IF(ISNUMBER(CSVデータ2!H19),CSVデータ2!H19,0)+IF(ISNUMBER(CSVデータ3!H19),CSVデータ3!H19,0)+IF(ISNUMBER(CSVデータ4!H19),CSVデータ4!H19,0)","v":1807},null,{"$f":"IF(ISNUMBER(CSVデータ1!J19),CSVデータ1!J19,0)+IF(ISNUMBER(CSVデータ2!J19),CSVデータ2!J19,0)+IF(ISNUMBER(CSVデータ3!J19),CSVデータ3!J19,0)+IF(ISNUMBER(CSVデータ4!J19),CSVデータ4!J19,0)","v":736},null,{"$f":"IF(ISNUMBER(CSVデータ1!L19),CSVデータ1!L19,0)+IF(ISNUMBER(CSVデータ2!L19),CSVデータ2!L19,0)+IF(ISNUMBER(CSVデータ3!L19),CSVデータ3!L19,0)+IF(ISNUMBER(CSVデータ4!L19),CSVデータ4!L19,0)","v":957},null,{"$f":"IF(ISNUMBER(CSVデータ1!N19),CSVデータ1!N19,0)+IF(ISNUMBER(CSVデータ2!N19),CSVデータ2!N19,0)+IF(ISNUMBER(CSVデータ3!N19),CSVデータ3!N19,0)+IF(ISNUMBER(CSVデータ4!N19),CSVデータ4!N19,0)","v":232},null,{"$f":"IF(ISNUMBER(CSVデータ1!P19),CSVデータ1!P19,0)+IF(ISNUMBER(CSVデータ2!P19),CSVデータ2!P19,0)+IF(ISNUMBER(CSVデータ3!P19),CSVデータ3!P19,0)+IF(ISNUMBER(CSVデータ4!P19),CSVデータ4!P19,0)","v":890},null,{"$f":"IF(ISNUMBER(CSVデータ1!R19),CSVデータ1!R19,0)+IF(ISNUMBER(CSVデータ2!R19),CSVデータ2!R19,0)+IF(ISNUMBER(CSVデータ3!R19),CSVデータ3!R19,0)+IF(ISNUMBER(CSVデータ4!R19),CSVデータ4!R19,0)","v":1679},null,{"$f":"IF(ISNUMBER(CSVデータ1!T19),CSVデータ1!T19,0)+IF(ISNUMBER(CSVデータ2!T19),CSVデータ2!T19,0)+IF(ISNUMBER(CSVデータ3!T19),CSVデータ3!T19,0)+IF(ISNUMBER(CSVデータ4!T19),CSVデータ4!T19,0)","v":431},null,{"$f":"IF(ISNUMBER(CSVデータ1!V19),CSVデータ1!V19,0)+IF(ISNUMBER(CSVデータ2!V19),CSVデータ2!V19,0)+IF(ISNUMBER(CSVデータ3!V19),CSVデータ3!V19,0)+IF(ISNUMBER(CSVデータ4!V19),CSVデータ4!V19,0)","v":1316},null,{"$f":"IF(ISNUMBER(CSVデータ1!X19),CSVデータ1!X19,0)+IF(ISNUMBER(CSVデータ2!X19),CSVデータ2!X19,0)+IF(ISNUMBER(CSVデータ3!X19),CSVデータ3!X19,0)+IF(ISNUMBER(CSVデータ4!X19),CSVデータ4!X19,0)","v":1113},null,{"$f":"IF(ISNUMBER(CSVデータ1!Z19),CSVデータ1!Z19,0)+IF(ISNUMBER(CSVデータ2!Z19),CSVデータ2!Z19,0)+IF(ISNUMBER(CSVデータ3!Z19),CSVデータ3!Z19,0)+IF(ISNUMBER(CSVデータ4!Z19),CSVデータ4!Z19,0)","v":1775},null,{"$f":"IF(ISNUMBER(CSVデータ1!AB19),CSVデータ1!AB19,0)+IF(ISNUMBER(CSVデータ2!AB19),CSVデータ2!AB19,0)+IF(ISNUMBER(CSVデータ3!AB19),CSVデータ3!AB19,0)+IF(ISNUMBER(CSVデータ4!AB19),CSVデータ4!AB19,0)","v":28},null,{"$f":"IF(ISNUMBER(CSVデータ1!AD19),CSVデータ1!AD19,0)+IF(ISNUMBER(CSVデータ2!AD19),CSVデータ2!AD19,0)+IF(ISNUMBER(CSVデータ3!AD19),CSVデータ3!AD19,0)+IF(ISNUMBER(CSVデータ4!AD19),CSVデータ4!AD19,0)","v":564},null,{"$f":"IF(ISNUMBER(CSVデータ1!AF19),CSVデータ1!AF19,0)+IF(ISNUMBER(CSVデータ2!AF19),CSVデータ2!AF19,0)+IF(ISNUMBER(CSVデータ3!AF19),CSVデータ3!AF19,0)+IF(ISNUMBER(CSVデータ4!AF19),CSVデータ4!AF19,0)","v":750},null,{"$f":"IF(ISNUMBER(CSVデータ1!AH19),CSVデータ1!AH19,0)+IF(ISNUMBER(CSVデータ2!AH19),CSVデータ2!AH19,0)+IF(ISNUMBER(CSVデータ3!AH19),CSVデータ3!AH19,0)+IF(ISNUMBER(CSVデータ4!AH19),CSVデータ4!AH19,0)","v":68},null,{"$f":"IF(ISNUMBER(CSVデータ1!AJ19),CSVデータ1!AJ19,0)+IF(ISNUMBER(CSVデータ2!AJ19),CSVデータ2!AJ19,0)+IF(ISNUMBER(CSVデータ3!AJ19),CSVデータ3!AJ19,0)+IF(ISNUMBER(CSVデータ4!AJ19),CSVデータ4!AJ19,0)","v":272},null,{"$f":"IF(ISNUMBER(CSVデータ1!AL19),CSVデータ1!AL19,0)+IF(ISNUMBER(CSVデータ2!AL19),CSVデータ2!AL19,0)+IF(ISNUMBER(CSVデータ3!AL19),CSVデータ3!AL19,0)+IF(ISNUMBER(CSVデータ4!AL19),CSVデータ4!AL19,0)","v":307},null,{"$f":"IF(ISNUMBER(CSVデータ1!AN19),CSVデータ1!AN19,0)+IF(ISNUMBER(CSVデータ2!AN19),CSVデータ2!AN19,0)+IF(ISNUMBER(CSVデータ3!AN19),CSVデータ3!AN19,0)+IF(ISNUMBER(CSVデータ4!AN19),CSVデータ4!AN19,0)","v":199}]
[{"$f":"CSVデータ1!A20","v":"明細部"},{"$f":"CSVデータ1!B20","v":"国"},{"$f":"CSVデータ1!C20","v":56},{"$f":"CSVデータ1!D20","v":"男"},{"$f":"IF(ISNUMBER(CSVデータ1!E20),CSVデータ1!E20,0)+IF(ISNUMBER(CSVデータ2!E20),CSVデータ2!E20,0)+IF(ISNUMBER(CSVデータ3!E20),CSVデータ3!E20,0)+IF(ISNUMBER(CSVデータ4!E20),CSVデータ4!E20,0)","v":3274},{"$f":"IF(ISNUMBER(CSVデータ1!F20),CSVデータ1!F20,0)+IF(ISNUMBER(CSVデータ2!F20),CSVデータ2!F20,0)+IF(ISNUMBER(CSVデータ3!F20),CSVデータ3!F20,0)+IF(ISNUMBER(CSVデータ4!F20),CSVデータ4!F20,0)","v":1287},null,{"$f":"IF(ISNUMBER(CSVデータ1!H20),CSVデータ1!H20,0)+IF(ISNUMBER(CSVデータ2!H20),CSVデータ2!H20,0)+IF(ISNUMBER(CSVデータ3!H20),CSVデータ3!H20,0)+IF(ISNUMBER(CSVデータ4!H20),CSVデータ4!H20,0)","v":1812},null,{"$f":"IF(ISNUMBER(CSVデータ1!J20),CSVデータ1!J20,0)+IF(ISNUMBER(CSVデータ2!J20),CSVデータ2!J20,0)+IF(ISNUMBER(CSVデータ3!J20),CSVデータ3!J20,0)+IF(ISNUMBER(CSVデータ4!J20),CSVデータ4!J20,0)","v":729},null,{"$f":"IF(ISNUMBER(CSVデータ1!L20),CSVデータ1!L20,0)+IF(ISNUMBER(CSVデータ2!L20),CSVデータ2!L20,0)+IF(ISNUMBER(CSVデータ3!L20),CSVデータ3!L20,0)+IF(ISNUMBER(CSVデータ4!L20),CSVデータ4!L20,0)","v":810},null,{"$f":"IF(ISNUMBER(CSVデータ1!N20),CSVデータ1!N20,0)+IF(ISNUMBER(CSVデータ2!N20),CSVデータ2!N20,0)+IF(ISNUMBER(CSVデータ3!N20),CSVデータ3!N20,0)+IF(ISNUMBER(CSVデータ4!N20),CSVデータ4!N20,0)","v":241},null,{"$f":"IF(ISNUMBER(CSVデータ1!P20),CSVデータ1!P20,0)+IF(ISNUMBER(CSVデータ2!P20),CSVデータ2!P20,0)+IF(ISNUMBER(CSVデータ3!P20),CSVデータ3!P20,0)+IF(ISNUMBER(CSVデータ4!P20),CSVデータ4!P20,0)","v":820},null,{"$f":"IF(ISNUMBER(CSVデータ1!R20),CSVデータ1!R20,0)+IF(ISNUMBER(CSVデータ2!R20),CSVデータ2!R20,0)+IF(ISNUMBER(CSVデータ3!R20),CSVデータ3!R20,0)+IF(ISNUMBER(CSVデータ4!R20),CSVデータ4!R20,0)","v":1681},null,{"$f":"IF(ISNUMBER(CSVデータ1!T20),CSVデータ1!T20,0)+IF(ISNUMBER(CSVデータ2!T20),CSVデータ2!T20,0)+IF(ISNUMBER(CSVデータ3!T20),CSVデータ3!T20,0)+IF(ISNUMBER(CSVデータ4!T20),CSVデータ4!T20,0)","v":463},null,{"$f":"IF(ISNUMBER(CSVデータ1!V20),CSVデータ1!V20,0)+IF(ISNUMBER(CSVデータ2!V20),CSVデータ2!V20,0)+IF(ISNUMBER(CSVデータ3!V20),CSVデータ3!V20,0)+IF(ISNUMBER(CSVデータ4!V20),CSVデータ4!V20,0)","v":1309},null,{"$f":"IF(ISNUMBER(CSVデータ1!X20),CSVデータ1!X20,0)+IF(ISNUMBER(CSVデータ2!X20),CSVデータ2!X20,0)+IF(ISNUMBER(CSVデータ3!X20),CSVデータ3!X20,0)+IF(ISNUMBER(CSVデータ4!X20),CSVデータ4!X20,0)","v":1101},null,{"$f":"IF(ISNUMBER(CSVデータ1!Z20),CSVデータ1!Z20,0)+IF(ISNUMBER(CSVデータ2!Z20),CSVデータ2!Z20,0)+IF(ISNUMBER(CSVデータ3!Z20),CSVデータ3!Z20,0)+IF(ISNUMBER(CSVデータ4!Z20),CSVデータ4!Z20,0)","v":1655},null,{"$f":"IF(ISNUMBER(CSVデータ1!AB20),CSVデータ1!AB20,0)+IF(ISNUMBER(CSVデータ2!AB20),CSVデータ2!AB20,0)+IF(ISNUMBER(CSVデータ3!AB20),CSVデータ3!AB20,0)+IF(ISNUMBER(CSVデータ4!AB20),CSVデータ4!AB20,0)","v":40},null,{"$f":"IF(ISNUMBER(CSVデータ1!AD20),CSVデータ1!AD20,0)+IF(ISNUMBER(CSVデータ2!AD20),CSVデータ2!AD20,0)+IF(ISNUMBER(CSVデータ3!AD20),CSVデータ3!AD20,0)+IF(ISNUMBER(CSVデータ4!AD20),CSVデータ4!AD20,0)","v":539},null,{"$f":"IF(ISNUMBER(CSVデータ1!AF20),CSVデータ1!AF20,0)+IF(ISNUMBER(CSVデータ2!AF20),CSVデータ2!AF20,0)+IF(ISNUMBER(CSVデータ3!AF20),CSVデータ3!AF20,0)+IF(ISNUMBER(CSVデータ4!AF20),CSVデータ4!AF20,0)","v":711},null,{"$f":"IF(ISNUMBER(CSVデータ1!AH20),CSVデータ1!AH20,0)+IF(ISNUMBER(CSVデータ2!AH20),CSVデータ2!AH20,0)+IF(ISNUMBER(CSVデータ3!AH20),CSVデータ3!AH20,0)+IF(ISNUMBER(CSVデータ4!AH20),CSVデータ4!AH20,0)","v":75},null,{"$f":"IF(ISNUMBER(CSVデータ1!AJ20),CSVデータ1!AJ20,0)+IF(ISNUMBER(CSVデータ2!AJ20),CSVデータ2!AJ20,0)+IF(ISNUMBER(CSVデータ3!AJ20),CSVデータ3!AJ20,0)+IF(ISNUMBER(CSVデータ4!AJ20),CSVデータ4!AJ20,0)","v":252},null,{"$f":"IF(ISNUMBER(CSVデータ1!AL20),CSVデータ1!AL20,0)+IF(ISNUMBER(CSVデータ2!AL20),CSVデータ2!AL20,0)+IF(ISNUMBER(CSVデータ3!AL20),CSVデータ3!AL20,0)+IF(ISNUMBER(CSVデータ4!AL20),CSVデータ4!AL20,0)","v":336},null,{"$f":"IF(ISNUMBER(CSVデータ1!AN20),CSVデータ1!AN20,0)+IF(ISNUMBER(CSVデータ2!AN20),CSVデータ2!AN20,0)+IF(ISNUMBER(CSVデータ3!AN20),CSVデータ3!AN20,0)+IF(ISNUMBER(CSVデータ4!AN20),CSVデータ4!AN20,0)","v":194}]
[{"$f":"CSVデータ1!A21","v":"明細部"},{"$f":"CSVデータ1!B21","v":"国"},{"$f":"CSVデータ1!C21","v":57},{"$f":"CSVデータ1!D21","v":"男"},{"$f":"IF(ISNUMBER(CSVデータ1!E21),CSVデータ1!E21,0)+IF(ISNUMBER(CSVデータ2!E21),CSVデータ2!E21,0)+IF(ISNUMBER(CSVデータ3!E21),CSVデータ3!E21,0)+IF(ISNUMBER(CSVデータ4!E21),CSVデータ4!E21,0)","v":3341},{"$f":"IF(ISNUMBER(CSVデータ1!F21),CSVデータ1!F21,0)+IF(ISNUMBER(CSVデータ2!F21),CSVデータ2!F21,0)+IF(ISNUMBER(CSVデータ3!F21),CSVデータ3!F21,0)+IF(ISNUMBER(CSVデータ4!F21),CSVデータ4!F21,0)","v":1367},null,{"$f":"IF(ISNUMBER(CSVデータ1!H21),CSVデータ1!H21,0)+IF(ISNUMBER(CSVデータ2!H21),CSVデータ2!H21,0)+IF(ISNUMBER(CSVデータ3!H21),CSVデータ3!H21,0)+IF(ISNUMBER(CSVデータ4!H21),CSVデータ4!H21,0)","v":1878},null,{"$f":"IF(ISNUMBER(CSVデータ1!J21),CSVデータ1!J21,0)+IF(ISNUMBER(CSVデータ2!J21),CSVデータ2!J21,0)+IF(ISNUMBER(CSVデータ3!J21),CSVデータ3!J21,0)+IF(ISNUMBER(CSVデータ4!J21),CSVデータ4!J21,0)","v":790},null,{"$f":"IF(ISNUMBER(CSVデータ1!L21),CSVデータ1!L21,0)+IF(ISNUMBER(CSVデータ2!L21),CSVデータ2!L21,0)+IF(ISNUMBER(CSVデータ3!L21),CSVデータ3!L21,0)+IF(ISNUMBER(CSVデータ4!L21),CSVデータ4!L21,0)","v":887},null,{"$f":"IF(ISNUMBER(CSVデータ1!N21),CSVデータ1!N21,0)+IF(ISNUMBER(CSVデータ2!N21),CSVデータ2!N21,0)+IF(ISNUMBER(CSVデータ3!N21),CSVデータ3!N21,0)+IF(ISNUMBER(CSVデータ4!N21),CSVデータ4!N21,0)","v":242},null,{"$f":"IF(ISNUMBER(CSVデータ1!P21),CSVデータ1!P21,0)+IF(ISNUMBER(CSVデータ2!P21),CSVデータ2!P21,0)+IF(ISNUMBER(CSVデータ3!P21),CSVデータ3!P21,0)+IF(ISNUMBER(CSVデータ4!P21),CSVデータ4!P21,0)","v":917},null,{"$f":"IF(ISNUMBER(CSVデータ1!R21),CSVデータ1!R21,0)+IF(ISNUMBER(CSVデータ2!R21),CSVデータ2!R21,0)+IF(ISNUMBER(CSVデータ3!R21),CSVデータ3!R21,0)+IF(ISNUMBER(CSVデータ4!R21),CSVデータ4!R21,0)","v":1816},null,{"$f":"IF(ISNUMBER(CSVデータ1!T21),CSVデータ1!T21,0)+IF(ISNUMBER(CSVデータ2!T21),CSVデータ2!T21,0)+IF(ISNUMBER(CSVデータ3!T21),CSVデータ3!T21,0)+IF(ISNUMBER(CSVデータ4!T21),CSVデータ4!T21,0)","v":445},null,{"$f":"IF(ISNUMBER(CSVデータ1!V21),CSVデータ1!V21,0)+IF(ISNUMBER(CSVデータ2!V21),CSVデータ2!V21,0)+IF(ISNUMBER(CSVデータ3!V21),CSVデータ3!V21,0)+IF(ISNUMBER(CSVデータ4!V21),CSVデータ4!V21,0)","v":1411},null,{"$f":"IF(ISNUMBER(CSVデータ1!X21),CSVデータ1!X21,0)+IF(ISNUMBER(CSVデータ2!X21),CSVデータ2!X21,0)+IF(ISNUMBER(CSVデータ3!X21),CSVデータ3!X21,0)+IF(ISNUMBER(CSVデータ4!X21),CSVデータ4!X21,0)","v":1169},null,{"$f":"IF(ISNUMBER(CSVデータ1!Z21),CSVデータ1!Z21,0)+IF(ISNUMBER(CSVデータ2!Z21),CSVデータ2!Z21,0)+IF(ISNUMBER(CSVデータ3!Z21),CSVデータ3!Z21,0)+IF(ISNUMBER(CSVデータ4!Z21),CSVデータ4!Z21,0)","v":1708},null,{"$f":"IF(ISNUMBER(CSVデータ1!AB21),CSVデータ1!AB21,0)+IF(ISNUMBER(CSVデータ2!AB21),CSVデータ2!AB21,0)+IF(ISNUMBER(CSVデータ3!AB21),CSVデータ3!AB21,0)+IF(ISNUMBER(CSVデータ4!AB21),CSVデータ4!AB21,0)","v":43},null,{"$f":"IF(ISNUMBER(CSVデータ1!AD21),CSVデータ1!AD21,0)+IF(ISNUMBER(CSVデータ2!AD21),CSVデータ2!AD21,0)+IF(ISNUMBER(CSVデータ3!AD21),CSVデータ3!AD21,0)+IF(ISNUMBER(CSVデータ4!AD21),CSVデータ4!AD21,0)","v":598},null,{"$f":"IF(ISNUMBER(CSVデータ1!AF21),CSVデータ1!AF21,0)+IF(ISNUMBER(CSVデータ2!AF21),CSVデータ2!AF21,0)+IF(ISNUMBER(CSVデータ3!AF21),CSVデータ3!AF21,0)+IF(ISNUMBER(CSVデータ4!AF21),CSVデータ4!AF21,0)","v":740},null,{"$f":"IF(ISNUMBER(CSVデータ1!AH21),CSVデータ1!AH21,0)+IF(ISNUMBER(CSVデータ2!AH21),CSVデータ2!AH21,0)+IF(ISNUMBER(CSVデータ3!AH21),CSVデータ3!AH21,0)+IF(ISNUMBER(CSVデータ4!AH21),CSVデータ4!AH21,0)","v":77},null,{"$f":"IF(ISNUMBER(CSVデータ1!AJ21),CSVデータ1!AJ21,0)+IF(ISNUMBER(CSVデータ2!AJ21),CSVデータ2!AJ21,0)+IF(ISNUMBER(CSVデータ3!AJ21),CSVデータ3!AJ21,0)+IF(ISNUMBER(CSVデータ4!AJ21),CSVデータ4!AJ21,0)","v":295},null,{"$f":"IF(ISNUMBER(CSVデータ1!AL21),CSVデータ1!AL21,0)+IF(ISNUMBER(CSVデータ2!AL21),CSVデータ2!AL21,0)+IF(ISNUMBER(CSVデータ3!AL21),CSVデータ3!AL21,0)+IF(ISNUMBER(CSVデータ4!AL21),CSVデータ4!AL21,0)","v":394},null,{"$f":"IF(ISNUMBER(CSVデータ1!AN21),CSVデータ1!AN21,0)+IF(ISNUMBER(CSVデータ2!AN21),CSVデータ2!AN21,0)+IF(ISNUMBER(CSVデータ3!AN21),CSVデータ3!AN21,0)+IF(ISNUMBER(CSVデータ4!AN21),CSVデータ4!AN21,0)","v":204}]
[{"$f":"CSVデータ1!A22","v":"明細部"},{"$f":"CSVデータ1!B22","v":"国"},{"$f":"CSVデータ1!C22","v":58},{"$f":"CSVデータ1!D22","v":"男"},{"$f":"IF(ISNUMBER(CSVデータ1!E22),CSVデータ1!E22,0)+IF(ISNUMBER(CSVデータ2!E22),CSVデータ2!E22,0)+IF(ISNUMBER(CSVデータ3!E22),CSVデータ3!E22,0)+IF(ISNUMBER(CSVデータ4!E22),CSVデータ4!E22,0)","v":2830},{"$f":"IF(ISNUMBER(CSVデータ1!F22),CSVデータ1!F22,0)+IF(ISNUMBER(CSVデータ2!F22),CSVデータ2!F22,0)+IF(ISNUMBER(CSVデータ3!F22),CSVデータ3!F22,0)+IF(ISNUMBER(CSVデータ4!F22),CSVデータ4!F22,0)","v":1171},null,{"$f":"IF(ISNUMBER(CSVデータ1!H22),CSVデータ1!H22,0)+IF(ISNUMBER(CSVデータ2!H22),CSVデータ2!H22,0)+IF(ISNUMBER(CSVデータ3!H22),CSVデータ3!H22,0)+IF(ISNUMBER(CSVデータ4!H22),CSVデータ4!H22,0)","v":1578},null,{"$f":"IF(ISNUMBER(CSVデータ1!J22),CSVデータ1!J22,0)+IF(ISNUMBER(CSVデータ2!J22),CSVデータ2!J22,0)+IF(ISNUMBER(CSVデータ3!J22),CSVデータ3!J22,0)+IF(ISNUMBER(CSVデータ4!J22),CSVデータ4!J22,0)","v":629},null,{"$f":"IF(ISNUMBER(CSVデータ1!L22),CSVデータ1!L22,0)+IF(ISNUMBER(CSVデータ2!L22),CSVデータ2!L22,0)+IF(ISNUMBER(CSVデータ3!L22),CSVデータ3!L22,0)+IF(ISNUMBER(CSVデータ4!L22),CSVデータ4!L22,0)","v":732},null,{"$f":"IF(ISNUMBER(CSVデータ1!N22),CSVデータ1!N22,0)+IF(ISNUMBER(CSVデータ2!N22),CSVデータ2!N22,0)+IF(ISNUMBER(CSVデータ3!N22),CSVデータ3!N22,0)+IF(ISNUMBER(CSVデータ4!N22),CSVデータ4!N22,0)","v":219},null,{"$f":"IF(ISNUMBER(CSVデータ1!P22),CSVデータ1!P22,0)+IF(ISNUMBER(CSVデータ2!P22),CSVデータ2!P22,0)+IF(ISNUMBER(CSVデータ3!P22),CSVデータ3!P22,0)+IF(ISNUMBER(CSVデータ4!P22),CSVデータ4!P22,0)","v":793},null,{"$f":"IF(ISNUMBER(CSVデータ1!R22),CSVデータ1!R22,0)+IF(ISNUMBER(CSVデータ2!R22),CSVデータ2!R22,0)+IF(ISNUMBER(CSVデータ3!R22),CSVデータ3!R22,0)+IF(ISNUMBER(CSVデータ4!R22),CSVデータ4!R22,0)","v":1582},null,{"$f":"IF(ISNUMBER(CSVデータ1!T22),CSVデータ1!T22,0)+IF(ISNUMBER(CSVデータ2!T22),CSVデータ2!T22,0)+IF(ISNUMBER(CSVデータ3!T22),CSVデータ3!T22,0)+IF(ISNUMBER(CSVデータ4!T22),CSVデータ4!T22,0)","v":375},null,{"$f":"IF(ISNUMBER(CSVデータ1!V22),CSVデータ1!V22,0)+IF(ISNUMBER(CSVデータ2!V22),CSVデータ2!V22,0)+IF(ISNUMBER(CSVデータ3!V22),CSVデータ3!V22,0)+IF(ISNUMBER(CSVデータ4!V22),CSVデータ4!V22,0)","v":1218},null,{"$f":"IF(ISNUMBER(CSVデータ1!X22),CSVデータ1!X22,0)+IF(ISNUMBER(CSVデータ2!X22),CSVデータ2!X22,0)+IF(ISNUMBER(CSVデータ3!X22),CSVデータ3!X22,0)+IF(ISNUMBER(CSVデータ4!X22),CSVデータ4!X22,0)","v":960},null,{"$f":"IF(ISNUMBER(CSVデータ1!Z22),CSVデータ1!Z22,0)+IF(ISNUMBER(CSVデータ2!Z22),CSVデータ2!Z22,0)+IF(ISNUMBER(CSVデータ3!Z22),CSVデータ3!Z22,0)+IF(ISNUMBER(CSVデータ4!Z22),CSVデータ4!Z22,0)","v":1473},null,{"$f":"IF(ISNUMBER(CSVデータ1!AB22),CSVデータ1!AB22,0)+IF(ISNUMBER(CSVデータ2!AB22),CSVデータ2!AB22,0)+IF(ISNUMBER(CSVデータ3!AB22),CSVデータ3!AB22,0)+IF(ISNUMBER(CSVデータ4!AB22),CSVデータ4!AB22,0)","v":40},null,{"$f":"IF(ISNUMBER(CSVデータ1!AD22),CSVデータ1!AD22,0)+IF(ISNUMBER(CSVデータ2!AD22),CSVデータ2!AD22,0)+IF(ISNUMBER(CSVデータ3!AD22),CSVデータ3!AD22,0)+IF(ISNUMBER(CSVデータ4!AD22),CSVデータ4!AD22,0)","v":539},null,{"$f":"IF(ISNUMBER(CSVデータ1!AF22),CSVデータ1!AF22,0)+IF(ISNUMBER(CSVデータ2!AF22),CSVデータ2!AF22,0)+IF(ISNUMBER(CSVデータ3!AF22),CSVデータ3!AF22,0)+IF(ISNUMBER(CSVデータ4!AF22),CSVデータ4!AF22,0)","v":658},null,{"$f":"IF(ISNUMBER(CSVデータ1!AH22),CSVデータ1!AH22,0)+IF(ISNUMBER(CSVデータ2!AH22),CSVデータ2!AH22,0)+IF(ISNUMBER(CSVデータ3!AH22),CSVデータ3!AH22,0)+IF(ISNUMBER(CSVデータ4!AH22),CSVデータ4!AH22,0)","v":73},null,{"$f":"IF(ISNUMBER(CSVデータ1!AJ22),CSVデータ1!AJ22,0)+IF(ISNUMBER(CSVデータ2!AJ22),CSVデータ2!AJ22,0)+IF(ISNUMBER(CSVデータ3!AJ22),CSVデータ3!AJ22,0)+IF(ISNUMBER(CSVデータ4!AJ22),CSVデータ4!AJ22,0)","v":235},null,{"$f":"IF(ISNUMBER(CSVデータ1!AL22),CSVデータ1!AL22,0)+IF(ISNUMBER(CSVデータ2!AL22),CSVデータ2!AL22,0)+IF(ISNUMBER(CSVデータ3!AL22),CSVデータ3!AL22,0)+IF(ISNUMBER(CSVデータ4!AL22),CSVデータ4!AL22,0)","v":352},null,{"$f":"IF(ISNUMBER(CSVデータ1!AN22),CSVデータ1!AN22,0)+IF(ISNUMBER(CSVデータ2!AN22),CSVデータ2!AN22,0)+IF(ISNUMBER(CSVデータ3!AN22),CSVデータ3!AN22,0)+IF(ISNUMBER(CSVデータ4!AN22),CSVデータ4!AN22,0)","v":179}]
[{"$f":"CSVデータ1!A23","v":"明細部"},{"$f":"CSVデータ1!B23","v":"国"},{"$f":"CSVデータ1!C23","v":59},{"$f":"CSVデータ1!D23","v":"男"},{"$f":"IF(ISNUMBER(CSVデータ1!E23),CSVデータ1!E23,0)+IF(ISNUMBER(CSVデータ2!E23),CSVデータ2!E23,0)+IF(ISNUMBER(CSVデータ3!E23),CSVデータ3!E23,0)+IF(ISNUMBER(CSVデータ4!E23),CSVデータ4!E23,0)","v":3125},{"$f":"IF(ISNUMBER(CSVデータ1!F23),CSVデータ1!F23,0)+IF(ISNUMBER(CSVデータ2!F23),CSVデータ2!F23,0)+IF(ISNUMBER(CSVデータ3!F23),CSVデータ3!F23,0)+IF(ISNUMBER(CSVデータ4!F23),CSVデータ4!F23,0)","v":1228},null,{"$f":"IF(ISNUMBER(CSVデータ1!H23),CSVデータ1!H23,0)+IF(ISNUMBER(CSVデータ2!H23),CSVデータ2!H23,0)+IF(ISNUMBER(CSVデータ3!H23),CSVデータ3!H23,0)+IF(ISNUMBER(CSVデータ4!H23),CSVデータ4!H23,0)","v":1774},null,{"$f":"IF(ISNUMBER(CSVデータ1!J23),CSVデータ1!J23,0)+IF(ISNUMBER(CSVデータ2!J23),CSVデータ2!J23,0)+IF(ISNUMBER(CSVデータ3!J23),CSVデータ3!J23,0)+IF(ISNUMBER(CSVデータ4!J23),CSVデータ4!J23,0)","v":705},null,{"$f":"IF(ISNUMBER(CSVデータ1!L23),CSVデータ1!L23,0)+IF(ISNUMBER(CSVデータ2!L23),CSVデータ2!L23,0)+IF(ISNUMBER(CSVデータ3!L23),CSVデータ3!L23,0)+IF(ISNUMBER(CSVデータ4!L23),CSVデータ4!L23,0)","v":769},null,{"$f":"IF(ISNUMBER(CSVデータ1!N23),CSVデータ1!N23,0)+IF(ISNUMBER(CSVデータ2!N23),CSVデータ2!N23,0)+IF(ISNUMBER(CSVデータ3!N23),CSVデータ3!N23,0)+IF(ISNUMBER(CSVデータ4!N23),CSVデータ4!N23,0)","v":208},null,{"$f":"IF(ISNUMBER(CSVデータ1!P23),CSVデータ1!P23,0)+IF(ISNUMBER(CSVデータ2!P23),CSVデータ2!P23,0)+IF(ISNUMBER(CSVデータ3!P23),CSVデータ3!P23,0)+IF(ISNUMBER(CSVデータ4!P23),CSVデータ4!P23,0)","v":916},null,{"$f":"IF(ISNUMBER(CSVデータ1!R23),CSVデータ1!R23,0)+IF(ISNUMBER(CSVデータ2!R23),CSVデータ2!R23,0)+IF(ISNUMBER(CSVデータ3!R23),CSVデータ3!R23,0)+IF(ISNUMBER(CSVデータ4!R23),CSVデータ4!R23,0)","v":1749},null,{"$f":"IF(ISNUMBER(CSVデータ1!T23),CSVデータ1!T23,0)+IF(ISNUMBER(CSVデータ2!T23),CSVデータ2!T23,0)+IF(ISNUMBER(CSVデータ3!T23),CSVデータ3!T23,0)+IF(ISNUMBER(CSVデータ4!T23),CSVデータ4!T23,0)","v":439},null,{"$f":"IF(ISNUMBER(CSVデータ1!V23),CSVデータ1!V23,0)+IF(ISNUMBER(CSVデータ2!V23),CSVデータ2!V23,0)+IF(ISNUMBER(CSVデータ3!V23),CSVデータ3!V23,0)+IF(ISNUMBER(CSVデータ4!V23),CSVデータ4!V23,0)","v":1370},null,{"$f":"IF(ISNUMBER(CSVデータ1!X23),CSVデータ1!X23,0)+IF(ISNUMBER(CSVデータ2!X23),CSVデータ2!X23,0)+IF(ISNUMBER(CSVデータ3!X23),CSVデータ3!X23,0)+IF(ISNUMBER(CSVデータ4!X23),CSVデータ4!X23,0)","v":1073},null,{"$f":"IF(ISNUMBER(CSVデータ1!Z23),CSVデータ1!Z23,0)+IF(ISNUMBER(CSVデータ2!Z23),CSVデータ2!Z23,0)+IF(ISNUMBER(CSVデータ3!Z23),CSVデータ3!Z23,0)+IF(ISNUMBER(CSVデータ4!Z23),CSVデータ4!Z23,0)","v":1607},null,{"$f":"IF(ISNUMBER(CSVデータ1!AB23),CSVデータ1!AB23,0)+IF(ISNUMBER(CSVデータ2!AB23),CSVデータ2!AB23,0)+IF(ISNUMBER(CSVデータ3!AB23),CSVデータ3!AB23,0)+IF(ISNUMBER(CSVデータ4!AB23),CSVデータ4!AB23,0)","v":47},null,{"$f":"IF(ISNUMBER(CSVデータ1!AD23),CSVデータ1!AD23,0)+IF(ISNUMBER(CSVデータ2!AD23),CSVデータ2!AD23,0)+IF(ISNUMBER(CSVデータ3!AD23),CSVデータ3!AD23,0)+IF(ISNUMBER(CSVデータ4!AD23),CSVデータ4!AD23,0)","v":550},null,{"$f":"IF(ISNUMBER(CSVデータ1!AF23),CSVデータ1!AF23,0)+IF(ISNUMBER(CSVデータ2!AF23),CSVデータ2!AF23,0)+IF(ISNUMBER(CSVデータ3!AF23),CSVデータ3!AF23,0)+IF(ISNUMBER(CSVデータ4!AF23),CSVデータ4!AF23,0)","v":713},null,{"$f":"IF(ISNUMBER(CSVデータ1!AH23),CSVデータ1!AH23,0)+IF(ISNUMBER(CSVデータ2!AH23),CSVデータ2!AH23,0)+IF(ISNUMBER(CSVデータ3!AH23),CSVデータ3!AH23,0)+IF(ISNUMBER(CSVデータ4!AH23),CSVデータ4!AH23,0)","v":86},null,{"$f":"IF(ISNUMBER(CSVデータ1!AJ23),CSVデータ1!AJ23,0)+IF(ISNUMBER(CSVデータ2!AJ23),CSVデータ2!AJ23,0)+IF(ISNUMBER(CSVデータ3!AJ23),CSVデータ3!AJ23,0)+IF(ISNUMBER(CSVデータ4!AJ23),CSVデータ4!AJ23,0)","v":257},null,{"$f":"IF(ISNUMBER(CSVデータ1!AL23),CSVデータ1!AL23,0)+IF(ISNUMBER(CSVデータ2!AL23),CSVデータ2!AL23,0)+IF(ISNUMBER(CSVデータ3!AL23),CSVデータ3!AL23,0)+IF(ISNUMBER(CSVデータ4!AL23),CSVデータ4!AL23,0)","v":432},null,{"$f":"IF(ISNUMBER(CSVデータ1!AN23),CSVデータ1!AN23,0)+IF(ISNUMBER(CSVデータ2!AN23),CSVデータ2!AN23,0)+IF(ISNUMBER(CSVデータ3!AN23),CSVデータ3!AN23,0)+IF(ISNUMBER(CSVデータ4!AN23),CSVデータ4!AN23,0)","v":205}]
[{"$f":"CSVデータ1!A24","v":"明細部"},{"$f":"CSVデータ1!B24","v":"国"},{"$f":"CSVデータ1!C24","v":60},{"$f":"CSVデータ1!D24","v":"男"},{"$f":"IF(ISNUMBER(CSVデータ1!E24),CSVデータ1!E24,0)+IF(ISNUMBER(CSVデータ2!E24),CSVデータ2!E24,0)+IF(ISNUMBER(CSVデータ3!E24),CSVデータ3!E24,0)+IF(ISNUMBER(CSVデータ4!E24),CSVデータ4!E24,0)","v":3572},{"$f":"IF(ISNUMBER(CSVデータ1!F24),CSVデータ1!F24,0)+IF(ISNUMBER(CSVデータ2!F24),CSVデータ2!F24,0)+IF(ISNUMBER(CSVデータ3!F24),CSVデータ3!F24,0)+IF(ISNUMBER(CSVデータ4!F24),CSVデータ4!F24,0)","v":1367},null,{"$f":"IF(ISNUMBER(CSVデータ1!H24),CSVデータ1!H24,0)+IF(ISNUMBER(CSVデータ2!H24),CSVデータ2!H24,0)+IF(ISNUMBER(CSVデータ3!H24),CSVデータ3!H24,0)+IF(ISNUMBER(CSVデータ4!H24),CSVデータ4!H24,0)","v":1978},null,{"$f":"IF(ISNUMBER(CSVデータ1!J24),CSVデータ1!J24,0)+IF(ISNUMBER(CSVデータ2!J24),CSVデータ2!J24,0)+IF(ISNUMBER(CSVデータ3!J24),CSVデータ3!J24,0)+IF(ISNUMBER(CSVデータ4!J24),CSVデータ4!J24,0)","v":748},null,{"$f":"IF(ISNUMBER(CSVデータ1!L24),CSVデータ1!L24,0)+IF(ISNUMBER(CSVデータ2!L24),CSVデータ2!L24,0)+IF(ISNUMBER(CSVデータ3!L24),CSVデータ3!L24,0)+IF(ISNUMBER(CSVデータ4!L24),CSVデータ4!L24,0)","v":827},null,{"$f":"IF(ISNUMBER(CSVデータ1!N24),CSVデータ1!N24,0)+IF(ISNUMBER(CSVデータ2!N24),CSVデータ2!N24,0)+IF(ISNUMBER(CSVデータ3!N24),CSVデータ3!N24,0)+IF(ISNUMBER(CSVデータ4!N24),CSVデータ4!N24,0)","v":230},null,{"$f":"IF(ISNUMBER(CSVデータ1!P24),CSVデータ1!P24,0)+IF(ISNUMBER(CSVデータ2!P24),CSVデータ2!P24,0)+IF(ISNUMBER(CSVデータ3!P24),CSVデータ3!P24,0)+IF(ISNUMBER(CSVデータ4!P24),CSVデータ4!P24,0)","v":1076},null,{"$f":"IF(ISNUMBER(CSVデータ1!R24),CSVデータ1!R24,0)+IF(ISNUMBER(CSVデータ2!R24),CSVデータ2!R24,0)+IF(ISNUMBER(CSVデータ3!R24),CSVデータ3!R24,0)+IF(ISNUMBER(CSVデータ4!R24),CSVデータ4!R24,0)","v":2048},null,{"$f":"IF(ISNUMBER(CSVデータ1!T24),CSVデータ1!T24,0)+IF(ISNUMBER(CSVデータ2!T24),CSVデータ2!T24,0)+IF(ISNUMBER(CSVデータ3!T24),CSVデータ3!T24,0)+IF(ISNUMBER(CSVデータ4!T24),CSVデータ4!T24,0)","v":473},null,{"$f":"IF(ISNUMBER(CSVデータ1!V24),CSVデータ1!V24,0)+IF(ISNUMBER(CSVデータ2!V24),CSVデータ2!V24,0)+IF(ISNUMBER(CSVデータ3!V24),CSVデータ3!V24,0)+IF(ISNUMBER(CSVデータ4!V24),CSVデータ4!V24,0)","v":1537},null,{"$f":"IF(ISNUMBER(CSVデータ1!X24),CSVデータ1!X24,0)+IF(ISNUMBER(CSVデータ2!X24),CSVデータ2!X24,0)+IF(ISNUMBER(CSVデータ3!X24),CSVデータ3!X24,0)+IF(ISNUMBER(CSVデータ4!X24),CSVデータ4!X24,0)","v":1156},null,{"$f":"IF(ISNUMBER(CSVデータ1!Z24),CSVデータ1!Z24,0)+IF(ISNUMBER(CSVデータ2!Z24),CSVデータ2!Z24,0)+IF(ISNUMBER(CSVデータ3!Z24),CSVデータ3!Z24,0)+IF(ISNUMBER(CSVデータ4!Z24),CSVデータ4!Z24,0)","v":1771},null,{"$f":"IF(ISNUMBER(CSVデータ1!AB24),CSVデータ1!AB24,0)+IF(ISNUMBER(CSVデータ2!AB24),CSVデータ2!AB24,0)+IF(ISNUMBER(CSVデータ3!AB24),CSVデータ3!AB24,0)+IF(ISNUMBER(CSVデータ4!AB24),CSVデータ4!AB24,0)","v":76},null,{"$f":"IF(ISNUMBER(CSVデータ1!AD24),CSVデータ1!AD24,0)+IF(ISNUMBER(CSVデータ2!AD24),CSVデータ2!AD24,0)+IF(ISNUMBER(CSVデータ3!AD24),CSVデータ3!AD24,0)+IF(ISNUMBER(CSVデータ4!AD24),CSVデータ4!AD24,0)","v":648},null,{"$f":"IF(ISNUMBER(CSVデータ1!AF24),CSVデータ1!AF24,0)+IF(ISNUMBER(CSVデータ2!AF24),CSVデータ2!AF24,0)+IF(ISNUMBER(CSVデータ3!AF24),CSVデータ3!AF24,0)+IF(ISNUMBER(CSVデータ4!AF24),CSVデータ4!AF24,0)","v":805},null,{"$f":"IF(ISNUMBER(CSVデータ1!AH24),CSVデータ1!AH24,0)+IF(ISNUMBER(CSVデータ2!AH24),CSVデータ2!AH24,0)+IF(ISNUMBER(CSVデータ3!AH24),CSVデータ3!AH24,0)+IF(ISNUMBER(CSVデータ4!AH24),CSVデータ4!AH24,0)","v":74},null,{"$f":"IF(ISNUMBER(CSVデータ1!AJ24),CSVデータ1!AJ24,0)+IF(ISNUMBER(CSVデータ2!AJ24),CSVデータ2!AJ24,0)+IF(ISNUMBER(CSVデータ3!AJ24),CSVデータ3!AJ24,0)+IF(ISNUMBER(CSVデータ4!AJ24),CSVデータ4!AJ24,0)","v":280},null,{"$f":"IF(ISNUMBER(CSVデータ1!AL24),CSVデータ1!AL24,0)+IF(ISNUMBER(CSVデータ2!AL24),CSVデータ2!AL24,0)+IF(ISNUMBER(CSVデータ3!AL24),CSVデータ3!AL24,0)+IF(ISNUMBER(CSVデータ4!AL24),CSVデータ4!AL24,0)","v":514},null,{"$f":"IF(ISNUMBER(CSVデータ1!AN24),CSVデータ1!AN24,0)+IF(ISNUMBER(CSVデータ2!AN24),CSVデータ2!AN24,0)+IF(ISNUMBER(CSVデータ3!AN24),CSVデータ3!AN24,0)+IF(ISNUMBER(CSVデータ4!AN24),CSVデータ4!AN24,0)","v":207}]
[{"$f":"CSVデータ1!A25","v":"明細部"},{"$f":"CSVデータ1!B25","v":"国"},{"$f":"CSVデータ1!C25","v":61},{"$f":"CSVデータ1!D25","v":"男"},{"$f":"IF(ISNUMBER(CSVデータ1!E25),CSVデータ1!E25,0)+IF(ISNUMBER(CSVデータ2!E25),CSVデータ2!E25,0)+IF(ISNUMBER(CSVデータ3!E25),CSVデータ3!E25,0)+IF(ISNUMBER(CSVデータ4!E25),CSVデータ4!E25,0)","v":3769},{"$f":"IF(ISNUMBER(CSVデータ1!F25),CSVデータ1!F25,0)+IF(ISNUMBER(CSVデータ2!F25),CSVデータ2!F25,0)+IF(ISNUMBER(CSVデータ3!F25),CSVデータ3!F25,0)+IF(ISNUMBER(CSVデータ4!F25),CSVデータ4!F25,0)","v":1433},null,{"$f":"IF(ISNUMBER(CSVデータ1!H25),CSVデータ1!H25,0)+IF(ISNUMBER(CSVデータ2!H25),CSVデータ2!H25,0)+IF(ISNUMBER(CSVデータ3!H25),CSVデータ3!H25,0)+IF(ISNUMBER(CSVデータ4!H25),CSVデータ4!H25,0)","v":2041},null,{"$f":"IF(ISNUMBER(CSVデータ1!J25),CSVデータ1!J25,0)+IF(ISNUMBER(CSVデータ2!J25),CSVデータ2!J25,0)+IF(ISNUMBER(CSVデータ3!J25),CSVデータ3!J25,0)+IF(ISNUMBER(CSVデータ4!J25),CSVデータ4!J25,0)","v":780},null,{"$f":"IF(ISNUMBER(CSVデータ1!L25),CSVデータ1!L25,0)+IF(ISNUMBER(CSVデータ2!L25),CSVデータ2!L25,0)+IF(ISNUMBER(CSVデータ3!L25),CSVデータ3!L25,0)+IF(ISNUMBER(CSVデータ4!L25),CSVデータ4!L25,0)","v":883},null,{"$f":"IF(ISNUMBER(CSVデータ1!N25),CSVデータ1!N25,0)+IF(ISNUMBER(CSVデータ2!N25),CSVデータ2!N25,0)+IF(ISNUMBER(CSVデータ3!N25),CSVデータ3!N25,0)+IF(ISNUMBER(CSVデータ4!N25),CSVデータ4!N25,0)","v":254},null,{"$f":"IF(ISNUMBER(CSVデータ1!P25),CSVデータ1!P25,0)+IF(ISNUMBER(CSVデータ2!P25),CSVデータ2!P25,0)+IF(ISNUMBER(CSVデータ3!P25),CSVデータ3!P25,0)+IF(ISNUMBER(CSVデータ4!P25),CSVデータ4!P25,0)","v":1166},null,{"$f":"IF(ISNUMBER(CSVデータ1!R25),CSVデータ1!R25,0)+IF(ISNUMBER(CSVデータ2!R25),CSVデータ2!R25,0)+IF(ISNUMBER(CSVデータ3!R25),CSVデータ3!R25,0)+IF(ISNUMBER(CSVデータ4!R25),CSVデータ4!R25,0)","v":2177},null,{"$f":"IF(ISNUMBER(CSVデータ1!T25),CSVデータ1!T25,0)+IF(ISNUMBER(CSVデータ2!T25),CSVデータ2!T25,0)+IF(ISNUMBER(CSVデータ3!T25),CSVデータ3!T25,0)+IF(ISNUMBER(CSVデータ4!T25),CSVデータ4!T25,0)","v":477},null,{"$f":"IF(ISNUMBER(CSVデータ1!V25),CSVデータ1!V25,0)+IF(ISNUMBER(CSVデータ2!V25),CSVデータ2!V25,0)+IF(ISNUMBER(CSVデータ3!V25),CSVデータ3!V25,0)+IF(ISNUMBER(CSVデータ4!V25),CSVデータ4!V25,0)","v":1710},null,{"$f":"IF(ISNUMBER(CSVデータ1!X25),CSVデータ1!X25,0)+IF(ISNUMBER(CSVデータ2!X25),CSVデータ2!X25,0)+IF(ISNUMBER(CSVデータ3!X25),CSVデータ3!X25,0)+IF(ISNUMBER(CSVデータ4!X25),CSVデータ4!X25,0)","v":1285},null,{"$f":"IF(ISNUMBER(CSVデータ1!Z25),CSVデータ1!Z25,0)+IF(ISNUMBER(CSVデータ2!Z25),CSVデータ2!Z25,0)+IF(ISNUMBER(CSVデータ3!Z25),CSVデータ3!Z25,0)+IF(ISNUMBER(CSVデータ4!Z25),CSVデータ4!Z25,0)","v":1856},null,{"$f":"IF(ISNUMBER(CSVデータ1!AB25),CSVデータ1!AB25,0)+IF(ISNUMBER(CSVデータ2!AB25),CSVデータ2!AB25,0)+IF(ISNUMBER(CSVデータ3!AB25),CSVデータ3!AB25,0)+IF(ISNUMBER(CSVデータ4!AB25),CSVデータ4!AB25,0)","v":69},null,{"$f":"IF(ISNUMBER(CSVデータ1!AD25),CSVデータ1!AD25,0)+IF(ISNUMBER(CSVデータ2!AD25),CSVデータ2!AD25,0)+IF(ISNUMBER(CSVデータ3!AD25),CSVデータ3!AD25,0)+IF(ISNUMBER(CSVデータ4!AD25),CSVデータ4!AD25,0)","v":765},null,{"$f":"IF(ISNUMBER(CSVデータ1!AF25),CSVデータ1!AF25,0)+IF(ISNUMBER(CSVデータ2!AF25),CSVデータ2!AF25,0)+IF(ISNUMBER(CSVデータ3!AF25),CSVデータ3!AF25,0)+IF(ISNUMBER(CSVデータ4!AF25),CSVデータ4!AF25,0)","v":914},null,{"$f":"IF(ISNUMBER(CSVデータ1!AH25),CSVデータ1!AH25,0)+IF(ISNUMBER(CSVデータ2!AH25),CSVデータ2!AH25,0)+IF(ISNUMBER(CSVデータ3!AH25),CSVデータ3!AH25,0)+IF(ISNUMBER(CSVデータ4!AH25),CSVデータ4!AH25,0)","v":106},null,{"$f":"IF(ISNUMBER(CSVデータ1!AJ25),CSVデータ1!AJ25,0)+IF(ISNUMBER(CSVデータ2!AJ25),CSVデータ2!AJ25,0)+IF(ISNUMBER(CSVデータ3!AJ25),CSVデータ3!AJ25,0)+IF(ISNUMBER(CSVデータ4!AJ25),CSVデータ4!AJ25,0)","v":286},null,{"$f":"IF(ISNUMBER(CSVデータ1!AL25),CSVデータ1!AL25,0)+IF(ISNUMBER(CSVデータ2!AL25),CSVデータ2!AL25,0)+IF(ISNUMBER(CSVデータ3!AL25),CSVデータ3!AL25,0)+IF(ISNUMBER(CSVデータ4!AL25),CSVデータ4!AL25,0)","v":627},null,{"$f":"IF(ISNUMBER(CSVデータ1!AN25),CSVデータ1!AN25,0)+IF(ISNUMBER(CSVデータ2!AN25),CSVデータ2!AN25,0)+IF(ISNUMBER(CSVデータ3!AN25),CSVデータ3!AN25,0)+IF(ISNUMBER(CSVデータ4!AN25),CSVデータ4!AN25,0)","v":235}]
[{"$f":"CSVデータ1!A26","v":"明細部"},{"$f":"CSVデータ1!B26","v":"国"},{"$f":"CSVデータ1!C26","v":62},{"$f":"CSVデータ1!D26","v":"男"},{"$f":"IF(ISNUMBER(CSVデータ1!E26),CSVデータ1!E26,0)+IF(ISNUMBER(CSVデータ2!E26),CSVデータ2!E26,0)+IF(ISNUMBER(CSVデータ3!E26),CSVデータ3!E26,0)+IF(ISNUMBER(CSVデータ4!E26),CSVデータ4!E26,0)","v":4116},{"$f":"IF(ISNUMBER(CSVデータ1!F26),CSVデータ1!F26,0)+IF(ISNUMBER(CSVデータ2!F26),CSVデータ2!F26,0)+IF(ISNUMBER(CSVデータ3!F26),CSVデータ3!F26,0)+IF(ISNUMBER(CSVデータ4!F26),CSVデータ4!F26,0)","v":1560},null,{"$f":"IF(ISNUMBER(CSVデータ1!H26),CSVデータ1!H26,0)+IF(ISNUMBER(CSVデータ2!H26),CSVデータ2!H26,0)+IF(ISNUMBER(CSVデータ3!H26),CSVデータ3!H26,0)+IF(ISNUMBER(CSVデータ4!H26),CSVデータ4!H26,0)","v":2256},null,{"$f":"IF(ISNUMBER(CSVデータ1!J26),CSVデータ1!J26,0)+IF(ISNUMBER(CSVデータ2!J26),CSVデータ2!J26,0)+IF(ISNUMBER(CSVデータ3!J26),CSVデータ3!J26,0)+IF(ISNUMBER(CSVデータ4!J26),CSVデータ4!J26,0)","v":829},null,{"$f":"IF(ISNUMBER(CSVデータ1!L26),CSVデータ1!L26,0)+IF(ISNUMBER(CSVデータ2!L26),CSVデータ2!L26,0)+IF(ISNUMBER(CSVデータ3!L26),CSVデータ3!L26,0)+IF(ISNUMBER(CSVデータ4!L26),CSVデータ4!L26,0)","v":934},null,{"$f":"IF(ISNUMBER(CSVデータ1!N26),CSVデータ1!N26,0)+IF(ISNUMBER(CSVデータ2!N26),CSVデータ2!N26,0)+IF(ISNUMBER(CSVデータ3!N26),CSVデータ3!N26,0)+IF(ISNUMBER(CSVデータ4!N26),CSVデータ4!N26,0)","v":241},null,{"$f":"IF(ISNUMBER(CSVデータ1!P26),CSVデータ1!P26,0)+IF(ISNUMBER(CSVデータ2!P26),CSVデータ2!P26,0)+IF(ISNUMBER(CSVデータ3!P26),CSVデータ3!P26,0)+IF(ISNUMBER(CSVデータ4!P26),CSVデータ4!P26,0)","v":1287},null,{"$f":"IF(ISNUMBER(CSVデータ1!R26),CSVデータ1!R26,0)+IF(ISNUMBER(CSVデータ2!R26),CSVデータ2!R26,0)+IF(ISNUMBER(CSVデータ3!R26),CSVデータ3!R26,0)+IF(ISNUMBER(CSVデータ4!R26),CSVデータ4!R26,0)","v":2437},null,{"$f":"IF(ISNUMBER(CSVデータ1!T26),CSVデータ1!T26,0)+IF(ISNUMBER(CSVデータ2!T26),CSVデータ2!T26,0)+IF(ISNUMBER(CSVデータ3!T26),CSVデータ3!T26,0)+IF(ISNUMBER(CSVデータ4!T26),CSVデータ4!T26,0)","v":577},null,{"$f":"IF(ISNUMBER(CSVデータ1!V26),CSVデータ1!V26,0)+IF(ISNUMBER(CSVデータ2!V26),CSVデータ2!V26,0)+IF(ISNUMBER(CSVデータ3!V26),CSVデータ3!V26,0)+IF(ISNUMBER(CSVデータ4!V26),CSVデータ4!V26,0)","v":1884},null,{"$f":"IF(ISNUMBER(CSVデータ1!X26),CSVデータ1!X26,0)+IF(ISNUMBER(CSVデータ2!X26),CSVデータ2!X26,0)+IF(ISNUMBER(CSVデータ3!X26),CSVデータ3!X26,0)+IF(ISNUMBER(CSVデータ4!X26),CSVデータ4!X26,0)","v":1384},null,{"$f":"IF(ISNUMBER(CSVデータ1!Z26),CSVデータ1!Z26,0)+IF(ISNUMBER(CSVデータ2!Z26),CSVデータ2!Z26,0)+IF(ISNUMBER(CSVデータ3!Z26),CSVデータ3!Z26,0)+IF(ISNUMBER(CSVデータ4!Z26),CSVデータ4!Z26,0)","v":1951},null,{"$f":"IF(ISNUMBER(CSVデータ1!AB26),CSVデータ1!AB26,0)+IF(ISNUMBER(CSVデータ2!AB26),CSVデータ2!AB26,0)+IF(ISNUMBER(CSVデータ3!AB26),CSVデータ3!AB26,0)+IF(ISNUMBER(CSVデータ4!AB26),CSVデータ4!AB26,0)","v":81},null,{"$f":"IF(ISNUMBER(CSVデータ1!AD26),CSVデータ1!AD26,0)+IF(ISNUMBER(CSVデータ2!AD26),CSVデータ2!AD26,0)+IF(ISNUMBER(CSVデータ3!AD26),CSVデータ3!AD26,0)+IF(ISNUMBER(CSVデータ4!AD26),CSVデータ4!AD26,0)","v":849},null,{"$f":"IF(ISNUMBER(CSVデータ1!AF26),CSVデータ1!AF26,0)+IF(ISNUMBER(CSVデータ2!AF26),CSVデータ2!AF26,0)+IF(ISNUMBER(CSVデータ3!AF26),CSVデータ3!AF26,0)+IF(ISNUMBER(CSVデータ4!AF26),CSVデータ4!AF26,0)","v":961},null,{"$f":"IF(ISNUMBER(CSVデータ1!AH26),CSVデータ1!AH26,0)+IF(ISNUMBER(CSVデータ2!AH26),CSVデータ2!AH26,0)+IF(ISNUMBER(CSVデータ3!AH26),CSVデータ3!AH26,0)+IF(ISNUMBER(CSVデータ4!AH26),CSVデータ4!AH26,0)","v":98},null,{"$f":"IF(ISNUMBER(CSVデータ1!AJ26),CSVデータ1!AJ26,0)+IF(ISNUMBER(CSVデータ2!AJ26),CSVデータ2!AJ26,0)+IF(ISNUMBER(CSVデータ3!AJ26),CSVデータ3!AJ26,0)+IF(ISNUMBER(CSVデータ4!AJ26),CSVデータ4!AJ26,0)","v":276},null,{"$f":"IF(ISNUMBER(CSVデータ1!AL26),CSVデータ1!AL26,0)+IF(ISNUMBER(CSVデータ2!AL26),CSVデータ2!AL26,0)+IF(ISNUMBER(CSVデータ3!AL26),CSVデータ3!AL26,0)+IF(ISNUMBER(CSVデータ4!AL26),CSVデータ4!AL26,0)","v":735},null,{"$f":"IF(ISNUMBER(CSVデータ1!AN26),CSVデータ1!AN26,0)+IF(ISNUMBER(CSVデータ2!AN26),CSVデータ2!AN26,0)+IF(ISNUMBER(CSVデータ3!AN26),CSVデータ3!AN26,0)+IF(ISNUMBER(CSVデータ4!AN26),CSVデータ4!AN26,0)","v":251}]
[{"$f":"CSVデータ1!A27","v":"明細部"},{"$f":"CSVデータ1!B27","v":"国"},{"$f":"CSVデータ1!C27","v":63},{"$f":"CSVデータ1!D27","v":"男"},{"$f":"IF(ISNUMBER(CSVデータ1!E27),CSVデータ1!E27,0)+IF(ISNUMBER(CSVデータ2!E27),CSVデータ2!E27,0)+IF(ISNUMBER(CSVデータ3!E27),CSVデータ3!E27,0)+IF(ISNUMBER(CSVデータ4!E27),CSVデータ4!E27,0)","v":4785},{"$f":"IF(ISNUMBER(CSVデータ1!F27),CSVデータ1!F27,0)+IF(ISNUMBER(CSVデータ2!F27),CSVデータ2!F27,0)+IF(ISNUMBER(CSVデータ3!F27),CSVデータ3!F27,0)+IF(ISNUMBER(CSVデータ4!F27),CSVデータ4!F27,0)","v":1667},null,{"$f":"IF(ISNUMBER(CSVデータ1!H27),CSVデータ1!H27,0)+IF(ISNUMBER(CSVデータ2!H27),CSVデータ2!H27,0)+IF(ISNUMBER(CSVデータ3!H27),CSVデータ3!H27,0)+IF(ISNUMBER(CSVデータ4!H27),CSVデータ4!H27,0)","v":2515},null,{"$f":"IF(ISNUMBER(CSVデータ1!J27),CSVデータ1!J27,0)+IF(ISNUMBER(CSVデータ2!J27),CSVデータ2!J27,0)+IF(ISNUMBER(CSVデータ3!J27),CSVデータ3!J27,0)+IF(ISNUMBER(CSVデータ4!J27),CSVデータ4!J27,0)","v":911},null,{"$f":"IF(ISNUMBER(CSVデータ1!L27),CSVデータ1!L27,0)+IF(ISNUMBER(CSVデータ2!L27),CSVデータ2!L27,0)+IF(ISNUMBER(CSVデータ3!L27),CSVデータ3!L27,0)+IF(ISNUMBER(CSVデータ4!L27),CSVデータ4!L27,0)","v":1009},null,{"$f":"IF(ISNUMBER(CSVデータ1!N27),CSVデータ1!N27,0)+IF(ISNUMBER(CSVデータ2!N27),CSVデータ2!N27,0)+IF(ISNUMBER(CSVデータ3!N27),CSVデータ3!N27,0)+IF(ISNUMBER(CSVデータ4!N27),CSVデータ4!N27,0)","v":292},null,{"$f":"IF(ISNUMBER(CSVデータ1!P27),CSVデータ1!P27,0)+IF(ISNUMBER(CSVデータ2!P27),CSVデータ2!P27,0)+IF(ISNUMBER(CSVデータ3!P27),CSVデータ3!P27,0)+IF(ISNUMBER(CSVデータ4!P27),CSVデータ4!P27,0)","v":1480},null,{"$f":"IF(ISNUMBER(CSVデータ1!R27),CSVデータ1!R27,0)+IF(ISNUMBER(CSVデータ2!R27),CSVデータ2!R27,0)+IF(ISNUMBER(CSVデータ3!R27),CSVデータ3!R27,0)+IF(ISNUMBER(CSVデータ4!R27),CSVデータ4!R27,0)","v":2728},null,{"$f":"IF(ISNUMBER(CSVデータ1!T27),CSVデータ1!T27,0)+IF(ISNUMBER(CSVデータ2!T27),CSVデータ2!T27,0)+IF(ISNUMBER(CSVデータ3!T27),CSVデータ3!T27,0)+IF(ISNUMBER(CSVデータ4!T27),CSVデータ4!T27,0)","v":617},null,{"$f":"IF(ISNUMBER(CSVデータ1!V27),CSVデータ1!V27,0)+IF(ISNUMBER(CSVデータ2!V27),CSVデータ2!V27,0)+IF(ISNUMBER(CSVデータ3!V27),CSVデータ3!V27,0)+IF(ISNUMBER(CSVデータ4!V27),CSVデータ4!V27,0)","v":2196},null,{"$f":"IF(ISNUMBER(CSVデータ1!X27),CSVデータ1!X27,0)+IF(ISNUMBER(CSVデータ2!X27),CSVデータ2!X27,0)+IF(ISNUMBER(CSVデータ3!X27),CSVデータ3!X27,0)+IF(ISNUMBER(CSVデータ4!X27),CSVデータ4!X27,0)","v":1518},null,{"$f":"IF(ISNUMBER(CSVデータ1!Z27),CSVデータ1!Z27,0)+IF(ISNUMBER(CSVデータ2!Z27),CSVデータ2!Z27,0)+IF(ISNUMBER(CSVデータ3!Z27),CSVデータ3!Z27,0)+IF(ISNUMBER(CSVデータ4!Z27),CSVデータ4!Z27,0)","v":2264},null,{"$f":"IF(ISNUMBER(CSVデータ1!AB27),CSVデータ1!AB27,0)+IF(ISNUMBER(CSVデータ2!AB27),CSVデータ2!AB27,0)+IF(ISNUMBER(CSVデータ3!AB27),CSVデータ3!AB27,0)+IF(ISNUMBER(CSVデータ4!AB27),CSVデータ4!AB27,0)","v":94},null,{"$f":"IF(ISNUMBER(CSVデータ1!AD27),CSVデータ1!AD27,0)+IF(ISNUMBER(CSVデータ2!AD27),CSVデータ2!AD27,0)+IF(ISNUMBER(CSVデータ3!AD27),CSVデータ3!AD27,0)+IF(ISNUMBER(CSVデータ4!AD27),CSVデータ4!AD27,0)","v":989},null,{"$f":"IF(ISNUMBER(CSVデータ1!AF27),CSVデータ1!AF27,0)+IF(ISNUMBER(CSVデータ2!AF27),CSVデータ2!AF27,0)+IF(ISNUMBER(CSVデータ3!AF27),CSVデータ3!AF27,0)+IF(ISNUMBER(CSVデータ4!AF27),CSVデータ4!AF27,0)","v":1153},null,{"$f":"IF(ISNUMBER(CSVデータ1!AH27),CSVデータ1!AH27,0)+IF(ISNUMBER(CSVデータ2!AH27),CSVデータ2!AH27,0)+IF(ISNUMBER(CSVデータ3!AH27),CSVデータ3!AH27,0)+IF(ISNUMBER(CSVデータ4!AH27),CSVデータ4!AH27,0)","v":132},null,{"$f":"IF(ISNUMBER(CSVデータ1!AJ27),CSVデータ1!AJ27,0)+IF(ISNUMBER(CSVデータ2!AJ27),CSVデータ2!AJ27,0)+IF(ISNUMBER(CSVデータ3!AJ27),CSVデータ3!AJ27,0)+IF(ISNUMBER(CSVデータ4!AJ27),CSVデータ4!AJ27,0)","v":317},null,{"$f":"IF(ISNUMBER(CSVデータ1!AL27),CSVデータ1!AL27,0)+IF(ISNUMBER(CSVデータ2!AL27),CSVデータ2!AL27,0)+IF(ISNUMBER(CSVデータ3!AL27),CSVデータ3!AL27,0)+IF(ISNUMBER(CSVデータ4!AL27),CSVデータ4!AL27,0)","v":827},null,{"$f":"IF(ISNUMBER(CSVデータ1!AN27),CSVデータ1!AN27,0)+IF(ISNUMBER(CSVデータ2!AN27),CSVデータ2!AN27,0)+IF(ISNUMBER(CSVデータ3!AN27),CSVデータ3!AN27,0)+IF(ISNUMBER(CSVデータ4!AN27),CSVデータ4!AN27,0)","v":280}]
[{"$f":"CSVデータ1!A28","v":"明細部"},{"$f":"CSVデータ1!B28","v":"国"},{"$f":"CSVデータ1!C28","v":64},{"$f":"CSVデータ1!D28","v":"男"},{"$f":"IF(ISNUMBER(CSVデータ1!E28),CSVデータ1!E28,0)+IF(ISNUMBER(CSVデータ2!E28),CSVデータ2!E28,0)+IF(ISNUMBER(CSVデータ3!E28),CSVデータ3!E28,0)+IF(ISNUMBER(CSVデータ4!E28),CSVデータ4!E28,0)","v":5199},{"$f":"IF(ISNUMBER(CSVデータ1!F28),CSVデータ1!F28,0)+IF(ISNUMBER(CSVデータ2!F28),CSVデータ2!F28,0)+IF(ISNUMBER(CSVデータ3!F28),CSVデータ3!F28,0)+IF(ISNUMBER(CSVデータ4!F28),CSVデータ4!F28,0)","v":1813},null,{"$f":"IF(ISNUMBER(CSVデータ1!H28),CSVデータ1!H28,0)+IF(ISNUMBER(CSVデータ2!H28),CSVデータ2!H28,0)+IF(ISNUMBER(CSVデータ3!H28),CSVデータ3!H28,0)+IF(ISNUMBER(CSVデータ4!H28),CSVデータ4!H28,0)","v":2792},null,{"$f":"IF(ISNUMBER(CSVデータ1!J28),CSVデータ1!J28,0)+IF(ISNUMBER(CSVデータ2!J28),CSVデータ2!J28,0)+IF(ISNUMBER(CSVデータ3!J28),CSVデータ3!J28,0)+IF(ISNUMBER(CSVデータ4!J28),CSVデータ4!J28,0)","v":956},null,{"$f":"IF(ISNUMBER(CSVデータ1!L28),CSVデータ1!L28,0)+IF(ISNUMBER(CSVデータ2!L28),CSVデータ2!L28,0)+IF(ISNUMBER(CSVデータ3!L28),CSVデータ3!L28,0)+IF(ISNUMBER(CSVデータ4!L28),CSVデータ4!L28,0)","v":1108},null,{"$f":"IF(ISNUMBER(CSVデータ1!N28),CSVデータ1!N28,0)+IF(ISNUMBER(CSVデータ2!N28),CSVデータ2!N28,0)+IF(ISNUMBER(CSVデータ3!N28),CSVデータ3!N28,0)+IF(ISNUMBER(CSVデータ4!N28),CSVデータ4!N28,0)","v":301},null,{"$f":"IF(ISNUMBER(CSVデータ1!P28),CSVデータ1!P28,0)+IF(ISNUMBER(CSVデータ2!P28),CSVデータ2!P28,0)+IF(ISNUMBER(CSVデータ3!P28),CSVデータ3!P28,0)+IF(ISNUMBER(CSVデータ4!P28),CSVデータ4!P28,0)","v":1622},null,{"$f":"IF(ISNUMBER(CSVデータ1!R28),CSVデータ1!R28,0)+IF(ISNUMBER(CSVデータ2!R28),CSVデータ2!R28,0)+IF(ISNUMBER(CSVデータ3!R28),CSVデータ3!R28,0)+IF(ISNUMBER(CSVデータ4!R28),CSVデータ4!R28,0)","v":3083},null,{"$f":"IF(ISNUMBER(CSVデータ1!T28),CSVデータ1!T28,0)+IF(ISNUMBER(CSVデータ2!T28),CSVデータ2!T28,0)+IF(ISNUMBER(CSVデータ3!T28),CSVデータ3!T28,0)+IF(ISNUMBER(CSVデータ4!T28),CSVデータ4!T28,0)","v":677},null,{"$f":"IF(ISNUMBER(CSVデータ1!V28),CSVデータ1!V28,0)+IF(ISNUMBER(CSVデータ2!V28),CSVデータ2!V28,0)+IF(ISNUMBER(CSVデータ3!V28),CSVデータ3!V28,0)+IF(ISNUMBER(CSVデータ4!V28),CSVデータ4!V28,0)","v":2466},null,{"$f":"IF(ISNUMBER(CSVデータ1!X28),CSVデータ1!X28,0)+IF(ISNUMBER(CSVデータ2!X28),CSVデータ2!X28,0)+IF(ISNUMBER(CSVデータ3!X28),CSVデータ3!X28,0)+IF(ISNUMBER(CSVデータ4!X28),CSVデータ4!X28,0)","v":1638},null,{"$f":"IF(ISNUMBER(CSVデータ1!Z28),CSVデータ1!Z28,0)+IF(ISNUMBER(CSVデータ2!Z28),CSVデータ2!Z28,0)+IF(ISNUMBER(CSVデータ3!Z28),CSVデータ3!Z28,0)+IF(ISNUMBER(CSVデータ4!Z28),CSVデータ4!Z28,0)","v":2367},null,{"$f":"IF(ISNUMBER(CSVデータ1!AB28),CSVデータ1!AB28,0)+IF(ISNUMBER(CSVデータ2!AB28),CSVデータ2!AB28,0)+IF(ISNUMBER(CSVデータ3!AB28),CSVデータ3!AB28,0)+IF(ISNUMBER(CSVデータ4!AB28),CSVデータ4!AB28,0)","v":112},null,{"$f":"IF(ISNUMBER(CSVデータ1!AD28),CSVデータ1!AD28,0)+IF(ISNUMBER(CSVデータ2!AD28),CSVデータ2!AD28,0)+IF(ISNUMBER(CSVデータ3!AD28),CSVデータ3!AD28,0)+IF(ISNUMBER(CSVデータ4!AD28),CSVデータ4!AD28,0)","v":1122},null,{"$f":"IF(ISNUMBER(CSVデータ1!AF28),CSVデータ1!AF28,0)+IF(ISNUMBER(CSVデータ2!AF28),CSVデータ2!AF28,0)+IF(ISNUMBER(CSVデータ3!AF28),CSVデータ3!AF28,0)+IF(ISNUMBER(CSVデータ4!AF28),CSVデータ4!AF28,0)","v":1209},null,{"$f":"IF(ISNUMBER(CSVデータ1!AH28),CSVデータ1!AH28,0)+IF(ISNUMBER(CSVデータ2!AH28),CSVデータ2!AH28,0)+IF(ISNUMBER(CSVデータ3!AH28),CSVデータ3!AH28,0)+IF(ISNUMBER(CSVデータ4!AH28),CSVデータ4!AH28,0)","v":145},null,{"$f":"IF(ISNUMBER(CSVデータ1!AJ28),CSVデータ1!AJ28,0)+IF(ISNUMBER(CSVデータ2!AJ28),CSVデータ2!AJ28,0)+IF(ISNUMBER(CSVデータ3!AJ28),CSVデータ3!AJ28,0)+IF(ISNUMBER(CSVデータ4!AJ28),CSVデータ4!AJ28,0)","v":341},null,{"$f":"IF(ISNUMBER(CSVデータ1!AL28),CSVデータ1!AL28,0)+IF(ISNUMBER(CSVデータ2!AL28),CSVデータ2!AL28,0)+IF(ISNUMBER(CSVデータ3!AL28),CSVデータ3!AL28,0)+IF(ISNUMBER(CSVデータ4!AL28),CSVデータ4!AL28,0)","v":1016},null,{"$f":"IF(ISNUMBER(CSVデータ1!AN28),CSVデータ1!AN28,0)+IF(ISNUMBER(CSVデータ2!AN28),CSVデータ2!AN28,0)+IF(ISNUMBER(CSVデータ3!AN28),CSVデータ3!AN28,0)+IF(ISNUMBER(CSVデータ4!AN28),CSVデータ4!AN28,0)","v":321}]
[{"$f":"CSVデータ1!A29","v":"明細部"},{"$f":"CSVデータ1!B29","v":"国"},{"$f":"CSVデータ1!C29","v":65},{"$f":"CSVデータ1!D29","v":"男"},{"$f":"IF(ISNUMBER(CSVデータ1!E29),CSVデータ1!E29,0)+IF(ISNUMBER(CSVデータ2!E29),CSVデータ2!E29,0)+IF(ISNUMBER(CSVデータ3!E29),CSVデータ3!E29,0)+IF(ISNUMBER(CSVデータ4!E29),CSVデータ4!E29,0)","v":5998},{"$f":"IF(ISNUMBER(CSVデータ1!F29),CSVデータ1!F29,0)+IF(ISNUMBER(CSVデータ2!F29),CSVデータ2!F29,0)+IF(ISNUMBER(CSVデータ3!F29),CSVデータ3!F29,0)+IF(ISNUMBER(CSVデータ4!F29),CSVデータ4!F29,0)","v":2223},null,{"$f":"IF(ISNUMBER(CSVデータ1!H29),CSVデータ1!H29,0)+IF(ISNUMBER(CSVデータ2!H29),CSVデータ2!H29,0)+IF(ISNUMBER(CSVデータ3!H29),CSVデータ3!H29,0)+IF(ISNUMBER(CSVデータ4!H29),CSVデータ4!H29,0)","v":3369},null,{"$f":"IF(ISNUMBER(CSVデータ1!J29),CSVデータ1!J29,0)+IF(ISNUMBER(CSVデータ2!J29),CSVデータ2!J29,0)+IF(ISNUMBER(CSVデータ3!J29),CSVデータ3!J29,0)+IF(ISNUMBER(CSVデータ4!J29),CSVデータ4!J29,0)","v":1193},null,{"$f":"IF(ISNUMBER(CSVデータ1!L29),CSVデータ1!L29,0)+IF(ISNUMBER(CSVデータ2!L29),CSVデータ2!L29,0)+IF(ISNUMBER(CSVデータ3!L29),CSVデータ3!L29,0)+IF(ISNUMBER(CSVデータ4!L29),CSVデータ4!L29,0)","v":1255},null,{"$f":"IF(ISNUMBER(CSVデータ1!N29),CSVデータ1!N29,0)+IF(ISNUMBER(CSVデータ2!N29),CSVデータ2!N29,0)+IF(ISNUMBER(CSVデータ3!N29),CSVデータ3!N29,0)+IF(ISNUMBER(CSVデータ4!N29),CSVデータ4!N29,0)","v":377},null,{"$f":"IF(ISNUMBER(CSVデータ1!P29),CSVデータ1!P29,0)+IF(ISNUMBER(CSVデータ2!P29),CSVデータ2!P29,0)+IF(ISNUMBER(CSVデータ3!P29),CSVデータ3!P29,0)+IF(ISNUMBER(CSVデータ4!P29),CSVデータ4!P29,0)","v":2036},null,{"$f":"IF(ISNUMBER(CSVデータ1!R29),CSVデータ1!R29,0)+IF(ISNUMBER(CSVデータ2!R29),CSVデータ2!R29,0)+IF(ISNUMBER(CSVデータ3!R29),CSVデータ3!R29,0)+IF(ISNUMBER(CSVデータ4!R29),CSVデータ4!R29,0)","v":3782},null,{"$f":"IF(ISNUMBER(CSVデータ1!T29),CSVデータ1!T29,0)+IF(ISNUMBER(CSVデータ2!T29),CSVデータ2!T29,0)+IF(ISNUMBER(CSVデータ3!T29),CSVデータ3!T29,0)+IF(ISNUMBER(CSVデータ4!T29),CSVデータ4!T29,0)","v":801},null,{"$f":"IF(ISNUMBER(CSVデータ1!V29),CSVデータ1!V29,0)+IF(ISNUMBER(CSVデータ2!V29),CSVデータ2!V29,0)+IF(ISNUMBER(CSVデータ3!V29),CSVデータ3!V29,0)+IF(ISNUMBER(CSVデータ4!V29),CSVデータ4!V29,0)","v":2913},null,{"$f":"IF(ISNUMBER(CSVデータ1!X29),CSVデータ1!X29,0)+IF(ISNUMBER(CSVデータ2!X29),CSVデータ2!X29,0)+IF(ISNUMBER(CSVデータ3!X29),CSVデータ3!X29,0)+IF(ISNUMBER(CSVデータ4!X29),CSVデータ4!X29,0)","v":1887},null,{"$f":"IF(ISNUMBER(CSVデータ1!Z29),CSVデータ1!Z29,0)+IF(ISNUMBER(CSVデータ2!Z29),CSVデータ2!Z29,0)+IF(ISNUMBER(CSVデータ3!Z29),CSVデータ3!Z29,0)+IF(ISNUMBER(CSVデータ4!Z29),CSVデータ4!Z29,0)","v":2804},null,{"$f":"IF(ISNUMBER(CSVデータ1!AB29),CSVデータ1!AB29,0)+IF(ISNUMBER(CSVデータ2!AB29),CSVデータ2!AB29,0)+IF(ISNUMBER(CSVデータ3!AB29),CSVデータ3!AB29,0)+IF(ISNUMBER(CSVデータ4!AB29),CSVデータ4!AB29,0)","v":131},null,{"$f":"IF(ISNUMBER(CSVデータ1!AD29),CSVデータ1!AD29,0)+IF(ISNUMBER(CSVデータ2!AD29),CSVデータ2!AD29,0)+IF(ISNUMBER(CSVデータ3!AD29),CSVデータ3!AD29,0)+IF(ISNUMBER(CSVデータ4!AD29),CSVデータ4!AD29,0)","v":1362},null,{"$f":"IF(ISNUMBER(CSVデータ1!AF29),CSVデータ1!AF29,0)+IF(ISNUMBER(CSVデータ2!AF29),CSVデータ2!AF29,0)+IF(ISNUMBER(CSVデータ3!AF29),CSVデータ3!AF29,0)+IF(ISNUMBER(CSVデータ4!AF29),CSVデータ4!AF29,0)","v":1493},null,{"$f":"IF(ISNUMBER(CSVデータ1!AH29),CSVデータ1!AH29,0)+IF(ISNUMBER(CSVデータ2!AH29),CSVデータ2!AH29,0)+IF(ISNUMBER(CSVデータ3!AH29),CSVデータ3!AH29,0)+IF(ISNUMBER(CSVデータ4!AH29),CSVデータ4!AH29,0)","v":151},null,{"$f":"IF(ISNUMBER(CSVデータ1!AJ29),CSVデータ1!AJ29,0)+IF(ISNUMBER(CSVデータ2!AJ29),CSVデータ2!AJ29,0)+IF(ISNUMBER(CSVデータ3!AJ29),CSVデータ3!AJ29,0)+IF(ISNUMBER(CSVデータ4!AJ29),CSVデータ4!AJ29,0)","v":412},null,{"$f":"IF(ISNUMBER(CSVデータ1!AL29),CSVデータ1!AL29,0)+IF(ISNUMBER(CSVデータ2!AL29),CSVデータ2!AL29,0)+IF(ISNUMBER(CSVデータ3!AL29),CSVデータ3!AL29,0)+IF(ISNUMBER(CSVデータ4!AL29),CSVデータ4!AL29,0)","v":1305},null,{"$f":"IF(ISNUMBER(CSVデータ1!AN29),CSVデータ1!AN29,0)+IF(ISNUMBER(CSVデータ2!AN29),CSVデータ2!AN29,0)+IF(ISNUMBER(CSVデータ3!AN29),CSVデータ3!AN29,0)+IF(ISNUMBER(CSVデータ4!AN29),CSVデータ4!AN29,0)","v":376}]
[{"$f":"CSVデータ1!A30","v":"明細部"},{"$f":"CSVデータ1!B30","v":"国"},{"$f":"CSVデータ1!C30","v":66},{"$f":"CSVデータ1!D30","v":"男"},{"$f":"IF(ISNUMBER(CSVデータ1!E30),CSVデータ1!E30,0)+IF(ISNUMBER(CSVデータ2!E30),CSVデータ2!E30,0)+IF(ISNUMBER(CSVデータ3!E30),CSVデータ3!E30,0)+IF(ISNUMBER(CSVデータ4!E30),CSVデータ4!E30,0)","v":8024},{"$f":"IF(ISNUMBER(CSVデータ1!F30),CSVデータ1!F30,0)+IF(ISNUMBER(CSVデータ2!F30),CSVデータ2!F30,0)+IF(ISNUMBER(CSVデータ3!F30),CSVデータ3!F30,0)+IF(ISNUMBER(CSVデータ4!F30),CSVデータ4!F30,0)","v":2757},null,{"$f":"IF(ISNUMBER(CSVデータ1!H30),CSVデータ1!H30,0)+IF(ISNUMBER(CSVデータ2!H30),CSVデータ2!H30,0)+IF(ISNUMBER(CSVデータ3!H30),CSVデータ3!H30,0)+IF(ISNUMBER(CSVデータ4!H30),CSVデータ4!H30,0)","v":4431},null,{"$f":"IF(ISNUMBER(CSVデータ1!J30),CSVデータ1!J30,0)+IF(ISNUMBER(CSVデータ2!J30),CSVデータ2!J30,0)+IF(ISNUMBER(CSVデータ3!J30),CSVデータ3!J30,0)+IF(ISNUMBER(CSVデータ4!J30),CSVデータ4!J30,0)","v":1561},null,{"$f":"IF(ISNUMBER(CSVデータ1!L30),CSVデータ1!L30,0)+IF(ISNUMBER(CSVデータ2!L30),CSVデータ2!L30,0)+IF(ISNUMBER(CSVデータ3!L30),CSVデータ3!L30,0)+IF(ISNUMBER(CSVデータ4!L30),CSVデータ4!L30,0)","v":1602},null,{"$f":"IF(ISNUMBER(CSVデータ1!N30),CSVデータ1!N30,0)+IF(ISNUMBER(CSVデータ2!N30),CSVデータ2!N30,0)+IF(ISNUMBER(CSVデータ3!N30),CSVデータ3!N30,0)+IF(ISNUMBER(CSVデータ4!N30),CSVデータ4!N30,0)","v":503},null,{"$f":"IF(ISNUMBER(CSVデータ1!P30),CSVデータ1!P30,0)+IF(ISNUMBER(CSVデータ2!P30),CSVデータ2!P30,0)+IF(ISNUMBER(CSVデータ3!P30),CSVデータ3!P30,0)+IF(ISNUMBER(CSVデータ4!P30),CSVデータ4!P30,0)","v":2732},null,{"$f":"IF(ISNUMBER(CSVデータ1!R30),CSVデータ1!R30,0)+IF(ISNUMBER(CSVデータ2!R30),CSVデータ2!R30,0)+IF(ISNUMBER(CSVデータ3!R30),CSVデータ3!R30,0)+IF(ISNUMBER(CSVデータ4!R30),CSVデータ4!R30,0)","v":5069},null,{"$f":"IF(ISNUMBER(CSVデータ1!T30),CSVデータ1!T30,0)+IF(ISNUMBER(CSVデータ2!T30),CSVデータ2!T30,0)+IF(ISNUMBER(CSVデータ3!T30),CSVデータ3!T30,0)+IF(ISNUMBER(CSVデータ4!T30),CSVデータ4!T30,0)","v":1018},null,{"$f":"IF(ISNUMBER(CSVデータ1!V30),CSVデータ1!V30,0)+IF(ISNUMBER(CSVデータ2!V30),CSVデータ2!V30,0)+IF(ISNUMBER(CSVデータ3!V30),CSVデータ3!V30,0)+IF(ISNUMBER(CSVデータ4!V30),CSVデータ4!V30,0)","v":4064},null,{"$f":"IF(ISNUMBER(CSVデータ1!X30),CSVデータ1!X30,0)+IF(ISNUMBER(CSVデータ2!X30),CSVデータ2!X30,0)+IF(ISNUMBER(CSVデータ3!X30),CSVデータ3!X30,0)+IF(ISNUMBER(CSVデータ4!X30),CSVデータ4!X30,0)","v":2477},null,{"$f":"IF(ISNUMBER(CSVデータ1!Z30),CSVデータ1!Z30,0)+IF(ISNUMBER(CSVデータ2!Z30),CSVデータ2!Z30,0)+IF(ISNUMBER(CSVデータ3!Z30),CSVデータ3!Z30,0)+IF(ISNUMBER(CSVデータ4!Z30),CSVデータ4!Z30,0)","v":3599},null,{"$f":"IF(ISNUMBER(CSVデータ1!AB30),CSVデータ1!AB30,0)+IF(ISNUMBER(CSVデータ2!AB30),CSVデータ2!AB30,0)+IF(ISNUMBER(CSVデータ3!AB30),CSVデータ3!AB30,0)+IF(ISNUMBER(CSVデータ4!AB30),CSVデータ4!AB30,0)","v":198},null,{"$f":"IF(ISNUMBER(CSVデータ1!AD30),CSVデータ1!AD30,0)+IF(ISNUMBER(CSVデータ2!AD30),CSVデータ2!AD30,0)+IF(ISNUMBER(CSVデータ3!AD30),CSVデータ3!AD30,0)+IF(ISNUMBER(CSVデータ4!AD30),CSVデータ4!AD30,0)","v":1939},null,{"$f":"IF(ISNUMBER(CSVデータ1!AF30),CSVデータ1!AF30,0)+IF(ISNUMBER(CSVデータ2!AF30),CSVデータ2!AF30,0)+IF(ISNUMBER(CSVデータ3!AF30),CSVデータ3!AF30,0)+IF(ISNUMBER(CSVデータ4!AF30),CSVデータ4!AF30,0)","v":2128},null,{"$f":"IF(ISNUMBER(CSVデータ1!AH30),CSVデータ1!AH30,0)+IF(ISNUMBER(CSVデータ2!AH30),CSVデータ2!AH30,0)+IF(ISNUMBER(CSVデータ3!AH30),CSVデータ3!AH30,0)+IF(ISNUMBER(CSVデータ4!AH30),CSVデータ4!AH30,0)","v":251},null,{"$f":"IF(ISNUMBER(CSVデータ1!AJ30),CSVデータ1!AJ30,0)+IF(ISNUMBER(CSVデータ2!AJ30),CSVデータ2!AJ30,0)+IF(ISNUMBER(CSVデータ3!AJ30),CSVデータ3!AJ30,0)+IF(ISNUMBER(CSVデータ4!AJ30),CSVデータ4!AJ30,0)","v":538},null,{"$f":"IF(ISNUMBER(CSVデータ1!AL30),CSVデータ1!AL30,0)+IF(ISNUMBER(CSVデータ2!AL30),CSVデータ2!AL30,0)+IF(ISNUMBER(CSVデータ3!AL30),CSVデータ3!AL30,0)+IF(ISNUMBER(CSVデータ4!AL30),CSVデータ4!AL30,0)","v":1893},null,{"$f":"IF(ISNUMBER(CSVデータ1!AN30),CSVデータ1!AN30,0)+IF(ISNUMBER(CSVデータ2!AN30),CSVデータ2!AN30,0)+IF(ISNUMBER(CSVデータ3!AN30),CSVデータ3!AN30,0)+IF(ISNUMBER(CSVデータ4!AN30),CSVデータ4!AN30,0)","v":540}]
[{"$f":"CSVデータ1!A31","v":"明細部"},{"$f":"CSVデータ1!B31","v":"国"},{"$f":"CSVデータ1!C31","v":67},{"$f":"CSVデータ1!D31","v":"男"},{"$f":"IF(ISNUMBER(CSVデータ1!E31),CSVデータ1!E31,0)+IF(ISNUMBER(CSVデータ2!E31),CSVデータ2!E31,0)+IF(ISNUMBER(CSVデータ3!E31),CSVデータ3!E31,0)+IF(ISNUMBER(CSVデータ4!E31),CSVデータ4!E31,0)","v":9381},{"$f":"IF(ISNUMBER(CSVデータ1!F31),CSVデータ1!F31,0)+IF(ISNUMBER(CSVデータ2!F31),CSVデータ2!F31,0)+IF(ISNUMBER(CSVデータ3!F31),CSVデータ3!F31,0)+IF(ISNUMBER(CSVデータ4!F31),CSVデータ4!F31,0)","v":3281},null,{"$f":"IF(ISNUMBER(CSVデータ1!H31),CSVデータ1!H31,0)+IF(ISNUMBER(CSVデータ2!H31),CSVデータ2!H31,0)+IF(ISNUMBER(CSVデータ3!H31),CSVデータ3!H31,0)+IF(ISNUMBER(CSVデータ4!H31),CSVデータ4!H31,0)","v":5307},null,{"$f":"IF(ISNUMBER(CSVデータ1!J31),CSVデータ1!J31,0)+IF(ISNUMBER(CSVデータ2!J31),CSVデータ2!J31,0)+IF(ISNUMBER(CSVデータ3!J31),CSVデータ3!J31,0)+IF(ISNUMBER(CSVデータ4!J31),CSVデータ4!J31,0)","v":1749},null,{"$f":"IF(ISNUMBER(CSVデータ1!L31),CSVデータ1!L31,0)+IF(ISNUMBER(CSVデータ2!L31),CSVデータ2!L31,0)+IF(ISNUMBER(CSVデータ3!L31),CSVデータ3!L31,0)+IF(ISNUMBER(CSVデータ4!L31),CSVデータ4!L31,0)","v":1743},null,{"$f":"IF(ISNUMBER(CSVデータ1!N31),CSVデータ1!N31,0)+IF(ISNUMBER(CSVデータ2!N31),CSVデータ2!N31,0)+IF(ISNUMBER(CSVデータ3!N31),CSVデータ3!N31,0)+IF(ISNUMBER(CSVデータ4!N31),CSVデータ4!N31,0)","v":560},null,{"$f":"IF(ISNUMBER(CSVデータ1!P31),CSVデータ1!P31,0)+IF(ISNUMBER(CSVデータ2!P31),CSVデータ2!P31,0)+IF(ISNUMBER(CSVデータ3!P31),CSVデータ3!P31,0)+IF(ISNUMBER(CSVデータ4!P31),CSVデータ4!P31,0)","v":3166},null,{"$f":"IF(ISNUMBER(CSVデータ1!R31),CSVデータ1!R31,0)+IF(ISNUMBER(CSVデータ2!R31),CSVデータ2!R31,0)+IF(ISNUMBER(CSVデータ3!R31),CSVデータ3!R31,0)+IF(ISNUMBER(CSVデータ4!R31),CSVデータ4!R31,0)","v":5861},null,{"$f":"IF(ISNUMBER(CSVデータ1!T31),CSVデータ1!T31,0)+IF(ISNUMBER(CSVデータ2!T31),CSVデータ2!T31,0)+IF(ISNUMBER(CSVデータ3!T31),CSVデータ3!T31,0)+IF(ISNUMBER(CSVデータ4!T31),CSVデータ4!T31,0)","v":1109},null,{"$f":"IF(ISNUMBER(CSVデータ1!V31),CSVデータ1!V31,0)+IF(ISNUMBER(CSVデータ2!V31),CSVデータ2!V31,0)+IF(ISNUMBER(CSVデータ3!V31),CSVデータ3!V31,0)+IF(ISNUMBER(CSVデータ4!V31),CSVデータ4!V31,0)","v":4690},null,{"$f":"IF(ISNUMBER(CSVデータ1!X31),CSVデータ1!X31,0)+IF(ISNUMBER(CSVデータ2!X31),CSVデータ2!X31,0)+IF(ISNUMBER(CSVデータ3!X31),CSVデータ3!X31,0)+IF(ISNUMBER(CSVデータ4!X31),CSVデータ4!X31,0)","v":2642},null,{"$f":"IF(ISNUMBER(CSVデータ1!Z31),CSVデータ1!Z31,0)+IF(ISNUMBER(CSVデータ2!Z31),CSVデータ2!Z31,0)+IF(ISNUMBER(CSVデータ3!Z31),CSVデータ3!Z31,0)+IF(ISNUMBER(CSVデータ4!Z31),CSVデータ4!Z31,0)","v":4210},null,{"$f":"IF(ISNUMBER(CSVデータ1!AB31),CSVデータ1!AB31,0)+IF(ISNUMBER(CSVデータ2!AB31),CSVデータ2!AB31,0)+IF(ISNUMBER(CSVデータ3!AB31),CSVデータ3!AB31,0)+IF(ISNUMBER(CSVデータ4!AB31),CSVデータ4!AB31,0)","v":226},null,{"$f":"IF(ISNUMBER(CSVデータ1!AD31),CSVデータ1!AD31,0)+IF(ISNUMBER(CSVデータ2!AD31),CSVデータ2!AD31,0)+IF(ISNUMBER(CSVデータ3!AD31),CSVデータ3!AD31,0)+IF(ISNUMBER(CSVデータ4!AD31),CSVデータ4!AD31,0)","v":2256},null,{"$f":"IF(ISNUMBER(CSVデータ1!AF31),CSVデータ1!AF31,0)+IF(ISNUMBER(CSVデータ2!AF31),CSVデータ2!AF31,0)+IF(ISNUMBER(CSVデータ3!AF31),CSVデータ3!AF31,0)+IF(ISNUMBER(CSVデータ4!AF31),CSVデータ4!AF31,0)","v":2393},null,{"$f":"IF(ISNUMBER(CSVデータ1!AH31),CSVデータ1!AH31,0)+IF(ISNUMBER(CSVデータ2!AH31),CSVデータ2!AH31,0)+IF(ISNUMBER(CSVデータ3!AH31),CSVデータ3!AH31,0)+IF(ISNUMBER(CSVデータ4!AH31),CSVデータ4!AH31,0)","v":255},null,{"$f":"IF(ISNUMBER(CSVデータ1!AJ31),CSVデータ1!AJ31,0)+IF(ISNUMBER(CSVデータ2!AJ31),CSVデータ2!AJ31,0)+IF(ISNUMBER(CSVデータ3!AJ31),CSVデータ3!AJ31,0)+IF(ISNUMBER(CSVデータ4!AJ31),CSVデータ4!AJ31,0)","v":589},null,{"$f":"IF(ISNUMBER(CSVデータ1!AL31),CSVデータ1!AL31,0)+IF(ISNUMBER(CSVデータ2!AL31),CSVデータ2!AL31,0)+IF(ISNUMBER(CSVデータ3!AL31),CSVデータ3!AL31,0)+IF(ISNUMBER(CSVデータ4!AL31),CSVデータ4!AL31,0)","v":2280},null,{"$f":"IF(ISNUMBER(CSVデータ1!AN31),CSVデータ1!AN31,0)+IF(ISNUMBER(CSVデータ2!AN31),CSVデータ2!AN31,0)+IF(ISNUMBER(CSVデータ3!AN31),CSVデータ3!AN31,0)+IF(ISNUMBER(CSVデータ4!AN31),CSVデータ4!AN31,0)","v":581}]
[{"$f":"CSVデータ1!A32","v":"明細部"},{"$f":"CSVデータ1!B32","v":"国"},{"$f":"CSVデータ1!C32","v":68},{"$f":"CSVデータ1!D32","v":"男"},{"$f":"IF(ISNUMBER(CSVデータ1!E32),CSVデータ1!E32,0)+IF(ISNUMBER(CSVデータ2!E32),CSVデータ2!E32,0)+IF(ISNUMBER(CSVデータ3!E32),CSVデータ3!E32,0)+IF(ISNUMBER(CSVデータ4!E32),CSVデータ4!E32,0)","v":11160},{"$f":"IF(ISNUMBER(CSVデータ1!F32),CSVデータ1!F32,0)+IF(ISNUMBER(CSVデータ2!F32),CSVデータ2!F32,0)+IF(ISNUMBER(CSVデータ3!F32),CSVデータ3!F32,0)+IF(ISNUMBER(CSVデータ4!F32),CSVデータ4!F32,0)","v":3790},null,{"$f":"IF(ISNUMBER(CSVデータ1!H32),CSVデータ1!H32,0)+IF(ISNUMBER(CSVデータ2!H32),CSVデータ2!H32,0)+IF(ISNUMBER(CSVデータ3!H32),CSVデータ3!H32,0)+IF(ISNUMBER(CSVデータ4!H32),CSVデータ4!H32,0)","v":6148},null,{"$f":"IF(ISNUMBER(CSVデータ1!J32),CSVデータ1!J32,0)+IF(ISNUMBER(CSVデータ2!J32),CSVデータ2!J32,0)+IF(ISNUMBER(CSVデータ3!J32),CSVデータ3!J32,0)+IF(ISNUMBER(CSVデータ4!J32),CSVデータ4!J32,0)","v":2025},null,{"$f":"IF(ISNUMBER(CSVデータ1!L32),CSVデータ1!L32,0)+IF(ISNUMBER(CSVデータ2!L32),CSVデータ2!L32,0)+IF(ISNUMBER(CSVデータ3!L32),CSVデータ3!L32,0)+IF(ISNUMBER(CSVデータ4!L32),CSVデータ4!L32,0)","v":2016},null,{"$f":"IF(ISNUMBER(CSVデータ1!N32),CSVデータ1!N32,0)+IF(ISNUMBER(CSVデータ2!N32),CSVデータ2!N32,0)+IF(ISNUMBER(CSVデータ3!N32),CSVデータ3!N32,0)+IF(ISNUMBER(CSVデータ4!N32),CSVデータ4!N32,0)","v":687},null,{"$f":"IF(ISNUMBER(CSVデータ1!P32),CSVデータ1!P32,0)+IF(ISNUMBER(CSVデータ2!P32),CSVデータ2!P32,0)+IF(ISNUMBER(CSVデータ3!P32),CSVデータ3!P32,0)+IF(ISNUMBER(CSVデータ4!P32),CSVデータ4!P32,0)","v":3843},null,{"$f":"IF(ISNUMBER(CSVデータ1!R32),CSVデータ1!R32,0)+IF(ISNUMBER(CSVデータ2!R32),CSVデータ2!R32,0)+IF(ISNUMBER(CSVデータ3!R32),CSVデータ3!R32,0)+IF(ISNUMBER(CSVデータ4!R32),CSVデータ4!R32,0)","v":7170},null,{"$f":"IF(ISNUMBER(CSVデータ1!T32),CSVデータ1!T32,0)+IF(ISNUMBER(CSVデータ2!T32),CSVデータ2!T32,0)+IF(ISNUMBER(CSVデータ3!T32),CSVデータ3!T32,0)+IF(ISNUMBER(CSVデータ4!T32),CSVデータ4!T32,0)","v":1285},null,{"$f":"IF(ISNUMBER(CSVデータ1!V32),CSVデータ1!V32,0)+IF(ISNUMBER(CSVデータ2!V32),CSVデータ2!V32,0)+IF(ISNUMBER(CSVデータ3!V32),CSVデータ3!V32,0)+IF(ISNUMBER(CSVデータ4!V32),CSVデータ4!V32,0)","v":5791},null,{"$f":"IF(ISNUMBER(CSVデータ1!X32),CSVデータ1!X32,0)+IF(ISNUMBER(CSVデータ2!X32),CSVデータ2!X32,0)+IF(ISNUMBER(CSVデータ3!X32),CSVデータ3!X32,0)+IF(ISNUMBER(CSVデータ4!X32),CSVデータ4!X32,0)","v":2991},null,{"$f":"IF(ISNUMBER(CSVデータ1!Z32),CSVデータ1!Z32,0)+IF(ISNUMBER(CSVデータ2!Z32),CSVデータ2!Z32,0)+IF(ISNUMBER(CSVデータ3!Z32),CSVデータ3!Z32,0)+IF(ISNUMBER(CSVデータ4!Z32),CSVデータ4!Z32,0)","v":4937},null,{"$f":"IF(ISNUMBER(CSVデータ1!AB32),CSVデータ1!AB32,0)+IF(ISNUMBER(CSVデータ2!AB32),CSVデータ2!AB32,0)+IF(ISNUMBER(CSVデータ3!AB32),CSVデータ3!AB32,0)+IF(ISNUMBER(CSVデータ4!AB32),CSVデータ4!AB32,0)","v":311},null,{"$f":"IF(ISNUMBER(CSVデータ1!AD32),CSVデータ1!AD32,0)+IF(ISNUMBER(CSVデータ2!AD32),CSVデータ2!AD32,0)+IF(ISNUMBER(CSVデータ3!AD32),CSVデータ3!AD32,0)+IF(ISNUMBER(CSVデータ4!AD32),CSVデータ4!AD32,0)","v":2779},null,{"$f":"IF(ISNUMBER(CSVデータ1!AF32),CSVデータ1!AF32,0)+IF(ISNUMBER(CSVデータ2!AF32),CSVデータ2!AF32,0)+IF(ISNUMBER(CSVデータ3!AF32),CSVデータ3!AF32,0)+IF(ISNUMBER(CSVデータ4!AF32),CSVデータ4!AF32,0)","v":2775},null,{"$f":"IF(ISNUMBER(CSVデータ1!AH32),CSVデータ1!AH32,0)+IF(ISNUMBER(CSVデータ2!AH32),CSVデータ2!AH32,0)+IF(ISNUMBER(CSVデータ3!AH32),CSVデータ3!AH32,0)+IF(ISNUMBER(CSVデータ4!AH32),CSVデータ4!AH32,0)","v":330},null,{"$f":"IF(ISNUMBER(CSVデータ1!AJ32),CSVデータ1!AJ32,0)+IF(ISNUMBER(CSVデータ2!AJ32),CSVデータ2!AJ32,0)+IF(ISNUMBER(CSVデータ3!AJ32),CSVデータ3!AJ32,0)+IF(ISNUMBER(CSVデータ4!AJ32),CSVデータ4!AJ32,0)","v":684},null,{"$f":"IF(ISNUMBER(CSVデータ1!AL32),CSVデータ1!AL32,0)+IF(ISNUMBER(CSVデータ2!AL32),CSVデータ2!AL32,0)+IF(ISNUMBER(CSVデータ3!AL32),CSVデータ3!AL32,0)+IF(ISNUMBER(CSVデータ4!AL32),CSVデータ4!AL32,0)","v":2812},null,{"$f":"IF(ISNUMBER(CSVデータ1!AN32),CSVデータ1!AN32,0)+IF(ISNUMBER(CSVデータ2!AN32),CSVデータ2!AN32,0)+IF(ISNUMBER(CSVデータ3!AN32),CSVデータ3!AN32,0)+IF(ISNUMBER(CSVデータ4!AN32),CSVデータ4!AN32,0)","v":696}]
[{"$f":"CSVデータ1!A33","v":"明細部"},{"$f":"CSVデータ1!B33","v":"国"},{"$f":"CSVデータ1!C33","v":69},{"$f":"CSVデータ1!D33","v":"男"},{"$f":"IF(ISNUMBER(CSVデータ1!E33),CSVデータ1!E33,0)+IF(ISNUMBER(CSVデータ2!E33),CSVデータ2!E33,0)+IF(ISNUMBER(CSVデータ3!E33),CSVデータ3!E33,0)+IF(ISNUMBER(CSVデータ4!E33),CSVデータ4!E33,0)","v":12759},{"$f":"IF(ISNUMBER(CSVデータ1!F33),CSVデータ1!F33,0)+IF(ISNUMBER(CSVデータ2!F33),CSVデータ2!F33,0)+IF(ISNUMBER(CSVデータ3!F33),CSVデータ3!F33,0)+IF(ISNUMBER(CSVデータ4!F33),CSVデータ4!F33,0)","v":4173},null,{"$f":"IF(ISNUMBER(CSVデータ1!H33),CSVデータ1!H33,0)+IF(ISNUMBER(CSVデータ2!H33),CSVデータ2!H33,0)+IF(ISNUMBER(CSVデータ3!H33),CSVデータ3!H33,0)+IF(ISNUMBER(CSVデータ4!H33),CSVデータ4!H33,0)","v":7048},null,{"$f":"IF(ISNUMBER(CSVデータ1!J33),CSVデータ1!J33,0)+IF(ISNUMBER(CSVデータ2!J33),CSVデータ2!J33,0)+IF(ISNUMBER(CSVデータ3!J33),CSVデータ3!J33,0)+IF(ISNUMBER(CSVデータ4!J33),CSVデータ4!J33,0)","v":2192},null,{"$f":"IF(ISNUMBER(CSVデータ1!L33),CSVデータ1!L33,0)+IF(ISNUMBER(CSVデータ2!L33),CSVデータ2!L33,0)+IF(ISNUMBER(CSVデータ3!L33),CSVデータ3!L33,0)+IF(ISNUMBER(CSVデータ4!L33),CSVデータ4!L33,0)","v":2100},null,{"$f":"IF(ISNUMBER(CSVデータ1!N33),CSVデータ1!N33,0)+IF(ISNUMBER(CSVデータ2!N33),CSVデータ2!N33,0)+IF(ISNUMBER(CSVデータ3!N33),CSVデータ3!N33,0)+IF(ISNUMBER(CSVデータ4!N33),CSVデータ4!N33,0)","v":755},null,{"$f":"IF(ISNUMBER(CSVデータ1!P33),CSVデータ1!P33,0)+IF(ISNUMBER(CSVデータ2!P33),CSVデータ2!P33,0)+IF(ISNUMBER(CSVデータ3!P33),CSVデータ3!P33,0)+IF(ISNUMBER(CSVデータ4!P33),CSVデータ4!P33,0)","v":4489},null,{"$f":"IF(ISNUMBER(CSVデータ1!R33),CSVデータ1!R33,0)+IF(ISNUMBER(CSVデータ2!R33),CSVデータ2!R33,0)+IF(ISNUMBER(CSVデータ3!R33),CSVデータ3!R33,0)+IF(ISNUMBER(CSVデータ4!R33),CSVデータ4!R33,0)","v":8188},null,{"$f":"IF(ISNUMBER(CSVデータ1!T33),CSVデータ1!T33,0)+IF(ISNUMBER(CSVデータ2!T33),CSVデータ2!T33,0)+IF(ISNUMBER(CSVデータ3!T33),CSVデータ3!T33,0)+IF(ISNUMBER(CSVデータ4!T33),CSVデータ4!T33,0)","v":1398},null,{"$f":"IF(ISNUMBER(CSVデータ1!V33),CSVデータ1!V33,0)+IF(ISNUMBER(CSVデータ2!V33),CSVデータ2!V33,0)+IF(ISNUMBER(CSVデータ3!V33),CSVデータ3!V33,0)+IF(ISNUMBER(CSVデータ4!V33),CSVデータ4!V33,0)","v":6455},null,{"$f":"IF(ISNUMBER(CSVデータ1!X33),CSVデータ1!X33,0)+IF(ISNUMBER(CSVデータ2!X33),CSVデータ2!X33,0)+IF(ISNUMBER(CSVデータ3!X33),CSVデータ3!X33,0)+IF(ISNUMBER(CSVデータ4!X33),CSVデータ4!X33,0)","v":3172},null,{"$f":"IF(ISNUMBER(CSVデータ1!Z33),CSVデータ1!Z33,0)+IF(ISNUMBER(CSVデータ2!Z33),CSVデータ2!Z33,0)+IF(ISNUMBER(CSVデータ3!Z33),CSVデータ3!Z33,0)+IF(ISNUMBER(CSVデータ4!Z33),CSVデータ4!Z33,0)","v":5429},null,{"$f":"IF(ISNUMBER(CSVデータ1!AB33),CSVデータ1!AB33,0)+IF(ISNUMBER(CSVデータ2!AB33),CSVデータ2!AB33,0)+IF(ISNUMBER(CSVデータ3!AB33),CSVデータ3!AB33,0)+IF(ISNUMBER(CSVデータ4!AB33),CSVデータ4!AB33,0)","v":359},null,{"$f":"IF(ISNUMBER(CSVデータ1!AD33),CSVデータ1!AD33,0)+IF(ISNUMBER(CSVデータ2!AD33),CSVデータ2!AD33,0)+IF(ISNUMBER(CSVデータ3!AD33),CSVデータ3!AD33,0)+IF(ISNUMBER(CSVデータ4!AD33),CSVデータ4!AD33,0)","v":3187},null,{"$f":"IF(ISNUMBER(CSVデータ1!AF33),CSVデータ1!AF33,0)+IF(ISNUMBER(CSVデータ2!AF33),CSVデータ2!AF33,0)+IF(ISNUMBER(CSVデータ3!AF33),CSVデータ3!AF33,0)+IF(ISNUMBER(CSVデータ4!AF33),CSVデータ4!AF33,0)","v":3092},null,{"$f":"IF(ISNUMBER(CSVデータ1!AH33),CSVデータ1!AH33,0)+IF(ISNUMBER(CSVデータ2!AH33),CSVデータ2!AH33,0)+IF(ISNUMBER(CSVデータ3!AH33),CSVデータ3!AH33,0)+IF(ISNUMBER(CSVデータ4!AH33),CSVデータ4!AH33,0)","v":398},null,{"$f":"IF(ISNUMBER(CSVデータ1!AJ33),CSVデータ1!AJ33,0)+IF(ISNUMBER(CSVデータ2!AJ33),CSVデータ2!AJ33,0)+IF(ISNUMBER(CSVデータ3!AJ33),CSVデータ3!AJ33,0)+IF(ISNUMBER(CSVデータ4!AJ33),CSVデータ4!AJ33,0)","v":752},null,{"$f":"IF(ISNUMBER(CSVデータ1!AL33),CSVデータ1!AL33,0)+IF(ISNUMBER(CSVデータ2!AL33),CSVデータ2!AL33,0)+IF(ISNUMBER(CSVデータ3!AL33),CSVデータ3!AL33,0)+IF(ISNUMBER(CSVデータ4!AL33),CSVデータ4!AL33,0)","v":3356},null,{"$f":"IF(ISNUMBER(CSVデータ1!AN33),CSVデータ1!AN33,0)+IF(ISNUMBER(CSVデータ2!AN33),CSVデータ2!AN33,0)+IF(ISNUMBER(CSVデータ3!AN33),CSVデータ3!AN33,0)+IF(ISNUMBER(CSVデータ4!AN33),CSVデータ4!AN33,0)","v":798}]
[{"$f":"CSVデータ1!A34","v":"明細部"},{"$f":"CSVデータ1!B34","v":"国"},{"$f":"CSVデータ1!C34","v":70},{"$f":"CSVデータ1!D34","v":"男"},{"$f":"IF(ISNUMBER(CSVデータ1!E34),CSVデータ1!E34,0)+IF(ISNUMBER(CSVデータ2!E34),CSVデータ2!E34,0)+IF(ISNUMBER(CSVデータ3!E34),CSVデータ3!E34,0)+IF(ISNUMBER(CSVデータ4!E34),CSVデータ4!E34,0)","v":13370},{"$f":"IF(ISNUMBER(CSVデータ1!F34),CSVデータ1!F34,0)+IF(ISNUMBER(CSVデータ2!F34),CSVデータ2!F34,0)+IF(ISNUMBER(CSVデータ3!F34),CSVデータ3!F34,0)+IF(ISNUMBER(CSVデータ4!F34),CSVデータ4!F34,0)","v":4370},null,{"$f":"IF(ISNUMBER(CSVデータ1!H34),CSVデータ1!H34,0)+IF(ISNUMBER(CSVデータ2!H34),CSVデータ2!H34,0)+IF(ISNUMBER(CSVデータ3!H34),CSVデータ3!H34,0)+IF(ISNUMBER(CSVデータ4!H34),CSVデータ4!H34,0)","v":7410},null,{"$f":"IF(ISNUMBER(CSVデータ1!J34),CSVデータ1!J34,0)+IF(ISNUMBER(CSVデータ2!J34),CSVデータ2!J34,0)+IF(ISNUMBER(CSVデータ3!J34),CSVデータ3!J34,0)+IF(ISNUMBER(CSVデータ4!J34),CSVデータ4!J34,0)","v":2272},null,{"$f":"IF(ISNUMBER(CSVデータ1!L34),CSVデータ1!L34,0)+IF(ISNUMBER(CSVデータ2!L34),CSVデータ2!L34,0)+IF(ISNUMBER(CSVデータ3!L34),CSVデータ3!L34,0)+IF(ISNUMBER(CSVデータ4!L34),CSVデータ4!L34,0)","v":2251},null,{"$f":"IF(ISNUMBER(CSVデータ1!N34),CSVデータ1!N34,0)+IF(ISNUMBER(CSVデータ2!N34),CSVデータ2!N34,0)+IF(ISNUMBER(CSVデータ3!N34),CSVデータ3!N34,0)+IF(ISNUMBER(CSVデータ4!N34),CSVデータ4!N34,0)","v":826},null,{"$f":"IF(ISNUMBER(CSVデータ1!P34),CSVデータ1!P34,0)+IF(ISNUMBER(CSVデータ2!P34),CSVデータ2!P34,0)+IF(ISNUMBER(CSVデータ3!P34),CSVデータ3!P34,0)+IF(ISNUMBER(CSVデータ4!P34),CSVデータ4!P34,0)","v":4731},null,{"$f":"IF(ISNUMBER(CSVデータ1!R34),CSVデータ1!R34,0)+IF(ISNUMBER(CSVデータ2!R34),CSVデータ2!R34,0)+IF(ISNUMBER(CSVデータ3!R34),CSVデータ3!R34,0)+IF(ISNUMBER(CSVデータ4!R34),CSVデータ4!R34,0)","v":9118},null,{"$f":"IF(ISNUMBER(CSVデータ1!T34),CSVデータ1!T34,0)+IF(ISNUMBER(CSVデータ2!T34),CSVデータ2!T34,0)+IF(ISNUMBER(CSVデータ3!T34),CSVデータ3!T34,0)+IF(ISNUMBER(CSVデータ4!T34),CSVデータ4!T34,0)","v":1550},null,{"$f":"IF(ISNUMBER(CSVデータ1!V34),CSVデータ1!V34,0)+IF(ISNUMBER(CSVデータ2!V34),CSVデータ2!V34,0)+IF(ISNUMBER(CSVデータ3!V34),CSVデータ3!V34,0)+IF(ISNUMBER(CSVデータ4!V34),CSVデータ4!V34,0)","v":7167},null,{"$f":"IF(ISNUMBER(CSVデータ1!X34),CSVデータ1!X34,0)+IF(ISNUMBER(CSVデータ2!X34),CSVデータ2!X34,0)+IF(ISNUMBER(CSVデータ3!X34),CSVデータ3!X34,0)+IF(ISNUMBER(CSVデータ4!X34),CSVデータ4!X34,0)","v":3361},null,{"$f":"IF(ISNUMBER(CSVデータ1!Z34),CSVデータ1!Z34,0)+IF(ISNUMBER(CSVデータ2!Z34),CSVデータ2!Z34,0)+IF(ISNUMBER(CSVデータ3!Z34),CSVデータ3!Z34,0)+IF(ISNUMBER(CSVデータ4!Z34),CSVデータ4!Z34,0)","v":5823},null,{"$f":"IF(ISNUMBER(CSVデータ1!AB34),CSVデータ1!AB34,0)+IF(ISNUMBER(CSVデータ2!AB34),CSVデータ2!AB34,0)+IF(ISNUMBER(CSVデータ3!AB34),CSVデータ3!AB34,0)+IF(ISNUMBER(CSVデータ4!AB34),CSVデータ4!AB34,0)","v":441},null,{"$f":"IF(ISNUMBER(CSVデータ1!AD34),CSVデータ1!AD34,0)+IF(ISNUMBER(CSVデータ2!AD34),CSVデータ2!AD34,0)+IF(ISNUMBER(CSVデータ3!AD34),CSVデータ3!AD34,0)+IF(ISNUMBER(CSVデータ4!AD34),CSVデータ4!AD34,0)","v":3547},null,{"$f":"IF(ISNUMBER(CSVデータ1!AF34),CSVデータ1!AF34,0)+IF(ISNUMBER(CSVデータ2!AF34),CSVデータ2!AF34,0)+IF(ISNUMBER(CSVデータ3!AF34),CSVデータ3!AF34,0)+IF(ISNUMBER(CSVデータ4!AF34),CSVデータ4!AF34,0)","v":3397},null,{"$f":"IF(ISNUMBER(CSVデータ1!AH34),CSVデータ1!AH34,0)+IF(ISNUMBER(CSVデータ2!AH34),CSVデータ2!AH34,0)+IF(ISNUMBER(CSVデータ3!AH34),CSVデータ3!AH34,0)+IF(ISNUMBER(CSVデータ4!AH34),CSVデータ4!AH34,0)","v":443},null,{"$f":"IF(ISNUMBER(CSVデータ1!AJ34),CSVデータ1!AJ34,0)+IF(ISNUMBER(CSVデータ2!AJ34),CSVデータ2!AJ34,0)+IF(ISNUMBER(CSVデータ3!AJ34),CSVデータ3!AJ34,0)+IF(ISNUMBER(CSVデータ4!AJ34),CSVデータ4!AJ34,0)","v":835},null,{"$f":"IF(ISNUMBER(CSVデータ1!AL34),CSVデータ1!AL34,0)+IF(ISNUMBER(CSVデータ2!AL34),CSVデータ2!AL34,0)+IF(ISNUMBER(CSVデータ3!AL34),CSVデータ3!AL34,0)+IF(ISNUMBER(CSVデータ4!AL34),CSVデータ4!AL34,0)","v":3893},null,{"$f":"IF(ISNUMBER(CSVデータ1!AN34),CSVデータ1!AN34,0)+IF(ISNUMBER(CSVデータ2!AN34),CSVデータ2!AN34,0)+IF(ISNUMBER(CSVデータ3!AN34),CSVデータ3!AN34,0)+IF(ISNUMBER(CSVデータ4!AN34),CSVデータ4!AN34,0)","v":847}]
[{"$f":"CSVデータ1!A35","v":"明細部"},{"$f":"CSVデータ1!B35","v":"国"},{"$f":"CSVデータ1!C35","v":71},{"$f":"CSVデータ1!D35","v":"男"},{"$f":"IF(ISNUMBER(CSVデータ1!E35),CSVデータ1!E35,0)+IF(ISNUMBER(CSVデータ2!E35),CSVデータ2!E35,0)+IF(ISNUMBER(CSVデータ3!E35),CSVデータ3!E35,0)+IF(ISNUMBER(CSVデータ4!E35),CSVデータ4!E35,0)","v":14768},{"$f":"IF(ISNUMBER(CSVデータ1!F35),CSVデータ1!F35,0)+IF(ISNUMBER(CSVデータ2!F35),CSVデータ2!F35,0)+IF(ISNUMBER(CSVデータ3!F35),CSVデータ3!F35,0)+IF(ISNUMBER(CSVデータ4!F35),CSVデータ4!F35,0)","v":4706},null,{"$f":"IF(ISNUMBER(CSVデータ1!H35),CSVデータ1!H35,0)+IF(ISNUMBER(CSVデータ2!H35),CSVデータ2!H35,0)+IF(ISNUMBER(CSVデータ3!H35),CSVデータ3!H35,0)+IF(ISNUMBER(CSVデータ4!H35),CSVデータ4!H35,0)","v":7920},null,{"$f":"IF(ISNUMBER(CSVデータ1!J35),CSVデータ1!J35,0)+IF(ISNUMBER(CSVデータ2!J35),CSVデータ2!J35,0)+IF(ISNUMBER(CSVデータ3!J35),CSVデータ3!J35,0)+IF(ISNUMBER(CSVデータ4!J35),CSVデータ4!J35,0)","v":2308},null,{"$f":"IF(ISNUMBER(CSVデータ1!L35),CSVデータ1!L35,0)+IF(ISNUMBER(CSVデータ2!L35),CSVデータ2!L35,0)+IF(ISNUMBER(CSVデータ3!L35),CSVデータ3!L35,0)+IF(ISNUMBER(CSVデータ4!L35),CSVデータ4!L35,0)","v":2303},null,{"$f":"IF(ISNUMBER(CSVデータ1!N35),CSVデータ1!N35,0)+IF(ISNUMBER(CSVデータ2!N35),CSVデータ2!N35,0)+IF(ISNUMBER(CSVデータ3!N35),CSVデータ3!N35,0)+IF(ISNUMBER(CSVデータ4!N35),CSVデータ4!N35,0)","v":876},null,{"$f":"IF(ISNUMBER(CSVデータ1!P35),CSVデータ1!P35,0)+IF(ISNUMBER(CSVデータ2!P35),CSVデータ2!P35,0)+IF(ISNUMBER(CSVデータ3!P35),CSVデータ3!P35,0)+IF(ISNUMBER(CSVデータ4!P35),CSVデータ4!P35,0)","v":5082},null,{"$f":"IF(ISNUMBER(CSVデータ1!R35),CSVデータ1!R35,0)+IF(ISNUMBER(CSVデータ2!R35),CSVデータ2!R35,0)+IF(ISNUMBER(CSVデータ3!R35),CSVデータ3!R35,0)+IF(ISNUMBER(CSVデータ4!R35),CSVデータ4!R35,0)","v":9600},null,{"$f":"IF(ISNUMBER(CSVデータ1!T35),CSVデータ1!T35,0)+IF(ISNUMBER(CSVデータ2!T35),CSVデータ2!T35,0)+IF(ISNUMBER(CSVデータ3!T35),CSVデータ3!T35,0)+IF(ISNUMBER(CSVデータ4!T35),CSVデータ4!T35,0)","v":1515},null,{"$f":"IF(ISNUMBER(CSVデータ1!V35),CSVデータ1!V35,0)+IF(ISNUMBER(CSVデータ2!V35),CSVデータ2!V35,0)+IF(ISNUMBER(CSVデータ3!V35),CSVデータ3!V35,0)+IF(ISNUMBER(CSVデータ4!V35),CSVデータ4!V35,0)","v":7548},null,{"$f":"IF(ISNUMBER(CSVデータ1!X35),CSVデータ1!X35,0)+IF(ISNUMBER(CSVデータ2!X35),CSVデータ2!X35,0)+IF(ISNUMBER(CSVデータ3!X35),CSVデータ3!X35,0)+IF(ISNUMBER(CSVデータ4!X35),CSVデータ4!X35,0)","v":3345},null,{"$f":"IF(ISNUMBER(CSVデータ1!Z35),CSVデータ1!Z35,0)+IF(ISNUMBER(CSVデータ2!Z35),CSVデータ2!Z35,0)+IF(ISNUMBER(CSVデータ3!Z35),CSVデータ3!Z35,0)+IF(ISNUMBER(CSVデータ4!Z35),CSVデータ4!Z35,0)","v":6030},null,{"$f":"IF(ISNUMBER(CSVデータ1!AB35),CSVデータ1!AB35,0)+IF(ISNUMBER(CSVデータ2!AB35),CSVデータ2!AB35,0)+IF(ISNUMBER(CSVデータ3!AB35),CSVデータ3!AB35,0)+IF(ISNUMBER(CSVデータ4!AB35),CSVデータ4!AB35,0)","v":492},null,{"$f":"IF(ISNUMBER(CSVデータ1!AD35),CSVデータ1!AD35,0)+IF(ISNUMBER(CSVデータ2!AD35),CSVデータ2!AD35,0)+IF(ISNUMBER(CSVデータ3!AD35),CSVデータ3!AD35,0)+IF(ISNUMBER(CSVデータ4!AD35),CSVデータ4!AD35,0)","v":3822},null,{"$f":"IF(ISNUMBER(CSVデータ1!AF35),CSVデータ1!AF35,0)+IF(ISNUMBER(CSVデータ2!AF35),CSVデータ2!AF35,0)+IF(ISNUMBER(CSVデータ3!AF35),CSVデータ3!AF35,0)+IF(ISNUMBER(CSVデータ4!AF35),CSVデータ4!AF35,0)","v":3518},null,{"$f":"IF(ISNUMBER(CSVデータ1!AH35),CSVデータ1!AH35,0)+IF(ISNUMBER(CSVデータ2!AH35),CSVデータ2!AH35,0)+IF(ISNUMBER(CSVデータ3!AH35),CSVデータ3!AH35,0)+IF(ISNUMBER(CSVデータ4!AH35),CSVデータ4!AH35,0)","v":468},null,{"$f":"IF(ISNUMBER(CSVデータ1!AJ35),CSVデータ1!AJ35,0)+IF(ISNUMBER(CSVデータ2!AJ35),CSVデータ2!AJ35,0)+IF(ISNUMBER(CSVデータ3!AJ35),CSVデータ3!AJ35,0)+IF(ISNUMBER(CSVデータ4!AJ35),CSVデータ4!AJ35,0)","v":827},null,{"$f":"IF(ISNUMBER(CSVデータ1!AL35),CSVデータ1!AL35,0)+IF(ISNUMBER(CSVデータ2!AL35),CSVデータ2!AL35,0)+IF(ISNUMBER(CSVデータ3!AL35),CSVデータ3!AL35,0)+IF(ISNUMBER(CSVデータ4!AL35),CSVデータ4!AL35,0)","v":4382},null,{"$f":"IF(ISNUMBER(CSVデータ1!AN35),CSVデータ1!AN35,0)+IF(ISNUMBER(CSVデータ2!AN35),CSVデータ2!AN35,0)+IF(ISNUMBER(CSVデータ3!AN35),CSVデータ3!AN35,0)+IF(ISNUMBER(CSVデータ4!AN35),CSVデータ4!AN35,0)","v":894}]
[{"$f":"CSVデータ1!A36","v":"明細部"},{"$f":"CSVデータ1!B36","v":"国"},{"$f":"CSVデータ1!C36","v":72},{"$f":"CSVデータ1!D36","v":"男"},{"$f":"IF(ISNUMBER(CSVデータ1!E36),CSVデータ1!E36,0)+IF(ISNUMBER(CSVデータ2!E36),CSVデータ2!E36,0)+IF(ISNUMBER(CSVデータ3!E36),CSVデータ3!E36,0)+IF(ISNUMBER(CSVデータ4!E36),CSVデータ4!E36,0)","v":15940},{"$f":"IF(ISNUMBER(CSVデータ1!F36),CSVデータ1!F36,0)+IF(ISNUMBER(CSVデータ2!F36),CSVデータ2!F36,0)+IF(ISNUMBER(CSVデータ3!F36),CSVデータ3!F36,0)+IF(ISNUMBER(CSVデータ4!F36),CSVデータ4!F36,0)","v":5185},null,{"$f":"IF(ISNUMBER(CSVデータ1!H36),CSVデータ1!H36,0)+IF(ISNUMBER(CSVデータ2!H36),CSVデータ2!H36,0)+IF(ISNUMBER(CSVデータ3!H36),CSVデータ3!H36,0)+IF(ISNUMBER(CSVデータ4!H36),CSVデータ4!H36,0)","v":9022},null,{"$f":"IF(ISNUMBER(CSVデータ1!J36),CSVデータ1!J36,0)+IF(ISNUMBER(CSVデータ2!J36),CSVデータ2!J36,0)+IF(ISNUMBER(CSVデータ3!J36),CSVデータ3!J36,0)+IF(ISNUMBER(CSVデータ4!J36),CSVデータ4!J36,0)","v":2418},null,{"$f":"IF(ISNUMBER(CSVデータ1!L36),CSVデータ1!L36,0)+IF(ISNUMBER(CSVデータ2!L36),CSVデータ2!L36,0)+IF(ISNUMBER(CSVデータ3!L36),CSVデータ3!L36,0)+IF(ISNUMBER(CSVデータ4!L36),CSVデータ4!L36,0)","v":2414},null,{"$f":"IF(ISNUMBER(CSVデータ1!N36),CSVデータ1!N36,0)+IF(ISNUMBER(CSVデータ2!N36),CSVデータ2!N36,0)+IF(ISNUMBER(CSVデータ3!N36),CSVデータ3!N36,0)+IF(ISNUMBER(CSVデータ4!N36),CSVデータ4!N36,0)","v":1044},null,{"$f":"IF(ISNUMBER(CSVデータ1!P36),CSVデータ1!P36,0)+IF(ISNUMBER(CSVデータ2!P36),CSVデータ2!P36,0)+IF(ISNUMBER(CSVデータ3!P36),CSVデータ3!P36,0)+IF(ISNUMBER(CSVデータ4!P36),CSVデータ4!P36,0)","v":5706},null,{"$f":"IF(ISNUMBER(CSVデータ1!R36),CSVデータ1!R36,0)+IF(ISNUMBER(CSVデータ2!R36),CSVデータ2!R36,0)+IF(ISNUMBER(CSVデータ3!R36),CSVデータ3!R36,0)+IF(ISNUMBER(CSVデータ4!R36),CSVデータ4!R36,0)","v":10869},null,{"$f":"IF(ISNUMBER(CSVデータ1!T36),CSVデータ1!T36,0)+IF(ISNUMBER(CSVデータ2!T36),CSVデータ2!T36,0)+IF(ISNUMBER(CSVデータ3!T36),CSVデータ3!T36,0)+IF(ISNUMBER(CSVデータ4!T36),CSVデータ4!T36,0)","v":1631},null,{"$f":"IF(ISNUMBER(CSVデータ1!V36),CSVデータ1!V36,0)+IF(ISNUMBER(CSVデータ2!V36),CSVデータ2!V36,0)+IF(ISNUMBER(CSVデータ3!V36),CSVデータ3!V36,0)+IF(ISNUMBER(CSVデータ4!V36),CSVデータ4!V36,0)","v":8782},null,{"$f":"IF(ISNUMBER(CSVデータ1!X36),CSVデータ1!X36,0)+IF(ISNUMBER(CSVデータ2!X36),CSVデータ2!X36,0)+IF(ISNUMBER(CSVデータ3!X36),CSVデータ3!X36,0)+IF(ISNUMBER(CSVデータ4!X36),CSVデータ4!X36,0)","v":3545},null,{"$f":"IF(ISNUMBER(CSVデータ1!Z36),CSVデータ1!Z36,0)+IF(ISNUMBER(CSVデータ2!Z36),CSVデータ2!Z36,0)+IF(ISNUMBER(CSVデータ3!Z36),CSVデータ3!Z36,0)+IF(ISNUMBER(CSVデータ4!Z36),CSVデータ4!Z36,0)","v":6611},null,{"$f":"IF(ISNUMBER(CSVデータ1!AB36),CSVデータ1!AB36,0)+IF(ISNUMBER(CSVデータ2!AB36),CSVデータ2!AB36,0)+IF(ISNUMBER(CSVデータ3!AB36),CSVデータ3!AB36,0)+IF(ISNUMBER(CSVデータ4!AB36),CSVデータ4!AB36,0)","v":555},null,{"$f":"IF(ISNUMBER(CSVデータ1!AD36),CSVデータ1!AD36,0)+IF(ISNUMBER(CSVデータ2!AD36),CSVデータ2!AD36,0)+IF(ISNUMBER(CSVデータ3!AD36),CSVデータ3!AD36,0)+IF(ISNUMBER(CSVデータ4!AD36),CSVデータ4!AD36,0)","v":4478},null,{"$f":"IF(ISNUMBER(CSVデータ1!AF36),CSVデータ1!AF36,0)+IF(ISNUMBER(CSVデータ2!AF36),CSVデータ2!AF36,0)+IF(ISNUMBER(CSVデータ3!AF36),CSVデータ3!AF36,0)+IF(ISNUMBER(CSVデータ4!AF36),CSVデータ4!AF36,0)","v":3888},null,{"$f":"IF(ISNUMBER(CSVデータ1!AH36),CSVデータ1!AH36,0)+IF(ISNUMBER(CSVデータ2!AH36),CSVデータ2!AH36,0)+IF(ISNUMBER(CSVデータ3!AH36),CSVデータ3!AH36,0)+IF(ISNUMBER(CSVデータ4!AH36),CSVデータ4!AH36,0)","v":582},null,{"$f":"IF(ISNUMBER(CSVデータ1!AJ36),CSVデータ1!AJ36,0)+IF(ISNUMBER(CSVデータ2!AJ36),CSVデータ2!AJ36,0)+IF(ISNUMBER(CSVデータ3!AJ36),CSVデータ3!AJ36,0)+IF(ISNUMBER(CSVデータ4!AJ36),CSVデータ4!AJ36,0)","v":866},null,{"$f":"IF(ISNUMBER(CSVデータ1!AL36),CSVデータ1!AL36,0)+IF(ISNUMBER(CSVデータ2!AL36),CSVデータ2!AL36,0)+IF(ISNUMBER(CSVデータ3!AL36),CSVデータ3!AL36,0)+IF(ISNUMBER(CSVデータ4!AL36),CSVデータ4!AL36,0)","v":4811},null,{"$f":"IF(ISNUMBER(CSVデータ1!AN36),CSVデータ1!AN36,0)+IF(ISNUMBER(CSVデータ2!AN36),CSVデータ2!AN36,0)+IF(ISNUMBER(CSVデータ3!AN36),CSVデータ3!AN36,0)+IF(ISNUMBER(CSVデータ4!AN36),CSVデータ4!AN36,0)","v":958}]
[{"$f":"CSVデータ1!A37","v":"明細部"},{"$f":"CSVデータ1!B37","v":"国"},{"$f":"CSVデータ1!C37","v":73},{"$f":"CSVデータ1!D37","v":"男"},{"$f":"IF(ISNUMBER(CSVデータ1!E37),CSVデータ1!E37,0)+IF(ISNUMBER(CSVデータ2!E37),CSVデータ2!E37,0)+IF(ISNUMBER(CSVデータ3!E37),CSVデータ3!E37,0)+IF(ISNUMBER(CSVデータ4!E37),CSVデータ4!E37,0)","v":17277},{"$f":"IF(ISNUMBER(CSVデータ1!F37),CSVデータ1!F37,0)+IF(ISNUMBER(CSVデータ2!F37),CSVデータ2!F37,0)+IF(ISNUMBER(CSVデータ3!F37),CSVデータ3!F37,0)+IF(ISNUMBER(CSVデータ4!F37),CSVデータ4!F37,0)","v":5334},null,{"$f":"IF(ISNUMBER(CSVデータ1!H37),CSVデータ1!H37,0)+IF(ISNUMBER(CSVデータ2!H37),CSVデータ2!H37,0)+IF(ISNUMBER(CSVデータ3!H37),CSVデータ3!H37,0)+IF(ISNUMBER(CSVデータ4!H37),CSVデータ4!H37,0)","v":9328},null,{"$f":"IF(ISNUMBER(CSVデータ1!J37),CSVデータ1!J37,0)+IF(ISNUMBER(CSVデータ2!J37),CSVデータ2!J37,0)+IF(ISNUMBER(CSVデータ3!J37),CSVデータ3!J37,0)+IF(ISNUMBER(CSVデータ4!J37),CSVデータ4!J37,0)","v":2579},null,{"$f":"IF(ISNUMBER(CSVデータ1!L37),CSVデータ1!L37,0)+IF(ISNUMBER(CSVデータ2!L37),CSVデータ2!L37,0)+IF(ISNUMBER(CSVデータ3!L37),CSVデータ3!L37,0)+IF(ISNUMBER(CSVデータ4!L37),CSVデータ4!L37,0)","v":2411},null,{"$f":"IF(ISNUMBER(CSVデータ1!N37),CSVデータ1!N37,0)+IF(ISNUMBER(CSVデータ2!N37),CSVデータ2!N37,0)+IF(ISNUMBER(CSVデータ3!N37),CSVデータ3!N37,0)+IF(ISNUMBER(CSVデータ4!N37),CSVデータ4!N37,0)","v":1198},null,{"$f":"IF(ISNUMBER(CSVデータ1!P37),CSVデータ1!P37,0)+IF(ISNUMBER(CSVデータ2!P37),CSVデータ2!P37,0)+IF(ISNUMBER(CSVデータ3!P37),CSVデータ3!P37,0)+IF(ISNUMBER(CSVデータ4!P37),CSVデータ4!P37,0)","v":6058},null,{"$f":"IF(ISNUMBER(CSVデータ1!R37),CSVデータ1!R37,0)+IF(ISNUMBER(CSVデータ2!R37),CSVデータ2!R37,0)+IF(ISNUMBER(CSVデータ3!R37),CSVデータ3!R37,0)+IF(ISNUMBER(CSVデータ4!R37),CSVデータ4!R37,0)","v":12109},null,{"$f":"IF(ISNUMBER(CSVデータ1!T37),CSVデータ1!T37,0)+IF(ISNUMBER(CSVデータ2!T37),CSVデータ2!T37,0)+IF(ISNUMBER(CSVデータ3!T37),CSVデータ3!T37,0)+IF(ISNUMBER(CSVデータ4!T37),CSVデータ4!T37,0)","v":1861},null,{"$f":"IF(ISNUMBER(CSVデータ1!V37),CSVデータ1!V37,0)+IF(ISNUMBER(CSVデータ2!V37),CSVデータ2!V37,0)+IF(ISNUMBER(CSVデータ3!V37),CSVデータ3!V37,0)+IF(ISNUMBER(CSVデータ4!V37),CSVデータ4!V37,0)","v":9317},null,{"$f":"IF(ISNUMBER(CSVデータ1!X37),CSVデータ1!X37,0)+IF(ISNUMBER(CSVデータ2!X37),CSVデータ2!X37,0)+IF(ISNUMBER(CSVデータ3!X37),CSVデータ3!X37,0)+IF(ISNUMBER(CSVデータ4!X37),CSVデータ4!X37,0)","v":3689},null,{"$f":"IF(ISNUMBER(CSVデータ1!Z37),CSVデータ1!Z37,0)+IF(ISNUMBER(CSVデータ2!Z37),CSVデータ2!Z37,0)+IF(ISNUMBER(CSVデータ3!Z37),CSVデータ3!Z37,0)+IF(ISNUMBER(CSVデータ4!Z37),CSVデータ4!Z37,0)","v":7032},null,{"$f":"IF(ISNUMBER(CSVデータ1!AB37),CSVデータ1!AB37,0)+IF(ISNUMBER(CSVデータ2!AB37),CSVデータ2!AB37,0)+IF(ISNUMBER(CSVデータ3!AB37),CSVデータ3!AB37,0)+IF(ISNUMBER(CSVデータ4!AB37),CSVデータ4!AB37,0)","v":700},null,{"$f":"IF(ISNUMBER(CSVデータ1!AD37),CSVデータ1!AD37,0)+IF(ISNUMBER(CSVデータ2!AD37),CSVデータ2!AD37,0)+IF(ISNUMBER(CSVデータ3!AD37),CSVデータ3!AD37,0)+IF(ISNUMBER(CSVデータ4!AD37),CSVデータ4!AD37,0)","v":4990},null,{"$f":"IF(ISNUMBER(CSVデータ1!AF37),CSVデータ1!AF37,0)+IF(ISNUMBER(CSVデータ2!AF37),CSVデータ2!AF37,0)+IF(ISNUMBER(CSVデータ3!AF37),CSVデータ3!AF37,0)+IF(ISNUMBER(CSVデータ4!AF37),CSVデータ4!AF37,0)","v":4121},null,{"$f":"IF(ISNUMBER(CSVデータ1!AH37),CSVデータ1!AH37,0)+IF(ISNUMBER(CSVデータ2!AH37),CSVデータ2!AH37,0)+IF(ISNUMBER(CSVデータ3!AH37),CSVデータ3!AH37,0)+IF(ISNUMBER(CSVデータ4!AH37),CSVデータ4!AH37,0)","v":629},null,{"$f":"IF(ISNUMBER(CSVデータ1!AJ37),CSVデータ1!AJ37,0)+IF(ISNUMBER(CSVデータ2!AJ37),CSVデータ2!AJ37,0)+IF(ISNUMBER(CSVデータ3!AJ37),CSVデータ3!AJ37,0)+IF(ISNUMBER(CSVデータ4!AJ37),CSVデータ4!AJ37,0)","v":864},null,{"$f":"IF(ISNUMBER(CSVデータ1!AL37),CSVデータ1!AL37,0)+IF(ISNUMBER(CSVデータ2!AL37),CSVデータ2!AL37,0)+IF(ISNUMBER(CSVデータ3!AL37),CSVデータ3!AL37,0)+IF(ISNUMBER(CSVデータ4!AL37),CSVデータ4!AL37,0)","v":5764},null,{"$f":"IF(ISNUMBER(CSVデータ1!AN37),CSVデータ1!AN37,0)+IF(ISNUMBER(CSVデータ2!AN37),CSVデータ2!AN37,0)+IF(ISNUMBER(CSVデータ3!AN37),CSVデータ3!AN37,0)+IF(ISNUMBER(CSVデータ4!AN37),CSVデータ4!AN37,0)","v":1035}]
[{"$f":"CSVデータ1!A38","v":"明細部"},{"$f":"CSVデータ1!B38","v":"国"},{"$f":"CSVデータ1!C38","v":74},{"$f":"CSVデータ1!D38","v":"男"},{"$f":"IF(ISNUMBER(CSVデータ1!E38),CSVデータ1!E38,0)+IF(ISNUMBER(CSVデータ2!E38),CSVデータ2!E38,0)+IF(ISNUMBER(CSVデータ3!E38),CSVデータ3!E38,0)+IF(ISNUMBER(CSVデータ4!E38),CSVデータ4!E38,0)","v":19491},{"$f":"IF(ISNUMBER(CSVデータ1!F38),CSVデータ1!F38,0)+IF(ISNUMBER(CSVデータ2!F38),CSVデータ2!F38,0)+IF(ISNUMBER(CSVデータ3!F38),CSVデータ3!F38,0)+IF(ISNUMBER(CSVデータ4!F38),CSVデータ4!F38,0)","v":5764},null,{"$f":"IF(ISNUMBER(CSVデータ1!H38),CSVデータ1!H38,0)+IF(ISNUMBER(CSVデータ2!H38),CSVデータ2!H38,0)+IF(ISNUMBER(CSVデータ3!H38),CSVデータ3!H38,0)+IF(ISNUMBER(CSVデータ4!H38),CSVデータ4!H38,0)","v":10426},null,{"$f":"IF(ISNUMBER(CSVデータ1!J38),CSVデータ1!J38,0)+IF(ISNUMBER(CSVデータ2!J38),CSVデータ2!J38,0)+IF(ISNUMBER(CSVデータ3!J38),CSVデータ3!J38,0)+IF(ISNUMBER(CSVデータ4!J38),CSVデータ4!J38,0)","v":2599},null,{"$f":"IF(ISNUMBER(CSVデータ1!L38),CSVデータ1!L38,0)+IF(ISNUMBER(CSVデータ2!L38),CSVデータ2!L38,0)+IF(ISNUMBER(CSVデータ3!L38),CSVデータ3!L38,0)+IF(ISNUMBER(CSVデータ4!L38),CSVデータ4!L38,0)","v":2551},null,{"$f":"IF(ISNUMBER(CSVデータ1!N38),CSVデータ1!N38,0)+IF(ISNUMBER(CSVデータ2!N38),CSVデータ2!N38,0)+IF(ISNUMBER(CSVデータ3!N38),CSVデータ3!N38,0)+IF(ISNUMBER(CSVデータ4!N38),CSVデータ4!N38,0)","v":1311},null,{"$f":"IF(ISNUMBER(CSVデータ1!P38),CSVデータ1!P38,0)+IF(ISNUMBER(CSVデータ2!P38),CSVデータ2!P38,0)+IF(ISNUMBER(CSVデータ3!P38),CSVデータ3!P38,0)+IF(ISNUMBER(CSVデータ4!P38),CSVデータ4!P38,0)","v":6649},null,{"$f":"IF(ISNUMBER(CSVデータ1!R38),CSVデータ1!R38,0)+IF(ISNUMBER(CSVデータ2!R38),CSVデータ2!R38,0)+IF(ISNUMBER(CSVデータ3!R38),CSVデータ3!R38,0)+IF(ISNUMBER(CSVデータ4!R38),CSVデータ4!R38,0)","v":13115},null,{"$f":"IF(ISNUMBER(CSVデータ1!T38),CSVデータ1!T38,0)+IF(ISNUMBER(CSVデータ2!T38),CSVデータ2!T38,0)+IF(ISNUMBER(CSVデータ3!T38),CSVデータ3!T38,0)+IF(ISNUMBER(CSVデータ4!T38),CSVデータ4!T38,0)","v":1868},null,{"$f":"IF(ISNUMBER(CSVデータ1!V38),CSVデータ1!V38,0)+IF(ISNUMBER(CSVデータ2!V38),CSVデータ2!V38,0)+IF(ISNUMBER(CSVデータ3!V38),CSVデータ3!V38,0)+IF(ISNUMBER(CSVデータ4!V38),CSVデータ4!V38,0)","v":10455},null,{"$f":"IF(ISNUMBER(CSVデータ1!X38),CSVデータ1!X38,0)+IF(ISNUMBER(CSVデータ2!X38),CSVデータ2!X38,0)+IF(ISNUMBER(CSVデータ3!X38),CSVデータ3!X38,0)+IF(ISNUMBER(CSVデータ4!X38),CSVデータ4!X38,0)","v":3785},null,{"$f":"IF(ISNUMBER(CSVデータ1!Z38),CSVデータ1!Z38,0)+IF(ISNUMBER(CSVデータ2!Z38),CSVデータ2!Z38,0)+IF(ISNUMBER(CSVデータ3!Z38),CSVデータ3!Z38,0)+IF(ISNUMBER(CSVデータ4!Z38),CSVデータ4!Z38,0)","v":7593},null,{"$f":"IF(ISNUMBER(CSVデータ1!AB38),CSVデータ1!AB38,0)+IF(ISNUMBER(CSVデータ2!AB38),CSVデータ2!AB38,0)+IF(ISNUMBER(CSVデータ3!AB38),CSVデータ3!AB38,0)+IF(ISNUMBER(CSVデータ4!AB38),CSVデータ4!AB38,0)","v":778},null,{"$f":"IF(ISNUMBER(CSVデータ1!AD38),CSVデータ1!AD38,0)+IF(ISNUMBER(CSVデータ2!AD38),CSVデータ2!AD38,0)+IF(ISNUMBER(CSVデータ3!AD38),CSVデータ3!AD38,0)+IF(ISNUMBER(CSVデータ4!AD38),CSVデータ4!AD38,0)","v":5637},null,{"$f":"IF(ISNUMBER(CSVデータ1!AF38),CSVデータ1!AF38,0)+IF(ISNUMBER(CSVデータ2!AF38),CSVデータ2!AF38,0)+IF(ISNUMBER(CSVデータ3!AF38),CSVデータ3!AF38,0)+IF(ISNUMBER(CSVデータ4!AF38),CSVデータ4!AF38,0)","v":4588},null,{"$f":"IF(ISNUMBER(CSVデータ1!AH38),CSVデータ1!AH38,0)+IF(ISNUMBER(CSVデータ2!AH38),CSVデータ2!AH38,0)+IF(ISNUMBER(CSVデータ3!AH38),CSVデータ3!AH38,0)+IF(ISNUMBER(CSVデータ4!AH38),CSVデータ4!AH38,0)","v":685},null,{"$f":"IF(ISNUMBER(CSVデータ1!AJ38),CSVデータ1!AJ38,0)+IF(ISNUMBER(CSVデータ2!AJ38),CSVデータ2!AJ38,0)+IF(ISNUMBER(CSVデータ3!AJ38),CSVデータ3!AJ38,0)+IF(ISNUMBER(CSVデータ4!AJ38),CSVデータ4!AJ38,0)","v":914},null,{"$f":"IF(ISNUMBER(CSVデータ1!AL38),CSVデータ1!AL38,0)+IF(ISNUMBER(CSVデータ2!AL38),CSVデータ2!AL38,0)+IF(ISNUMBER(CSVデータ3!AL38),CSVデータ3!AL38,0)+IF(ISNUMBER(CSVデータ4!AL38),CSVデータ4!AL38,0)","v":6565},null,{"$f":"IF(ISNUMBER(CSVデータ1!AN38),CSVデータ1!AN38,0)+IF(ISNUMBER(CSVデータ2!AN38),CSVデータ2!AN38,0)+IF(ISNUMBER(CSVデータ3!AN38),CSVデータ3!AN38,0)+IF(ISNUMBER(CSVデータ4!AN38),CSVデータ4!AN38,0)","v":1201}]
[{"$f":"CSVデータ1!A39","v":"明細部"},{"$f":"CSVデータ1!B39","v":"国"},{"$f":"CSVデータ1!C39","v":40},{"$f":"CSVデータ1!D39","v":"女"},{"$f":"IF(ISNUMBER(CSVデータ1!E39),CSVデータ1!E39,0)+IF(ISNUMBER(CSVデータ2!E39),CSVデータ2!E39,0)+IF(ISNUMBER(CSVデータ3!E39),CSVデータ3!E39,0)+IF(ISNUMBER(CSVデータ4!E39),CSVデータ4!E39,0)","v":1680},{"$f":"IF(ISNUMBER(CSVデータ1!F39),CSVデータ1!F39,0)+IF(ISNUMBER(CSVデータ2!F39),CSVデータ2!F39,0)+IF(ISNUMBER(CSVデータ3!F39),CSVデータ3!F39,0)+IF(ISNUMBER(CSVデータ4!F39),CSVデータ4!F39,0)","v":323},null,{"$f":"IF(ISNUMBER(CSVデータ1!H39),CSVデータ1!H39,0)+IF(ISNUMBER(CSVデータ2!H39),CSVデータ2!H39,0)+IF(ISNUMBER(CSVデータ3!H39),CSVデータ3!H39,0)+IF(ISNUMBER(CSVデータ4!H39),CSVデータ4!H39,0)","v":220},null,{"$f":"IF(ISNUMBER(CSVデータ1!J39),CSVデータ1!J39,0)+IF(ISNUMBER(CSVデータ2!J39),CSVデータ2!J39,0)+IF(ISNUMBER(CSVデータ3!J39),CSVデータ3!J39,0)+IF(ISNUMBER(CSVデータ4!J39),CSVデータ4!J39,0)","v":101},null,{"$f":"IF(ISNUMBER(CSVデータ1!L39),CSVデータ1!L39,0)+IF(ISNUMBER(CSVデータ2!L39),CSVデータ2!L39,0)+IF(ISNUMBER(CSVデータ3!L39),CSVデータ3!L39,0)+IF(ISNUMBER(CSVデータ4!L39),CSVデータ4!L39,0)","v":106},null,{"$f":"IF(ISNUMBER(CSVデータ1!N39),CSVデータ1!N39,0)+IF(ISNUMBER(CSVデータ2!N39),CSVデータ2!N39,0)+IF(ISNUMBER(CSVデータ3!N39),CSVデータ3!N39,0)+IF(ISNUMBER(CSVデータ4!N39),CSVデータ4!N39,0)","v":27},null,{"$f":"IF(ISNUMBER(CSVデータ1!P39),CSVデータ1!P39,0)+IF(ISNUMBER(CSVデータ2!P39),CSVデータ2!P39,0)+IF(ISNUMBER(CSVデータ3!P39),CSVデータ3!P39,0)+IF(ISNUMBER(CSVデータ4!P39),CSVデータ4!P39,0)","v":85},null,{"$f":"IF(ISNUMBER(CSVデータ1!R39),CSVデータ1!R39,0)+IF(ISNUMBER(CSVデータ2!R39),CSVデータ2!R39,0)+IF(ISNUMBER(CSVデータ3!R39),CSVデータ3!R39,0)+IF(ISNUMBER(CSVデータ4!R39),CSVデータ4!R39,0)","v":366},null,{"$f":"IF(ISNUMBER(CSVデータ1!T39),CSVデータ1!T39,0)+IF(ISNUMBER(CSVデータ2!T39),CSVデータ2!T39,0)+IF(ISNUMBER(CSVデータ3!T39),CSVデータ3!T39,0)+IF(ISNUMBER(CSVデータ4!T39),CSVデータ4!T39,0)","v":17},null,{"$f":"IF(ISNUMBER(CSVデータ1!V39),CSVデータ1!V39,0)+IF(ISNUMBER(CSVデータ2!V39),CSVデータ2!V39,0)+IF(ISNUMBER(CSVデータ3!V39),CSVデータ3!V39,0)+IF(ISNUMBER(CSVデータ4!V39),CSVデータ4!V39,0)","v":146},null,{"$f":"IF(ISNUMBER(CSVデータ1!X39),CSVデータ1!X39,0)+IF(ISNUMBER(CSVデータ2!X39),CSVデータ2!X39,0)+IF(ISNUMBER(CSVデータ3!X39),CSVデータ3!X39,0)+IF(ISNUMBER(CSVデータ4!X39),CSVデータ4!X39,0)","v":127},null,{"$f":"IF(ISNUMBER(CSVデータ1!Z39),CSVデータ1!Z39,0)+IF(ISNUMBER(CSVデータ2!Z39),CSVデータ2!Z39,0)+IF(ISNUMBER(CSVデータ3!Z39),CSVデータ3!Z39,0)+IF(ISNUMBER(CSVデータ4!Z39),CSVデータ4!Z39,0)","v":543},null,{"$f":"IF(ISNUMBER(CSVデータ1!AB39),CSVデータ1!AB39,0)+IF(ISNUMBER(CSVデータ2!AB39),CSVデータ2!AB39,0)+IF(ISNUMBER(CSVデータ3!AB39),CSVデータ3!AB39,0)+IF(ISNUMBER(CSVデータ4!AB39),CSVデータ4!AB39,0)","v":1},null,{"$f":"IF(ISNUMBER(CSVデータ1!AD39),CSVデータ1!AD39,0)+IF(ISNUMBER(CSVデータ2!AD39),CSVデータ2!AD39,0)+IF(ISNUMBER(CSVデータ3!AD39),CSVデータ3!AD39,0)+IF(ISNUMBER(CSVデータ4!AD39),CSVデータ4!AD39,0)","v":182},null,{"$f":"IF(ISNUMBER(CSVデータ1!AF39),CSVデータ1!AF39,0)+IF(ISNUMBER(CSVデータ2!AF39),CSVデータ2!AF39,0)+IF(ISNUMBER(CSVデータ3!AF39),CSVデータ3!AF39,0)+IF(ISNUMBER(CSVデータ4!AF39),CSVデータ4!AF39,0)","v":295},null,{"$f":"IF(ISNUMBER(CSVデータ1!AH39),CSVデータ1!AH39,0)+IF(ISNUMBER(CSVデータ2!AH39),CSVデータ2!AH39,0)+IF(ISNUMBER(CSVデータ3!AH39),CSVデータ3!AH39,0)+IF(ISNUMBER(CSVデータ4!AH39),CSVデータ4!AH39,0)","v":7},null,{"$f":"IF(ISNUMBER(CSVデータ1!AJ39),CSVデータ1!AJ39,0)+IF(ISNUMBER(CSVデータ2!AJ39),CSVデータ2!AJ39,0)+IF(ISNUMBER(CSVデータ3!AJ39),CSVデータ3!AJ39,0)+IF(ISNUMBER(CSVデータ4!AJ39),CSVデータ4!AJ39,0)","v":56},null,{"$f":"IF(ISNUMBER(CSVデータ1!AL39),CSVデータ1!AL39,0)+IF(ISNUMBER(CSVデータ2!AL39),CSVデータ2!AL39,0)+IF(ISNUMBER(CSVデータ3!AL39),CSVデータ3!AL39,0)+IF(ISNUMBER(CSVデータ4!AL39),CSVデータ4!AL39,0)","v":29},null,{"$f":"IF(ISNUMBER(CSVデータ1!AN39),CSVデータ1!AN39,0)+IF(ISNUMBER(CSVデータ2!AN39),CSVデータ2!AN39,0)+IF(ISNUMBER(CSVデータ3!AN39),CSVデータ3!AN39,0)+IF(ISNUMBER(CSVデータ4!AN39),CSVデータ4!AN39,0)","v":23}]
[{"$f":"CSVデータ1!A40","v":"明細部"},{"$f":"CSVデータ1!B40","v":"国"},{"$f":"CSVデータ1!C40","v":41},{"$f":"CSVデータ1!D40","v":"女"},{"$f":"IF(ISNUMBER(CSVデータ1!E40),CSVデータ1!E40,0)+IF(ISNUMBER(CSVデータ2!E40),CSVデータ2!E40,0)+IF(ISNUMBER(CSVデータ3!E40),CSVデータ3!E40,0)+IF(ISNUMBER(CSVデータ4!E40),CSVデータ4!E40,0)","v":1463},{"$f":"IF(ISNUMBER(CSVデータ1!F40),CSVデータ1!F40,0)+IF(ISNUMBER(CSVデータ2!F40),CSVデータ2!F40,0)+IF(ISNUMBER(CSVデータ3!F40),CSVデータ3!F40,0)+IF(ISNUMBER(CSVデータ4!F40),CSVデータ4!F40,0)","v":297},null,{"$f":"IF(ISNUMBER(CSVデータ1!H40),CSVデータ1!H40,0)+IF(ISNUMBER(CSVデータ2!H40),CSVデータ2!H40,0)+IF(ISNUMBER(CSVデータ3!H40),CSVデータ3!H40,0)+IF(ISNUMBER(CSVデータ4!H40),CSVデータ4!H40,0)","v":201},null,{"$f":"IF(ISNUMBER(CSVデータ1!J40),CSVデータ1!J40,0)+IF(ISNUMBER(CSVデータ2!J40),CSVデータ2!J40,0)+IF(ISNUMBER(CSVデータ3!J40),CSVデータ3!J40,0)+IF(ISNUMBER(CSVデータ4!J40),CSVデータ4!J40,0)","v":102},null,{"$f":"IF(ISNUMBER(CSVデータ1!L40),CSVデータ1!L40,0)+IF(ISNUMBER(CSVデータ2!L40),CSVデータ2!L40,0)+IF(ISNUMBER(CSVデータ3!L40),CSVデータ3!L40,0)+IF(ISNUMBER(CSVデータ4!L40),CSVデータ4!L40,0)","v":96},null,{"$f":"IF(ISNUMBER(CSVデータ1!N40),CSVデータ1!N40,0)+IF(ISNUMBER(CSVデータ2!N40),CSVデータ2!N40,0)+IF(ISNUMBER(CSVデータ3!N40),CSVデータ3!N40,0)+IF(ISNUMBER(CSVデータ4!N40),CSVデータ4!N40,0)","v":23},null,{"$f":"IF(ISNUMBER(CSVデータ1!P40),CSVデータ1!P40,0)+IF(ISNUMBER(CSVデータ2!P40),CSVデータ2!P40,0)+IF(ISNUMBER(CSVデータ3!P40),CSVデータ3!P40,0)+IF(ISNUMBER(CSVデータ4!P40),CSVデータ4!P40,0)","v":94},null,{"$f":"IF(ISNUMBER(CSVデータ1!R40),CSVデータ1!R40,0)+IF(ISNUMBER(CSVデータ2!R40),CSVデータ2!R40,0)+IF(ISNUMBER(CSVデータ3!R40),CSVデータ3!R40,0)+IF(ISNUMBER(CSVデータ4!R40),CSVデータ4!R40,0)","v":333},null,{"$f":"IF(ISNUMBER(CSVデータ1!T40),CSVデータ1!T40,0)+IF(ISNUMBER(CSVデータ2!T40),CSVデータ2!T40,0)+IF(ISNUMBER(CSVデータ3!T40),CSVデータ3!T40,0)+IF(ISNUMBER(CSVデータ4!T40),CSVデータ4!T40,0)","v":15},null,{"$f":"IF(ISNUMBER(CSVデータ1!V40),CSVデータ1!V40,0)+IF(ISNUMBER(CSVデータ2!V40),CSVデータ2!V40,0)+IF(ISNUMBER(CSVデータ3!V40),CSVデータ3!V40,0)+IF(ISNUMBER(CSVデータ4!V40),CSVデータ4!V40,0)","v":147},null,{"$f":"IF(ISNUMBER(CSVデータ1!X40),CSVデータ1!X40,0)+IF(ISNUMBER(CSVデータ2!X40),CSVデータ2!X40,0)+IF(ISNUMBER(CSVデータ3!X40),CSVデータ3!X40,0)+IF(ISNUMBER(CSVデータ4!X40),CSVデータ4!X40,0)","v":121},null,{"$f":"IF(ISNUMBER(CSVデータ1!Z40),CSVデータ1!Z40,0)+IF(ISNUMBER(CSVデータ2!Z40),CSVデータ2!Z40,0)+IF(ISNUMBER(CSVデータ3!Z40),CSVデータ3!Z40,0)+IF(ISNUMBER(CSVデータ4!Z40),CSVデータ4!Z40,0)","v":500},null,{"$f":"IF(ISNUMBER(CSVデータ1!AB40),CSVデータ1!AB40,0)+IF(ISNUMBER(CSVデータ2!AB40),CSVデータ2!AB40,0)+IF(ISNUMBER(CSVデータ3!AB40),CSVデータ3!AB40,0)+IF(ISNUMBER(CSVデータ4!AB40),CSVデータ4!AB40,0)","v":0},null,{"$f":"IF(ISNUMBER(CSVデータ1!AD40),CSVデータ1!AD40,0)+IF(ISNUMBER(CSVデータ2!AD40),CSVデータ2!AD40,0)+IF(ISNUMBER(CSVデータ3!AD40),CSVデータ3!AD40,0)+IF(ISNUMBER(CSVデータ4!AD40),CSVデータ4!AD40,0)","v":167},null,{"$f":"IF(ISNUMBER(CSVデータ1!AF40),CSVデータ1!AF40,0)+IF(ISNUMBER(CSVデータ2!AF40),CSVデータ2!AF40,0)+IF(ISNUMBER(CSVデータ3!AF40),CSVデータ3!AF40,0)+IF(ISNUMBER(CSVデータ4!AF40),CSVデータ4!AF40,0)","v":279},null,{"$f":"IF(ISNUMBER(CSVデータ1!AH40),CSVデータ1!AH40,0)+IF(ISNUMBER(CSVデータ2!AH40),CSVデータ2!AH40,0)+IF(ISNUMBER(CSVデータ3!AH40),CSVデータ3!AH40,0)+IF(ISNUMBER(CSVデータ4!AH40),CSVデータ4!AH40,0)","v":9},null,{"$f":"IF(ISNUMBER(CSVデータ1!AJ40),CSVデータ1!AJ40,0)+IF(ISNUMBER(CSVデータ2!AJ40),CSVデータ2!AJ40,0)+IF(ISNUMBER(CSVデータ3!AJ40),CSVデータ3!AJ40,0)+IF(ISNUMBER(CSVデータ4!AJ40),CSVデータ4!AJ40,0)","v":52},null,{"$f":"IF(ISNUMBER(CSVデータ1!AL40),CSVデータ1!AL40,0)+IF(ISNUMBER(CSVデータ2!AL40),CSVデータ2!AL40,0)+IF(ISNUMBER(CSVデータ3!AL40),CSVデータ3!AL40,0)+IF(ISNUMBER(CSVデータ4!AL40),CSVデータ4!AL40,0)","v":31},null,{"$f":"IF(ISNUMBER(CSVデータ1!AN40),CSVデータ1!AN40,0)+IF(ISNUMBER(CSVデータ2!AN40),CSVデータ2!AN40,0)+IF(ISNUMBER(CSVデータ3!AN40),CSVデータ3!AN40,0)+IF(ISNUMBER(CSVデータ4!AN40),CSVデータ4!AN40,0)","v":35}]
[{"$f":"CSVデータ1!A41","v":"明細部"},{"$f":"CSVデータ1!B41","v":"国"},{"$f":"CSVデータ1!C41","v":42},{"$f":"CSVデータ1!D41","v":"女"},{"$f":"IF(ISNUMBER(CSVデータ1!E41),CSVデータ1!E41,0)+IF(ISNUMBER(CSVデータ2!E41),CSVデータ2!E41,0)+IF(ISNUMBER(CSVデータ3!E41),CSVデータ3!E41,0)+IF(ISNUMBER(CSVデータ4!E41),CSVデータ4!E41,0)","v":1515},{"$f":"IF(ISNUMBER(CSVデータ1!F41),CSVデータ1!F41,0)+IF(ISNUMBER(CSVデータ2!F41),CSVデータ2!F41,0)+IF(ISNUMBER(CSVデータ3!F41),CSVデータ3!F41,0)+IF(ISNUMBER(CSVデータ4!F41),CSVデータ4!F41,0)","v":279},null,{"$f":"IF(ISNUMBER(CSVデータ1!H41),CSVデータ1!H41,0)+IF(ISNUMBER(CSVデータ2!H41),CSVデータ2!H41,0)+IF(ISNUMBER(CSVデータ3!H41),CSVデータ3!H41,0)+IF(ISNUMBER(CSVデータ4!H41),CSVデータ4!H41,0)","v":180},null,{"$f":"IF(ISNUMBER(CSVデータ1!J41),CSVデータ1!J41,0)+IF(ISNUMBER(CSVデータ2!J41),CSVデータ2!J41,0)+IF(ISNUMBER(CSVデータ3!J41),CSVデータ3!J41,0)+IF(ISNUMBER(CSVデータ4!J41),CSVデータ4!J41,0)","v":92},null,{"$f":"IF(ISNUMBER(CSVデータ1!L41),CSVデータ1!L41,0)+IF(ISNUMBER(CSVデータ2!L41),CSVデータ2!L41,0)+IF(ISNUMBER(CSVデータ3!L41),CSVデータ3!L41,0)+IF(ISNUMBER(CSVデータ4!L41),CSVデータ4!L41,0)","v":97},null,{"$f":"IF(ISNUMBER(CSVデータ1!N41),CSVデータ1!N41,0)+IF(ISNUMBER(CSVデータ2!N41),CSVデータ2!N41,0)+IF(ISNUMBER(CSVデータ3!N41),CSVデータ3!N41,0)+IF(ISNUMBER(CSVデータ4!N41),CSVデータ4!N41,0)","v":18},null,{"$f":"IF(ISNUMBER(CSVデータ1!P41),CSVデータ1!P41,0)+IF(ISNUMBER(CSVデータ2!P41),CSVデータ2!P41,0)+IF(ISNUMBER(CSVデータ3!P41),CSVデータ3!P41,0)+IF(ISNUMBER(CSVデータ4!P41),CSVデータ4!P41,0)","v":82},null,{"$f":"IF(ISNUMBER(CSVデータ1!R41),CSVデータ1!R41,0)+IF(ISNUMBER(CSVデータ2!R41),CSVデータ2!R41,0)+IF(ISNUMBER(CSVデータ3!R41),CSVデータ3!R41,0)+IF(ISNUMBER(CSVデータ4!R41),CSVデータ4!R41,0)","v":341},null,{"$f":"IF(ISNUMBER(CSVデータ1!T41),CSVデータ1!T41,0)+IF(ISNUMBER(CSVデータ2!T41),CSVデータ2!T41,0)+IF(ISNUMBER(CSVデータ3!T41),CSVデータ3!T41,0)+IF(ISNUMBER(CSVデータ4!T41),CSVデータ4!T41,0)","v":16},null,{"$f":"IF(ISNUMBER(CSVデータ1!V41),CSVデータ1!V41,0)+IF(ISNUMBER(CSVデータ2!V41),CSVデータ2!V41,0)+IF(ISNUMBER(CSVデータ3!V41),CSVデータ3!V41,0)+IF(ISNUMBER(CSVデータ4!V41),CSVデータ4!V41,0)","v":162},null,{"$f":"IF(ISNUMBER(CSVデータ1!X41),CSVデータ1!X41,0)+IF(ISNUMBER(CSVデータ2!X41),CSVデータ2!X41,0)+IF(ISNUMBER(CSVデータ3!X41),CSVデータ3!X41,0)+IF(ISNUMBER(CSVデータ4!X41),CSVデータ4!X41,0)","v":145},null,{"$f":"IF(ISNUMBER(CSVデータ1!Z41),CSVデータ1!Z41,0)+IF(ISNUMBER(CSVデータ2!Z41),CSVデータ2!Z41,0)+IF(ISNUMBER(CSVデータ3!Z41),CSVデータ3!Z41,0)+IF(ISNUMBER(CSVデータ4!Z41),CSVデータ4!Z41,0)","v":495},null,{"$f":"IF(ISNUMBER(CSVデータ1!AB41),CSVデータ1!AB41,0)+IF(ISNUMBER(CSVデータ2!AB41),CSVデータ2!AB41,0)+IF(ISNUMBER(CSVデータ3!AB41),CSVデータ3!AB41,0)+IF(ISNUMBER(CSVデータ4!AB41),CSVデータ4!AB41,0)","v":0},null,{"$f":"IF(ISNUMBER(CSVデータ1!AD41),CSVデータ1!AD41,0)+IF(ISNUMBER(CSVデータ2!AD41),CSVデータ2!AD41,0)+IF(ISNUMBER(CSVデータ3!AD41),CSVデータ3!AD41,0)+IF(ISNUMBER(CSVデータ4!AD41),CSVデータ4!AD41,0)","v":174},null,{"$f":"IF(ISNUMBER(CSVデータ1!AF41),CSVデータ1!AF41,0)+IF(ISNUMBER(CSVデータ2!AF41),CSVデータ2!AF41,0)+IF(ISNUMBER(CSVデータ3!AF41),CSVデータ3!AF41,0)+IF(ISNUMBER(CSVデータ4!AF41),CSVデータ4!AF41,0)","v":286},null,{"$f":"IF(ISNUMBER(CSVデータ1!AH41),CSVデータ1!AH41,0)+IF(ISNUMBER(CSVデータ2!AH41),CSVデータ2!AH41,0)+IF(ISNUMBER(CSVデータ3!AH41),CSVデータ3!AH41,0)+IF(ISNUMBER(CSVデータ4!AH41),CSVデータ4!AH41,0)","v":7},null,{"$f":"IF(ISNUMBER(CSVデータ1!AJ41),CSVデータ1!AJ41,0)+IF(ISNUMBER(CSVデータ2!AJ41),CSVデータ2!AJ41,0)+IF(ISNUMBER(CSVデータ3!AJ41),CSVデータ3!AJ41,0)+IF(ISNUMBER(CSVデータ4!AJ41),CSVデータ4!AJ41,0)","v":51},null,{"$f":"IF(ISNUMBER(CSVデータ1!AL41),CSVデータ1!AL41,0)+IF(ISNUMBER(CSVデータ2!AL41),CSVデータ2!AL41,0)+IF(ISNUMBER(CSVデータ3!AL41),CSVデータ3!AL41,0)+IF(ISNUMBER(CSVデータ4!AL41),CSVデータ4!AL41,0)","v":35},null,{"$f":"IF(ISNUMBER(CSVデータ1!AN41),CSVデータ1!AN41,0)+IF(ISNUMBER(CSVデータ2!AN41),CSVデータ2!AN41,0)+IF(ISNUMBER(CSVデータ3!AN41),CSVデータ3!AN41,0)+IF(ISNUMBER(CSVデータ4!AN41),CSVデータ4!AN41,0)","v":26}]
[{"$f":"CSVデータ1!A42","v":"明細部"},{"$f":"CSVデータ1!B42","v":"国"},{"$f":"CSVデータ1!C42","v":43},{"$f":"CSVデータ1!D42","v":"女"},{"$f":"IF(ISNUMBER(CSVデータ1!E42),CSVデータ1!E42,0)+IF(ISNUMBER(CSVデータ2!E42),CSVデータ2!E42,0)+IF(ISNUMBER(CSVデータ3!E42),CSVデータ3!E42,0)+IF(ISNUMBER(CSVデータ4!E42),CSVデータ4!E42,0)","v":1517},{"$f":"IF(ISNUMBER(CSVデータ1!F42),CSVデータ1!F42,0)+IF(ISNUMBER(CSVデータ2!F42),CSVデータ2!F42,0)+IF(ISNUMBER(CSVデータ3!F42),CSVデータ3!F42,0)+IF(ISNUMBER(CSVデータ4!F42),CSVデータ4!F42,0)","v":327},null,{"$f":"IF(ISNUMBER(CSVデータ1!H42),CSVデータ1!H42,0)+IF(ISNUMBER(CSVデータ2!H42),CSVデータ2!H42,0)+IF(ISNUMBER(CSVデータ3!H42),CSVデータ3!H42,0)+IF(ISNUMBER(CSVデータ4!H42),CSVデータ4!H42,0)","v":212},null,{"$f":"IF(ISNUMBER(CSVデータ1!J42),CSVデータ1!J42,0)+IF(ISNUMBER(CSVデータ2!J42),CSVデータ2!J42,0)+IF(ISNUMBER(CSVデータ3!J42),CSVデータ3!J42,0)+IF(ISNUMBER(CSVデータ4!J42),CSVデータ4!J42,0)","v":94},null,{"$f":"IF(ISNUMBER(CSVデータ1!L42),CSVデータ1!L42,0)+IF(ISNUMBER(CSVデータ2!L42),CSVデータ2!L42,0)+IF(ISNUMBER(CSVデータ3!L42),CSVデータ3!L42,0)+IF(ISNUMBER(CSVデータ4!L42),CSVデータ4!L42,0)","v":99},null,{"$f":"IF(ISNUMBER(CSVデータ1!N42),CSVデータ1!N42,0)+IF(ISNUMBER(CSVデータ2!N42),CSVデータ2!N42,0)+IF(ISNUMBER(CSVデータ3!N42),CSVデータ3!N42,0)+IF(ISNUMBER(CSVデータ4!N42),CSVデータ4!N42,0)","v":23},null,{"$f":"IF(ISNUMBER(CSVデータ1!P42),CSVデータ1!P42,0)+IF(ISNUMBER(CSVデータ2!P42),CSVデータ2!P42,0)+IF(ISNUMBER(CSVデータ3!P42),CSVデータ3!P42,0)+IF(ISNUMBER(CSVデータ4!P42),CSVデータ4!P42,0)","v":102},null,{"$f":"IF(ISNUMBER(CSVデータ1!R42),CSVデータ1!R42,0)+IF(ISNUMBER(CSVデータ2!R42),CSVデータ2!R42,0)+IF(ISNUMBER(CSVデータ3!R42),CSVデータ3!R42,0)+IF(ISNUMBER(CSVデータ4!R42),CSVデータ4!R42,0)","v":411},null,{"$f":"IF(ISNUMBER(CSVデータ1!T42),CSVデータ1!T42,0)+IF(ISNUMBER(CSVデータ2!T42),CSVデータ2!T42,0)+IF(ISNUMBER(CSVデータ3!T42),CSVデータ3!T42,0)+IF(ISNUMBER(CSVデータ4!T42),CSVデータ4!T42,0)","v":16},null,{"$f":"IF(ISNUMBER(CSVデータ1!V42),CSVデータ1!V42,0)+IF(ISNUMBER(CSVデータ2!V42),CSVデータ2!V42,0)+IF(ISNUMBER(CSVデータ3!V42),CSVデータ3!V42,0)+IF(ISNUMBER(CSVデータ4!V42),CSVデータ4!V42,0)","v":177},null,{"$f":"IF(ISNUMBER(CSVデータ1!X42),CSVデータ1!X42,0)+IF(ISNUMBER(CSVデータ2!X42),CSVデータ2!X42,0)+IF(ISNUMBER(CSVデータ3!X42),CSVデータ3!X42,0)+IF(ISNUMBER(CSVデータ4!X42),CSVデータ4!X42,0)","v":147},null,{"$f":"IF(ISNUMBER(CSVデータ1!Z42),CSVデータ1!Z42,0)+IF(ISNUMBER(CSVデータ2!Z42),CSVデータ2!Z42,0)+IF(ISNUMBER(CSVデータ3!Z42),CSVデータ3!Z42,0)+IF(ISNUMBER(CSVデータ4!Z42),CSVデータ4!Z42,0)","v":534},null,{"$f":"IF(ISNUMBER(CSVデータ1!AB42),CSVデータ1!AB42,0)+IF(ISNUMBER(CSVデータ2!AB42),CSVデータ2!AB42,0)+IF(ISNUMBER(CSVデータ3!AB42),CSVデータ3!AB42,0)+IF(ISNUMBER(CSVデータ4!AB42),CSVデータ4!AB42,0)","v":2},null,{"$f":"IF(ISNUMBER(CSVデータ1!AD42),CSVデータ1!AD42,0)+IF(ISNUMBER(CSVデータ2!AD42),CSVデータ2!AD42,0)+IF(ISNUMBER(CSVデータ3!AD42),CSVデータ3!AD42,0)+IF(ISNUMBER(CSVデータ4!AD42),CSVデータ4!AD42,0)","v":169},null,{"$f":"IF(ISNUMBER(CSVデータ1!AF42),CSVデータ1!AF42,0)+IF(ISNUMBER(CSVデータ2!AF42),CSVデータ2!AF42,0)+IF(ISNUMBER(CSVデータ3!AF42),CSVデータ3!AF42,0)+IF(ISNUMBER(CSVデータ4!AF42),CSVデータ4!AF42,0)","v":282},null,{"$f":"IF(ISNUMBER(CSVデータ1!AH42),CSVデータ1!AH42,0)+IF(ISNUMBER(CSVデータ2!AH42),CSVデータ2!AH42,0)+IF(ISNUMBER(CSVデータ3!AH42),CSVデータ3!AH42,0)+IF(ISNUMBER(CSVデータ4!AH42),CSVデータ4!AH42,0)","v":20},null,{"$f":"IF(ISNUMBER(CSVデータ1!AJ42),CSVデータ1!AJ42,0)+IF(ISNUMBER(CSVデータ2!AJ42),CSVデータ2!AJ42,0)+IF(ISNUMBER(CSVデータ3!AJ42),CSVデータ3!AJ42,0)+IF(ISNUMBER(CSVデータ4!AJ42),CSVデータ4!AJ42,0)","v":57},null,{"$f":"IF(ISNUMBER(CSVデータ1!AL42),CSVデータ1!AL42,0)+IF(ISNUMBER(CSVデータ2!AL42),CSVデータ2!AL42,0)+IF(ISNUMBER(CSVデータ3!AL42),CSVデータ3!AL42,0)+IF(ISNUMBER(CSVデータ4!AL42),CSVデータ4!AL42,0)","v":50},null,{"$f":"IF(ISNUMBER(CSVデータ1!AN42),CSVデータ1!AN42,0)+IF(ISNUMBER(CSVデータ2!AN42),CSVデータ2!AN42,0)+IF(ISNUMBER(CSVデータ3!AN42),CSVデータ3!AN42,0)+IF(ISNUMBER(CSVデータ4!AN42),CSVデータ4!AN42,0)","v":27}]
[{"$f":"CSVデータ1!A43","v":"明細部"},{"$f":"CSVデータ1!B43","v":"国"},{"$f":"CSVデータ1!C43","v":44},{"$f":"CSVデータ1!D43","v":"女"},{"$f":"IF(ISNUMBER(CSVデータ1!E43),CSVデータ1!E43,0)+IF(ISNUMBER(CSVデータ2!E43),CSVデータ2!E43,0)+IF(ISNUMBER(CSVデータ3!E43),CSVデータ3!E43,0)+IF(ISNUMBER(CSVデータ4!E43),CSVデータ4!E43,0)","v":1473},{"$f":"IF(ISNUMBER(CSVデータ1!F43),CSVデータ1!F43,0)+IF(ISNUMBER(CSVデータ2!F43),CSVデータ2!F43,0)+IF(ISNUMBER(CSVデータ3!F43),CSVデータ3!F43,0)+IF(ISNUMBER(CSVデータ4!F43),CSVデータ4!F43,0)","v":281},null,{"$f":"IF(ISNUMBER(CSVデータ1!H43),CSVデータ1!H43,0)+IF(ISNUMBER(CSVデータ2!H43),CSVデータ2!H43,0)+IF(ISNUMBER(CSVデータ3!H43),CSVデータ3!H43,0)+IF(ISNUMBER(CSVデータ4!H43),CSVデータ4!H43,0)","v":185},null,{"$f":"IF(ISNUMBER(CSVデータ1!J43),CSVデータ1!J43,0)+IF(ISNUMBER(CSVデータ2!J43),CSVデータ2!J43,0)+IF(ISNUMBER(CSVデータ3!J43),CSVデータ3!J43,0)+IF(ISNUMBER(CSVデータ4!J43),CSVデータ4!J43,0)","v":87},null,{"$f":"IF(ISNUMBER(CSVデータ1!L43),CSVデータ1!L43,0)+IF(ISNUMBER(CSVデータ2!L43),CSVデータ2!L43,0)+IF(ISNUMBER(CSVデータ3!L43),CSVデータ3!L43,0)+IF(ISNUMBER(CSVデータ4!L43),CSVデータ4!L43,0)","v":99},null,{"$f":"IF(ISNUMBER(CSVデータ1!N43),CSVデータ1!N43,0)+IF(ISNUMBER(CSVデータ2!N43),CSVデータ2!N43,0)+IF(ISNUMBER(CSVデータ3!N43),CSVデータ3!N43,0)+IF(ISNUMBER(CSVデータ4!N43),CSVデータ4!N43,0)","v":14},null,{"$f":"IF(ISNUMBER(CSVデータ1!P43),CSVデータ1!P43,0)+IF(ISNUMBER(CSVデータ2!P43),CSVデータ2!P43,0)+IF(ISNUMBER(CSVデータ3!P43),CSVデータ3!P43,0)+IF(ISNUMBER(CSVデータ4!P43),CSVデータ4!P43,0)","v":81},null,{"$f":"IF(ISNUMBER(CSVデータ1!R43),CSVデータ1!R43,0)+IF(ISNUMBER(CSVデータ2!R43),CSVデータ2!R43,0)+IF(ISNUMBER(CSVデータ3!R43),CSVデータ3!R43,0)+IF(ISNUMBER(CSVデータ4!R43),CSVデータ4!R43,0)","v":355},null,{"$f":"IF(ISNUMBER(CSVデータ1!T43),CSVデータ1!T43,0)+IF(ISNUMBER(CSVデータ2!T43),CSVデータ2!T43,0)+IF(ISNUMBER(CSVデータ3!T43),CSVデータ3!T43,0)+IF(ISNUMBER(CSVデータ4!T43),CSVデータ4!T43,0)","v":12},null,{"$f":"IF(ISNUMBER(CSVデータ1!V43),CSVデータ1!V43,0)+IF(ISNUMBER(CSVデータ2!V43),CSVデータ2!V43,0)+IF(ISNUMBER(CSVデータ3!V43),CSVデータ3!V43,0)+IF(ISNUMBER(CSVデータ4!V43),CSVデータ4!V43,0)","v":187},null,{"$f":"IF(ISNUMBER(CSVデータ1!X43),CSVデータ1!X43,0)+IF(ISNUMBER(CSVデータ2!X43),CSVデータ2!X43,0)+IF(ISNUMBER(CSVデータ3!X43),CSVデータ3!X43,0)+IF(ISNUMBER(CSVデータ4!X43),CSVデータ4!X43,0)","v":163},null,{"$f":"IF(ISNUMBER(CSVデータ1!Z43),CSVデータ1!Z43,0)+IF(ISNUMBER(CSVデータ2!Z43),CSVデータ2!Z43,0)+IF(ISNUMBER(CSVデータ3!Z43),CSVデータ3!Z43,0)+IF(ISNUMBER(CSVデータ4!Z43),CSVデータ4!Z43,0)","v":577},null,{"$f":"IF(ISNUMBER(CSVデータ1!AB43),CSVデータ1!AB43,0)+IF(ISNUMBER(CSVデータ2!AB43),CSVデータ2!AB43,0)+IF(ISNUMBER(CSVデータ3!AB43),CSVデータ3!AB43,0)+IF(ISNUMBER(CSVデータ4!AB43),CSVデータ4!AB43,0)","v":2},null,{"$f":"IF(ISNUMBER(CSVデータ1!AD43),CSVデータ1!AD43,0)+IF(ISNUMBER(CSVデータ2!AD43),CSVデータ2!AD43,0)+IF(ISNUMBER(CSVデータ3!AD43),CSVデータ3!AD43,0)+IF(ISNUMBER(CSVデータ4!AD43),CSVデータ4!AD43,0)","v":179},null,{"$f":"IF(ISNUMBER(CSVデータ1!AF43),CSVデータ1!AF43,0)+IF(ISNUMBER(CSVデータ2!AF43),CSVデータ2!AF43,0)+IF(ISNUMBER(CSVデータ3!AF43),CSVデータ3!AF43,0)+IF(ISNUMBER(CSVデータ4!AF43),CSVデータ4!AF43,0)","v":275},null,{"$f":"IF(ISNUMBER(CSVデータ1!AH43),CSVデータ1!AH43,0)+IF(ISNUMBER(CSVデータ2!AH43),CSVデータ2!AH43,0)+IF(ISNUMBER(CSVデータ3!AH43),CSVデータ3!AH43,0)+IF(ISNUMBER(CSVデータ4!AH43),CSVデータ4!AH43,0)","v":15},null,{"$f":"IF(ISNUMBER(CSVデータ1!AJ43),CSVデータ1!AJ43,0)+IF(ISNUMBER(CSVデータ2!AJ43),CSVデータ2!AJ43,0)+IF(ISNUMBER(CSVデータ3!AJ43),CSVデータ3!AJ43,0)+IF(ISNUMBER(CSVデータ4!AJ43),CSVデータ4!AJ43,0)","v":58},null,{"$f":"IF(ISNUMBER(CSVデータ1!AL43),CSVデータ1!AL43,0)+IF(ISNUMBER(CSVデータ2!AL43),CSVデータ2!AL43,0)+IF(ISNUMBER(CSVデータ3!AL43),CSVデータ3!AL43,0)+IF(ISNUMBER(CSVデータ4!AL43),CSVデータ4!AL43,0)","v":49},null,{"$f":"IF(ISNUMBER(CSVデータ1!AN43),CSVデータ1!AN43,0)+IF(ISNUMBER(CSVデータ2!AN43),CSVデータ2!AN43,0)+IF(ISNUMBER(CSVデータ3!AN43),CSVデータ3!AN43,0)+IF(ISNUMBER(CSVデータ4!AN43),CSVデータ4!AN43,0)","v":21}]
[{"$f":"CSVデータ1!A44","v":"明細部"},{"$f":"CSVデータ1!B44","v":"国"},{"$f":"CSVデータ1!C44","v":45},{"$f":"CSVデータ1!D44","v":"女"},{"$f":"IF(ISNUMBER(CSVデータ1!E44),CSVデータ1!E44,0)+IF(ISNUMBER(CSVデータ2!E44),CSVデータ2!E44,0)+IF(ISNUMBER(CSVデータ3!E44),CSVデータ3!E44,0)+IF(ISNUMBER(CSVデータ4!E44),CSVデータ4!E44,0)","v":1729},{"$f":"IF(ISNUMBER(CSVデータ1!F44),CSVデータ1!F44,0)+IF(ISNUMBER(CSVデータ2!F44),CSVデータ2!F44,0)+IF(ISNUMBER(CSVデータ3!F44),CSVデータ3!F44,0)+IF(ISNUMBER(CSVデータ4!F44),CSVデータ4!F44,0)","v":347},null,{"$f":"IF(ISNUMBER(CSVデータ1!H44),CSVデータ1!H44,0)+IF(ISNUMBER(CSVデータ2!H44),CSVデータ2!H44,0)+IF(ISNUMBER(CSVデータ3!H44),CSVデータ3!H44,0)+IF(ISNUMBER(CSVデータ4!H44),CSVデータ4!H44,0)","v":228},null,{"$f":"IF(ISNUMBER(CSVデータ1!J44),CSVデータ1!J44,0)+IF(ISNUMBER(CSVデータ2!J44),CSVデータ2!J44,0)+IF(ISNUMBER(CSVデータ3!J44),CSVデータ3!J44,0)+IF(ISNUMBER(CSVデータ4!J44),CSVデータ4!J44,0)","v":111},null,{"$f":"IF(ISNUMBER(CSVデータ1!L44),CSVデータ1!L44,0)+IF(ISNUMBER(CSVデータ2!L44),CSVデータ2!L44,0)+IF(ISNUMBER(CSVデータ3!L44),CSVデータ3!L44,0)+IF(ISNUMBER(CSVデータ4!L44),CSVデータ4!L44,0)","v":112},null,{"$f":"IF(ISNUMBER(CSVデータ1!N44),CSVデータ1!N44,0)+IF(ISNUMBER(CSVデータ2!N44),CSVデータ2!N44,0)+IF(ISNUMBER(CSVデータ3!N44),CSVデータ3!N44,0)+IF(ISNUMBER(CSVデータ4!N44),CSVデータ4!N44,0)","v":28},null,{"$f":"IF(ISNUMBER(CSVデータ1!P44),CSVデータ1!P44,0)+IF(ISNUMBER(CSVデータ2!P44),CSVデータ2!P44,0)+IF(ISNUMBER(CSVデータ3!P44),CSVデータ3!P44,0)+IF(ISNUMBER(CSVデータ4!P44),CSVデータ4!P44,0)","v":123},null,{"$f":"IF(ISNUMBER(CSVデータ1!R44),CSVデータ1!R44,0)+IF(ISNUMBER(CSVデータ2!R44),CSVデータ2!R44,0)+IF(ISNUMBER(CSVデータ3!R44),CSVデータ3!R44,0)+IF(ISNUMBER(CSVデータ4!R44),CSVデータ4!R44,0)","v":448},null,{"$f":"IF(ISNUMBER(CSVデータ1!T44),CSVデータ1!T44,0)+IF(ISNUMBER(CSVデータ2!T44),CSVデータ2!T44,0)+IF(ISNUMBER(CSVデータ3!T44),CSVデータ3!T44,0)+IF(ISNUMBER(CSVデータ4!T44),CSVデータ4!T44,0)","v":16},null,{"$f":"IF(ISNUMBER(CSVデータ1!V44),CSVデータ1!V44,0)+IF(ISNUMBER(CSVデータ2!V44),CSVデータ2!V44,0)+IF(ISNUMBER(CSVデータ3!V44),CSVデータ3!V44,0)+IF(ISNUMBER(CSVデータ4!V44),CSVデータ4!V44,0)","v":250},null,{"$f":"IF(ISNUMBER(CSVデータ1!X44),CSVデータ1!X44,0)+IF(ISNUMBER(CSVデータ2!X44),CSVデータ2!X44,0)+IF(ISNUMBER(CSVデータ3!X44),CSVデータ3!X44,0)+IF(ISNUMBER(CSVデータ4!X44),CSVデータ4!X44,0)","v":179},null,{"$f":"IF(ISNUMBER(CSVデータ1!Z44),CSVデータ1!Z44,0)+IF(ISNUMBER(CSVデータ2!Z44),CSVデータ2!Z44,0)+IF(ISNUMBER(CSVデータ3!Z44),CSVデータ3!Z44,0)+IF(ISNUMBER(CSVデータ4!Z44),CSVデータ4!Z44,0)","v":666},null,{"$f":"IF(ISNUMBER(CSVデータ1!AB44),CSVデータ1!AB44,0)+IF(ISNUMBER(CSVデータ2!AB44),CSVデータ2!AB44,0)+IF(ISNUMBER(CSVデータ3!AB44),CSVデータ3!AB44,0)+IF(ISNUMBER(CSVデータ4!AB44),CSVデータ4!AB44,0)","v":2},null,{"$f":"IF(ISNUMBER(CSVデータ1!AD44),CSVデータ1!AD44,0)+IF(ISNUMBER(CSVデータ2!AD44),CSVデータ2!AD44,0)+IF(ISNUMBER(CSVデータ3!AD44),CSVデータ3!AD44,0)+IF(ISNUMBER(CSVデータ4!AD44),CSVデータ4!AD44,0)","v":204},null,{"$f":"IF(ISNUMBER(CSVデータ1!AF44),CSVデータ1!AF44,0)+IF(ISNUMBER(CSVデータ2!AF44),CSVデータ2!AF44,0)+IF(ISNUMBER(CSVデータ3!AF44),CSVデータ3!AF44,0)+IF(ISNUMBER(CSVデータ4!AF44),CSVデータ4!AF44,0)","v":341},null,{"$f":"IF(ISNUMBER(CSVデータ1!AH44),CSVデータ1!AH44,0)+IF(ISNUMBER(CSVデータ2!AH44),CSVデータ2!AH44,0)+IF(ISNUMBER(CSVデータ3!AH44),CSVデータ3!AH44,0)+IF(ISNUMBER(CSVデータ4!AH44),CSVデータ4!AH44,0)","v":21},null,{"$f":"IF(ISNUMBER(CSVデータ1!AJ44),CSVデータ1!AJ44,0)+IF(ISNUMBER(CSVデータ2!AJ44),CSVデータ2!AJ44,0)+IF(ISNUMBER(CSVデータ3!AJ44),CSVデータ3!AJ44,0)+IF(ISNUMBER(CSVデータ4!AJ44),CSVデータ4!AJ44,0)","v":83},null,{"$f":"IF(ISNUMBER(CSVデータ1!AL44),CSVデータ1!AL44,0)+IF(ISNUMBER(CSVデータ2!AL44),CSVデータ2!AL44,0)+IF(ISNUMBER(CSVデータ3!AL44),CSVデータ3!AL44,0)+IF(ISNUMBER(CSVデータ4!AL44),CSVデータ4!AL44,0)","v":68},null,{"$f":"IF(ISNUMBER(CSVデータ1!AN44),CSVデータ1!AN44,0)+IF(ISNUMBER(CSVデータ2!AN44),CSVデータ2!AN44,0)+IF(ISNUMBER(CSVデータ3!AN44),CSVデータ3!AN44,0)+IF(ISNUMBER(CSVデータ4!AN44),CSVデータ4!AN44,0)","v":27}]
[{"$f":"CSVデータ1!A45","v":"明細部"},{"$f":"CSVデータ1!B45","v":"国"},{"$f":"CSVデータ1!C45","v":46},{"$f":"CSVデータ1!D45","v":"女"},{"$f":"IF(ISNUMBER(CSVデータ1!E45),CSVデータ1!E45,0)+IF(ISNUMBER(CSVデータ2!E45),CSVデータ2!E45,0)+IF(ISNUMBER(CSVデータ3!E45),CSVデータ3!E45,0)+IF(ISNUMBER(CSVデータ4!E45),CSVデータ4!E45,0)","v":1754},{"$f":"IF(ISNUMBER(CSVデータ1!F45),CSVデータ1!F45,0)+IF(ISNUMBER(CSVデータ2!F45),CSVデータ2!F45,0)+IF(ISNUMBER(CSVデータ3!F45),CSVデータ3!F45,0)+IF(ISNUMBER(CSVデータ4!F45),CSVデータ4!F45,0)","v":367},null,{"$f":"IF(ISNUMBER(CSVデータ1!H45),CSVデータ1!H45,0)+IF(ISNUMBER(CSVデータ2!H45),CSVデータ2!H45,0)+IF(ISNUMBER(CSVデータ3!H45),CSVデータ3!H45,0)+IF(ISNUMBER(CSVデータ4!H45),CSVデータ4!H45,0)","v":237},null,{"$f":"IF(ISNUMBER(CSVデータ1!J45),CSVデータ1!J45,0)+IF(ISNUMBER(CSVデータ2!J45),CSVデータ2!J45,0)+IF(ISNUMBER(CSVデータ3!J45),CSVデータ3!J45,0)+IF(ISNUMBER(CSVデータ4!J45),CSVデータ4!J45,0)","v":126},null,{"$f":"IF(ISNUMBER(CSVデータ1!L45),CSVデータ1!L45,0)+IF(ISNUMBER(CSVデータ2!L45),CSVデータ2!L45,0)+IF(ISNUMBER(CSVデータ3!L45),CSVデータ3!L45,0)+IF(ISNUMBER(CSVデータ4!L45),CSVデータ4!L45,0)","v":128},null,{"$f":"IF(ISNUMBER(CSVデータ1!N45),CSVデータ1!N45,0)+IF(ISNUMBER(CSVデータ2!N45),CSVデータ2!N45,0)+IF(ISNUMBER(CSVデータ3!N45),CSVデータ3!N45,0)+IF(ISNUMBER(CSVデータ4!N45),CSVデータ4!N45,0)","v":26},null,{"$f":"IF(ISNUMBER(CSVデータ1!P45),CSVデータ1!P45,0)+IF(ISNUMBER(CSVデータ2!P45),CSVデータ2!P45,0)+IF(ISNUMBER(CSVデータ3!P45),CSVデータ3!P45,0)+IF(ISNUMBER(CSVデータ4!P45),CSVデータ4!P45,0)","v":134},null,{"$f":"IF(ISNUMBER(CSVデータ1!R45),CSVデータ1!R45,0)+IF(ISNUMBER(CSVデータ2!R45),CSVデータ2!R45,0)+IF(ISNUMBER(CSVデータ3!R45),CSVデータ3!R45,0)+IF(ISNUMBER(CSVデータ4!R45),CSVデータ4!R45,0)","v":457},null,{"$f":"IF(ISNUMBER(CSVデータ1!T45),CSVデータ1!T45,0)+IF(ISNUMBER(CSVデータ2!T45),CSVデータ2!T45,0)+IF(ISNUMBER(CSVデータ3!T45),CSVデータ3!T45,0)+IF(ISNUMBER(CSVデータ4!T45),CSVデータ4!T45,0)","v":21},null,{"$f":"IF(ISNUMBER(CSVデータ1!V45),CSVデータ1!V45,0)+IF(ISNUMBER(CSVデータ2!V45),CSVデータ2!V45,0)+IF(ISNUMBER(CSVデータ3!V45),CSVデータ3!V45,0)+IF(ISNUMBER(CSVデータ4!V45),CSVデータ4!V45,0)","v":266},null,{"$f":"IF(ISNUMBER(CSVデータ1!X45),CSVデータ1!X45,0)+IF(ISNUMBER(CSVデータ2!X45),CSVデータ2!X45,0)+IF(ISNUMBER(CSVデータ3!X45),CSVデータ3!X45,0)+IF(ISNUMBER(CSVデータ4!X45),CSVデータ4!X45,0)","v":201},null,{"$f":"IF(ISNUMBER(CSVデータ1!Z45),CSVデータ1!Z45,0)+IF(ISNUMBER(CSVデータ2!Z45),CSVデータ2!Z45,0)+IF(ISNUMBER(CSVデータ3!Z45),CSVデータ3!Z45,0)+IF(ISNUMBER(CSVデータ4!Z45),CSVデータ4!Z45,0)","v":690},null,{"$f":"IF(ISNUMBER(CSVデータ1!AB45),CSVデータ1!AB45,0)+IF(ISNUMBER(CSVデータ2!AB45),CSVデータ2!AB45,0)+IF(ISNUMBER(CSVデータ3!AB45),CSVデータ3!AB45,0)+IF(ISNUMBER(CSVデータ4!AB45),CSVデータ4!AB45,0)","v":1},null,{"$f":"IF(ISNUMBER(CSVデータ1!AD45),CSVデータ1!AD45,0)+IF(ISNUMBER(CSVデータ2!AD45),CSVデータ2!AD45,0)+IF(ISNUMBER(CSVデータ3!AD45),CSVデータ3!AD45,0)+IF(ISNUMBER(CSVデータ4!AD45),CSVデータ4!AD45,0)","v":200},null,{"$f":"IF(ISNUMBER(CSVデータ1!AF45),CSVデータ1!AF45,0)+IF(ISNUMBER(CSVデータ2!AF45),CSVデータ2!AF45,0)+IF(ISNUMBER(CSVデータ3!AF45),CSVデータ3!AF45,0)+IF(ISNUMBER(CSVデータ4!AF45),CSVデータ4!AF45,0)","v":331},null,{"$f":"IF(ISNUMBER(CSVデータ1!AH45),CSVデータ1!AH45,0)+IF(ISNUMBER(CSVデータ2!AH45),CSVデータ2!AH45,0)+IF(ISNUMBER(CSVデータ3!AH45),CSVデータ3!AH45,0)+IF(ISNUMBER(CSVデータ4!AH45),CSVデータ4!AH45,0)","v":13},null,{"$f":"IF(ISNUMBER(CSVデータ1!AJ45),CSVデータ1!AJ45,0)+IF(ISNUMBER(CSVデータ2!AJ45),CSVデータ2!AJ45,0)+IF(ISNUMBER(CSVデータ3!AJ45),CSVデータ3!AJ45,0)+IF(ISNUMBER(CSVデータ4!AJ45),CSVデータ4!AJ45,0)","v":89},null,{"$f":"IF(ISNUMBER(CSVデータ1!AL45),CSVデータ1!AL45,0)+IF(ISNUMBER(CSVデータ2!AL45),CSVデータ2!AL45,0)+IF(ISNUMBER(CSVデータ3!AL45),CSVデータ3!AL45,0)+IF(ISNUMBER(CSVデータ4!AL45),CSVデータ4!AL45,0)","v":88},null,{"$f":"IF(ISNUMBER(CSVデータ1!AN45),CSVデータ1!AN45,0)+IF(ISNUMBER(CSVデータ2!AN45),CSVデータ2!AN45,0)+IF(ISNUMBER(CSVデータ3!AN45),CSVデータ3!AN45,0)+IF(ISNUMBER(CSVデータ4!AN45),CSVデータ4!AN45,0)","v":36}]
[{"$f":"CSVデータ1!A46","v":"明細部"},{"$f":"CSVデータ1!B46","v":"国"},{"$f":"CSVデータ1!C46","v":47},{"$f":"CSVデータ1!D46","v":"女"},{"$f":"IF(ISNUMBER(CSVデータ1!E46),CSVデータ1!E46,0)+IF(ISNUMBER(CSVデータ2!E46),CSVデータ2!E46,0)+IF(ISNUMBER(CSVデータ3!E46),CSVデータ3!E46,0)+IF(ISNUMBER(CSVデータ4!E46),CSVデータ4!E46,0)","v":1826},{"$f":"IF(ISNUMBER(CSVデータ1!F46),CSVデータ1!F46,0)+IF(ISNUMBER(CSVデータ2!F46),CSVデータ2!F46,0)+IF(ISNUMBER(CSVデータ3!F46),CSVデータ3!F46,0)+IF(ISNUMBER(CSVデータ4!F46),CSVデータ4!F46,0)","v":382},null,{"$f":"IF(ISNUMBER(CSVデータ1!H46),CSVデータ1!H46,0)+IF(ISNUMBER(CSVデータ2!H46),CSVデータ2!H46,0)+IF(ISNUMBER(CSVデータ3!H46),CSVデータ3!H46,0)+IF(ISNUMBER(CSVデータ4!H46),CSVデータ4!H46,0)","v":235},null,{"$f":"IF(ISNUMBER(CSVデータ1!J46),CSVデータ1!J46,0)+IF(ISNUMBER(CSVデータ2!J46),CSVデータ2!J46,0)+IF(ISNUMBER(CSVデータ3!J46),CSVデータ3!J46,0)+IF(ISNUMBER(CSVデータ4!J46),CSVデータ4!J46,0)","v":127},null,{"$f":"IF(ISNUMBER(CSVデータ1!L46),CSVデータ1!L46,0)+IF(ISNUMBER(CSVデータ2!L46),CSVデータ2!L46,0)+IF(ISNUMBER(CSVデータ3!L46),CSVデータ3!L46,0)+IF(ISNUMBER(CSVデータ4!L46),CSVデータ4!L46,0)","v":138},null,{"$f":"IF(ISNUMBER(CSVデータ1!N46),CSVデータ1!N46,0)+IF(ISNUMBER(CSVデータ2!N46),CSVデータ2!N46,0)+IF(ISNUMBER(CSVデータ3!N46),CSVデータ3!N46,0)+IF(ISNUMBER(CSVデータ4!N46),CSVデータ4!N46,0)","v":31},null,{"$f":"IF(ISNUMBER(CSVデータ1!P46),CSVデータ1!P46,0)+IF(ISNUMBER(CSVデータ2!P46),CSVデータ2!P46,0)+IF(ISNUMBER(CSVデータ3!P46),CSVデータ3!P46,0)+IF(ISNUMBER(CSVデータ4!P46),CSVデータ4!P46,0)","v":147},null,{"$f":"IF(ISNUMBER(CSVデータ1!R46),CSVデータ1!R46,0)+IF(ISNUMBER(CSVデータ2!R46),CSVデータ2!R46,0)+IF(ISNUMBER(CSVデータ3!R46),CSVデータ3!R46,0)+IF(ISNUMBER(CSVデータ4!R46),CSVデータ4!R46,0)","v":523},null,{"$f":"IF(ISNUMBER(CSVデータ1!T46),CSVデータ1!T46,0)+IF(ISNUMBER(CSVデータ2!T46),CSVデータ2!T46,0)+IF(ISNUMBER(CSVデータ3!T46),CSVデータ3!T46,0)+IF(ISNUMBER(CSVデータ4!T46),CSVデータ4!T46,0)","v":22},null,{"$f":"IF(ISNUMBER(CSVデータ1!V46),CSVデータ1!V46,0)+IF(ISNUMBER(CSVデータ2!V46),CSVデータ2!V46,0)+IF(ISNUMBER(CSVデータ3!V46),CSVデータ3!V46,0)+IF(ISNUMBER(CSVデータ4!V46),CSVデータ4!V46,0)","v":313},null,{"$f":"IF(ISNUMBER(CSVデータ1!X46),CSVデータ1!X46,0)+IF(ISNUMBER(CSVデータ2!X46),CSVデータ2!X46,0)+IF(ISNUMBER(CSVデータ3!X46),CSVデータ3!X46,0)+IF(ISNUMBER(CSVデータ4!X46),CSVデータ4!X46,0)","v":237},null,{"$f":"IF(ISNUMBER(CSVデータ1!Z46),CSVデータ1!Z46,0)+IF(ISNUMBER(CSVデータ2!Z46),CSVデータ2!Z46,0)+IF(ISNUMBER(CSVデータ3!Z46),CSVデータ3!Z46,0)+IF(ISNUMBER(CSVデータ4!Z46),CSVデータ4!Z46,0)","v":726},null,{"$f":"IF(ISNUMBER(CSVデータ1!AB46),CSVデータ1!AB46,0)+IF(ISNUMBER(CSVデータ2!AB46),CSVデータ2!AB46,0)+IF(ISNUMBER(CSVデータ3!AB46),CSVデータ3!AB46,0)+IF(ISNUMBER(CSVデータ4!AB46),CSVデータ4!AB46,0)","v":1},null,{"$f":"IF(ISNUMBER(CSVデータ1!AD46),CSVデータ1!AD46,0)+IF(ISNUMBER(CSVデータ2!AD46),CSVデータ2!AD46,0)+IF(ISNUMBER(CSVデータ3!AD46),CSVデータ3!AD46,0)+IF(ISNUMBER(CSVデータ4!AD46),CSVデータ4!AD46,0)","v":209},null,{"$f":"IF(ISNUMBER(CSVデータ1!AF46),CSVデータ1!AF46,0)+IF(ISNUMBER(CSVデータ2!AF46),CSVデータ2!AF46,0)+IF(ISNUMBER(CSVデータ3!AF46),CSVデータ3!AF46,0)+IF(ISNUMBER(CSVデータ4!AF46),CSVデータ4!AF46,0)","v":339},null,{"$f":"IF(ISNUMBER(CSVデータ1!AH46),CSVデータ1!AH46,0)+IF(ISNUMBER(CSVデータ2!AH46),CSVデータ2!AH46,0)+IF(ISNUMBER(CSVデータ3!AH46),CSVデータ3!AH46,0)+IF(ISNUMBER(CSVデータ4!AH46),CSVデータ4!AH46,0)","v":12},null,{"$f":"IF(ISNUMBER(CSVデータ1!AJ46),CSVデータ1!AJ46,0)+IF(ISNUMBER(CSVデータ2!AJ46),CSVデータ2!AJ46,0)+IF(ISNUMBER(CSVデータ3!AJ46),CSVデータ3!AJ46,0)+IF(ISNUMBER(CSVデータ4!AJ46),CSVデータ4!AJ46,0)","v":82},null,{"$f":"IF(ISNUMBER(CSVデータ1!AL46),CSVデータ1!AL46,0)+IF(ISNUMBER(CSVデータ2!AL46),CSVデータ2!AL46,0)+IF(ISNUMBER(CSVデータ3!AL46),CSVデータ3!AL46,0)+IF(ISNUMBER(CSVデータ4!AL46),CSVデータ4!AL46,0)","v":70},null,{"$f":"IF(ISNUMBER(CSVデータ1!AN46),CSVデータ1!AN46,0)+IF(ISNUMBER(CSVデータ2!AN46),CSVデータ2!AN46,0)+IF(ISNUMBER(CSVデータ3!AN46),CSVデータ3!AN46,0)+IF(ISNUMBER(CSVデータ4!AN46),CSVデータ4!AN46,0)","v":40}]
[{"$f":"CSVデータ1!A47","v":"明細部"},{"$f":"CSVデータ1!B47","v":"国"},{"$f":"CSVデータ1!C47","v":48},{"$f":"CSVデータ1!D47","v":"女"},{"$f":"IF(ISNUMBER(CSVデータ1!E47),CSVデータ1!E47,0)+IF(ISNUMBER(CSVデータ2!E47),CSVデータ2!E47,0)+IF(ISNUMBER(CSVデータ3!E47),CSVデータ3!E47,0)+IF(ISNUMBER(CSVデータ4!E47),CSVデータ4!E47,0)","v":1842},{"$f":"IF(ISNUMBER(CSVデータ1!F47),CSVデータ1!F47,0)+IF(ISNUMBER(CSVデータ2!F47),CSVデータ2!F47,0)+IF(ISNUMBER(CSVデータ3!F47),CSVデータ3!F47,0)+IF(ISNUMBER(CSVデータ4!F47),CSVデータ4!F47,0)","v":421},null,{"$f":"IF(ISNUMBER(CSVデータ1!H47),CSVデータ1!H47,0)+IF(ISNUMBER(CSVデータ2!H47),CSVデータ2!H47,0)+IF(ISNUMBER(CSVデータ3!H47),CSVデータ3!H47,0)+IF(ISNUMBER(CSVデータ4!H47),CSVデータ4!H47,0)","v":281},null,{"$f":"IF(ISNUMBER(CSVデータ1!J47),CSVデータ1!J47,0)+IF(ISNUMBER(CSVデータ2!J47),CSVデータ2!J47,0)+IF(ISNUMBER(CSVデータ3!J47),CSVデータ3!J47,0)+IF(ISNUMBER(CSVデータ4!J47),CSVデータ4!J47,0)","v":137},null,{"$f":"IF(ISNUMBER(CSVデータ1!L47),CSVデータ1!L47,0)+IF(ISNUMBER(CSVデータ2!L47),CSVデータ2!L47,0)+IF(ISNUMBER(CSVデータ3!L47),CSVデータ3!L47,0)+IF(ISNUMBER(CSVデータ4!L47),CSVデータ4!L47,0)","v":138},null,{"$f":"IF(ISNUMBER(CSVデータ1!N47),CSVデータ1!N47,0)+IF(ISNUMBER(CSVデータ2!N47),CSVデータ2!N47,0)+IF(ISNUMBER(CSVデータ3!N47),CSVデータ3!N47,0)+IF(ISNUMBER(CSVデータ4!N47),CSVデータ4!N47,0)","v":24},null,{"$f":"IF(ISNUMBER(CSVデータ1!P47),CSVデータ1!P47,0)+IF(ISNUMBER(CSVデータ2!P47),CSVデータ2!P47,0)+IF(ISNUMBER(CSVデータ3!P47),CSVデータ3!P47,0)+IF(ISNUMBER(CSVデータ4!P47),CSVデータ4!P47,0)","v":178},null,{"$f":"IF(ISNUMBER(CSVデータ1!R47),CSVデータ1!R47,0)+IF(ISNUMBER(CSVデータ2!R47),CSVデータ2!R47,0)+IF(ISNUMBER(CSVデータ3!R47),CSVデータ3!R47,0)+IF(ISNUMBER(CSVデータ4!R47),CSVデータ4!R47,0)","v":564},null,{"$f":"IF(ISNUMBER(CSVデータ1!T47),CSVデータ1!T47,0)+IF(ISNUMBER(CSVデータ2!T47),CSVデータ2!T47,0)+IF(ISNUMBER(CSVデータ3!T47),CSVデータ3!T47,0)+IF(ISNUMBER(CSVデータ4!T47),CSVデータ4!T47,0)","v":25},null,{"$f":"IF(ISNUMBER(CSVデータ1!V47),CSVデータ1!V47,0)+IF(ISNUMBER(CSVデータ2!V47),CSVデータ2!V47,0)+IF(ISNUMBER(CSVデータ3!V47),CSVデータ3!V47,0)+IF(ISNUMBER(CSVデータ4!V47),CSVデータ4!V47,0)","v":324},null,{"$f":"IF(ISNUMBER(CSVデータ1!X47),CSVデータ1!X47,0)+IF(ISNUMBER(CSVデータ2!X47),CSVデータ2!X47,0)+IF(ISNUMBER(CSVデータ3!X47),CSVデータ3!X47,0)+IF(ISNUMBER(CSVデータ4!X47),CSVデータ4!X47,0)","v":240},null,{"$f":"IF(ISNUMBER(CSVデータ1!Z47),CSVデータ1!Z47,0)+IF(ISNUMBER(CSVデータ2!Z47),CSVデータ2!Z47,0)+IF(ISNUMBER(CSVデータ3!Z47),CSVデータ3!Z47,0)+IF(ISNUMBER(CSVデータ4!Z47),CSVデータ4!Z47,0)","v":809},null,{"$f":"IF(ISNUMBER(CSVデータ1!AB47),CSVデータ1!AB47,0)+IF(ISNUMBER(CSVデータ2!AB47),CSVデータ2!AB47,0)+IF(ISNUMBER(CSVデータ3!AB47),CSVデータ3!AB47,0)+IF(ISNUMBER(CSVデータ4!AB47),CSVデータ4!AB47,0)","v":0},null,{"$f":"IF(ISNUMBER(CSVデータ1!AD47),CSVデータ1!AD47,0)+IF(ISNUMBER(CSVデータ2!AD47),CSVデータ2!AD47,0)+IF(ISNUMBER(CSVデータ3!AD47),CSVデータ3!AD47,0)+IF(ISNUMBER(CSVデータ4!AD47),CSVデータ4!AD47,0)","v":244},null,{"$f":"IF(ISNUMBER(CSVデータ1!AF47),CSVデータ1!AF47,0)+IF(ISNUMBER(CSVデータ2!AF47),CSVデータ2!AF47,0)+IF(ISNUMBER(CSVデータ3!AF47),CSVデータ3!AF47,0)+IF(ISNUMBER(CSVデータ4!AF47),CSVデータ4!AF47,0)","v":342},null,{"$f":"IF(ISNUMBER(CSVデータ1!AH47),CSVデータ1!AH47,0)+IF(ISNUMBER(CSVデータ2!AH47),CSVデータ2!AH47,0)+IF(ISNUMBER(CSVデータ3!AH47),CSVデータ3!AH47,0)+IF(ISNUMBER(CSVデータ4!AH47),CSVデータ4!AH47,0)","v":14},null,{"$f":"IF(ISNUMBER(CSVデータ1!AJ47),CSVデータ1!AJ47,0)+IF(ISNUMBER(CSVデータ2!AJ47),CSVデータ2!AJ47,0)+IF(ISNUMBER(CSVデータ3!AJ47),CSVデータ3!AJ47,0)+IF(ISNUMBER(CSVデータ4!AJ47),CSVデータ4!AJ47,0)","v":99},null,{"$f":"IF(ISNUMBER(CSVデータ1!AL47),CSVデータ1!AL47,0)+IF(ISNUMBER(CSVデータ2!AL47),CSVデータ2!AL47,0)+IF(ISNUMBER(CSVデータ3!AL47),CSVデータ3!AL47,0)+IF(ISNUMBER(CSVデータ4!AL47),CSVデータ4!AL47,0)","v":83},null,{"$f":"IF(ISNUMBER(CSVデータ1!AN47),CSVデータ1!AN47,0)+IF(ISNUMBER(CSVデータ2!AN47),CSVデータ2!AN47,0)+IF(ISNUMBER(CSVデータ3!AN47),CSVデータ3!AN47,0)+IF(ISNUMBER(CSVデータ4!AN47),CSVデータ4!AN47,0)","v":48}]
[{"$f":"CSVデータ1!A48","v":"明細部"},{"$f":"CSVデータ1!B48","v":"国"},{"$f":"CSVデータ1!C48","v":49},{"$f":"CSVデータ1!D48","v":"女"},{"$f":"IF(ISNUMBER(CSVデータ1!E48),CSVデータ1!E48,0)+IF(ISNUMBER(CSVデータ2!E48),CSVデータ2!E48,0)+IF(ISNUMBER(CSVデータ3!E48),CSVデータ3!E48,0)+IF(ISNUMBER(CSVデータ4!E48),CSVデータ4!E48,0)","v":2066},{"$f":"IF(ISNUMBER(CSVデータ1!F48),CSVデータ1!F48,0)+IF(ISNUMBER(CSVデータ2!F48),CSVデータ2!F48,0)+IF(ISNUMBER(CSVデータ3!F48),CSVデータ3!F48,0)+IF(ISNUMBER(CSVデータ4!F48),CSVデータ4!F48,0)","v":440},null,{"$f":"IF(ISNUMBER(CSVデータ1!H48),CSVデータ1!H48,0)+IF(ISNUMBER(CSVデータ2!H48),CSVデータ2!H48,0)+IF(ISNUMBER(CSVデータ3!H48),CSVデータ3!H48,0)+IF(ISNUMBER(CSVデータ4!H48),CSVデータ4!H48,0)","v":294},null,{"$f":"IF(ISNUMBER(CSVデータ1!J48),CSVデータ1!J48,0)+IF(ISNUMBER(CSVデータ2!J48),CSVデータ2!J48,0)+IF(ISNUMBER(CSVデータ3!J48),CSVデータ3!J48,0)+IF(ISNUMBER(CSVデータ4!J48),CSVデータ4!J48,0)","v":177},null,{"$f":"IF(ISNUMBER(CSVデータ1!L48),CSVデータ1!L48,0)+IF(ISNUMBER(CSVデータ2!L48),CSVデータ2!L48,0)+IF(ISNUMBER(CSVデータ3!L48),CSVデータ3!L48,0)+IF(ISNUMBER(CSVデータ4!L48),CSVデータ4!L48,0)","v":162},null,{"$f":"IF(ISNUMBER(CSVデータ1!N48),CSVデータ1!N48,0)+IF(ISNUMBER(CSVデータ2!N48),CSVデータ2!N48,0)+IF(ISNUMBER(CSVデータ3!N48),CSVデータ3!N48,0)+IF(ISNUMBER(CSVデータ4!N48),CSVデータ4!N48,0)","v":30},null,{"$f":"IF(ISNUMBER(CSVデータ1!P48),CSVデータ1!P48,0)+IF(ISNUMBER(CSVデータ2!P48),CSVデータ2!P48,0)+IF(ISNUMBER(CSVデータ3!P48),CSVデータ3!P48,0)+IF(ISNUMBER(CSVデータ4!P48),CSVデータ4!P48,0)","v":161},null,{"$f":"IF(ISNUMBER(CSVデータ1!R48),CSVデータ1!R48,0)+IF(ISNUMBER(CSVデータ2!R48),CSVデータ2!R48,0)+IF(ISNUMBER(CSVデータ3!R48),CSVデータ3!R48,0)+IF(ISNUMBER(CSVデータ4!R48),CSVデータ4!R48,0)","v":651},null,{"$f":"IF(ISNUMBER(CSVデータ1!T48),CSVデータ1!T48,0)+IF(ISNUMBER(CSVデータ2!T48),CSVデータ2!T48,0)+IF(ISNUMBER(CSVデータ3!T48),CSVデータ3!T48,0)+IF(ISNUMBER(CSVデータ4!T48),CSVデータ4!T48,0)","v":26},null,{"$f":"IF(ISNUMBER(CSVデータ1!V48),CSVデータ1!V48,0)+IF(ISNUMBER(CSVデータ2!V48),CSVデータ2!V48,0)+IF(ISNUMBER(CSVデータ3!V48),CSVデータ3!V48,0)+IF(ISNUMBER(CSVデータ4!V48),CSVデータ4!V48,0)","v":393},null,{"$f":"IF(ISNUMBER(CSVデータ1!X48),CSVデータ1!X48,0)+IF(ISNUMBER(CSVデータ2!X48),CSVデータ2!X48,0)+IF(ISNUMBER(CSVデータ3!X48),CSVデータ3!X48,0)+IF(ISNUMBER(CSVデータ4!X48),CSVデータ4!X48,0)","v":292},null,{"$f":"IF(ISNUMBER(CSVデータ1!Z48),CSVデータ1!Z48,0)+IF(ISNUMBER(CSVデータ2!Z48),CSVデータ2!Z48,0)+IF(ISNUMBER(CSVデータ3!Z48),CSVデータ3!Z48,0)+IF(ISNUMBER(CSVデータ4!Z48),CSVデータ4!Z48,0)","v":936},null,{"$f":"IF(ISNUMBER(CSVデータ1!AB48),CSVデータ1!AB48,0)+IF(ISNUMBER(CSVデータ2!AB48),CSVデータ2!AB48,0)+IF(ISNUMBER(CSVデータ3!AB48),CSVデータ3!AB48,0)+IF(ISNUMBER(CSVデータ4!AB48),CSVデータ4!AB48,0)","v":4},null,{"$f":"IF(ISNUMBER(CSVデータ1!AD48),CSVデータ1!AD48,0)+IF(ISNUMBER(CSVデータ2!AD48),CSVデータ2!AD48,0)+IF(ISNUMBER(CSVデータ3!AD48),CSVデータ3!AD48,0)+IF(ISNUMBER(CSVデータ4!AD48),CSVデータ4!AD48,0)","v":243},null,{"$f":"IF(ISNUMBER(CSVデータ1!AF48),CSVデータ1!AF48,0)+IF(ISNUMBER(CSVデータ2!AF48),CSVデータ2!AF48,0)+IF(ISNUMBER(CSVデータ3!AF48),CSVデータ3!AF48,0)+IF(ISNUMBER(CSVデータ4!AF48),CSVデータ4!AF48,0)","v":382},null,{"$f":"IF(ISNUMBER(CSVデータ1!AH48),CSVデータ1!AH48,0)+IF(ISNUMBER(CSVデータ2!AH48),CSVデータ2!AH48,0)+IF(ISNUMBER(CSVデータ3!AH48),CSVデータ3!AH48,0)+IF(ISNUMBER(CSVデータ4!AH48),CSVデータ4!AH48,0)","v":18},null,{"$f":"IF(ISNUMBER(CSVデータ1!AJ48),CSVデータ1!AJ48,0)+IF(ISNUMBER(CSVデータ2!AJ48),CSVデータ2!AJ48,0)+IF(ISNUMBER(CSVデータ3!AJ48),CSVデータ3!AJ48,0)+IF(ISNUMBER(CSVデータ4!AJ48),CSVデータ4!AJ48,0)","v":103},null,{"$f":"IF(ISNUMBER(CSVデータ1!AL48),CSVデータ1!AL48,0)+IF(ISNUMBER(CSVデータ2!AL48),CSVデータ2!AL48,0)+IF(ISNUMBER(CSVデータ3!AL48),CSVデータ3!AL48,0)+IF(ISNUMBER(CSVデータ4!AL48),CSVデータ4!AL48,0)","v":127},null,{"$f":"IF(ISNUMBER(CSVデータ1!AN48),CSVデータ1!AN48,0)+IF(ISNUMBER(CSVデータ2!AN48),CSVデータ2!AN48,0)+IF(ISNUMBER(CSVデータ3!AN48),CSVデータ3!AN48,0)+IF(ISNUMBER(CSVデータ4!AN48),CSVデータ4!AN48,0)","v":46}]
[{"$f":"CSVデータ1!A49","v":"明細部"},{"$f":"CSVデータ1!B49","v":"国"},{"$f":"CSVデータ1!C49","v":50},{"$f":"CSVデータ1!D49","v":"女"},{"$f":"IF(ISNUMBER(CSVデータ1!E49),CSVデータ1!E49,0)+IF(ISNUMBER(CSVデータ2!E49),CSVデータ2!E49,0)+IF(ISNUMBER(CSVデータ3!E49),CSVデータ3!E49,0)+IF(ISNUMBER(CSVデータ4!E49),CSVデータ4!E49,0)","v":2252},{"$f":"IF(ISNUMBER(CSVデータ1!F49),CSVデータ1!F49,0)+IF(ISNUMBER(CSVデータ2!F49),CSVデータ2!F49,0)+IF(ISNUMBER(CSVデータ3!F49),CSVデータ3!F49,0)+IF(ISNUMBER(CSVデータ4!F49),CSVデータ4!F49,0)","v":480},null,{"$f":"IF(ISNUMBER(CSVデータ1!H49),CSVデータ1!H49,0)+IF(ISNUMBER(CSVデータ2!H49),CSVデータ2!H49,0)+IF(ISNUMBER(CSVデータ3!H49),CSVデータ3!H49,0)+IF(ISNUMBER(CSVデータ4!H49),CSVデータ4!H49,0)","v":332},null,{"$f":"IF(ISNUMBER(CSVデータ1!J49),CSVデータ1!J49,0)+IF(ISNUMBER(CSVデータ2!J49),CSVデータ2!J49,0)+IF(ISNUMBER(CSVデータ3!J49),CSVデータ3!J49,0)+IF(ISNUMBER(CSVデータ4!J49),CSVデータ4!J49,0)","v":193},null,{"$f":"IF(ISNUMBER(CSVデータ1!L49),CSVデータ1!L49,0)+IF(ISNUMBER(CSVデータ2!L49),CSVデータ2!L49,0)+IF(ISNUMBER(CSVデータ3!L49),CSVデータ3!L49,0)+IF(ISNUMBER(CSVデータ4!L49),CSVデータ4!L49,0)","v":196},null,{"$f":"IF(ISNUMBER(CSVデータ1!N49),CSVデータ1!N49,0)+IF(ISNUMBER(CSVデータ2!N49),CSVデータ2!N49,0)+IF(ISNUMBER(CSVデータ3!N49),CSVデータ3!N49,0)+IF(ISNUMBER(CSVデータ4!N49),CSVデータ4!N49,0)","v":26},null,{"$f":"IF(ISNUMBER(CSVデータ1!P49),CSVデータ1!P49,0)+IF(ISNUMBER(CSVデータ2!P49),CSVデータ2!P49,0)+IF(ISNUMBER(CSVデータ3!P49),CSVデータ3!P49,0)+IF(ISNUMBER(CSVデータ4!P49),CSVデータ4!P49,0)","v":230},null,{"$f":"IF(ISNUMBER(CSVデータ1!R49),CSVデータ1!R49,0)+IF(ISNUMBER(CSVデータ2!R49),CSVデータ2!R49,0)+IF(ISNUMBER(CSVデータ3!R49),CSVデータ3!R49,0)+IF(ISNUMBER(CSVデータ4!R49),CSVデータ4!R49,0)","v":793},null,{"$f":"IF(ISNUMBER(CSVデータ1!T49),CSVデータ1!T49,0)+IF(ISNUMBER(CSVデータ2!T49),CSVデータ2!T49,0)+IF(ISNUMBER(CSVデータ3!T49),CSVデータ3!T49,0)+IF(ISNUMBER(CSVデータ4!T49),CSVデータ4!T49,0)","v":28},null,{"$f":"IF(ISNUMBER(CSVデータ1!V49),CSVデータ1!V49,0)+IF(ISNUMBER(CSVデータ2!V49),CSVデータ2!V49,0)+IF(ISNUMBER(CSVデータ3!V49),CSVデータ3!V49,0)+IF(ISNUMBER(CSVデータ4!V49),CSVデータ4!V49,0)","v":466},null,{"$f":"IF(ISNUMBER(CSVデータ1!X49),CSVデータ1!X49,0)+IF(ISNUMBER(CSVデータ2!X49),CSVデータ2!X49,0)+IF(ISNUMBER(CSVデータ3!X49),CSVデータ3!X49,0)+IF(ISNUMBER(CSVデータ4!X49),CSVデータ4!X49,0)","v":316},null,{"$f":"IF(ISNUMBER(CSVデータ1!Z49),CSVデータ1!Z49,0)+IF(ISNUMBER(CSVデータ2!Z49),CSVデータ2!Z49,0)+IF(ISNUMBER(CSVデータ3!Z49),CSVデータ3!Z49,0)+IF(ISNUMBER(CSVデータ4!Z49),CSVデータ4!Z49,0)","v":1053},null,{"$f":"IF(ISNUMBER(CSVデータ1!AB49),CSVデータ1!AB49,0)+IF(ISNUMBER(CSVデータ2!AB49),CSVデータ2!AB49,0)+IF(ISNUMBER(CSVデータ3!AB49),CSVデータ3!AB49,0)+IF(ISNUMBER(CSVデータ4!AB49),CSVデータ4!AB49,0)","v":2},null,{"$f":"IF(ISNUMBER(CSVデータ1!AD49),CSVデータ1!AD49,0)+IF(ISNUMBER(CSVデータ2!AD49),CSVデータ2!AD49,0)+IF(ISNUMBER(CSVデータ3!AD49),CSVデータ3!AD49,0)+IF(ISNUMBER(CSVデータ4!AD49),CSVデータ4!AD49,0)","v":289},null,{"$f":"IF(ISNUMBER(CSVデータ1!AF49),CSVデータ1!AF49,0)+IF(ISNUMBER(CSVデータ2!AF49),CSVデータ2!AF49,0)+IF(ISNUMBER(CSVデータ3!AF49),CSVデータ3!AF49,0)+IF(ISNUMBER(CSVデータ4!AF49),CSVデータ4!AF49,0)","v":412},null,{"$f":"IF(ISNUMBER(CSVデータ1!AH49),CSVデータ1!AH49,0)+IF(ISNUMBER(CSVデータ2!AH49),CSVデータ2!AH49,0)+IF(ISNUMBER(CSVデータ3!AH49),CSVデータ3!AH49,0)+IF(ISNUMBER(CSVデータ4!AH49),CSVデータ4!AH49,0)","v":14},null,{"$f":"IF(ISNUMBER(CSVデータ1!AJ49),CSVデータ1!AJ49,0)+IF(ISNUMBER(CSVデータ2!AJ49),CSVデータ2!AJ49,0)+IF(ISNUMBER(CSVデータ3!AJ49),CSVデータ3!AJ49,0)+IF(ISNUMBER(CSVデータ4!AJ49),CSVデータ4!AJ49,0)","v":155},null,{"$f":"IF(ISNUMBER(CSVデータ1!AL49),CSVデータ1!AL49,0)+IF(ISNUMBER(CSVデータ2!AL49),CSVデータ2!AL49,0)+IF(ISNUMBER(CSVデータ3!AL49),CSVデータ3!AL49,0)+IF(ISNUMBER(CSVデータ4!AL49),CSVデータ4!AL49,0)","v":143},null,{"$f":"IF(ISNUMBER(CSVデータ1!AN49),CSVデータ1!AN49,0)+IF(ISNUMBER(CSVデータ2!AN49),CSVデータ2!AN49,0)+IF(ISNUMBER(CSVデータ3!AN49),CSVデータ3!AN49,0)+IF(ISNUMBER(CSVデータ4!AN49),CSVデータ4!AN49,0)","v":47}]
[{"$f":"CSVデータ1!A50","v":"明細部"},{"$f":"CSVデータ1!B50","v":"国"},{"$f":"CSVデータ1!C50","v":51},{"$f":"CSVデータ1!D50","v":"女"},{"$f":"IF(ISNUMBER(CSVデータ1!E50),CSVデータ1!E50,0)+IF(ISNUMBER(CSVデータ2!E50),CSVデータ2!E50,0)+IF(ISNUMBER(CSVデータ3!E50),CSVデータ3!E50,0)+IF(ISNUMBER(CSVデータ4!E50),CSVデータ4!E50,0)","v":2243},{"$f":"IF(ISNUMBER(CSVデータ1!F50),CSVデータ1!F50,0)+IF(ISNUMBER(CSVデータ2!F50),CSVデータ2!F50,0)+IF(ISNUMBER(CSVデータ3!F50),CSVデータ3!F50,0)+IF(ISNUMBER(CSVデータ4!F50),CSVデータ4!F50,0)","v":488},null,{"$f":"IF(ISNUMBER(CSVデータ1!H50),CSVデータ1!H50,0)+IF(ISNUMBER(CSVデータ2!H50),CSVデータ2!H50,0)+IF(ISNUMBER(CSVデータ3!H50),CSVデータ3!H50,0)+IF(ISNUMBER(CSVデータ4!H50),CSVデータ4!H50,0)","v":363},null,{"$f":"IF(ISNUMBER(CSVデータ1!J50),CSVデータ1!J50,0)+IF(ISNUMBER(CSVデータ2!J50),CSVデータ2!J50,0)+IF(ISNUMBER(CSVデータ3!J50),CSVデータ3!J50,0)+IF(ISNUMBER(CSVデータ4!J50),CSVデータ4!J50,0)","v":219},null,{"$f":"IF(ISNUMBER(CSVデータ1!L50),CSVデータ1!L50,0)+IF(ISNUMBER(CSVデータ2!L50),CSVデータ2!L50,0)+IF(ISNUMBER(CSVデータ3!L50),CSVデータ3!L50,0)+IF(ISNUMBER(CSVデータ4!L50),CSVデータ4!L50,0)","v":204},null,{"$f":"IF(ISNUMBER(CSVデータ1!N50),CSVデータ1!N50,0)+IF(ISNUMBER(CSVデータ2!N50),CSVデータ2!N50,0)+IF(ISNUMBER(CSVデータ3!N50),CSVデータ3!N50,0)+IF(ISNUMBER(CSVデータ4!N50),CSVデータ4!N50,0)","v":35},null,{"$f":"IF(ISNUMBER(CSVデータ1!P50),CSVデータ1!P50,0)+IF(ISNUMBER(CSVデータ2!P50),CSVデータ2!P50,0)+IF(ISNUMBER(CSVデータ3!P50),CSVデータ3!P50,0)+IF(ISNUMBER(CSVデータ4!P50),CSVデータ4!P50,0)","v":232},null,{"$f":"IF(ISNUMBER(CSVデータ1!R50),CSVデータ1!R50,0)+IF(ISNUMBER(CSVデータ2!R50),CSVデータ2!R50,0)+IF(ISNUMBER(CSVデータ3!R50),CSVデータ3!R50,0)+IF(ISNUMBER(CSVデータ4!R50),CSVデータ4!R50,0)","v":839},null,{"$f":"IF(ISNUMBER(CSVデータ1!T50),CSVデータ1!T50,0)+IF(ISNUMBER(CSVデータ2!T50),CSVデータ2!T50,0)+IF(ISNUMBER(CSVデータ3!T50),CSVデータ3!T50,0)+IF(ISNUMBER(CSVデータ4!T50),CSVデータ4!T50,0)","v":39},null,{"$f":"IF(ISNUMBER(CSVデータ1!V50),CSVデータ1!V50,0)+IF(ISNUMBER(CSVデータ2!V50),CSVデータ2!V50,0)+IF(ISNUMBER(CSVデータ3!V50),CSVデータ3!V50,0)+IF(ISNUMBER(CSVデータ4!V50),CSVデータ4!V50,0)","v":463},null,{"$f":"IF(ISNUMBER(CSVデータ1!X50),CSVデータ1!X50,0)+IF(ISNUMBER(CSVデータ2!X50),CSVデータ2!X50,0)+IF(ISNUMBER(CSVデータ3!X50),CSVデータ3!X50,0)+IF(ISNUMBER(CSVデータ4!X50),CSVデータ4!X50,0)","v":324},null,{"$f":"IF(ISNUMBER(CSVデータ1!Z50),CSVデータ1!Z50,0)+IF(ISNUMBER(CSVデータ2!Z50),CSVデータ2!Z50,0)+IF(ISNUMBER(CSVデータ3!Z50),CSVデータ3!Z50,0)+IF(ISNUMBER(CSVデータ4!Z50),CSVデータ4!Z50,0)","v":1161},null,{"$f":"IF(ISNUMBER(CSVデータ1!AB50),CSVデータ1!AB50,0)+IF(ISNUMBER(CSVデータ2!AB50),CSVデータ2!AB50,0)+IF(ISNUMBER(CSVデータ3!AB50),CSVデータ3!AB50,0)+IF(ISNUMBER(CSVデータ4!AB50),CSVデータ4!AB50,0)","v":3},null,{"$f":"IF(ISNUMBER(CSVデータ1!AD50),CSVデータ1!AD50,0)+IF(ISNUMBER(CSVデータ2!AD50),CSVデータ2!AD50,0)+IF(ISNUMBER(CSVデータ3!AD50),CSVデータ3!AD50,0)+IF(ISNUMBER(CSVデータ4!AD50),CSVデータ4!AD50,0)","v":294},null,{"$f":"IF(ISNUMBER(CSVデータ1!AF50),CSVデータ1!AF50,0)+IF(ISNUMBER(CSVデータ2!AF50),CSVデータ2!AF50,0)+IF(ISNUMBER(CSVデータ3!AF50),CSVデータ3!AF50,0)+IF(ISNUMBER(CSVデータ4!AF50),CSVデータ4!AF50,0)","v":434},null,{"$f":"IF(ISNUMBER(CSVデータ1!AH50),CSVデータ1!AH50,0)+IF(ISNUMBER(CSVデータ2!AH50),CSVデータ2!AH50,0)+IF(ISNUMBER(CSVデータ3!AH50),CSVデータ3!AH50,0)+IF(ISNUMBER(CSVデータ4!AH50),CSVデータ4!AH50,0)","v":26},null,{"$f":"IF(ISNUMBER(CSVデータ1!AJ50),CSVデータ1!AJ50,0)+IF(ISNUMBER(CSVデータ2!AJ50),CSVデータ2!AJ50,0)+IF(ISNUMBER(CSVデータ3!AJ50),CSVデータ3!AJ50,0)+IF(ISNUMBER(CSVデータ4!AJ50),CSVデータ4!AJ50,0)","v":161},null,{"$f":"IF(ISNUMBER(CSVデータ1!AL50),CSVデータ1!AL50,0)+IF(ISNUMBER(CSVデータ2!AL50),CSVデータ2!AL50,0)+IF(ISNUMBER(CSVデータ3!AL50),CSVデータ3!AL50,0)+IF(ISNUMBER(CSVデータ4!AL50),CSVデータ4!AL50,0)","v":156},null,{"$f":"IF(ISNUMBER(CSVデータ1!AN50),CSVデータ1!AN50,0)+IF(ISNUMBER(CSVデータ2!AN50),CSVデータ2!AN50,0)+IF(ISNUMBER(CSVデータ3!AN50),CSVデータ3!AN50,0)+IF(ISNUMBER(CSVデータ4!AN50),CSVデータ4!AN50,0)","v":63}]
[{"$f":"CSVデータ1!A51","v":"明細部"},{"$f":"CSVデータ1!B51","v":"国"},{"$f":"CSVデータ1!C51","v":52},{"$f":"CSVデータ1!D51","v":"女"},{"$f":"IF(ISNUMBER(CSVデータ1!E51),CSVデータ1!E51,0)+IF(ISNUMBER(CSVデータ2!E51),CSVデータ2!E51,0)+IF(ISNUMBER(CSVデータ3!E51),CSVデータ3!E51,0)+IF(ISNUMBER(CSVデータ4!E51),CSVデータ4!E51,0)","v":2344},{"$f":"IF(ISNUMBER(CSVデータ1!F51),CSVデータ1!F51,0)+IF(ISNUMBER(CSVデータ2!F51),CSVデータ2!F51,0)+IF(ISNUMBER(CSVデータ3!F51),CSVデータ3!F51,0)+IF(ISNUMBER(CSVデータ4!F51),CSVデータ4!F51,0)","v":517},null,{"$f":"IF(ISNUMBER(CSVデータ1!H51),CSVデータ1!H51,0)+IF(ISNUMBER(CSVデータ2!H51),CSVデータ2!H51,0)+IF(ISNUMBER(CSVデータ3!H51),CSVデータ3!H51,0)+IF(ISNUMBER(CSVデータ4!H51),CSVデータ4!H51,0)","v":398},null,{"$f":"IF(ISNUMBER(CSVデータ1!J51),CSVデータ1!J51,0)+IF(ISNUMBER(CSVデータ2!J51),CSVデータ2!J51,0)+IF(ISNUMBER(CSVデータ3!J51),CSVデータ3!J51,0)+IF(ISNUMBER(CSVデータ4!J51),CSVデータ4!J51,0)","v":229},null,{"$f":"IF(ISNUMBER(CSVデータ1!L51),CSVデータ1!L51,0)+IF(ISNUMBER(CSVデータ2!L51),CSVデータ2!L51,0)+IF(ISNUMBER(CSVデータ3!L51),CSVデータ3!L51,0)+IF(ISNUMBER(CSVデータ4!L51),CSVデータ4!L51,0)","v":220},null,{"$f":"IF(ISNUMBER(CSVデータ1!N51),CSVデータ1!N51,0)+IF(ISNUMBER(CSVデータ2!N51),CSVデータ2!N51,0)+IF(ISNUMBER(CSVデータ3!N51),CSVデータ3!N51,0)+IF(ISNUMBER(CSVデータ4!N51),CSVデータ4!N51,0)","v":23},null,{"$f":"IF(ISNUMBER(CSVデータ1!P51),CSVデータ1!P51,0)+IF(ISNUMBER(CSVデータ2!P51),CSVデータ2!P51,0)+IF(ISNUMBER(CSVデータ3!P51),CSVデータ3!P51,0)+IF(ISNUMBER(CSVデータ4!P51),CSVデータ4!P51,0)","v":261},null,{"$f":"IF(ISNUMBER(CSVデータ1!R51),CSVデータ1!R51,0)+IF(ISNUMBER(CSVデータ2!R51),CSVデータ2!R51,0)+IF(ISNUMBER(CSVデータ3!R51),CSVデータ3!R51,0)+IF(ISNUMBER(CSVデータ4!R51),CSVデータ4!R51,0)","v":939},null,{"$f":"IF(ISNUMBER(CSVデータ1!T51),CSVデータ1!T51,0)+IF(ISNUMBER(CSVデータ2!T51),CSVデータ2!T51,0)+IF(ISNUMBER(CSVデータ3!T51),CSVデータ3!T51,0)+IF(ISNUMBER(CSVデータ4!T51),CSVデータ4!T51,0)","v":39},null,{"$f":"IF(ISNUMBER(CSVデータ1!V51),CSVデータ1!V51,0)+IF(ISNUMBER(CSVデータ2!V51),CSVデータ2!V51,0)+IF(ISNUMBER(CSVデータ3!V51),CSVデータ3!V51,0)+IF(ISNUMBER(CSVデータ4!V51),CSVデータ4!V51,0)","v":548},null,{"$f":"IF(ISNUMBER(CSVデータ1!X51),CSVデータ1!X51,0)+IF(ISNUMBER(CSVデータ2!X51),CSVデータ2!X51,0)+IF(ISNUMBER(CSVデータ3!X51),CSVデータ3!X51,0)+IF(ISNUMBER(CSVデータ4!X51),CSVデータ4!X51,0)","v":361},null,{"$f":"IF(ISNUMBER(CSVデータ1!Z51),CSVデータ1!Z51,0)+IF(ISNUMBER(CSVデータ2!Z51),CSVデータ2!Z51,0)+IF(ISNUMBER(CSVデータ3!Z51),CSVデータ3!Z51,0)+IF(ISNUMBER(CSVデータ4!Z51),CSVデータ4!Z51,0)","v":1291},null,{"$f":"IF(ISNUMBER(CSVデータ1!AB51),CSVデータ1!AB51,0)+IF(ISNUMBER(CSVデータ2!AB51),CSVデータ2!AB51,0)+IF(ISNUMBER(CSVデータ3!AB51),CSVデータ3!AB51,0)+IF(ISNUMBER(CSVデータ4!AB51),CSVデータ4!AB51,0)","v":1},null,{"$f":"IF(ISNUMBER(CSVデータ1!AD51),CSVデータ1!AD51,0)+IF(ISNUMBER(CSVデータ2!AD51),CSVデータ2!AD51,0)+IF(ISNUMBER(CSVデータ3!AD51),CSVデータ3!AD51,0)+IF(ISNUMBER(CSVデータ4!AD51),CSVデータ4!AD51,0)","v":286},null,{"$f":"IF(ISNUMBER(CSVデータ1!AF51),CSVデータ1!AF51,0)+IF(ISNUMBER(CSVデータ2!AF51),CSVデータ2!AF51,0)+IF(ISNUMBER(CSVデータ3!AF51),CSVデータ3!AF51,0)+IF(ISNUMBER(CSVデータ4!AF51),CSVデータ4!AF51,0)","v":414},null,{"$f":"IF(ISNUMBER(CSVデータ1!AH51),CSVデータ1!AH51,0)+IF(ISNUMBER(CSVデータ2!AH51),CSVデータ2!AH51,0)+IF(ISNUMBER(CSVデータ3!AH51),CSVデータ3!AH51,0)+IF(ISNUMBER(CSVデータ4!AH51),CSVデータ4!AH51,0)","v":32},null,{"$f":"IF(ISNUMBER(CSVデータ1!AJ51),CSVデータ1!AJ51,0)+IF(ISNUMBER(CSVデータ2!AJ51),CSVデータ2!AJ51,0)+IF(ISNUMBER(CSVデータ3!AJ51),CSVデータ3!AJ51,0)+IF(ISNUMBER(CSVデータ4!AJ51),CSVデータ4!AJ51,0)","v":169},null,{"$f":"IF(ISNUMBER(CSVデータ1!AL51),CSVデータ1!AL51,0)+IF(ISNUMBER(CSVデータ2!AL51),CSVデータ2!AL51,0)+IF(ISNUMBER(CSVデータ3!AL51),CSVデータ3!AL51,0)+IF(ISNUMBER(CSVデータ4!AL51),CSVデータ4!AL51,0)","v":174},null,{"$f":"IF(ISNUMBER(CSVデータ1!AN51),CSVデータ1!AN51,0)+IF(ISNUMBER(CSVデータ2!AN51),CSVデータ2!AN51,0)+IF(ISNUMBER(CSVデータ3!AN51),CSVデータ3!AN51,0)+IF(ISNUMBER(CSVデータ4!AN51),CSVデータ4!AN51,0)","v":73}]
[{"$f":"CSVデータ1!A52","v":"明細部"},{"$f":"CSVデータ1!B52","v":"国"},{"$f":"CSVデータ1!C52","v":53},{"$f":"CSVデータ1!D52","v":"女"},{"$f":"IF(ISNUMBER(CSVデータ1!E52),CSVデータ1!E52,0)+IF(ISNUMBER(CSVデータ2!E52),CSVデータ2!E52,0)+IF(ISNUMBER(CSVデータ3!E52),CSVデータ3!E52,0)+IF(ISNUMBER(CSVデータ4!E52),CSVデータ4!E52,0)","v":2402},{"$f":"IF(ISNUMBER(CSVデータ1!F52),CSVデータ1!F52,0)+IF(ISNUMBER(CSVデータ2!F52),CSVデータ2!F52,0)+IF(ISNUMBER(CSVデータ3!F52),CSVデータ3!F52,0)+IF(ISNUMBER(CSVデータ4!F52),CSVデータ4!F52,0)","v":517},null,{"$f":"IF(ISNUMBER(CSVデータ1!H52),CSVデータ1!H52,0)+IF(ISNUMBER(CSVデータ2!H52),CSVデータ2!H52,0)+IF(ISNUMBER(CSVデータ3!H52),CSVデータ3!H52,0)+IF(ISNUMBER(CSVデータ4!H52),CSVデータ4!H52,0)","v":413},null,{"$f":"IF(ISNUMBER(CSVデータ1!J52),CSVデータ1!J52,0)+IF(ISNUMBER(CSVデータ2!J52),CSVデータ2!J52,0)+IF(ISNUMBER(CSVデータ3!J52),CSVデータ3!J52,0)+IF(ISNUMBER(CSVデータ4!J52),CSVデータ4!J52,0)","v":229},null,{"$f":"IF(ISNUMBER(CSVデータ1!L52),CSVデータ1!L52,0)+IF(ISNUMBER(CSVデータ2!L52),CSVデータ2!L52,0)+IF(ISNUMBER(CSVデータ3!L52),CSVデータ3!L52,0)+IF(ISNUMBER(CSVデータ4!L52),CSVデータ4!L52,0)","v":263},null,{"$f":"IF(ISNUMBER(CSVデータ1!N52),CSVデータ1!N52,0)+IF(ISNUMBER(CSVデータ2!N52),CSVデータ2!N52,0)+IF(ISNUMBER(CSVデータ3!N52),CSVデータ3!N52,0)+IF(ISNUMBER(CSVデータ4!N52),CSVデータ4!N52,0)","v":31},null,{"$f":"IF(ISNUMBER(CSVデータ1!P52),CSVデータ1!P52,0)+IF(ISNUMBER(CSVデータ2!P52),CSVデータ2!P52,0)+IF(ISNUMBER(CSVデータ3!P52),CSVデータ3!P52,0)+IF(ISNUMBER(CSVデータ4!P52),CSVデータ4!P52,0)","v":282},null,{"$f":"IF(ISNUMBER(CSVデータ1!R52),CSVデータ1!R52,0)+IF(ISNUMBER(CSVデータ2!R52),CSVデータ2!R52,0)+IF(ISNUMBER(CSVデータ3!R52),CSVデータ3!R52,0)+IF(ISNUMBER(CSVデータ4!R52),CSVデータ4!R52,0)","v":1007},null,{"$f":"IF(ISNUMBER(CSVデータ1!T52),CSVデータ1!T52,0)+IF(ISNUMBER(CSVデータ2!T52),CSVデータ2!T52,0)+IF(ISNUMBER(CSVデータ3!T52),CSVデータ3!T52,0)+IF(ISNUMBER(CSVデータ4!T52),CSVデータ4!T52,0)","v":40},null,{"$f":"IF(ISNUMBER(CSVデータ1!V52),CSVデータ1!V52,0)+IF(ISNUMBER(CSVデータ2!V52),CSVデータ2!V52,0)+IF(ISNUMBER(CSVデータ3!V52),CSVデータ3!V52,0)+IF(ISNUMBER(CSVデータ4!V52),CSVデータ4!V52,0)","v":592},null,{"$f":"IF(ISNUMBER(CSVデータ1!X52),CSVデータ1!X52,0)+IF(ISNUMBER(CSVデータ2!X52),CSVデータ2!X52,0)+IF(ISNUMBER(CSVデータ3!X52),CSVデータ3!X52,0)+IF(ISNUMBER(CSVデータ4!X52),CSVデータ4!X52,0)","v":395},null,{"$f":"IF(ISNUMBER(CSVデータ1!Z52),CSVデータ1!Z52,0)+IF(ISNUMBER(CSVデータ2!Z52),CSVデータ2!Z52,0)+IF(ISNUMBER(CSVデータ3!Z52),CSVデータ3!Z52,0)+IF(ISNUMBER(CSVデータ4!Z52),CSVデータ4!Z52,0)","v":1380},null,{"$f":"IF(ISNUMBER(CSVデータ1!AB52),CSVデータ1!AB52,0)+IF(ISNUMBER(CSVデータ2!AB52),CSVデータ2!AB52,0)+IF(ISNUMBER(CSVデータ3!AB52),CSVデータ3!AB52,0)+IF(ISNUMBER(CSVデータ4!AB52),CSVデータ4!AB52,0)","v":5},null,{"$f":"IF(ISNUMBER(CSVデータ1!AD52),CSVデータ1!AD52,0)+IF(ISNUMBER(CSVデータ2!AD52),CSVデータ2!AD52,0)+IF(ISNUMBER(CSVデータ3!AD52),CSVデータ3!AD52,0)+IF(ISNUMBER(CSVデータ4!AD52),CSVデータ4!AD52,0)","v":311},null,{"$f":"IF(ISNUMBER(CSVデータ1!AF52),CSVデータ1!AF52,0)+IF(ISNUMBER(CSVデータ2!AF52),CSVデータ2!AF52,0)+IF(ISNUMBER(CSVデータ3!AF52),CSVデータ3!AF52,0)+IF(ISNUMBER(CSVデータ4!AF52),CSVデータ4!AF52,0)","v":451},null,{"$f":"IF(ISNUMBER(CSVデータ1!AH52),CSVデータ1!AH52,0)+IF(ISNUMBER(CSVデータ2!AH52),CSVデータ2!AH52,0)+IF(ISNUMBER(CSVデータ3!AH52),CSVデータ3!AH52,0)+IF(ISNUMBER(CSVデータ4!AH52),CSVデータ4!AH52,0)","v":23},null,{"$f":"IF(ISNUMBER(CSVデータ1!AJ52),CSVデータ1!AJ52,0)+IF(ISNUMBER(CSVデータ2!AJ52),CSVデータ2!AJ52,0)+IF(ISNUMBER(CSVデータ3!AJ52),CSVデータ3!AJ52,0)+IF(ISNUMBER(CSVデータ4!AJ52),CSVデータ4!AJ52,0)","v":180},null,{"$f":"IF(ISNUMBER(CSVデータ1!AL52),CSVデータ1!AL52,0)+IF(ISNUMBER(CSVデータ2!AL52),CSVデータ2!AL52,0)+IF(ISNUMBER(CSVデータ3!AL52),CSVデータ3!AL52,0)+IF(ISNUMBER(CSVデータ4!AL52),CSVデータ4!AL52,0)","v":221},null,{"$f":"IF(ISNUMBER(CSVデータ1!AN52),CSVデータ1!AN52,0)+IF(ISNUMBER(CSVデータ2!AN52),CSVデータ2!AN52,0)+IF(ISNUMBER(CSVデータ3!AN52),CSVデータ3!AN52,0)+IF(ISNUMBER(CSVデータ4!AN52),CSVデータ4!AN52,0)","v":79}]
[{"$f":"CSVデータ1!A53","v":"明細部"},{"$f":"CSVデータ1!B53","v":"国"},{"$f":"CSVデータ1!C53","v":54},{"$f":"CSVデータ1!D53","v":"女"},{"$f":"IF(ISNUMBER(CSVデータ1!E53),CSVデータ1!E53,0)+IF(ISNUMBER(CSVデータ2!E53),CSVデータ2!E53,0)+IF(ISNUMBER(CSVデータ3!E53),CSVデータ3!E53,0)+IF(ISNUMBER(CSVデータ4!E53),CSVデータ4!E53,0)","v":2536},{"$f":"IF(ISNUMBER(CSVデータ1!F53),CSVデータ1!F53,0)+IF(ISNUMBER(CSVデータ2!F53),CSVデータ2!F53,0)+IF(ISNUMBER(CSVデータ3!F53),CSVデータ3!F53,0)+IF(ISNUMBER(CSVデータ4!F53),CSVデータ4!F53,0)","v":552},null,{"$f":"IF(ISNUMBER(CSVデータ1!H53),CSVデータ1!H53,0)+IF(ISNUMBER(CSVデータ2!H53),CSVデータ2!H53,0)+IF(ISNUMBER(CSVデータ3!H53),CSVデータ3!H53,0)+IF(ISNUMBER(CSVデータ4!H53),CSVデータ4!H53,0)","v":433},null,{"$f":"IF(ISNUMBER(CSVデータ1!J53),CSVデータ1!J53,0)+IF(ISNUMBER(CSVデータ2!J53),CSVデータ2!J53,0)+IF(ISNUMBER(CSVデータ3!J53),CSVデータ3!J53,0)+IF(ISNUMBER(CSVデータ4!J53),CSVデータ4!J53,0)","v":255},null,{"$f":"IF(ISNUMBER(CSVデータ1!L53),CSVデータ1!L53,0)+IF(ISNUMBER(CSVデータ2!L53),CSVデータ2!L53,0)+IF(ISNUMBER(CSVデータ3!L53),CSVデータ3!L53,0)+IF(ISNUMBER(CSVデータ4!L53),CSVデータ4!L53,0)","v":299},null,{"$f":"IF(ISNUMBER(CSVデータ1!N53),CSVデータ1!N53,0)+IF(ISNUMBER(CSVデータ2!N53),CSVデータ2!N53,0)+IF(ISNUMBER(CSVデータ3!N53),CSVデータ3!N53,0)+IF(ISNUMBER(CSVデータ4!N53),CSVデータ4!N53,0)","v":31},null,{"$f":"IF(ISNUMBER(CSVデータ1!P53),CSVデータ1!P53,0)+IF(ISNUMBER(CSVデータ2!P53),CSVデータ2!P53,0)+IF(ISNUMBER(CSVデータ3!P53),CSVデータ3!P53,0)+IF(ISNUMBER(CSVデータ4!P53),CSVデータ4!P53,0)","v":326},null,{"$f":"IF(ISNUMBER(CSVデータ1!R53),CSVデータ1!R53,0)+IF(ISNUMBER(CSVデータ2!R53),CSVデータ2!R53,0)+IF(ISNUMBER(CSVデータ3!R53),CSVデータ3!R53,0)+IF(ISNUMBER(CSVデータ4!R53),CSVデータ4!R53,0)","v":1180},null,{"$f":"IF(ISNUMBER(CSVデータ1!T53),CSVデータ1!T53,0)+IF(ISNUMBER(CSVデータ2!T53),CSVデータ2!T53,0)+IF(ISNUMBER(CSVデータ3!T53),CSVデータ3!T53,0)+IF(ISNUMBER(CSVデータ4!T53),CSVデータ4!T53,0)","v":51},null,{"$f":"IF(ISNUMBER(CSVデータ1!V53),CSVデータ1!V53,0)+IF(ISNUMBER(CSVデータ2!V53),CSVデータ2!V53,0)+IF(ISNUMBER(CSVデータ3!V53),CSVデータ3!V53,0)+IF(ISNUMBER(CSVデータ4!V53),CSVデータ4!V53,0)","v":634},null,{"$f":"IF(ISNUMBER(CSVデータ1!X53),CSVデータ1!X53,0)+IF(ISNUMBER(CSVデータ2!X53),CSVデータ2!X53,0)+IF(ISNUMBER(CSVデータ3!X53),CSVデータ3!X53,0)+IF(ISNUMBER(CSVデータ4!X53),CSVデータ4!X53,0)","v":432},null,{"$f":"IF(ISNUMBER(CSVデータ1!Z53),CSVデータ1!Z53,0)+IF(ISNUMBER(CSVデータ2!Z53),CSVデータ2!Z53,0)+IF(ISNUMBER(CSVデータ3!Z53),CSVデータ3!Z53,0)+IF(ISNUMBER(CSVデータ4!Z53),CSVデータ4!Z53,0)","v":1451},null,{"$f":"IF(ISNUMBER(CSVデータ1!AB53),CSVデータ1!AB53,0)+IF(ISNUMBER(CSVデータ2!AB53),CSVデータ2!AB53,0)+IF(ISNUMBER(CSVデータ3!AB53),CSVデータ3!AB53,0)+IF(ISNUMBER(CSVデータ4!AB53),CSVデータ4!AB53,0)","v":5},null,{"$f":"IF(ISNUMBER(CSVデータ1!AD53),CSVデータ1!AD53,0)+IF(ISNUMBER(CSVデータ2!AD53),CSVデータ2!AD53,0)+IF(ISNUMBER(CSVデータ3!AD53),CSVデータ3!AD53,0)+IF(ISNUMBER(CSVデータ4!AD53),CSVデータ4!AD53,0)","v":333},null,{"$f":"IF(ISNUMBER(CSVデータ1!AF53),CSVデータ1!AF53,0)+IF(ISNUMBER(CSVデータ2!AF53),CSVデータ2!AF53,0)+IF(ISNUMBER(CSVデータ3!AF53),CSVデータ3!AF53,0)+IF(ISNUMBER(CSVデータ4!AF53),CSVデータ4!AF53,0)","v":483},null,{"$f":"IF(ISNUMBER(CSVデータ1!AH53),CSVデータ1!AH53,0)+IF(ISNUMBER(CSVデータ2!AH53),CSVデータ2!AH53,0)+IF(ISNUMBER(CSVデータ3!AH53),CSVデータ3!AH53,0)+IF(ISNUMBER(CSVデータ4!AH53),CSVデータ4!AH53,0)","v":26},null,{"$f":"IF(ISNUMBER(CSVデータ1!AJ53),CSVデータ1!AJ53,0)+IF(ISNUMBER(CSVデータ2!AJ53),CSVデータ2!AJ53,0)+IF(ISNUMBER(CSVデータ3!AJ53),CSVデータ3!AJ53,0)+IF(ISNUMBER(CSVデータ4!AJ53),CSVデータ4!AJ53,0)","v":211},null,{"$f":"IF(ISNUMBER(CSVデータ1!AL53),CSVデータ1!AL53,0)+IF(ISNUMBER(CSVデータ2!AL53),CSVデータ2!AL53,0)+IF(ISNUMBER(CSVデータ3!AL53),CSVデータ3!AL53,0)+IF(ISNUMBER(CSVデータ4!AL53),CSVデータ4!AL53,0)","v":246},null,{"$f":"IF(ISNUMBER(CSVデータ1!AN53),CSVデータ1!AN53,0)+IF(ISNUMBER(CSVデータ2!AN53),CSVデータ2!AN53,0)+IF(ISNUMBER(CSVデータ3!AN53),CSVデータ3!AN53,0)+IF(ISNUMBER(CSVデータ4!AN53),CSVデータ4!AN53,0)","v":69}]
[{"$f":"CSVデータ1!A54","v":"明細部"},{"$f":"CSVデータ1!B54","v":"国"},{"$f":"CSVデータ1!C54","v":55},{"$f":"CSVデータ1!D54","v":"女"},{"$f":"IF(ISNUMBER(CSVデータ1!E54),CSVデータ1!E54,0)+IF(ISNUMBER(CSVデータ2!E54),CSVデータ2!E54,0)+IF(ISNUMBER(CSVデータ3!E54),CSVデータ3!E54,0)+IF(ISNUMBER(CSVデータ4!E54),CSVデータ4!E54,0)","v":2565},{"$f":"IF(ISNUMBER(CSVデータ1!F54),CSVデータ1!F54,0)+IF(ISNUMBER(CSVデータ2!F54),CSVデータ2!F54,0)+IF(ISNUMBER(CSVデータ3!F54),CSVデータ3!F54,0)+IF(ISNUMBER(CSVデータ4!F54),CSVデータ4!F54,0)","v":585},null,{"$f":"IF(ISNUMBER(CSVデータ1!H54),CSVデータ1!H54,0)+IF(ISNUMBER(CSVデータ2!H54),CSVデータ2!H54,0)+IF(ISNUMBER(CSVデータ3!H54),CSVデータ3!H54,0)+IF(ISNUMBER(CSVデータ4!H54),CSVデータ4!H54,0)","v":458},null,{"$f":"IF(ISNUMBER(CSVデータ1!J54),CSVデータ1!J54,0)+IF(ISNUMBER(CSVデータ2!J54),CSVデータ2!J54,0)+IF(ISNUMBER(CSVデータ3!J54),CSVデータ3!J54,0)+IF(ISNUMBER(CSVデータ4!J54),CSVデータ4!J54,0)","v":264},null,{"$f":"IF(ISNUMBER(CSVデータ1!L54),CSVデータ1!L54,0)+IF(ISNUMBER(CSVデータ2!L54),CSVデータ2!L54,0)+IF(ISNUMBER(CSVデータ3!L54),CSVデータ3!L54,0)+IF(ISNUMBER(CSVデータ4!L54),CSVデータ4!L54,0)","v":321},null,{"$f":"IF(ISNUMBER(CSVデータ1!N54),CSVデータ1!N54,0)+IF(ISNUMBER(CSVデータ2!N54),CSVデータ2!N54,0)+IF(ISNUMBER(CSVデータ3!N54),CSVデータ3!N54,0)+IF(ISNUMBER(CSVデータ4!N54),CSVデータ4!N54,0)","v":36},null,{"$f":"IF(ISNUMBER(CSVデータ1!P54),CSVデータ1!P54,0)+IF(ISNUMBER(CSVデータ2!P54),CSVデータ2!P54,0)+IF(ISNUMBER(CSVデータ3!P54),CSVデータ3!P54,0)+IF(ISNUMBER(CSVデータ4!P54),CSVデータ4!P54,0)","v":360},null,{"$f":"IF(ISNUMBER(CSVデータ1!R54),CSVデータ1!R54,0)+IF(ISNUMBER(CSVデータ2!R54),CSVデータ2!R54,0)+IF(ISNUMBER(CSVデータ3!R54),CSVデータ3!R54,0)+IF(ISNUMBER(CSVデータ4!R54),CSVデータ4!R54,0)","v":1260},null,{"$f":"IF(ISNUMBER(CSVデータ1!T54),CSVデータ1!T54,0)+IF(ISNUMBER(CSVデータ2!T54),CSVデータ2!T54,0)+IF(ISNUMBER(CSVデータ3!T54),CSVデータ3!T54,0)+IF(ISNUMBER(CSVデータ4!T54),CSVデータ4!T54,0)","v":50},null,{"$f":"IF(ISNUMBER(CSVデータ1!V54),CSVデータ1!V54,0)+IF(ISNUMBER(CSVデータ2!V54),CSVデータ2!V54,0)+IF(ISNUMBER(CSVデータ3!V54),CSVデータ3!V54,0)+IF(ISNUMBER(CSVデータ4!V54),CSVデータ4!V54,0)","v":698},null,{"$f":"IF(ISNUMBER(CSVデータ1!X54),CSVデータ1!X54,0)+IF(ISNUMBER(CSVデータ2!X54),CSVデータ2!X54,0)+IF(ISNUMBER(CSVデータ3!X54),CSVデータ3!X54,0)+IF(ISNUMBER(CSVデータ4!X54),CSVデータ4!X54,0)","v":431},null,{"$f":"IF(ISNUMBER(CSVデータ1!Z54),CSVデータ1!Z54,0)+IF(ISNUMBER(CSVデータ2!Z54),CSVデータ2!Z54,0)+IF(ISNUMBER(CSVデータ3!Z54),CSVデータ3!Z54,0)+IF(ISNUMBER(CSVデータ4!Z54),CSVデータ4!Z54,0)","v":1521},null,{"$f":"IF(ISNUMBER(CSVデータ1!AB54),CSVデータ1!AB54,0)+IF(ISNUMBER(CSVデータ2!AB54),CSVデータ2!AB54,0)+IF(ISNUMBER(CSVデータ3!AB54),CSVデータ3!AB54,0)+IF(ISNUMBER(CSVデータ4!AB54),CSVデータ4!AB54,0)","v":3},null,{"$f":"IF(ISNUMBER(CSVデータ1!AD54),CSVデータ1!AD54,0)+IF(ISNUMBER(CSVデータ2!AD54),CSVデータ2!AD54,0)+IF(ISNUMBER(CSVデータ3!AD54),CSVデータ3!AD54,0)+IF(ISNUMBER(CSVデータ4!AD54),CSVデータ4!AD54,0)","v":369},null,{"$f":"IF(ISNUMBER(CSVデータ1!AF54),CSVデータ1!AF54,0)+IF(ISNUMBER(CSVデータ2!AF54),CSVデータ2!AF54,0)+IF(ISNUMBER(CSVデータ3!AF54),CSVデータ3!AF54,0)+IF(ISNUMBER(CSVデータ4!AF54),CSVデータ4!AF54,0)","v":503},null,{"$f":"IF(ISNUMBER(CSVデータ1!AH54),CSVデータ1!AH54,0)+IF(ISNUMBER(CSVデータ2!AH54),CSVデータ2!AH54,0)+IF(ISNUMBER(CSVデータ3!AH54),CSVデータ3!AH54,0)+IF(ISNUMBER(CSVデータ4!AH54),CSVデータ4!AH54,0)","v":29},null,{"$f":"IF(ISNUMBER(CSVデータ1!AJ54),CSVデータ1!AJ54,0)+IF(ISNUMBER(CSVデータ2!AJ54),CSVデータ2!AJ54,0)+IF(ISNUMBER(CSVデータ3!AJ54),CSVデータ3!AJ54,0)+IF(ISNUMBER(CSVデータ4!AJ54),CSVデータ4!AJ54,0)","v":215},null,{"$f":"IF(ISNUMBER(CSVデータ1!AL54),CSVデータ1!AL54,0)+IF(ISNUMBER(CSVデータ2!AL54),CSVデータ2!AL54,0)+IF(ISNUMBER(CSVデータ3!AL54),CSVデータ3!AL54,0)+IF(ISNUMBER(CSVデータ4!AL54),CSVデータ4!AL54,0)","v":290},null,{"$f":"IF(ISNUMBER(CSVデータ1!AN54),CSVデータ1!AN54,0)+IF(ISNUMBER(CSVデータ2!AN54),CSVデータ2!AN54,0)+IF(ISNUMBER(CSVデータ3!AN54),CSVデータ3!AN54,0)+IF(ISNUMBER(CSVデータ4!AN54),CSVデータ4!AN54,0)","v":94}]
[{"$f":"CSVデータ1!A55","v":"明細部"},{"$f":"CSVデータ1!B55","v":"国"},{"$f":"CSVデータ1!C55","v":56},{"$f":"CSVデータ1!D55","v":"女"},{"$f":"IF(ISNUMBER(CSVデータ1!E55),CSVデータ1!E55,0)+IF(ISNUMBER(CSVデータ2!E55),CSVデータ2!E55,0)+IF(ISNUMBER(CSVデータ3!E55),CSVデータ3!E55,0)+IF(ISNUMBER(CSVデータ4!E55),CSVデータ4!E55,0)","v":2658},{"$f":"IF(ISNUMBER(CSVデータ1!F55),CSVデータ1!F55,0)+IF(ISNUMBER(CSVデータ2!F55),CSVデータ2!F55,0)+IF(ISNUMBER(CSVデータ3!F55),CSVデータ3!F55,0)+IF(ISNUMBER(CSVデータ4!F55),CSVデータ4!F55,0)","v":587},null,{"$f":"IF(ISNUMBER(CSVデータ1!H55),CSVデータ1!H55,0)+IF(ISNUMBER(CSVデータ2!H55),CSVデータ2!H55,0)+IF(ISNUMBER(CSVデータ3!H55),CSVデータ3!H55,0)+IF(ISNUMBER(CSVデータ4!H55),CSVデータ4!H55,0)","v":475},null,{"$f":"IF(ISNUMBER(CSVデータ1!J55),CSVデータ1!J55,0)+IF(ISNUMBER(CSVデータ2!J55),CSVデータ2!J55,0)+IF(ISNUMBER(CSVデータ3!J55),CSVデータ3!J55,0)+IF(ISNUMBER(CSVデータ4!J55),CSVデータ4!J55,0)","v":264},null,{"$f":"IF(ISNUMBER(CSVデータ1!L55),CSVデータ1!L55,0)+IF(ISNUMBER(CSVデータ2!L55),CSVデータ2!L55,0)+IF(ISNUMBER(CSVデータ3!L55),CSVデータ3!L55,0)+IF(ISNUMBER(CSVデータ4!L55),CSVデータ4!L55,0)","v":280},null,{"$f":"IF(ISNUMBER(CSVデータ1!N55),CSVデータ1!N55,0)+IF(ISNUMBER(CSVデータ2!N55),CSVデータ2!N55,0)+IF(ISNUMBER(CSVデータ3!N55),CSVデータ3!N55,0)+IF(ISNUMBER(CSVデータ4!N55),CSVデータ4!N55,0)","v":32},null,{"$f":"IF(ISNUMBER(CSVデータ1!P55),CSVデータ1!P55,0)+IF(ISNUMBER(CSVデータ2!P55),CSVデータ2!P55,0)+IF(ISNUMBER(CSVデータ3!P55),CSVデータ3!P55,0)+IF(ISNUMBER(CSVデータ4!P55),CSVデータ4!P55,0)","v":385},null,{"$f":"IF(ISNUMBER(CSVデータ1!R55),CSVデータ1!R55,0)+IF(ISNUMBER(CSVデータ2!R55),CSVデータ2!R55,0)+IF(ISNUMBER(CSVデータ3!R55),CSVデータ3!R55,0)+IF(ISNUMBER(CSVデータ4!R55),CSVデータ4!R55,0)","v":1346},null,{"$f":"IF(ISNUMBER(CSVデータ1!T55),CSVデータ1!T55,0)+IF(ISNUMBER(CSVデータ2!T55),CSVデータ2!T55,0)+IF(ISNUMBER(CSVデータ3!T55),CSVデータ3!T55,0)+IF(ISNUMBER(CSVデータ4!T55),CSVデータ4!T55,0)","v":50},null,{"$f":"IF(ISNUMBER(CSVデータ1!V55),CSVデータ1!V55,0)+IF(ISNUMBER(CSVデータ2!V55),CSVデータ2!V55,0)+IF(ISNUMBER(CSVデータ3!V55),CSVデータ3!V55,0)+IF(ISNUMBER(CSVデータ4!V55),CSVデータ4!V55,0)","v":690},null,{"$f":"IF(ISNUMBER(CSVデータ1!X55),CSVデータ1!X55,0)+IF(ISNUMBER(CSVデータ2!X55),CSVデータ2!X55,0)+IF(ISNUMBER(CSVデータ3!X55),CSVデータ3!X55,0)+IF(ISNUMBER(CSVデータ4!X55),CSVデータ4!X55,0)","v":435},null,{"$f":"IF(ISNUMBER(CSVデータ1!Z55),CSVデータ1!Z55,0)+IF(ISNUMBER(CSVデータ2!Z55),CSVデータ2!Z55,0)+IF(ISNUMBER(CSVデータ3!Z55),CSVデータ3!Z55,0)+IF(ISNUMBER(CSVデータ4!Z55),CSVデータ4!Z55,0)","v":1620},null,{"$f":"IF(ISNUMBER(CSVデータ1!AB55),CSVデータ1!AB55,0)+IF(ISNUMBER(CSVデータ2!AB55),CSVデータ2!AB55,0)+IF(ISNUMBER(CSVデータ3!AB55),CSVデータ3!AB55,0)+IF(ISNUMBER(CSVデータ4!AB55),CSVデータ4!AB55,0)","v":10},null,{"$f":"IF(ISNUMBER(CSVデータ1!AD55),CSVデータ1!AD55,0)+IF(ISNUMBER(CSVデータ2!AD55),CSVデータ2!AD55,0)+IF(ISNUMBER(CSVデータ3!AD55),CSVデータ3!AD55,0)+IF(ISNUMBER(CSVデータ4!AD55),CSVデータ4!AD55,0)","v":378},null,{"$f":"IF(ISNUMBER(CSVデータ1!AF55),CSVデータ1!AF55,0)+IF(ISNUMBER(CSVデータ2!AF55),CSVデータ2!AF55,0)+IF(ISNUMBER(CSVデータ3!AF55),CSVデータ3!AF55,0)+IF(ISNUMBER(CSVデータ4!AF55),CSVデータ4!AF55,0)","v":543},null,{"$f":"IF(ISNUMBER(CSVデータ1!AH55),CSVデータ1!AH55,0)+IF(ISNUMBER(CSVデータ2!AH55),CSVデータ2!AH55,0)+IF(ISNUMBER(CSVデータ3!AH55),CSVデータ3!AH55,0)+IF(ISNUMBER(CSVデータ4!AH55),CSVデータ4!AH55,0)","v":37},null,{"$f":"IF(ISNUMBER(CSVデータ1!AJ55),CSVデータ1!AJ55,0)+IF(ISNUMBER(CSVデータ2!AJ55),CSVデータ2!AJ55,0)+IF(ISNUMBER(CSVデータ3!AJ55),CSVデータ3!AJ55,0)+IF(ISNUMBER(CSVデータ4!AJ55),CSVデータ4!AJ55,0)","v":240},null,{"$f":"IF(ISNUMBER(CSVデータ1!AL55),CSVデータ1!AL55,0)+IF(ISNUMBER(CSVデータ2!AL55),CSVデータ2!AL55,0)+IF(ISNUMBER(CSVデータ3!AL55),CSVデータ3!AL55,0)+IF(ISNUMBER(CSVデータ4!AL55),CSVデータ4!AL55,0)","v":286},null,{"$f":"IF(ISNUMBER(CSVデータ1!AN55),CSVデータ1!AN55,0)+IF(ISNUMBER(CSVデータ2!AN55),CSVデータ2!AN55,0)+IF(ISNUMBER(CSVデータ3!AN55),CSVデータ3!AN55,0)+IF(ISNUMBER(CSVデータ4!AN55),CSVデータ4!AN55,0)","v":99}]
[{"$f":"CSVデータ1!A56","v":"明細部"},{"$f":"CSVデータ1!B56","v":"国"},{"$f":"CSVデータ1!C56","v":57},{"$f":"CSVデータ1!D56","v":"女"},{"$f":"IF(ISNUMBER(CSVデータ1!E56),CSVデータ1!E56,0)+IF(ISNUMBER(CSVデータ2!E56),CSVデータ2!E56,0)+IF(ISNUMBER(CSVデータ3!E56),CSVデータ3!E56,0)+IF(ISNUMBER(CSVデータ4!E56),CSVデータ4!E56,0)","v":2621},{"$f":"IF(ISNUMBER(CSVデータ1!F56),CSVデータ1!F56,0)+IF(ISNUMBER(CSVデータ2!F56),CSVデータ2!F56,0)+IF(ISNUMBER(CSVデータ3!F56),CSVデータ3!F56,0)+IF(ISNUMBER(CSVデータ4!F56),CSVデータ4!F56,0)","v":573},null,{"$f":"IF(ISNUMBER(CSVデータ1!H56),CSVデータ1!H56,0)+IF(ISNUMBER(CSVデータ2!H56),CSVデータ2!H56,0)+IF(ISNUMBER(CSVデータ3!H56),CSVデータ3!H56,0)+IF(ISNUMBER(CSVデータ4!H56),CSVデータ4!H56,0)","v":502},null,{"$f":"IF(ISNUMBER(CSVデータ1!J56),CSVデータ1!J56,0)+IF(ISNUMBER(CSVデータ2!J56),CSVデータ2!J56,0)+IF(ISNUMBER(CSVデータ3!J56),CSVデータ3!J56,0)+IF(ISNUMBER(CSVデータ4!J56),CSVデータ4!J56,0)","v":281},null,{"$f":"IF(ISNUMBER(CSVデータ1!L56),CSVデータ1!L56,0)+IF(ISNUMBER(CSVデータ2!L56),CSVデータ2!L56,0)+IF(ISNUMBER(CSVデータ3!L56),CSVデータ3!L56,0)+IF(ISNUMBER(CSVデータ4!L56),CSVデータ4!L56,0)","v":297},null,{"$f":"IF(ISNUMBER(CSVデータ1!N56),CSVデータ1!N56,0)+IF(ISNUMBER(CSVデータ2!N56),CSVデータ2!N56,0)+IF(ISNUMBER(CSVデータ3!N56),CSVデータ3!N56,0)+IF(ISNUMBER(CSVデータ4!N56),CSVデータ4!N56,0)","v":27},null,{"$f":"IF(ISNUMBER(CSVデータ1!P56),CSVデータ1!P56,0)+IF(ISNUMBER(CSVデータ2!P56),CSVデータ2!P56,0)+IF(ISNUMBER(CSVデータ3!P56),CSVデータ3!P56,0)+IF(ISNUMBER(CSVデータ4!P56),CSVデータ4!P56,0)","v":396},null,{"$f":"IF(ISNUMBER(CSVデータ1!R56),CSVデータ1!R56,0)+IF(ISNUMBER(CSVデータ2!R56),CSVデータ2!R56,0)+IF(ISNUMBER(CSVデータ3!R56),CSVデータ3!R56,0)+IF(ISNUMBER(CSVデータ4!R56),CSVデータ4!R56,0)","v":1383},null,{"$f":"IF(ISNUMBER(CSVデータ1!T56),CSVデータ1!T56,0)+IF(ISNUMBER(CSVデータ2!T56),CSVデータ2!T56,0)+IF(ISNUMBER(CSVデータ3!T56),CSVデータ3!T56,0)+IF(ISNUMBER(CSVデータ4!T56),CSVデータ4!T56,0)","v":61},null,{"$f":"IF(ISNUMBER(CSVデータ1!V56),CSVデータ1!V56,0)+IF(ISNUMBER(CSVデータ2!V56),CSVデータ2!V56,0)+IF(ISNUMBER(CSVデータ3!V56),CSVデータ3!V56,0)+IF(ISNUMBER(CSVデータ4!V56),CSVデータ4!V56,0)","v":733},null,{"$f":"IF(ISNUMBER(CSVデータ1!X56),CSVデータ1!X56,0)+IF(ISNUMBER(CSVデータ2!X56),CSVデータ2!X56,0)+IF(ISNUMBER(CSVデータ3!X56),CSVデータ3!X56,0)+IF(ISNUMBER(CSVデータ4!X56),CSVデータ4!X56,0)","v":469},null,{"$f":"IF(ISNUMBER(CSVデータ1!Z56),CSVデータ1!Z56,0)+IF(ISNUMBER(CSVデータ2!Z56),CSVデータ2!Z56,0)+IF(ISNUMBER(CSVデータ3!Z56),CSVデータ3!Z56,0)+IF(ISNUMBER(CSVデータ4!Z56),CSVデータ4!Z56,0)","v":1574},null,{"$f":"IF(ISNUMBER(CSVデータ1!AB56),CSVデータ1!AB56,0)+IF(ISNUMBER(CSVデータ2!AB56),CSVデータ2!AB56,0)+IF(ISNUMBER(CSVデータ3!AB56),CSVデータ3!AB56,0)+IF(ISNUMBER(CSVデータ4!AB56),CSVデータ4!AB56,0)","v":5},null,{"$f":"IF(ISNUMBER(CSVデータ1!AD56),CSVデータ1!AD56,0)+IF(ISNUMBER(CSVデータ2!AD56),CSVデータ2!AD56,0)+IF(ISNUMBER(CSVデータ3!AD56),CSVデータ3!AD56,0)+IF(ISNUMBER(CSVデータ4!AD56),CSVデータ4!AD56,0)","v":396},null,{"$f":"IF(ISNUMBER(CSVデータ1!AF56),CSVデータ1!AF56,0)+IF(ISNUMBER(CSVデータ2!AF56),CSVデータ2!AF56,0)+IF(ISNUMBER(CSVデータ3!AF56),CSVデータ3!AF56,0)+IF(ISNUMBER(CSVデータ4!AF56),CSVデータ4!AF56,0)","v":523},null,{"$f":"IF(ISNUMBER(CSVデータ1!AH56),CSVデータ1!AH56,0)+IF(ISNUMBER(CSVデータ2!AH56),CSVデータ2!AH56,0)+IF(ISNUMBER(CSVデータ3!AH56),CSVデータ3!AH56,0)+IF(ISNUMBER(CSVデータ4!AH56),CSVデータ4!AH56,0)","v":34},null,{"$f":"IF(ISNUMBER(CSVデータ1!AJ56),CSVデータ1!AJ56,0)+IF(ISNUMBER(CSVデータ2!AJ56),CSVデータ2!AJ56,0)+IF(ISNUMBER(CSVデータ3!AJ56),CSVデータ3!AJ56,0)+IF(ISNUMBER(CSVデータ4!AJ56),CSVデータ4!AJ56,0)","v":212},null,{"$f":"IF(ISNUMBER(CSVデータ1!AL56),CSVデータ1!AL56,0)+IF(ISNUMBER(CSVデータ2!AL56),CSVデータ2!AL56,0)+IF(ISNUMBER(CSVデータ3!AL56),CSVデータ3!AL56,0)+IF(ISNUMBER(CSVデータ4!AL56),CSVデータ4!AL56,0)","v":329},null,{"$f":"IF(ISNUMBER(CSVデータ1!AN56),CSVデータ1!AN56,0)+IF(ISNUMBER(CSVデータ2!AN56),CSVデータ2!AN56,0)+IF(ISNUMBER(CSVデータ3!AN56),CSVデータ3!AN56,0)+IF(ISNUMBER(CSVデータ4!AN56),CSVデータ4!AN56,0)","v":76}]
[{"$f":"CSVデータ1!A57","v":"明細部"},{"$f":"CSVデータ1!B57","v":"国"},{"$f":"CSVデータ1!C57","v":58},{"$f":"CSVデータ1!D57","v":"女"},{"$f":"IF(ISNUMBER(CSVデータ1!E57),CSVデータ1!E57,0)+IF(ISNUMBER(CSVデータ2!E57),CSVデータ2!E57,0)+IF(ISNUMBER(CSVデータ3!E57),CSVデータ3!E57,0)+IF(ISNUMBER(CSVデータ4!E57),CSVデータ4!E57,0)","v":2508},{"$f":"IF(ISNUMBER(CSVデータ1!F57),CSVデータ1!F57,0)+IF(ISNUMBER(CSVデータ2!F57),CSVデータ2!F57,0)+IF(ISNUMBER(CSVデータ3!F57),CSVデータ3!F57,0)+IF(ISNUMBER(CSVデータ4!F57),CSVデータ4!F57,0)","v":542},null,{"$f":"IF(ISNUMBER(CSVデータ1!H57),CSVデータ1!H57,0)+IF(ISNUMBER(CSVデータ2!H57),CSVデータ2!H57,0)+IF(ISNUMBER(CSVデータ3!H57),CSVデータ3!H57,0)+IF(ISNUMBER(CSVデータ4!H57),CSVデータ4!H57,0)","v":461},null,{"$f":"IF(ISNUMBER(CSVデータ1!J57),CSVデータ1!J57,0)+IF(ISNUMBER(CSVデータ2!J57),CSVデータ2!J57,0)+IF(ISNUMBER(CSVデータ3!J57),CSVデータ3!J57,0)+IF(ISNUMBER(CSVデータ4!J57),CSVデータ4!J57,0)","v":233},null,{"$f":"IF(ISNUMBER(CSVデータ1!L57),CSVデータ1!L57,0)+IF(ISNUMBER(CSVデータ2!L57),CSVデータ2!L57,0)+IF(ISNUMBER(CSVデータ3!L57),CSVデータ3!L57,0)+IF(ISNUMBER(CSVデータ4!L57),CSVデータ4!L57,0)","v":294},null,{"$f":"IF(ISNUMBER(CSVデータ1!N57),CSVデータ1!N57,0)+IF(ISNUMBER(CSVデータ2!N57),CSVデータ2!N57,0)+IF(ISNUMBER(CSVデータ3!N57),CSVデータ3!N57,0)+IF(ISNUMBER(CSVデータ4!N57),CSVデータ4!N57,0)","v":26},null,{"$f":"IF(ISNUMBER(CSVデータ1!P57),CSVデータ1!P57,0)+IF(ISNUMBER(CSVデータ2!P57),CSVデータ2!P57,0)+IF(ISNUMBER(CSVデータ3!P57),CSVデータ3!P57,0)+IF(ISNUMBER(CSVデータ4!P57),CSVデータ4!P57,0)","v":378},null,{"$f":"IF(ISNUMBER(CSVデータ1!R57),CSVデータ1!R57,0)+IF(ISNUMBER(CSVデータ2!R57),CSVデータ2!R57,0)+IF(ISNUMBER(CSVデータ3!R57),CSVデータ3!R57,0)+IF(ISNUMBER(CSVデータ4!R57),CSVデータ4!R57,0)","v":1295},null,{"$f":"IF(ISNUMBER(CSVデータ1!T57),CSVデータ1!T57,0)+IF(ISNUMBER(CSVデータ2!T57),CSVデータ2!T57,0)+IF(ISNUMBER(CSVデータ3!T57),CSVデータ3!T57,0)+IF(ISNUMBER(CSVデータ4!T57),CSVデータ4!T57,0)","v":55},null,{"$f":"IF(ISNUMBER(CSVデータ1!V57),CSVデータ1!V57,0)+IF(ISNUMBER(CSVデータ2!V57),CSVデータ2!V57,0)+IF(ISNUMBER(CSVデータ3!V57),CSVデータ3!V57,0)+IF(ISNUMBER(CSVデータ4!V57),CSVデータ4!V57,0)","v":756},null,{"$f":"IF(ISNUMBER(CSVデータ1!X57),CSVデータ1!X57,0)+IF(ISNUMBER(CSVデータ2!X57),CSVデータ2!X57,0)+IF(ISNUMBER(CSVデータ3!X57),CSVデータ3!X57,0)+IF(ISNUMBER(CSVデータ4!X57),CSVデータ4!X57,0)","v":434},null,{"$f":"IF(ISNUMBER(CSVデータ1!Z57),CSVデータ1!Z57,0)+IF(ISNUMBER(CSVデータ2!Z57),CSVデータ2!Z57,0)+IF(ISNUMBER(CSVデータ3!Z57),CSVデータ3!Z57,0)+IF(ISNUMBER(CSVデータ4!Z57),CSVデータ4!Z57,0)","v":1504},null,{"$f":"IF(ISNUMBER(CSVデータ1!AB57),CSVデータ1!AB57,0)+IF(ISNUMBER(CSVデータ2!AB57),CSVデータ2!AB57,0)+IF(ISNUMBER(CSVデータ3!AB57),CSVデータ3!AB57,0)+IF(ISNUMBER(CSVデータ4!AB57),CSVデータ4!AB57,0)","v":8},null,{"$f":"IF(ISNUMBER(CSVデータ1!AD57),CSVデータ1!AD57,0)+IF(ISNUMBER(CSVデータ2!AD57),CSVデータ2!AD57,0)+IF(ISNUMBER(CSVデータ3!AD57),CSVデータ3!AD57,0)+IF(ISNUMBER(CSVデータ4!AD57),CSVデータ4!AD57,0)","v":355},null,{"$f":"IF(ISNUMBER(CSVデータ1!AF57),CSVデータ1!AF57,0)+IF(ISNUMBER(CSVデータ2!AF57),CSVデータ2!AF57,0)+IF(ISNUMBER(CSVデータ3!AF57),CSVデータ3!AF57,0)+IF(ISNUMBER(CSVデータ4!AF57),CSVデータ4!AF57,0)","v":516},null,{"$f":"IF(ISNUMBER(CSVデータ1!AH57),CSVデータ1!AH57,0)+IF(ISNUMBER(CSVデータ2!AH57),CSVデータ2!AH57,0)+IF(ISNUMBER(CSVデータ3!AH57),CSVデータ3!AH57,0)+IF(ISNUMBER(CSVデータ4!AH57),CSVデータ4!AH57,0)","v":38},null,{"$f":"IF(ISNUMBER(CSVデータ1!AJ57),CSVデータ1!AJ57,0)+IF(ISNUMBER(CSVデータ2!AJ57),CSVデータ2!AJ57,0)+IF(ISNUMBER(CSVデータ3!AJ57),CSVデータ3!AJ57,0)+IF(ISNUMBER(CSVデータ4!AJ57),CSVデータ4!AJ57,0)","v":201},null,{"$f":"IF(ISNUMBER(CSVデータ1!AL57),CSVデータ1!AL57,0)+IF(ISNUMBER(CSVデータ2!AL57),CSVデータ2!AL57,0)+IF(ISNUMBER(CSVデータ3!AL57),CSVデータ3!AL57,0)+IF(ISNUMBER(CSVデータ4!AL57),CSVデータ4!AL57,0)","v":343},null,{"$f":"IF(ISNUMBER(CSVデータ1!AN57),CSVデータ1!AN57,0)+IF(ISNUMBER(CSVデータ2!AN57),CSVデータ2!AN57,0)+IF(ISNUMBER(CSVデータ3!AN57),CSVデータ3!AN57,0)+IF(ISNUMBER(CSVデータ4!AN57),CSVデータ4!AN57,0)","v":86}]
[{"$f":"CSVデータ1!A58","v":"明細部"},{"$f":"CSVデータ1!B58","v":"国"},{"$f":"CSVデータ1!C58","v":59},{"$f":"CSVデータ1!D58","v":"女"},{"$f":"IF(ISNUMBER(CSVデータ1!E58),CSVデータ1!E58,0)+IF(ISNUMBER(CSVデータ2!E58),CSVデータ2!E58,0)+IF(ISNUMBER(CSVデータ3!E58),CSVデータ3!E58,0)+IF(ISNUMBER(CSVデータ4!E58),CSVデータ4!E58,0)","v":2877},{"$f":"IF(ISNUMBER(CSVデータ1!F58),CSVデータ1!F58,0)+IF(ISNUMBER(CSVデータ2!F58),CSVデータ2!F58,0)+IF(ISNUMBER(CSVデータ3!F58),CSVデータ3!F58,0)+IF(ISNUMBER(CSVデータ4!F58),CSVデータ4!F58,0)","v":596},null,{"$f":"IF(ISNUMBER(CSVデータ1!H58),CSVデータ1!H58,0)+IF(ISNUMBER(CSVデータ2!H58),CSVデータ2!H58,0)+IF(ISNUMBER(CSVデータ3!H58),CSVデータ3!H58,0)+IF(ISNUMBER(CSVデータ4!H58),CSVデータ4!H58,0)","v":506},null,{"$f":"IF(ISNUMBER(CSVデータ1!J58),CSVデータ1!J58,0)+IF(ISNUMBER(CSVデータ2!J58),CSVデータ2!J58,0)+IF(ISNUMBER(CSVデータ3!J58),CSVデータ3!J58,0)+IF(ISNUMBER(CSVデータ4!J58),CSVデータ4!J58,0)","v":287},null,{"$f":"IF(ISNUMBER(CSVデータ1!L58),CSVデータ1!L58,0)+IF(ISNUMBER(CSVデータ2!L58),CSVデータ2!L58,0)+IF(ISNUMBER(CSVデータ3!L58),CSVデータ3!L58,0)+IF(ISNUMBER(CSVデータ4!L58),CSVデータ4!L58,0)","v":301},null,{"$f":"IF(ISNUMBER(CSVデータ1!N58),CSVデータ1!N58,0)+IF(ISNUMBER(CSVデータ2!N58),CSVデータ2!N58,0)+IF(ISNUMBER(CSVデータ3!N58),CSVデータ3!N58,0)+IF(ISNUMBER(CSVデータ4!N58),CSVデータ4!N58,0)","v":28},null,{"$f":"IF(ISNUMBER(CSVデータ1!P58),CSVデータ1!P58,0)+IF(ISNUMBER(CSVデータ2!P58),CSVデータ2!P58,0)+IF(ISNUMBER(CSVデータ3!P58),CSVデータ3!P58,0)+IF(ISNUMBER(CSVデータ4!P58),CSVデータ4!P58,0)","v":453},null,{"$f":"IF(ISNUMBER(CSVデータ1!R58),CSVデータ1!R58,0)+IF(ISNUMBER(CSVデータ2!R58),CSVデータ2!R58,0)+IF(ISNUMBER(CSVデータ3!R58),CSVデータ3!R58,0)+IF(ISNUMBER(CSVデータ4!R58),CSVデータ4!R58,0)","v":1530},null,{"$f":"IF(ISNUMBER(CSVデータ1!T58),CSVデータ1!T58,0)+IF(ISNUMBER(CSVデータ2!T58),CSVデータ2!T58,0)+IF(ISNUMBER(CSVデータ3!T58),CSVデータ3!T58,0)+IF(ISNUMBER(CSVデータ4!T58),CSVデータ4!T58,0)","v":57},null,{"$f":"IF(ISNUMBER(CSVデータ1!V58),CSVデータ1!V58,0)+IF(ISNUMBER(CSVデータ2!V58),CSVデータ2!V58,0)+IF(ISNUMBER(CSVデータ3!V58),CSVデータ3!V58,0)+IF(ISNUMBER(CSVデータ4!V58),CSVデータ4!V58,0)","v":909},null,{"$f":"IF(ISNUMBER(CSVデータ1!X58),CSVデータ1!X58,0)+IF(ISNUMBER(CSVデータ2!X58),CSVデータ2!X58,0)+IF(ISNUMBER(CSVデータ3!X58),CSVデータ3!X58,0)+IF(ISNUMBER(CSVデータ4!X58),CSVデータ4!X58,0)","v":501},null,{"$f":"IF(ISNUMBER(CSVデータ1!Z58),CSVデータ1!Z58,0)+IF(ISNUMBER(CSVデータ2!Z58),CSVデータ2!Z58,0)+IF(ISNUMBER(CSVデータ3!Z58),CSVデータ3!Z58,0)+IF(ISNUMBER(CSVデータ4!Z58),CSVデータ4!Z58,0)","v":1749},null,{"$f":"IF(ISNUMBER(CSVデータ1!AB58),CSVデータ1!AB58,0)+IF(ISNUMBER(CSVデータ2!AB58),CSVデータ2!AB58,0)+IF(ISNUMBER(CSVデータ3!AB58),CSVデータ3!AB58,0)+IF(ISNUMBER(CSVデータ4!AB58),CSVデータ4!AB58,0)","v":11},null,{"$f":"IF(ISNUMBER(CSVデータ1!AD58),CSVデータ1!AD58,0)+IF(ISNUMBER(CSVデータ2!AD58),CSVデータ2!AD58,0)+IF(ISNUMBER(CSVデータ3!AD58),CSVデータ3!AD58,0)+IF(ISNUMBER(CSVデータ4!AD58),CSVデータ4!AD58,0)","v":459},null,{"$f":"IF(ISNUMBER(CSVデータ1!AF58),CSVデータ1!AF58,0)+IF(ISNUMBER(CSVデータ2!AF58),CSVデータ2!AF58,0)+IF(ISNUMBER(CSVデータ3!AF58),CSVデータ3!AF58,0)+IF(ISNUMBER(CSVデータ4!AF58),CSVデータ4!AF58,0)","v":584},null,{"$f":"IF(ISNUMBER(CSVデータ1!AH58),CSVデータ1!AH58,0)+IF(ISNUMBER(CSVデータ2!AH58),CSVデータ2!AH58,0)+IF(ISNUMBER(CSVデータ3!AH58),CSVデータ3!AH58,0)+IF(ISNUMBER(CSVデータ4!AH58),CSVデータ4!AH58,0)","v":44},null,{"$f":"IF(ISNUMBER(CSVデータ1!AJ58),CSVデータ1!AJ58,0)+IF(ISNUMBER(CSVデータ2!AJ58),CSVデータ2!AJ58,0)+IF(ISNUMBER(CSVデータ3!AJ58),CSVデータ3!AJ58,0)+IF(ISNUMBER(CSVデータ4!AJ58),CSVデータ4!AJ58,0)","v":254},null,{"$f":"IF(ISNUMBER(CSVデータ1!AL58),CSVデータ1!AL58,0)+IF(ISNUMBER(CSVデータ2!AL58),CSVデータ2!AL58,0)+IF(ISNUMBER(CSVデータ3!AL58),CSVデータ3!AL58,0)+IF(ISNUMBER(CSVデータ4!AL58),CSVデータ4!AL58,0)","v":421},null,{"$f":"IF(ISNUMBER(CSVデータ1!AN58),CSVデータ1!AN58,0)+IF(ISNUMBER(CSVデータ2!AN58),CSVデータ2!AN58,0)+IF(ISNUMBER(CSVデータ3!AN58),CSVデータ3!AN58,0)+IF(ISNUMBER(CSVデータ4!AN58),CSVデータ4!AN58,0)","v":84}]
[{"$f":"CSVデータ1!A59","v":"明細部"},{"$f":"CSVデータ1!B59","v":"国"},{"$f":"CSVデータ1!C59","v":60},{"$f":"CSVデータ1!D59","v":"女"},{"$f":"IF(ISNUMBER(CSVデータ1!E59),CSVデータ1!E59,0)+IF(ISNUMBER(CSVデータ2!E59),CSVデータ2!E59,0)+IF(ISNUMBER(CSVデータ3!E59),CSVデータ3!E59,0)+IF(ISNUMBER(CSVデータ4!E59),CSVデータ4!E59,0)","v":3460},{"$f":"IF(ISNUMBER(CSVデータ1!F59),CSVデータ1!F59,0)+IF(ISNUMBER(CSVデータ2!F59),CSVデータ2!F59,0)+IF(ISNUMBER(CSVデータ3!F59),CSVデータ3!F59,0)+IF(ISNUMBER(CSVデータ4!F59),CSVデータ4!F59,0)","v":703},null,{"$f":"IF(ISNUMBER(CSVデータ1!H59),CSVデータ1!H59,0)+IF(ISNUMBER(CSVデータ2!H59),CSVデータ2!H59,0)+IF(ISNUMBER(CSVデータ3!H59),CSVデータ3!H59,0)+IF(ISNUMBER(CSVデータ4!H59),CSVデータ4!H59,0)","v":615},null,{"$f":"IF(ISNUMBER(CSVデータ1!J59),CSVデータ1!J59,0)+IF(ISNUMBER(CSVデータ2!J59),CSVデータ2!J59,0)+IF(ISNUMBER(CSVデータ3!J59),CSVデータ3!J59,0)+IF(ISNUMBER(CSVデータ4!J59),CSVデータ4!J59,0)","v":348},null,{"$f":"IF(ISNUMBER(CSVデータ1!L59),CSVデータ1!L59,0)+IF(ISNUMBER(CSVデータ2!L59),CSVデータ2!L59,0)+IF(ISNUMBER(CSVデータ3!L59),CSVデータ3!L59,0)+IF(ISNUMBER(CSVデータ4!L59),CSVデータ4!L59,0)","v":349},null,{"$f":"IF(ISNUMBER(CSVデータ1!N59),CSVデータ1!N59,0)+IF(ISNUMBER(CSVデータ2!N59),CSVデータ2!N59,0)+IF(ISNUMBER(CSVデータ3!N59),CSVデータ3!N59,0)+IF(ISNUMBER(CSVデータ4!N59),CSVデータ4!N59,0)","v":43},null,{"$f":"IF(ISNUMBER(CSVデータ1!P59),CSVデータ1!P59,0)+IF(ISNUMBER(CSVデータ2!P59),CSVデータ2!P59,0)+IF(ISNUMBER(CSVデータ3!P59),CSVデータ3!P59,0)+IF(ISNUMBER(CSVデータ4!P59),CSVデータ4!P59,0)","v":574},null,{"$f":"IF(ISNUMBER(CSVデータ1!R59),CSVデータ1!R59,0)+IF(ISNUMBER(CSVデータ2!R59),CSVデータ2!R59,0)+IF(ISNUMBER(CSVデータ3!R59),CSVデータ3!R59,0)+IF(ISNUMBER(CSVデータ4!R59),CSVデータ4!R59,0)","v":1934},null,{"$f":"IF(ISNUMBER(CSVデータ1!T59),CSVデータ1!T59,0)+IF(ISNUMBER(CSVデータ2!T59),CSVデータ2!T59,0)+IF(ISNUMBER(CSVデータ3!T59),CSVデータ3!T59,0)+IF(ISNUMBER(CSVデータ4!T59),CSVデータ4!T59,0)","v":69},null,{"$f":"IF(ISNUMBER(CSVデータ1!V59),CSVデータ1!V59,0)+IF(ISNUMBER(CSVデータ2!V59),CSVデータ2!V59,0)+IF(ISNUMBER(CSVデータ3!V59),CSVデータ3!V59,0)+IF(ISNUMBER(CSVデータ4!V59),CSVデータ4!V59,0)","v":1026},null,{"$f":"IF(ISNUMBER(CSVデータ1!X59),CSVデータ1!X59,0)+IF(ISNUMBER(CSVデータ2!X59),CSVデータ2!X59,0)+IF(ISNUMBER(CSVデータ3!X59),CSVデータ3!X59,0)+IF(ISNUMBER(CSVデータ4!X59),CSVデータ4!X59,0)","v":563},null,{"$f":"IF(ISNUMBER(CSVデータ1!Z59),CSVデータ1!Z59,0)+IF(ISNUMBER(CSVデータ2!Z59),CSVデータ2!Z59,0)+IF(ISNUMBER(CSVデータ3!Z59),CSVデータ3!Z59,0)+IF(ISNUMBER(CSVデータ4!Z59),CSVデータ4!Z59,0)","v":2161},null,{"$f":"IF(ISNUMBER(CSVデータ1!AB59),CSVデータ1!AB59,0)+IF(ISNUMBER(CSVデータ2!AB59),CSVデータ2!AB59,0)+IF(ISNUMBER(CSVデータ3!AB59),CSVデータ3!AB59,0)+IF(ISNUMBER(CSVデータ4!AB59),CSVデータ4!AB59,0)","v":7},null,{"$f":"IF(ISNUMBER(CSVデータ1!AD59),CSVデータ1!AD59,0)+IF(ISNUMBER(CSVデータ2!AD59),CSVデータ2!AD59,0)+IF(ISNUMBER(CSVデータ3!AD59),CSVデータ3!AD59,0)+IF(ISNUMBER(CSVデータ4!AD59),CSVデータ4!AD59,0)","v":546},null,{"$f":"IF(ISNUMBER(CSVデータ1!AF59),CSVデータ1!AF59,0)+IF(ISNUMBER(CSVデータ2!AF59),CSVデータ2!AF59,0)+IF(ISNUMBER(CSVデータ3!AF59),CSVデータ3!AF59,0)+IF(ISNUMBER(CSVデータ4!AF59),CSVデータ4!AF59,0)","v":710},null,{"$f":"IF(ISNUMBER(CSVデータ1!AH59),CSVデータ1!AH59,0)+IF(ISNUMBER(CSVデータ2!AH59),CSVデータ2!AH59,0)+IF(ISNUMBER(CSVデータ3!AH59),CSVデータ3!AH59,0)+IF(ISNUMBER(CSVデータ4!AH59),CSVデータ4!AH59,0)","v":54},null,{"$f":"IF(ISNUMBER(CSVデータ1!AJ59),CSVデータ1!AJ59,0)+IF(ISNUMBER(CSVデータ2!AJ59),CSVデータ2!AJ59,0)+IF(ISNUMBER(CSVデータ3!AJ59),CSVデータ3!AJ59,0)+IF(ISNUMBER(CSVデータ4!AJ59),CSVデータ4!AJ59,0)","v":299},null,{"$f":"IF(ISNUMBER(CSVデータ1!AL59),CSVデータ1!AL59,0)+IF(ISNUMBER(CSVデータ2!AL59),CSVデータ2!AL59,0)+IF(ISNUMBER(CSVデータ3!AL59),CSVデータ3!AL59,0)+IF(ISNUMBER(CSVデータ4!AL59),CSVデータ4!AL59,0)","v":541},null,{"$f":"IF(ISNUMBER(CSVデータ1!AN59),CSVデータ1!AN59,0)+IF(ISNUMBER(CSVデータ2!AN59),CSVデータ2!AN59,0)+IF(ISNUMBER(CSVデータ3!AN59),CSVデータ3!AN59,0)+IF(ISNUMBER(CSVデータ4!AN59),CSVデータ4!AN59,0)","v":118}]
[{"$f":"CSVデータ1!A60","v":"明細部"},{"$f":"CSVデータ1!B60","v":"国"},{"$f":"CSVデータ1!C60","v":61},{"$f":"CSVデータ1!D60","v":"女"},{"$f":"IF(ISNUMBER(CSVデータ1!E60),CSVデータ1!E60,0)+IF(ISNUMBER(CSVデータ2!E60),CSVデータ2!E60,0)+IF(ISNUMBER(CSVデータ3!E60),CSVデータ3!E60,0)+IF(ISNUMBER(CSVデータ4!E60),CSVデータ4!E60,0)","v":3632},{"$f":"IF(ISNUMBER(CSVデータ1!F60),CSVデータ1!F60,0)+IF(ISNUMBER(CSVデータ2!F60),CSVデータ2!F60,0)+IF(ISNUMBER(CSVデータ3!F60),CSVデータ3!F60,0)+IF(ISNUMBER(CSVデータ4!F60),CSVデータ4!F60,0)","v":768},null,{"$f":"IF(ISNUMBER(CSVデータ1!H60),CSVデータ1!H60,0)+IF(ISNUMBER(CSVデータ2!H60),CSVデータ2!H60,0)+IF(ISNUMBER(CSVデータ3!H60),CSVデータ3!H60,0)+IF(ISNUMBER(CSVデータ4!H60),CSVデータ4!H60,0)","v":680},null,{"$f":"IF(ISNUMBER(CSVデータ1!J60),CSVデータ1!J60,0)+IF(ISNUMBER(CSVデータ2!J60),CSVデータ2!J60,0)+IF(ISNUMBER(CSVデータ3!J60),CSVデータ3!J60,0)+IF(ISNUMBER(CSVデータ4!J60),CSVデータ4!J60,0)","v":384},null,{"$f":"IF(ISNUMBER(CSVデータ1!L60),CSVデータ1!L60,0)+IF(ISNUMBER(CSVデータ2!L60),CSVデータ2!L60,0)+IF(ISNUMBER(CSVデータ3!L60),CSVデータ3!L60,0)+IF(ISNUMBER(CSVデータ4!L60),CSVデータ4!L60,0)","v":402},null,{"$f":"IF(ISNUMBER(CSVデータ1!N60),CSVデータ1!N60,0)+IF(ISNUMBER(CSVデータ2!N60),CSVデータ2!N60,0)+IF(ISNUMBER(CSVデータ3!N60),CSVデータ3!N60,0)+IF(ISNUMBER(CSVデータ4!N60),CSVデータ4!N60,0)","v":32},null,{"$f":"IF(ISNUMBER(CSVデータ1!P60),CSVデータ1!P60,0)+IF(ISNUMBER(CSVデータ2!P60),CSVデータ2!P60,0)+IF(ISNUMBER(CSVデータ3!P60),CSVデータ3!P60,0)+IF(ISNUMBER(CSVデータ4!P60),CSVデータ4!P60,0)","v":609},null,{"$f":"IF(ISNUMBER(CSVデータ1!R60),CSVデータ1!R60,0)+IF(ISNUMBER(CSVデータ2!R60),CSVデータ2!R60,0)+IF(ISNUMBER(CSVデータ3!R60),CSVデータ3!R60,0)+IF(ISNUMBER(CSVデータ4!R60),CSVデータ4!R60,0)","v":2084},null,{"$f":"IF(ISNUMBER(CSVデータ1!T60),CSVデータ1!T60,0)+IF(ISNUMBER(CSVデータ2!T60),CSVデータ2!T60,0)+IF(ISNUMBER(CSVデータ3!T60),CSVデータ3!T60,0)+IF(ISNUMBER(CSVデータ4!T60),CSVデータ4!T60,0)","v":76},null,{"$f":"IF(ISNUMBER(CSVデータ1!V60),CSVデータ1!V60,0)+IF(ISNUMBER(CSVデータ2!V60),CSVデータ2!V60,0)+IF(ISNUMBER(CSVデータ3!V60),CSVデータ3!V60,0)+IF(ISNUMBER(CSVデータ4!V60),CSVデータ4!V60,0)","v":1218},null,{"$f":"IF(ISNUMBER(CSVデータ1!X60),CSVデータ1!X60,0)+IF(ISNUMBER(CSVデータ2!X60),CSVデータ2!X60,0)+IF(ISNUMBER(CSVデータ3!X60),CSVデータ3!X60,0)+IF(ISNUMBER(CSVデータ4!X60),CSVデータ4!X60,0)","v":664},null,{"$f":"IF(ISNUMBER(CSVデータ1!Z60),CSVデータ1!Z60,0)+IF(ISNUMBER(CSVデータ2!Z60),CSVデータ2!Z60,0)+IF(ISNUMBER(CSVデータ3!Z60),CSVデータ3!Z60,0)+IF(ISNUMBER(CSVデータ4!Z60),CSVデータ4!Z60,0)","v":2204},null,{"$f":"IF(ISNUMBER(CSVデータ1!AB60),CSVデータ1!AB60,0)+IF(ISNUMBER(CSVデータ2!AB60),CSVデータ2!AB60,0)+IF(ISNUMBER(CSVデータ3!AB60),CSVデータ3!AB60,0)+IF(ISNUMBER(CSVデータ4!AB60),CSVデータ4!AB60,0)","v":8},null,{"$f":"IF(ISNUMBER(CSVデータ1!AD60),CSVデータ1!AD60,0)+IF(ISNUMBER(CSVデータ2!AD60),CSVデータ2!AD60,0)+IF(ISNUMBER(CSVデータ3!AD60),CSVデータ3!AD60,0)+IF(ISNUMBER(CSVデータ4!AD60),CSVデータ4!AD60,0)","v":567},null,{"$f":"IF(ISNUMBER(CSVデータ1!AF60),CSVデータ1!AF60,0)+IF(ISNUMBER(CSVデータ2!AF60),CSVデータ2!AF60,0)+IF(ISNUMBER(CSVデータ3!AF60),CSVデータ3!AF60,0)+IF(ISNUMBER(CSVデータ4!AF60),CSVデータ4!AF60,0)","v":785},null,{"$f":"IF(ISNUMBER(CSVデータ1!AH60),CSVデータ1!AH60,0)+IF(ISNUMBER(CSVデータ2!AH60),CSVデータ2!AH60,0)+IF(ISNUMBER(CSVデータ3!AH60),CSVデータ3!AH60,0)+IF(ISNUMBER(CSVデータ4!AH60),CSVデータ4!AH60,0)","v":42},null,{"$f":"IF(ISNUMBER(CSVデータ1!AJ60),CSVデータ1!AJ60,0)+IF(ISNUMBER(CSVデータ2!AJ60),CSVデータ2!AJ60,0)+IF(ISNUMBER(CSVデータ3!AJ60),CSVデータ3!AJ60,0)+IF(ISNUMBER(CSVデータ4!AJ60),CSVデータ4!AJ60,0)","v":292},null,{"$f":"IF(ISNUMBER(CSVデータ1!AL60),CSVデータ1!AL60,0)+IF(ISNUMBER(CSVデータ2!AL60),CSVデータ2!AL60,0)+IF(ISNUMBER(CSVデータ3!AL60),CSVデータ3!AL60,0)+IF(ISNUMBER(CSVデータ4!AL60),CSVデータ4!AL60,0)","v":581},null,{"$f":"IF(ISNUMBER(CSVデータ1!AN60),CSVデータ1!AN60,0)+IF(ISNUMBER(CSVデータ2!AN60),CSVデータ2!AN60,0)+IF(ISNUMBER(CSVデータ3!AN60),CSVデータ3!AN60,0)+IF(ISNUMBER(CSVデータ4!AN60),CSVデータ4!AN60,0)","v":105}]
[{"$f":"CSVデータ1!A61","v":"明細部"},{"$f":"CSVデータ1!B61","v":"国"},{"$f":"CSVデータ1!C61","v":62},{"$f":"CSVデータ1!D61","v":"女"},{"$f":"IF(ISNUMBER(CSVデータ1!E61),CSVデータ1!E61,0)+IF(ISNUMBER(CSVデータ2!E61),CSVデータ2!E61,0)+IF(ISNUMBER(CSVデータ3!E61),CSVデータ3!E61,0)+IF(ISNUMBER(CSVデータ4!E61),CSVデータ4!E61,0)","v":4486},{"$f":"IF(ISNUMBER(CSVデータ1!F61),CSVデータ1!F61,0)+IF(ISNUMBER(CSVデータ2!F61),CSVデータ2!F61,0)+IF(ISNUMBER(CSVデータ3!F61),CSVデータ3!F61,0)+IF(ISNUMBER(CSVデータ4!F61),CSVデータ4!F61,0)","v":888},null,{"$f":"IF(ISNUMBER(CSVデータ1!H61),CSVデータ1!H61,0)+IF(ISNUMBER(CSVデータ2!H61),CSVデータ2!H61,0)+IF(ISNUMBER(CSVデータ3!H61),CSVデータ3!H61,0)+IF(ISNUMBER(CSVデータ4!H61),CSVデータ4!H61,0)","v":766},null,{"$f":"IF(ISNUMBER(CSVデータ1!J61),CSVデータ1!J61,0)+IF(ISNUMBER(CSVデータ2!J61),CSVデータ2!J61,0)+IF(ISNUMBER(CSVデータ3!J61),CSVデータ3!J61,0)+IF(ISNUMBER(CSVデータ4!J61),CSVデータ4!J61,0)","v":407},null,{"$f":"IF(ISNUMBER(CSVデータ1!L61),CSVデータ1!L61,0)+IF(ISNUMBER(CSVデータ2!L61),CSVデータ2!L61,0)+IF(ISNUMBER(CSVデータ3!L61),CSVデータ3!L61,0)+IF(ISNUMBER(CSVデータ4!L61),CSVデータ4!L61,0)","v":393},null,{"$f":"IF(ISNUMBER(CSVデータ1!N61),CSVデータ1!N61,0)+IF(ISNUMBER(CSVデータ2!N61),CSVデータ2!N61,0)+IF(ISNUMBER(CSVデータ3!N61),CSVデータ3!N61,0)+IF(ISNUMBER(CSVデータ4!N61),CSVデータ4!N61,0)","v":40},null,{"$f":"IF(ISNUMBER(CSVデータ1!P61),CSVデータ1!P61,0)+IF(ISNUMBER(CSVデータ2!P61),CSVデータ2!P61,0)+IF(ISNUMBER(CSVデータ3!P61),CSVデータ3!P61,0)+IF(ISNUMBER(CSVデータ4!P61),CSVデータ4!P61,0)","v":736},null,{"$f":"IF(ISNUMBER(CSVデータ1!R61),CSVデータ1!R61,0)+IF(ISNUMBER(CSVデータ2!R61),CSVデータ2!R61,0)+IF(ISNUMBER(CSVデータ3!R61),CSVデータ3!R61,0)+IF(ISNUMBER(CSVデータ4!R61),CSVデータ4!R61,0)","v":2580},null,{"$f":"IF(ISNUMBER(CSVデータ1!T61),CSVデータ1!T61,0)+IF(ISNUMBER(CSVデータ2!T61),CSVデータ2!T61,0)+IF(ISNUMBER(CSVデータ3!T61),CSVデータ3!T61,0)+IF(ISNUMBER(CSVデータ4!T61),CSVデータ4!T61,0)","v":76},null,{"$f":"IF(ISNUMBER(CSVデータ1!V61),CSVデータ1!V61,0)+IF(ISNUMBER(CSVデータ2!V61),CSVデータ2!V61,0)+IF(ISNUMBER(CSVデータ3!V61),CSVデータ3!V61,0)+IF(ISNUMBER(CSVデータ4!V61),CSVデータ4!V61,0)","v":1473},null,{"$f":"IF(ISNUMBER(CSVデータ1!X61),CSVデータ1!X61,0)+IF(ISNUMBER(CSVデータ2!X61),CSVデータ2!X61,0)+IF(ISNUMBER(CSVデータ3!X61),CSVデータ3!X61,0)+IF(ISNUMBER(CSVデータ4!X61),CSVデータ4!X61,0)","v":736},null,{"$f":"IF(ISNUMBER(CSVデータ1!Z61),CSVデータ1!Z61,0)+IF(ISNUMBER(CSVデータ2!Z61),CSVデータ2!Z61,0)+IF(ISNUMBER(CSVデータ3!Z61),CSVデータ3!Z61,0)+IF(ISNUMBER(CSVデータ4!Z61),CSVデータ4!Z61,0)","v":2681},null,{"$f":"IF(ISNUMBER(CSVデータ1!AB61),CSVデータ1!AB61,0)+IF(ISNUMBER(CSVデータ2!AB61),CSVデータ2!AB61,0)+IF(ISNUMBER(CSVデータ3!AB61),CSVデータ3!AB61,0)+IF(ISNUMBER(CSVデータ4!AB61),CSVデータ4!AB61,0)","v":12},null,{"$f":"IF(ISNUMBER(CSVデータ1!AD61),CSVデータ1!AD61,0)+IF(ISNUMBER(CSVデータ2!AD61),CSVデータ2!AD61,0)+IF(ISNUMBER(CSVデータ3!AD61),CSVデータ3!AD61,0)+IF(ISNUMBER(CSVデータ4!AD61),CSVデータ4!AD61,0)","v":701},null,{"$f":"IF(ISNUMBER(CSVデータ1!AF61),CSVデータ1!AF61,0)+IF(ISNUMBER(CSVデータ2!AF61),CSVデータ2!AF61,0)+IF(ISNUMBER(CSVデータ3!AF61),CSVデータ3!AF61,0)+IF(ISNUMBER(CSVデータ4!AF61),CSVデータ4!AF61,0)","v":992},null,{"$f":"IF(ISNUMBER(CSVデータ1!AH61),CSVデータ1!AH61,0)+IF(ISNUMBER(CSVデータ2!AH61),CSVデータ2!AH61,0)+IF(ISNUMBER(CSVデータ3!AH61),CSVデータ3!AH61,0)+IF(ISNUMBER(CSVデータ4!AH61),CSVデータ4!AH61,0)","v":69},null,{"$f":"IF(ISNUMBER(CSVデータ1!AJ61),CSVデータ1!AJ61,0)+IF(ISNUMBER(CSVデータ2!AJ61),CSVデータ2!AJ61,0)+IF(ISNUMBER(CSVデータ3!AJ61),CSVデータ3!AJ61,0)+IF(ISNUMBER(CSVデータ4!AJ61),CSVデータ4!AJ61,0)","v":349},null,{"$f":"IF(ISNUMBER(CSVデータ1!AL61),CSVデータ1!AL61,0)+IF(ISNUMBER(CSVデータ2!AL61),CSVデータ2!AL61,0)+IF(ISNUMBER(CSVデータ3!AL61),CSVデータ3!AL61,0)+IF(ISNUMBER(CSVデータ4!AL61),CSVデータ4!AL61,0)","v":735},null,{"$f":"IF(ISNUMBER(CSVデータ1!AN61),CSVデータ1!AN61,0)+IF(ISNUMBER(CSVデータ2!AN61),CSVデータ2!AN61,0)+IF(ISNUMBER(CSVデータ3!AN61),CSVデータ3!AN61,0)+IF(ISNUMBER(CSVデータ4!AN61),CSVデータ4!AN61,0)","v":138}]
[{"$f":"CSVデータ1!A62","v":"明細部"},{"$f":"CSVデータ1!B62","v":"国"},{"$f":"CSVデータ1!C62","v":63},{"$f":"CSVデータ1!D62","v":"女"},{"$f":"IF(ISNUMBER(CSVデータ1!E62),CSVデータ1!E62,0)+IF(ISNUMBER(CSVデータ2!E62),CSVデータ2!E62,0)+IF(ISNUMBER(CSVデータ3!E62),CSVデータ3!E62,0)+IF(ISNUMBER(CSVデータ4!E62),CSVデータ4!E62,0)","v":5077},{"$f":"IF(ISNUMBER(CSVデータ1!F62),CSVデータ1!F62,0)+IF(ISNUMBER(CSVデータ2!F62),CSVデータ2!F62,0)+IF(ISNUMBER(CSVデータ3!F62),CSVデータ3!F62,0)+IF(ISNUMBER(CSVデータ4!F62),CSVデータ4!F62,0)","v":1028},null,{"$f":"IF(ISNUMBER(CSVデータ1!H62),CSVデータ1!H62,0)+IF(ISNUMBER(CSVデータ2!H62),CSVデータ2!H62,0)+IF(ISNUMBER(CSVデータ3!H62),CSVデータ3!H62,0)+IF(ISNUMBER(CSVデータ4!H62),CSVデータ4!H62,0)","v":864},null,{"$f":"IF(ISNUMBER(CSVデータ1!J62),CSVデータ1!J62,0)+IF(ISNUMBER(CSVデータ2!J62),CSVデータ2!J62,0)+IF(ISNUMBER(CSVデータ3!J62),CSVデータ3!J62,0)+IF(ISNUMBER(CSVデータ4!J62),CSVデータ4!J62,0)","v":492},null,{"$f":"IF(ISNUMBER(CSVデータ1!L62),CSVデータ1!L62,0)+IF(ISNUMBER(CSVデータ2!L62),CSVデータ2!L62,0)+IF(ISNUMBER(CSVデータ3!L62),CSVデータ3!L62,0)+IF(ISNUMBER(CSVデータ4!L62),CSVデータ4!L62,0)","v":466},null,{"$f":"IF(ISNUMBER(CSVデータ1!N62),CSVデータ1!N62,0)+IF(ISNUMBER(CSVデータ2!N62),CSVデータ2!N62,0)+IF(ISNUMBER(CSVデータ3!N62),CSVデータ3!N62,0)+IF(ISNUMBER(CSVデータ4!N62),CSVデータ4!N62,0)","v":45},null,{"$f":"IF(ISNUMBER(CSVデータ1!P62),CSVデータ1!P62,0)+IF(ISNUMBER(CSVデータ2!P62),CSVデータ2!P62,0)+IF(ISNUMBER(CSVデータ3!P62),CSVデータ3!P62,0)+IF(ISNUMBER(CSVデータ4!P62),CSVデータ4!P62,0)","v":902},null,{"$f":"IF(ISNUMBER(CSVデータ1!R62),CSVデータ1!R62,0)+IF(ISNUMBER(CSVデータ2!R62),CSVデータ2!R62,0)+IF(ISNUMBER(CSVデータ3!R62),CSVデータ3!R62,0)+IF(ISNUMBER(CSVデータ4!R62),CSVデータ4!R62,0)","v":3037},null,{"$f":"IF(ISNUMBER(CSVデータ1!T62),CSVデータ1!T62,0)+IF(ISNUMBER(CSVデータ2!T62),CSVデータ2!T62,0)+IF(ISNUMBER(CSVデータ3!T62),CSVデータ3!T62,0)+IF(ISNUMBER(CSVデータ4!T62),CSVデータ4!T62,0)","v":97},null,{"$f":"IF(ISNUMBER(CSVデータ1!V62),CSVデータ1!V62,0)+IF(ISNUMBER(CSVデータ2!V62),CSVデータ2!V62,0)+IF(ISNUMBER(CSVデータ3!V62),CSVデータ3!V62,0)+IF(ISNUMBER(CSVデータ4!V62),CSVデータ4!V62,0)","v":1832},null,{"$f":"IF(ISNUMBER(CSVデータ1!X62),CSVデータ1!X62,0)+IF(ISNUMBER(CSVデータ2!X62),CSVデータ2!X62,0)+IF(ISNUMBER(CSVデータ3!X62),CSVデータ3!X62,0)+IF(ISNUMBER(CSVデータ4!X62),CSVデータ4!X62,0)","v":879},null,{"$f":"IF(ISNUMBER(CSVデータ1!Z62),CSVデータ1!Z62,0)+IF(ISNUMBER(CSVデータ2!Z62),CSVデータ2!Z62,0)+IF(ISNUMBER(CSVデータ3!Z62),CSVデータ3!Z62,0)+IF(ISNUMBER(CSVデータ4!Z62),CSVデータ4!Z62,0)","v":3112},null,{"$f":"IF(ISNUMBER(CSVデータ1!AB62),CSVデータ1!AB62,0)+IF(ISNUMBER(CSVデータ2!AB62),CSVデータ2!AB62,0)+IF(ISNUMBER(CSVデータ3!AB62),CSVデータ3!AB62,0)+IF(ISNUMBER(CSVデータ4!AB62),CSVデータ4!AB62,0)","v":9},null,{"$f":"IF(ISNUMBER(CSVデータ1!AD62),CSVデータ1!AD62,0)+IF(ISNUMBER(CSVデータ2!AD62),CSVデータ2!AD62,0)+IF(ISNUMBER(CSVデータ3!AD62),CSVデータ3!AD62,0)+IF(ISNUMBER(CSVデータ4!AD62),CSVデータ4!AD62,0)","v":841},null,{"$f":"IF(ISNUMBER(CSVデータ1!AF62),CSVデータ1!AF62,0)+IF(ISNUMBER(CSVデータ2!AF62),CSVデータ2!AF62,0)+IF(ISNUMBER(CSVデータ3!AF62),CSVデータ3!AF62,0)+IF(ISNUMBER(CSVデータ4!AF62),CSVデータ4!AF62,0)","v":1145},null,{"$f":"IF(ISNUMBER(CSVデータ1!AH62),CSVデータ1!AH62,0)+IF(ISNUMBER(CSVデータ2!AH62),CSVデータ2!AH62,0)+IF(ISNUMBER(CSVデータ3!AH62),CSVデータ3!AH62,0)+IF(ISNUMBER(CSVデータ4!AH62),CSVデータ4!AH62,0)","v":81},null,{"$f":"IF(ISNUMBER(CSVデータ1!AJ62),CSVデータ1!AJ62,0)+IF(ISNUMBER(CSVデータ2!AJ62),CSVデータ2!AJ62,0)+IF(ISNUMBER(CSVデータ3!AJ62),CSVデータ3!AJ62,0)+IF(ISNUMBER(CSVデータ4!AJ62),CSVデータ4!AJ62,0)","v":415},null,{"$f":"IF(ISNUMBER(CSVデータ1!AL62),CSVデータ1!AL62,0)+IF(ISNUMBER(CSVデータ2!AL62),CSVデータ2!AL62,0)+IF(ISNUMBER(CSVデータ3!AL62),CSVデータ3!AL62,0)+IF(ISNUMBER(CSVデータ4!AL62),CSVデータ4!AL62,0)","v":869},null,{"$f":"IF(ISNUMBER(CSVデータ1!AN62),CSVデータ1!AN62,0)+IF(ISNUMBER(CSVデータ2!AN62),CSVデータ2!AN62,0)+IF(ISNUMBER(CSVデータ3!AN62),CSVデータ3!AN62,0)+IF(ISNUMBER(CSVデータ4!AN62),CSVデータ4!AN62,0)","v":164}]
[{"$f":"CSVデータ1!A63","v":"明細部"},{"$f":"CSVデータ1!B63","v":"国"},{"$f":"CSVデータ1!C63","v":64},{"$f":"CSVデータ1!D63","v":"女"},{"$f":"IF(ISNUMBER(CSVデータ1!E63),CSVデータ1!E63,0)+IF(ISNUMBER(CSVデータ2!E63),CSVデータ2!E63,0)+IF(ISNUMBER(CSVデータ3!E63),CSVデータ3!E63,0)+IF(ISNUMBER(CSVデータ4!E63),CSVデータ4!E63,0)","v":5967},{"$f":"IF(ISNUMBER(CSVデータ1!F63),CSVデータ1!F63,0)+IF(ISNUMBER(CSVデータ2!F63),CSVデータ2!F63,0)+IF(ISNUMBER(CSVデータ3!F63),CSVデータ3!F63,0)+IF(ISNUMBER(CSVデータ4!F63),CSVデータ4!F63,0)","v":1180},null,{"$f":"IF(ISNUMBER(CSVデータ1!H63),CSVデータ1!H63,0)+IF(ISNUMBER(CSVデータ2!H63),CSVデータ2!H63,0)+IF(ISNUMBER(CSVデータ3!H63),CSVデータ3!H63,0)+IF(ISNUMBER(CSVデータ4!H63),CSVデータ4!H63,0)","v":1082},null,{"$f":"IF(ISNUMBER(CSVデータ1!J63),CSVデータ1!J63,0)+IF(ISNUMBER(CSVデータ2!J63),CSVデータ2!J63,0)+IF(ISNUMBER(CSVデータ3!J63),CSVデータ3!J63,0)+IF(ISNUMBER(CSVデータ4!J63),CSVデータ4!J63,0)","v":581},null,{"$f":"IF(ISNUMBER(CSVデータ1!L63),CSVデータ1!L63,0)+IF(ISNUMBER(CSVデータ2!L63),CSVデータ2!L63,0)+IF(ISNUMBER(CSVデータ3!L63),CSVデータ3!L63,0)+IF(ISNUMBER(CSVデータ4!L63),CSVデータ4!L63,0)","v":570},null,{"$f":"IF(ISNUMBER(CSVデータ1!N63),CSVデータ1!N63,0)+IF(ISNUMBER(CSVデータ2!N63),CSVデータ2!N63,0)+IF(ISNUMBER(CSVデータ3!N63),CSVデータ3!N63,0)+IF(ISNUMBER(CSVデータ4!N63),CSVデータ4!N63,0)","v":56},null,{"$f":"IF(ISNUMBER(CSVデータ1!P63),CSVデータ1!P63,0)+IF(ISNUMBER(CSVデータ2!P63),CSVデータ2!P63,0)+IF(ISNUMBER(CSVデータ3!P63),CSVデータ3!P63,0)+IF(ISNUMBER(CSVデータ4!P63),CSVデータ4!P63,0)","v":1095},null,{"$f":"IF(ISNUMBER(CSVデータ1!R63),CSVデータ1!R63,0)+IF(ISNUMBER(CSVデータ2!R63),CSVデータ2!R63,0)+IF(ISNUMBER(CSVデータ3!R63),CSVデータ3!R63,0)+IF(ISNUMBER(CSVデータ4!R63),CSVデータ4!R63,0)","v":3642},null,{"$f":"IF(ISNUMBER(CSVデータ1!T63),CSVデータ1!T63,0)+IF(ISNUMBER(CSVデータ2!T63),CSVデータ2!T63,0)+IF(ISNUMBER(CSVデータ3!T63),CSVデータ3!T63,0)+IF(ISNUMBER(CSVデータ4!T63),CSVデータ4!T63,0)","v":114},null,{"$f":"IF(ISNUMBER(CSVデータ1!V63),CSVデータ1!V63,0)+IF(ISNUMBER(CSVデータ2!V63),CSVデータ2!V63,0)+IF(ISNUMBER(CSVデータ3!V63),CSVデータ3!V63,0)+IF(ISNUMBER(CSVデータ4!V63),CSVデータ4!V63,0)","v":2290},null,{"$f":"IF(ISNUMBER(CSVデータ1!X63),CSVデータ1!X63,0)+IF(ISNUMBER(CSVデータ2!X63),CSVデータ2!X63,0)+IF(ISNUMBER(CSVデータ3!X63),CSVデータ3!X63,0)+IF(ISNUMBER(CSVデータ4!X63),CSVデータ4!X63,0)","v":1094},null,{"$f":"IF(ISNUMBER(CSVデータ1!Z63),CSVデータ1!Z63,0)+IF(ISNUMBER(CSVデータ2!Z63),CSVデータ2!Z63,0)+IF(ISNUMBER(CSVデータ3!Z63),CSVデータ3!Z63,0)+IF(ISNUMBER(CSVデータ4!Z63),CSVデータ4!Z63,0)","v":3554},null,{"$f":"IF(ISNUMBER(CSVデータ1!AB63),CSVデータ1!AB63,0)+IF(ISNUMBER(CSVデータ2!AB63),CSVデータ2!AB63,0)+IF(ISNUMBER(CSVデータ3!AB63),CSVデータ3!AB63,0)+IF(ISNUMBER(CSVデータ4!AB63),CSVデータ4!AB63,0)","v":12},null,{"$f":"IF(ISNUMBER(CSVデータ1!AD63),CSVデータ1!AD63,0)+IF(ISNUMBER(CSVデータ2!AD63),CSVデータ2!AD63,0)+IF(ISNUMBER(CSVデータ3!AD63),CSVデータ3!AD63,0)+IF(ISNUMBER(CSVデータ4!AD63),CSVデータ4!AD63,0)","v":1111},null,{"$f":"IF(ISNUMBER(CSVデータ1!AF63),CSVデータ1!AF63,0)+IF(ISNUMBER(CSVデータ2!AF63),CSVデータ2!AF63,0)+IF(ISNUMBER(CSVデータ3!AF63),CSVデータ3!AF63,0)+IF(ISNUMBER(CSVデータ4!AF63),CSVデータ4!AF63,0)","v":1418},null,{"$f":"IF(ISNUMBER(CSVデータ1!AH63),CSVデータ1!AH63,0)+IF(ISNUMBER(CSVデータ2!AH63),CSVデータ2!AH63,0)+IF(ISNUMBER(CSVデータ3!AH63),CSVデータ3!AH63,0)+IF(ISNUMBER(CSVデータ4!AH63),CSVデータ4!AH63,0)","v":91},null,{"$f":"IF(ISNUMBER(CSVデータ1!AJ63),CSVデータ1!AJ63,0)+IF(ISNUMBER(CSVデータ2!AJ63),CSVデータ2!AJ63,0)+IF(ISNUMBER(CSVデータ3!AJ63),CSVデータ3!AJ63,0)+IF(ISNUMBER(CSVデータ4!AJ63),CSVデータ4!AJ63,0)","v":472},null,{"$f":"IF(ISNUMBER(CSVデータ1!AL63),CSVデータ1!AL63,0)+IF(ISNUMBER(CSVデータ2!AL63),CSVデータ2!AL63,0)+IF(ISNUMBER(CSVデータ3!AL63),CSVデータ3!AL63,0)+IF(ISNUMBER(CSVデータ4!AL63),CSVデータ4!AL63,0)","v":1197},null,{"$f":"IF(ISNUMBER(CSVデータ1!AN63),CSVデータ1!AN63,0)+IF(ISNUMBER(CSVデータ2!AN63),CSVデータ2!AN63,0)+IF(ISNUMBER(CSVデータ3!AN63),CSVデータ3!AN63,0)+IF(ISNUMBER(CSVデータ4!AN63),CSVデータ4!AN63,0)","v":207}]
[{"$f":"CSVデータ1!A64","v":"明細部"},{"$f":"CSVデータ1!B64","v":"国"},{"$f":"CSVデータ1!C64","v":65},{"$f":"CSVデータ1!D64","v":"女"},{"$f":"IF(ISNUMBER(CSVデータ1!E64),CSVデータ1!E64,0)+IF(ISNUMBER(CSVデータ2!E64),CSVデータ2!E64,0)+IF(ISNUMBER(CSVデータ3!E64),CSVデータ3!E64,0)+IF(ISNUMBER(CSVデータ4!E64),CSVデータ4!E64,0)","v":7432},{"$f":"IF(ISNUMBER(CSVデータ1!F64),CSVデータ1!F64,0)+IF(ISNUMBER(CSVデータ2!F64),CSVデータ2!F64,0)+IF(ISNUMBER(CSVデータ3!F64),CSVデータ3!F64,0)+IF(ISNUMBER(CSVデータ4!F64),CSVデータ4!F64,0)","v":1437},null,{"$f":"IF(ISNUMBER(CSVデータ1!H64),CSVデータ1!H64,0)+IF(ISNUMBER(CSVデータ2!H64),CSVデータ2!H64,0)+IF(ISNUMBER(CSVデータ3!H64),CSVデータ3!H64,0)+IF(ISNUMBER(CSVデータ4!H64),CSVデータ4!H64,0)","v":1275},null,{"$f":"IF(ISNUMBER(CSVデータ1!J64),CSVデータ1!J64,0)+IF(ISNUMBER(CSVデータ2!J64),CSVデータ2!J64,0)+IF(ISNUMBER(CSVデータ3!J64),CSVデータ3!J64,0)+IF(ISNUMBER(CSVデータ4!J64),CSVデータ4!J64,0)","v":651},null,{"$f":"IF(ISNUMBER(CSVデータ1!L64),CSVデータ1!L64,0)+IF(ISNUMBER(CSVデータ2!L64),CSVデータ2!L64,0)+IF(ISNUMBER(CSVデータ3!L64),CSVデータ3!L64,0)+IF(ISNUMBER(CSVデータ4!L64),CSVデータ4!L64,0)","v":598},null,{"$f":"IF(ISNUMBER(CSVデータ1!N64),CSVデータ1!N64,0)+IF(ISNUMBER(CSVデータ2!N64),CSVデータ2!N64,0)+IF(ISNUMBER(CSVデータ3!N64),CSVデータ3!N64,0)+IF(ISNUMBER(CSVデータ4!N64),CSVデータ4!N64,0)","v":63},null,{"$f":"IF(ISNUMBER(CSVデータ1!P64),CSVデータ1!P64,0)+IF(ISNUMBER(CSVデータ2!P64),CSVデータ2!P64,0)+IF(ISNUMBER(CSVデータ3!P64),CSVデータ3!P64,0)+IF(ISNUMBER(CSVデータ4!P64),CSVデータ4!P64,0)","v":1395},null,{"$f":"IF(ISNUMBER(CSVデータ1!R64),CSVデータ1!R64,0)+IF(ISNUMBER(CSVデータ2!R64),CSVデータ2!R64,0)+IF(ISNUMBER(CSVデータ3!R64),CSVデータ3!R64,0)+IF(ISNUMBER(CSVデータ4!R64),CSVデータ4!R64,0)","v":4545},null,{"$f":"IF(ISNUMBER(CSVデータ1!T64),CSVデータ1!T64,0)+IF(ISNUMBER(CSVデータ2!T64),CSVデータ2!T64,0)+IF(ISNUMBER(CSVデータ3!T64),CSVデータ3!T64,0)+IF(ISNUMBER(CSVデータ4!T64),CSVデータ4!T64,0)","v":122},null,{"$f":"IF(ISNUMBER(CSVデータ1!V64),CSVデータ1!V64,0)+IF(ISNUMBER(CSVデータ2!V64),CSVデータ2!V64,0)+IF(ISNUMBER(CSVデータ3!V64),CSVデータ3!V64,0)+IF(ISNUMBER(CSVデータ4!V64),CSVデータ4!V64,0)","v":2905},null,{"$f":"IF(ISNUMBER(CSVデータ1!X64),CSVデータ1!X64,0)+IF(ISNUMBER(CSVデータ2!X64),CSVデータ2!X64,0)+IF(ISNUMBER(CSVデータ3!X64),CSVデータ3!X64,0)+IF(ISNUMBER(CSVデータ4!X64),CSVデータ4!X64,0)","v":1279},null,{"$f":"IF(ISNUMBER(CSVデータ1!Z64),CSVデータ1!Z64,0)+IF(ISNUMBER(CSVデータ2!Z64),CSVデータ2!Z64,0)+IF(ISNUMBER(CSVデータ3!Z64),CSVデータ3!Z64,0)+IF(ISNUMBER(CSVデータ4!Z64),CSVデータ4!Z64,0)","v":4252},null,{"$f":"IF(ISNUMBER(CSVデータ1!AB64),CSVデータ1!AB64,0)+IF(ISNUMBER(CSVデータ2!AB64),CSVデータ2!AB64,0)+IF(ISNUMBER(CSVデータ3!AB64),CSVデータ3!AB64,0)+IF(ISNUMBER(CSVデータ4!AB64),CSVデータ4!AB64,0)","v":16},null,{"$f":"IF(ISNUMBER(CSVデータ1!AD64),CSVデータ1!AD64,0)+IF(ISNUMBER(CSVデータ2!AD64),CSVデータ2!AD64,0)+IF(ISNUMBER(CSVデータ3!AD64),CSVデータ3!AD64,0)+IF(ISNUMBER(CSVデータ4!AD64),CSVデータ4!AD64,0)","v":1294},null,{"$f":"IF(ISNUMBER(CSVデータ1!AF64),CSVデータ1!AF64,0)+IF(ISNUMBER(CSVデータ2!AF64),CSVデータ2!AF64,0)+IF(ISNUMBER(CSVデータ3!AF64),CSVデータ3!AF64,0)+IF(ISNUMBER(CSVデータ4!AF64),CSVデータ4!AF64,0)","v":1702},null,{"$f":"IF(ISNUMBER(CSVデータ1!AH64),CSVデータ1!AH64,0)+IF(ISNUMBER(CSVデータ2!AH64),CSVデータ2!AH64,0)+IF(ISNUMBER(CSVデータ3!AH64),CSVデータ3!AH64,0)+IF(ISNUMBER(CSVデータ4!AH64),CSVデータ4!AH64,0)","v":130},null,{"$f":"IF(ISNUMBER(CSVデータ1!AJ64),CSVデータ1!AJ64,0)+IF(ISNUMBER(CSVデータ2!AJ64),CSVデータ2!AJ64,0)+IF(ISNUMBER(CSVデータ3!AJ64),CSVデータ3!AJ64,0)+IF(ISNUMBER(CSVデータ4!AJ64),CSVデータ4!AJ64,0)","v":578},null,{"$f":"IF(ISNUMBER(CSVデータ1!AL64),CSVデータ1!AL64,0)+IF(ISNUMBER(CSVデータ2!AL64),CSVデータ2!AL64,0)+IF(ISNUMBER(CSVデータ3!AL64),CSVデータ3!AL64,0)+IF(ISNUMBER(CSVデータ4!AL64),CSVデータ4!AL64,0)","v":1416},null,{"$f":"IF(ISNUMBER(CSVデータ1!AN64),CSVデータ1!AN64,0)+IF(ISNUMBER(CSVデータ2!AN64),CSVデータ2!AN64,0)+IF(ISNUMBER(CSVデータ3!AN64),CSVデータ3!AN64,0)+IF(ISNUMBER(CSVデータ4!AN64),CSVデータ4!AN64,0)","v":256}]
[{"$f":"CSVデータ1!A65","v":"明細部"},{"$f":"CSVデータ1!B65","v":"国"},{"$f":"CSVデータ1!C65","v":66},{"$f":"CSVデータ1!D65","v":"女"},{"$f":"IF(ISNUMBER(CSVデータ1!E65),CSVデータ1!E65,0)+IF(ISNUMBER(CSVデータ2!E65),CSVデータ2!E65,0)+IF(ISNUMBER(CSVデータ3!E65),CSVデータ3!E65,0)+IF(ISNUMBER(CSVデータ4!E65),CSVデータ4!E65,0)","v":9001},{"$f":"IF(ISNUMBER(CSVデータ1!F65),CSVデータ1!F65,0)+IF(ISNUMBER(CSVデータ2!F65),CSVデータ2!F65,0)+IF(ISNUMBER(CSVデータ3!F65),CSVデータ3!F65,0)+IF(ISNUMBER(CSVデータ4!F65),CSVデータ4!F65,0)","v":1853},null,{"$f":"IF(ISNUMBER(CSVデータ1!H65),CSVデータ1!H65,0)+IF(ISNUMBER(CSVデータ2!H65),CSVデータ2!H65,0)+IF(ISNUMBER(CSVデータ3!H65),CSVデータ3!H65,0)+IF(ISNUMBER(CSVデータ4!H65),CSVデータ4!H65,0)","v":1547},null,{"$f":"IF(ISNUMBER(CSVデータ1!J65),CSVデータ1!J65,0)+IF(ISNUMBER(CSVデータ2!J65),CSVデータ2!J65,0)+IF(ISNUMBER(CSVデータ3!J65),CSVデータ3!J65,0)+IF(ISNUMBER(CSVデータ4!J65),CSVデータ4!J65,0)","v":847},null,{"$f":"IF(ISNUMBER(CSVデータ1!L65),CSVデータ1!L65,0)+IF(ISNUMBER(CSVデータ2!L65),CSVデータ2!L65,0)+IF(ISNUMBER(CSVデータ3!L65),CSVデータ3!L65,0)+IF(ISNUMBER(CSVデータ4!L65),CSVデータ4!L65,0)","v":799},null,{"$f":"IF(ISNUMBER(CSVデータ1!N65),CSVデータ1!N65,0)+IF(ISNUMBER(CSVデータ2!N65),CSVデータ2!N65,0)+IF(ISNUMBER(CSVデータ3!N65),CSVデータ3!N65,0)+IF(ISNUMBER(CSVデータ4!N65),CSVデータ4!N65,0)","v":82},null,{"$f":"IF(ISNUMBER(CSVデータ1!P65),CSVデータ1!P65,0)+IF(ISNUMBER(CSVデータ2!P65),CSVデータ2!P65,0)+IF(ISNUMBER(CSVデータ3!P65),CSVデータ3!P65,0)+IF(ISNUMBER(CSVデータ4!P65),CSVデータ4!P65,0)","v":1822},null,{"$f":"IF(ISNUMBER(CSVデータ1!R65),CSVデータ1!R65,0)+IF(ISNUMBER(CSVデータ2!R65),CSVデータ2!R65,0)+IF(ISNUMBER(CSVデータ3!R65),CSVデータ3!R65,0)+IF(ISNUMBER(CSVデータ4!R65),CSVデータ4!R65,0)","v":5717},null,{"$f":"IF(ISNUMBER(CSVデータ1!T65),CSVデータ1!T65,0)+IF(ISNUMBER(CSVデータ2!T65),CSVデータ2!T65,0)+IF(ISNUMBER(CSVデータ3!T65),CSVデータ3!T65,0)+IF(ISNUMBER(CSVデータ4!T65),CSVデータ4!T65,0)","v":165},null,{"$f":"IF(ISNUMBER(CSVデータ1!V65),CSVデータ1!V65,0)+IF(ISNUMBER(CSVデータ2!V65),CSVデータ2!V65,0)+IF(ISNUMBER(CSVデータ3!V65),CSVデータ3!V65,0)+IF(ISNUMBER(CSVデータ4!V65),CSVデータ4!V65,0)","v":3877},null,{"$f":"IF(ISNUMBER(CSVデータ1!X65),CSVデータ1!X65,0)+IF(ISNUMBER(CSVデータ2!X65),CSVデータ2!X65,0)+IF(ISNUMBER(CSVデータ3!X65),CSVデータ3!X65,0)+IF(ISNUMBER(CSVデータ4!X65),CSVデータ4!X65,0)","v":1600},null,{"$f":"IF(ISNUMBER(CSVデータ1!Z65),CSVデータ1!Z65,0)+IF(ISNUMBER(CSVデータ2!Z65),CSVデータ2!Z65,0)+IF(ISNUMBER(CSVデータ3!Z65),CSVデータ3!Z65,0)+IF(ISNUMBER(CSVデータ4!Z65),CSVデータ4!Z65,0)","v":5189},null,{"$f":"IF(ISNUMBER(CSVデータ1!AB65),CSVデータ1!AB65,0)+IF(ISNUMBER(CSVデータ2!AB65),CSVデータ2!AB65,0)+IF(ISNUMBER(CSVデータ3!AB65),CSVデータ3!AB65,0)+IF(ISNUMBER(CSVデータ4!AB65),CSVデータ4!AB65,0)","v":22},null,{"$f":"IF(ISNUMBER(CSVデータ1!AD65),CSVデータ1!AD65,0)+IF(ISNUMBER(CSVデータ2!AD65),CSVデータ2!AD65,0)+IF(ISNUMBER(CSVデータ3!AD65),CSVデータ3!AD65,0)+IF(ISNUMBER(CSVデータ4!AD65),CSVデータ4!AD65,0)","v":1746},null,{"$f":"IF(ISNUMBER(CSVデータ1!AF65),CSVデータ1!AF65,0)+IF(ISNUMBER(CSVデータ2!AF65),CSVデータ2!AF65,0)+IF(ISNUMBER(CSVデータ3!AF65),CSVデータ3!AF65,0)+IF(ISNUMBER(CSVデータ4!AF65),CSVデータ4!AF65,0)","v":2226},null,{"$f":"IF(ISNUMBER(CSVデータ1!AH65),CSVデータ1!AH65,0)+IF(ISNUMBER(CSVデータ2!AH65),CSVデータ2!AH65,0)+IF(ISNUMBER(CSVデータ3!AH65),CSVデータ3!AH65,0)+IF(ISNUMBER(CSVデータ4!AH65),CSVデータ4!AH65,0)","v":148},null,{"$f":"IF(ISNUMBER(CSVデータ1!AJ65),CSVデータ1!AJ65,0)+IF(ISNUMBER(CSVデータ2!AJ65),CSVデータ2!AJ65,0)+IF(ISNUMBER(CSVデータ3!AJ65),CSVデータ3!AJ65,0)+IF(ISNUMBER(CSVデータ4!AJ65),CSVデータ4!AJ65,0)","v":710},null,{"$f":"IF(ISNUMBER(CSVデータ1!AL65),CSVデータ1!AL65,0)+IF(ISNUMBER(CSVデータ2!AL65),CSVデータ2!AL65,0)+IF(ISNUMBER(CSVデータ3!AL65),CSVデータ3!AL65,0)+IF(ISNUMBER(CSVデータ4!AL65),CSVデータ4!AL65,0)","v":1908},null,{"$f":"IF(ISNUMBER(CSVデータ1!AN65),CSVデータ1!AN65,0)+IF(ISNUMBER(CSVデータ2!AN65),CSVデータ2!AN65,0)+IF(ISNUMBER(CSVデータ3!AN65),CSVデータ3!AN65,0)+IF(ISNUMBER(CSVデータ4!AN65),CSVデータ4!AN65,0)","v":348}]
[{"$f":"CSVデータ1!A66","v":"明細部"},{"$f":"CSVデータ1!B66","v":"国"},{"$f":"CSVデータ1!C66","v":67},{"$f":"CSVデータ1!D66","v":"女"},{"$f":"IF(ISNUMBER(CSVデータ1!E66),CSVデータ1!E66,0)+IF(ISNUMBER(CSVデータ2!E66),CSVデータ2!E66,0)+IF(ISNUMBER(CSVデータ3!E66),CSVデータ3!E66,0)+IF(ISNUMBER(CSVデータ4!E66),CSVデータ4!E66,0)","v":9838},{"$f":"IF(ISNUMBER(CSVデータ1!F66),CSVデータ1!F66,0)+IF(ISNUMBER(CSVデータ2!F66),CSVデータ2!F66,0)+IF(ISNUMBER(CSVデータ3!F66),CSVデータ3!F66,0)+IF(ISNUMBER(CSVデータ4!F66),CSVデータ4!F66,0)","v":1940},null,{"$f":"IF(ISNUMBER(CSVデータ1!H66),CSVデータ1!H66,0)+IF(ISNUMBER(CSVデータ2!H66),CSVデータ2!H66,0)+IF(ISNUMBER(CSVデータ3!H66),CSVデータ3!H66,0)+IF(ISNUMBER(CSVデータ4!H66),CSVデータ4!H66,0)","v":1731},null,{"$f":"IF(ISNUMBER(CSVデータ1!J66),CSVデータ1!J66,0)+IF(ISNUMBER(CSVデータ2!J66),CSVデータ2!J66,0)+IF(ISNUMBER(CSVデータ3!J66),CSVデータ3!J66,0)+IF(ISNUMBER(CSVデータ4!J66),CSVデータ4!J66,0)","v":880},null,{"$f":"IF(ISNUMBER(CSVデータ1!L66),CSVデータ1!L66,0)+IF(ISNUMBER(CSVデータ2!L66),CSVデータ2!L66,0)+IF(ISNUMBER(CSVデータ3!L66),CSVデータ3!L66,0)+IF(ISNUMBER(CSVデータ4!L66),CSVデータ4!L66,0)","v":804},null,{"$f":"IF(ISNUMBER(CSVデータ1!N66),CSVデータ1!N66,0)+IF(ISNUMBER(CSVデータ2!N66),CSVデータ2!N66,0)+IF(ISNUMBER(CSVデータ3!N66),CSVデータ3!N66,0)+IF(ISNUMBER(CSVデータ4!N66),CSVデータ4!N66,0)","v":105},null,{"$f":"IF(ISNUMBER(CSVデータ1!P66),CSVデータ1!P66,0)+IF(ISNUMBER(CSVデータ2!P66),CSVデータ2!P66,0)+IF(ISNUMBER(CSVデータ3!P66),CSVデータ3!P66,0)+IF(ISNUMBER(CSVデータ4!P66),CSVデータ4!P66,0)","v":2007},null,{"$f":"IF(ISNUMBER(CSVデータ1!R66),CSVデータ1!R66,0)+IF(ISNUMBER(CSVデータ2!R66),CSVデータ2!R66,0)+IF(ISNUMBER(CSVデータ3!R66),CSVデータ3!R66,0)+IF(ISNUMBER(CSVデータ4!R66),CSVデータ4!R66,0)","v":6280},null,{"$f":"IF(ISNUMBER(CSVデータ1!T66),CSVデータ1!T66,0)+IF(ISNUMBER(CSVデータ2!T66),CSVデータ2!T66,0)+IF(ISNUMBER(CSVデータ3!T66),CSVデータ3!T66,0)+IF(ISNUMBER(CSVデータ4!T66),CSVデータ4!T66,0)","v":173},null,{"$f":"IF(ISNUMBER(CSVデータ1!V66),CSVデータ1!V66,0)+IF(ISNUMBER(CSVデータ2!V66),CSVデータ2!V66,0)+IF(ISNUMBER(CSVデータ3!V66),CSVデータ3!V66,0)+IF(ISNUMBER(CSVデータ4!V66),CSVデータ4!V66,0)","v":4272},null,{"$f":"IF(ISNUMBER(CSVデータ1!X66),CSVデータ1!X66,0)+IF(ISNUMBER(CSVデータ2!X66),CSVデータ2!X66,0)+IF(ISNUMBER(CSVデータ3!X66),CSVデータ3!X66,0)+IF(ISNUMBER(CSVデータ4!X66),CSVデータ4!X66,0)","v":1648},null,{"$f":"IF(ISNUMBER(CSVデータ1!Z66),CSVデータ1!Z66,0)+IF(ISNUMBER(CSVデータ2!Z66),CSVデータ2!Z66,0)+IF(ISNUMBER(CSVデータ3!Z66),CSVデータ3!Z66,0)+IF(ISNUMBER(CSVデータ4!Z66),CSVデータ4!Z66,0)","v":5569},null,{"$f":"IF(ISNUMBER(CSVデータ1!AB66),CSVデータ1!AB66,0)+IF(ISNUMBER(CSVデータ2!AB66),CSVデータ2!AB66,0)+IF(ISNUMBER(CSVデータ3!AB66),CSVデータ3!AB66,0)+IF(ISNUMBER(CSVデータ4!AB66),CSVデータ4!AB66,0)","v":22},null,{"$f":"IF(ISNUMBER(CSVデータ1!AD66),CSVデータ1!AD66,0)+IF(ISNUMBER(CSVデータ2!AD66),CSVデータ2!AD66,0)+IF(ISNUMBER(CSVデータ3!AD66),CSVデータ3!AD66,0)+IF(ISNUMBER(CSVデータ4!AD66),CSVデータ4!AD66,0)","v":1827},null,{"$f":"IF(ISNUMBER(CSVデータ1!AF66),CSVデータ1!AF66,0)+IF(ISNUMBER(CSVデータ2!AF66),CSVデータ2!AF66,0)+IF(ISNUMBER(CSVデータ3!AF66),CSVデータ3!AF66,0)+IF(ISNUMBER(CSVデータ4!AF66),CSVデータ4!AF66,0)","v":2307},null,{"$f":"IF(ISNUMBER(CSVデータ1!AH66),CSVデータ1!AH66,0)+IF(ISNUMBER(CSVデータ2!AH66),CSVデータ2!AH66,0)+IF(ISNUMBER(CSVデータ3!AH66),CSVデータ3!AH66,0)+IF(ISNUMBER(CSVデータ4!AH66),CSVデータ4!AH66,0)","v":138},null,{"$f":"IF(ISNUMBER(CSVデータ1!AJ66),CSVデータ1!AJ66,0)+IF(ISNUMBER(CSVデータ2!AJ66),CSVデータ2!AJ66,0)+IF(ISNUMBER(CSVデータ3!AJ66),CSVデータ3!AJ66,0)+IF(ISNUMBER(CSVデータ4!AJ66),CSVデータ4!AJ66,0)","v":665},null,{"$f":"IF(ISNUMBER(CSVデータ1!AL66),CSVデータ1!AL66,0)+IF(ISNUMBER(CSVデータ2!AL66),CSVデータ2!AL66,0)+IF(ISNUMBER(CSVデータ3!AL66),CSVデータ3!AL66,0)+IF(ISNUMBER(CSVデータ4!AL66),CSVデータ4!AL66,0)","v":2152},null,{"$f":"IF(ISNUMBER(CSVデータ1!AN66),CSVデータ1!AN66,0)+IF(ISNUMBER(CSVデータ2!AN66),CSVデータ2!AN66,0)+IF(ISNUMBER(CSVデータ3!AN66),CSVデータ3!AN66,0)+IF(ISNUMBER(CSVデータ4!AN66),CSVデータ4!AN66,0)","v":355}]
[{"$f":"CSVデータ1!A67","v":"明細部"},{"$f":"CSVデータ1!B67","v":"国"},{"$f":"CSVデータ1!C67","v":68},{"$f":"CSVデータ1!D67","v":"女"},{"$f":"IF(ISNUMBER(CSVデータ1!E67),CSVデータ1!E67,0)+IF(ISNUMBER(CSVデータ2!E67),CSVデータ2!E67,0)+IF(ISNUMBER(CSVデータ3!E67),CSVデータ3!E67,0)+IF(ISNUMBER(CSVデータ4!E67),CSVデータ4!E67,0)","v":11171},{"$f":"IF(ISNUMBER(CSVデータ1!F67),CSVデータ1!F67,0)+IF(ISNUMBER(CSVデータ2!F67),CSVデータ2!F67,0)+IF(ISNUMBER(CSVデータ3!F67),CSVデータ3!F67,0)+IF(ISNUMBER(CSVデータ4!F67),CSVデータ4!F67,0)","v":2317},null,{"$f":"IF(ISNUMBER(CSVデータ1!H67),CSVデータ1!H67,0)+IF(ISNUMBER(CSVデータ2!H67),CSVデータ2!H67,0)+IF(ISNUMBER(CSVデータ3!H67),CSVデータ3!H67,0)+IF(ISNUMBER(CSVデータ4!H67),CSVデータ4!H67,0)","v":2041},null,{"$f":"IF(ISNUMBER(CSVデータ1!J67),CSVデータ1!J67,0)+IF(ISNUMBER(CSVデータ2!J67),CSVデータ2!J67,0)+IF(ISNUMBER(CSVデータ3!J67),CSVデータ3!J67,0)+IF(ISNUMBER(CSVデータ4!J67),CSVデータ4!J67,0)","v":1074},null,{"$f":"IF(ISNUMBER(CSVデータ1!L67),CSVデータ1!L67,0)+IF(ISNUMBER(CSVデータ2!L67),CSVデータ2!L67,0)+IF(ISNUMBER(CSVデータ3!L67),CSVデータ3!L67,0)+IF(ISNUMBER(CSVデータ4!L67),CSVデータ4!L67,0)","v":877},null,{"$f":"IF(ISNUMBER(CSVデータ1!N67),CSVデータ1!N67,0)+IF(ISNUMBER(CSVデータ2!N67),CSVデータ2!N67,0)+IF(ISNUMBER(CSVデータ3!N67),CSVデータ3!N67,0)+IF(ISNUMBER(CSVデータ4!N67),CSVデータ4!N67,0)","v":108},null,{"$f":"IF(ISNUMBER(CSVデータ1!P67),CSVデータ1!P67,0)+IF(ISNUMBER(CSVデータ2!P67),CSVデータ2!P67,0)+IF(ISNUMBER(CSVデータ3!P67),CSVデータ3!P67,0)+IF(ISNUMBER(CSVデータ4!P67),CSVデータ4!P67,0)","v":2444},null,{"$f":"IF(ISNUMBER(CSVデータ1!R67),CSVデータ1!R67,0)+IF(ISNUMBER(CSVデータ2!R67),CSVデータ2!R67,0)+IF(ISNUMBER(CSVデータ3!R67),CSVデータ3!R67,0)+IF(ISNUMBER(CSVデータ4!R67),CSVデータ4!R67,0)","v":7347},null,{"$f":"IF(ISNUMBER(CSVデータ1!T67),CSVデータ1!T67,0)+IF(ISNUMBER(CSVデータ2!T67),CSVデータ2!T67,0)+IF(ISNUMBER(CSVデータ3!T67),CSVデータ3!T67,0)+IF(ISNUMBER(CSVデータ4!T67),CSVデータ4!T67,0)","v":201},null,{"$f":"IF(ISNUMBER(CSVデータ1!V67),CSVデータ1!V67,0)+IF(ISNUMBER(CSVデータ2!V67),CSVデータ2!V67,0)+IF(ISNUMBER(CSVデータ3!V67),CSVデータ3!V67,0)+IF(ISNUMBER(CSVデータ4!V67),CSVデータ4!V67,0)","v":5020},null,{"$f":"IF(ISNUMBER(CSVデータ1!X67),CSVデータ1!X67,0)+IF(ISNUMBER(CSVデータ2!X67),CSVデータ2!X67,0)+IF(ISNUMBER(CSVデータ3!X67),CSVデータ3!X67,0)+IF(ISNUMBER(CSVデータ4!X67),CSVデータ4!X67,0)","v":1919},null,{"$f":"IF(ISNUMBER(CSVデータ1!Z67),CSVデータ1!Z67,0)+IF(ISNUMBER(CSVデータ2!Z67),CSVデータ2!Z67,0)+IF(ISNUMBER(CSVデータ3!Z67),CSVデータ3!Z67,0)+IF(ISNUMBER(CSVデータ4!Z67),CSVデータ4!Z67,0)","v":6303},null,{"$f":"IF(ISNUMBER(CSVデータ1!AB67),CSVデータ1!AB67,0)+IF(ISNUMBER(CSVデータ2!AB67),CSVデータ2!AB67,0)+IF(ISNUMBER(CSVデータ3!AB67),CSVデータ3!AB67,0)+IF(ISNUMBER(CSVデータ4!AB67),CSVデータ4!AB67,0)","v":17},null,{"$f":"IF(ISNUMBER(CSVデータ1!AD67),CSVデータ1!AD67,0)+IF(ISNUMBER(CSVデータ2!AD67),CSVデータ2!AD67,0)+IF(ISNUMBER(CSVデータ3!AD67),CSVデータ3!AD67,0)+IF(ISNUMBER(CSVデータ4!AD67),CSVデータ4!AD67,0)","v":2224},null,{"$f":"IF(ISNUMBER(CSVデータ1!AF67),CSVデータ1!AF67,0)+IF(ISNUMBER(CSVデータ2!AF67),CSVデータ2!AF67,0)+IF(ISNUMBER(CSVデータ3!AF67),CSVデータ3!AF67,0)+IF(ISNUMBER(CSVデータ4!AF67),CSVデータ4!AF67,0)","v":2714},null,{"$f":"IF(ISNUMBER(CSVデータ1!AH67),CSVデータ1!AH67,0)+IF(ISNUMBER(CSVデータ2!AH67),CSVデータ2!AH67,0)+IF(ISNUMBER(CSVデータ3!AH67),CSVデータ3!AH67,0)+IF(ISNUMBER(CSVデータ4!AH67),CSVデータ4!AH67,0)","v":203},null,{"$f":"IF(ISNUMBER(CSVデータ1!AJ67),CSVデータ1!AJ67,0)+IF(ISNUMBER(CSVデータ2!AJ67),CSVデータ2!AJ67,0)+IF(ISNUMBER(CSVデータ3!AJ67),CSVデータ3!AJ67,0)+IF(ISNUMBER(CSVデータ4!AJ67),CSVデータ4!AJ67,0)","v":821},null,{"$f":"IF(ISNUMBER(CSVデータ1!AL67),CSVデータ1!AL67,0)+IF(ISNUMBER(CSVデータ2!AL67),CSVデータ2!AL67,0)+IF(ISNUMBER(CSVデータ3!AL67),CSVデータ3!AL67,0)+IF(ISNUMBER(CSVデータ4!AL67),CSVデータ4!AL67,0)","v":2524},null,{"$f":"IF(ISNUMBER(CSVデータ1!AN67),CSVデータ1!AN67,0)+IF(ISNUMBER(CSVデータ2!AN67),CSVデータ2!AN67,0)+IF(ISNUMBER(CSVデータ3!AN67),CSVデータ3!AN67,0)+IF(ISNUMBER(CSVデータ4!AN67),CSVデータ4!AN67,0)","v":379}]
[{"$f":"CSVデータ1!A68","v":"明細部"},{"$f":"CSVデータ1!B68","v":"国"},{"$f":"CSVデータ1!C68","v":69},{"$f":"CSVデータ1!D68","v":"女"},{"$f":"IF(ISNUMBER(CSVデータ1!E68),CSVデータ1!E68,0)+IF(ISNUMBER(CSVデータ2!E68),CSVデータ2!E68,0)+IF(ISNUMBER(CSVデータ3!E68),CSVデータ3!E68,0)+IF(ISNUMBER(CSVデータ4!E68),CSVデータ4!E68,0)","v":12721},{"$f":"IF(ISNUMBER(CSVデータ1!F68),CSVデータ1!F68,0)+IF(ISNUMBER(CSVデータ2!F68),CSVデータ2!F68,0)+IF(ISNUMBER(CSVデータ3!F68),CSVデータ3!F68,0)+IF(ISNUMBER(CSVデータ4!F68),CSVデータ4!F68,0)","v":2633},null,{"$f":"IF(ISNUMBER(CSVデータ1!H68),CSVデータ1!H68,0)+IF(ISNUMBER(CSVデータ2!H68),CSVデータ2!H68,0)+IF(ISNUMBER(CSVデータ3!H68),CSVデータ3!H68,0)+IF(ISNUMBER(CSVデータ4!H68),CSVデータ4!H68,0)","v":2321},null,{"$f":"IF(ISNUMBER(CSVデータ1!J68),CSVデータ1!J68,0)+IF(ISNUMBER(CSVデータ2!J68),CSVデータ2!J68,0)+IF(ISNUMBER(CSVデータ3!J68),CSVデータ3!J68,0)+IF(ISNUMBER(CSVデータ4!J68),CSVデータ4!J68,0)","v":1207},null,{"$f":"IF(ISNUMBER(CSVデータ1!L68),CSVデータ1!L68,0)+IF(ISNUMBER(CSVデータ2!L68),CSVデータ2!L68,0)+IF(ISNUMBER(CSVデータ3!L68),CSVデータ3!L68,0)+IF(ISNUMBER(CSVデータ4!L68),CSVデータ4!L68,0)","v":966},null,{"$f":"IF(ISNUMBER(CSVデータ1!N68),CSVデータ1!N68,0)+IF(ISNUMBER(CSVデータ2!N68),CSVデータ2!N68,0)+IF(ISNUMBER(CSVデータ3!N68),CSVデータ3!N68,0)+IF(ISNUMBER(CSVデータ4!N68),CSVデータ4!N68,0)","v":158},null,{"$f":"IF(ISNUMBER(CSVデータ1!P68),CSVデータ1!P68,0)+IF(ISNUMBER(CSVデータ2!P68),CSVデータ2!P68,0)+IF(ISNUMBER(CSVデータ3!P68),CSVデータ3!P68,0)+IF(ISNUMBER(CSVデータ4!P68),CSVデータ4!P68,0)","v":2715},null,{"$f":"IF(ISNUMBER(CSVデータ1!R68),CSVデータ1!R68,0)+IF(ISNUMBER(CSVデータ2!R68),CSVデータ2!R68,0)+IF(ISNUMBER(CSVデータ3!R68),CSVデータ3!R68,0)+IF(ISNUMBER(CSVデータ4!R68),CSVデータ4!R68,0)","v":8388},null,{"$f":"IF(ISNUMBER(CSVデータ1!T68),CSVデータ1!T68,0)+IF(ISNUMBER(CSVデータ2!T68),CSVデータ2!T68,0)+IF(ISNUMBER(CSVデータ3!T68),CSVデータ3!T68,0)+IF(ISNUMBER(CSVデータ4!T68),CSVデータ4!T68,0)","v":252},null,{"$f":"IF(ISNUMBER(CSVデータ1!V68),CSVデータ1!V68,0)+IF(ISNUMBER(CSVデータ2!V68),CSVデータ2!V68,0)+IF(ISNUMBER(CSVデータ3!V68),CSVデータ3!V68,0)+IF(ISNUMBER(CSVデータ4!V68),CSVデータ4!V68,0)","v":6224},null,{"$f":"IF(ISNUMBER(CSVデータ1!X68),CSVデータ1!X68,0)+IF(ISNUMBER(CSVデータ2!X68),CSVデータ2!X68,0)+IF(ISNUMBER(CSVデータ3!X68),CSVデータ3!X68,0)+IF(ISNUMBER(CSVデータ4!X68),CSVデータ4!X68,0)","v":2142},null,{"$f":"IF(ISNUMBER(CSVデータ1!Z68),CSVデータ1!Z68,0)+IF(ISNUMBER(CSVデータ2!Z68),CSVデータ2!Z68,0)+IF(ISNUMBER(CSVデータ3!Z68),CSVデータ3!Z68,0)+IF(ISNUMBER(CSVデータ4!Z68),CSVデータ4!Z68,0)","v":7194},null,{"$f":"IF(ISNUMBER(CSVデータ1!AB68),CSVデータ1!AB68,0)+IF(ISNUMBER(CSVデータ2!AB68),CSVデータ2!AB68,0)+IF(ISNUMBER(CSVデータ3!AB68),CSVデータ3!AB68,0)+IF(ISNUMBER(CSVデータ4!AB68),CSVデータ4!AB68,0)","v":44},null,{"$f":"IF(ISNUMBER(CSVデータ1!AD68),CSVデータ1!AD68,0)+IF(ISNUMBER(CSVデータ2!AD68),CSVデータ2!AD68,0)+IF(ISNUMBER(CSVデータ3!AD68),CSVデータ3!AD68,0)+IF(ISNUMBER(CSVデータ4!AD68),CSVデータ4!AD68,0)","v":2567},null,{"$f":"IF(ISNUMBER(CSVデータ1!AF68),CSVデータ1!AF68,0)+IF(ISNUMBER(CSVデータ2!AF68),CSVデータ2!AF68,0)+IF(ISNUMBER(CSVデータ3!AF68),CSVデータ3!AF68,0)+IF(ISNUMBER(CSVデータ4!AF68),CSVデータ4!AF68,0)","v":3114},null,{"$f":"IF(ISNUMBER(CSVデータ1!AH68),CSVデータ1!AH68,0)+IF(ISNUMBER(CSVデータ2!AH68),CSVデータ2!AH68,0)+IF(ISNUMBER(CSVデータ3!AH68),CSVデータ3!AH68,0)+IF(ISNUMBER(CSVデータ4!AH68),CSVデータ4!AH68,0)","v":261},null,{"$f":"IF(ISNUMBER(CSVデータ1!AJ68),CSVデータ1!AJ68,0)+IF(ISNUMBER(CSVデータ2!AJ68),CSVデータ2!AJ68,0)+IF(ISNUMBER(CSVデータ3!AJ68),CSVデータ3!AJ68,0)+IF(ISNUMBER(CSVデータ4!AJ68),CSVデータ4!AJ68,0)","v":842},null,{"$f":"IF(ISNUMBER(CSVデータ1!AL68),CSVデータ1!AL68,0)+IF(ISNUMBER(CSVデータ2!AL68),CSVデータ2!AL68,0)+IF(ISNUMBER(CSVデータ3!AL68),CSVデータ3!AL68,0)+IF(ISNUMBER(CSVデータ4!AL68),CSVデータ4!AL68,0)","v":2998},null,{"$f":"IF(ISNUMBER(CSVデータ1!AN68),CSVデータ1!AN68,0)+IF(ISNUMBER(CSVデータ2!AN68),CSVデータ2!AN68,0)+IF(ISNUMBER(CSVデータ3!AN68),CSVデータ3!AN68,0)+IF(ISNUMBER(CSVデータ4!AN68),CSVデータ4!AN68,0)","v":520}]
[{"$f":"CSVデータ1!A69","v":"明細部"},{"$f":"CSVデータ1!B69","v":"国"},{"$f":"CSVデータ1!C69","v":70},{"$f":"CSVデータ1!D69","v":"女"},{"$f":"IF(ISNUMBER(CSVデータ1!E69),CSVデータ1!E69,0)+IF(ISNUMBER(CSVデータ2!E69),CSVデータ2!E69,0)+IF(ISNUMBER(CSVデータ3!E69),CSVデータ3!E69,0)+IF(ISNUMBER(CSVデータ4!E69),CSVデータ4!E69,0)","v":14146},{"$f":"IF(ISNUMBER(CSVデータ1!F69),CSVデータ1!F69,0)+IF(ISNUMBER(CSVデータ2!F69),CSVデータ2!F69,0)+IF(ISNUMBER(CSVデータ3!F69),CSVデータ3!F69,0)+IF(ISNUMBER(CSVデータ4!F69),CSVデータ4!F69,0)","v":2979},null,{"$f":"IF(ISNUMBER(CSVデータ1!H69),CSVデータ1!H69,0)+IF(ISNUMBER(CSVデータ2!H69),CSVデータ2!H69,0)+IF(ISNUMBER(CSVデータ3!H69),CSVデータ3!H69,0)+IF(ISNUMBER(CSVデータ4!H69),CSVデータ4!H69,0)","v":2566},null,{"$f":"IF(ISNUMBER(CSVデータ1!J69),CSVデータ1!J69,0)+IF(ISNUMBER(CSVデータ2!J69),CSVデータ2!J69,0)+IF(ISNUMBER(CSVデータ3!J69),CSVデータ3!J69,0)+IF(ISNUMBER(CSVデータ4!J69),CSVデータ4!J69,0)","v":1268},null,{"$f":"IF(ISNUMBER(CSVデータ1!L69),CSVデータ1!L69,0)+IF(ISNUMBER(CSVデータ2!L69),CSVデータ2!L69,0)+IF(ISNUMBER(CSVデータ3!L69),CSVデータ3!L69,0)+IF(ISNUMBER(CSVデータ4!L69),CSVデータ4!L69,0)","v":1047},null,{"$f":"IF(ISNUMBER(CSVデータ1!N69),CSVデータ1!N69,0)+IF(ISNUMBER(CSVデータ2!N69),CSVデータ2!N69,0)+IF(ISNUMBER(CSVデータ3!N69),CSVデータ3!N69,0)+IF(ISNUMBER(CSVデータ4!N69),CSVデータ4!N69,0)","v":135},null,{"$f":"IF(ISNUMBER(CSVデータ1!P69),CSVデータ1!P69,0)+IF(ISNUMBER(CSVデータ2!P69),CSVデータ2!P69,0)+IF(ISNUMBER(CSVデータ3!P69),CSVデータ3!P69,0)+IF(ISNUMBER(CSVデータ4!P69),CSVデータ4!P69,0)","v":3088},null,{"$f":"IF(ISNUMBER(CSVデータ1!R69),CSVデータ1!R69,0)+IF(ISNUMBER(CSVデータ2!R69),CSVデータ2!R69,0)+IF(ISNUMBER(CSVデータ3!R69),CSVデータ3!R69,0)+IF(ISNUMBER(CSVデータ4!R69),CSVデータ4!R69,0)","v":9457},null,{"$f":"IF(ISNUMBER(CSVデータ1!T69),CSVデータ1!T69,0)+IF(ISNUMBER(CSVデータ2!T69),CSVデータ2!T69,0)+IF(ISNUMBER(CSVデータ3!T69),CSVデータ3!T69,0)+IF(ISNUMBER(CSVデータ4!T69),CSVデータ4!T69,0)","v":234},null,{"$f":"IF(ISNUMBER(CSVデータ1!V69),CSVデータ1!V69,0)+IF(ISNUMBER(CSVデータ2!V69),CSVデータ2!V69,0)+IF(ISNUMBER(CSVデータ3!V69),CSVデータ3!V69,0)+IF(ISNUMBER(CSVデータ4!V69),CSVデータ4!V69,0)","v":6851},null,{"$f":"IF(ISNUMBER(CSVデータ1!X69),CSVデータ1!X69,0)+IF(ISNUMBER(CSVデータ2!X69),CSVデータ2!X69,0)+IF(ISNUMBER(CSVデータ3!X69),CSVデータ3!X69,0)+IF(ISNUMBER(CSVデータ4!X69),CSVデータ4!X69,0)","v":2332},null,{"$f":"IF(ISNUMBER(CSVデータ1!Z69),CSVデータ1!Z69,0)+IF(ISNUMBER(CSVデータ2!Z69),CSVデータ2!Z69,0)+IF(ISNUMBER(CSVデータ3!Z69),CSVデータ3!Z69,0)+IF(ISNUMBER(CSVデータ4!Z69),CSVデータ4!Z69,0)","v":7732},null,{"$f":"IF(ISNUMBER(CSVデータ1!AB69),CSVデータ1!AB69,0)+IF(ISNUMBER(CSVデータ2!AB69),CSVデータ2!AB69,0)+IF(ISNUMBER(CSVデータ3!AB69),CSVデータ3!AB69,0)+IF(ISNUMBER(CSVデータ4!AB69),CSVデータ4!AB69,0)","v":37},null,{"$f":"IF(ISNUMBER(CSVデータ1!AD69),CSVデータ1!AD69,0)+IF(ISNUMBER(CSVデータ2!AD69),CSVデータ2!AD69,0)+IF(ISNUMBER(CSVデータ3!AD69),CSVデータ3!AD69,0)+IF(ISNUMBER(CSVデータ4!AD69),CSVデータ4!AD69,0)","v":2881},null,{"$f":"IF(ISNUMBER(CSVデータ1!AF69),CSVデータ1!AF69,0)+IF(ISNUMBER(CSVデータ2!AF69),CSVデータ2!AF69,0)+IF(ISNUMBER(CSVデータ3!AF69),CSVデータ3!AF69,0)+IF(ISNUMBER(CSVデータ4!AF69),CSVデータ4!AF69,0)","v":3346},null,{"$f":"IF(ISNUMBER(CSVデータ1!AH69),CSVデータ1!AH69,0)+IF(ISNUMBER(CSVデータ2!AH69),CSVデータ2!AH69,0)+IF(ISNUMBER(CSVデータ3!AH69),CSVデータ3!AH69,0)+IF(ISNUMBER(CSVデータ4!AH69),CSVデータ4!AH69,0)","v":284},null,{"$f":"IF(ISNUMBER(CSVデータ1!AJ69),CSVデータ1!AJ69,0)+IF(ISNUMBER(CSVデータ2!AJ69),CSVデータ2!AJ69,0)+IF(ISNUMBER(CSVデータ3!AJ69),CSVデータ3!AJ69,0)+IF(ISNUMBER(CSVデータ4!AJ69),CSVデータ4!AJ69,0)","v":974},null,{"$f":"IF(ISNUMBER(CSVデータ1!AL69),CSVデータ1!AL69,0)+IF(ISNUMBER(CSVデータ2!AL69),CSVデータ2!AL69,0)+IF(ISNUMBER(CSVデータ3!AL69),CSVデータ3!AL69,0)+IF(ISNUMBER(CSVデータ4!AL69),CSVデータ4!AL69,0)","v":3510},null,{"$f":"IF(ISNUMBER(CSVデータ1!AN69),CSVデータ1!AN69,0)+IF(ISNUMBER(CSVデータ2!AN69),CSVデータ2!AN69,0)+IF(ISNUMBER(CSVデータ3!AN69),CSVデータ3!AN69,0)+IF(ISNUMBER(CSVデータ4!AN69),CSVデータ4!AN69,0)","v":560}]
[{"$f":"CSVデータ1!A70","v":"明細部"},{"$f":"CSVデータ1!B70","v":"国"},{"$f":"CSVデータ1!C70","v":71},{"$f":"CSVデータ1!D70","v":"女"},{"$f":"IF(ISNUMBER(CSVデータ1!E70),CSVデータ1!E70,0)+IF(ISNUMBER(CSVデータ2!E70),CSVデータ2!E70,0)+IF(ISNUMBER(CSVデータ3!E70),CSVデータ3!E70,0)+IF(ISNUMBER(CSVデータ4!E70),CSVデータ4!E70,0)","v":15419},{"$f":"IF(ISNUMBER(CSVデータ1!F70),CSVデータ1!F70,0)+IF(ISNUMBER(CSVデータ2!F70),CSVデータ2!F70,0)+IF(ISNUMBER(CSVデータ3!F70),CSVデータ3!F70,0)+IF(ISNUMBER(CSVデータ4!F70),CSVデータ4!F70,0)","v":3263},null,{"$f":"IF(ISNUMBER(CSVデータ1!H70),CSVデータ1!H70,0)+IF(ISNUMBER(CSVデータ2!H70),CSVデータ2!H70,0)+IF(ISNUMBER(CSVデータ3!H70),CSVデータ3!H70,0)+IF(ISNUMBER(CSVデータ4!H70),CSVデータ4!H70,0)","v":2963},null,{"$f":"IF(ISNUMBER(CSVデータ1!J70),CSVデータ1!J70,0)+IF(ISNUMBER(CSVデータ2!J70),CSVデータ2!J70,0)+IF(ISNUMBER(CSVデータ3!J70),CSVデータ3!J70,0)+IF(ISNUMBER(CSVデータ4!J70),CSVデータ4!J70,0)","v":1367},null,{"$f":"IF(ISNUMBER(CSVデータ1!L70),CSVデータ1!L70,0)+IF(ISNUMBER(CSVデータ2!L70),CSVデータ2!L70,0)+IF(ISNUMBER(CSVデータ3!L70),CSVデータ3!L70,0)+IF(ISNUMBER(CSVデータ4!L70),CSVデータ4!L70,0)","v":1066},null,{"$f":"IF(ISNUMBER(CSVデータ1!N70),CSVデータ1!N70,0)+IF(ISNUMBER(CSVデータ2!N70),CSVデータ2!N70,0)+IF(ISNUMBER(CSVデータ3!N70),CSVデータ3!N70,0)+IF(ISNUMBER(CSVデータ4!N70),CSVデータ4!N70,0)","v":153},null,{"$f":"IF(ISNUMBER(CSVデータ1!P70),CSVデータ1!P70,0)+IF(ISNUMBER(CSVデータ2!P70),CSVデータ2!P70,0)+IF(ISNUMBER(CSVデータ3!P70),CSVデータ3!P70,0)+IF(ISNUMBER(CSVデータ4!P70),CSVデータ4!P70,0)","v":3534},null,{"$f":"IF(ISNUMBER(CSVデータ1!R70),CSVデータ1!R70,0)+IF(ISNUMBER(CSVデータ2!R70),CSVデータ2!R70,0)+IF(ISNUMBER(CSVデータ3!R70),CSVデータ3!R70,0)+IF(ISNUMBER(CSVデータ4!R70),CSVデータ4!R70,0)","v":10173},null,{"$f":"IF(ISNUMBER(CSVデータ1!T70),CSVデータ1!T70,0)+IF(ISNUMBER(CSVデータ2!T70),CSVデータ2!T70,0)+IF(ISNUMBER(CSVデータ3!T70),CSVデータ3!T70,0)+IF(ISNUMBER(CSVデータ4!T70),CSVデータ4!T70,0)","v":281},null,{"$f":"IF(ISNUMBER(CSVデータ1!V70),CSVデータ1!V70,0)+IF(ISNUMBER(CSVデータ2!V70),CSVデータ2!V70,0)+IF(ISNUMBER(CSVデータ3!V70),CSVデータ3!V70,0)+IF(ISNUMBER(CSVデータ4!V70),CSVデータ4!V70,0)","v":7954},null,{"$f":"IF(ISNUMBER(CSVデータ1!X70),CSVデータ1!X70,0)+IF(ISNUMBER(CSVデータ2!X70),CSVデータ2!X70,0)+IF(ISNUMBER(CSVデータ3!X70),CSVデータ3!X70,0)+IF(ISNUMBER(CSVデータ4!X70),CSVデータ4!X70,0)","v":2516},null,{"$f":"IF(ISNUMBER(CSVデータ1!Z70),CSVデータ1!Z70,0)+IF(ISNUMBER(CSVデータ2!Z70),CSVデータ2!Z70,0)+IF(ISNUMBER(CSVデータ3!Z70),CSVデータ3!Z70,0)+IF(ISNUMBER(CSVデータ4!Z70),CSVデータ4!Z70,0)","v":8296},null,{"$f":"IF(ISNUMBER(CSVデータ1!AB70),CSVデータ1!AB70,0)+IF(ISNUMBER(CSVデータ2!AB70),CSVデータ2!AB70,0)+IF(ISNUMBER(CSVデータ3!AB70),CSVデータ3!AB70,0)+IF(ISNUMBER(CSVデータ4!AB70),CSVデータ4!AB70,0)","v":60},null,{"$f":"IF(ISNUMBER(CSVデータ1!AD70),CSVデータ1!AD70,0)+IF(ISNUMBER(CSVデータ2!AD70),CSVデータ2!AD70,0)+IF(ISNUMBER(CSVデータ3!AD70),CSVデータ3!AD70,0)+IF(ISNUMBER(CSVデータ4!AD70),CSVデータ4!AD70,0)","v":3230},null,{"$f":"IF(ISNUMBER(CSVデータ1!AF70),CSVデータ1!AF70,0)+IF(ISNUMBER(CSVデータ2!AF70),CSVデータ2!AF70,0)+IF(ISNUMBER(CSVデータ3!AF70),CSVデータ3!AF70,0)+IF(ISNUMBER(CSVデータ4!AF70),CSVデータ4!AF70,0)","v":3556},null,{"$f":"IF(ISNUMBER(CSVデータ1!AH70),CSVデータ1!AH70,0)+IF(ISNUMBER(CSVデータ2!AH70),CSVデータ2!AH70,0)+IF(ISNUMBER(CSVデータ3!AH70),CSVデータ3!AH70,0)+IF(ISNUMBER(CSVデータ4!AH70),CSVデータ4!AH70,0)","v":356},null,{"$f":"IF(ISNUMBER(CSVデータ1!AJ70),CSVデータ1!AJ70,0)+IF(ISNUMBER(CSVデータ2!AJ70),CSVデータ2!AJ70,0)+IF(ISNUMBER(CSVデータ3!AJ70),CSVデータ3!AJ70,0)+IF(ISNUMBER(CSVデータ4!AJ70),CSVデータ4!AJ70,0)","v":947},null,{"$f":"IF(ISNUMBER(CSVデータ1!AL70),CSVデータ1!AL70,0)+IF(ISNUMBER(CSVデータ2!AL70),CSVデータ2!AL70,0)+IF(ISNUMBER(CSVデータ3!AL70),CSVデータ3!AL70,0)+IF(ISNUMBER(CSVデータ4!AL70),CSVデータ4!AL70,0)","v":4121},null,{"$f":"IF(ISNUMBER(CSVデータ1!AN70),CSVデータ1!AN70,0)+IF(ISNUMBER(CSVデータ2!AN70),CSVデータ2!AN70,0)+IF(ISNUMBER(CSVデータ3!AN70),CSVデータ3!AN70,0)+IF(ISNUMBER(CSVデータ4!AN70),CSVデータ4!AN70,0)","v":643}]
[{"$f":"CSVデータ1!A71","v":"明細部"},{"$f":"CSVデータ1!B71","v":"国"},{"$f":"CSVデータ1!C71","v":72},{"$f":"CSVデータ1!D71","v":"女"},{"$f":"IF(ISNUMBER(CSVデータ1!E71),CSVデータ1!E71,0)+IF(ISNUMBER(CSVデータ2!E71),CSVデータ2!E71,0)+IF(ISNUMBER(CSVデータ3!E71),CSVデータ3!E71,0)+IF(ISNUMBER(CSVデータ4!E71),CSVデータ4!E71,0)","v":17175},{"$f":"IF(ISNUMBER(CSVデータ1!F71),CSVデータ1!F71,0)+IF(ISNUMBER(CSVデータ2!F71),CSVデータ2!F71,0)+IF(ISNUMBER(CSVデータ3!F71),CSVデータ3!F71,0)+IF(ISNUMBER(CSVデータ4!F71),CSVデータ4!F71,0)","v":3659},null,{"$f":"IF(ISNUMBER(CSVデータ1!H71),CSVデータ1!H71,0)+IF(ISNUMBER(CSVデータ2!H71),CSVデータ2!H71,0)+IF(ISNUMBER(CSVデータ3!H71),CSVデータ3!H71,0)+IF(ISNUMBER(CSVデータ4!H71),CSVデータ4!H71,0)","v":3239},null,{"$f":"IF(ISNUMBER(CSVデータ1!J71),CSVデータ1!J71,0)+IF(ISNUMBER(CSVデータ2!J71),CSVデータ2!J71,0)+IF(ISNUMBER(CSVデータ3!J71),CSVデータ3!J71,0)+IF(ISNUMBER(CSVデータ4!J71),CSVデータ4!J71,0)","v":1505},null,{"$f":"IF(ISNUMBER(CSVデータ1!L71),CSVデータ1!L71,0)+IF(ISNUMBER(CSVデータ2!L71),CSVデータ2!L71,0)+IF(ISNUMBER(CSVデータ3!L71),CSVデータ3!L71,0)+IF(ISNUMBER(CSVデータ4!L71),CSVデータ4!L71,0)","v":1202},null,{"$f":"IF(ISNUMBER(CSVデータ1!N71),CSVデータ1!N71,0)+IF(ISNUMBER(CSVデータ2!N71),CSVデータ2!N71,0)+IF(ISNUMBER(CSVデータ3!N71),CSVデータ3!N71,0)+IF(ISNUMBER(CSVデータ4!N71),CSVデータ4!N71,0)","v":179},null,{"$f":"IF(ISNUMBER(CSVデータ1!P71),CSVデータ1!P71,0)+IF(ISNUMBER(CSVデータ2!P71),CSVデータ2!P71,0)+IF(ISNUMBER(CSVデータ3!P71),CSVデータ3!P71,0)+IF(ISNUMBER(CSVデータ4!P71),CSVデータ4!P71,0)","v":3962},null,{"$f":"IF(ISNUMBER(CSVデータ1!R71),CSVデータ1!R71,0)+IF(ISNUMBER(CSVデータ2!R71),CSVデータ2!R71,0)+IF(ISNUMBER(CSVデータ3!R71),CSVデータ3!R71,0)+IF(ISNUMBER(CSVデータ4!R71),CSVデータ4!R71,0)","v":11656},null,{"$f":"IF(ISNUMBER(CSVデータ1!T71),CSVデータ1!T71,0)+IF(ISNUMBER(CSVデータ2!T71),CSVデータ2!T71,0)+IF(ISNUMBER(CSVデータ3!T71),CSVデータ3!T71,0)+IF(ISNUMBER(CSVデータ4!T71),CSVデータ4!T71,0)","v":313},null,{"$f":"IF(ISNUMBER(CSVデータ1!V71),CSVデータ1!V71,0)+IF(ISNUMBER(CSVデータ2!V71),CSVデータ2!V71,0)+IF(ISNUMBER(CSVデータ3!V71),CSVデータ3!V71,0)+IF(ISNUMBER(CSVデータ4!V71),CSVデータ4!V71,0)","v":8781},null,{"$f":"IF(ISNUMBER(CSVデータ1!X71),CSVデータ1!X71,0)+IF(ISNUMBER(CSVデータ2!X71),CSVデータ2!X71,0)+IF(ISNUMBER(CSVデータ3!X71),CSVデータ3!X71,0)+IF(ISNUMBER(CSVデータ4!X71),CSVデータ4!X71,0)","v":2651},null,{"$f":"IF(ISNUMBER(CSVデータ1!Z71),CSVデータ1!Z71,0)+IF(ISNUMBER(CSVデータ2!Z71),CSVデータ2!Z71,0)+IF(ISNUMBER(CSVデータ3!Z71),CSVデータ3!Z71,0)+IF(ISNUMBER(CSVデータ4!Z71),CSVデータ4!Z71,0)","v":9146},null,{"$f":"IF(ISNUMBER(CSVデータ1!AB71),CSVデータ1!AB71,0)+IF(ISNUMBER(CSVデータ2!AB71),CSVデータ2!AB71,0)+IF(ISNUMBER(CSVデータ3!AB71),CSVデータ3!AB71,0)+IF(ISNUMBER(CSVデータ4!AB71),CSVデータ4!AB71,0)","v":52},null,{"$f":"IF(ISNUMBER(CSVデータ1!AD71),CSVデータ1!AD71,0)+IF(ISNUMBER(CSVデータ2!AD71),CSVデータ2!AD71,0)+IF(ISNUMBER(CSVデータ3!AD71),CSVデータ3!AD71,0)+IF(ISNUMBER(CSVデータ4!AD71),CSVデータ4!AD71,0)","v":3683},null,{"$f":"IF(ISNUMBER(CSVデータ1!AF71),CSVデータ1!AF71,0)+IF(ISNUMBER(CSVデータ2!AF71),CSVデータ2!AF71,0)+IF(ISNUMBER(CSVデータ3!AF71),CSVデータ3!AF71,0)+IF(ISNUMBER(CSVデータ4!AF71),CSVデータ4!AF71,0)","v":3796},null,{"$f":"IF(ISNUMBER(CSVデータ1!AH71),CSVデータ1!AH71,0)+IF(ISNUMBER(CSVデータ2!AH71),CSVデータ2!AH71,0)+IF(ISNUMBER(CSVデータ3!AH71),CSVデータ3!AH71,0)+IF(ISNUMBER(CSVデータ4!AH71),CSVデータ4!AH71,0)","v":373},null,{"$f":"IF(ISNUMBER(CSVデータ1!AJ71),CSVデータ1!AJ71,0)+IF(ISNUMBER(CSVデータ2!AJ71),CSVデータ2!AJ71,0)+IF(ISNUMBER(CSVデータ3!AJ71),CSVデータ3!AJ71,0)+IF(ISNUMBER(CSVデータ4!AJ71),CSVデータ4!AJ71,0)","v":1121},null,{"$f":"IF(ISNUMBER(CSVデータ1!AL71),CSVデータ1!AL71,0)+IF(ISNUMBER(CSVデータ2!AL71),CSVデータ2!AL71,0)+IF(ISNUMBER(CSVデータ3!AL71),CSVデータ3!AL71,0)+IF(ISNUMBER(CSVデータ4!AL71),CSVデータ4!AL71,0)","v":4735},null,{"$f":"IF(ISNUMBER(CSVデータ1!AN71),CSVデータ1!AN71,0)+IF(ISNUMBER(CSVデータ2!AN71),CSVデータ2!AN71,0)+IF(ISNUMBER(CSVデータ3!AN71),CSVデータ3!AN71,0)+IF(ISNUMBER(CSVデータ4!AN71),CSVデータ4!AN71,0)","v":672}]
[{"$f":"CSVデータ1!A72","v":"明細部"},{"$f":"CSVデータ1!B72","v":"国"},{"$f":"CSVデータ1!C72","v":73},{"$f":"CSVデータ1!D72","v":"女"},{"$f":"IF(ISNUMBER(CSVデータ1!E72),CSVデータ1!E72,0)+IF(ISNUMBER(CSVデータ2!E72),CSVデータ2!E72,0)+IF(ISNUMBER(CSVデータ3!E72),CSVデータ3!E72,0)+IF(ISNUMBER(CSVデータ4!E72),CSVデータ4!E72,0)","v":18738},{"$f":"IF(ISNUMBER(CSVデータ1!F72),CSVデータ1!F72,0)+IF(ISNUMBER(CSVデータ2!F72),CSVデータ2!F72,0)+IF(ISNUMBER(CSVデータ3!F72),CSVデータ3!F72,0)+IF(ISNUMBER(CSVデータ4!F72),CSVデータ4!F72,0)","v":3882},null,{"$f":"IF(ISNUMBER(CSVデータ1!H72),CSVデータ1!H72,0)+IF(ISNUMBER(CSVデータ2!H72),CSVデータ2!H72,0)+IF(ISNUMBER(CSVデータ3!H72),CSVデータ3!H72,0)+IF(ISNUMBER(CSVデータ4!H72),CSVデータ4!H72,0)","v":3494},null,{"$f":"IF(ISNUMBER(CSVデータ1!J72),CSVデータ1!J72,0)+IF(ISNUMBER(CSVデータ2!J72),CSVデータ2!J72,0)+IF(ISNUMBER(CSVデータ3!J72),CSVデータ3!J72,0)+IF(ISNUMBER(CSVデータ4!J72),CSVデータ4!J72,0)","v":1693},null,{"$f":"IF(ISNUMBER(CSVデータ1!L72),CSVデータ1!L72,0)+IF(ISNUMBER(CSVデータ2!L72),CSVデータ2!L72,0)+IF(ISNUMBER(CSVデータ3!L72),CSVデータ3!L72,0)+IF(ISNUMBER(CSVデータ4!L72),CSVデータ4!L72,0)","v":1197},null,{"$f":"IF(ISNUMBER(CSVデータ1!N72),CSVデータ1!N72,0)+IF(ISNUMBER(CSVデータ2!N72),CSVデータ2!N72,0)+IF(ISNUMBER(CSVデータ3!N72),CSVデータ3!N72,0)+IF(ISNUMBER(CSVデータ4!N72),CSVデータ4!N72,0)","v":201},null,{"$f":"IF(ISNUMBER(CSVデータ1!P72),CSVデータ1!P72,0)+IF(ISNUMBER(CSVデータ2!P72),CSVデータ2!P72,0)+IF(ISNUMBER(CSVデータ3!P72),CSVデータ3!P72,0)+IF(ISNUMBER(CSVデータ4!P72),CSVデータ4!P72,0)","v":4275},null,{"$f":"IF(ISNUMBER(CSVデータ1!R72),CSVデータ1!R72,0)+IF(ISNUMBER(CSVデータ2!R72),CSVデータ2!R72,0)+IF(ISNUMBER(CSVデータ3!R72),CSVデータ3!R72,0)+IF(ISNUMBER(CSVデータ4!R72),CSVデータ4!R72,0)","v":12775},null,{"$f":"IF(ISNUMBER(CSVデータ1!T72),CSVデータ1!T72,0)+IF(ISNUMBER(CSVデータ2!T72),CSVデータ2!T72,0)+IF(ISNUMBER(CSVデータ3!T72),CSVデータ3!T72,0)+IF(ISNUMBER(CSVデータ4!T72),CSVデータ4!T72,0)","v":343},null,{"$f":"IF(ISNUMBER(CSVデータ1!V72),CSVデータ1!V72,0)+IF(ISNUMBER(CSVデータ2!V72),CSVデータ2!V72,0)+IF(ISNUMBER(CSVデータ3!V72),CSVデータ3!V72,0)+IF(ISNUMBER(CSVデータ4!V72),CSVデータ4!V72,0)","v":10172},null,{"$f":"IF(ISNUMBER(CSVデータ1!X72),CSVデータ1!X72,0)+IF(ISNUMBER(CSVデータ2!X72),CSVデータ2!X72,0)+IF(ISNUMBER(CSVデータ3!X72),CSVデータ3!X72,0)+IF(ISNUMBER(CSVデータ4!X72),CSVデータ4!X72,0)","v":2856},null,{"$f":"IF(ISNUMBER(CSVデータ1!Z72),CSVデータ1!Z72,0)+IF(ISNUMBER(CSVデータ2!Z72),CSVデータ2!Z72,0)+IF(ISNUMBER(CSVデータ3!Z72),CSVデータ3!Z72,0)+IF(ISNUMBER(CSVデータ4!Z72),CSVデータ4!Z72,0)","v":9713},null,{"$f":"IF(ISNUMBER(CSVデータ1!AB72),CSVデータ1!AB72,0)+IF(ISNUMBER(CSVデータ2!AB72),CSVデータ2!AB72,0)+IF(ISNUMBER(CSVデータ3!AB72),CSVデータ3!AB72,0)+IF(ISNUMBER(CSVデータ4!AB72),CSVデータ4!AB72,0)","v":72},null,{"$f":"IF(ISNUMBER(CSVデータ1!AD72),CSVデータ1!AD72,0)+IF(ISNUMBER(CSVデータ2!AD72),CSVデータ2!AD72,0)+IF(ISNUMBER(CSVデータ3!AD72),CSVデータ3!AD72,0)+IF(ISNUMBER(CSVデータ4!AD72),CSVデータ4!AD72,0)","v":4153},null,{"$f":"IF(ISNUMBER(CSVデータ1!AF72),CSVデータ1!AF72,0)+IF(ISNUMBER(CSVデータ2!AF72),CSVデータ2!AF72,0)+IF(ISNUMBER(CSVデータ3!AF72),CSVデータ3!AF72,0)+IF(ISNUMBER(CSVデータ4!AF72),CSVデータ4!AF72,0)","v":4102},null,{"$f":"IF(ISNUMBER(CSVデータ1!AH72),CSVデータ1!AH72,0)+IF(ISNUMBER(CSVデータ2!AH72),CSVデータ2!AH72,0)+IF(ISNUMBER(CSVデータ3!AH72),CSVデータ3!AH72,0)+IF(ISNUMBER(CSVデータ4!AH72),CSVデータ4!AH72,0)","v":469},null,{"$f":"IF(ISNUMBER(CSVデータ1!AJ72),CSVデータ1!AJ72,0)+IF(ISNUMBER(CSVデータ2!AJ72),CSVデータ2!AJ72,0)+IF(ISNUMBER(CSVデータ3!AJ72),CSVデータ3!AJ72,0)+IF(ISNUMBER(CSVデータ4!AJ72),CSVデータ4!AJ72,0)","v":1066},null,{"$f":"IF(ISNUMBER(CSVデータ1!AL72),CSVデータ1!AL72,0)+IF(ISNUMBER(CSVデータ2!AL72),CSVデータ2!AL72,0)+IF(ISNUMBER(CSVデータ3!AL72),CSVデータ3!AL72,0)+IF(ISNUMBER(CSVデータ4!AL72),CSVデータ4!AL72,0)","v":5533},null,{"$f":"IF(ISNUMBER(CSVデータ1!AN72),CSVデータ1!AN72,0)+IF(ISNUMBER(CSVデータ2!AN72),CSVデータ2!AN72,0)+IF(ISNUMBER(CSVデータ3!AN72),CSVデータ3!AN72,0)+IF(ISNUMBER(CSVデータ4!AN72),CSVデータ4!AN72,0)","v":802}]
[{"$f":"CSVデータ1!A73","v":"明細部"},{"$f":"CSVデータ1!B73","v":"国"},{"$f":"CSVデータ1!C73","v":74},{"$f":"CSVデータ1!D73","v":"女"},{"$f":"IF(ISNUMBER(CSVデータ1!E73),CSVデータ1!E73,0)+IF(ISNUMBER(CSVデータ2!E73),CSVデータ2!E73,0)+IF(ISNUMBER(CSVデータ3!E73),CSVデータ3!E73,0)+IF(ISNUMBER(CSVデータ4!E73),CSVデータ4!E73,0)","v":20734},{"$f":"IF(ISNUMBER(CSVデータ1!F73),CSVデータ1!F73,0)+IF(ISNUMBER(CSVデータ2!F73),CSVデータ2!F73,0)+IF(ISNUMBER(CSVデータ3!F73),CSVデータ3!F73,0)+IF(ISNUMBER(CSVデータ4!F73),CSVデータ4!F73,0)","v":4397},null,{"$f":"IF(ISNUMBER(CSVデータ1!H73),CSVデータ1!H73,0)+IF(ISNUMBER(CSVデータ2!H73),CSVデータ2!H73,0)+IF(ISNUMBER(CSVデータ3!H73),CSVデータ3!H73,0)+IF(ISNUMBER(CSVデータ4!H73),CSVデータ4!H73,0)","v":3924},null,{"$f":"IF(ISNUMBER(CSVデータ1!J73),CSVデータ1!J73,0)+IF(ISNUMBER(CSVデータ2!J73),CSVデータ2!J73,0)+IF(ISNUMBER(CSVデータ3!J73),CSVデータ3!J73,0)+IF(ISNUMBER(CSVデータ4!J73),CSVデータ4!J73,0)","v":1815},null,{"$f":"IF(ISNUMBER(CSVデータ1!L73),CSVデータ1!L73,0)+IF(ISNUMBER(CSVデータ2!L73),CSVデータ2!L73,0)+IF(ISNUMBER(CSVデータ3!L73),CSVデータ3!L73,0)+IF(ISNUMBER(CSVデータ4!L73),CSVデータ4!L73,0)","v":1282},null,{"$f":"IF(ISNUMBER(CSVデータ1!N73),CSVデータ1!N73,0)+IF(ISNUMBER(CSVデータ2!N73),CSVデータ2!N73,0)+IF(ISNUMBER(CSVデータ3!N73),CSVデータ3!N73,0)+IF(ISNUMBER(CSVデータ4!N73),CSVデータ4!N73,0)","v":249},null,{"$f":"IF(ISNUMBER(CSVデータ1!P73),CSVデータ1!P73,0)+IF(ISNUMBER(CSVデータ2!P73),CSVデータ2!P73,0)+IF(ISNUMBER(CSVデータ3!P73),CSVデータ3!P73,0)+IF(ISNUMBER(CSVデータ4!P73),CSVデータ4!P73,0)","v":4828},null,{"$f":"IF(ISNUMBER(CSVデータ1!R73),CSVデータ1!R73,0)+IF(ISNUMBER(CSVデータ2!R73),CSVデータ2!R73,0)+IF(ISNUMBER(CSVデータ3!R73),CSVデータ3!R73,0)+IF(ISNUMBER(CSVデータ4!R73),CSVデータ4!R73,0)","v":14354},null,{"$f":"IF(ISNUMBER(CSVデータ1!T73),CSVデータ1!T73,0)+IF(ISNUMBER(CSVデータ2!T73),CSVデータ2!T73,0)+IF(ISNUMBER(CSVデータ3!T73),CSVデータ3!T73,0)+IF(ISNUMBER(CSVデータ4!T73),CSVデータ4!T73,0)","v":391},null,{"$f":"IF(ISNUMBER(CSVデータ1!V73),CSVデータ1!V73,0)+IF(ISNUMBER(CSVデータ2!V73),CSVデータ2!V73,0)+IF(ISNUMBER(CSVデータ3!V73),CSVデータ3!V73,0)+IF(ISNUMBER(CSVデータ4!V73),CSVデータ4!V73,0)","v":11471},null,{"$f":"IF(ISNUMBER(CSVデータ1!X73),CSVデータ1!X73,0)+IF(ISNUMBER(CSVデータ2!X73),CSVデータ2!X73,0)+IF(ISNUMBER(CSVデータ3!X73),CSVデータ3!X73,0)+IF(ISNUMBER(CSVデータ4!X73),CSVデータ4!X73,0)","v":3139},null,{"$f":"IF(ISNUMBER(CSVデータ1!Z73),CSVデータ1!Z73,0)+IF(ISNUMBER(CSVデータ2!Z73),CSVデータ2!Z73,0)+IF(ISNUMBER(CSVデータ3!Z73),CSVデータ3!Z73,0)+IF(ISNUMBER(CSVデータ4!Z73),CSVデータ4!Z73,0)","v":10683},null,{"$f":"IF(ISNUMBER(CSVデータ1!AB73),CSVデータ1!AB73,0)+IF(ISNUMBER(CSVデータ2!AB73),CSVデータ2!AB73,0)+IF(ISNUMBER(CSVデータ3!AB73),CSVデータ3!AB73,0)+IF(ISNUMBER(CSVデータ4!AB73),CSVデータ4!AB73,0)","v":88},null,{"$f":"IF(ISNUMBER(CSVデータ1!AD73),CSVデータ1!AD73,0)+IF(ISNUMBER(CSVデータ2!AD73),CSVデータ2!AD73,0)+IF(ISNUMBER(CSVデータ3!AD73),CSVデータ3!AD73,0)+IF(ISNUMBER(CSVデータ4!AD73),CSVデータ4!AD73,0)","v":4707},null,{"$f":"IF(ISNUMBER(CSVデータ1!AF73),CSVデータ1!AF73,0)+IF(ISNUMBER(CSVデータ2!AF73),CSVデータ2!AF73,0)+IF(ISNUMBER(CSVデータ3!AF73),CSVデータ3!AF73,0)+IF(ISNUMBER(CSVデータ4!AF73),CSVデータ4!AF73,0)","v":4469},null,{"$f":"IF(ISNUMBER(CSVデータ1!AH73),CSVデータ1!AH73,0)+IF(ISNUMBER(CSVデータ2!AH73),CSVデータ2!AH73,0)+IF(ISNUMBER(CSVデータ3!AH73),CSVデータ3!AH73,0)+IF(ISNUMBER(CSVデータ4!AH73),CSVデータ4!AH73,0)","v":564},null,{"$f":"IF(ISNUMBER(CSVデータ1!AJ73),CSVデータ1!AJ73,0)+IF(ISNUMBER(CSVデータ2!AJ73),CSVデータ2!AJ73,0)+IF(ISNUMBER(CSVデータ3!AJ73),CSVデータ3!AJ73,0)+IF(ISNUMBER(CSVデータ4!AJ73),CSVデータ4!AJ73,0)","v":1246},null,{"$f":"IF(ISNUMBER(CSVデータ1!AL73),CSVデータ1!AL73,0)+IF(ISNUMBER(CSVデータ2!AL73),CSVデータ2!AL73,0)+IF(ISNUMBER(CSVデータ3!AL73),CSVデータ3!AL73,0)+IF(ISNUMBER(CSVデータ4!AL73),CSVデータ4!AL73,0)","v":6469},null,{"$f":"IF(ISNUMBER(CSVデータ1!AN73),CSVデータ1!AN73,0)+IF(ISNUMBER(CSVデータ2!AN73),CSVデータ2!AN73,0)+IF(ISNUMBER(CSVデータ3!AN73),CSVデータ3!AN73,0)+IF(ISNUMBER(CSVデータ4!AN73),CSVデータ4!AN73,0)","v":939}]
[{"$f":"CSVデータ1!A74","v":"明細部"},{"$f":"CSVデータ1!B74","v":"県"},{"$f":"CSVデータ1!C74","v":40},{"$f":"CSVデータ1!D74","v":"男"},{"$f":"IF(ISNUMBER(CSVデータ1!E74),CSVデータ1!E74,0)+IF(ISNUMBER(CSVデータ2!E74),CSVデータ2!E74,0)+IF(ISNUMBER(CSVデータ3!E74),CSVデータ3!E74,0)+IF(ISNUMBER(CSVデータ4!E74),CSVデータ4!E74,0)","v":96},{"$f":"IF(ISNUMBER(CSVデータ1!F74),CSVデータ1!F74,0)+IF(ISNUMBER(CSVデータ2!F74),CSVデータ2!F74,0)+IF(ISNUMBER(CSVデータ3!F74),CSVデータ3!F74,0)+IF(ISNUMBER(CSVデータ4!F74),CSVデータ4!F74,0)","v":41},null,{"$f":"IF(ISNUMBER(CSVデータ1!H74),CSVデータ1!H74,0)+IF(ISNUMBER(CSVデータ2!H74),CSVデータ2!H74,0)+IF(ISNUMBER(CSVデータ3!H74),CSVデータ3!H74,0)+IF(ISNUMBER(CSVデータ4!H74),CSVデータ4!H74,0)","v":52},null,{"$f":"IF(ISNUMBER(CSVデータ1!J74),CSVデータ1!J74,0)+IF(ISNUMBER(CSVデータ2!J74),CSVデータ2!J74,0)+IF(ISNUMBER(CSVデータ3!J74),CSVデータ3!J74,0)+IF(ISNUMBER(CSVデータ4!J74),CSVデータ4!J74,0)","v":27},null,{"$f":"IF(ISNUMBER(CSVデータ1!L74),CSVデータ1!L74,0)+IF(ISNUMBER(CSVデータ2!L74),CSVデータ2!L74,0)+IF(ISNUMBER(CSVデータ3!L74),CSVデータ3!L74,0)+IF(ISNUMBER(CSVデータ4!L74),CSVデータ4!L74,0)","v":34},null,{"$f":"IF(ISNUMBER(CSVデータ1!N74),CSVデータ1!N74,0)+IF(ISNUMBER(CSVデータ2!N74),CSVデータ2!N74,0)+IF(ISNUMBER(CSVデータ3!N74),CSVデータ3!N74,0)+IF(ISNUMBER(CSVデータ4!N74),CSVデータ4!N74,0)","v":11},null,{"$f":"IF(ISNUMBER(CSVデータ1!P74),CSVデータ1!P74,0)+IF(ISNUMBER(CSVデータ2!P74),CSVデータ2!P74,0)+IF(ISNUMBER(CSVデータ3!P74),CSVデータ3!P74,0)+IF(ISNUMBER(CSVデータ4!P74),CSVデータ4!P74,0)","v":14},null,{"$f":"IF(ISNUMBER(CSVデータ1!R74),CSVデータ1!R74,0)+IF(ISNUMBER(CSVデータ2!R74),CSVデータ2!R74,0)+IF(ISNUMBER(CSVデータ3!R74),CSVデータ3!R74,0)+IF(ISNUMBER(CSVデータ4!R74),CSVデータ4!R74,0)","v":31},null,{"$f":"IF(ISNUMBER(CSVデータ1!T74),CSVデータ1!T74,0)+IF(ISNUMBER(CSVデータ2!T74),CSVデータ2!T74,0)+IF(ISNUMBER(CSVデータ3!T74),CSVデータ3!T74,0)+IF(ISNUMBER(CSVデータ4!T74),CSVデータ4!T74,0)","v":21},null,{"$f":"IF(ISNUMBER(CSVデータ1!V74),CSVデータ1!V74,0)+IF(ISNUMBER(CSVデータ2!V74),CSVデータ2!V74,0)+IF(ISNUMBER(CSVデータ3!V74),CSVデータ3!V74,0)+IF(ISNUMBER(CSVデータ4!V74),CSVデータ4!V74,0)","v":33},null,{"$f":"IF(ISNUMBER(CSVデータ1!X74),CSVデータ1!X74,0)+IF(ISNUMBER(CSVデータ2!X74),CSVデータ2!X74,0)+IF(ISNUMBER(CSVデータ3!X74),CSVデータ3!X74,0)+IF(ISNUMBER(CSVデータ4!X74),CSVデータ4!X74,0)","v":21},null,{"$f":"IF(ISNUMBER(CSVデータ1!Z74),CSVデータ1!Z74,0)+IF(ISNUMBER(CSVデータ2!Z74),CSVデータ2!Z74,0)+IF(ISNUMBER(CSVデータ3!Z74),CSVデータ3!Z74,0)+IF(ISNUMBER(CSVデータ4!Z74),CSVデータ4!Z74,0)","v":52},null,{"$f":"IF(ISNUMBER(CSVデータ1!AB74),CSVデータ1!AB74,0)+IF(ISNUMBER(CSVデータ2!AB74),CSVデータ2!AB74,0)+IF(ISNUMBER(CSVデータ3!AB74),CSVデータ3!AB74,0)+IF(ISNUMBER(CSVデータ4!AB74),CSVデータ4!AB74,0)","v":0},null,{"$f":"IF(ISNUMBER(CSVデータ1!AD74),CSVデータ1!AD74,0)+IF(ISNUMBER(CSVデータ2!AD74),CSVデータ2!AD74,0)+IF(ISNUMBER(CSVデータ3!AD74),CSVデータ3!AD74,0)+IF(ISNUMBER(CSVデータ4!AD74),CSVデータ4!AD74,0)","v":15},null,{"$f":"IF(ISNUMBER(CSVデータ1!AF74),CSVデータ1!AF74,0)+IF(ISNUMBER(CSVデータ2!AF74),CSVデータ2!AF74,0)+IF(ISNUMBER(CSVデータ3!AF74),CSVデータ3!AF74,0)+IF(ISNUMBER(CSVデータ4!AF74),CSVデータ4!AF74,0)","v":9},null,{"$f":"IF(ISNUMBER(CSVデータ1!AH74),CSVデータ1!AH74,0)+IF(ISNUMBER(CSVデータ2!AH74),CSVデータ2!AH74,0)+IF(ISNUMBER(CSVデータ3!AH74),CSVデータ3!AH74,0)+IF(ISNUMBER(CSVデータ4!AH74),CSVデータ4!AH74,0)","v":0},null,{"$f":"IF(ISNUMBER(CSVデータ1!AJ74),CSVデータ1!AJ74,0)+IF(ISNUMBER(CSVデータ2!AJ74),CSVデータ2!AJ74,0)+IF(ISNUMBER(CSVデータ3!AJ74),CSVデータ3!AJ74,0)+IF(ISNUMBER(CSVデータ4!AJ74),CSVデータ4!AJ74,0)","v":4},null,{"$f":"IF(ISNUMBER(CSVデータ1!AL74),CSVデータ1!AL74,0)+IF(ISNUMBER(CSVデータ2!AL74),CSVデータ2!AL74,0)+IF(ISNUMBER(CSVデータ3!AL74),CSVデータ3!AL74,0)+IF(ISNUMBER(CSVデータ4!AL74),CSVデータ4!AL74,0)","v":1},null,{"$f":"IF(ISNUMBER(CSVデータ1!AN74),CSVデータ1!AN74,0)+IF(ISNUMBER(CSVデータ2!AN74),CSVデータ2!AN74,0)+IF(ISNUMBER(CSVデータ3!AN74),CSVデータ3!AN74,0)+IF(ISNUMBER(CSVデータ4!AN74),CSVデータ4!AN74,0)","v":0}]
[{"$f":"CSVデータ1!A75","v":"明細部"},{"$f":"CSVデータ1!B75","v":"県"},{"$f":"CSVデータ1!C75","v":41},{"$f":"CSVデータ1!D75","v":"男"},{"$f":"IF(ISNUMBER(CSVデータ1!E75),CSVデータ1!E75,0)+IF(ISNUMBER(CSVデータ2!E75),CSVデータ2!E75,0)+IF(ISNUMBER(CSVデータ3!E75),CSVデータ3!E75,0)+IF(ISNUMBER(CSVデータ4!E75),CSVデータ4!E75,0)","v":106},{"$f":"IF(ISNUMBER(CSVデータ1!F75),CSVデータ1!F75,0)+IF(ISNUMBER(CSVデータ2!F75),CSVデータ2!F75,0)+IF(ISNUMBER(CSVデータ3!F75),CSVデータ3!F75,0)+IF(ISNUMBER(CSVデータ4!F75),CSVデータ4!F75,0)","v":42},null,{"$f":"IF(ISNUMBER(CSVデータ1!H75),CSVデータ1!H75,0)+IF(ISNUMBER(CSVデータ2!H75),CSVデータ2!H75,0)+IF(ISNUMBER(CSVデータ3!H75),CSVデータ3!H75,0)+IF(ISNUMBER(CSVデータ4!H75),CSVデータ4!H75,0)","v":54},null,{"$f":"IF(ISNUMBER(CSVデータ1!J75),CSVデータ1!J75,0)+IF(ISNUMBER(CSVデータ2!J75),CSVデータ2!J75,0)+IF(ISNUMBER(CSVデータ3!J75),CSVデータ3!J75,0)+IF(ISNUMBER(CSVデータ4!J75),CSVデータ4!J75,0)","v":24},null,{"$f":"IF(ISNUMBER(CSVデータ1!L75),CSVデータ1!L75,0)+IF(ISNUMBER(CSVデータ2!L75),CSVデータ2!L75,0)+IF(ISNUMBER(CSVデータ3!L75),CSVデータ3!L75,0)+IF(ISNUMBER(CSVデータ4!L75),CSVデータ4!L75,0)","v":33},null,{"$f":"IF(ISNUMBER(CSVデータ1!N75),CSVデータ1!N75,0)+IF(ISNUMBER(CSVデータ2!N75),CSVデータ2!N75,0)+IF(ISNUMBER(CSVデータ3!N75),CSVデータ3!N75,0)+IF(ISNUMBER(CSVデータ4!N75),CSVデータ4!N75,0)","v":8},null,{"$f":"IF(ISNUMBER(CSVデータ1!P75),CSVデータ1!P75,0)+IF(ISNUMBER(CSVデータ2!P75),CSVデータ2!P75,0)+IF(ISNUMBER(CSVデータ3!P75),CSVデータ3!P75,0)+IF(ISNUMBER(CSVデータ4!P75),CSVデータ4!P75,0)","v":20},null,{"$f":"IF(ISNUMBER(CSVデータ1!R75),CSVデータ1!R75,0)+IF(ISNUMBER(CSVデータ2!R75),CSVデータ2!R75,0)+IF(ISNUMBER(CSVデータ3!R75),CSVデータ3!R75,0)+IF(ISNUMBER(CSVデータ4!R75),CSVデータ4!R75,0)","v":34},null,{"$f":"IF(ISNUMBER(CSVデータ1!T75),CSVデータ1!T75,0)+IF(ISNUMBER(CSVデータ2!T75),CSVデータ2!T75,0)+IF(ISNUMBER(CSVデータ3!T75),CSVデータ3!T75,0)+IF(ISNUMBER(CSVデータ4!T75),CSVデータ4!T75,0)","v":22},null,{"$f":"IF(ISNUMBER(CSVデータ1!V75),CSVデータ1!V75,0)+IF(ISNUMBER(CSVデータ2!V75),CSVデータ2!V75,0)+IF(ISNUMBER(CSVデータ3!V75),CSVデータ3!V75,0)+IF(ISNUMBER(CSVデータ4!V75),CSVデータ4!V75,0)","v":30},null,{"$f":"IF(ISNUMBER(CSVデータ1!X75),CSVデータ1!X75,0)+IF(ISNUMBER(CSVデータ2!X75),CSVデータ2!X75,0)+IF(ISNUMBER(CSVデータ3!X75),CSVデータ3!X75,0)+IF(ISNUMBER(CSVデータ4!X75),CSVデータ4!X75,0)","v":16},null,{"$f":"IF(ISNUMBER(CSVデータ1!Z75),CSVデータ1!Z75,0)+IF(ISNUMBER(CSVデータ2!Z75),CSVデータ2!Z75,0)+IF(ISNUMBER(CSVデータ3!Z75),CSVデータ3!Z75,0)+IF(ISNUMBER(CSVデータ4!Z75),CSVデータ4!Z75,0)","v":50},null,{"$f":"IF(ISNUMBER(CSVデータ1!AB75),CSVデータ1!AB75,0)+IF(ISNUMBER(CSVデータ2!AB75),CSVデータ2!AB75,0)+IF(ISNUMBER(CSVデータ3!AB75),CSVデータ3!AB75,0)+IF(ISNUMBER(CSVデータ4!AB75),CSVデータ4!AB75,0)","v":0},null,{"$f":"IF(ISNUMBER(CSVデータ1!AD75),CSVデータ1!AD75,0)+IF(ISNUMBER(CSVデータ2!AD75),CSVデータ2!AD75,0)+IF(ISNUMBER(CSVデータ3!AD75),CSVデータ3!AD75,0)+IF(ISNUMBER(CSVデータ4!AD75),CSVデータ4!AD75,0)","v":35},null,{"$f":"IF(ISNUMBER(CSVデータ1!AF75),CSVデータ1!AF75,0)+IF(ISNUMBER(CSVデータ2!AF75),CSVデータ2!AF75,0)+IF(ISNUMBER(CSVデータ3!AF75),CSVデータ3!AF75,0)+IF(ISNUMBER(CSVデータ4!AF75),CSVデータ4!AF75,0)","v":8},null,{"$f":"IF(ISNUMBER(CSVデータ1!AH75),CSVデータ1!AH75,0)+IF(ISNUMBER(CSVデータ2!AH75),CSVデータ2!AH75,0)+IF(ISNUMBER(CSVデータ3!AH75),CSVデータ3!AH75,0)+IF(ISNUMBER(CSVデータ4!AH75),CSVデータ4!AH75,0)","v":0},null,{"$f":"IF(ISNUMBER(CSVデータ1!AJ75),CSVデータ1!AJ75,0)+IF(ISNUMBER(CSVデータ2!AJ75),CSVデータ2!AJ75,0)+IF(ISNUMBER(CSVデータ3!AJ75),CSVデータ3!AJ75,0)+IF(ISNUMBER(CSVデータ4!AJ75),CSVデータ4!AJ75,0)","v":5},null,{"$f":"IF(ISNUMBER(CSVデータ1!AL75),CSVデータ1!AL75,0)+IF(ISNUMBER(CSVデータ2!AL75),CSVデータ2!AL75,0)+IF(ISNUMBER(CSVデータ3!AL75),CSVデータ3!AL75,0)+IF(ISNUMBER(CSVデータ4!AL75),CSVデータ4!AL75,0)","v":3},null,{"$f":"IF(ISNUMBER(CSVデータ1!AN75),CSVデータ1!AN75,0)+IF(ISNUMBER(CSVデータ2!AN75),CSVデータ2!AN75,0)+IF(ISNUMBER(CSVデータ3!AN75),CSVデータ3!AN75,0)+IF(ISNUMBER(CSVデータ4!AN75),CSVデータ4!AN75,0)","v":3}]
[{"$f":"CSVデータ1!A76","v":"明細部"},{"$f":"CSVデータ1!B76","v":"県"},{"$f":"CSVデータ1!C76","v":42},{"$f":"CSVデータ1!D76","v":"男"},{"$f":"IF(ISNUMBER(CSVデータ1!E76),CSVデータ1!E76,0)+IF(ISNUMBER(CSVデータ2!E76),CSVデータ2!E76,0)+IF(ISNUMBER(CSVデータ3!E76),CSVデータ3!E76,0)+IF(ISNUMBER(CSVデータ4!E76),CSVデータ4!E76,0)","v":98},{"$f":"IF(ISNUMBER(CSVデータ1!F76),CSVデータ1!F76,0)+IF(ISNUMBER(CSVデータ2!F76),CSVデータ2!F76,0)+IF(ISNUMBER(CSVデータ3!F76),CSVデータ3!F76,0)+IF(ISNUMBER(CSVデータ4!F76),CSVデータ4!F76,0)","v":32},null,{"$f":"IF(ISNUMBER(CSVデータ1!H76),CSVデータ1!H76,0)+IF(ISNUMBER(CSVデータ2!H76),CSVデータ2!H76,0)+IF(ISNUMBER(CSVデータ3!H76),CSVデータ3!H76,0)+IF(ISNUMBER(CSVデータ4!H76),CSVデータ4!H76,0)","v":53},null,{"$f":"IF(ISNUMBER(CSVデータ1!J76),CSVデータ1!J76,0)+IF(ISNUMBER(CSVデータ2!J76),CSVデータ2!J76,0)+IF(ISNUMBER(CSVデータ3!J76),CSVデータ3!J76,0)+IF(ISNUMBER(CSVデータ4!J76),CSVデータ4!J76,0)","v":30},null,{"$f":"IF(ISNUMBER(CSVデータ1!L76),CSVデータ1!L76,0)+IF(ISNUMBER(CSVデータ2!L76),CSVデータ2!L76,0)+IF(ISNUMBER(CSVデータ3!L76),CSVデータ3!L76,0)+IF(ISNUMBER(CSVデータ4!L76),CSVデータ4!L76,0)","v":31},null,{"$f":"IF(ISNUMBER(CSVデータ1!N76),CSVデータ1!N76,0)+IF(ISNUMBER(CSVデータ2!N76),CSVデータ2!N76,0)+IF(ISNUMBER(CSVデータ3!N76),CSVデータ3!N76,0)+IF(ISNUMBER(CSVデータ4!N76),CSVデータ4!N76,0)","v":12},null,{"$f":"IF(ISNUMBER(CSVデータ1!P76),CSVデータ1!P76,0)+IF(ISNUMBER(CSVデータ2!P76),CSVデータ2!P76,0)+IF(ISNUMBER(CSVデータ3!P76),CSVデータ3!P76,0)+IF(ISNUMBER(CSVデータ4!P76),CSVデータ4!P76,0)","v":14},null,{"$f":"IF(ISNUMBER(CSVデータ1!R76),CSVデータ1!R76,0)+IF(ISNUMBER(CSVデータ2!R76),CSVデータ2!R76,0)+IF(ISNUMBER(CSVデータ3!R76),CSVデータ3!R76,0)+IF(ISNUMBER(CSVデータ4!R76),CSVデータ4!R76,0)","v":35},null,{"$f":"IF(ISNUMBER(CSVデータ1!T76),CSVデータ1!T76,0)+IF(ISNUMBER(CSVデータ2!T76),CSVデータ2!T76,0)+IF(ISNUMBER(CSVデータ3!T76),CSVデータ3!T76,0)+IF(ISNUMBER(CSVデータ4!T76),CSVデータ4!T76,0)","v":24},null,{"$f":"IF(ISNUMBER(CSVデータ1!V76),CSVデータ1!V76,0)+IF(ISNUMBER(CSVデータ2!V76),CSVデータ2!V76,0)+IF(ISNUMBER(CSVデータ3!V76),CSVデータ3!V76,0)+IF(ISNUMBER(CSVデータ4!V76),CSVデータ4!V76,0)","v":24},null,{"$f":"IF(ISNUMBER(CSVデータ1!X76),CSVデータ1!X76,0)+IF(ISNUMBER(CSVデータ2!X76),CSVデータ2!X76,0)+IF(ISNUMBER(CSVデータ3!X76),CSVデータ3!X76,0)+IF(ISNUMBER(CSVデータ4!X76),CSVデータ4!X76,0)","v":17},null,{"$f":"IF(ISNUMBER(CSVデータ1!Z76),CSVデータ1!Z76,0)+IF(ISNUMBER(CSVデータ2!Z76),CSVデータ2!Z76,0)+IF(ISNUMBER(CSVデータ3!Z76),CSVデータ3!Z76,0)+IF(ISNUMBER(CSVデータ4!Z76),CSVデータ4!Z76,0)","v":51},null,{"$f":"IF(ISNUMBER(CSVデータ1!AB76),CSVデータ1!AB76,0)+IF(ISNUMBER(CSVデータ2!AB76),CSVデータ2!AB76,0)+IF(ISNUMBER(CSVデータ3!AB76),CSVデータ3!AB76,0)+IF(ISNUMBER(CSVデータ4!AB76),CSVデータ4!AB76,0)","v":0},null,{"$f":"IF(ISNUMBER(CSVデータ1!AD76),CSVデータ1!AD76,0)+IF(ISNUMBER(CSVデータ2!AD76),CSVデータ2!AD76,0)+IF(ISNUMBER(CSVデータ3!AD76),CSVデータ3!AD76,0)+IF(ISNUMBER(CSVデータ4!AD76),CSVデータ4!AD76,0)","v":20},null,{"$f":"IF(ISNUMBER(CSVデータ1!AF76),CSVデータ1!AF76,0)+IF(ISNUMBER(CSVデータ2!AF76),CSVデータ2!AF76,0)+IF(ISNUMBER(CSVデータ3!AF76),CSVデータ3!AF76,0)+IF(ISNUMBER(CSVデータ4!AF76),CSVデータ4!AF76,0)","v":6},null,{"$f":"IF(ISNUMBER(CSVデータ1!AH76),CSVデータ1!AH76,0)+IF(ISNUMBER(CSVデータ2!AH76),CSVデータ2!AH76,0)+IF(ISNUMBER(CSVデータ3!AH76),CSVデータ3!AH76,0)+IF(ISNUMBER(CSVデータ4!AH76),CSVデータ4!AH76,0)","v":0},null,{"$f":"IF(ISNUMBER(CSVデータ1!AJ76),CSVデータ1!AJ76,0)+IF(ISNUMBER(CSVデータ2!AJ76),CSVデータ2!AJ76,0)+IF(ISNUMBER(CSVデータ3!AJ76),CSVデータ3!AJ76,0)+IF(ISNUMBER(CSVデータ4!AJ76),CSVデータ4!AJ76,0)","v":2},null,{"$f":"IF(ISNUMBER(CSVデータ1!AL76),CSVデータ1!AL76,0)+IF(ISNUMBER(CSVデータ2!AL76),CSVデータ2!AL76,0)+IF(ISNUMBER(CSVデータ3!AL76),CSVデータ3!AL76,0)+IF(ISNUMBER(CSVデータ4!AL76),CSVデータ4!AL76,0)","v":2},null,{"$f":"IF(ISNUMBER(CSVデータ1!AN76),CSVデータ1!AN76,0)+IF(ISNUMBER(CSVデータ2!AN76),CSVデータ2!AN76,0)+IF(ISNUMBER(CSVデータ3!AN76),CSVデータ3!AN76,0)+IF(ISNUMBER(CSVデータ4!AN76),CSVデータ4!AN76,0)","v":2}]
[{"$f":"CSVデータ1!A77","v":"明細部"},{"$f":"CSVデータ1!B77","v":"県"},{"$f":"CSVデータ1!C77","v":43},{"$f":"CSVデータ1!D77","v":"男"},{"$f":"IF(ISNUMBER(CSVデータ1!E77),CSVデータ1!E77,0)+IF(ISNUMBER(CSVデータ2!E77),CSVデータ2!E77,0)+IF(ISNUMBER(CSVデータ3!E77),CSVデータ3!E77,0)+IF(ISNUMBER(CSVデータ4!E77),CSVデータ4!E77,0)","v":110},{"$f":"IF(ISNUMBER(CSVデータ1!F77),CSVデータ1!F77,0)+IF(ISNUMBER(CSVデータ2!F77),CSVデータ2!F77,0)+IF(ISNUMBER(CSVデータ3!F77),CSVデータ3!F77,0)+IF(ISNUMBER(CSVデータ4!F77),CSVデータ4!F77,0)","v":43},null,{"$f":"IF(ISNUMBER(CSVデータ1!H77),CSVデータ1!H77,0)+IF(ISNUMBER(CSVデータ2!H77),CSVデータ2!H77,0)+IF(ISNUMBER(CSVデータ3!H77),CSVデータ3!H77,0)+IF(ISNUMBER(CSVデータ4!H77),CSVデータ4!H77,0)","v":54},null,{"$f":"IF(ISNUMBER(CSVデータ1!J77),CSVデータ1!J77,0)+IF(ISNUMBER(CSVデータ2!J77),CSVデータ2!J77,0)+IF(ISNUMBER(CSVデータ3!J77),CSVデータ3!J77,0)+IF(ISNUMBER(CSVデータ4!J77),CSVデータ4!J77,0)","v":24},null,{"$f":"IF(ISNUMBER(CSVデータ1!L77),CSVデータ1!L77,0)+IF(ISNUMBER(CSVデータ2!L77),CSVデータ2!L77,0)+IF(ISNUMBER(CSVデータ3!L77),CSVデータ3!L77,0)+IF(ISNUMBER(CSVデータ4!L77),CSVデータ4!L77,0)","v":29},null,{"$f":"IF(ISNUMBER(CSVデータ1!N77),CSVデータ1!N77,0)+IF(ISNUMBER(CSVデータ2!N77),CSVデータ2!N77,0)+IF(ISNUMBER(CSVデータ3!N77),CSVデータ3!N77,0)+IF(ISNUMBER(CSVデータ4!N77),CSVデータ4!N77,0)","v":3},null,{"$f":"IF(ISNUMBER(CSVデータ1!P77),CSVデータ1!P77,0)+IF(ISNUMBER(CSVデータ2!P77),CSVデータ2!P77,0)+IF(ISNUMBER(CSVデータ3!P77),CSVデータ3!P77,0)+IF(ISNUMBER(CSVデータ4!P77),CSVデータ4!P77,0)","v":12},null,{"$f":"IF(ISNUMBER(CSVデータ1!R77),CSVデータ1!R77,0)+IF(ISNUMBER(CSVデータ2!R77),CSVデータ2!R77,0)+IF(ISNUMBER(CSVデータ3!R77),CSVデータ3!R77,0)+IF(ISNUMBER(CSVデータ4!R77),CSVデータ4!R77,0)","v":36},null,{"$f":"IF(ISNUMBER(CSVデータ1!T77),CSVデータ1!T77,0)+IF(ISNUMBER(CSVデータ2!T77),CSVデータ2!T77,0)+IF(ISNUMBER(CSVデータ3!T77),CSVデータ3!T77,0)+IF(ISNUMBER(CSVデータ4!T77),CSVデータ4!T77,0)","v":20},null,{"$f":"IF(ISNUMBER(CSVデータ1!V77),CSVデータ1!V77,0)+IF(ISNUMBER(CSVデータ2!V77),CSVデータ2!V77,0)+IF(ISNUMBER(CSVデータ3!V77),CSVデータ3!V77,0)+IF(ISNUMBER(CSVデータ4!V77),CSVデータ4!V77,0)","v":34},null,{"$f":"IF(ISNUMBER(CSVデータ1!X77),CSVデータ1!X77,0)+IF(ISNUMBER(CSVデータ2!X77),CSVデータ2!X77,0)+IF(ISNUMBER(CSVデータ3!X77),CSVデータ3!X77,0)+IF(ISNUMBER(CSVデータ4!X77),CSVデータ4!X77,0)","v":27},null,{"$f":"IF(ISNUMBER(CSVデータ1!Z77),CSVデータ1!Z77,0)+IF(ISNUMBER(CSVデータ2!Z77),CSVデータ2!Z77,0)+IF(ISNUMBER(CSVデータ3!Z77),CSVデータ3!Z77,0)+IF(ISNUMBER(CSVデータ4!Z77),CSVデータ4!Z77,0)","v":62},null,{"$f":"IF(ISNUMBER(CSVデータ1!AB77),CSVデータ1!AB77,0)+IF(ISNUMBER(CSVデータ2!AB77),CSVデータ2!AB77,0)+IF(ISNUMBER(CSVデータ3!AB77),CSVデータ3!AB77,0)+IF(ISNUMBER(CSVデータ4!AB77),CSVデータ4!AB77,0)","v":0},null,{"$f":"IF(ISNUMBER(CSVデータ1!AD77),CSVデータ1!AD77,0)+IF(ISNUMBER(CSVデータ2!AD77),CSVデータ2!AD77,0)+IF(ISNUMBER(CSVデータ3!AD77),CSVデータ3!AD77,0)+IF(ISNUMBER(CSVデータ4!AD77),CSVデータ4!AD77,0)","v":20},null,{"$f":"IF(ISNUMBER(CSVデータ1!AF77),CSVデータ1!AF77,0)+IF(ISNUMBER(CSVデータ2!AF77),CSVデータ2!AF77,0)+IF(ISNUMBER(CSVデータ3!AF77),CSVデータ3!AF77,0)+IF(ISNUMBER(CSVデータ4!AF77),CSVデータ4!AF77,0)","v":11},null,{"$f":"IF(ISNUMBER(CSVデータ1!AH77),CSVデータ1!AH77,0)+IF(ISNUMBER(CSVデータ2!AH77),CSVデータ2!AH77,0)+IF(ISNUMBER(CSVデータ3!AH77),CSVデータ3!AH77,0)+IF(ISNUMBER(CSVデータ4!AH77),CSVデータ4!AH77,0)","v":0},null,{"$f":"IF(ISNUMBER(CSVデータ1!AJ77),CSVデータ1!AJ77,0)+IF(ISNUMBER(CSVデータ2!AJ77),CSVデータ2!AJ77,0)+IF(ISNUMBER(CSVデータ3!AJ77),CSVデータ3!AJ77,0)+IF(ISNUMBER(CSVデータ4!AJ77),CSVデータ4!AJ77,0)","v":5},null,{"$f":"IF(ISNUMBER(CSVデータ1!AL77),CSVデータ1!AL77,0)+IF(ISNUMBER(CSVデータ2!AL77),CSVデータ2!AL77,0)+IF(ISNUMBER(CSVデータ3!AL77),CSVデータ3!AL77,0)+IF(ISNUMBER(CSVデータ4!AL77),CSVデータ4!AL77,0)","v":3},null,{"$f":"IF(ISNUMBER(CSVデータ1!AN77),CSVデータ1!AN77,0)+IF(ISNUMBER(CSVデータ2!AN77),CSVデータ2!AN77,0)+IF(ISNUMBER(CSVデータ3!AN77),CSVデータ3!AN77,0)+IF(ISNUMBER(CSVデータ4!AN77),CSVデータ4!AN77,0)","v":3}]
[{"$f":"CSVデータ1!A78","v":"明細部"},{"$f":"CSVデータ1!B78","v":"県"},{"$f":"CSVデータ1!C78","v":44},{"$f":"CSVデータ1!D78","v":"男"},{"$f":"IF(ISNUMBER(CSVデータ1!E78),CSVデータ1!E78,0)+IF(ISNUMBER(CSVデータ2!E78),CSVデータ2!E78,0)+IF(ISNUMBER(CSVデータ3!E78),CSVデータ3!E78,0)+IF(ISNUMBER(CSVデータ4!E78),CSVデータ4!E78,0)","v":129},{"$f":"IF(ISNUMBER(CSVデータ1!F78),CSVデータ1!F78,0)+IF(ISNUMBER(CSVデータ2!F78),CSVデータ2!F78,0)+IF(ISNUMBER(CSVデータ3!F78),CSVデータ3!F78,0)+IF(ISNUMBER(CSVデータ4!F78),CSVデータ4!F78,0)","v":48},null,{"$f":"IF(ISNUMBER(CSVデータ1!H78),CSVデータ1!H78,0)+IF(ISNUMBER(CSVデータ2!H78),CSVデータ2!H78,0)+IF(ISNUMBER(CSVデータ3!H78),CSVデータ3!H78,0)+IF(ISNUMBER(CSVデータ4!H78),CSVデータ4!H78,0)","v":63},null,{"$f":"IF(ISNUMBER(CSVデータ1!J78),CSVデータ1!J78,0)+IF(ISNUMBER(CSVデータ2!J78),CSVデータ2!J78,0)+IF(ISNUMBER(CSVデータ3!J78),CSVデータ3!J78,0)+IF(ISNUMBER(CSVデータ4!J78),CSVデータ4!J78,0)","v":25},null,{"$f":"IF(ISNUMBER(CSVデータ1!L78),CSVデータ1!L78,0)+IF(ISNUMBER(CSVデータ2!L78),CSVデータ2!L78,0)+IF(ISNUMBER(CSVデータ3!L78),CSVデータ3!L78,0)+IF(ISNUMBER(CSVデータ4!L78),CSVデータ4!L78,0)","v":35},null,{"$f":"IF(ISNUMBER(CSVデータ1!N78),CSVデータ1!N78,0)+IF(ISNUMBER(CSVデータ2!N78),CSVデータ2!N78,0)+IF(ISNUMBER(CSVデータ3!N78),CSVデータ3!N78,0)+IF(ISNUMBER(CSVデータ4!N78),CSVデータ4!N78,0)","v":12},null,{"$f":"IF(ISNUMBER(CSVデータ1!P78),CSVデータ1!P78,0)+IF(ISNUMBER(CSVデータ2!P78),CSVデータ2!P78,0)+IF(ISNUMBER(CSVデータ3!P78),CSVデータ3!P78,0)+IF(ISNUMBER(CSVデータ4!P78),CSVデータ4!P78,0)","v":26},null,{"$f":"IF(ISNUMBER(CSVデータ1!R78),CSVデータ1!R78,0)+IF(ISNUMBER(CSVデータ2!R78),CSVデータ2!R78,0)+IF(ISNUMBER(CSVデータ3!R78),CSVデータ3!R78,0)+IF(ISNUMBER(CSVデータ4!R78),CSVデータ4!R78,0)","v":44},null,{"$f":"IF(ISNUMBER(CSVデータ1!T78),CSVデータ1!T78,0)+IF(ISNUMBER(CSVデータ2!T78),CSVデータ2!T78,0)+IF(ISNUMBER(CSVデータ3!T78),CSVデータ3!T78,0)+IF(ISNUMBER(CSVデータ4!T78),CSVデータ4!T78,0)","v":22},null,{"$f":"IF(ISNUMBER(CSVデータ1!V78),CSVデータ1!V78,0)+IF(ISNUMBER(CSVデータ2!V78),CSVデータ2!V78,0)+IF(ISNUMBER(CSVデータ3!V78),CSVデータ3!V78,0)+IF(ISNUMBER(CSVデータ4!V78),CSVデータ4!V78,0)","v":41},null,{"$f":"IF(ISNUMBER(CSVデータ1!X78),CSVデータ1!X78,0)+IF(ISNUMBER(CSVデータ2!X78),CSVデータ2!X78,0)+IF(ISNUMBER(CSVデータ3!X78),CSVデータ3!X78,0)+IF(ISNUMBER(CSVデータ4!X78),CSVデータ4!X78,0)","v":36},null,{"$f":"IF(ISNUMBER(CSVデータ1!Z78),CSVデータ1!Z78,0)+IF(ISNUMBER(CSVデータ2!Z78),CSVデータ2!Z78,0)+IF(ISNUMBER(CSVデータ3!Z78),CSVデータ3!Z78,0)+IF(ISNUMBER(CSVデータ4!Z78),CSVデータ4!Z78,0)","v":63},null,{"$f":"IF(ISNUMBER(CSVデータ1!AB78),CSVデータ1!AB78,0)+IF(ISNUMBER(CSVデータ2!AB78),CSVデータ2!AB78,0)+IF(ISNUMBER(CSVデータ3!AB78),CSVデータ3!AB78,0)+IF(ISNUMBER(CSVデータ4!AB78),CSVデータ4!AB78,0)","v":0},null,{"$f":"IF(ISNUMBER(CSVデータ1!AD78),CSVデータ1!AD78,0)+IF(ISNUMBER(CSVデータ2!AD78),CSVデータ2!AD78,0)+IF(ISNUMBER(CSVデータ3!AD78),CSVデータ3!AD78,0)+IF(ISNUMBER(CSVデータ4!AD78),CSVデータ4!AD78,0)","v":30},null,{"$f":"IF(ISNUMBER(CSVデータ1!AF78),CSVデータ1!AF78,0)+IF(ISNUMBER(CSVデータ2!AF78),CSVデータ2!AF78,0)+IF(ISNUMBER(CSVデータ3!AF78),CSVデータ3!AF78,0)+IF(ISNUMBER(CSVデータ4!AF78),CSVデータ4!AF78,0)","v":10},null,{"$f":"IF(ISNUMBER(CSVデータ1!AH78),CSVデータ1!AH78,0)+IF(ISNUMBER(CSVデータ2!AH78),CSVデータ2!AH78,0)+IF(ISNUMBER(CSVデータ3!AH78),CSVデータ3!AH78,0)+IF(ISNUMBER(CSVデータ4!AH78),CSVデータ4!AH78,0)","v":0},null,{"$f":"IF(ISNUMBER(CSVデータ1!AJ78),CSVデータ1!AJ78,0)+IF(ISNUMBER(CSVデータ2!AJ78),CSVデータ2!AJ78,0)+IF(ISNUMBER(CSVデータ3!AJ78),CSVデータ3!AJ78,0)+IF(ISNUMBER(CSVデータ4!AJ78),CSVデータ4!AJ78,0)","v":2},null,{"$f":"IF(ISNUMBER(CSVデータ1!AL78),CSVデータ1!AL78,0)+IF(ISNUMBER(CSVデータ2!AL78),CSVデータ2!AL78,0)+IF(ISNUMBER(CSVデータ3!AL78),CSVデータ3!AL78,0)+IF(ISNUMBER(CSVデータ4!AL78),CSVデータ4!AL78,0)","v":5},null,{"$f":"IF(ISNUMBER(CSVデータ1!AN78),CSVデータ1!AN78,0)+IF(ISNUMBER(CSVデータ2!AN78),CSVデータ2!AN78,0)+IF(ISNUMBER(CSVデータ3!AN78),CSVデータ3!AN78,0)+IF(ISNUMBER(CSVデータ4!AN78),CSVデータ4!AN78,0)","v":2}]
[{"$f":"CSVデータ1!A79","v":"明細部"},{"$f":"CSVデータ1!B79","v":"県"},{"$f":"CSVデータ1!C79","v":45},{"$f":"CSVデータ1!D79","v":"男"},{"$f":"IF(ISNUMBER(CSVデータ1!E79),CSVデータ1!E79,0)+IF(ISNUMBER(CSVデータ2!E79),CSVデータ2!E79,0)+IF(ISNUMBER(CSVデータ3!E79),CSVデータ3!E79,0)+IF(ISNUMBER(CSVデータ4!E79),CSVデータ4!E79,0)","v":131},{"$f":"IF(ISNUMBER(CSVデータ1!F79),CSVデータ1!F79,0)+IF(ISNUMBER(CSVデータ2!F79),CSVデータ2!F79,0)+IF(ISNUMBER(CSVデータ3!F79),CSVデータ3!F79,0)+IF(ISNUMBER(CSVデータ4!F79),CSVデータ4!F79,0)","v":45},null,{"$f":"IF(ISNUMBER(CSVデータ1!H79),CSVデータ1!H79,0)+IF(ISNUMBER(CSVデータ2!H79),CSVデータ2!H79,0)+IF(ISNUMBER(CSVデータ3!H79),CSVデータ3!H79,0)+IF(ISNUMBER(CSVデータ4!H79),CSVデータ4!H79,0)","v":64},null,{"$f":"IF(ISNUMBER(CSVデータ1!J79),CSVデータ1!J79,0)+IF(ISNUMBER(CSVデータ2!J79),CSVデータ2!J79,0)+IF(ISNUMBER(CSVデータ3!J79),CSVデータ3!J79,0)+IF(ISNUMBER(CSVデータ4!J79),CSVデータ4!J79,0)","v":32},null,{"$f":"IF(ISNUMBER(CSVデータ1!L79),CSVデータ1!L79,0)+IF(ISNUMBER(CSVデータ2!L79),CSVデータ2!L79,0)+IF(ISNUMBER(CSVデータ3!L79),CSVデータ3!L79,0)+IF(ISNUMBER(CSVデータ4!L79),CSVデータ4!L79,0)","v":40},null,{"$f":"IF(ISNUMBER(CSVデータ1!N79),CSVデータ1!N79,0)+IF(ISNUMBER(CSVデータ2!N79),CSVデータ2!N79,0)+IF(ISNUMBER(CSVデータ3!N79),CSVデータ3!N79,0)+IF(ISNUMBER(CSVデータ4!N79),CSVデータ4!N79,0)","v":13},null,{"$f":"IF(ISNUMBER(CSVデータ1!P79),CSVデータ1!P79,0)+IF(ISNUMBER(CSVデータ2!P79),CSVデータ2!P79,0)+IF(ISNUMBER(CSVデータ3!P79),CSVデータ3!P79,0)+IF(ISNUMBER(CSVデータ4!P79),CSVデータ4!P79,0)","v":27},null,{"$f":"IF(ISNUMBER(CSVデータ1!R79),CSVデータ1!R79,0)+IF(ISNUMBER(CSVデータ2!R79),CSVデータ2!R79,0)+IF(ISNUMBER(CSVデータ3!R79),CSVデータ3!R79,0)+IF(ISNUMBER(CSVデータ4!R79),CSVデータ4!R79,0)","v":46},null,{"$f":"IF(ISNUMBER(CSVデータ1!T79),CSVデータ1!T79,0)+IF(ISNUMBER(CSVデータ2!T79),CSVデータ2!T79,0)+IF(ISNUMBER(CSVデータ3!T79),CSVデータ3!T79,0)+IF(ISNUMBER(CSVデータ4!T79),CSVデータ4!T79,0)","v":19},null,{"$f":"IF(ISNUMBER(CSVデータ1!V79),CSVデータ1!V79,0)+IF(ISNUMBER(CSVデータ2!V79),CSVデータ2!V79,0)+IF(ISNUMBER(CSVデータ3!V79),CSVデータ3!V79,0)+IF(ISNUMBER(CSVデータ4!V79),CSVデータ4!V79,0)","v":36},null,{"$f":"IF(ISNUMBER(CSVデータ1!X79),CSVデータ1!X79,0)+IF(ISNUMBER(CSVデータ2!X79),CSVデータ2!X79,0)+IF(ISNUMBER(CSVデータ3!X79),CSVデータ3!X79,0)+IF(ISNUMBER(CSVデータ4!X79),CSVデータ4!X79,0)","v":31},null,{"$f":"IF(ISNUMBER(CSVデータ1!Z79),CSVデータ1!Z79,0)+IF(ISNUMBER(CSVデータ2!Z79),CSVデータ2!Z79,0)+IF(ISNUMBER(CSVデータ3!Z79),CSVデータ3!Z79,0)+IF(ISNUMBER(CSVデータ4!Z79),CSVデータ4!Z79,0)","v":71},null,{"$f":"IF(ISNUMBER(CSVデータ1!AB79),CSVデータ1!AB79,0)+IF(ISNUMBER(CSVデータ2!AB79),CSVデータ2!AB79,0)+IF(ISNUMBER(CSVデータ3!AB79),CSVデータ3!AB79,0)+IF(ISNUMBER(CSVデータ4!AB79),CSVデータ4!AB79,0)","v":0},null,{"$f":"IF(ISNUMBER(CSVデータ1!AD79),CSVデータ1!AD79,0)+IF(ISNUMBER(CSVデータ2!AD79),CSVデータ2!AD79,0)+IF(ISNUMBER(CSVデータ3!AD79),CSVデータ3!AD79,0)+IF(ISNUMBER(CSVデータ4!AD79),CSVデータ4!AD79,0)","v":26},null,{"$f":"IF(ISNUMBER(CSVデータ1!AF79),CSVデータ1!AF79,0)+IF(ISNUMBER(CSVデータ2!AF79),CSVデータ2!AF79,0)+IF(ISNUMBER(CSVデータ3!AF79),CSVデータ3!AF79,0)+IF(ISNUMBER(CSVデータ4!AF79),CSVデータ4!AF79,0)","v":12},null,{"$f":"IF(ISNUMBER(CSVデータ1!AH79),CSVデータ1!AH79,0)+IF(ISNUMBER(CSVデータ2!AH79),CSVデータ2!AH79,0)+IF(ISNUMBER(CSVデータ3!AH79),CSVデータ3!AH79,0)+IF(ISNUMBER(CSVデータ4!AH79),CSVデータ4!AH79,0)","v":0},null,{"$f":"IF(ISNUMBER(CSVデータ1!AJ79),CSVデータ1!AJ79,0)+IF(ISNUMBER(CSVデータ2!AJ79),CSVデータ2!AJ79,0)+IF(ISNUMBER(CSVデータ3!AJ79),CSVデータ3!AJ79,0)+IF(ISNUMBER(CSVデータ4!AJ79),CSVデータ4!AJ79,0)","v":4},null,{"$f":"IF(ISNUMBER(CSVデータ1!AL79),CSVデータ1!AL79,0)+IF(ISNUMBER(CSVデータ2!AL79),CSVデータ2!AL79,0)+IF(ISNUMBER(CSVデータ3!AL79),CSVデータ3!AL79,0)+IF(ISNUMBER(CSVデータ4!AL79),CSVデータ4!AL79,0)","v":2},null,{"$f":"IF(ISNUMBER(CSVデータ1!AN79),CSVデータ1!AN79,0)+IF(ISNUMBER(CSVデータ2!AN79),CSVデータ2!AN79,0)+IF(ISNUMBER(CSVデータ3!AN79),CSVデータ3!AN79,0)+IF(ISNUMBER(CSVデータ4!AN79),CSVデータ4!AN79,0)","v":2}]
[{"$f":"CSVデータ1!A80","v":"明細部"},{"$f":"CSVデータ1!B80","v":"県"},{"$f":"CSVデータ1!C80","v":46},{"$f":"CSVデータ1!D80","v":"男"},{"$f":"IF(ISNUMBER(CSVデータ1!E80),CSVデータ1!E80,0)+IF(ISNUMBER(CSVデータ2!E80),CSVデータ2!E80,0)+IF(ISNUMBER(CSVデータ3!E80),CSVデータ3!E80,0)+IF(ISNUMBER(CSVデータ4!E80),CSVデータ4!E80,0)","v":126},{"$f":"IF(ISNUMBER(CSVデータ1!F80),CSVデータ1!F80,0)+IF(ISNUMBER(CSVデータ2!F80),CSVデータ2!F80,0)+IF(ISNUMBER(CSVデータ3!F80),CSVデータ3!F80,0)+IF(ISNUMBER(CSVデータ4!F80),CSVデータ4!F80,0)","v":57},null,{"$f":"IF(ISNUMBER(CSVデータ1!H80),CSVデータ1!H80,0)+IF(ISNUMBER(CSVデータ2!H80),CSVデータ2!H80,0)+IF(ISNUMBER(CSVデータ3!H80),CSVデータ3!H80,0)+IF(ISNUMBER(CSVデータ4!H80),CSVデータ4!H80,0)","v":71},null,{"$f":"IF(ISNUMBER(CSVデータ1!J80),CSVデータ1!J80,0)+IF(ISNUMBER(CSVデータ2!J80),CSVデータ2!J80,0)+IF(ISNUMBER(CSVデータ3!J80),CSVデータ3!J80,0)+IF(ISNUMBER(CSVデータ4!J80),CSVデータ4!J80,0)","v":29},null,{"$f":"IF(ISNUMBER(CSVデータ1!L80),CSVデータ1!L80,0)+IF(ISNUMBER(CSVデータ2!L80),CSVデータ2!L80,0)+IF(ISNUMBER(CSVデータ3!L80),CSVデータ3!L80,0)+IF(ISNUMBER(CSVデータ4!L80),CSVデータ4!L80,0)","v":50},null,{"$f":"IF(ISNUMBER(CSVデータ1!N80),CSVデータ1!N80,0)+IF(ISNUMBER(CSVデータ2!N80),CSVデータ2!N80,0)+IF(ISNUMBER(CSVデータ3!N80),CSVデータ3!N80,0)+IF(ISNUMBER(CSVデータ4!N80),CSVデータ4!N80,0)","v":9},null,{"$f":"IF(ISNUMBER(CSVデータ1!P80),CSVデータ1!P80,0)+IF(ISNUMBER(CSVデータ2!P80),CSVデータ2!P80,0)+IF(ISNUMBER(CSVデータ3!P80),CSVデータ3!P80,0)+IF(ISNUMBER(CSVデータ4!P80),CSVデータ4!P80,0)","v":27},null,{"$f":"IF(ISNUMBER(CSVデータ1!R80),CSVデータ1!R80,0)+IF(ISNUMBER(CSVデータ2!R80),CSVデータ2!R80,0)+IF(ISNUMBER(CSVデータ3!R80),CSVデータ3!R80,0)+IF(ISNUMBER(CSVデータ4!R80),CSVデータ4!R80,0)","v":50},null,{"$f":"IF(ISNUMBER(CSVデータ1!T80),CSVデータ1!T80,0)+IF(ISNUMBER(CSVデータ2!T80),CSVデータ2!T80,0)+IF(ISNUMBER(CSVデータ3!T80),CSVデータ3!T80,0)+IF(ISNUMBER(CSVデータ4!T80),CSVデータ4!T80,0)","v":24},null,{"$f":"IF(ISNUMBER(CSVデータ1!V80),CSVデータ1!V80,0)+IF(ISNUMBER(CSVデータ2!V80),CSVデータ2!V80,0)+IF(ISNUMBER(CSVデータ3!V80),CSVデータ3!V80,0)+IF(ISNUMBER(CSVデータ4!V80),CSVデータ4!V80,0)","v":45},null,{"$f":"IF(ISNUMBER(CSVデータ1!X80),CSVデータ1!X80,0)+IF(ISNUMBER(CSVデータ2!X80),CSVデータ2!X80,0)+IF(ISNUMBER(CSVデータ3!X80),CSVデータ3!X80,0)+IF(ISNUMBER(CSVデータ4!X80),CSVデータ4!X80,0)","v":38},null,{"$f":"IF(ISNUMBER(CSVデータ1!Z80),CSVデータ1!Z80,0)+IF(ISNUMBER(CSVデータ2!Z80),CSVデータ2!Z80,0)+IF(ISNUMBER(CSVデータ3!Z80),CSVデータ3!Z80,0)+IF(ISNUMBER(CSVデータ4!Z80),CSVデータ4!Z80,0)","v":80},null,{"$f":"IF(ISNUMBER(CSVデータ1!AB80),CSVデータ1!AB80,0)+IF(ISNUMBER(CSVデータ2!AB80),CSVデータ2!AB80,0)+IF(ISNUMBER(CSVデータ3!AB80),CSVデータ3!AB80,0)+IF(ISNUMBER(CSVデータ4!AB80),CSVデータ4!AB80,0)","v":0},null,{"$f":"IF(ISNUMBER(CSVデータ1!AD80),CSVデータ1!AD80,0)+IF(ISNUMBER(CSVデータ2!AD80),CSVデータ2!AD80,0)+IF(ISNUMBER(CSVデータ3!AD80),CSVデータ3!AD80,0)+IF(ISNUMBER(CSVデータ4!AD80),CSVデータ4!AD80,0)","v":29},null,{"$f":"IF(ISNUMBER(CSVデータ1!AF80),CSVデータ1!AF80,0)+IF(ISNUMBER(CSVデータ2!AF80),CSVデータ2!AF80,0)+IF(ISNUMBER(CSVデータ3!AF80),CSVデータ3!AF80,0)+IF(ISNUMBER(CSVデータ4!AF80),CSVデータ4!AF80,0)","v":9},null,{"$f":"IF(ISNUMBER(CSVデータ1!AH80),CSVデータ1!AH80,0)+IF(ISNUMBER(CSVデータ2!AH80),CSVデータ2!AH80,0)+IF(ISNUMBER(CSVデータ3!AH80),CSVデータ3!AH80,0)+IF(ISNUMBER(CSVデータ4!AH80),CSVデータ4!AH80,0)","v":0},null,{"$f":"IF(ISNUMBER(CSVデータ1!AJ80),CSVデータ1!AJ80,0)+IF(ISNUMBER(CSVデータ2!AJ80),CSVデータ2!AJ80,0)+IF(ISNUMBER(CSVデータ3!AJ80),CSVデータ3!AJ80,0)+IF(ISNUMBER(CSVデータ4!AJ80),CSVデータ4!AJ80,0)","v":4},null,{"$f":"IF(ISNUMBER(CSVデータ1!AL80),CSVデータ1!AL80,0)+IF(ISNUMBER(CSVデータ2!AL80),CSVデータ2!AL80,0)+IF(ISNUMBER(CSVデータ3!AL80),CSVデータ3!AL80,0)+IF(ISNUMBER(CSVデータ4!AL80),CSVデータ4!AL80,0)","v":5},null,{"$f":"IF(ISNUMBER(CSVデータ1!AN80),CSVデータ1!AN80,0)+IF(ISNUMBER(CSVデータ2!AN80),CSVデータ2!AN80,0)+IF(ISNUMBER(CSVデータ3!AN80),CSVデータ3!AN80,0)+IF(ISNUMBER(CSVデータ4!AN80),CSVデータ4!AN80,0)","v":3}]
[{"$f":"CSVデータ1!A81","v":"明細部"},{"$f":"CSVデータ1!B81","v":"県"},{"$f":"CSVデータ1!C81","v":47},{"$f":"CSVデータ1!D81","v":"男"},{"$f":"IF(ISNUMBER(CSVデータ1!E81),CSVデータ1!E81,0)+IF(ISNUMBER(CSVデータ2!E81),CSVデータ2!E81,0)+IF(ISNUMBER(CSVデータ3!E81),CSVデータ3!E81,0)+IF(ISNUMBER(CSVデータ4!E81),CSVデータ4!E81,0)","v":154},{"$f":"IF(ISNUMBER(CSVデータ1!F81),CSVデータ1!F81,0)+IF(ISNUMBER(CSVデータ2!F81),CSVデータ2!F81,0)+IF(ISNUMBER(CSVデータ3!F81),CSVデータ3!F81,0)+IF(ISNUMBER(CSVデータ4!F81),CSVデータ4!F81,0)","v":68},null,{"$f":"IF(ISNUMBER(CSVデータ1!H81),CSVデータ1!H81,0)+IF(ISNUMBER(CSVデータ2!H81),CSVデータ2!H81,0)+IF(ISNUMBER(CSVデータ3!H81),CSVデータ3!H81,0)+IF(ISNUMBER(CSVデータ4!H81),CSVデータ4!H81,0)","v":96},null,{"$f":"IF(ISNUMBER(CSVデータ1!J81),CSVデータ1!J81,0)+IF(ISNUMBER(CSVデータ2!J81),CSVデータ2!J81,0)+IF(ISNUMBER(CSVデータ3!J81),CSVデータ3!J81,0)+IF(ISNUMBER(CSVデータ4!J81),CSVデータ4!J81,0)","v":43},null,{"$f":"IF(ISNUMBER(CSVデータ1!L81),CSVデータ1!L81,0)+IF(ISNUMBER(CSVデータ2!L81),CSVデータ2!L81,0)+IF(ISNUMBER(CSVデータ3!L81),CSVデータ3!L81,0)+IF(ISNUMBER(CSVデータ4!L81),CSVデータ4!L81,0)","v":57},null,{"$f":"IF(ISNUMBER(CSVデータ1!N81),CSVデータ1!N81,0)+IF(ISNUMBER(CSVデータ2!N81),CSVデータ2!N81,0)+IF(ISNUMBER(CSVデータ3!N81),CSVデータ3!N81,0)+IF(ISNUMBER(CSVデータ4!N81),CSVデータ4!N81,0)","v":17},null,{"$f":"IF(ISNUMBER(CSVデータ1!P81),CSVデータ1!P81,0)+IF(ISNUMBER(CSVデータ2!P81),CSVデータ2!P81,0)+IF(ISNUMBER(CSVデータ3!P81),CSVデータ3!P81,0)+IF(ISNUMBER(CSVデータ4!P81),CSVデータ4!P81,0)","v":32},null,{"$f":"IF(ISNUMBER(CSVデータ1!R81),CSVデータ1!R81,0)+IF(ISNUMBER(CSVデータ2!R81),CSVデータ2!R81,0)+IF(ISNUMBER(CSVデータ3!R81),CSVデータ3!R81,0)+IF(ISNUMBER(CSVデータ4!R81),CSVデータ4!R81,0)","v":61},null,{"$f":"IF(ISNUMBER(CSVデータ1!T81),CSVデータ1!T81,0)+IF(ISNUMBER(CSVデータ2!T81),CSVデータ2!T81,0)+IF(ISNUMBER(CSVデータ3!T81),CSVデータ3!T81,0)+IF(ISNUMBER(CSVデータ4!T81),CSVデータ4!T81,0)","v":33},null,{"$f":"IF(ISNUMBER(CSVデータ1!V81),CSVデータ1!V81,0)+IF(ISNUMBER(CSVデータ2!V81),CSVデータ2!V81,0)+IF(ISNUMBER(CSVデータ3!V81),CSVデータ3!V81,0)+IF(ISNUMBER(CSVデータ4!V81),CSVデータ4!V81,0)","v":46},null,{"$f":"IF(ISNUMBER(CSVデータ1!X81),CSVデータ1!X81,0)+IF(ISNUMBER(CSVデータ2!X81),CSVデータ2!X81,0)+IF(ISNUMBER(CSVデータ3!X81),CSVデータ3!X81,0)+IF(ISNUMBER(CSVデータ4!X81),CSVデータ4!X81,0)","v":44},null,{"$f":"IF(ISNUMBER(CSVデータ1!Z81),CSVデータ1!Z81,0)+IF(ISNUMBER(CSVデータ2!Z81),CSVデータ2!Z81,0)+IF(ISNUMBER(CSVデータ3!Z81),CSVデータ3!Z81,0)+IF(ISNUMBER(CSVデータ4!Z81),CSVデータ4!Z81,0)","v":85},null,{"$f":"IF(ISNUMBER(CSVデータ1!AB81),CSVデータ1!AB81,0)+IF(ISNUMBER(CSVデータ2!AB81),CSVデータ2!AB81,0)+IF(ISNUMBER(CSVデータ3!AB81),CSVデータ3!AB81,0)+IF(ISNUMBER(CSVデータ4!AB81),CSVデータ4!AB81,0)","v":0},null,{"$f":"IF(ISNUMBER(CSVデータ1!AD81),CSVデータ1!AD81,0)+IF(ISNUMBER(CSVデータ2!AD81),CSVデータ2!AD81,0)+IF(ISNUMBER(CSVデータ3!AD81),CSVデータ3!AD81,0)+IF(ISNUMBER(CSVデータ4!AD81),CSVデータ4!AD81,0)","v":33},null,{"$f":"IF(ISNUMBER(CSVデータ1!AF81),CSVデータ1!AF81,0)+IF(ISNUMBER(CSVデータ2!AF81),CSVデータ2!AF81,0)+IF(ISNUMBER(CSVデータ3!AF81),CSVデータ3!AF81,0)+IF(ISNUMBER(CSVデータ4!AF81),CSVデータ4!AF81,0)","v":9},null,{"$f":"IF(ISNUMBER(CSVデータ1!AH81),CSVデータ1!AH81,0)+IF(ISNUMBER(CSVデータ2!AH81),CSVデータ2!AH81,0)+IF(ISNUMBER(CSVデータ3!AH81),CSVデータ3!AH81,0)+IF(ISNUMBER(CSVデータ4!AH81),CSVデータ4!AH81,0)","v":0},null,{"$f":"IF(ISNUMBER(CSVデータ1!AJ81),CSVデータ1!AJ81,0)+IF(ISNUMBER(CSVデータ2!AJ81),CSVデータ2!AJ81,0)+IF(ISNUMBER(CSVデータ3!AJ81),CSVデータ3!AJ81,0)+IF(ISNUMBER(CSVデータ4!AJ81),CSVデータ4!AJ81,0)","v":4},null,{"$f":"IF(ISNUMBER(CSVデータ1!AL81),CSVデータ1!AL81,0)+IF(ISNUMBER(CSVデータ2!AL81),CSVデータ2!AL81,0)+IF(ISNUMBER(CSVデータ3!AL81),CSVデータ3!AL81,0)+IF(ISNUMBER(CSVデータ4!AL81),CSVデータ4!AL81,0)","v":5},null,{"$f":"IF(ISNUMBER(CSVデータ1!AN81),CSVデータ1!AN81,0)+IF(ISNUMBER(CSVデータ2!AN81),CSVデータ2!AN81,0)+IF(ISNUMBER(CSVデータ3!AN81),CSVデータ3!AN81,0)+IF(ISNUMBER(CSVデータ4!AN81),CSVデータ4!AN81,0)","v":2}]
[{"$f":"CSVデータ1!A82","v":"明細部"},{"$f":"CSVデータ1!B82","v":"県"},{"$f":"CSVデータ1!C82","v":48},{"$f":"CSVデータ1!D82","v":"男"},{"$f":"IF(ISNUMBER(CSVデータ1!E82),CSVデータ1!E82,0)+IF(ISNUMBER(CSVデータ2!E82),CSVデータ2!E82,0)+IF(ISNUMBER(CSVデータ3!E82),CSVデータ3!E82,0)+IF(ISNUMBER(CSVデータ4!E82),CSVデータ4!E82,0)","v":146},{"$f":"IF(ISNUMBER(CSVデータ1!F82),CSVデータ1!F82,0)+IF(ISNUMBER(CSVデータ2!F82),CSVデータ2!F82,0)+IF(ISNUMBER(CSVデータ3!F82),CSVデータ3!F82,0)+IF(ISNUMBER(CSVデータ4!F82),CSVデータ4!F82,0)","v":65},null,{"$f":"IF(ISNUMBER(CSVデータ1!H82),CSVデータ1!H82,0)+IF(ISNUMBER(CSVデータ2!H82),CSVデータ2!H82,0)+IF(ISNUMBER(CSVデータ3!H82),CSVデータ3!H82,0)+IF(ISNUMBER(CSVデータ4!H82),CSVデータ4!H82,0)","v":79},null,{"$f":"IF(ISNUMBER(CSVデータ1!J82),CSVデータ1!J82,0)+IF(ISNUMBER(CSVデータ2!J82),CSVデータ2!J82,0)+IF(ISNUMBER(CSVデータ3!J82),CSVデータ3!J82,0)+IF(ISNUMBER(CSVデータ4!J82),CSVデータ4!J82,0)","v":54},null,{"$f":"IF(ISNUMBER(CSVデータ1!L82),CSVデータ1!L82,0)+IF(ISNUMBER(CSVデータ2!L82),CSVデータ2!L82,0)+IF(ISNUMBER(CSVデータ3!L82),CSVデータ3!L82,0)+IF(ISNUMBER(CSVデータ4!L82),CSVデータ4!L82,0)","v":47},null,{"$f":"IF(ISNUMBER(CSVデータ1!N82),CSVデータ1!N82,0)+IF(ISNUMBER(CSVデータ2!N82),CSVデータ2!N82,0)+IF(ISNUMBER(CSVデータ3!N82),CSVデータ3!N82,0)+IF(ISNUMBER(CSVデータ4!N82),CSVデータ4!N82,0)","v":11},null,{"$f":"IF(ISNUMBER(CSVデータ1!P82),CSVデータ1!P82,0)+IF(ISNUMBER(CSVデータ2!P82),CSVデータ2!P82,0)+IF(ISNUMBER(CSVデータ3!P82),CSVデータ3!P82,0)+IF(ISNUMBER(CSVデータ4!P82),CSVデータ4!P82,0)","v":42},null,{"$f":"IF(ISNUMBER(CSVデータ1!R82),CSVデータ1!R82,0)+IF(ISNUMBER(CSVデータ2!R82),CSVデータ2!R82,0)+IF(ISNUMBER(CSVデータ3!R82),CSVデータ3!R82,0)+IF(ISNUMBER(CSVデータ4!R82),CSVデータ4!R82,0)","v":77},null,{"$f":"IF(ISNUMBER(CSVデータ1!T82),CSVデータ1!T82,0)+IF(ISNUMBER(CSVデータ2!T82),CSVデータ2!T82,0)+IF(ISNUMBER(CSVデータ3!T82),CSVデータ3!T82,0)+IF(ISNUMBER(CSVデータ4!T82),CSVデータ4!T82,0)","v":31},null,{"$f":"IF(ISNUMBER(CSVデータ1!V82),CSVデータ1!V82,0)+IF(ISNUMBER(CSVデータ2!V82),CSVデータ2!V82,0)+IF(ISNUMBER(CSVデータ3!V82),CSVデータ3!V82,0)+IF(ISNUMBER(CSVデータ4!V82),CSVデータ4!V82,0)","v":58},null,{"$f":"IF(ISNUMBER(CSVデータ1!X82),CSVデータ1!X82,0)+IF(ISNUMBER(CSVデータ2!X82),CSVデータ2!X82,0)+IF(ISNUMBER(CSVデータ3!X82),CSVデータ3!X82,0)+IF(ISNUMBER(CSVデータ4!X82),CSVデータ4!X82,0)","v":47},null,{"$f":"IF(ISNUMBER(CSVデータ1!Z82),CSVデータ1!Z82,0)+IF(ISNUMBER(CSVデータ2!Z82),CSVデータ2!Z82,0)+IF(ISNUMBER(CSVデータ3!Z82),CSVデータ3!Z82,0)+IF(ISNUMBER(CSVデータ4!Z82),CSVデータ4!Z82,0)","v":84},null,{"$f":"IF(ISNUMBER(CSVデータ1!AB82),CSVデータ1!AB82,0)+IF(ISNUMBER(CSVデータ2!AB82),CSVデータ2!AB82,0)+IF(ISNUMBER(CSVデータ3!AB82),CSVデータ3!AB82,0)+IF(ISNUMBER(CSVデータ4!AB82),CSVデータ4!AB82,0)","v":1},null,{"$f":"IF(ISNUMBER(CSVデータ1!AD82),CSVデータ1!AD82,0)+IF(ISNUMBER(CSVデータ2!AD82),CSVデータ2!AD82,0)+IF(ISNUMBER(CSVデータ3!AD82),CSVデータ3!AD82,0)+IF(ISNUMBER(CSVデータ4!AD82),CSVデータ4!AD82,0)","v":29},null,{"$f":"IF(ISNUMBER(CSVデータ1!AF82),CSVデータ1!AF82,0)+IF(ISNUMBER(CSVデータ2!AF82),CSVデータ2!AF82,0)+IF(ISNUMBER(CSVデータ3!AF82),CSVデータ3!AF82,0)+IF(ISNUMBER(CSVデータ4!AF82),CSVデータ4!AF82,0)","v":7},null,{"$f":"IF(ISNUMBER(CSVデータ1!AH82),CSVデータ1!AH82,0)+IF(ISNUMBER(CSVデータ2!AH82),CSVデータ2!AH82,0)+IF(ISNUMBER(CSVデータ3!AH82),CSVデータ3!AH82,0)+IF(ISNUMBER(CSVデータ4!AH82),CSVデータ4!AH82,0)","v":1},null,{"$f":"IF(ISNUMBER(CSVデータ1!AJ82),CSVデータ1!AJ82,0)+IF(ISNUMBER(CSVデータ2!AJ82),CSVデータ2!AJ82,0)+IF(ISNUMBER(CSVデータ3!AJ82),CSVデータ3!AJ82,0)+IF(ISNUMBER(CSVデータ4!AJ82),CSVデータ4!AJ82,0)","v":4},null,{"$f":"IF(ISNUMBER(CSVデータ1!AL82),CSVデータ1!AL82,0)+IF(ISNUMBER(CSVデータ2!AL82),CSVデータ2!AL82,0)+IF(ISNUMBER(CSVデータ3!AL82),CSVデータ3!AL82,0)+IF(ISNUMBER(CSVデータ4!AL82),CSVデータ4!AL82,0)","v":8},null,{"$f":"IF(ISNUMBER(CSVデータ1!AN82),CSVデータ1!AN82,0)+IF(ISNUMBER(CSVデータ2!AN82),CSVデータ2!AN82,0)+IF(ISNUMBER(CSVデータ3!AN82),CSVデータ3!AN82,0)+IF(ISNUMBER(CSVデータ4!AN82),CSVデータ4!AN82,0)","v":0}]
[{"$f":"CSVデータ1!A83","v":"明細部"},{"$f":"CSVデータ1!B83","v":"県"},{"$f":"CSVデータ1!C83","v":49},{"$f":"CSVデータ1!D83","v":"男"},{"$f":"IF(ISNUMBER(CSVデータ1!E83),CSVデータ1!E83,0)+IF(ISNUMBER(CSVデータ2!E83),CSVデータ2!E83,0)+IF(ISNUMBER(CSVデータ3!E83),CSVデータ3!E83,0)+IF(ISNUMBER(CSVデータ4!E83),CSVデータ4!E83,0)","v":145},{"$f":"IF(ISNUMBER(CSVデータ1!F83),CSVデータ1!F83,0)+IF(ISNUMBER(CSVデータ2!F83),CSVデータ2!F83,0)+IF(ISNUMBER(CSVデータ3!F83),CSVデータ3!F83,0)+IF(ISNUMBER(CSVデータ4!F83),CSVデータ4!F83,0)","v":61},null,{"$f":"IF(ISNUMBER(CSVデータ1!H83),CSVデータ1!H83,0)+IF(ISNUMBER(CSVデータ2!H83),CSVデータ2!H83,0)+IF(ISNUMBER(CSVデータ3!H83),CSVデータ3!H83,0)+IF(ISNUMBER(CSVデータ4!H83),CSVデータ4!H83,0)","v":76},null,{"$f":"IF(ISNUMBER(CSVデータ1!J83),CSVデータ1!J83,0)+IF(ISNUMBER(CSVデータ2!J83),CSVデータ2!J83,0)+IF(ISNUMBER(CSVデータ3!J83),CSVデータ3!J83,0)+IF(ISNUMBER(CSVデータ4!J83),CSVデータ4!J83,0)","v":41},null,{"$f":"IF(ISNUMBER(CSVデータ1!L83),CSVデータ1!L83,0)+IF(ISNUMBER(CSVデータ2!L83),CSVデータ2!L83,0)+IF(ISNUMBER(CSVデータ3!L83),CSVデータ3!L83,0)+IF(ISNUMBER(CSVデータ4!L83),CSVデータ4!L83,0)","v":50},null,{"$f":"IF(ISNUMBER(CSVデータ1!N83),CSVデータ1!N83,0)+IF(ISNUMBER(CSVデータ2!N83),CSVデータ2!N83,0)+IF(ISNUMBER(CSVデータ3!N83),CSVデータ3!N83,0)+IF(ISNUMBER(CSVデータ4!N83),CSVデータ4!N83,0)","v":7},null,{"$f":"IF(ISNUMBER(CSVデータ1!P83),CSVデータ1!P83,0)+IF(ISNUMBER(CSVデータ2!P83),CSVデータ2!P83,0)+IF(ISNUMBER(CSVデータ3!P83),CSVデータ3!P83,0)+IF(ISNUMBER(CSVデータ4!P83),CSVデータ4!P83,0)","v":31},null,{"$f":"IF(ISNUMBER(CSVデータ1!R83),CSVデータ1!R83,0)+IF(ISNUMBER(CSVデータ2!R83),CSVデータ2!R83,0)+IF(ISNUMBER(CSVデータ3!R83),CSVデータ3!R83,0)+IF(ISNUMBER(CSVデータ4!R83),CSVデータ4!R83,0)","v":67},null,{"$f":"IF(ISNUMBER(CSVデータ1!T83),CSVデータ1!T83,0)+IF(ISNUMBER(CSVデータ2!T83),CSVデータ2!T83,0)+IF(ISNUMBER(CSVデータ3!T83),CSVデータ3!T83,0)+IF(ISNUMBER(CSVデータ4!T83),CSVデータ4!T83,0)","v":32},null,{"$f":"IF(ISNUMBER(CSVデータ1!V83),CSVデータ1!V83,0)+IF(ISNUMBER(CSVデータ2!V83),CSVデータ2!V83,0)+IF(ISNUMBER(CSVデータ3!V83),CSVデータ3!V83,0)+IF(ISNUMBER(CSVデータ4!V83),CSVデータ4!V83,0)","v":49},null,{"$f":"IF(ISNUMBER(CSVデータ1!X83),CSVデータ1!X83,0)+IF(ISNUMBER(CSVデータ2!X83),CSVデータ2!X83,0)+IF(ISNUMBER(CSVデータ3!X83),CSVデータ3!X83,0)+IF(ISNUMBER(CSVデータ4!X83),CSVデータ4!X83,0)","v":54},null,{"$f":"IF(ISNUMBER(CSVデータ1!Z83),CSVデータ1!Z83,0)+IF(ISNUMBER(CSVデータ2!Z83),CSVデータ2!Z83,0)+IF(ISNUMBER(CSVデータ3!Z83),CSVデータ3!Z83,0)+IF(ISNUMBER(CSVデータ4!Z83),CSVデータ4!Z83,0)","v":90},null,{"$f":"IF(ISNUMBER(CSVデータ1!AB83),CSVデータ1!AB83,0)+IF(ISNUMBER(CSVデータ2!AB83),CSVデータ2!AB83,0)+IF(ISNUMBER(CSVデータ3!AB83),CSVデータ3!AB83,0)+IF(ISNUMBER(CSVデータ4!AB83),CSVデータ4!AB83,0)","v":2},null,{"$f":"IF(ISNUMBER(CSVデータ1!AD83),CSVデータ1!AD83,0)+IF(ISNUMBER(CSVデータ2!AD83),CSVデータ2!AD83,0)+IF(ISNUMBER(CSVデータ3!AD83),CSVデータ3!AD83,0)+IF(ISNUMBER(CSVデータ4!AD83),CSVデータ4!AD83,0)","v":29},null,{"$f":"IF(ISNUMBER(CSVデータ1!AF83),CSVデータ1!AF83,0)+IF(ISNUMBER(CSVデータ2!AF83),CSVデータ2!AF83,0)+IF(ISNUMBER(CSVデータ3!AF83),CSVデータ3!AF83,0)+IF(ISNUMBER(CSVデータ4!AF83),CSVデータ4!AF83,0)","v":12},null,{"$f":"IF(ISNUMBER(CSVデータ1!AH83),CSVデータ1!AH83,0)+IF(ISNUMBER(CSVデータ2!AH83),CSVデータ2!AH83,0)+IF(ISNUMBER(CSVデータ3!AH83),CSVデータ3!AH83,0)+IF(ISNUMBER(CSVデータ4!AH83),CSVデータ4!AH83,0)","v":1},null,{"$f":"IF(ISNUMBER(CSVデータ1!AJ83),CSVデータ1!AJ83,0)+IF(ISNUMBER(CSVデータ2!AJ83),CSVデータ2!AJ83,0)+IF(ISNUMBER(CSVデータ3!AJ83),CSVデータ3!AJ83,0)+IF(ISNUMBER(CSVデータ4!AJ83),CSVデータ4!AJ83,0)","v":7},null,{"$f":"IF(ISNUMBER(CSVデータ1!AL83),CSVデータ1!AL83,0)+IF(ISNUMBER(CSVデータ2!AL83),CSVデータ2!AL83,0)+IF(ISNUMBER(CSVデータ3!AL83),CSVデータ3!AL83,0)+IF(ISNUMBER(CSVデータ4!AL83),CSVデータ4!AL83,0)","v":17},null,{"$f":"IF(ISNUMBER(CSVデータ1!AN83),CSVデータ1!AN83,0)+IF(ISNUMBER(CSVデータ2!AN83),CSVデータ2!AN83,0)+IF(ISNUMBER(CSVデータ3!AN83),CSVデータ3!AN83,0)+IF(ISNUMBER(CSVデータ4!AN83),CSVデータ4!AN83,0)","v":4}]
[{"$f":"CSVデータ1!A84","v":"明細部"},{"$f":"CSVデータ1!B84","v":"県"},{"$f":"CSVデータ1!C84","v":50},{"$f":"CSVデータ1!D84","v":"男"},{"$f":"IF(ISNUMBER(CSVデータ1!E84),CSVデータ1!E84,0)+IF(ISNUMBER(CSVデータ2!E84),CSVデータ2!E84,0)+IF(ISNUMBER(CSVデータ3!E84),CSVデータ3!E84,0)+IF(ISNUMBER(CSVデータ4!E84),CSVデータ4!E84,0)","v":173},{"$f":"IF(ISNUMBER(CSVデータ1!F84),CSVデータ1!F84,0)+IF(ISNUMBER(CSVデータ2!F84),CSVデータ2!F84,0)+IF(ISNUMBER(CSVデータ3!F84),CSVデータ3!F84,0)+IF(ISNUMBER(CSVデータ4!F84),CSVデータ4!F84,0)","v":71},null,{"$f":"IF(ISNUMBER(CSVデータ1!H84),CSVデータ1!H84,0)+IF(ISNUMBER(CSVデータ2!H84),CSVデータ2!H84,0)+IF(ISNUMBER(CSVデータ3!H84),CSVデータ3!H84,0)+IF(ISNUMBER(CSVデータ4!H84),CSVデータ4!H84,0)","v":96},null,{"$f":"IF(ISNUMBER(CSVデータ1!J84),CSVデータ1!J84,0)+IF(ISNUMBER(CSVデータ2!J84),CSVデータ2!J84,0)+IF(ISNUMBER(CSVデータ3!J84),CSVデータ3!J84,0)+IF(ISNUMBER(CSVデータ4!J84),CSVデータ4!J84,0)","v":39},null,{"$f":"IF(ISNUMBER(CSVデータ1!L84),CSVデータ1!L84,0)+IF(ISNUMBER(CSVデータ2!L84),CSVデータ2!L84,0)+IF(ISNUMBER(CSVデータ3!L84),CSVデータ3!L84,0)+IF(ISNUMBER(CSVデータ4!L84),CSVデータ4!L84,0)","v":50},null,{"$f":"IF(ISNUMBER(CSVデータ1!N84),CSVデータ1!N84,0)+IF(ISNUMBER(CSVデータ2!N84),CSVデータ2!N84,0)+IF(ISNUMBER(CSVデータ3!N84),CSVデータ3!N84,0)+IF(ISNUMBER(CSVデータ4!N84),CSVデータ4!N84,0)","v":14},null,{"$f":"IF(ISNUMBER(CSVデータ1!P84),CSVデータ1!P84,0)+IF(ISNUMBER(CSVデータ2!P84),CSVデータ2!P84,0)+IF(ISNUMBER(CSVデータ3!P84),CSVデータ3!P84,0)+IF(ISNUMBER(CSVデータ4!P84),CSVデータ4!P84,0)","v":46},null,{"$f":"IF(ISNUMBER(CSVデータ1!R84),CSVデータ1!R84,0)+IF(ISNUMBER(CSVデータ2!R84),CSVデータ2!R84,0)+IF(ISNUMBER(CSVデータ3!R84),CSVデータ3!R84,0)+IF(ISNUMBER(CSVデータ4!R84),CSVデータ4!R84,0)","v":85},null,{"$f":"IF(ISNUMBER(CSVデータ1!T84),CSVデータ1!T84,0)+IF(ISNUMBER(CSVデータ2!T84),CSVデータ2!T84,0)+IF(ISNUMBER(CSVデータ3!T84),CSVデータ3!T84,0)+IF(ISNUMBER(CSVデータ4!T84),CSVデータ4!T84,0)","v":32},null,{"$f":"IF(ISNUMBER(CSVデータ1!V84),CSVデータ1!V84,0)+IF(ISNUMBER(CSVデータ2!V84),CSVデータ2!V84,0)+IF(ISNUMBER(CSVデータ3!V84),CSVデータ3!V84,0)+IF(ISNUMBER(CSVデータ4!V84),CSVデータ4!V84,0)","v":69},null,{"$f":"IF(ISNUMBER(CSVデータ1!X84),CSVデータ1!X84,0)+IF(ISNUMBER(CSVデータ2!X84),CSVデータ2!X84,0)+IF(ISNUMBER(CSVデータ3!X84),CSVデータ3!X84,0)+IF(ISNUMBER(CSVデータ4!X84),CSVデータ4!X84,0)","v":64},null,{"$f":"IF(ISNUMBER(CSVデータ1!Z84),CSVデータ1!Z84,0)+IF(ISNUMBER(CSVデータ2!Z84),CSVデータ2!Z84,0)+IF(ISNUMBER(CSVデータ3!Z84),CSVデータ3!Z84,0)+IF(ISNUMBER(CSVデータ4!Z84),CSVデータ4!Z84,0)","v":99},null,{"$f":"IF(ISNUMBER(CSVデータ1!AB84),CSVデータ1!AB84,0)+IF(ISNUMBER(CSVデータ2!AB84),CSVデータ2!AB84,0)+IF(ISNUMBER(CSVデータ3!AB84),CSVデータ3!AB84,0)+IF(ISNUMBER(CSVデータ4!AB84),CSVデータ4!AB84,0)","v":4},null,{"$f":"IF(ISNUMBER(CSVデータ1!AD84),CSVデータ1!AD84,0)+IF(ISNUMBER(CSVデータ2!AD84),CSVデータ2!AD84,0)+IF(ISNUMBER(CSVデータ3!AD84),CSVデータ3!AD84,0)+IF(ISNUMBER(CSVデータ4!AD84),CSVデータ4!AD84,0)","v":40},null,{"$f":"IF(ISNUMBER(CSVデータ1!AF84),CSVデータ1!AF84,0)+IF(ISNUMBER(CSVデータ2!AF84),CSVデータ2!AF84,0)+IF(ISNUMBER(CSVデータ3!AF84),CSVデータ3!AF84,0)+IF(ISNUMBER(CSVデータ4!AF84),CSVデータ4!AF84,0)","v":15},null,{"$f":"IF(ISNUMBER(CSVデータ1!AH84),CSVデータ1!AH84,0)+IF(ISNUMBER(CSVデータ2!AH84),CSVデータ2!AH84,0)+IF(ISNUMBER(CSVデータ3!AH84),CSVデータ3!AH84,0)+IF(ISNUMBER(CSVデータ4!AH84),CSVデータ4!AH84,0)","v":3},null,{"$f":"IF(ISNUMBER(CSVデータ1!AJ84),CSVデータ1!AJ84,0)+IF(ISNUMBER(CSVデータ2!AJ84),CSVデータ2!AJ84,0)+IF(ISNUMBER(CSVデータ3!AJ84),CSVデータ3!AJ84,0)+IF(ISNUMBER(CSVデータ4!AJ84),CSVデータ4!AJ84,0)","v":3},null,{"$f":"IF(ISNUMBER(CSVデータ1!AL84),CSVデータ1!AL84,0)+IF(ISNUMBER(CSVデータ2!AL84),CSVデータ2!AL84,0)+IF(ISNUMBER(CSVデータ3!AL84),CSVデータ3!AL84,0)+IF(ISNUMBER(CSVデータ4!AL84),CSVデータ4!AL84,0)","v":11},null,{"$f":"IF(ISNUMBER(CSVデータ1!AN84),CSVデータ1!AN84,0)+IF(ISNUMBER(CSVデータ2!AN84),CSVデータ2!AN84,0)+IF(ISNUMBER(CSVデータ3!AN84),CSVデータ3!AN84,0)+IF(ISNUMBER(CSVデータ4!AN84),CSVデータ4!AN84,0)","v":6}]
[{"$f":"CSVデータ1!A85","v":"明細部"},{"$f":"CSVデータ1!B85","v":"県"},{"$f":"CSVデータ1!C85","v":51},{"$f":"CSVデータ1!D85","v":"男"},{"$f":"IF(ISNUMBER(CSVデータ1!E85),CSVデータ1!E85,0)+IF(ISNUMBER(CSVデータ2!E85),CSVデータ2!E85,0)+IF(ISNUMBER(CSVデータ3!E85),CSVデータ3!E85,0)+IF(ISNUMBER(CSVデータ4!E85),CSVデータ4!E85,0)","v":161},{"$f":"IF(ISNUMBER(CSVデータ1!F85),CSVデータ1!F85,0)+IF(ISNUMBER(CSVデータ2!F85),CSVデータ2!F85,0)+IF(ISNUMBER(CSVデータ3!F85),CSVデータ3!F85,0)+IF(ISNUMBER(CSVデータ4!F85),CSVデータ4!F85,0)","v":68},null,{"$f":"IF(ISNUMBER(CSVデータ1!H85),CSVデータ1!H85,0)+IF(ISNUMBER(CSVデータ2!H85),CSVデータ2!H85,0)+IF(ISNUMBER(CSVデータ3!H85),CSVデータ3!H85,0)+IF(ISNUMBER(CSVデータ4!H85),CSVデータ4!H85,0)","v":93},null,{"$f":"IF(ISNUMBER(CSVデータ1!J85),CSVデータ1!J85,0)+IF(ISNUMBER(CSVデータ2!J85),CSVデータ2!J85,0)+IF(ISNUMBER(CSVデータ3!J85),CSVデータ3!J85,0)+IF(ISNUMBER(CSVデータ4!J85),CSVデータ4!J85,0)","v":44},null,{"$f":"IF(ISNUMBER(CSVデータ1!L85),CSVデータ1!L85,0)+IF(ISNUMBER(CSVデータ2!L85),CSVデータ2!L85,0)+IF(ISNUMBER(CSVデータ3!L85),CSVデータ3!L85,0)+IF(ISNUMBER(CSVデータ4!L85),CSVデータ4!L85,0)","v":37},null,{"$f":"IF(ISNUMBER(CSVデータ1!N85),CSVデータ1!N85,0)+IF(ISNUMBER(CSVデータ2!N85),CSVデータ2!N85,0)+IF(ISNUMBER(CSVデータ3!N85),CSVデータ3!N85,0)+IF(ISNUMBER(CSVデータ4!N85),CSVデータ4!N85,0)","v":13},null,{"$f":"IF(ISNUMBER(CSVデータ1!P85),CSVデータ1!P85,0)+IF(ISNUMBER(CSVデータ2!P85),CSVデータ2!P85,0)+IF(ISNUMBER(CSVデータ3!P85),CSVデータ3!P85,0)+IF(ISNUMBER(CSVデータ4!P85),CSVデータ4!P85,0)","v":38},null,{"$f":"IF(ISNUMBER(CSVデータ1!R85),CSVデータ1!R85,0)+IF(ISNUMBER(CSVデータ2!R85),CSVデータ2!R85,0)+IF(ISNUMBER(CSVデータ3!R85),CSVデータ3!R85,0)+IF(ISNUMBER(CSVデータ4!R85),CSVデータ4!R85,0)","v":71},null,{"$f":"IF(ISNUMBER(CSVデータ1!T85),CSVデータ1!T85,0)+IF(ISNUMBER(CSVデータ2!T85),CSVデータ2!T85,0)+IF(ISNUMBER(CSVデータ3!T85),CSVデータ3!T85,0)+IF(ISNUMBER(CSVデータ4!T85),CSVデータ4!T85,0)","v":35},null,{"$f":"IF(ISNUMBER(CSVデータ1!V85),CSVデータ1!V85,0)+IF(ISNUMBER(CSVデータ2!V85),CSVデータ2!V85,0)+IF(ISNUMBER(CSVデータ3!V85),CSVデータ3!V85,0)+IF(ISNUMBER(CSVデータ4!V85),CSVデータ4!V85,0)","v":72},null,{"$f":"IF(ISNUMBER(CSVデータ1!X85),CSVデータ1!X85,0)+IF(ISNUMBER(CSVデータ2!X85),CSVデータ2!X85,0)+IF(ISNUMBER(CSVデータ3!X85),CSVデータ3!X85,0)+IF(ISNUMBER(CSVデータ4!X85),CSVデータ4!X85,0)","v":65},null,{"$f":"IF(ISNUMBER(CSVデータ1!Z85),CSVデータ1!Z85,0)+IF(ISNUMBER(CSVデータ2!Z85),CSVデータ2!Z85,0)+IF(ISNUMBER(CSVデータ3!Z85),CSVデータ3!Z85,0)+IF(ISNUMBER(CSVデータ4!Z85),CSVデータ4!Z85,0)","v":87},null,{"$f":"IF(ISNUMBER(CSVデータ1!AB85),CSVデータ1!AB85,0)+IF(ISNUMBER(CSVデータ2!AB85),CSVデータ2!AB85,0)+IF(ISNUMBER(CSVデータ3!AB85),CSVデータ3!AB85,0)+IF(ISNUMBER(CSVデータ4!AB85),CSVデータ4!AB85,0)","v":0},null,{"$f":"IF(ISNUMBER(CSVデータ1!AD85),CSVデータ1!AD85,0)+IF(ISNUMBER(CSVデータ2!AD85),CSVデータ2!AD85,0)+IF(ISNUMBER(CSVデータ3!AD85),CSVデータ3!AD85,0)+IF(ISNUMBER(CSVデータ4!AD85),CSVデータ4!AD85,0)","v":31},null,{"$f":"IF(ISNUMBER(CSVデータ1!AF85),CSVデータ1!AF85,0)+IF(ISNUMBER(CSVデータ2!AF85),CSVデータ2!AF85,0)+IF(ISNUMBER(CSVデータ3!AF85),CSVデータ3!AF85,0)+IF(ISNUMBER(CSVデータ4!AF85),CSVデータ4!AF85,0)","v":9},null,{"$f":"IF(ISNUMBER(CSVデータ1!AH85),CSVデータ1!AH85,0)+IF(ISNUMBER(CSVデータ2!AH85),CSVデータ2!AH85,0)+IF(ISNUMBER(CSVデータ3!AH85),CSVデータ3!AH85,0)+IF(ISNUMBER(CSVデータ4!AH85),CSVデータ4!AH85,0)","v":0},null,{"$f":"IF(ISNUMBER(CSVデータ1!AJ85),CSVデータ1!AJ85,0)+IF(ISNUMBER(CSVデータ2!AJ85),CSVデータ2!AJ85,0)+IF(ISNUMBER(CSVデータ3!AJ85),CSVデータ3!AJ85,0)+IF(ISNUMBER(CSVデータ4!AJ85),CSVデータ4!AJ85,0)","v":5},null,{"$f":"IF(ISNUMBER(CSVデータ1!AL85),CSVデータ1!AL85,0)+IF(ISNUMBER(CSVデータ2!AL85),CSVデータ2!AL85,0)+IF(ISNUMBER(CSVデータ3!AL85),CSVデータ3!AL85,0)+IF(ISNUMBER(CSVデータ4!AL85),CSVデータ4!AL85,0)","v":11},null,{"$f":"IF(ISNUMBER(CSVデータ1!AN85),CSVデータ1!AN85,0)+IF(ISNUMBER(CSVデータ2!AN85),CSVデータ2!AN85,0)+IF(ISNUMBER(CSVデータ3!AN85),CSVデータ3!AN85,0)+IF(ISNUMBER(CSVデータ4!AN85),CSVデータ4!AN85,0)","v":5}]
[{"$f":"CSVデータ1!A86","v":"明細部"},{"$f":"CSVデータ1!B86","v":"県"},{"$f":"CSVデータ1!C86","v":52},{"$f":"CSVデータ1!D86","v":"男"},{"$f":"IF(ISNUMBER(CSVデータ1!E86),CSVデータ1!E86,0)+IF(ISNUMBER(CSVデータ2!E86),CSVデータ2!E86,0)+IF(ISNUMBER(CSVデータ3!E86),CSVデータ3!E86,0)+IF(ISNUMBER(CSVデータ4!E86),CSVデータ4!E86,0)","v":176},{"$f":"IF(ISNUMBER(CSVデータ1!F86),CSVデータ1!F86,0)+IF(ISNUMBER(CSVデータ2!F86),CSVデータ2!F86,0)+IF(ISNUMBER(CSVデータ3!F86),CSVデータ3!F86,0)+IF(ISNUMBER(CSVデータ4!F86),CSVデータ4!F86,0)","v":84},null,{"$f":"IF(ISNUMBER(CSVデータ1!H86),CSVデータ1!H86,0)+IF(ISNUMBER(CSVデータ2!H86),CSVデータ2!H86,0)+IF(ISNUMBER(CSVデータ3!H86),CSVデータ3!H86,0)+IF(ISNUMBER(CSVデータ4!H86),CSVデータ4!H86,0)","v":101},null,{"$f":"IF(ISNUMBER(CSVデータ1!J86),CSVデータ1!J86,0)+IF(ISNUMBER(CSVデータ2!J86),CSVデータ2!J86,0)+IF(ISNUMBER(CSVデータ3!J86),CSVデータ3!J86,0)+IF(ISNUMBER(CSVデータ4!J86),CSVデータ4!J86,0)","v":51},null,{"$f":"IF(ISNUMBER(CSVデータ1!L86),CSVデータ1!L86,0)+IF(ISNUMBER(CSVデータ2!L86),CSVデータ2!L86,0)+IF(ISNUMBER(CSVデータ3!L86),CSVデータ3!L86,0)+IF(ISNUMBER(CSVデータ4!L86),CSVデータ4!L86,0)","v":54},null,{"$f":"IF(ISNUMBER(CSVデータ1!N86),CSVデータ1!N86,0)+IF(ISNUMBER(CSVデータ2!N86),CSVデータ2!N86,0)+IF(ISNUMBER(CSVデータ3!N86),CSVデータ3!N86,0)+IF(ISNUMBER(CSVデータ4!N86),CSVデータ4!N86,0)","v":14},null,{"$f":"IF(ISNUMBER(CSVデータ1!P86),CSVデータ1!P86,0)+IF(ISNUMBER(CSVデータ2!P86),CSVデータ2!P86,0)+IF(ISNUMBER(CSVデータ3!P86),CSVデータ3!P86,0)+IF(ISNUMBER(CSVデータ4!P86),CSVデータ4!P86,0)","v":51},null,{"$f":"IF(ISNUMBER(CSVデータ1!R86),CSVデータ1!R86,0)+IF(ISNUMBER(CSVデータ2!R86),CSVデータ2!R86,0)+IF(ISNUMBER(CSVデータ3!R86),CSVデータ3!R86,0)+IF(ISNUMBER(CSVデータ4!R86),CSVデータ4!R86,0)","v":100},null,{"$f":"IF(ISNUMBER(CSVデータ1!T86),CSVデータ1!T86,0)+IF(ISNUMBER(CSVデータ2!T86),CSVデータ2!T86,0)+IF(ISNUMBER(CSVデータ3!T86),CSVデータ3!T86,0)+IF(ISNUMBER(CSVデータ4!T86),CSVデータ4!T86,0)","v":30},null,{"$f":"IF(ISNUMBER(CSVデータ1!V86),CSVデータ1!V86,0)+IF(ISNUMBER(CSVデータ2!V86),CSVデータ2!V86,0)+IF(ISNUMBER(CSVデータ3!V86),CSVデータ3!V86,0)+IF(ISNUMBER(CSVデータ4!V86),CSVデータ4!V86,0)","v":66},null,{"$f":"IF(ISNUMBER(CSVデータ1!X86),CSVデータ1!X86,0)+IF(ISNUMBER(CSVデータ2!X86),CSVデータ2!X86,0)+IF(ISNUMBER(CSVデータ3!X86),CSVデータ3!X86,0)+IF(ISNUMBER(CSVデータ4!X86),CSVデータ4!X86,0)","v":56},null,{"$f":"IF(ISNUMBER(CSVデータ1!Z86),CSVデータ1!Z86,0)+IF(ISNUMBER(CSVデータ2!Z86),CSVデータ2!Z86,0)+IF(ISNUMBER(CSVデータ3!Z86),CSVデータ3!Z86,0)+IF(ISNUMBER(CSVデータ4!Z86),CSVデータ4!Z86,0)","v":90},null,{"$f":"IF(ISNUMBER(CSVデータ1!AB86),CSVデータ1!AB86,0)+IF(ISNUMBER(CSVデータ2!AB86),CSVデータ2!AB86,0)+IF(ISNUMBER(CSVデータ3!AB86),CSVデータ3!AB86,0)+IF(ISNUMBER(CSVデータ4!AB86),CSVデータ4!AB86,0)","v":0},null,{"$f":"IF(ISNUMBER(CSVデータ1!AD86),CSVデータ1!AD86,0)+IF(ISNUMBER(CSVデータ2!AD86),CSVデータ2!AD86,0)+IF(ISNUMBER(CSVデータ3!AD86),CSVデータ3!AD86,0)+IF(ISNUMBER(CSVデータ4!AD86),CSVデータ4!AD86,0)","v":46},null,{"$f":"IF(ISNUMBER(CSVデータ1!AF86),CSVデータ1!AF86,0)+IF(ISNUMBER(CSVデータ2!AF86),CSVデータ2!AF86,0)+IF(ISNUMBER(CSVデータ3!AF86),CSVデータ3!AF86,0)+IF(ISNUMBER(CSVデータ4!AF86),CSVデータ4!AF86,0)","v":13},null,{"$f":"IF(ISNUMBER(CSVデータ1!AH86),CSVデータ1!AH86,0)+IF(ISNUMBER(CSVデータ2!AH86),CSVデータ2!AH86,0)+IF(ISNUMBER(CSVデータ3!AH86),CSVデータ3!AH86,0)+IF(ISNUMBER(CSVデータ4!AH86),CSVデータ4!AH86,0)","v":2},null,{"$f":"IF(ISNUMBER(CSVデータ1!AJ86),CSVデータ1!AJ86,0)+IF(ISNUMBER(CSVデータ2!AJ86),CSVデータ2!AJ86,0)+IF(ISNUMBER(CSVデータ3!AJ86),CSVデータ3!AJ86,0)+IF(ISNUMBER(CSVデータ4!AJ86),CSVデータ4!AJ86,0)","v":3},null,{"$f":"IF(ISNUMBER(CSVデータ1!AL86),CSVデータ1!AL86,0)+IF(ISNUMBER(CSVデータ2!AL86),CSVデータ2!AL86,0)+IF(ISNUMBER(CSVデータ3!AL86),CSVデータ3!AL86,0)+IF(ISNUMBER(CSVデータ4!AL86),CSVデータ4!AL86,0)","v":12},null,{"$f":"IF(ISNUMBER(CSVデータ1!AN86),CSVデータ1!AN86,0)+IF(ISNUMBER(CSVデータ2!AN86),CSVデータ2!AN86,0)+IF(ISNUMBER(CSVデータ3!AN86),CSVデータ3!AN86,0)+IF(ISNUMBER(CSVデータ4!AN86),CSVデータ4!AN86,0)","v":6}]
[{"$f":"CSVデータ1!A87","v":"明細部"},{"$f":"CSVデータ1!B87","v":"県"},{"$f":"CSVデータ1!C87","v":53},{"$f":"CSVデータ1!D87","v":"男"},{"$f":"IF(ISNUMBER(CSVデータ1!E87),CSVデータ1!E87,0)+IF(ISNUMBER(CSVデータ2!E87),CSVデータ2!E87,0)+IF(ISNUMBER(CSVデータ3!E87),CSVデータ3!E87,0)+IF(ISNUMBER(CSVデータ4!E87),CSVデータ4!E87,0)","v":183},{"$f":"IF(ISNUMBER(CSVデータ1!F87),CSVデータ1!F87,0)+IF(ISNUMBER(CSVデータ2!F87),CSVデータ2!F87,0)+IF(ISNUMBER(CSVデータ3!F87),CSVデータ3!F87,0)+IF(ISNUMBER(CSVデータ4!F87),CSVデータ4!F87,0)","v":76},null,{"$f":"IF(ISNUMBER(CSVデータ1!H87),CSVデータ1!H87,0)+IF(ISNUMBER(CSVデータ2!H87),CSVデータ2!H87,0)+IF(ISNUMBER(CSVデータ3!H87),CSVデータ3!H87,0)+IF(ISNUMBER(CSVデータ4!H87),CSVデータ4!H87,0)","v":93},null,{"$f":"IF(ISNUMBER(CSVデータ1!J87),CSVデータ1!J87,0)+IF(ISNUMBER(CSVデータ2!J87),CSVデータ2!J87,0)+IF(ISNUMBER(CSVデータ3!J87),CSVデータ3!J87,0)+IF(ISNUMBER(CSVデータ4!J87),CSVデータ4!J87,0)","v":37},null,{"$f":"IF(ISNUMBER(CSVデータ1!L87),CSVデータ1!L87,0)+IF(ISNUMBER(CSVデータ2!L87),CSVデータ2!L87,0)+IF(ISNUMBER(CSVデータ3!L87),CSVデータ3!L87,0)+IF(ISNUMBER(CSVデータ4!L87),CSVデータ4!L87,0)","v":51},null,{"$f":"IF(ISNUMBER(CSVデータ1!N87),CSVデータ1!N87,0)+IF(ISNUMBER(CSVデータ2!N87),CSVデータ2!N87,0)+IF(ISNUMBER(CSVデータ3!N87),CSVデータ3!N87,0)+IF(ISNUMBER(CSVデータ4!N87),CSVデータ4!N87,0)","v":10},null,{"$f":"IF(ISNUMBER(CSVデータ1!P87),CSVデータ1!P87,0)+IF(ISNUMBER(CSVデータ2!P87),CSVデータ2!P87,0)+IF(ISNUMBER(CSVデータ3!P87),CSVデータ3!P87,0)+IF(ISNUMBER(CSVデータ4!P87),CSVデータ4!P87,0)","v":52},null,{"$f":"IF(ISNUMBER(CSVデータ1!R87),CSVデータ1!R87,0)+IF(ISNUMBER(CSVデータ2!R87),CSVデータ2!R87,0)+IF(ISNUMBER(CSVデータ3!R87),CSVデータ3!R87,0)+IF(ISNUMBER(CSVデータ4!R87),CSVデータ4!R87,0)","v":90},null,{"$f":"IF(ISNUMBER(CSVデータ1!T87),CSVデータ1!T87,0)+IF(ISNUMBER(CSVデータ2!T87),CSVデータ2!T87,0)+IF(ISNUMBER(CSVデータ3!T87),CSVデータ3!T87,0)+IF(ISNUMBER(CSVデータ4!T87),CSVデータ4!T87,0)","v":23},null,{"$f":"IF(ISNUMBER(CSVデータ1!V87),CSVデータ1!V87,0)+IF(ISNUMBER(CSVデータ2!V87),CSVデータ2!V87,0)+IF(ISNUMBER(CSVデータ3!V87),CSVデータ3!V87,0)+IF(ISNUMBER(CSVデータ4!V87),CSVデータ4!V87,0)","v":91},null,{"$f":"IF(ISNUMBER(CSVデータ1!X87),CSVデータ1!X87,0)+IF(ISNUMBER(CSVデータ2!X87),CSVデータ2!X87,0)+IF(ISNUMBER(CSVデータ3!X87),CSVデータ3!X87,0)+IF(ISNUMBER(CSVデータ4!X87),CSVデータ4!X87,0)","v":73},null,{"$f":"IF(ISNUMBER(CSVデータ1!Z87),CSVデータ1!Z87,0)+IF(ISNUMBER(CSVデータ2!Z87),CSVデータ2!Z87,0)+IF(ISNUMBER(CSVデータ3!Z87),CSVデータ3!Z87,0)+IF(ISNUMBER(CSVデータ4!Z87),CSVデータ4!Z87,0)","v":92},null,{"$f":"IF(ISNUMBER(CSVデータ1!AB87),CSVデータ1!AB87,0)+IF(ISNUMBER(CSVデータ2!AB87),CSVデータ2!AB87,0)+IF(ISNUMBER(CSVデータ3!AB87),CSVデータ3!AB87,0)+IF(ISNUMBER(CSVデータ4!AB87),CSVデータ4!AB87,0)","v":1},null,{"$f":"IF(ISNUMBER(CSVデータ1!AD87),CSVデータ1!AD87,0)+IF(ISNUMBER(CSVデータ2!AD87),CSVデータ2!AD87,0)+IF(ISNUMBER(CSVデータ3!AD87),CSVデータ3!AD87,0)+IF(ISNUMBER(CSVデータ4!AD87),CSVデータ4!AD87,0)","v":49},null,{"$f":"IF(ISNUMBER(CSVデータ1!AF87),CSVデータ1!AF87,0)+IF(ISNUMBER(CSVデータ2!AF87),CSVデータ2!AF87,0)+IF(ISNUMBER(CSVデータ3!AF87),CSVデータ3!AF87,0)+IF(ISNUMBER(CSVデータ4!AF87),CSVデータ4!AF87,0)","v":12},null,{"$f":"IF(ISNUMBER(CSVデータ1!AH87),CSVデータ1!AH87,0)+IF(ISNUMBER(CSVデータ2!AH87),CSVデータ2!AH87,0)+IF(ISNUMBER(CSVデータ3!AH87),CSVデータ3!AH87,0)+IF(ISNUMBER(CSVデータ4!AH87),CSVデータ4!AH87,0)","v":2},null,{"$f":"IF(ISNUMBER(CSVデータ1!AJ87),CSVデータ1!AJ87,0)+IF(ISNUMBER(CSVデータ2!AJ87),CSVデータ2!AJ87,0)+IF(ISNUMBER(CSVデータ3!AJ87),CSVデータ3!AJ87,0)+IF(ISNUMBER(CSVデータ4!AJ87),CSVデータ4!AJ87,0)","v":2},null,{"$f":"IF(ISNUMBER(CSVデータ1!AL87),CSVデータ1!AL87,0)+IF(ISNUMBER(CSVデータ2!AL87),CSVデータ2!AL87,0)+IF(ISNUMBER(CSVデータ3!AL87),CSVデータ3!AL87,0)+IF(ISNUMBER(CSVデータ4!AL87),CSVデータ4!AL87,0)","v":15},null,{"$f":"IF(ISNUMBER(CSVデータ1!AN87),CSVデータ1!AN87,0)+IF(ISNUMBER(CSVデータ2!AN87),CSVデータ2!AN87,0)+IF(ISNUMBER(CSVデータ3!AN87),CSVデータ3!AN87,0)+IF(ISNUMBER(CSVデータ4!AN87),CSVデータ4!AN87,0)","v":4}]
[{"$f":"CSVデータ1!A88","v":"明細部"},{"$f":"CSVデータ1!B88","v":"県"},{"$f":"CSVデータ1!C88","v":54},{"$f":"CSVデータ1!D88","v":"男"},{"$f":"IF(ISNUMBER(CSVデータ1!E88),CSVデータ1!E88,0)+IF(ISNUMBER(CSVデータ2!E88),CSVデータ2!E88,0)+IF(ISNUMBER(CSVデータ3!E88),CSVデータ3!E88,0)+IF(ISNUMBER(CSVデータ4!E88),CSVデータ4!E88,0)","v":177},{"$f":"IF(ISNUMBER(CSVデータ1!F88),CSVデータ1!F88,0)+IF(ISNUMBER(CSVデータ2!F88),CSVデータ2!F88,0)+IF(ISNUMBER(CSVデータ3!F88),CSVデータ3!F88,0)+IF(ISNUMBER(CSVデータ4!F88),CSVデータ4!F88,0)","v":71},null,{"$f":"IF(ISNUMBER(CSVデータ1!H88),CSVデータ1!H88,0)+IF(ISNUMBER(CSVデータ2!H88),CSVデータ2!H88,0)+IF(ISNUMBER(CSVデータ3!H88),CSVデータ3!H88,0)+IF(ISNUMBER(CSVデータ4!H88),CSVデータ4!H88,0)","v":102},null,{"$f":"IF(ISNUMBER(CSVデータ1!J88),CSVデータ1!J88,0)+IF(ISNUMBER(CSVデータ2!J88),CSVデータ2!J88,0)+IF(ISNUMBER(CSVデータ3!J88),CSVデータ3!J88,0)+IF(ISNUMBER(CSVデータ4!J88),CSVデータ4!J88,0)","v":53},null,{"$f":"IF(ISNUMBER(CSVデータ1!L88),CSVデータ1!L88,0)+IF(ISNUMBER(CSVデータ2!L88),CSVデータ2!L88,0)+IF(ISNUMBER(CSVデータ3!L88),CSVデータ3!L88,0)+IF(ISNUMBER(CSVデータ4!L88),CSVデータ4!L88,0)","v":56},null,{"$f":"IF(ISNUMBER(CSVデータ1!N88),CSVデータ1!N88,0)+IF(ISNUMBER(CSVデータ2!N88),CSVデータ2!N88,0)+IF(ISNUMBER(CSVデータ3!N88),CSVデータ3!N88,0)+IF(ISNUMBER(CSVデータ4!N88),CSVデータ4!N88,0)","v":11},null,{"$f":"IF(ISNUMBER(CSVデータ1!P88),CSVデータ1!P88,0)+IF(ISNUMBER(CSVデータ2!P88),CSVデータ2!P88,0)+IF(ISNUMBER(CSVデータ3!P88),CSVデータ3!P88,0)+IF(ISNUMBER(CSVデータ4!P88),CSVデータ4!P88,0)","v":58},null,{"$f":"IF(ISNUMBER(CSVデータ1!R88),CSVデータ1!R88,0)+IF(ISNUMBER(CSVデータ2!R88),CSVデータ2!R88,0)+IF(ISNUMBER(CSVデータ3!R88),CSVデータ3!R88,0)+IF(ISNUMBER(CSVデータ4!R88),CSVデータ4!R88,0)","v":94},null,{"$f":"IF(ISNUMBER(CSVデータ1!T88),CSVデータ1!T88,0)+IF(ISNUMBER(CSVデータ2!T88),CSVデータ2!T88,0)+IF(ISNUMBER(CSVデータ3!T88),CSVデータ3!T88,0)+IF(ISNUMBER(CSVデータ4!T88),CSVデータ4!T88,0)","v":36},null,{"$f":"IF(ISNUMBER(CSVデータ1!V88),CSVデータ1!V88,0)+IF(ISNUMBER(CSVデータ2!V88),CSVデータ2!V88,0)+IF(ISNUMBER(CSVデータ3!V88),CSVデータ3!V88,0)+IF(ISNUMBER(CSVデータ4!V88),CSVデータ4!V88,0)","v":83},null,{"$f":"IF(ISNUMBER(CSVデータ1!X88),CSVデータ1!X88,0)+IF(ISNUMBER(CSVデータ2!X88),CSVデータ2!X88,0)+IF(ISNUMBER(CSVデータ3!X88),CSVデータ3!X88,0)+IF(ISNUMBER(CSVデータ4!X88),CSVデータ4!X88,0)","v":78},null,{"$f":"IF(ISNUMBER(CSVデータ1!Z88),CSVデータ1!Z88,0)+IF(ISNUMBER(CSVデータ2!Z88),CSVデータ2!Z88,0)+IF(ISNUMBER(CSVデータ3!Z88),CSVデータ3!Z88,0)+IF(ISNUMBER(CSVデータ4!Z88),CSVデータ4!Z88,0)","v":84},null,{"$f":"IF(ISNUMBER(CSVデータ1!AB88),CSVデータ1!AB88,0)+IF(ISNUMBER(CSVデータ2!AB88),CSVデータ2!AB88,0)+IF(ISNUMBER(CSVデータ3!AB88),CSVデータ3!AB88,0)+IF(ISNUMBER(CSVデータ4!AB88),CSVデータ4!AB88,0)","v":5},null,{"$f":"IF(ISNUMBER(CSVデータ1!AD88),CSVデータ1!AD88,0)+IF(ISNUMBER(CSVデータ2!AD88),CSVデータ2!AD88,0)+IF(ISNUMBER(CSVデータ3!AD88),CSVデータ3!AD88,0)+IF(ISNUMBER(CSVデータ4!AD88),CSVデータ4!AD88,0)","v":41},null,{"$f":"IF(ISNUMBER(CSVデータ1!AF88),CSVデータ1!AF88,0)+IF(ISNUMBER(CSVデータ2!AF88),CSVデータ2!AF88,0)+IF(ISNUMBER(CSVデータ3!AF88),CSVデータ3!AF88,0)+IF(ISNUMBER(CSVデータ4!AF88),CSVデータ4!AF88,0)","v":15},null,{"$f":"IF(ISNUMBER(CSVデータ1!AH88),CSVデータ1!AH88,0)+IF(ISNUMBER(CSVデータ2!AH88),CSVデータ2!AH88,0)+IF(ISNUMBER(CSVデータ3!AH88),CSVデータ3!AH88,0)+IF(ISNUMBER(CSVデータ4!AH88),CSVデータ4!AH88,0)","v":3},null,{"$f":"IF(ISNUMBER(CSVデータ1!AJ88),CSVデータ1!AJ88,0)+IF(ISNUMBER(CSVデータ2!AJ88),CSVデータ2!AJ88,0)+IF(ISNUMBER(CSVデータ3!AJ88),CSVデータ3!AJ88,0)+IF(ISNUMBER(CSVデータ4!AJ88),CSVデータ4!AJ88,0)","v":3},null,{"$f":"IF(ISNUMBER(CSVデータ1!AL88),CSVデータ1!AL88,0)+IF(ISNUMBER(CSVデータ2!AL88),CSVデータ2!AL88,0)+IF(ISNUMBER(CSVデータ3!AL88),CSVデータ3!AL88,0)+IF(ISNUMBER(CSVデータ4!AL88),CSVデータ4!AL88,0)","v":14},null,{"$f":"IF(ISNUMBER(CSVデータ1!AN88),CSVデータ1!AN88,0)+IF(ISNUMBER(CSVデータ2!AN88),CSVデータ2!AN88,0)+IF(ISNUMBER(CSVデータ3!AN88),CSVデータ3!AN88,0)+IF(ISNUMBER(CSVデータ4!AN88),CSVデータ4!AN88,0)","v":6}]
[{"$f":"CSVデータ1!A89","v":"明細部"},{"$f":"CSVデータ1!B89","v":"県"},{"$f":"CSVデータ1!C89","v":55},{"$f":"CSVデータ1!D89","v":"男"},{"$f":"IF(ISNUMBER(CSVデータ1!E89),CSVデータ1!E89,0)+IF(ISNUMBER(CSVデータ2!E89),CSVデータ2!E89,0)+IF(ISNUMBER(CSVデータ3!E89),CSVデータ3!E89,0)+IF(ISNUMBER(CSVデータ4!E89),CSVデータ4!E89,0)","v":200},{"$f":"IF(ISNUMBER(CSVデータ1!F89),CSVデータ1!F89,0)+IF(ISNUMBER(CSVデータ2!F89),CSVデータ2!F89,0)+IF(ISNUMBER(CSVデータ3!F89),CSVデータ3!F89,0)+IF(ISNUMBER(CSVデータ4!F89),CSVデータ4!F89,0)","v":85},null,{"$f":"IF(ISNUMBER(CSVデータ1!H89),CSVデータ1!H89,0)+IF(ISNUMBER(CSVデータ2!H89),CSVデータ2!H89,0)+IF(ISNUMBER(CSVデータ3!H89),CSVデータ3!H89,0)+IF(ISNUMBER(CSVデータ4!H89),CSVデータ4!H89,0)","v":111},null,{"$f":"IF(ISNUMBER(CSVデータ1!J89),CSVデータ1!J89,0)+IF(ISNUMBER(CSVデータ2!J89),CSVデータ2!J89,0)+IF(ISNUMBER(CSVデータ3!J89),CSVデータ3!J89,0)+IF(ISNUMBER(CSVデータ4!J89),CSVデータ4!J89,0)","v":49},null,{"$f":"IF(ISNUMBER(CSVデータ1!L89),CSVデータ1!L89,0)+IF(ISNUMBER(CSVデータ2!L89),CSVデータ2!L89,0)+IF(ISNUMBER(CSVデータ3!L89),CSVデータ3!L89,0)+IF(ISNUMBER(CSVデータ4!L89),CSVデータ4!L89,0)","v":57},null,{"$f":"IF(ISNUMBER(CSVデータ1!N89),CSVデータ1!N89,0)+IF(ISNUMBER(CSVデータ2!N89),CSVデータ2!N89,0)+IF(ISNUMBER(CSVデータ3!N89),CSVデータ3!N89,0)+IF(ISNUMBER(CSVデータ4!N89),CSVデータ4!N89,0)","v":20},null,{"$f":"IF(ISNUMBER(CSVデータ1!P89),CSVデータ1!P89,0)+IF(ISNUMBER(CSVデータ2!P89),CSVデータ2!P89,0)+IF(ISNUMBER(CSVデータ3!P89),CSVデータ3!P89,0)+IF(ISNUMBER(CSVデータ4!P89),CSVデータ4!P89,0)","v":47},null,{"$f":"IF(ISNUMBER(CSVデータ1!R89),CSVデータ1!R89,0)+IF(ISNUMBER(CSVデータ2!R89),CSVデータ2!R89,0)+IF(ISNUMBER(CSVデータ3!R89),CSVデータ3!R89,0)+IF(ISNUMBER(CSVデータ4!R89),CSVデータ4!R89,0)","v":110},null,{"$f":"IF(ISNUMBER(CSVデータ1!T89),CSVデータ1!T89,0)+IF(ISNUMBER(CSVデータ2!T89),CSVデータ2!T89,0)+IF(ISNUMBER(CSVデータ3!T89),CSVデータ3!T89,0)+IF(ISNUMBER(CSVデータ4!T89),CSVデータ4!T89,0)","v":30},null,{"$f":"IF(ISNUMBER(CSVデータ1!V89),CSVデータ1!V89,0)+IF(ISNUMBER(CSVデータ2!V89),CSVデータ2!V89,0)+IF(ISNUMBER(CSVデータ3!V89),CSVデータ3!V89,0)+IF(ISNUMBER(CSVデータ4!V89),CSVデータ4!V89,0)","v":83},null,{"$f":"IF(ISNUMBER(CSVデータ1!X89),CSVデータ1!X89,0)+IF(ISNUMBER(CSVデータ2!X89),CSVデータ2!X89,0)+IF(ISNUMBER(CSVデータ3!X89),CSVデータ3!X89,0)+IF(ISNUMBER(CSVデータ4!X89),CSVデータ4!X89,0)","v":69},null,{"$f":"IF(ISNUMBER(CSVデータ1!Z89),CSVデータ1!Z89,0)+IF(ISNUMBER(CSVデータ2!Z89),CSVデータ2!Z89,0)+IF(ISNUMBER(CSVデータ3!Z89),CSVデータ3!Z89,0)+IF(ISNUMBER(CSVデータ4!Z89),CSVデータ4!Z89,0)","v":99},null,{"$f":"IF(ISNUMBER(CSVデータ1!AB89),CSVデータ1!AB89,0)+IF(ISNUMBER(CSVデータ2!AB89),CSVデータ2!AB89,0)+IF(ISNUMBER(CSVデータ3!AB89),CSVデータ3!AB89,0)+IF(ISNUMBER(CSVデータ4!AB89),CSVデータ4!AB89,0)","v":0},null,{"$f":"IF(ISNUMBER(CSVデータ1!AD89),CSVデータ1!AD89,0)+IF(ISNUMBER(CSVデータ2!AD89),CSVデータ2!AD89,0)+IF(ISNUMBER(CSVデータ3!AD89),CSVデータ3!AD89,0)+IF(ISNUMBER(CSVデータ4!AD89),CSVデータ4!AD89,0)","v":48},null,{"$f":"IF(ISNUMBER(CSVデータ1!AF89),CSVデータ1!AF89,0)+IF(ISNUMBER(CSVデータ2!AF89),CSVデータ2!AF89,0)+IF(ISNUMBER(CSVデータ3!AF89),CSVデータ3!AF89,0)+IF(ISNUMBER(CSVデータ4!AF89),CSVデータ4!AF89,0)","v":20},null,{"$f":"IF(ISNUMBER(CSVデータ1!AH89),CSVデータ1!AH89,0)+IF(ISNUMBER(CSVデータ2!AH89),CSVデータ2!AH89,0)+IF(ISNUMBER(CSVデータ3!AH89),CSVデータ3!AH89,0)+IF(ISNUMBER(CSVデータ4!AH89),CSVデータ4!AH89,0)","v":4},null,{"$f":"IF(ISNUMBER(CSVデータ1!AJ89),CSVデータ1!AJ89,0)+IF(ISNUMBER(CSVデータ2!AJ89),CSVデータ2!AJ89,0)+IF(ISNUMBER(CSVデータ3!AJ89),CSVデータ3!AJ89,0)+IF(ISNUMBER(CSVデータ4!AJ89),CSVデータ4!AJ89,0)","v":3},null,{"$f":"IF(ISNUMBER(CSVデータ1!AL89),CSVデータ1!AL89,0)+IF(ISNUMBER(CSVデータ2!AL89),CSVデータ2!AL89,0)+IF(ISNUMBER(CSVデータ3!AL89),CSVデータ3!AL89,0)+IF(ISNUMBER(CSVデータ4!AL89),CSVデータ4!AL89,0)","v":22},null,{"$f":"IF(ISNUMBER(CSVデータ1!AN89),CSVデータ1!AN89,0)+IF(ISNUMBER(CSVデータ2!AN89),CSVデータ2!AN89,0)+IF(ISNUMBER(CSVデータ3!AN89),CSVデータ3!AN89,0)+IF(ISNUMBER(CSVデータ4!AN89),CSVデータ4!AN89,0)","v":6}]
[{"$f":"CSVデータ1!A90","v":"明細部"},{"$f":"CSVデータ1!B90","v":"県"},{"$f":"CSVデータ1!C90","v":56},{"$f":"CSVデータ1!D90","v":"男"},{"$f":"IF(ISNUMBER(CSVデータ1!E90),CSVデータ1!E90,0)+IF(ISNUMBER(CSVデータ2!E90),CSVデータ2!E90,0)+IF(ISNUMBER(CSVデータ3!E90),CSVデータ3!E90,0)+IF(ISNUMBER(CSVデータ4!E90),CSVデータ4!E90,0)","v":185},{"$f":"IF(ISNUMBER(CSVデータ1!F90),CSVデータ1!F90,0)+IF(ISNUMBER(CSVデータ2!F90),CSVデータ2!F90,0)+IF(ISNUMBER(CSVデータ3!F90),CSVデータ3!F90,0)+IF(ISNUMBER(CSVデータ4!F90),CSVデータ4!F90,0)","v":72},null,{"$f":"IF(ISNUMBER(CSVデータ1!H90),CSVデータ1!H90,0)+IF(ISNUMBER(CSVデータ2!H90),CSVデータ2!H90,0)+IF(ISNUMBER(CSVデータ3!H90),CSVデータ3!H90,0)+IF(ISNUMBER(CSVデータ4!H90),CSVデータ4!H90,0)","v":103},null,{"$f":"IF(ISNUMBER(CSVデータ1!J90),CSVデータ1!J90,0)+IF(ISNUMBER(CSVデータ2!J90),CSVデータ2!J90,0)+IF(ISNUMBER(CSVデータ3!J90),CSVデータ3!J90,0)+IF(ISNUMBER(CSVデータ4!J90),CSVデータ4!J90,0)","v":44},null,{"$f":"IF(ISNUMBER(CSVデータ1!L90),CSVデータ1!L90,0)+IF(ISNUMBER(CSVデータ2!L90),CSVデータ2!L90,0)+IF(ISNUMBER(CSVデータ3!L90),CSVデータ3!L90,0)+IF(ISNUMBER(CSVデータ4!L90),CSVデータ4!L90,0)","v":38},null,{"$f":"IF(ISNUMBER(CSVデータ1!N90),CSVデータ1!N90,0)+IF(ISNUMBER(CSVデータ2!N90),CSVデータ2!N90,0)+IF(ISNUMBER(CSVデータ3!N90),CSVデータ3!N90,0)+IF(ISNUMBER(CSVデータ4!N90),CSVデータ4!N90,0)","v":12},null,{"$f":"IF(ISNUMBER(CSVデータ1!P90),CSVデータ1!P90,0)+IF(ISNUMBER(CSVデータ2!P90),CSVデータ2!P90,0)+IF(ISNUMBER(CSVデータ3!P90),CSVデータ3!P90,0)+IF(ISNUMBER(CSVデータ4!P90),CSVデータ4!P90,0)","v":49},null,{"$f":"IF(ISNUMBER(CSVデータ1!R90),CSVデータ1!R90,0)+IF(ISNUMBER(CSVデータ2!R90),CSVデータ2!R90,0)+IF(ISNUMBER(CSVデータ3!R90),CSVデータ3!R90,0)+IF(ISNUMBER(CSVデータ4!R90),CSVデータ4!R90,0)","v":99},null,{"$f":"IF(ISNUMBER(CSVデータ1!T90),CSVデータ1!T90,0)+IF(ISNUMBER(CSVデータ2!T90),CSVデータ2!T90,0)+IF(ISNUMBER(CSVデータ3!T90),CSVデータ3!T90,0)+IF(ISNUMBER(CSVデータ4!T90),CSVデータ4!T90,0)","v":36},null,{"$f":"IF(ISNUMBER(CSVデータ1!V90),CSVデータ1!V90,0)+IF(ISNUMBER(CSVデータ2!V90),CSVデータ2!V90,0)+IF(ISNUMBER(CSVデータ3!V90),CSVデータ3!V90,0)+IF(ISNUMBER(CSVデータ4!V90),CSVデータ4!V90,0)","v":69},null,{"$f":"IF(ISNUMBER(CSVデータ1!X90),CSVデータ1!X90,0)+IF(ISNUMBER(CSVデータ2!X90),CSVデータ2!X90,0)+IF(ISNUMBER(CSVデータ3!X90),CSVデータ3!X90,0)+IF(ISNUMBER(CSVデータ4!X90),CSVデータ4!X90,0)","v":59},null,{"$f":"IF(ISNUMBER(CSVデータ1!Z90),CSVデータ1!Z90,0)+IF(ISNUMBER(CSVデータ2!Z90),CSVデータ2!Z90,0)+IF(ISNUMBER(CSVデータ3!Z90),CSVデータ3!Z90,0)+IF(ISNUMBER(CSVデータ4!Z90),CSVデータ4!Z90,0)","v":92},null,{"$f":"IF(ISNUMBER(CSVデータ1!AB90),CSVデータ1!AB90,0)+IF(ISNUMBER(CSVデータ2!AB90),CSVデータ2!AB90,0)+IF(ISNUMBER(CSVデータ3!AB90),CSVデータ3!AB90,0)+IF(ISNUMBER(CSVデータ4!AB90),CSVデータ4!AB90,0)","v":1},null,{"$f":"IF(ISNUMBER(CSVデータ1!AD90),CSVデータ1!AD90,0)+IF(ISNUMBER(CSVデータ2!AD90),CSVデータ2!AD90,0)+IF(ISNUMBER(CSVデータ3!AD90),CSVデータ3!AD90,0)+IF(ISNUMBER(CSVデータ4!AD90),CSVデータ4!AD90,0)","v":53},null,{"$f":"IF(ISNUMBER(CSVデータ1!AF90),CSVデータ1!AF90,0)+IF(ISNUMBER(CSVデータ2!AF90),CSVデータ2!AF90,0)+IF(ISNUMBER(CSVデータ3!AF90),CSVデータ3!AF90,0)+IF(ISNUMBER(CSVデータ4!AF90),CSVデータ4!AF90,0)","v":16},null,{"$f":"IF(ISNUMBER(CSVデータ1!AH90),CSVデータ1!AH90,0)+IF(ISNUMBER(CSVデータ2!AH90),CSVデータ2!AH90,0)+IF(ISNUMBER(CSVデータ3!AH90),CSVデータ3!AH90,0)+IF(ISNUMBER(CSVデータ4!AH90),CSVデータ4!AH90,0)","v":1},null,{"$f":"IF(ISNUMBER(CSVデータ1!AJ90),CSVデータ1!AJ90,0)+IF(ISNUMBER(CSVデータ2!AJ90),CSVデータ2!AJ90,0)+IF(ISNUMBER(CSVデータ3!AJ90),CSVデータ3!AJ90,0)+IF(ISNUMBER(CSVデータ4!AJ90),CSVデータ4!AJ90,0)","v":3},null,{"$f":"IF(ISNUMBER(CSVデータ1!AL90),CSVデータ1!AL90,0)+IF(ISNUMBER(CSVデータ2!AL90),CSVデータ2!AL90,0)+IF(ISNUMBER(CSVデータ3!AL90),CSVデータ3!AL90,0)+IF(ISNUMBER(CSVデータ4!AL90),CSVデータ4!AL90,0)","v":23},null,{"$f":"IF(ISNUMBER(CSVデータ1!AN90),CSVデータ1!AN90,0)+IF(ISNUMBER(CSVデータ2!AN90),CSVデータ2!AN90,0)+IF(ISNUMBER(CSVデータ3!AN90),CSVデータ3!AN90,0)+IF(ISNUMBER(CSVデータ4!AN90),CSVデータ4!AN90,0)","v":3}]
[{"$f":"CSVデータ1!A91","v":"明細部"},{"$f":"CSVデータ1!B91","v":"県"},{"$f":"CSVデータ1!C91","v":57},{"$f":"CSVデータ1!D91","v":"男"},{"$f":"IF(ISNUMBER(CSVデータ1!E91),CSVデータ1!E91,0)+IF(ISNUMBER(CSVデータ2!E91),CSVデータ2!E91,0)+IF(ISNUMBER(CSVデータ3!E91),CSVデータ3!E91,0)+IF(ISNUMBER(CSVデータ4!E91),CSVデータ4!E91,0)","v":196},{"$f":"IF(ISNUMBER(CSVデータ1!F91),CSVデータ1!F91,0)+IF(ISNUMBER(CSVデータ2!F91),CSVデータ2!F91,0)+IF(ISNUMBER(CSVデータ3!F91),CSVデータ3!F91,0)+IF(ISNUMBER(CSVデータ4!F91),CSVデータ4!F91,0)","v":74},null,{"$f":"IF(ISNUMBER(CSVデータ1!H91),CSVデータ1!H91,0)+IF(ISNUMBER(CSVデータ2!H91),CSVデータ2!H91,0)+IF(ISNUMBER(CSVデータ3!H91),CSVデータ3!H91,0)+IF(ISNUMBER(CSVデータ4!H91),CSVデータ4!H91,0)","v":109},null,{"$f":"IF(ISNUMBER(CSVデータ1!J91),CSVデータ1!J91,0)+IF(ISNUMBER(CSVデータ2!J91),CSVデータ2!J91,0)+IF(ISNUMBER(CSVデータ3!J91),CSVデータ3!J91,0)+IF(ISNUMBER(CSVデータ4!J91),CSVデータ4!J91,0)","v":54},null,{"$f":"IF(ISNUMBER(CSVデータ1!L91),CSVデータ1!L91,0)+IF(ISNUMBER(CSVデータ2!L91),CSVデータ2!L91,0)+IF(ISNUMBER(CSVデータ3!L91),CSVデータ3!L91,0)+IF(ISNUMBER(CSVデータ4!L91),CSVデータ4!L91,0)","v":61},null,{"$f":"IF(ISNUMBER(CSVデータ1!N91),CSVデータ1!N91,0)+IF(ISNUMBER(CSVデータ2!N91),CSVデータ2!N91,0)+IF(ISNUMBER(CSVデータ3!N91),CSVデータ3!N91,0)+IF(ISNUMBER(CSVデータ4!N91),CSVデータ4!N91,0)","v":12},null,{"$f":"IF(ISNUMBER(CSVデータ1!P91),CSVデータ1!P91,0)+IF(ISNUMBER(CSVデータ2!P91),CSVデータ2!P91,0)+IF(ISNUMBER(CSVデータ3!P91),CSVデータ3!P91,0)+IF(ISNUMBER(CSVデータ4!P91),CSVデータ4!P91,0)","v":60},null,{"$f":"IF(ISNUMBER(CSVデータ1!R91),CSVデータ1!R91,0)+IF(ISNUMBER(CSVデータ2!R91),CSVデータ2!R91,0)+IF(ISNUMBER(CSVデータ3!R91),CSVデータ3!R91,0)+IF(ISNUMBER(CSVデータ4!R91),CSVデータ4!R91,0)","v":118},null,{"$f":"IF(ISNUMBER(CSVデータ1!T91),CSVデータ1!T91,0)+IF(ISNUMBER(CSVデータ2!T91),CSVデータ2!T91,0)+IF(ISNUMBER(CSVデータ3!T91),CSVデータ3!T91,0)+IF(ISNUMBER(CSVデータ4!T91),CSVデータ4!T91,0)","v":30},null,{"$f":"IF(ISNUMBER(CSVデータ1!V91),CSVデータ1!V91,0)+IF(ISNUMBER(CSVデータ2!V91),CSVデータ2!V91,0)+IF(ISNUMBER(CSVデータ3!V91),CSVデータ3!V91,0)+IF(ISNUMBER(CSVデータ4!V91),CSVデータ4!V91,0)","v":88},null,{"$f":"IF(ISNUMBER(CSVデータ1!X91),CSVデータ1!X91,0)+IF(ISNUMBER(CSVデータ2!X91),CSVデータ2!X91,0)+IF(ISNUMBER(CSVデータ3!X91),CSVデータ3!X91,0)+IF(ISNUMBER(CSVデータ4!X91),CSVデータ4!X91,0)","v":76},null,{"$f":"IF(ISNUMBER(CSVデータ1!Z91),CSVデータ1!Z91,0)+IF(ISNUMBER(CSVデータ2!Z91),CSVデータ2!Z91,0)+IF(ISNUMBER(CSVデータ3!Z91),CSVデータ3!Z91,0)+IF(ISNUMBER(CSVデータ4!Z91),CSVデータ4!Z91,0)","v":95},null,{"$f":"IF(ISNUMBER(CSVデータ1!AB91),CSVデータ1!AB91,0)+IF(ISNUMBER(CSVデータ2!AB91),CSVデータ2!AB91,0)+IF(ISNUMBER(CSVデータ3!AB91),CSVデータ3!AB91,0)+IF(ISNUMBER(CSVデータ4!AB91),CSVデータ4!AB91,0)","v":1},null,{"$f":"IF(ISNUMBER(CSVデータ1!AD91),CSVデータ1!AD91,0)+IF(ISNUMBER(CSVデータ2!AD91),CSVデータ2!AD91,0)+IF(ISNUMBER(CSVデータ3!AD91),CSVデータ3!AD91,0)+IF(ISNUMBER(CSVデータ4!AD91),CSVデータ4!AD91,0)","v":51},null,{"$f":"IF(ISNUMBER(CSVデータ1!AF91),CSVデータ1!AF91,0)+IF(ISNUMBER(CSVデータ2!AF91),CSVデータ2!AF91,0)+IF(ISNUMBER(CSVデータ3!AF91),CSVデータ3!AF91,0)+IF(ISNUMBER(CSVデータ4!AF91),CSVデータ4!AF91,0)","v":17},null,{"$f":"IF(ISNUMBER(CSVデータ1!AH91),CSVデータ1!AH91,0)+IF(ISNUMBER(CSVデータ2!AH91),CSVデータ2!AH91,0)+IF(ISNUMBER(CSVデータ3!AH91),CSVデータ3!AH91,0)+IF(ISNUMBER(CSVデータ4!AH91),CSVデータ4!AH91,0)","v":3},null,{"$f":"IF(ISNUMBER(CSVデータ1!AJ91),CSVデータ1!AJ91,0)+IF(ISNUMBER(CSVデータ2!AJ91),CSVデータ2!AJ91,0)+IF(ISNUMBER(CSVデータ3!AJ91),CSVデータ3!AJ91,0)+IF(ISNUMBER(CSVデータ4!AJ91),CSVデータ4!AJ91,0)","v":4},null,{"$f":"IF(ISNUMBER(CSVデータ1!AL91),CSVデータ1!AL91,0)+IF(ISNUMBER(CSVデータ2!AL91),CSVデータ2!AL91,0)+IF(ISNUMBER(CSVデータ3!AL91),CSVデータ3!AL91,0)+IF(ISNUMBER(CSVデータ4!AL91),CSVデータ4!AL91,0)","v":28},null,{"$f":"IF(ISNUMBER(CSVデータ1!AN91),CSVデータ1!AN91,0)+IF(ISNUMBER(CSVデータ2!AN91),CSVデータ2!AN91,0)+IF(ISNUMBER(CSVデータ3!AN91),CSVデータ3!AN91,0)+IF(ISNUMBER(CSVデータ4!AN91),CSVデータ4!AN91,0)","v":5}]
[{"$f":"CSVデータ1!A92","v":"明細部"},{"$f":"CSVデータ1!B92","v":"県"},{"$f":"CSVデータ1!C92","v":58},{"$f":"CSVデータ1!D92","v":"男"},{"$f":"IF(ISNUMBER(CSVデータ1!E92),CSVデータ1!E92,0)+IF(ISNUMBER(CSVデータ2!E92),CSVデータ2!E92,0)+IF(ISNUMBER(CSVデータ3!E92),CSVデータ3!E92,0)+IF(ISNUMBER(CSVデータ4!E92),CSVデータ4!E92,0)","v":139},{"$f":"IF(ISNUMBER(CSVデータ1!F92),CSVデータ1!F92,0)+IF(ISNUMBER(CSVデータ2!F92),CSVデータ2!F92,0)+IF(ISNUMBER(CSVデータ3!F92),CSVデータ3!F92,0)+IF(ISNUMBER(CSVデータ4!F92),CSVデータ4!F92,0)","v":55},null,{"$f":"IF(ISNUMBER(CSVデータ1!H92),CSVデータ1!H92,0)+IF(ISNUMBER(CSVデータ2!H92),CSVデータ2!H92,0)+IF(ISNUMBER(CSVデータ3!H92),CSVデータ3!H92,0)+IF(ISNUMBER(CSVデータ4!H92),CSVデータ4!H92,0)","v":77},null,{"$f":"IF(ISNUMBER(CSVデータ1!J92),CSVデータ1!J92,0)+IF(ISNUMBER(CSVデータ2!J92),CSVデータ2!J92,0)+IF(ISNUMBER(CSVデータ3!J92),CSVデータ3!J92,0)+IF(ISNUMBER(CSVデータ4!J92),CSVデータ4!J92,0)","v":28},null,{"$f":"IF(ISNUMBER(CSVデータ1!L92),CSVデータ1!L92,0)+IF(ISNUMBER(CSVデータ2!L92),CSVデータ2!L92,0)+IF(ISNUMBER(CSVデータ3!L92),CSVデータ3!L92,0)+IF(ISNUMBER(CSVデータ4!L92),CSVデータ4!L92,0)","v":41},null,{"$f":"IF(ISNUMBER(CSVデータ1!N92),CSVデータ1!N92,0)+IF(ISNUMBER(CSVデータ2!N92),CSVデータ2!N92,0)+IF(ISNUMBER(CSVデータ3!N92),CSVデータ3!N92,0)+IF(ISNUMBER(CSVデータ4!N92),CSVデータ4!N92,0)","v":12},null,{"$f":"IF(ISNUMBER(CSVデータ1!P92),CSVデータ1!P92,0)+IF(ISNUMBER(CSVデータ2!P92),CSVデータ2!P92,0)+IF(ISNUMBER(CSVデータ3!P92),CSVデータ3!P92,0)+IF(ISNUMBER(CSVデータ4!P92),CSVデータ4!P92,0)","v":42},null,{"$f":"IF(ISNUMBER(CSVデータ1!R92),CSVデータ1!R92,0)+IF(ISNUMBER(CSVデータ2!R92),CSVデータ2!R92,0)+IF(ISNUMBER(CSVデータ3!R92),CSVデータ3!R92,0)+IF(ISNUMBER(CSVデータ4!R92),CSVデータ4!R92,0)","v":78},null,{"$f":"IF(ISNUMBER(CSVデータ1!T92),CSVデータ1!T92,0)+IF(ISNUMBER(CSVデータ2!T92),CSVデータ2!T92,0)+IF(ISNUMBER(CSVデータ3!T92),CSVデータ3!T92,0)+IF(ISNUMBER(CSVデータ4!T92),CSVデータ4!T92,0)","v":22},null,{"$f":"IF(ISNUMBER(CSVデータ1!V92),CSVデータ1!V92,0)+IF(ISNUMBER(CSVデータ2!V92),CSVデータ2!V92,0)+IF(ISNUMBER(CSVデータ3!V92),CSVデータ3!V92,0)+IF(ISNUMBER(CSVデータ4!V92),CSVデータ4!V92,0)","v":59},null,{"$f":"IF(ISNUMBER(CSVデータ1!X92),CSVデータ1!X92,0)+IF(ISNUMBER(CSVデータ2!X92),CSVデータ2!X92,0)+IF(ISNUMBER(CSVデータ3!X92),CSVデータ3!X92,0)+IF(ISNUMBER(CSVデータ4!X92),CSVデータ4!X92,0)","v":44},null,{"$f":"IF(ISNUMBER(CSVデータ1!Z92),CSVデータ1!Z92,0)+IF(ISNUMBER(CSVデータ2!Z92),CSVデータ2!Z92,0)+IF(ISNUMBER(CSVデータ3!Z92),CSVデータ3!Z92,0)+IF(ISNUMBER(CSVデータ4!Z92),CSVデータ4!Z92,0)","v":70},null,{"$f":"IF(ISNUMBER(CSVデータ1!AB92),CSVデータ1!AB92,0)+IF(ISNUMBER(CSVデータ2!AB92),CSVデータ2!AB92,0)+IF(ISNUMBER(CSVデータ3!AB92),CSVデータ3!AB92,0)+IF(ISNUMBER(CSVデータ4!AB92),CSVデータ4!AB92,0)","v":1},null,{"$f":"IF(ISNUMBER(CSVデータ1!AD92),CSVデータ1!AD92,0)+IF(ISNUMBER(CSVデータ2!AD92),CSVデータ2!AD92,0)+IF(ISNUMBER(CSVデータ3!AD92),CSVデータ3!AD92,0)+IF(ISNUMBER(CSVデータ4!AD92),CSVデータ4!AD92,0)","v":37},null,{"$f":"IF(ISNUMBER(CSVデータ1!AF92),CSVデータ1!AF92,0)+IF(ISNUMBER(CSVデータ2!AF92),CSVデータ2!AF92,0)+IF(ISNUMBER(CSVデータ3!AF92),CSVデータ3!AF92,0)+IF(ISNUMBER(CSVデータ4!AF92),CSVデータ4!AF92,0)","v":8},null,{"$f":"IF(ISNUMBER(CSVデータ1!AH92),CSVデータ1!AH92,0)+IF(ISNUMBER(CSVデータ2!AH92),CSVデータ2!AH92,0)+IF(ISNUMBER(CSVデータ3!AH92),CSVデータ3!AH92,0)+IF(ISNUMBER(CSVデータ4!AH92),CSVデータ4!AH92,0)","v":3},null,{"$f":"IF(ISNUMBER(CSVデータ1!AJ92),CSVデータ1!AJ92,0)+IF(ISNUMBER(CSVデータ2!AJ92),CSVデータ2!AJ92,0)+IF(ISNUMBER(CSVデータ3!AJ92),CSVデータ3!AJ92,0)+IF(ISNUMBER(CSVデータ4!AJ92),CSVデータ4!AJ92,0)","v":4},null,{"$f":"IF(ISNUMBER(CSVデータ1!AL92),CSVデータ1!AL92,0)+IF(ISNUMBER(CSVデータ2!AL92),CSVデータ2!AL92,0)+IF(ISNUMBER(CSVデータ3!AL92),CSVデータ3!AL92,0)+IF(ISNUMBER(CSVデータ4!AL92),CSVデータ4!AL92,0)","v":24},null,{"$f":"IF(ISNUMBER(CSVデータ1!AN92),CSVデータ1!AN92,0)+IF(ISNUMBER(CSVデータ2!AN92),CSVデータ2!AN92,0)+IF(ISNUMBER(CSVデータ3!AN92),CSVデータ3!AN92,0)+IF(ISNUMBER(CSVデータ4!AN92),CSVデータ4!AN92,0)","v":6}]
[{"$f":"CSVデータ1!A93","v":"明細部"},{"$f":"CSVデータ1!B93","v":"県"},{"$f":"CSVデータ1!C93","v":59},{"$f":"CSVデータ1!D93","v":"男"},{"$f":"IF(ISNUMBER(CSVデータ1!E93),CSVデータ1!E93,0)+IF(ISNUMBER(CSVデータ2!E93),CSVデータ2!E93,0)+IF(ISNUMBER(CSVデータ3!E93),CSVデータ3!E93,0)+IF(ISNUMBER(CSVデータ4!E93),CSVデータ4!E93,0)","v":166},{"$f":"IF(ISNUMBER(CSVデータ1!F93),CSVデータ1!F93,0)+IF(ISNUMBER(CSVデータ2!F93),CSVデータ2!F93,0)+IF(ISNUMBER(CSVデータ3!F93),CSVデータ3!F93,0)+IF(ISNUMBER(CSVデータ4!F93),CSVデータ4!F93,0)","v":62},null,{"$f":"IF(ISNUMBER(CSVデータ1!H93),CSVデータ1!H93,0)+IF(ISNUMBER(CSVデータ2!H93),CSVデータ2!H93,0)+IF(ISNUMBER(CSVデータ3!H93),CSVデータ3!H93,0)+IF(ISNUMBER(CSVデータ4!H93),CSVデータ4!H93,0)","v":103},null,{"$f":"IF(ISNUMBER(CSVデータ1!J93),CSVデータ1!J93,0)+IF(ISNUMBER(CSVデータ2!J93),CSVデータ2!J93,0)+IF(ISNUMBER(CSVデータ3!J93),CSVデータ3!J93,0)+IF(ISNUMBER(CSVデータ4!J93),CSVデータ4!J93,0)","v":37},null,{"$f":"IF(ISNUMBER(CSVデータ1!L93),CSVデータ1!L93,0)+IF(ISNUMBER(CSVデータ2!L93),CSVデータ2!L93,0)+IF(ISNUMBER(CSVデータ3!L93),CSVデータ3!L93,0)+IF(ISNUMBER(CSVデータ4!L93),CSVデータ4!L93,0)","v":37},null,{"$f":"IF(ISNUMBER(CSVデータ1!N93),CSVデータ1!N93,0)+IF(ISNUMBER(CSVデータ2!N93),CSVデータ2!N93,0)+IF(ISNUMBER(CSVデータ3!N93),CSVデータ3!N93,0)+IF(ISNUMBER(CSVデータ4!N93),CSVデータ4!N93,0)","v":11},null,{"$f":"IF(ISNUMBER(CSVデータ1!P93),CSVデータ1!P93,0)+IF(ISNUMBER(CSVデータ2!P93),CSVデータ2!P93,0)+IF(ISNUMBER(CSVデータ3!P93),CSVデータ3!P93,0)+IF(ISNUMBER(CSVデータ4!P93),CSVデータ4!P93,0)","v":45},null,{"$f":"IF(ISNUMBER(CSVデータ1!R93),CSVデータ1!R93,0)+IF(ISNUMBER(CSVデータ2!R93),CSVデータ2!R93,0)+IF(ISNUMBER(CSVデータ3!R93),CSVデータ3!R93,0)+IF(ISNUMBER(CSVデータ4!R93),CSVデータ4!R93,0)","v":93},null,{"$f":"IF(ISNUMBER(CSVデータ1!T93),CSVデータ1!T93,0)+IF(ISNUMBER(CSVデータ2!T93),CSVデータ2!T93,0)+IF(ISNUMBER(CSVデータ3!T93),CSVデータ3!T93,0)+IF(ISNUMBER(CSVデータ4!T93),CSVデータ4!T93,0)","v":28},null,{"$f":"IF(ISNUMBER(CSVデータ1!V93),CSVデータ1!V93,0)+IF(ISNUMBER(CSVデータ2!V93),CSVデータ2!V93,0)+IF(ISNUMBER(CSVデータ3!V93),CSVデータ3!V93,0)+IF(ISNUMBER(CSVデータ4!V93),CSVデータ4!V93,0)","v":78},null,{"$f":"IF(ISNUMBER(CSVデータ1!X93),CSVデータ1!X93,0)+IF(ISNUMBER(CSVデータ2!X93),CSVデータ2!X93,0)+IF(ISNUMBER(CSVデータ3!X93),CSVデータ3!X93,0)+IF(ISNUMBER(CSVデータ4!X93),CSVデータ4!X93,0)","v":59},null,{"$f":"IF(ISNUMBER(CSVデータ1!Z93),CSVデータ1!Z93,0)+IF(ISNUMBER(CSVデータ2!Z93),CSVデータ2!Z93,0)+IF(ISNUMBER(CSVデータ3!Z93),CSVデータ3!Z93,0)+IF(ISNUMBER(CSVデータ4!Z93),CSVデータ4!Z93,0)","v":82},null,{"$f":"IF(ISNUMBER(CSVデータ1!AB93),CSVデータ1!AB93,0)+IF(ISNUMBER(CSVデータ2!AB93),CSVデータ2!AB93,0)+IF(ISNUMBER(CSVデータ3!AB93),CSVデータ3!AB93,0)+IF(ISNUMBER(CSVデータ4!AB93),CSVデータ4!AB93,0)","v":3},null,{"$f":"IF(ISNUMBER(CSVデータ1!AD93),CSVデータ1!AD93,0)+IF(ISNUMBER(CSVデータ2!AD93),CSVデータ2!AD93,0)+IF(ISNUMBER(CSVデータ3!AD93),CSVデータ3!AD93,0)+IF(ISNUMBER(CSVデータ4!AD93),CSVデータ4!AD93,0)","v":42},null,{"$f":"IF(ISNUMBER(CSVデータ1!AF93),CSVデータ1!AF93,0)+IF(ISNUMBER(CSVデータ2!AF93),CSVデータ2!AF93,0)+IF(ISNUMBER(CSVデータ3!AF93),CSVデータ3!AF93,0)+IF(ISNUMBER(CSVデータ4!AF93),CSVデータ4!AF93,0)","v":15},null,{"$f":"IF(ISNUMBER(CSVデータ1!AH93),CSVデータ1!AH93,0)+IF(ISNUMBER(CSVデータ2!AH93),CSVデータ2!AH93,0)+IF(ISNUMBER(CSVデータ3!AH93),CSVデータ3!AH93,0)+IF(ISNUMBER(CSVデータ4!AH93),CSVデータ4!AH93,0)","v":4},null,{"$f":"IF(ISNUMBER(CSVデータ1!AJ93),CSVデータ1!AJ93,0)+IF(ISNUMBER(CSVデータ2!AJ93),CSVデータ2!AJ93,0)+IF(ISNUMBER(CSVデータ3!AJ93),CSVデータ3!AJ93,0)+IF(ISNUMBER(CSVデータ4!AJ93),CSVデータ4!AJ93,0)","v":2},null,{"$f":"IF(ISNUMBER(CSVデータ1!AL93),CSVデータ1!AL93,0)+IF(ISNUMBER(CSVデータ2!AL93),CSVデータ2!AL93,0)+IF(ISNUMBER(CSVデータ3!AL93),CSVデータ3!AL93,0)+IF(ISNUMBER(CSVデータ4!AL93),CSVデータ4!AL93,0)","v":24},null,{"$f":"IF(ISNUMBER(CSVデータ1!AN93),CSVデータ1!AN93,0)+IF(ISNUMBER(CSVデータ2!AN93),CSVデータ2!AN93,0)+IF(ISNUMBER(CSVデータ3!AN93),CSVデータ3!AN93,0)+IF(ISNUMBER(CSVデータ4!AN93),CSVデータ4!AN93,0)","v":5}]
[{"$f":"CSVデータ1!A94","v":"明細部"},{"$f":"CSVデータ1!B94","v":"県"},{"$f":"CSVデータ1!C94","v":60},{"$f":"CSVデータ1!D94","v":"男"},{"$f":"IF(ISNUMBER(CSVデータ1!E94),CSVデータ1!E94,0)+IF(ISNUMBER(CSVデータ2!E94),CSVデータ2!E94,0)+IF(ISNUMBER(CSVデータ3!E94),CSVデータ3!E94,0)+IF(ISNUMBER(CSVデータ4!E94),CSVデータ4!E94,0)","v":181},{"$f":"IF(ISNUMBER(CSVデータ1!F94),CSVデータ1!F94,0)+IF(ISNUMBER(CSVデータ2!F94),CSVデータ2!F94,0)+IF(ISNUMBER(CSVデータ3!F94),CSVデータ3!F94,0)+IF(ISNUMBER(CSVデータ4!F94),CSVデータ4!F94,0)","v":71},null,{"$f":"IF(ISNUMBER(CSVデータ1!H94),CSVデータ1!H94,0)+IF(ISNUMBER(CSVデータ2!H94),CSVデータ2!H94,0)+IF(ISNUMBER(CSVデータ3!H94),CSVデータ3!H94,0)+IF(ISNUMBER(CSVデータ4!H94),CSVデータ4!H94,0)","v":107},null,{"$f":"IF(ISNUMBER(CSVデータ1!J94),CSVデータ1!J94,0)+IF(ISNUMBER(CSVデータ2!J94),CSVデータ2!J94,0)+IF(ISNUMBER(CSVデータ3!J94),CSVデータ3!J94,0)+IF(ISNUMBER(CSVデータ4!J94),CSVデータ4!J94,0)","v":43},null,{"$f":"IF(ISNUMBER(CSVデータ1!L94),CSVデータ1!L94,0)+IF(ISNUMBER(CSVデータ2!L94),CSVデータ2!L94,0)+IF(ISNUMBER(CSVデータ3!L94),CSVデータ3!L94,0)+IF(ISNUMBER(CSVデータ4!L94),CSVデータ4!L94,0)","v":42},null,{"$f":"IF(ISNUMBER(CSVデータ1!N94),CSVデータ1!N94,0)+IF(ISNUMBER(CSVデータ2!N94),CSVデータ2!N94,0)+IF(ISNUMBER(CSVデータ3!N94),CSVデータ3!N94,0)+IF(ISNUMBER(CSVデータ4!N94),CSVデータ4!N94,0)","v":11},null,{"$f":"IF(ISNUMBER(CSVデータ1!P94),CSVデータ1!P94,0)+IF(ISNUMBER(CSVデータ2!P94),CSVデータ2!P94,0)+IF(ISNUMBER(CSVデータ3!P94),CSVデータ3!P94,0)+IF(ISNUMBER(CSVデータ4!P94),CSVデータ4!P94,0)","v":59},null,{"$f":"IF(ISNUMBER(CSVデータ1!R94),CSVデータ1!R94,0)+IF(ISNUMBER(CSVデータ2!R94),CSVデータ2!R94,0)+IF(ISNUMBER(CSVデータ3!R94),CSVデータ3!R94,0)+IF(ISNUMBER(CSVデータ4!R94),CSVデータ4!R94,0)","v":108},null,{"$f":"IF(ISNUMBER(CSVデータ1!T94),CSVデータ1!T94,0)+IF(ISNUMBER(CSVデータ2!T94),CSVデータ2!T94,0)+IF(ISNUMBER(CSVデータ3!T94),CSVデータ3!T94,0)+IF(ISNUMBER(CSVデータ4!T94),CSVデータ4!T94,0)","v":34},null,{"$f":"IF(ISNUMBER(CSVデータ1!V94),CSVデータ1!V94,0)+IF(ISNUMBER(CSVデータ2!V94),CSVデータ2!V94,0)+IF(ISNUMBER(CSVデータ3!V94),CSVデータ3!V94,0)+IF(ISNUMBER(CSVデータ4!V94),CSVデータ4!V94,0)","v":80},null,{"$f":"IF(ISNUMBER(CSVデータ1!X94),CSVデータ1!X94,0)+IF(ISNUMBER(CSVデータ2!X94),CSVデータ2!X94,0)+IF(ISNUMBER(CSVデータ3!X94),CSVデータ3!X94,0)+IF(ISNUMBER(CSVデータ4!X94),CSVデータ4!X94,0)","v":62},null,{"$f":"IF(ISNUMBER(CSVデータ1!Z94),CSVデータ1!Z94,0)+IF(ISNUMBER(CSVデータ2!Z94),CSVデータ2!Z94,0)+IF(ISNUMBER(CSVデータ3!Z94),CSVデータ3!Z94,0)+IF(ISNUMBER(CSVデータ4!Z94),CSVデータ4!Z94,0)","v":93},null,{"$f":"IF(ISNUMBER(CSVデータ1!AB94),CSVデータ1!AB94,0)+IF(ISNUMBER(CSVデータ2!AB94),CSVデータ2!AB94,0)+IF(ISNUMBER(CSVデータ3!AB94),CSVデータ3!AB94,0)+IF(ISNUMBER(CSVデータ4!AB94),CSVデータ4!AB94,0)","v":7},null,{"$f":"IF(ISNUMBER(CSVデータ1!AD94),CSVデータ1!AD94,0)+IF(ISNUMBER(CSVデータ2!AD94),CSVデータ2!AD94,0)+IF(ISNUMBER(CSVデータ3!AD94),CSVデータ3!AD94,0)+IF(ISNUMBER(CSVデータ4!AD94),CSVデータ4!AD94,0)","v":43},null,{"$f":"IF(ISNUMBER(CSVデータ1!AF94),CSVデータ1!AF94,0)+IF(ISNUMBER(CSVデータ2!AF94),CSVデータ2!AF94,0)+IF(ISNUMBER(CSVデータ3!AF94),CSVデータ3!AF94,0)+IF(ISNUMBER(CSVデータ4!AF94),CSVデータ4!AF94,0)","v":20},null,{"$f":"IF(ISNUMBER(CSVデータ1!AH94),CSVデータ1!AH94,0)+IF(ISNUMBER(CSVデータ2!AH94),CSVデータ2!AH94,0)+IF(ISNUMBER(CSVデータ3!AH94),CSVデータ3!AH94,0)+IF(ISNUMBER(CSVデータ4!AH94),CSVデータ4!AH94,0)","v":3},null,{"$f":"IF(ISNUMBER(CSVデータ1!AJ94),CSVデータ1!AJ94,0)+IF(ISNUMBER(CSVデータ2!AJ94),CSVデータ2!AJ94,0)+IF(ISNUMBER(CSVデータ3!AJ94),CSVデータ3!AJ94,0)+IF(ISNUMBER(CSVデータ4!AJ94),CSVデータ4!AJ94,0)","v":4},null,{"$f":"IF(ISNUMBER(CSVデータ1!AL94),CSVデータ1!AL94,0)+IF(ISNUMBER(CSVデータ2!AL94),CSVデータ2!AL94,0)+IF(ISNUMBER(CSVデータ3!AL94),CSVデータ3!AL94,0)+IF(ISNUMBER(CSVデータ4!AL94),CSVデータ4!AL94,0)","v":33},null,{"$f":"IF(ISNUMBER(CSVデータ1!AN94),CSVデータ1!AN94,0)+IF(ISNUMBER(CSVデータ2!AN94),CSVデータ2!AN94,0)+IF(ISNUMBER(CSVデータ3!AN94),CSVデータ3!AN94,0)+IF(ISNUMBER(CSVデータ4!AN94),CSVデータ4!AN94,0)","v":5}]
[{"$f":"CSVデータ1!A95","v":"明細部"},{"$f":"CSVデータ1!B95","v":"県"},{"$f":"CSVデータ1!C95","v":61},{"$f":"CSVデータ1!D95","v":"男"},{"$f":"IF(ISNUMBER(CSVデータ1!E95),CSVデータ1!E95,0)+IF(ISNUMBER(CSVデータ2!E95),CSVデータ2!E95,0)+IF(ISNUMBER(CSVデータ3!E95),CSVデータ3!E95,0)+IF(ISNUMBER(CSVデータ4!E95),CSVデータ4!E95,0)","v":181},{"$f":"IF(ISNUMBER(CSVデータ1!F95),CSVデータ1!F95,0)+IF(ISNUMBER(CSVデータ2!F95),CSVデータ2!F95,0)+IF(ISNUMBER(CSVデータ3!F95),CSVデータ3!F95,0)+IF(ISNUMBER(CSVデータ4!F95),CSVデータ4!F95,0)","v":65},null,{"$f":"IF(ISNUMBER(CSVデータ1!H95),CSVデータ1!H95,0)+IF(ISNUMBER(CSVデータ2!H95),CSVデータ2!H95,0)+IF(ISNUMBER(CSVデータ3!H95),CSVデータ3!H95,0)+IF(ISNUMBER(CSVデータ4!H95),CSVデータ4!H95,0)","v":96},null,{"$f":"IF(ISNUMBER(CSVデータ1!J95),CSVデータ1!J95,0)+IF(ISNUMBER(CSVデータ2!J95),CSVデータ2!J95,0)+IF(ISNUMBER(CSVデータ3!J95),CSVデータ3!J95,0)+IF(ISNUMBER(CSVデータ4!J95),CSVデータ4!J95,0)","v":40},null,{"$f":"IF(ISNUMBER(CSVデータ1!L95),CSVデータ1!L95,0)+IF(ISNUMBER(CSVデータ2!L95),CSVデータ2!L95,0)+IF(ISNUMBER(CSVデータ3!L95),CSVデータ3!L95,0)+IF(ISNUMBER(CSVデータ4!L95),CSVデータ4!L95,0)","v":32},null,{"$f":"IF(ISNUMBER(CSVデータ1!N95),CSVデータ1!N95,0)+IF(ISNUMBER(CSVデータ2!N95),CSVデータ2!N95,0)+IF(ISNUMBER(CSVデータ3!N95),CSVデータ3!N95,0)+IF(ISNUMBER(CSVデータ4!N95),CSVデータ4!N95,0)","v":15},null,{"$f":"IF(ISNUMBER(CSVデータ1!P95),CSVデータ1!P95,0)+IF(ISNUMBER(CSVデータ2!P95),CSVデータ2!P95,0)+IF(ISNUMBER(CSVデータ3!P95),CSVデータ3!P95,0)+IF(ISNUMBER(CSVデータ4!P95),CSVデータ4!P95,0)","v":49},null,{"$f":"IF(ISNUMBER(CSVデータ1!R95),CSVデータ1!R95,0)+IF(ISNUMBER(CSVデータ2!R95),CSVデータ2!R95,0)+IF(ISNUMBER(CSVデータ3!R95),CSVデータ3!R95,0)+IF(ISNUMBER(CSVデータ4!R95),CSVデータ4!R95,0)","v":108},null,{"$f":"IF(ISNUMBER(CSVデータ1!T95),CSVデータ1!T95,0)+IF(ISNUMBER(CSVデータ2!T95),CSVデータ2!T95,0)+IF(ISNUMBER(CSVデータ3!T95),CSVデータ3!T95,0)+IF(ISNUMBER(CSVデータ4!T95),CSVデータ4!T95,0)","v":33},null,{"$f":"IF(ISNUMBER(CSVデータ1!V95),CSVデータ1!V95,0)+IF(ISNUMBER(CSVデータ2!V95),CSVデータ2!V95,0)+IF(ISNUMBER(CSVデータ3!V95),CSVデータ3!V95,0)+IF(ISNUMBER(CSVデータ4!V95),CSVデータ4!V95,0)","v":79},null,{"$f":"IF(ISNUMBER(CSVデータ1!X95),CSVデータ1!X95,0)+IF(ISNUMBER(CSVデータ2!X95),CSVデータ2!X95,0)+IF(ISNUMBER(CSVデータ3!X95),CSVデータ3!X95,0)+IF(ISNUMBER(CSVデータ4!X95),CSVデータ4!X95,0)","v":50},null,{"$f":"IF(ISNUMBER(CSVデータ1!Z95),CSVデータ1!Z95,0)+IF(ISNUMBER(CSVデータ2!Z95),CSVデータ2!Z95,0)+IF(ISNUMBER(CSVデータ3!Z95),CSVデータ3!Z95,0)+IF(ISNUMBER(CSVデータ4!Z95),CSVデータ4!Z95,0)","v":91},null,{"$f":"IF(ISNUMBER(CSVデータ1!AB95),CSVデータ1!AB95,0)+IF(ISNUMBER(CSVデータ2!AB95),CSVデータ2!AB95,0)+IF(ISNUMBER(CSVデータ3!AB95),CSVデータ3!AB95,0)+IF(ISNUMBER(CSVデータ4!AB95),CSVデータ4!AB95,0)","v":3},null,{"$f":"IF(ISNUMBER(CSVデータ1!AD95),CSVデータ1!AD95,0)+IF(ISNUMBER(CSVデータ2!AD95),CSVデータ2!AD95,0)+IF(ISNUMBER(CSVデータ3!AD95),CSVデータ3!AD95,0)+IF(ISNUMBER(CSVデータ4!AD95),CSVデータ4!AD95,0)","v":53},null,{"$f":"IF(ISNUMBER(CSVデータ1!AF95),CSVデータ1!AF95,0)+IF(ISNUMBER(CSVデータ2!AF95),CSVデータ2!AF95,0)+IF(ISNUMBER(CSVデータ3!AF95),CSVデータ3!AF95,0)+IF(ISNUMBER(CSVデータ4!AF95),CSVデータ4!AF95,0)","v":19},null,{"$f":"IF(ISNUMBER(CSVデータ1!AH95),CSVデータ1!AH95,0)+IF(ISNUMBER(CSVデータ2!AH95),CSVデータ2!AH95,0)+IF(ISNUMBER(CSVデータ3!AH95),CSVデータ3!AH95,0)+IF(ISNUMBER(CSVデータ4!AH95),CSVデータ4!AH95,0)","v":7},null,{"$f":"IF(ISNUMBER(CSVデータ1!AJ95),CSVデータ1!AJ95,0)+IF(ISNUMBER(CSVデータ2!AJ95),CSVデータ2!AJ95,0)+IF(ISNUMBER(CSVデータ3!AJ95),CSVデータ3!AJ95,0)+IF(ISNUMBER(CSVデータ4!AJ95),CSVデータ4!AJ95,0)","v":4},null,{"$f":"IF(ISNUMBER(CSVデータ1!AL95),CSVデータ1!AL95,0)+IF(ISNUMBER(CSVデータ2!AL95),CSVデータ2!AL95,0)+IF(ISNUMBER(CSVデータ3!AL95),CSVデータ3!AL95,0)+IF(ISNUMBER(CSVデータ4!AL95),CSVデータ4!AL95,0)","v":29},null,{"$f":"IF(ISNUMBER(CSVデータ1!AN95),CSVデータ1!AN95,0)+IF(ISNUMBER(CSVデータ2!AN95),CSVデータ2!AN95,0)+IF(ISNUMBER(CSVデータ3!AN95),CSVデータ3!AN95,0)+IF(ISNUMBER(CSVデータ4!AN95),CSVデータ4!AN95,0)","v":8}]
[{"$f":"CSVデータ1!A96","v":"明細部"},{"$f":"CSVデータ1!B96","v":"県"},{"$f":"CSVデータ1!C96","v":62},{"$f":"CSVデータ1!D96","v":"男"},{"$f":"IF(ISNUMBER(CSVデータ1!E96),CSVデータ1!E96,0)+IF(ISNUMBER(CSVデータ2!E96),CSVデータ2!E96,0)+IF(ISNUMBER(CSVデータ3!E96),CSVデータ3!E96,0)+IF(ISNUMBER(CSVデータ4!E96),CSVデータ4!E96,0)","v":201},{"$f":"IF(ISNUMBER(CSVデータ1!F96),CSVデータ1!F96,0)+IF(ISNUMBER(CSVデータ2!F96),CSVデータ2!F96,0)+IF(ISNUMBER(CSVデータ3!F96),CSVデータ3!F96,0)+IF(ISNUMBER(CSVデータ4!F96),CSVデータ4!F96,0)","v":73},null,{"$f":"IF(ISNUMBER(CSVデータ1!H96),CSVデータ1!H96,0)+IF(ISNUMBER(CSVデータ2!H96),CSVデータ2!H96,0)+IF(ISNUMBER(CSVデータ3!H96),CSVデータ3!H96,0)+IF(ISNUMBER(CSVデータ4!H96),CSVデータ4!H96,0)","v":116},null,{"$f":"IF(ISNUMBER(CSVデータ1!J96),CSVデータ1!J96,0)+IF(ISNUMBER(CSVデータ2!J96),CSVデータ2!J96,0)+IF(ISNUMBER(CSVデータ3!J96),CSVデータ3!J96,0)+IF(ISNUMBER(CSVデータ4!J96),CSVデータ4!J96,0)","v":53},null,{"$f":"IF(ISNUMBER(CSVデータ1!L96),CSVデータ1!L96,0)+IF(ISNUMBER(CSVデータ2!L96),CSVデータ2!L96,0)+IF(ISNUMBER(CSVデータ3!L96),CSVデータ3!L96,0)+IF(ISNUMBER(CSVデータ4!L96),CSVデータ4!L96,0)","v":47},null,{"$f":"IF(ISNUMBER(CSVデータ1!N96),CSVデータ1!N96,0)+IF(ISNUMBER(CSVデータ2!N96),CSVデータ2!N96,0)+IF(ISNUMBER(CSVデータ3!N96),CSVデータ3!N96,0)+IF(ISNUMBER(CSVデータ4!N96),CSVデータ4!N96,0)","v":12},null,{"$f":"IF(ISNUMBER(CSVデータ1!P96),CSVデータ1!P96,0)+IF(ISNUMBER(CSVデータ2!P96),CSVデータ2!P96,0)+IF(ISNUMBER(CSVデータ3!P96),CSVデータ3!P96,0)+IF(ISNUMBER(CSVデータ4!P96),CSVデータ4!P96,0)","v":68},null,{"$f":"IF(ISNUMBER(CSVデータ1!R96),CSVデータ1!R96,0)+IF(ISNUMBER(CSVデータ2!R96),CSVデータ2!R96,0)+IF(ISNUMBER(CSVデータ3!R96),CSVデータ3!R96,0)+IF(ISNUMBER(CSVデータ4!R96),CSVデータ4!R96,0)","v":128},null,{"$f":"IF(ISNUMBER(CSVデータ1!T96),CSVデータ1!T96,0)+IF(ISNUMBER(CSVデータ2!T96),CSVデータ2!T96,0)+IF(ISNUMBER(CSVデータ3!T96),CSVデータ3!T96,0)+IF(ISNUMBER(CSVデータ4!T96),CSVデータ4!T96,0)","v":37},null,{"$f":"IF(ISNUMBER(CSVデータ1!V96),CSVデータ1!V96,0)+IF(ISNUMBER(CSVデータ2!V96),CSVデータ2!V96,0)+IF(ISNUMBER(CSVデータ3!V96),CSVデータ3!V96,0)+IF(ISNUMBER(CSVデータ4!V96),CSVデータ4!V96,0)","v":96},null,{"$f":"IF(ISNUMBER(CSVデータ1!X96),CSVデータ1!X96,0)+IF(ISNUMBER(CSVデータ2!X96),CSVデータ2!X96,0)+IF(ISNUMBER(CSVデータ3!X96),CSVデータ3!X96,0)+IF(ISNUMBER(CSVデータ4!X96),CSVデータ4!X96,0)","v":76},null,{"$f":"IF(ISNUMBER(CSVデータ1!Z96),CSVデータ1!Z96,0)+IF(ISNUMBER(CSVデータ2!Z96),CSVデータ2!Z96,0)+IF(ISNUMBER(CSVデータ3!Z96),CSVデータ3!Z96,0)+IF(ISNUMBER(CSVデータ4!Z96),CSVデータ4!Z96,0)","v":95},null,{"$f":"IF(ISNUMBER(CSVデータ1!AB96),CSVデータ1!AB96,0)+IF(ISNUMBER(CSVデータ2!AB96),CSVデータ2!AB96,0)+IF(ISNUMBER(CSVデータ3!AB96),CSVデータ3!AB96,0)+IF(ISNUMBER(CSVデータ4!AB96),CSVデータ4!AB96,0)","v":2},null,{"$f":"IF(ISNUMBER(CSVデータ1!AD96),CSVデータ1!AD96,0)+IF(ISNUMBER(CSVデータ2!AD96),CSVデータ2!AD96,0)+IF(ISNUMBER(CSVデータ3!AD96),CSVデータ3!AD96,0)+IF(ISNUMBER(CSVデータ4!AD96),CSVデータ4!AD96,0)","v":50},null,{"$f":"IF(ISNUMBER(CSVデータ1!AF96),CSVデータ1!AF96,0)+IF(ISNUMBER(CSVデータ2!AF96),CSVデータ2!AF96,0)+IF(ISNUMBER(CSVデータ3!AF96),CSVデータ3!AF96,0)+IF(ISNUMBER(CSVデータ4!AF96),CSVデータ4!AF96,0)","v":19},null,{"$f":"IF(ISNUMBER(CSVデータ1!AH96),CSVデータ1!AH96,0)+IF(ISNUMBER(CSVデータ2!AH96),CSVデータ2!AH96,0)+IF(ISNUMBER(CSVデータ3!AH96),CSVデータ3!AH96,0)+IF(ISNUMBER(CSVデータ4!AH96),CSVデータ4!AH96,0)","v":4},null,{"$f":"IF(ISNUMBER(CSVデータ1!AJ96),CSVデータ1!AJ96,0)+IF(ISNUMBER(CSVデータ2!AJ96),CSVデータ2!AJ96,0)+IF(ISNUMBER(CSVデータ3!AJ96),CSVデータ3!AJ96,0)+IF(ISNUMBER(CSVデータ4!AJ96),CSVデータ4!AJ96,0)","v":6},null,{"$f":"IF(ISNUMBER(CSVデータ1!AL96),CSVデータ1!AL96,0)+IF(ISNUMBER(CSVデータ2!AL96),CSVデータ2!AL96,0)+IF(ISNUMBER(CSVデータ3!AL96),CSVデータ3!AL96,0)+IF(ISNUMBER(CSVデータ4!AL96),CSVデータ4!AL96,0)","v":44},null,{"$f":"IF(ISNUMBER(CSVデータ1!AN96),CSVデータ1!AN96,0)+IF(ISNUMBER(CSVデータ2!AN96),CSVデータ2!AN96,0)+IF(ISNUMBER(CSVデータ3!AN96),CSVデータ3!AN96,0)+IF(ISNUMBER(CSVデータ4!AN96),CSVデータ4!AN96,0)","v":6}]
[{"$f":"CSVデータ1!A97","v":"明細部"},{"$f":"CSVデータ1!B97","v":"県"},{"$f":"CSVデータ1!C97","v":63},{"$f":"CSVデータ1!D97","v":"男"},{"$f":"IF(ISNUMBER(CSVデータ1!E97),CSVデータ1!E97,0)+IF(ISNUMBER(CSVデータ2!E97),CSVデータ2!E97,0)+IF(ISNUMBER(CSVデータ3!E97),CSVデータ3!E97,0)+IF(ISNUMBER(CSVデータ4!E97),CSVデータ4!E97,0)","v":230},{"$f":"IF(ISNUMBER(CSVデータ1!F97),CSVデータ1!F97,0)+IF(ISNUMBER(CSVデータ2!F97),CSVデータ2!F97,0)+IF(ISNUMBER(CSVデータ3!F97),CSVデータ3!F97,0)+IF(ISNUMBER(CSVデータ4!F97),CSVデータ4!F97,0)","v":79},null,{"$f":"IF(ISNUMBER(CSVデータ1!H97),CSVデータ1!H97,0)+IF(ISNUMBER(CSVデータ2!H97),CSVデータ2!H97,0)+IF(ISNUMBER(CSVデータ3!H97),CSVデータ3!H97,0)+IF(ISNUMBER(CSVデータ4!H97),CSVデータ4!H97,0)","v":122},null,{"$f":"IF(ISNUMBER(CSVデータ1!J97),CSVデータ1!J97,0)+IF(ISNUMBER(CSVデータ2!J97),CSVデータ2!J97,0)+IF(ISNUMBER(CSVデータ3!J97),CSVデータ3!J97,0)+IF(ISNUMBER(CSVデータ4!J97),CSVデータ4!J97,0)","v":45},null,{"$f":"IF(ISNUMBER(CSVデータ1!L97),CSVデータ1!L97,0)+IF(ISNUMBER(CSVデータ2!L97),CSVデータ2!L97,0)+IF(ISNUMBER(CSVデータ3!L97),CSVデータ3!L97,0)+IF(ISNUMBER(CSVデータ4!L97),CSVデータ4!L97,0)","v":45},null,{"$f":"IF(ISNUMBER(CSVデータ1!N97),CSVデータ1!N97,0)+IF(ISNUMBER(CSVデータ2!N97),CSVデータ2!N97,0)+IF(ISNUMBER(CSVデータ3!N97),CSVデータ3!N97,0)+IF(ISNUMBER(CSVデータ4!N97),CSVデータ4!N97,0)","v":13},null,{"$f":"IF(ISNUMBER(CSVデータ1!P97),CSVデータ1!P97,0)+IF(ISNUMBER(CSVデータ2!P97),CSVデータ2!P97,0)+IF(ISNUMBER(CSVデータ3!P97),CSVデータ3!P97,0)+IF(ISNUMBER(CSVデータ4!P97),CSVデータ4!P97,0)","v":72},null,{"$f":"IF(ISNUMBER(CSVデータ1!R97),CSVデータ1!R97,0)+IF(ISNUMBER(CSVデータ2!R97),CSVデータ2!R97,0)+IF(ISNUMBER(CSVデータ3!R97),CSVデータ3!R97,0)+IF(ISNUMBER(CSVデータ4!R97),CSVデータ4!R97,0)","v":130},null,{"$f":"IF(ISNUMBER(CSVデータ1!T97),CSVデータ1!T97,0)+IF(ISNUMBER(CSVデータ2!T97),CSVデータ2!T97,0)+IF(ISNUMBER(CSVデータ3!T97),CSVデータ3!T97,0)+IF(ISNUMBER(CSVデータ4!T97),CSVデータ4!T97,0)","v":39},null,{"$f":"IF(ISNUMBER(CSVデータ1!V97),CSVデータ1!V97,0)+IF(ISNUMBER(CSVデータ2!V97),CSVデータ2!V97,0)+IF(ISNUMBER(CSVデータ3!V97),CSVデータ3!V97,0)+IF(ISNUMBER(CSVデータ4!V97),CSVデータ4!V97,0)","v":91},null,{"$f":"IF(ISNUMBER(CSVデータ1!X97),CSVデータ1!X97,0)+IF(ISNUMBER(CSVデータ2!X97),CSVデータ2!X97,0)+IF(ISNUMBER(CSVデータ3!X97),CSVデータ3!X97,0)+IF(ISNUMBER(CSVデータ4!X97),CSVデータ4!X97,0)","v":71},null,{"$f":"IF(ISNUMBER(CSVデータ1!Z97),CSVデータ1!Z97,0)+IF(ISNUMBER(CSVデータ2!Z97),CSVデータ2!Z97,0)+IF(ISNUMBER(CSVデータ3!Z97),CSVデータ3!Z97,0)+IF(ISNUMBER(CSVデータ4!Z97),CSVデータ4!Z97,0)","v":108},null,{"$f":"IF(ISNUMBER(CSVデータ1!AB97),CSVデータ1!AB97,0)+IF(ISNUMBER(CSVデータ2!AB97),CSVデータ2!AB97,0)+IF(ISNUMBER(CSVデータ3!AB97),CSVデータ3!AB97,0)+IF(ISNUMBER(CSVデータ4!AB97),CSVデータ4!AB97,0)","v":6},null,{"$f":"IF(ISNUMBER(CSVデータ1!AD97),CSVデータ1!AD97,0)+IF(ISNUMBER(CSVデータ2!AD97),CSVデータ2!AD97,0)+IF(ISNUMBER(CSVデータ3!AD97),CSVデータ3!AD97,0)+IF(ISNUMBER(CSVデータ4!AD97),CSVデータ4!AD97,0)","v":68},null,{"$f":"IF(ISNUMBER(CSVデータ1!AF97),CSVデータ1!AF97,0)+IF(ISNUMBER(CSVデータ2!AF97),CSVデータ2!AF97,0)+IF(ISNUMBER(CSVデータ3!AF97),CSVデータ3!AF97,0)+IF(ISNUMBER(CSVデータ4!AF97),CSVデータ4!AF97,0)","v":39},null,{"$f":"IF(ISNUMBER(CSVデータ1!AH97),CSVデータ1!AH97,0)+IF(ISNUMBER(CSVデータ2!AH97),CSVデータ2!AH97,0)+IF(ISNUMBER(CSVデータ3!AH97),CSVデータ3!AH97,0)+IF(ISNUMBER(CSVデータ4!AH97),CSVデータ4!AH97,0)","v":3},null,{"$f":"IF(ISNUMBER(CSVデータ1!AJ97),CSVデータ1!AJ97,0)+IF(ISNUMBER(CSVデータ2!AJ97),CSVデータ2!AJ97,0)+IF(ISNUMBER(CSVデータ3!AJ97),CSVデータ3!AJ97,0)+IF(ISNUMBER(CSVデータ4!AJ97),CSVデータ4!AJ97,0)","v":7},null,{"$f":"IF(ISNUMBER(CSVデータ1!AL97),CSVデータ1!AL97,0)+IF(ISNUMBER(CSVデータ2!AL97),CSVデータ2!AL97,0)+IF(ISNUMBER(CSVデータ3!AL97),CSVデータ3!AL97,0)+IF(ISNUMBER(CSVデータ4!AL97),CSVデータ4!AL97,0)","v":46},null,{"$f":"IF(ISNUMBER(CSVデータ1!AN97),CSVデータ1!AN97,0)+IF(ISNUMBER(CSVデータ2!AN97),CSVデータ2!AN97,0)+IF(ISNUMBER(CSVデータ3!AN97),CSVデータ3!AN97,0)+IF(ISNUMBER(CSVデータ4!AN97),CSVデータ4!AN97,0)","v":4}]
[{"$f":"CSVデータ1!A98","v":"明細部"},{"$f":"CSVデータ1!B98","v":"県"},{"$f":"CSVデータ1!C98","v":64},{"$f":"CSVデータ1!D98","v":"男"},{"$f":"IF(ISNUMBER(CSVデータ1!E98),CSVデータ1!E98,0)+IF(ISNUMBER(CSVデータ2!E98),CSVデータ2!E98,0)+IF(ISNUMBER(CSVデータ3!E98),CSVデータ3!E98,0)+IF(ISNUMBER(CSVデータ4!E98),CSVデータ4!E98,0)","v":250},{"$f":"IF(ISNUMBER(CSVデータ1!F98),CSVデータ1!F98,0)+IF(ISNUMBER(CSVデータ2!F98),CSVデータ2!F98,0)+IF(ISNUMBER(CSVデータ3!F98),CSVデータ3!F98,0)+IF(ISNUMBER(CSVデータ4!F98),CSVデータ4!F98,0)","v":84},null,{"$f":"IF(ISNUMBER(CSVデータ1!H98),CSVデータ1!H98,0)+IF(ISNUMBER(CSVデータ2!H98),CSVデータ2!H98,0)+IF(ISNUMBER(CSVデータ3!H98),CSVデータ3!H98,0)+IF(ISNUMBER(CSVデータ4!H98),CSVデータ4!H98,0)","v":143},null,{"$f":"IF(ISNUMBER(CSVデータ1!J98),CSVデータ1!J98,0)+IF(ISNUMBER(CSVデータ2!J98),CSVデータ2!J98,0)+IF(ISNUMBER(CSVデータ3!J98),CSVデータ3!J98,0)+IF(ISNUMBER(CSVデータ4!J98),CSVデータ4!J98,0)","v":52},null,{"$f":"IF(ISNUMBER(CSVデータ1!L98),CSVデータ1!L98,0)+IF(ISNUMBER(CSVデータ2!L98),CSVデータ2!L98,0)+IF(ISNUMBER(CSVデータ3!L98),CSVデータ3!L98,0)+IF(ISNUMBER(CSVデータ4!L98),CSVデータ4!L98,0)","v":56},null,{"$f":"IF(ISNUMBER(CSVデータ1!N98),CSVデータ1!N98,0)+IF(ISNUMBER(CSVデータ2!N98),CSVデータ2!N98,0)+IF(ISNUMBER(CSVデータ3!N98),CSVデータ3!N98,0)+IF(ISNUMBER(CSVデータ4!N98),CSVデータ4!N98,0)","v":12},null,{"$f":"IF(ISNUMBER(CSVデータ1!P98),CSVデータ1!P98,0)+IF(ISNUMBER(CSVデータ2!P98),CSVデータ2!P98,0)+IF(ISNUMBER(CSVデータ3!P98),CSVデータ3!P98,0)+IF(ISNUMBER(CSVデータ4!P98),CSVデータ4!P98,0)","v":84},null,{"$f":"IF(ISNUMBER(CSVデータ1!R98),CSVデータ1!R98,0)+IF(ISNUMBER(CSVデータ2!R98),CSVデータ2!R98,0)+IF(ISNUMBER(CSVデータ3!R98),CSVデータ3!R98,0)+IF(ISNUMBER(CSVデータ4!R98),CSVデータ4!R98,0)","v":155},null,{"$f":"IF(ISNUMBER(CSVデータ1!T98),CSVデータ1!T98,0)+IF(ISNUMBER(CSVデータ2!T98),CSVデータ2!T98,0)+IF(ISNUMBER(CSVデータ3!T98),CSVデータ3!T98,0)+IF(ISNUMBER(CSVデータ4!T98),CSVデータ4!T98,0)","v":37},null,{"$f":"IF(ISNUMBER(CSVデータ1!V98),CSVデータ1!V98,0)+IF(ISNUMBER(CSVデータ2!V98),CSVデータ2!V98,0)+IF(ISNUMBER(CSVデータ3!V98),CSVデータ3!V98,0)+IF(ISNUMBER(CSVデータ4!V98),CSVデータ4!V98,0)","v":131},null,{"$f":"IF(ISNUMBER(CSVデータ1!X98),CSVデータ1!X98,0)+IF(ISNUMBER(CSVデータ2!X98),CSVデータ2!X98,0)+IF(ISNUMBER(CSVデータ3!X98),CSVデータ3!X98,0)+IF(ISNUMBER(CSVデータ4!X98),CSVデータ4!X98,0)","v":77},null,{"$f":"IF(ISNUMBER(CSVデータ1!Z98),CSVデータ1!Z98,0)+IF(ISNUMBER(CSVデータ2!Z98),CSVデータ2!Z98,0)+IF(ISNUMBER(CSVデータ3!Z98),CSVデータ3!Z98,0)+IF(ISNUMBER(CSVデータ4!Z98),CSVデータ4!Z98,0)","v":117},null,{"$f":"IF(ISNUMBER(CSVデータ1!AB98),CSVデータ1!AB98,0)+IF(ISNUMBER(CSVデータ2!AB98),CSVデータ2!AB98,0)+IF(ISNUMBER(CSVデータ3!AB98),CSVデータ3!AB98,0)+IF(ISNUMBER(CSVデータ4!AB98),CSVデータ4!AB98,0)","v":6},null,{"$f":"IF(ISNUMBER(CSVデータ1!AD98),CSVデータ1!AD98,0)+IF(ISNUMBER(CSVデータ2!AD98),CSVデータ2!AD98,0)+IF(ISNUMBER(CSVデータ3!AD98),CSVデータ3!AD98,0)+IF(ISNUMBER(CSVデータ4!AD98),CSVデータ4!AD98,0)","v":69},null,{"$f":"IF(ISNUMBER(CSVデータ1!AF98),CSVデータ1!AF98,0)+IF(ISNUMBER(CSVデータ2!AF98),CSVデータ2!AF98,0)+IF(ISNUMBER(CSVデータ3!AF98),CSVデータ3!AF98,0)+IF(ISNUMBER(CSVデータ4!AF98),CSVデータ4!AF98,0)","v":30},null,{"$f":"IF(ISNUMBER(CSVデータ1!AH98),CSVデータ1!AH98,0)+IF(ISNUMBER(CSVデータ2!AH98),CSVデータ2!AH98,0)+IF(ISNUMBER(CSVデータ3!AH98),CSVデータ3!AH98,0)+IF(ISNUMBER(CSVデータ4!AH98),CSVデータ4!AH98,0)","v":8},null,{"$f":"IF(ISNUMBER(CSVデータ1!AJ98),CSVデータ1!AJ98,0)+IF(ISNUMBER(CSVデータ2!AJ98),CSVデータ2!AJ98,0)+IF(ISNUMBER(CSVデータ3!AJ98),CSVデータ3!AJ98,0)+IF(ISNUMBER(CSVデータ4!AJ98),CSVデータ4!AJ98,0)","v":5},null,{"$f":"IF(ISNUMBER(CSVデータ1!AL98),CSVデータ1!AL98,0)+IF(ISNUMBER(CSVデータ2!AL98),CSVデータ2!AL98,0)+IF(ISNUMBER(CSVデータ3!AL98),CSVデータ3!AL98,0)+IF(ISNUMBER(CSVデータ4!AL98),CSVデータ4!AL98,0)","v":59},null,{"$f":"IF(ISNUMBER(CSVデータ1!AN98),CSVデータ1!AN98,0)+IF(ISNUMBER(CSVデータ2!AN98),CSVデータ2!AN98,0)+IF(ISNUMBER(CSVデータ3!AN98),CSVデータ3!AN98,0)+IF(ISNUMBER(CSVデータ4!AN98),CSVデータ4!AN98,0)","v":9}]
[{"$f":"CSVデータ1!A99","v":"明細部"},{"$f":"CSVデータ1!B99","v":"県"},{"$f":"CSVデータ1!C99","v":65},{"$f":"CSVデータ1!D99","v":"男"},{"$f":"IF(ISNUMBER(CSVデータ1!E99),CSVデータ1!E99,0)+IF(ISNUMBER(CSVデータ2!E99),CSVデータ2!E99,0)+IF(ISNUMBER(CSVデータ3!E99),CSVデータ3!E99,0)+IF(ISNUMBER(CSVデータ4!E99),CSVデータ4!E99,0)","v":287},{"$f":"IF(ISNUMBER(CSVデータ1!F99),CSVデータ1!F99,0)+IF(ISNUMBER(CSVデータ2!F99),CSVデータ2!F99,0)+IF(ISNUMBER(CSVデータ3!F99),CSVデータ3!F99,0)+IF(ISNUMBER(CSVデータ4!F99),CSVデータ4!F99,0)","v":93},null,{"$f":"IF(ISNUMBER(CSVデータ1!H99),CSVデータ1!H99,0)+IF(ISNUMBER(CSVデータ2!H99),CSVデータ2!H99,0)+IF(ISNUMBER(CSVデータ3!H99),CSVデータ3!H99,0)+IF(ISNUMBER(CSVデータ4!H99),CSVデータ4!H99,0)","v":158},null,{"$f":"IF(ISNUMBER(CSVデータ1!J99),CSVデータ1!J99,0)+IF(ISNUMBER(CSVデータ2!J99),CSVデータ2!J99,0)+IF(ISNUMBER(CSVデータ3!J99),CSVデータ3!J99,0)+IF(ISNUMBER(CSVデータ4!J99),CSVデータ4!J99,0)","v":58},null,{"$f":"IF(ISNUMBER(CSVデータ1!L99),CSVデータ1!L99,0)+IF(ISNUMBER(CSVデータ2!L99),CSVデータ2!L99,0)+IF(ISNUMBER(CSVデータ3!L99),CSVデータ3!L99,0)+IF(ISNUMBER(CSVデータ4!L99),CSVデータ4!L99,0)","v":64},null,{"$f":"IF(ISNUMBER(CSVデータ1!N99),CSVデータ1!N99,0)+IF(ISNUMBER(CSVデータ2!N99),CSVデータ2!N99,0)+IF(ISNUMBER(CSVデータ3!N99),CSVデータ3!N99,0)+IF(ISNUMBER(CSVデータ4!N99),CSVデータ4!N99,0)","v":17},null,{"$f":"IF(ISNUMBER(CSVデータ1!P99),CSVデータ1!P99,0)+IF(ISNUMBER(CSVデータ2!P99),CSVデータ2!P99,0)+IF(ISNUMBER(CSVデータ3!P99),CSVデータ3!P99,0)+IF(ISNUMBER(CSVデータ4!P99),CSVデータ4!P99,0)","v":101},null,{"$f":"IF(ISNUMBER(CSVデータ1!R99),CSVデータ1!R99,0)+IF(ISNUMBER(CSVデータ2!R99),CSVデータ2!R99,0)+IF(ISNUMBER(CSVデータ3!R99),CSVデータ3!R99,0)+IF(ISNUMBER(CSVデータ4!R99),CSVデータ4!R99,0)","v":187},null,{"$f":"IF(ISNUMBER(CSVデータ1!T99),CSVデータ1!T99,0)+IF(ISNUMBER(CSVデータ2!T99),CSVデータ2!T99,0)+IF(ISNUMBER(CSVデータ3!T99),CSVデータ3!T99,0)+IF(ISNUMBER(CSVデータ4!T99),CSVデータ4!T99,0)","v":46},null,{"$f":"IF(ISNUMBER(CSVデータ1!V99),CSVデータ1!V99,0)+IF(ISNUMBER(CSVデータ2!V99),CSVデータ2!V99,0)+IF(ISNUMBER(CSVデータ3!V99),CSVデータ3!V99,0)+IF(ISNUMBER(CSVデータ4!V99),CSVデータ4!V99,0)","v":133},null,{"$f":"IF(ISNUMBER(CSVデータ1!X99),CSVデータ1!X99,0)+IF(ISNUMBER(CSVデータ2!X99),CSVデータ2!X99,0)+IF(ISNUMBER(CSVデータ3!X99),CSVデータ3!X99,0)+IF(ISNUMBER(CSVデータ4!X99),CSVデータ4!X99,0)","v":87},null,{"$f":"IF(ISNUMBER(CSVデータ1!Z99),CSVデータ1!Z99,0)+IF(ISNUMBER(CSVデータ2!Z99),CSVデータ2!Z99,0)+IF(ISNUMBER(CSVデータ3!Z99),CSVデータ3!Z99,0)+IF(ISNUMBER(CSVデータ4!Z99),CSVデータ4!Z99,0)","v":134},null,{"$f":"IF(ISNUMBER(CSVデータ1!AB99),CSVデータ1!AB99,0)+IF(ISNUMBER(CSVデータ2!AB99),CSVデータ2!AB99,0)+IF(ISNUMBER(CSVデータ3!AB99),CSVデータ3!AB99,0)+IF(ISNUMBER(CSVデータ4!AB99),CSVデータ4!AB99,0)","v":7},null,{"$f":"IF(ISNUMBER(CSVデータ1!AD99),CSVデータ1!AD99,0)+IF(ISNUMBER(CSVデータ2!AD99),CSVデータ2!AD99,0)+IF(ISNUMBER(CSVデータ3!AD99),CSVデータ3!AD99,0)+IF(ISNUMBER(CSVデータ4!AD99),CSVデータ4!AD99,0)","v":88},null,{"$f":"IF(ISNUMBER(CSVデータ1!AF99),CSVデータ1!AF99,0)+IF(ISNUMBER(CSVデータ2!AF99),CSVデータ2!AF99,0)+IF(ISNUMBER(CSVデータ3!AF99),CSVデータ3!AF99,0)+IF(ISNUMBER(CSVデータ4!AF99),CSVデータ4!AF99,0)","v":43},null,{"$f":"IF(ISNUMBER(CSVデータ1!AH99),CSVデータ1!AH99,0)+IF(ISNUMBER(CSVデータ2!AH99),CSVデータ2!AH99,0)+IF(ISNUMBER(CSVデータ3!AH99),CSVデータ3!AH99,0)+IF(ISNUMBER(CSVデータ4!AH99),CSVデータ4!AH99,0)","v":7},null,{"$f":"IF(ISNUMBER(CSVデータ1!AJ99),CSVデータ1!AJ99,0)+IF(ISNUMBER(CSVデータ2!AJ99),CSVデータ2!AJ99,0)+IF(ISNUMBER(CSVデータ3!AJ99),CSVデータ3!AJ99,0)+IF(ISNUMBER(CSVデータ4!AJ99),CSVデータ4!AJ99,0)","v":9},null,{"$f":"IF(ISNUMBER(CSVデータ1!AL99),CSVデータ1!AL99,0)+IF(ISNUMBER(CSVデータ2!AL99),CSVデータ2!AL99,0)+IF(ISNUMBER(CSVデータ3!AL99),CSVデータ3!AL99,0)+IF(ISNUMBER(CSVデータ4!AL99),CSVデータ4!AL99,0)","v":70},null,{"$f":"IF(ISNUMBER(CSVデータ1!AN99),CSVデータ1!AN99,0)+IF(ISNUMBER(CSVデータ2!AN99),CSVデータ2!AN99,0)+IF(ISNUMBER(CSVデータ3!AN99),CSVデータ3!AN99,0)+IF(ISNUMBER(CSVデータ4!AN99),CSVデータ4!AN99,0)","v":8}]
[{"$f":"CSVデータ1!A100","v":"明細部"},{"$f":"CSVデータ1!B100","v":"県"},{"$f":"CSVデータ1!C100","v":66},{"$f":"CSVデータ1!D100","v":"男"},{"$f":"IF(ISNUMBER(CSVデータ1!E100),CSVデータ1!E100,0)+IF(ISNUMBER(CSVデータ2!E100),CSVデータ2!E100,0)+IF(ISNUMBER(CSVデータ3!E100),CSVデータ3!E100,0)+IF(ISNUMBER(CSVデータ4!E100),CSVデータ4!E100,0)","v":386},{"$f":"IF(ISNUMBER(CSVデータ1!F100),CSVデータ1!F100,0)+IF(ISNUMBER(CSVデータ2!F100),CSVデータ2!F100,0)+IF(ISNUMBER(CSVデータ3!F100),CSVデータ3!F100,0)+IF(ISNUMBER(CSVデータ4!F100),CSVデータ4!F100,0)","v":128},null,{"$f":"IF(ISNUMBER(CSVデータ1!H100),CSVデータ1!H100,0)+IF(ISNUMBER(CSVデータ2!H100),CSVデータ2!H100,0)+IF(ISNUMBER(CSVデータ3!H100),CSVデータ3!H100,0)+IF(ISNUMBER(CSVデータ4!H100),CSVデータ4!H100,0)","v":205},null,{"$f":"IF(ISNUMBER(CSVデータ1!J100),CSVデータ1!J100,0)+IF(ISNUMBER(CSVデータ2!J100),CSVデータ2!J100,0)+IF(ISNUMBER(CSVデータ3!J100),CSVデータ3!J100,0)+IF(ISNUMBER(CSVデータ4!J100),CSVデータ4!J100,0)","v":88},null,{"$f":"IF(ISNUMBER(CSVデータ1!L100),CSVデータ1!L100,0)+IF(ISNUMBER(CSVデータ2!L100),CSVデータ2!L100,0)+IF(ISNUMBER(CSVデータ3!L100),CSVデータ3!L100,0)+IF(ISNUMBER(CSVデータ4!L100),CSVデータ4!L100,0)","v":66},null,{"$f":"IF(ISNUMBER(CSVデータ1!N100),CSVデータ1!N100,0)+IF(ISNUMBER(CSVデータ2!N100),CSVデータ2!N100,0)+IF(ISNUMBER(CSVデータ3!N100),CSVデータ3!N100,0)+IF(ISNUMBER(CSVデータ4!N100),CSVデータ4!N100,0)","v":31},null,{"$f":"IF(ISNUMBER(CSVデータ1!P100),CSVデータ1!P100,0)+IF(ISNUMBER(CSVデータ2!P100),CSVデータ2!P100,0)+IF(ISNUMBER(CSVデータ3!P100),CSVデータ3!P100,0)+IF(ISNUMBER(CSVデータ4!P100),CSVデータ4!P100,0)","v":125},null,{"$f":"IF(ISNUMBER(CSVデータ1!R100),CSVデータ1!R100,0)+IF(ISNUMBER(CSVデータ2!R100),CSVデータ2!R100,0)+IF(ISNUMBER(CSVデータ3!R100),CSVデータ3!R100,0)+IF(ISNUMBER(CSVデータ4!R100),CSVデータ4!R100,0)","v":259},null,{"$f":"IF(ISNUMBER(CSVデータ1!T100),CSVデータ1!T100,0)+IF(ISNUMBER(CSVデータ2!T100),CSVデータ2!T100,0)+IF(ISNUMBER(CSVデータ3!T100),CSVデータ3!T100,0)+IF(ISNUMBER(CSVデータ4!T100),CSVデータ4!T100,0)","v":71},null,{"$f":"IF(ISNUMBER(CSVデータ1!V100),CSVデータ1!V100,0)+IF(ISNUMBER(CSVデータ2!V100),CSVデータ2!V100,0)+IF(ISNUMBER(CSVデータ3!V100),CSVデータ3!V100,0)+IF(ISNUMBER(CSVデータ4!V100),CSVデータ4!V100,0)","v":216},null,{"$f":"IF(ISNUMBER(CSVデータ1!X100),CSVデータ1!X100,0)+IF(ISNUMBER(CSVデータ2!X100),CSVデータ2!X100,0)+IF(ISNUMBER(CSVデータ3!X100),CSVデータ3!X100,0)+IF(ISNUMBER(CSVデータ4!X100),CSVデータ4!X100,0)","v":135},null,{"$f":"IF(ISNUMBER(CSVデータ1!Z100),CSVデータ1!Z100,0)+IF(ISNUMBER(CSVデータ2!Z100),CSVデータ2!Z100,0)+IF(ISNUMBER(CSVデータ3!Z100),CSVデータ3!Z100,0)+IF(ISNUMBER(CSVデータ4!Z100),CSVデータ4!Z100,0)","v":184},null,{"$f":"IF(ISNUMBER(CSVデータ1!AB100),CSVデータ1!AB100,0)+IF(ISNUMBER(CSVデータ2!AB100),CSVデータ2!AB100,0)+IF(ISNUMBER(CSVデータ3!AB100),CSVデータ3!AB100,0)+IF(ISNUMBER(CSVデータ4!AB100),CSVデータ4!AB100,0)","v":9},null,{"$f":"IF(ISNUMBER(CSVデータ1!AD100),CSVデータ1!AD100,0)+IF(ISNUMBER(CSVデータ2!AD100),CSVデータ2!AD100,0)+IF(ISNUMBER(CSVデータ3!AD100),CSVデータ3!AD100,0)+IF(ISNUMBER(CSVデータ4!AD100),CSVデータ4!AD100,0)","v":109},null,{"$f":"IF(ISNUMBER(CSVデータ1!AF100),CSVデータ1!AF100,0)+IF(ISNUMBER(CSVデータ2!AF100),CSVデータ2!AF100,0)+IF(ISNUMBER(CSVデータ3!AF100),CSVデータ3!AF100,0)+IF(ISNUMBER(CSVデータ4!AF100),CSVデータ4!AF100,0)","v":48},null,{"$f":"IF(ISNUMBER(CSVデータ1!AH100),CSVデータ1!AH100,0)+IF(ISNUMBER(CSVデータ2!AH100),CSVデータ2!AH100,0)+IF(ISNUMBER(CSVデータ3!AH100),CSVデータ3!AH100,0)+IF(ISNUMBER(CSVデータ4!AH100),CSVデータ4!AH100,0)","v":18},null,{"$f":"IF(ISNUMBER(CSVデータ1!AJ100),CSVデータ1!AJ100,0)+IF(ISNUMBER(CSVデータ2!AJ100),CSVデータ2!AJ100,0)+IF(ISNUMBER(CSVデータ3!AJ100),CSVデータ3!AJ100,0)+IF(ISNUMBER(CSVデータ4!AJ100),CSVデータ4!AJ100,0)","v":12},null,{"$f":"IF(ISNUMBER(CSVデータ1!AL100),CSVデータ1!AL100,0)+IF(ISNUMBER(CSVデータ2!AL100),CSVデータ2!AL100,0)+IF(ISNUMBER(CSVデータ3!AL100),CSVデータ3!AL100,0)+IF(ISNUMBER(CSVデータ4!AL100),CSVデータ4!AL100,0)","v":89},null,{"$f":"IF(ISNUMBER(CSVデータ1!AN100),CSVデータ1!AN100,0)+IF(ISNUMBER(CSVデータ2!AN100),CSVデータ2!AN100,0)+IF(ISNUMBER(CSVデータ3!AN100),CSVデータ3!AN100,0)+IF(ISNUMBER(CSVデータ4!AN100),CSVデータ4!AN100,0)","v":11}]
[{"$f":"CSVデータ1!A101","v":"明細部"},{"$f":"CSVデータ1!B101","v":"県"},{"$f":"CSVデータ1!C101","v":67},{"$f":"CSVデータ1!D101","v":"男"},{"$f":"IF(ISNUMBER(CSVデータ1!E101),CSVデータ1!E101,0)+IF(ISNUMBER(CSVデータ2!E101),CSVデータ2!E101,0)+IF(ISNUMBER(CSVデータ3!E101),CSVデータ3!E101,0)+IF(ISNUMBER(CSVデータ4!E101),CSVデータ4!E101,0)","v":461},{"$f":"IF(ISNUMBER(CSVデータ1!F101),CSVデータ1!F101,0)+IF(ISNUMBER(CSVデータ2!F101),CSVデータ2!F101,0)+IF(ISNUMBER(CSVデータ3!F101),CSVデータ3!F101,0)+IF(ISNUMBER(CSVデータ4!F101),CSVデータ4!F101,0)","v":167},null,{"$f":"IF(ISNUMBER(CSVデータ1!H101),CSVデータ1!H101,0)+IF(ISNUMBER(CSVデータ2!H101),CSVデータ2!H101,0)+IF(ISNUMBER(CSVデータ3!H101),CSVデータ3!H101,0)+IF(ISNUMBER(CSVデータ4!H101),CSVデータ4!H101,0)","v":280},null,{"$f":"IF(ISNUMBER(CSVデータ1!J101),CSVデータ1!J101,0)+IF(ISNUMBER(CSVデータ2!J101),CSVデータ2!J101,0)+IF(ISNUMBER(CSVデータ3!J101),CSVデータ3!J101,0)+IF(ISNUMBER(CSVデータ4!J101),CSVデータ4!J101,0)","v":99},null,{"$f":"IF(ISNUMBER(CSVデータ1!L101),CSVデータ1!L101,0)+IF(ISNUMBER(CSVデータ2!L101),CSVデータ2!L101,0)+IF(ISNUMBER(CSVデータ3!L101),CSVデータ3!L101,0)+IF(ISNUMBER(CSVデータ4!L101),CSVデータ4!L101,0)","v":86},null,{"$f":"IF(ISNUMBER(CSVデータ1!N101),CSVデータ1!N101,0)+IF(ISNUMBER(CSVデータ2!N101),CSVデータ2!N101,0)+IF(ISNUMBER(CSVデータ3!N101),CSVデータ3!N101,0)+IF(ISNUMBER(CSVデータ4!N101),CSVデータ4!N101,0)","v":23},null,{"$f":"IF(ISNUMBER(CSVデータ1!P101),CSVデータ1!P101,0)+IF(ISNUMBER(CSVデータ2!P101),CSVデータ2!P101,0)+IF(ISNUMBER(CSVデータ3!P101),CSVデータ3!P101,0)+IF(ISNUMBER(CSVデータ4!P101),CSVデータ4!P101,0)","v":156},null,{"$f":"IF(ISNUMBER(CSVデータ1!R101),CSVデータ1!R101,0)+IF(ISNUMBER(CSVデータ2!R101),CSVデータ2!R101,0)+IF(ISNUMBER(CSVデータ3!R101),CSVデータ3!R101,0)+IF(ISNUMBER(CSVデータ4!R101),CSVデータ4!R101,0)","v":283},null,{"$f":"IF(ISNUMBER(CSVデータ1!T101),CSVデータ1!T101,0)+IF(ISNUMBER(CSVデータ2!T101),CSVデータ2!T101,0)+IF(ISNUMBER(CSVデータ3!T101),CSVデータ3!T101,0)+IF(ISNUMBER(CSVデータ4!T101),CSVデータ4!T101,0)","v":73},null,{"$f":"IF(ISNUMBER(CSVデータ1!V101),CSVデータ1!V101,0)+IF(ISNUMBER(CSVデータ2!V101),CSVデータ2!V101,0)+IF(ISNUMBER(CSVデータ3!V101),CSVデータ3!V101,0)+IF(ISNUMBER(CSVデータ4!V101),CSVデータ4!V101,0)","v":221},null,{"$f":"IF(ISNUMBER(CSVデータ1!X101),CSVデータ1!X101,0)+IF(ISNUMBER(CSVデータ2!X101),CSVデータ2!X101,0)+IF(ISNUMBER(CSVデータ3!X101),CSVデータ3!X101,0)+IF(ISNUMBER(CSVデータ4!X101),CSVデータ4!X101,0)","v":133},null,{"$f":"IF(ISNUMBER(CSVデータ1!Z101),CSVデータ1!Z101,0)+IF(ISNUMBER(CSVデータ2!Z101),CSVデータ2!Z101,0)+IF(ISNUMBER(CSVデータ3!Z101),CSVデータ3!Z101,0)+IF(ISNUMBER(CSVデータ4!Z101),CSVデータ4!Z101,0)","v":226},null,{"$f":"IF(ISNUMBER(CSVデータ1!AB101),CSVデータ1!AB101,0)+IF(ISNUMBER(CSVデータ2!AB101),CSVデータ2!AB101,0)+IF(ISNUMBER(CSVデータ3!AB101),CSVデータ3!AB101,0)+IF(ISNUMBER(CSVデータ4!AB101),CSVデータ4!AB101,0)","v":12},null,{"$f":"IF(ISNUMBER(CSVデータ1!AD101),CSVデータ1!AD101,0)+IF(ISNUMBER(CSVデータ2!AD101),CSVデータ2!AD101,0)+IF(ISNUMBER(CSVデータ3!AD101),CSVデータ3!AD101,0)+IF(ISNUMBER(CSVデータ4!AD101),CSVデータ4!AD101,0)","v":151},null,{"$f":"IF(ISNUMBER(CSVデータ1!AF101),CSVデータ1!AF101,0)+IF(ISNUMBER(CSVデータ2!AF101),CSVデータ2!AF101,0)+IF(ISNUMBER(CSVデータ3!AF101),CSVデータ3!AF101,0)+IF(ISNUMBER(CSVデータ4!AF101),CSVデータ4!AF101,0)","v":72},null,{"$f":"IF(ISNUMBER(CSVデータ1!AH101),CSVデータ1!AH101,0)+IF(ISNUMBER(CSVデータ2!AH101),CSVデータ2!AH101,0)+IF(ISNUMBER(CSVデータ3!AH101),CSVデータ3!AH101,0)+IF(ISNUMBER(CSVデータ4!AH101),CSVデータ4!AH101,0)","v":13},null,{"$f":"IF(ISNUMBER(CSVデータ1!AJ101),CSVデータ1!AJ101,0)+IF(ISNUMBER(CSVデータ2!AJ101),CSVデータ2!AJ101,0)+IF(ISNUMBER(CSVデータ3!AJ101),CSVデータ3!AJ101,0)+IF(ISNUMBER(CSVデータ4!AJ101),CSVデータ4!AJ101,0)","v":18},null,{"$f":"IF(ISNUMBER(CSVデータ1!AL101),CSVデータ1!AL101,0)+IF(ISNUMBER(CSVデータ2!AL101),CSVデータ2!AL101,0)+IF(ISNUMBER(CSVデータ3!AL101),CSVデータ3!AL101,0)+IF(ISNUMBER(CSVデータ4!AL101),CSVデータ4!AL101,0)","v":132},null,{"$f":"IF(ISNUMBER(CSVデータ1!AN101),CSVデータ1!AN101,0)+IF(ISNUMBER(CSVデータ2!AN101),CSVデータ2!AN101,0)+IF(ISNUMBER(CSVデータ3!AN101),CSVデータ3!AN101,0)+IF(ISNUMBER(CSVデータ4!AN101),CSVデータ4!AN101,0)","v":17}]
[{"$f":"CSVデータ1!A102","v":"明細部"},{"$f":"CSVデータ1!B102","v":"県"},{"$f":"CSVデータ1!C102","v":68},{"$f":"CSVデータ1!D102","v":"男"},{"$f":"IF(ISNUMBER(CSVデータ1!E102),CSVデータ1!E102,0)+IF(ISNUMBER(CSVデータ2!E102),CSVデータ2!E102,0)+IF(ISNUMBER(CSVデータ3!E102),CSVデータ3!E102,0)+IF(ISNUMBER(CSVデータ4!E102),CSVデータ4!E102,0)","v":546},{"$f":"IF(ISNUMBER(CSVデータ1!F102),CSVデータ1!F102,0)+IF(ISNUMBER(CSVデータ2!F102),CSVデータ2!F102,0)+IF(ISNUMBER(CSVデータ3!F102),CSVデータ3!F102,0)+IF(ISNUMBER(CSVデータ4!F102),CSVデータ4!F102,0)","v":162},null,{"$f":"IF(ISNUMBER(CSVデータ1!H102),CSVデータ1!H102,0)+IF(ISNUMBER(CSVデータ2!H102),CSVデータ2!H102,0)+IF(ISNUMBER(CSVデータ3!H102),CSVデータ3!H102,0)+IF(ISNUMBER(CSVデータ4!H102),CSVデータ4!H102,0)","v":297},null,{"$f":"IF(ISNUMBER(CSVデータ1!J102),CSVデータ1!J102,0)+IF(ISNUMBER(CSVデータ2!J102),CSVデータ2!J102,0)+IF(ISNUMBER(CSVデータ3!J102),CSVデータ3!J102,0)+IF(ISNUMBER(CSVデータ4!J102),CSVデータ4!J102,0)","v":123},null,{"$f":"IF(ISNUMBER(CSVデータ1!L102),CSVデータ1!L102,0)+IF(ISNUMBER(CSVデータ2!L102),CSVデータ2!L102,0)+IF(ISNUMBER(CSVデータ3!L102),CSVデータ3!L102,0)+IF(ISNUMBER(CSVデータ4!L102),CSVデータ4!L102,0)","v":77},null,{"$f":"IF(ISNUMBER(CSVデータ1!N102),CSVデータ1!N102,0)+IF(ISNUMBER(CSVデータ2!N102),CSVデータ2!N102,0)+IF(ISNUMBER(CSVデータ3!N102),CSVデータ3!N102,0)+IF(ISNUMBER(CSVデータ4!N102),CSVデータ4!N102,0)","v":31},null,{"$f":"IF(ISNUMBER(CSVデータ1!P102),CSVデータ1!P102,0)+IF(ISNUMBER(CSVデータ2!P102),CSVデータ2!P102,0)+IF(ISNUMBER(CSVデータ3!P102),CSVデータ3!P102,0)+IF(ISNUMBER(CSVデータ4!P102),CSVデータ4!P102,0)","v":178},null,{"$f":"IF(ISNUMBER(CSVデータ1!R102),CSVデータ1!R102,0)+IF(ISNUMBER(CSVデータ2!R102),CSVデータ2!R102,0)+IF(ISNUMBER(CSVデータ3!R102),CSVデータ3!R102,0)+IF(ISNUMBER(CSVデータ4!R102),CSVデータ4!R102,0)","v":353},null,{"$f":"IF(ISNUMBER(CSVデータ1!T102),CSVデータ1!T102,0)+IF(ISNUMBER(CSVデータ2!T102),CSVデータ2!T102,0)+IF(ISNUMBER(CSVデータ3!T102),CSVデータ3!T102,0)+IF(ISNUMBER(CSVデータ4!T102),CSVデータ4!T102,0)","v":84},null,{"$f":"IF(ISNUMBER(CSVデータ1!V102),CSVデータ1!V102,0)+IF(ISNUMBER(CSVデータ2!V102),CSVデータ2!V102,0)+IF(ISNUMBER(CSVデータ3!V102),CSVデータ3!V102,0)+IF(ISNUMBER(CSVデータ4!V102),CSVデータ4!V102,0)","v":276},null,{"$f":"IF(ISNUMBER(CSVデータ1!X102),CSVデータ1!X102,0)+IF(ISNUMBER(CSVデータ2!X102),CSVデータ2!X102,0)+IF(ISNUMBER(CSVデータ3!X102),CSVデータ3!X102,0)+IF(ISNUMBER(CSVデータ4!X102),CSVデータ4!X102,0)","v":140},null,{"$f":"IF(ISNUMBER(CSVデータ1!Z102),CSVデータ1!Z102,0)+IF(ISNUMBER(CSVデータ2!Z102),CSVデータ2!Z102,0)+IF(ISNUMBER(CSVデータ3!Z102),CSVデータ3!Z102,0)+IF(ISNUMBER(CSVデータ4!Z102),CSVデータ4!Z102,0)","v":229},null,{"$f":"IF(ISNUMBER(CSVデータ1!AB102),CSVデータ1!AB102,0)+IF(ISNUMBER(CSVデータ2!AB102),CSVデータ2!AB102,0)+IF(ISNUMBER(CSVデータ3!AB102),CSVデータ3!AB102,0)+IF(ISNUMBER(CSVデータ4!AB102),CSVデータ4!AB102,0)","v":21},null,{"$f":"IF(ISNUMBER(CSVデータ1!AD102),CSVデータ1!AD102,0)+IF(ISNUMBER(CSVデータ2!AD102),CSVデータ2!AD102,0)+IF(ISNUMBER(CSVデータ3!AD102),CSVデータ3!AD102,0)+IF(ISNUMBER(CSVデータ4!AD102),CSVデータ4!AD102,0)","v":173},null,{"$f":"IF(ISNUMBER(CSVデータ1!AF102),CSVデータ1!AF102,0)+IF(ISNUMBER(CSVデータ2!AF102),CSVデータ2!AF102,0)+IF(ISNUMBER(CSVデータ3!AF102),CSVデータ3!AF102,0)+IF(ISNUMBER(CSVデータ4!AF102),CSVデータ4!AF102,0)","v":58},null,{"$f":"IF(ISNUMBER(CSVデータ1!AH102),CSVデータ1!AH102,0)+IF(ISNUMBER(CSVデータ2!AH102),CSVデータ2!AH102,0)+IF(ISNUMBER(CSVデータ3!AH102),CSVデータ3!AH102,0)+IF(ISNUMBER(CSVデータ4!AH102),CSVデータ4!AH102,0)","v":13},null,{"$f":"IF(ISNUMBER(CSVデータ1!AJ102),CSVデータ1!AJ102,0)+IF(ISNUMBER(CSVデータ2!AJ102),CSVデータ2!AJ102,0)+IF(ISNUMBER(CSVデータ3!AJ102),CSVデータ3!AJ102,0)+IF(ISNUMBER(CSVデータ4!AJ102),CSVデータ4!AJ102,0)","v":9},null,{"$f":"IF(ISNUMBER(CSVデータ1!AL102),CSVデータ1!AL102,0)+IF(ISNUMBER(CSVデータ2!AL102),CSVデータ2!AL102,0)+IF(ISNUMBER(CSVデータ3!AL102),CSVデータ3!AL102,0)+IF(ISNUMBER(CSVデータ4!AL102),CSVデータ4!AL102,0)","v":166},null,{"$f":"IF(ISNUMBER(CSVデータ1!AN102),CSVデータ1!AN102,0)+IF(ISNUMBER(CSVデータ2!AN102),CSVデータ2!AN102,0)+IF(ISNUMBER(CSVデータ3!AN102),CSVデータ3!AN102,0)+IF(ISNUMBER(CSVデータ4!AN102),CSVデータ4!AN102,0)","v":14}]
[{"$f":"CSVデータ1!A103","v":"明細部"},{"$f":"CSVデータ1!B103","v":"県"},{"$f":"CSVデータ1!C103","v":69},{"$f":"CSVデータ1!D103","v":"男"},{"$f":"IF(ISNUMBER(CSVデータ1!E103),CSVデータ1!E103,0)+IF(ISNUMBER(CSVデータ2!E103),CSVデータ2!E103,0)+IF(ISNUMBER(CSVデータ3!E103),CSVデータ3!E103,0)+IF(ISNUMBER(CSVデータ4!E103),CSVデータ4!E103,0)","v":658},{"$f":"IF(ISNUMBER(CSVデータ1!F103),CSVデータ1!F103,0)+IF(ISNUMBER(CSVデータ2!F103),CSVデータ2!F103,0)+IF(ISNUMBER(CSVデータ3!F103),CSVデータ3!F103,0)+IF(ISNUMBER(CSVデータ4!F103),CSVデータ4!F103,0)","v":201},null,{"$f":"IF(ISNUMBER(CSVデータ1!H103),CSVデータ1!H103,0)+IF(ISNUMBER(CSVデータ2!H103),CSVデータ2!H103,0)+IF(ISNUMBER(CSVデータ3!H103),CSVデータ3!H103,0)+IF(ISNUMBER(CSVデータ4!H103),CSVデータ4!H103,0)","v":365},null,{"$f":"IF(ISNUMBER(CSVデータ1!J103),CSVデータ1!J103,0)+IF(ISNUMBER(CSVデータ2!J103),CSVデータ2!J103,0)+IF(ISNUMBER(CSVデータ3!J103),CSVデータ3!J103,0)+IF(ISNUMBER(CSVデータ4!J103),CSVデータ4!J103,0)","v":135},null,{"$f":"IF(ISNUMBER(CSVデータ1!L103),CSVデータ1!L103,0)+IF(ISNUMBER(CSVデータ2!L103),CSVデータ2!L103,0)+IF(ISNUMBER(CSVデータ3!L103),CSVデータ3!L103,0)+IF(ISNUMBER(CSVデータ4!L103),CSVデータ4!L103,0)","v":90},null,{"$f":"IF(ISNUMBER(CSVデータ1!N103),CSVデータ1!N103,0)+IF(ISNUMBER(CSVデータ2!N103),CSVデータ2!N103,0)+IF(ISNUMBER(CSVデータ3!N103),CSVデータ3!N103,0)+IF(ISNUMBER(CSVデータ4!N103),CSVデータ4!N103,0)","v":47},null,{"$f":"IF(ISNUMBER(CSVデータ1!P103),CSVデータ1!P103,0)+IF(ISNUMBER(CSVデータ2!P103),CSVデータ2!P103,0)+IF(ISNUMBER(CSVデータ3!P103),CSVデータ3!P103,0)+IF(ISNUMBER(CSVデータ4!P103),CSVデータ4!P103,0)","v":233},null,{"$f":"IF(ISNUMBER(CSVデータ1!R103),CSVデータ1!R103,0)+IF(ISNUMBER(CSVデータ2!R103),CSVデータ2!R103,0)+IF(ISNUMBER(CSVデータ3!R103),CSVデータ3!R103,0)+IF(ISNUMBER(CSVデータ4!R103),CSVデータ4!R103,0)","v":448},null,{"$f":"IF(ISNUMBER(CSVデータ1!T103),CSVデータ1!T103,0)+IF(ISNUMBER(CSVデータ2!T103),CSVデータ2!T103,0)+IF(ISNUMBER(CSVデータ3!T103),CSVデータ3!T103,0)+IF(ISNUMBER(CSVデータ4!T103),CSVデータ4!T103,0)","v":99},null,{"$f":"IF(ISNUMBER(CSVデータ1!V103),CSVデータ1!V103,0)+IF(ISNUMBER(CSVデータ2!V103),CSVデータ2!V103,0)+IF(ISNUMBER(CSVデータ3!V103),CSVデータ3!V103,0)+IF(ISNUMBER(CSVデータ4!V103),CSVデータ4!V103,0)","v":331},null,{"$f":"IF(ISNUMBER(CSVデータ1!X103),CSVデータ1!X103,0)+IF(ISNUMBER(CSVデータ2!X103),CSVデータ2!X103,0)+IF(ISNUMBER(CSVデータ3!X103),CSVデータ3!X103,0)+IF(ISNUMBER(CSVデータ4!X103),CSVデータ4!X103,0)","v":166},null,{"$f":"IF(ISNUMBER(CSVデータ1!Z103),CSVデータ1!Z103,0)+IF(ISNUMBER(CSVデータ2!Z103),CSVデータ2!Z103,0)+IF(ISNUMBER(CSVデータ3!Z103),CSVデータ3!Z103,0)+IF(ISNUMBER(CSVデータ4!Z103),CSVデータ4!Z103,0)","v":312},null,{"$f":"IF(ISNUMBER(CSVデータ1!AB103),CSVデータ1!AB103,0)+IF(ISNUMBER(CSVデータ2!AB103),CSVデータ2!AB103,0)+IF(ISNUMBER(CSVデータ3!AB103),CSVデータ3!AB103,0)+IF(ISNUMBER(CSVデータ4!AB103),CSVデータ4!AB103,0)","v":14},null,{"$f":"IF(ISNUMBER(CSVデータ1!AD103),CSVデータ1!AD103,0)+IF(ISNUMBER(CSVデータ2!AD103),CSVデータ2!AD103,0)+IF(ISNUMBER(CSVデータ3!AD103),CSVデータ3!AD103,0)+IF(ISNUMBER(CSVデータ4!AD103),CSVデータ4!AD103,0)","v":197},null,{"$f":"IF(ISNUMBER(CSVデータ1!AF103),CSVデータ1!AF103,0)+IF(ISNUMBER(CSVデータ2!AF103),CSVデータ2!AF103,0)+IF(ISNUMBER(CSVデータ3!AF103),CSVデータ3!AF103,0)+IF(ISNUMBER(CSVデータ4!AF103),CSVデータ4!AF103,0)","v":76},null,{"$f":"IF(ISNUMBER(CSVデータ1!AH103),CSVデータ1!AH103,0)+IF(ISNUMBER(CSVデータ2!AH103),CSVデータ2!AH103,0)+IF(ISNUMBER(CSVデータ3!AH103),CSVデータ3!AH103,0)+IF(ISNUMBER(CSVデータ4!AH103),CSVデータ4!AH103,0)","v":22},null,{"$f":"IF(ISNUMBER(CSVデータ1!AJ103),CSVデータ1!AJ103,0)+IF(ISNUMBER(CSVデータ2!AJ103),CSVデータ2!AJ103,0)+IF(ISNUMBER(CSVデータ3!AJ103),CSVデータ3!AJ103,0)+IF(ISNUMBER(CSVデータ4!AJ103),CSVデータ4!AJ103,0)","v":18},null,{"$f":"IF(ISNUMBER(CSVデータ1!AL103),CSVデータ1!AL103,0)+IF(ISNUMBER(CSVデータ2!AL103),CSVデータ2!AL103,0)+IF(ISNUMBER(CSVデータ3!AL103),CSVデータ3!AL103,0)+IF(ISNUMBER(CSVデータ4!AL103),CSVデータ4!AL103,0)","v":194},null,{"$f":"IF(ISNUMBER(CSVデータ1!AN103),CSVデータ1!AN103,0)+IF(ISNUMBER(CSVデータ2!AN103),CSVデータ2!AN103,0)+IF(ISNUMBER(CSVデータ3!AN103),CSVデータ3!AN103,0)+IF(ISNUMBER(CSVデータ4!AN103),CSVデータ4!AN103,0)","v":21}]
[{"$f":"CSVデータ1!A104","v":"明細部"},{"$f":"CSVデータ1!B104","v":"県"},{"$f":"CSVデータ1!C104","v":70},{"$f":"CSVデータ1!D104","v":"男"},{"$f":"IF(ISNUMBER(CSVデータ1!E104),CSVデータ1!E104,0)+IF(ISNUMBER(CSVデータ2!E104),CSVデータ2!E104,0)+IF(ISNUMBER(CSVデータ3!E104),CSVデータ3!E104,0)+IF(ISNUMBER(CSVデータ4!E104),CSVデータ4!E104,0)","v":706},{"$f":"IF(ISNUMBER(CSVデータ1!F104),CSVデータ1!F104,0)+IF(ISNUMBER(CSVデータ2!F104),CSVデータ2!F104,0)+IF(ISNUMBER(CSVデータ3!F104),CSVデータ3!F104,0)+IF(ISNUMBER(CSVデータ4!F104),CSVデータ4!F104,0)","v":208},null,{"$f":"IF(ISNUMBER(CSVデータ1!H104),CSVデータ1!H104,0)+IF(ISNUMBER(CSVデータ2!H104),CSVデータ2!H104,0)+IF(ISNUMBER(CSVデータ3!H104),CSVデータ3!H104,0)+IF(ISNUMBER(CSVデータ4!H104),CSVデータ4!H104,0)","v":406},null,{"$f":"IF(ISNUMBER(CSVデータ1!J104),CSVデータ1!J104,0)+IF(ISNUMBER(CSVデータ2!J104),CSVデータ2!J104,0)+IF(ISNUMBER(CSVデータ3!J104),CSVデータ3!J104,0)+IF(ISNUMBER(CSVデータ4!J104),CSVデータ4!J104,0)","v":130},null,{"$f":"IF(ISNUMBER(CSVデータ1!L104),CSVデータ1!L104,0)+IF(ISNUMBER(CSVデータ2!L104),CSVデータ2!L104,0)+IF(ISNUMBER(CSVデータ3!L104),CSVデータ3!L104,0)+IF(ISNUMBER(CSVデータ4!L104),CSVデータ4!L104,0)","v":107},null,{"$f":"IF(ISNUMBER(CSVデータ1!N104),CSVデータ1!N104,0)+IF(ISNUMBER(CSVデータ2!N104),CSVデータ2!N104,0)+IF(ISNUMBER(CSVデータ3!N104),CSVデータ3!N104,0)+IF(ISNUMBER(CSVデータ4!N104),CSVデータ4!N104,0)","v":43},null,{"$f":"IF(ISNUMBER(CSVデータ1!P104),CSVデータ1!P104,0)+IF(ISNUMBER(CSVデータ2!P104),CSVデータ2!P104,0)+IF(ISNUMBER(CSVデータ3!P104),CSVデータ3!P104,0)+IF(ISNUMBER(CSVデータ4!P104),CSVデータ4!P104,0)","v":238},null,{"$f":"IF(ISNUMBER(CSVデータ1!R104),CSVデータ1!R104,0)+IF(ISNUMBER(CSVデータ2!R104),CSVデータ2!R104,0)+IF(ISNUMBER(CSVデータ3!R104),CSVデータ3!R104,0)+IF(ISNUMBER(CSVデータ4!R104),CSVデータ4!R104,0)","v":487},null,{"$f":"IF(ISNUMBER(CSVデータ1!T104),CSVデータ1!T104,0)+IF(ISNUMBER(CSVデータ2!T104),CSVデータ2!T104,0)+IF(ISNUMBER(CSVデータ3!T104),CSVデータ3!T104,0)+IF(ISNUMBER(CSVデータ4!T104),CSVデータ4!T104,0)","v":88},null,{"$f":"IF(ISNUMBER(CSVデータ1!V104),CSVデータ1!V104,0)+IF(ISNUMBER(CSVデータ2!V104),CSVデータ2!V104,0)+IF(ISNUMBER(CSVデータ3!V104),CSVデータ3!V104,0)+IF(ISNUMBER(CSVデータ4!V104),CSVデータ4!V104,0)","v":363},null,{"$f":"IF(ISNUMBER(CSVデータ1!X104),CSVデータ1!X104,0)+IF(ISNUMBER(CSVデータ2!X104),CSVデータ2!X104,0)+IF(ISNUMBER(CSVデータ3!X104),CSVデータ3!X104,0)+IF(ISNUMBER(CSVデータ4!X104),CSVデータ4!X104,0)","v":158},null,{"$f":"IF(ISNUMBER(CSVデータ1!Z104),CSVデータ1!Z104,0)+IF(ISNUMBER(CSVデータ2!Z104),CSVデータ2!Z104,0)+IF(ISNUMBER(CSVデータ3!Z104),CSVデータ3!Z104,0)+IF(ISNUMBER(CSVデータ4!Z104),CSVデータ4!Z104,0)","v":292},null,{"$f":"IF(ISNUMBER(CSVデータ1!AB104),CSVデータ1!AB104,0)+IF(ISNUMBER(CSVデータ2!AB104),CSVデータ2!AB104,0)+IF(ISNUMBER(CSVデータ3!AB104),CSVデータ3!AB104,0)+IF(ISNUMBER(CSVデータ4!AB104),CSVデータ4!AB104,0)","v":23},null,{"$f":"IF(ISNUMBER(CSVデータ1!AD104),CSVデータ1!AD104,0)+IF(ISNUMBER(CSVデータ2!AD104),CSVデータ2!AD104,0)+IF(ISNUMBER(CSVデータ3!AD104),CSVデータ3!AD104,0)+IF(ISNUMBER(CSVデータ4!AD104),CSVデータ4!AD104,0)","v":228},null,{"$f":"IF(ISNUMBER(CSVデータ1!AF104),CSVデータ1!AF104,0)+IF(ISNUMBER(CSVデータ2!AF104),CSVデータ2!AF104,0)+IF(ISNUMBER(CSVデータ3!AF104),CSVデータ3!AF104,0)+IF(ISNUMBER(CSVデータ4!AF104),CSVデータ4!AF104,0)","v":89},null,{"$f":"IF(ISNUMBER(CSVデータ1!AH104),CSVデータ1!AH104,0)+IF(ISNUMBER(CSVデータ2!AH104),CSVデータ2!AH104,0)+IF(ISNUMBER(CSVデータ3!AH104),CSVデータ3!AH104,0)+IF(ISNUMBER(CSVデータ4!AH104),CSVデータ4!AH104,0)","v":19},null,{"$f":"IF(ISNUMBER(CSVデータ1!AJ104),CSVデータ1!AJ104,0)+IF(ISNUMBER(CSVデータ2!AJ104),CSVデータ2!AJ104,0)+IF(ISNUMBER(CSVデータ3!AJ104),CSVデータ3!AJ104,0)+IF(ISNUMBER(CSVデータ4!AJ104),CSVデータ4!AJ104,0)","v":18},null,{"$f":"IF(ISNUMBER(CSVデータ1!AL104),CSVデータ1!AL104,0)+IF(ISNUMBER(CSVデータ2!AL104),CSVデータ2!AL104,0)+IF(ISNUMBER(CSVデータ3!AL104),CSVデータ3!AL104,0)+IF(ISNUMBER(CSVデータ4!AL104),CSVデータ4!AL104,0)","v":211},null,{"$f":"IF(ISNUMBER(CSVデータ1!AN104),CSVデータ1!AN104,0)+IF(ISNUMBER(CSVデータ2!AN104),CSVデータ2!AN104,0)+IF(ISNUMBER(CSVデータ3!AN104),CSVデータ3!AN104,0)+IF(ISNUMBER(CSVデータ4!AN104),CSVデータ4!AN104,0)","v":18}]
[{"$f":"CSVデータ1!A105","v":"明細部"},{"$f":"CSVデータ1!B105","v":"県"},{"$f":"CSVデータ1!C105","v":71},{"$f":"CSVデータ1!D105","v":"男"},{"$f":"IF(ISNUMBER(CSVデータ1!E105),CSVデータ1!E105,0)+IF(ISNUMBER(CSVデータ2!E105),CSVデータ2!E105,0)+IF(ISNUMBER(CSVデータ3!E105),CSVデータ3!E105,0)+IF(ISNUMBER(CSVデータ4!E105),CSVデータ4!E105,0)","v":723},{"$f":"IF(ISNUMBER(CSVデータ1!F105),CSVデータ1!F105,0)+IF(ISNUMBER(CSVデータ2!F105),CSVデータ2!F105,0)+IF(ISNUMBER(CSVデータ3!F105),CSVデータ3!F105,0)+IF(ISNUMBER(CSVデータ4!F105),CSVデータ4!F105,0)","v":209},null,{"$f":"IF(ISNUMBER(CSVデータ1!H105),CSVデータ1!H105,0)+IF(ISNUMBER(CSVデータ2!H105),CSVデータ2!H105,0)+IF(ISNUMBER(CSVデータ3!H105),CSVデータ3!H105,0)+IF(ISNUMBER(CSVデータ4!H105),CSVデータ4!H105,0)","v":404},null,{"$f":"IF(ISNUMBER(CSVデータ1!J105),CSVデータ1!J105,0)+IF(ISNUMBER(CSVデータ2!J105),CSVデータ2!J105,0)+IF(ISNUMBER(CSVデータ3!J105),CSVデータ3!J105,0)+IF(ISNUMBER(CSVデータ4!J105),CSVデータ4!J105,0)","v":136},null,{"$f":"IF(ISNUMBER(CSVデータ1!L105),CSVデータ1!L105,0)+IF(ISNUMBER(CSVデータ2!L105),CSVデータ2!L105,0)+IF(ISNUMBER(CSVデータ3!L105),CSVデータ3!L105,0)+IF(ISNUMBER(CSVデータ4!L105),CSVデータ4!L105,0)","v":89},null,{"$f":"IF(ISNUMBER(CSVデータ1!N105),CSVデータ1!N105,0)+IF(ISNUMBER(CSVデータ2!N105),CSVデータ2!N105,0)+IF(ISNUMBER(CSVデータ3!N105),CSVデータ3!N105,0)+IF(ISNUMBER(CSVデータ4!N105),CSVデータ4!N105,0)","v":36},null,{"$f":"IF(ISNUMBER(CSVデータ1!P105),CSVデータ1!P105,0)+IF(ISNUMBER(CSVデータ2!P105),CSVデータ2!P105,0)+IF(ISNUMBER(CSVデータ3!P105),CSVデータ3!P105,0)+IF(ISNUMBER(CSVデータ4!P105),CSVデータ4!P105,0)","v":238},null,{"$f":"IF(ISNUMBER(CSVデータ1!R105),CSVデータ1!R105,0)+IF(ISNUMBER(CSVデータ2!R105),CSVデータ2!R105,0)+IF(ISNUMBER(CSVデータ3!R105),CSVデータ3!R105,0)+IF(ISNUMBER(CSVデータ4!R105),CSVデータ4!R105,0)","v":503},null,{"$f":"IF(ISNUMBER(CSVデータ1!T105),CSVデータ1!T105,0)+IF(ISNUMBER(CSVデータ2!T105),CSVデータ2!T105,0)+IF(ISNUMBER(CSVデータ3!T105),CSVデータ3!T105,0)+IF(ISNUMBER(CSVデータ4!T105),CSVデータ4!T105,0)","v":90},null,{"$f":"IF(ISNUMBER(CSVデータ1!V105),CSVデータ1!V105,0)+IF(ISNUMBER(CSVデータ2!V105),CSVデータ2!V105,0)+IF(ISNUMBER(CSVデータ3!V105),CSVデータ3!V105,0)+IF(ISNUMBER(CSVデータ4!V105),CSVデータ4!V105,0)","v":381},null,{"$f":"IF(ISNUMBER(CSVデータ1!X105),CSVデータ1!X105,0)+IF(ISNUMBER(CSVデータ2!X105),CSVデータ2!X105,0)+IF(ISNUMBER(CSVデータ3!X105),CSVデータ3!X105,0)+IF(ISNUMBER(CSVデータ4!X105),CSVデータ4!X105,0)","v":173},null,{"$f":"IF(ISNUMBER(CSVデータ1!Z105),CSVデータ1!Z105,0)+IF(ISNUMBER(CSVデータ2!Z105),CSVデータ2!Z105,0)+IF(ISNUMBER(CSVデータ3!Z105),CSVデータ3!Z105,0)+IF(ISNUMBER(CSVデータ4!Z105),CSVデータ4!Z105,0)","v":301},null,{"$f":"IF(ISNUMBER(CSVデータ1!AB105),CSVデータ1!AB105,0)+IF(ISNUMBER(CSVデータ2!AB105),CSVデータ2!AB105,0)+IF(ISNUMBER(CSVデータ3!AB105),CSVデータ3!AB105,0)+IF(ISNUMBER(CSVデータ4!AB105),CSVデータ4!AB105,0)","v":26},null,{"$f":"IF(ISNUMBER(CSVデータ1!AD105),CSVデータ1!AD105,0)+IF(ISNUMBER(CSVデータ2!AD105),CSVデータ2!AD105,0)+IF(ISNUMBER(CSVデータ3!AD105),CSVデータ3!AD105,0)+IF(ISNUMBER(CSVデータ4!AD105),CSVデータ4!AD105,0)","v":241},null,{"$f":"IF(ISNUMBER(CSVデータ1!AF105),CSVデータ1!AF105,0)+IF(ISNUMBER(CSVデータ2!AF105),CSVデータ2!AF105,0)+IF(ISNUMBER(CSVデータ3!AF105),CSVデータ3!AF105,0)+IF(ISNUMBER(CSVデータ4!AF105),CSVデータ4!AF105,0)","v":94},null,{"$f":"IF(ISNUMBER(CSVデータ1!AH105),CSVデータ1!AH105,0)+IF(ISNUMBER(CSVデータ2!AH105),CSVデータ2!AH105,0)+IF(ISNUMBER(CSVデータ3!AH105),CSVデータ3!AH105,0)+IF(ISNUMBER(CSVデータ4!AH105),CSVデータ4!AH105,0)","v":26},null,{"$f":"IF(ISNUMBER(CSVデータ1!AJ105),CSVデータ1!AJ105,0)+IF(ISNUMBER(CSVデータ2!AJ105),CSVデータ2!AJ105,0)+IF(ISNUMBER(CSVデータ3!AJ105),CSVデータ3!AJ105,0)+IF(ISNUMBER(CSVデータ4!AJ105),CSVデータ4!AJ105,0)","v":18},null,{"$f":"IF(ISNUMBER(CSVデータ1!AL105),CSVデータ1!AL105,0)+IF(ISNUMBER(CSVデータ2!AL105),CSVデータ2!AL105,0)+IF(ISNUMBER(CSVデータ3!AL105),CSVデータ3!AL105,0)+IF(ISNUMBER(CSVデータ4!AL105),CSVデータ4!AL105,0)","v":228},null,{"$f":"IF(ISNUMBER(CSVデータ1!AN105),CSVデータ1!AN105,0)+IF(ISNUMBER(CSVデータ2!AN105),CSVデータ2!AN105,0)+IF(ISNUMBER(CSVデータ3!AN105),CSVデータ3!AN105,0)+IF(ISNUMBER(CSVデータ4!AN105),CSVデータ4!AN105,0)","v":25}]
[{"$f":"CSVデータ1!A106","v":"明細部"},{"$f":"CSVデータ1!B106","v":"県"},{"$f":"CSVデータ1!C106","v":72},{"$f":"CSVデータ1!D106","v":"男"},{"$f":"IF(ISNUMBER(CSVデータ1!E106),CSVデータ1!E106,0)+IF(ISNUMBER(CSVデータ2!E106),CSVデータ2!E106,0)+IF(ISNUMBER(CSVデータ3!E106),CSVデータ3!E106,0)+IF(ISNUMBER(CSVデータ4!E106),CSVデータ4!E106,0)","v":848},{"$f":"IF(ISNUMBER(CSVデータ1!F106),CSVデータ1!F106,0)+IF(ISNUMBER(CSVデータ2!F106),CSVデータ2!F106,0)+IF(ISNUMBER(CSVデータ3!F106),CSVデータ3!F106,0)+IF(ISNUMBER(CSVデータ4!F106),CSVデータ4!F106,0)","v":280},null,{"$f":"IF(ISNUMBER(CSVデータ1!H106),CSVデータ1!H106,0)+IF(ISNUMBER(CSVデータ2!H106),CSVデータ2!H106,0)+IF(ISNUMBER(CSVデータ3!H106),CSVデータ3!H106,0)+IF(ISNUMBER(CSVデータ4!H106),CSVデータ4!H106,0)","v":509},null,{"$f":"IF(ISNUMBER(CSVデータ1!J106),CSVデータ1!J106,0)+IF(ISNUMBER(CSVデータ2!J106),CSVデータ2!J106,0)+IF(ISNUMBER(CSVデータ3!J106),CSVデータ3!J106,0)+IF(ISNUMBER(CSVデータ4!J106),CSVデータ4!J106,0)","v":146},null,{"$f":"IF(ISNUMBER(CSVデータ1!L106),CSVデータ1!L106,0)+IF(ISNUMBER(CSVデータ2!L106),CSVデータ2!L106,0)+IF(ISNUMBER(CSVデータ3!L106),CSVデータ3!L106,0)+IF(ISNUMBER(CSVデータ4!L106),CSVデータ4!L106,0)","v":115},null,{"$f":"IF(ISNUMBER(CSVデータ1!N106),CSVデータ1!N106,0)+IF(ISNUMBER(CSVデータ2!N106),CSVデータ2!N106,0)+IF(ISNUMBER(CSVデータ3!N106),CSVデータ3!N106,0)+IF(ISNUMBER(CSVデータ4!N106),CSVデータ4!N106,0)","v":53},null,{"$f":"IF(ISNUMBER(CSVデータ1!P106),CSVデータ1!P106,0)+IF(ISNUMBER(CSVデータ2!P106),CSVデータ2!P106,0)+IF(ISNUMBER(CSVデータ3!P106),CSVデータ3!P106,0)+IF(ISNUMBER(CSVデータ4!P106),CSVデータ4!P106,0)","v":294},null,{"$f":"IF(ISNUMBER(CSVデータ1!R106),CSVデータ1!R106,0)+IF(ISNUMBER(CSVデータ2!R106),CSVデータ2!R106,0)+IF(ISNUMBER(CSVデータ3!R106),CSVデータ3!R106,0)+IF(ISNUMBER(CSVデータ4!R106),CSVデータ4!R106,0)","v":606},null,{"$f":"IF(ISNUMBER(CSVデータ1!T106),CSVデータ1!T106,0)+IF(ISNUMBER(CSVデータ2!T106),CSVデータ2!T106,0)+IF(ISNUMBER(CSVデータ3!T106),CSVデータ3!T106,0)+IF(ISNUMBER(CSVデータ4!T106),CSVデータ4!T106,0)","v":109},null,{"$f":"IF(ISNUMBER(CSVデータ1!V106),CSVデータ1!V106,0)+IF(ISNUMBER(CSVデータ2!V106),CSVデータ2!V106,0)+IF(ISNUMBER(CSVデータ3!V106),CSVデータ3!V106,0)+IF(ISNUMBER(CSVデータ4!V106),CSVデータ4!V106,0)","v":463},null,{"$f":"IF(ISNUMBER(CSVデータ1!X106),CSVデータ1!X106,0)+IF(ISNUMBER(CSVデータ2!X106),CSVデータ2!X106,0)+IF(ISNUMBER(CSVデータ3!X106),CSVデータ3!X106,0)+IF(ISNUMBER(CSVデータ4!X106),CSVデータ4!X106,0)","v":180},null,{"$f":"IF(ISNUMBER(CSVデータ1!Z106),CSVデータ1!Z106,0)+IF(ISNUMBER(CSVデータ2!Z106),CSVデータ2!Z106,0)+IF(ISNUMBER(CSVデータ3!Z106),CSVデータ3!Z106,0)+IF(ISNUMBER(CSVデータ4!Z106),CSVデータ4!Z106,0)","v":378},null,{"$f":"IF(ISNUMBER(CSVデータ1!AB106),CSVデータ1!AB106,0)+IF(ISNUMBER(CSVデータ2!AB106),CSVデータ2!AB106,0)+IF(ISNUMBER(CSVデータ3!AB106),CSVデータ3!AB106,0)+IF(ISNUMBER(CSVデータ4!AB106),CSVデータ4!AB106,0)","v":30},null,{"$f":"IF(ISNUMBER(CSVデータ1!AD106),CSVデータ1!AD106,0)+IF(ISNUMBER(CSVデータ2!AD106),CSVデータ2!AD106,0)+IF(ISNUMBER(CSVデータ3!AD106),CSVデータ3!AD106,0)+IF(ISNUMBER(CSVデータ4!AD106),CSVデータ4!AD106,0)","v":286},null,{"$f":"IF(ISNUMBER(CSVデータ1!AF106),CSVデータ1!AF106,0)+IF(ISNUMBER(CSVデータ2!AF106),CSVデータ2!AF106,0)+IF(ISNUMBER(CSVデータ3!AF106),CSVデータ3!AF106,0)+IF(ISNUMBER(CSVデータ4!AF106),CSVデータ4!AF106,0)","v":118},null,{"$f":"IF(ISNUMBER(CSVデータ1!AH106),CSVデータ1!AH106,0)+IF(ISNUMBER(CSVデータ2!AH106),CSVデータ2!AH106,0)+IF(ISNUMBER(CSVデータ3!AH106),CSVデータ3!AH106,0)+IF(ISNUMBER(CSVデータ4!AH106),CSVデータ4!AH106,0)","v":30},null,{"$f":"IF(ISNUMBER(CSVデータ1!AJ106),CSVデータ1!AJ106,0)+IF(ISNUMBER(CSVデータ2!AJ106),CSVデータ2!AJ106,0)+IF(ISNUMBER(CSVデータ3!AJ106),CSVデータ3!AJ106,0)+IF(ISNUMBER(CSVデータ4!AJ106),CSVデータ4!AJ106,0)","v":15},null,{"$f":"IF(ISNUMBER(CSVデータ1!AL106),CSVデータ1!AL106,0)+IF(ISNUMBER(CSVデータ2!AL106),CSVデータ2!AL106,0)+IF(ISNUMBER(CSVデータ3!AL106),CSVデータ3!AL106,0)+IF(ISNUMBER(CSVデータ4!AL106),CSVデータ4!AL106,0)","v":273},null,{"$f":"IF(ISNUMBER(CSVデータ1!AN106),CSVデータ1!AN106,0)+IF(ISNUMBER(CSVデータ2!AN106),CSVデータ2!AN106,0)+IF(ISNUMBER(CSVデータ3!AN106),CSVデータ3!AN106,0)+IF(ISNUMBER(CSVデータ4!AN106),CSVデータ4!AN106,0)","v":24}]
[{"$f":"CSVデータ1!A107","v":"明細部"},{"$f":"CSVデータ1!B107","v":"県"},{"$f":"CSVデータ1!C107","v":73},{"$f":"CSVデータ1!D107","v":"男"},{"$f":"IF(ISNUMBER(CSVデータ1!E107),CSVデータ1!E107,0)+IF(ISNUMBER(CSVデータ2!E107),CSVデータ2!E107,0)+IF(ISNUMBER(CSVデータ3!E107),CSVデータ3!E107,0)+IF(ISNUMBER(CSVデータ4!E107),CSVデータ4!E107,0)","v":946},{"$f":"IF(ISNUMBER(CSVデータ1!F107),CSVデータ1!F107,0)+IF(ISNUMBER(CSVデータ2!F107),CSVデータ2!F107,0)+IF(ISNUMBER(CSVデータ3!F107),CSVデータ3!F107,0)+IF(ISNUMBER(CSVデータ4!F107),CSVデータ4!F107,0)","v":272},null,{"$f":"IF(ISNUMBER(CSVデータ1!H107),CSVデータ1!H107,0)+IF(ISNUMBER(CSVデータ2!H107),CSVデータ2!H107,0)+IF(ISNUMBER(CSVデータ3!H107),CSVデータ3!H107,0)+IF(ISNUMBER(CSVデータ4!H107),CSVデータ4!H107,0)","v":508},null,{"$f":"IF(ISNUMBER(CSVデータ1!J107),CSVデータ1!J107,0)+IF(ISNUMBER(CSVデータ2!J107),CSVデータ2!J107,0)+IF(ISNUMBER(CSVデータ3!J107),CSVデータ3!J107,0)+IF(ISNUMBER(CSVデータ4!J107),CSVデータ4!J107,0)","v":167},null,{"$f":"IF(ISNUMBER(CSVデータ1!L107),CSVデータ1!L107,0)+IF(ISNUMBER(CSVデータ2!L107),CSVデータ2!L107,0)+IF(ISNUMBER(CSVデータ3!L107),CSVデータ3!L107,0)+IF(ISNUMBER(CSVデータ4!L107),CSVデータ4!L107,0)","v":129},null,{"$f":"IF(ISNUMBER(CSVデータ1!N107),CSVデータ1!N107,0)+IF(ISNUMBER(CSVデータ2!N107),CSVデータ2!N107,0)+IF(ISNUMBER(CSVデータ3!N107),CSVデータ3!N107,0)+IF(ISNUMBER(CSVデータ4!N107),CSVデータ4!N107,0)","v":69},null,{"$f":"IF(ISNUMBER(CSVデータ1!P107),CSVデータ1!P107,0)+IF(ISNUMBER(CSVデータ2!P107),CSVデータ2!P107,0)+IF(ISNUMBER(CSVデータ3!P107),CSVデータ3!P107,0)+IF(ISNUMBER(CSVデータ4!P107),CSVデータ4!P107,0)","v":335},null,{"$f":"IF(ISNUMBER(CSVデータ1!R107),CSVデータ1!R107,0)+IF(ISNUMBER(CSVデータ2!R107),CSVデータ2!R107,0)+IF(ISNUMBER(CSVデータ3!R107),CSVデータ3!R107,0)+IF(ISNUMBER(CSVデータ4!R107),CSVデータ4!R107,0)","v":695},null,{"$f":"IF(ISNUMBER(CSVデータ1!T107),CSVデータ1!T107,0)+IF(ISNUMBER(CSVデータ2!T107),CSVデータ2!T107,0)+IF(ISNUMBER(CSVデータ3!T107),CSVデータ3!T107,0)+IF(ISNUMBER(CSVデータ4!T107),CSVデータ4!T107,0)","v":137},null,{"$f":"IF(ISNUMBER(CSVデータ1!V107),CSVデータ1!V107,0)+IF(ISNUMBER(CSVデータ2!V107),CSVデータ2!V107,0)+IF(ISNUMBER(CSVデータ3!V107),CSVデータ3!V107,0)+IF(ISNUMBER(CSVデータ4!V107),CSVデータ4!V107,0)","v":513},null,{"$f":"IF(ISNUMBER(CSVデータ1!X107),CSVデータ1!X107,0)+IF(ISNUMBER(CSVデータ2!X107),CSVデータ2!X107,0)+IF(ISNUMBER(CSVデータ3!X107),CSVデータ3!X107,0)+IF(ISNUMBER(CSVデータ4!X107),CSVデータ4!X107,0)","v":180},null,{"$f":"IF(ISNUMBER(CSVデータ1!Z107),CSVデータ1!Z107,0)+IF(ISNUMBER(CSVデータ2!Z107),CSVデータ2!Z107,0)+IF(ISNUMBER(CSVデータ3!Z107),CSVデータ3!Z107,0)+IF(ISNUMBER(CSVデータ4!Z107),CSVデータ4!Z107,0)","v":401},null,{"$f":"IF(ISNUMBER(CSVデータ1!AB107),CSVデータ1!AB107,0)+IF(ISNUMBER(CSVデータ2!AB107),CSVデータ2!AB107,0)+IF(ISNUMBER(CSVデータ3!AB107),CSVデータ3!AB107,0)+IF(ISNUMBER(CSVデータ4!AB107),CSVデータ4!AB107,0)","v":51},null,{"$f":"IF(ISNUMBER(CSVデータ1!AD107),CSVデータ1!AD107,0)+IF(ISNUMBER(CSVデータ2!AD107),CSVデータ2!AD107,0)+IF(ISNUMBER(CSVデータ3!AD107),CSVデータ3!AD107,0)+IF(ISNUMBER(CSVデータ4!AD107),CSVデータ4!AD107,0)","v":331},null,{"$f":"IF(ISNUMBER(CSVデータ1!AF107),CSVデータ1!AF107,0)+IF(ISNUMBER(CSVデータ2!AF107),CSVデータ2!AF107,0)+IF(ISNUMBER(CSVデータ3!AF107),CSVデータ3!AF107,0)+IF(ISNUMBER(CSVデータ4!AF107),CSVデータ4!AF107,0)","v":122},null,{"$f":"IF(ISNUMBER(CSVデータ1!AH107),CSVデータ1!AH107,0)+IF(ISNUMBER(CSVデータ2!AH107),CSVデータ2!AH107,0)+IF(ISNUMBER(CSVデータ3!AH107),CSVデータ3!AH107,0)+IF(ISNUMBER(CSVデータ4!AH107),CSVデータ4!AH107,0)","v":36},null,{"$f":"IF(ISNUMBER(CSVデータ1!AJ107),CSVデータ1!AJ107,0)+IF(ISNUMBER(CSVデータ2!AJ107),CSVデータ2!AJ107,0)+IF(ISNUMBER(CSVデータ3!AJ107),CSVデータ3!AJ107,0)+IF(ISNUMBER(CSVデータ4!AJ107),CSVデータ4!AJ107,0)","v":26},null,{"$f":"IF(ISNUMBER(CSVデータ1!AL107),CSVデータ1!AL107,0)+IF(ISNUMBER(CSVデータ2!AL107),CSVデータ2!AL107,0)+IF(ISNUMBER(CSVデータ3!AL107),CSVデータ3!AL107,0)+IF(ISNUMBER(CSVデータ4!AL107),CSVデータ4!AL107,0)","v":323},null,{"$f":"IF(ISNUMBER(CSVデータ1!AN107),CSVデータ1!AN107,0)+IF(ISNUMBER(CSVデータ2!AN107),CSVデータ2!AN107,0)+IF(ISNUMBER(CSVデータ3!AN107),CSVデータ3!AN107,0)+IF(ISNUMBER(CSVデータ4!AN107),CSVデータ4!AN107,0)","v":35}]
[{"$f":"CSVデータ1!A108","v":"明細部"},{"$f":"CSVデータ1!B108","v":"県"},{"$f":"CSVデータ1!C108","v":74},{"$f":"CSVデータ1!D108","v":"男"},{"$f":"IF(ISNUMBER(CSVデータ1!E108),CSVデータ1!E108,0)+IF(ISNUMBER(CSVデータ2!E108),CSVデータ2!E108,0)+IF(ISNUMBER(CSVデータ3!E108),CSVデータ3!E108,0)+IF(ISNUMBER(CSVデータ4!E108),CSVデータ4!E108,0)","v":1027},{"$f":"IF(ISNUMBER(CSVデータ1!F108),CSVデータ1!F108,0)+IF(ISNUMBER(CSVデータ2!F108),CSVデータ2!F108,0)+IF(ISNUMBER(CSVデータ3!F108),CSVデータ3!F108,0)+IF(ISNUMBER(CSVデータ4!F108),CSVデータ4!F108,0)","v":296},null,{"$f":"IF(ISNUMBER(CSVデータ1!H108),CSVデータ1!H108,0)+IF(ISNUMBER(CSVデータ2!H108),CSVデータ2!H108,0)+IF(ISNUMBER(CSVデータ3!H108),CSVデータ3!H108,0)+IF(ISNUMBER(CSVデータ4!H108),CSVデータ4!H108,0)","v":567},null,{"$f":"IF(ISNUMBER(CSVデータ1!J108),CSVデータ1!J108,0)+IF(ISNUMBER(CSVデータ2!J108),CSVデータ2!J108,0)+IF(ISNUMBER(CSVデータ3!J108),CSVデータ3!J108,0)+IF(ISNUMBER(CSVデータ4!J108),CSVデータ4!J108,0)","v":148},null,{"$f":"IF(ISNUMBER(CSVデータ1!L108),CSVデータ1!L108,0)+IF(ISNUMBER(CSVデータ2!L108),CSVデータ2!L108,0)+IF(ISNUMBER(CSVデータ3!L108),CSVデータ3!L108,0)+IF(ISNUMBER(CSVデータ4!L108),CSVデータ4!L108,0)","v":125},null,{"$f":"IF(ISNUMBER(CSVデータ1!N108),CSVデータ1!N108,0)+IF(ISNUMBER(CSVデータ2!N108),CSVデータ2!N108,0)+IF(ISNUMBER(CSVデータ3!N108),CSVデータ3!N108,0)+IF(ISNUMBER(CSVデータ4!N108),CSVデータ4!N108,0)","v":68},null,{"$f":"IF(ISNUMBER(CSVデータ1!P108),CSVデータ1!P108,0)+IF(ISNUMBER(CSVデータ2!P108),CSVデータ2!P108,0)+IF(ISNUMBER(CSVデータ3!P108),CSVデータ3!P108,0)+IF(ISNUMBER(CSVデータ4!P108),CSVデータ4!P108,0)","v":356},null,{"$f":"IF(ISNUMBER(CSVデータ1!R108),CSVデータ1!R108,0)+IF(ISNUMBER(CSVデータ2!R108),CSVデータ2!R108,0)+IF(ISNUMBER(CSVデータ3!R108),CSVデータ3!R108,0)+IF(ISNUMBER(CSVデータ4!R108),CSVデータ4!R108,0)","v":767},null,{"$f":"IF(ISNUMBER(CSVデータ1!T108),CSVデータ1!T108,0)+IF(ISNUMBER(CSVデータ2!T108),CSVデータ2!T108,0)+IF(ISNUMBER(CSVデータ3!T108),CSVデータ3!T108,0)+IF(ISNUMBER(CSVデータ4!T108),CSVデータ4!T108,0)","v":124},null,{"$f":"IF(ISNUMBER(CSVデータ1!V108),CSVデータ1!V108,0)+IF(ISNUMBER(CSVデータ2!V108),CSVデータ2!V108,0)+IF(ISNUMBER(CSVデータ3!V108),CSVデータ3!V108,0)+IF(ISNUMBER(CSVデータ4!V108),CSVデータ4!V108,0)","v":556},null,{"$f":"IF(ISNUMBER(CSVデータ1!X108),CSVデータ1!X108,0)+IF(ISNUMBER(CSVデータ2!X108),CSVデータ2!X108,0)+IF(ISNUMBER(CSVデータ3!X108),CSVデータ3!X108,0)+IF(ISNUMBER(CSVデータ4!X108),CSVデータ4!X108,0)","v":213},null,{"$f":"IF(ISNUMBER(CSVデータ1!Z108),CSVデータ1!Z108,0)+IF(ISNUMBER(CSVデータ2!Z108),CSVデータ2!Z108,0)+IF(ISNUMBER(CSVデータ3!Z108),CSVデータ3!Z108,0)+IF(ISNUMBER(CSVデータ4!Z108),CSVデータ4!Z108,0)","v":409},null,{"$f":"IF(ISNUMBER(CSVデータ1!AB108),CSVデータ1!AB108,0)+IF(ISNUMBER(CSVデータ2!AB108),CSVデータ2!AB108,0)+IF(ISNUMBER(CSVデータ3!AB108),CSVデータ3!AB108,0)+IF(ISNUMBER(CSVデータ4!AB108),CSVデータ4!AB108,0)","v":39},null,{"$f":"IF(ISNUMBER(CSVデータ1!AD108),CSVデータ1!AD108,0)+IF(ISNUMBER(CSVデータ2!AD108),CSVデータ2!AD108,0)+IF(ISNUMBER(CSVデータ3!AD108),CSVデータ3!AD108,0)+IF(ISNUMBER(CSVデータ4!AD108),CSVデータ4!AD108,0)","v":377},null,{"$f":"IF(ISNUMBER(CSVデータ1!AF108),CSVデータ1!AF108,0)+IF(ISNUMBER(CSVデータ2!AF108),CSVデータ2!AF108,0)+IF(ISNUMBER(CSVデータ3!AF108),CSVデータ3!AF108,0)+IF(ISNUMBER(CSVデータ4!AF108),CSVデータ4!AF108,0)","v":121},null,{"$f":"IF(ISNUMBER(CSVデータ1!AH108),CSVデータ1!AH108,0)+IF(ISNUMBER(CSVデータ2!AH108),CSVデータ2!AH108,0)+IF(ISNUMBER(CSVデータ3!AH108),CSVデータ3!AH108,0)+IF(ISNUMBER(CSVデータ4!AH108),CSVデータ4!AH108,0)","v":34},null,{"$f":"IF(ISNUMBER(CSVデータ1!AJ108),CSVデータ1!AJ108,0)+IF(ISNUMBER(CSVデータ2!AJ108),CSVデータ2!AJ108,0)+IF(ISNUMBER(CSVデータ3!AJ108),CSVデータ3!AJ108,0)+IF(ISNUMBER(CSVデータ4!AJ108),CSVデータ4!AJ108,0)","v":18},null,{"$f":"IF(ISNUMBER(CSVデータ1!AL108),CSVデータ1!AL108,0)+IF(ISNUMBER(CSVデータ2!AL108),CSVデータ2!AL108,0)+IF(ISNUMBER(CSVデータ3!AL108),CSVデータ3!AL108,0)+IF(ISNUMBER(CSVデータ4!AL108),CSVデータ4!AL108,0)","v":378},null,{"$f":"IF(ISNUMBER(CSVデータ1!AN108),CSVデータ1!AN108,0)+IF(ISNUMBER(CSVデータ2!AN108),CSVデータ2!AN108,0)+IF(ISNUMBER(CSVデータ3!AN108),CSVデータ3!AN108,0)+IF(ISNUMBER(CSVデータ4!AN108),CSVデータ4!AN108,0)","v":35}]
[{"$f":"CSVデータ1!A109","v":"明細部"},{"$f":"CSVデータ1!B109","v":"県"},{"$f":"CSVデータ1!C109","v":40},{"$f":"CSVデータ1!D109","v":"女"},{"$f":"IF(ISNUMBER(CSVデータ1!E109),CSVデータ1!E109,0)+IF(ISNUMBER(CSVデータ2!E109),CSVデータ2!E109,0)+IF(ISNUMBER(CSVデータ3!E109),CSVデータ3!E109,0)+IF(ISNUMBER(CSVデータ4!E109),CSVデータ4!E109,0)","v":75},{"$f":"IF(ISNUMBER(CSVデータ1!F109),CSVデータ1!F109,0)+IF(ISNUMBER(CSVデータ2!F109),CSVデータ2!F109,0)+IF(ISNUMBER(CSVデータ3!F109),CSVデータ3!F109,0)+IF(ISNUMBER(CSVデータ4!F109),CSVデータ4!F109,0)","v":19},null,{"$f":"IF(ISNUMBER(CSVデータ1!H109),CSVデータ1!H109,0)+IF(ISNUMBER(CSVデータ2!H109),CSVデータ2!H109,0)+IF(ISNUMBER(CSVデータ3!H109),CSVデータ3!H109,0)+IF(ISNUMBER(CSVデータ4!H109),CSVデータ4!H109,0)","v":12},null,{"$f":"IF(ISNUMBER(CSVデータ1!J109),CSVデータ1!J109,0)+IF(ISNUMBER(CSVデータ2!J109),CSVデータ2!J109,0)+IF(ISNUMBER(CSVデータ3!J109),CSVデータ3!J109,0)+IF(ISNUMBER(CSVデータ4!J109),CSVデータ4!J109,0)","v":3},null,{"$f":"IF(ISNUMBER(CSVデータ1!L109),CSVデータ1!L109,0)+IF(ISNUMBER(CSVデータ2!L109),CSVデータ2!L109,0)+IF(ISNUMBER(CSVデータ3!L109),CSVデータ3!L109,0)+IF(ISNUMBER(CSVデータ4!L109),CSVデータ4!L109,0)","v":9},null,{"$f":"IF(ISNUMBER(CSVデータ1!N109),CSVデータ1!N109,0)+IF(ISNUMBER(CSVデータ2!N109),CSVデータ2!N109,0)+IF(ISNUMBER(CSVデータ3!N109),CSVデータ3!N109,0)+IF(ISNUMBER(CSVデータ4!N109),CSVデータ4!N109,0)","v":1},null,{"$f":"IF(ISNUMBER(CSVデータ1!P109),CSVデータ1!P109,0)+IF(ISNUMBER(CSVデータ2!P109),CSVデータ2!P109,0)+IF(ISNUMBER(CSVデータ3!P109),CSVデータ3!P109,0)+IF(ISNUMBER(CSVデータ4!P109),CSVデータ4!P109,0)","v":2},null,{"$f":"IF(ISNUMBER(CSVデータ1!R109),CSVデータ1!R109,0)+IF(ISNUMBER(CSVデータ2!R109),CSVデータ2!R109,0)+IF(ISNUMBER(CSVデータ3!R109),CSVデータ3!R109,0)+IF(ISNUMBER(CSVデータ4!R109),CSVデータ4!R109,0)","v":25},null,{"$f":"IF(ISNUMBER(CSVデータ1!T109),CSVデータ1!T109,0)+IF(ISNUMBER(CSVデータ2!T109),CSVデータ2!T109,0)+IF(ISNUMBER(CSVデータ3!T109),CSVデータ3!T109,0)+IF(ISNUMBER(CSVデータ4!T109),CSVデータ4!T109,0)","v":0},null,{"$f":"IF(ISNUMBER(CSVデータ1!V109),CSVデータ1!V109,0)+IF(ISNUMBER(CSVデータ2!V109),CSVデータ2!V109,0)+IF(ISNUMBER(CSVデータ3!V109),CSVデータ3!V109,0)+IF(ISNUMBER(CSVデータ4!V109),CSVデータ4!V109,0)","v":6},null,{"$f":"IF(ISNUMBER(CSVデータ1!X109),CSVデータ1!X109,0)+IF(ISNUMBER(CSVデータ2!X109),CSVデータ2!X109,0)+IF(ISNUMBER(CSVデータ3!X109),CSVデータ3!X109,0)+IF(ISNUMBER(CSVデータ4!X109),CSVデータ4!X109,0)","v":3},null,{"$f":"IF(ISNUMBER(CSVデータ1!Z109),CSVデータ1!Z109,0)+IF(ISNUMBER(CSVデータ2!Z109),CSVデータ2!Z109,0)+IF(ISNUMBER(CSVデータ3!Z109),CSVデータ3!Z109,0)+IF(ISNUMBER(CSVデータ4!Z109),CSVデータ4!Z109,0)","v":31},null,{"$f":"IF(ISNUMBER(CSVデータ1!AB109),CSVデータ1!AB109,0)+IF(ISNUMBER(CSVデータ2!AB109),CSVデータ2!AB109,0)+IF(ISNUMBER(CSVデータ3!AB109),CSVデータ3!AB109,0)+IF(ISNUMBER(CSVデータ4!AB109),CSVデータ4!AB109,0)","v":0},null,{"$f":"IF(ISNUMBER(CSVデータ1!AD109),CSVデータ1!AD109,0)+IF(ISNUMBER(CSVデータ2!AD109),CSVデータ2!AD109,0)+IF(ISNUMBER(CSVデータ3!AD109),CSVデータ3!AD109,0)+IF(ISNUMBER(CSVデータ4!AD109),CSVデータ4!AD109,0)","v":15},null,{"$f":"IF(ISNUMBER(CSVデータ1!AF109),CSVデータ1!AF109,0)+IF(ISNUMBER(CSVデータ2!AF109),CSVデータ2!AF109,0)+IF(ISNUMBER(CSVデータ3!AF109),CSVデータ3!AF109,0)+IF(ISNUMBER(CSVデータ4!AF109),CSVデータ4!AF109,0)","v":4},null,{"$f":"IF(ISNUMBER(CSVデータ1!AH109),CSVデータ1!AH109,0)+IF(ISNUMBER(CSVデータ2!AH109),CSVデータ2!AH109,0)+IF(ISNUMBER(CSVデータ3!AH109),CSVデータ3!AH109,0)+IF(ISNUMBER(CSVデータ4!AH109),CSVデータ4!AH109,0)","v":0},null,{"$f":"IF(ISNUMBER(CSVデータ1!AJ109),CSVデータ1!AJ109,0)+IF(ISNUMBER(CSVデータ2!AJ109),CSVデータ2!AJ109,0)+IF(ISNUMBER(CSVデータ3!AJ109),CSVデータ3!AJ109,0)+IF(ISNUMBER(CSVデータ4!AJ109),CSVデータ4!AJ109,0)","v":0},null,{"$f":"IF(ISNUMBER(CSVデータ1!AL109),CSVデータ1!AL109,0)+IF(ISNUMBER(CSVデータ2!AL109),CSVデータ2!AL109,0)+IF(ISNUMBER(CSVデータ3!AL109),CSVデータ3!AL109,0)+IF(ISNUMBER(CSVデータ4!AL109),CSVデータ4!AL109,0)","v":0},null,{"$f":"IF(ISNUMBER(CSVデータ1!AN109),CSVデータ1!AN109,0)+IF(ISNUMBER(CSVデータ2!AN109),CSVデータ2!AN109,0)+IF(ISNUMBER(CSVデータ3!AN109),CSVデータ3!AN109,0)+IF(ISNUMBER(CSVデータ4!AN109),CSVデータ4!AN109,0)","v":0}]
[{"$f":"CSVデータ1!A110","v":"明細部"},{"$f":"CSVデータ1!B110","v":"県"},{"$f":"CSVデータ1!C110","v":41},{"$f":"CSVデータ1!D110","v":"女"},{"$f":"IF(ISNUMBER(CSVデータ1!E110),CSVデータ1!E110,0)+IF(ISNUMBER(CSVデータ2!E110),CSVデータ2!E110,0)+IF(ISNUMBER(CSVデータ3!E110),CSVデータ3!E110,0)+IF(ISNUMBER(CSVデータ4!E110),CSVデータ4!E110,0)","v":65},{"$f":"IF(ISNUMBER(CSVデータ1!F110),CSVデータ1!F110,0)+IF(ISNUMBER(CSVデータ2!F110),CSVデータ2!F110,0)+IF(ISNUMBER(CSVデータ3!F110),CSVデータ3!F110,0)+IF(ISNUMBER(CSVデータ4!F110),CSVデータ4!F110,0)","v":16},null,{"$f":"IF(ISNUMBER(CSVデータ1!H110),CSVデータ1!H110,0)+IF(ISNUMBER(CSVデータ2!H110),CSVデータ2!H110,0)+IF(ISNUMBER(CSVデータ3!H110),CSVデータ3!H110,0)+IF(ISNUMBER(CSVデータ4!H110),CSVデータ4!H110,0)","v":12},null,{"$f":"IF(ISNUMBER(CSVデータ1!J110),CSVデータ1!J110,0)+IF(ISNUMBER(CSVデータ2!J110),CSVデータ2!J110,0)+IF(ISNUMBER(CSVデータ3!J110),CSVデータ3!J110,0)+IF(ISNUMBER(CSVデータ4!J110),CSVデータ4!J110,0)","v":9},null,{"$f":"IF(ISNUMBER(CSVデータ1!L110),CSVデータ1!L110,0)+IF(ISNUMBER(CSVデータ2!L110),CSVデータ2!L110,0)+IF(ISNUMBER(CSVデータ3!L110),CSVデータ3!L110,0)+IF(ISNUMBER(CSVデータ4!L110),CSVデータ4!L110,0)","v":3},null,{"$f":"IF(ISNUMBER(CSVデータ1!N110),CSVデータ1!N110,0)+IF(ISNUMBER(CSVデータ2!N110),CSVデータ2!N110,0)+IF(ISNUMBER(CSVデータ3!N110),CSVデータ3!N110,0)+IF(ISNUMBER(CSVデータ4!N110),CSVデータ4!N110,0)","v":2},null,{"$f":"IF(ISNUMBER(CSVデータ1!P110),CSVデータ1!P110,0)+IF(ISNUMBER(CSVデータ2!P110),CSVデータ2!P110,0)+IF(ISNUMBER(CSVデータ3!P110),CSVデータ3!P110,0)+IF(ISNUMBER(CSVデータ4!P110),CSVデータ4!P110,0)","v":6},null,{"$f":"IF(ISNUMBER(CSVデータ1!R110),CSVデータ1!R110,0)+IF(ISNUMBER(CSVデータ2!R110),CSVデータ2!R110,0)+IF(ISNUMBER(CSVデータ3!R110),CSVデータ3!R110,0)+IF(ISNUMBER(CSVデータ4!R110),CSVデータ4!R110,0)","v":16},null,{"$f":"IF(ISNUMBER(CSVデータ1!T110),CSVデータ1!T110,0)+IF(ISNUMBER(CSVデータ2!T110),CSVデータ2!T110,0)+IF(ISNUMBER(CSVデータ3!T110),CSVデータ3!T110,0)+IF(ISNUMBER(CSVデータ4!T110),CSVデータ4!T110,0)","v":0},null,{"$f":"IF(ISNUMBER(CSVデータ1!V110),CSVデータ1!V110,0)+IF(ISNUMBER(CSVデータ2!V110),CSVデータ2!V110,0)+IF(ISNUMBER(CSVデータ3!V110),CSVデータ3!V110,0)+IF(ISNUMBER(CSVデータ4!V110),CSVデータ4!V110,0)","v":6},null,{"$f":"IF(ISNUMBER(CSVデータ1!X110),CSVデータ1!X110,0)+IF(ISNUMBER(CSVデータ2!X110),CSVデータ2!X110,0)+IF(ISNUMBER(CSVデータ3!X110),CSVデータ3!X110,0)+IF(ISNUMBER(CSVデータ4!X110),CSVデータ4!X110,0)","v":6},null,{"$f":"IF(ISNUMBER(CSVデータ1!Z110),CSVデータ1!Z110,0)+IF(ISNUMBER(CSVデータ2!Z110),CSVデータ2!Z110,0)+IF(ISNUMBER(CSVデータ3!Z110),CSVデータ3!Z110,0)+IF(ISNUMBER(CSVデータ4!Z110),CSVデータ4!Z110,0)","v":20},null,{"$f":"IF(ISNUMBER(CSVデータ1!AB110),CSVデータ1!AB110,0)+IF(ISNUMBER(CSVデータ2!AB110),CSVデータ2!AB110,0)+IF(ISNUMBER(CSVデータ3!AB110),CSVデータ3!AB110,0)+IF(ISNUMBER(CSVデータ4!AB110),CSVデータ4!AB110,0)","v":0},null,{"$f":"IF(ISNUMBER(CSVデータ1!AD110),CSVデータ1!AD110,0)+IF(ISNUMBER(CSVデータ2!AD110),CSVデータ2!AD110,0)+IF(ISNUMBER(CSVデータ3!AD110),CSVデータ3!AD110,0)+IF(ISNUMBER(CSVデータ4!AD110),CSVデータ4!AD110,0)","v":9},null,{"$f":"IF(ISNUMBER(CSVデータ1!AF110),CSVデータ1!AF110,0)+IF(ISNUMBER(CSVデータ2!AF110),CSVデータ2!AF110,0)+IF(ISNUMBER(CSVデータ3!AF110),CSVデータ3!AF110,0)+IF(ISNUMBER(CSVデータ4!AF110),CSVデータ4!AF110,0)","v":6},null,{"$f":"IF(ISNUMBER(CSVデータ1!AH110),CSVデータ1!AH110,0)+IF(ISNUMBER(CSVデータ2!AH110),CSVデータ2!AH110,0)+IF(ISNUMBER(CSVデータ3!AH110),CSVデータ3!AH110,0)+IF(ISNUMBER(CSVデータ4!AH110),CSVデータ4!AH110,0)","v":0},null,{"$f":"IF(ISNUMBER(CSVデータ1!AJ110),CSVデータ1!AJ110,0)+IF(ISNUMBER(CSVデータ2!AJ110),CSVデータ2!AJ110,0)+IF(ISNUMBER(CSVデータ3!AJ110),CSVデータ3!AJ110,0)+IF(ISNUMBER(CSVデータ4!AJ110),CSVデータ4!AJ110,0)","v":1},null,{"$f":"IF(ISNUMBER(CSVデータ1!AL110),CSVデータ1!AL110,0)+IF(ISNUMBER(CSVデータ2!AL110),CSVデータ2!AL110,0)+IF(ISNUMBER(CSVデータ3!AL110),CSVデータ3!AL110,0)+IF(ISNUMBER(CSVデータ4!AL110),CSVデータ4!AL110,0)","v":0},null,{"$f":"IF(ISNUMBER(CSVデータ1!AN110),CSVデータ1!AN110,0)+IF(ISNUMBER(CSVデータ2!AN110),CSVデータ2!AN110,0)+IF(ISNUMBER(CSVデータ3!AN110),CSVデータ3!AN110,0)+IF(ISNUMBER(CSVデータ4!AN110),CSVデータ4!AN110,0)","v":0}]
[{"$f":"CSVデータ1!A111","v":"明細部"},{"$f":"CSVデータ1!B111","v":"県"},{"$f":"CSVデータ1!C111","v":42},{"$f":"CSVデータ1!D111","v":"女"},{"$f":"IF(ISNUMBER(CSVデータ1!E111),CSVデータ1!E111,0)+IF(ISNUMBER(CSVデータ2!E111),CSVデータ2!E111,0)+IF(ISNUMBER(CSVデータ3!E111),CSVデータ3!E111,0)+IF(ISNUMBER(CSVデータ4!E111),CSVデータ4!E111,0)","v":71},{"$f":"IF(ISNUMBER(CSVデータ1!F111),CSVデータ1!F111,0)+IF(ISNUMBER(CSVデータ2!F111),CSVデータ2!F111,0)+IF(ISNUMBER(CSVデータ3!F111),CSVデータ3!F111,0)+IF(ISNUMBER(CSVデータ4!F111),CSVデータ4!F111,0)","v":12},null,{"$f":"IF(ISNUMBER(CSVデータ1!H111),CSVデータ1!H111,0)+IF(ISNUMBER(CSVデータ2!H111),CSVデータ2!H111,0)+IF(ISNUMBER(CSVデータ3!H111),CSVデータ3!H111,0)+IF(ISNUMBER(CSVデータ4!H111),CSVデータ4!H111,0)","v":6},null,{"$f":"IF(ISNUMBER(CSVデータ1!J111),CSVデータ1!J111,0)+IF(ISNUMBER(CSVデータ2!J111),CSVデータ2!J111,0)+IF(ISNUMBER(CSVデータ3!J111),CSVデータ3!J111,0)+IF(ISNUMBER(CSVデータ4!J111),CSVデータ4!J111,0)","v":4},null,{"$f":"IF(ISNUMBER(CSVデータ1!L111),CSVデータ1!L111,0)+IF(ISNUMBER(CSVデータ2!L111),CSVデータ2!L111,0)+IF(ISNUMBER(CSVデータ3!L111),CSVデータ3!L111,0)+IF(ISNUMBER(CSVデータ4!L111),CSVデータ4!L111,0)","v":5},null,{"$f":"IF(ISNUMBER(CSVデータ1!N111),CSVデータ1!N111,0)+IF(ISNUMBER(CSVデータ2!N111),CSVデータ2!N111,0)+IF(ISNUMBER(CSVデータ3!N111),CSVデータ3!N111,0)+IF(ISNUMBER(CSVデータ4!N111),CSVデータ4!N111,0)","v":0},null,{"$f":"IF(ISNUMBER(CSVデータ1!P111),CSVデータ1!P111,0)+IF(ISNUMBER(CSVデータ2!P111),CSVデータ2!P111,0)+IF(ISNUMBER(CSVデータ3!P111),CSVデータ3!P111,0)+IF(ISNUMBER(CSVデータ4!P111),CSVデータ4!P111,0)","v":3},null,{"$f":"IF(ISNUMBER(CSVデータ1!R111),CSVデータ1!R111,0)+IF(ISNUMBER(CSVデータ2!R111),CSVデータ2!R111,0)+IF(ISNUMBER(CSVデータ3!R111),CSVデータ3!R111,0)+IF(ISNUMBER(CSVデータ4!R111),CSVデータ4!R111,0)","v":17},null,{"$f":"IF(ISNUMBER(CSVデータ1!T111),CSVデータ1!T111,0)+IF(ISNUMBER(CSVデータ2!T111),CSVデータ2!T111,0)+IF(ISNUMBER(CSVデータ3!T111),CSVデータ3!T111,0)+IF(ISNUMBER(CSVデータ4!T111),CSVデータ4!T111,0)","v":1},null,{"$f":"IF(ISNUMBER(CSVデータ1!V111),CSVデータ1!V111,0)+IF(ISNUMBER(CSVデータ2!V111),CSVデータ2!V111,0)+IF(ISNUMBER(CSVデータ3!V111),CSVデータ3!V111,0)+IF(ISNUMBER(CSVデータ4!V111),CSVデータ4!V111,0)","v":6},null,{"$f":"IF(ISNUMBER(CSVデータ1!X111),CSVデータ1!X111,0)+IF(ISNUMBER(CSVデータ2!X111),CSVデータ2!X111,0)+IF(ISNUMBER(CSVデータ3!X111),CSVデータ3!X111,0)+IF(ISNUMBER(CSVデータ4!X111),CSVデータ4!X111,0)","v":7},null,{"$f":"IF(ISNUMBER(CSVデータ1!Z111),CSVデータ1!Z111,0)+IF(ISNUMBER(CSVデータ2!Z111),CSVデータ2!Z111,0)+IF(ISNUMBER(CSVデータ3!Z111),CSVデータ3!Z111,0)+IF(ISNUMBER(CSVデータ4!Z111),CSVデータ4!Z111,0)","v":23},null,{"$f":"IF(ISNUMBER(CSVデータ1!AB111),CSVデータ1!AB111,0)+IF(ISNUMBER(CSVデータ2!AB111),CSVデータ2!AB111,0)+IF(ISNUMBER(CSVデータ3!AB111),CSVデータ3!AB111,0)+IF(ISNUMBER(CSVデータ4!AB111),CSVデータ4!AB111,0)","v":0},null,{"$f":"IF(ISNUMBER(CSVデータ1!AD111),CSVデータ1!AD111,0)+IF(ISNUMBER(CSVデータ2!AD111),CSVデータ2!AD111,0)+IF(ISNUMBER(CSVデータ3!AD111),CSVデータ3!AD111,0)+IF(ISNUMBER(CSVデータ4!AD111),CSVデータ4!AD111,0)","v":14},null,{"$f":"IF(ISNUMBER(CSVデータ1!AF111),CSVデータ1!AF111,0)+IF(ISNUMBER(CSVデータ2!AF111),CSVデータ2!AF111,0)+IF(ISNUMBER(CSVデータ3!AF111),CSVデータ3!AF111,0)+IF(ISNUMBER(CSVデータ4!AF111),CSVデータ4!AF111,0)","v":6},null,{"$f":"IF(ISNUMBER(CSVデータ1!AH111),CSVデータ1!AH111,0)+IF(ISNUMBER(CSVデータ2!AH111),CSVデータ2!AH111,0)+IF(ISNUMBER(CSVデータ3!AH111),CSVデータ3!AH111,0)+IF(ISNUMBER(CSVデータ4!AH111),CSVデータ4!AH111,0)","v":0},null,{"$f":"IF(ISNUMBER(CSVデータ1!AJ111),CSVデータ1!AJ111,0)+IF(ISNUMBER(CSVデータ2!AJ111),CSVデータ2!AJ111,0)+IF(ISNUMBER(CSVデータ3!AJ111),CSVデータ3!AJ111,0)+IF(ISNUMBER(CSVデータ4!AJ111),CSVデータ4!AJ111,0)","v":0},null,{"$f":"IF(ISNUMBER(CSVデータ1!AL111),CSVデータ1!AL111,0)+IF(ISNUMBER(CSVデータ2!AL111),CSVデータ2!AL111,0)+IF(ISNUMBER(CSVデータ3!AL111),CSVデータ3!AL111,0)+IF(ISNUMBER(CSVデータ4!AL111),CSVデータ4!AL111,0)","v":3},null,{"$f":"IF(ISNUMBER(CSVデータ1!AN111),CSVデータ1!AN111,0)+IF(ISNUMBER(CSVデータ2!AN111),CSVデータ2!AN111,0)+IF(ISNUMBER(CSVデータ3!AN111),CSVデータ3!AN111,0)+IF(ISNUMBER(CSVデータ4!AN111),CSVデータ4!AN111,0)","v":0}]
[{"$f":"CSVデータ1!A112","v":"明細部"},{"$f":"CSVデータ1!B112","v":"県"},{"$f":"CSVデータ1!C112","v":43},{"$f":"CSVデータ1!D112","v":"女"},{"$f":"IF(ISNUMBER(CSVデータ1!E112),CSVデータ1!E112,0)+IF(ISNUMBER(CSVデータ2!E112),CSVデータ2!E112,0)+IF(ISNUMBER(CSVデータ3!E112),CSVデータ3!E112,0)+IF(ISNUMBER(CSVデータ4!E112),CSVデータ4!E112,0)","v":85},{"$f":"IF(ISNUMBER(CSVデータ1!F112),CSVデータ1!F112,0)+IF(ISNUMBER(CSVデータ2!F112),CSVデータ2!F112,0)+IF(ISNUMBER(CSVデータ3!F112),CSVデータ3!F112,0)+IF(ISNUMBER(CSVデータ4!F112),CSVデータ4!F112,0)","v":18},null,{"$f":"IF(ISNUMBER(CSVデータ1!H112),CSVデータ1!H112,0)+IF(ISNUMBER(CSVデータ2!H112),CSVデータ2!H112,0)+IF(ISNUMBER(CSVデータ3!H112),CSVデータ3!H112,0)+IF(ISNUMBER(CSVデータ4!H112),CSVデータ4!H112,0)","v":12},null,{"$f":"IF(ISNUMBER(CSVデータ1!J112),CSVデータ1!J112,0)+IF(ISNUMBER(CSVデータ2!J112),CSVデータ2!J112,0)+IF(ISNUMBER(CSVデータ3!J112),CSVデータ3!J112,0)+IF(ISNUMBER(CSVデータ4!J112),CSVデータ4!J112,0)","v":3},null,{"$f":"IF(ISNUMBER(CSVデータ1!L112),CSVデータ1!L112,0)+IF(ISNUMBER(CSVデータ2!L112),CSVデータ2!L112,0)+IF(ISNUMBER(CSVデータ3!L112),CSVデータ3!L112,0)+IF(ISNUMBER(CSVデータ4!L112),CSVデータ4!L112,0)","v":6},null,{"$f":"IF(ISNUMBER(CSVデータ1!N112),CSVデータ1!N112,0)+IF(ISNUMBER(CSVデータ2!N112),CSVデータ2!N112,0)+IF(ISNUMBER(CSVデータ3!N112),CSVデータ3!N112,0)+IF(ISNUMBER(CSVデータ4!N112),CSVデータ4!N112,0)","v":1},null,{"$f":"IF(ISNUMBER(CSVデータ1!P112),CSVデータ1!P112,0)+IF(ISNUMBER(CSVデータ2!P112),CSVデータ2!P112,0)+IF(ISNUMBER(CSVデータ3!P112),CSVデータ3!P112,0)+IF(ISNUMBER(CSVデータ4!P112),CSVデータ4!P112,0)","v":6},null,{"$f":"IF(ISNUMBER(CSVデータ1!R112),CSVデータ1!R112,0)+IF(ISNUMBER(CSVデータ2!R112),CSVデータ2!R112,0)+IF(ISNUMBER(CSVデータ3!R112),CSVデータ3!R112,0)+IF(ISNUMBER(CSVデータ4!R112),CSVデータ4!R112,0)","v":19},null,{"$f":"IF(ISNUMBER(CSVデータ1!T112),CSVデータ1!T112,0)+IF(ISNUMBER(CSVデータ2!T112),CSVデータ2!T112,0)+IF(ISNUMBER(CSVデータ3!T112),CSVデータ3!T112,0)+IF(ISNUMBER(CSVデータ4!T112),CSVデータ4!T112,0)","v":1},null,{"$f":"IF(ISNUMBER(CSVデータ1!V112),CSVデータ1!V112,0)+IF(ISNUMBER(CSVデータ2!V112),CSVデータ2!V112,0)+IF(ISNUMBER(CSVデータ3!V112),CSVデータ3!V112,0)+IF(ISNUMBER(CSVデータ4!V112),CSVデータ4!V112,0)","v":12},null,{"$f":"IF(ISNUMBER(CSVデータ1!X112),CSVデータ1!X112,0)+IF(ISNUMBER(CSVデータ2!X112),CSVデータ2!X112,0)+IF(ISNUMBER(CSVデータ3!X112),CSVデータ3!X112,0)+IF(ISNUMBER(CSVデータ4!X112),CSVデータ4!X112,0)","v":9},null,{"$f":"IF(ISNUMBER(CSVデータ1!Z112),CSVデータ1!Z112,0)+IF(ISNUMBER(CSVデータ2!Z112),CSVデータ2!Z112,0)+IF(ISNUMBER(CSVデータ3!Z112),CSVデータ3!Z112,0)+IF(ISNUMBER(CSVデータ4!Z112),CSVデータ4!Z112,0)","v":26},null,{"$f":"IF(ISNUMBER(CSVデータ1!AB112),CSVデータ1!AB112,0)+IF(ISNUMBER(CSVデータ2!AB112),CSVデータ2!AB112,0)+IF(ISNUMBER(CSVデータ3!AB112),CSVデータ3!AB112,0)+IF(ISNUMBER(CSVデータ4!AB112),CSVデータ4!AB112,0)","v":0},null,{"$f":"IF(ISNUMBER(CSVデータ1!AD112),CSVデータ1!AD112,0)+IF(ISNUMBER(CSVデータ2!AD112),CSVデータ2!AD112,0)+IF(ISNUMBER(CSVデータ3!AD112),CSVデータ3!AD112,0)+IF(ISNUMBER(CSVデータ4!AD112),CSVデータ4!AD112,0)","v":17},null,{"$f":"IF(ISNUMBER(CSVデータ1!AF112),CSVデータ1!AF112,0)+IF(ISNUMBER(CSVデータ2!AF112),CSVデータ2!AF112,0)+IF(ISNUMBER(CSVデータ3!AF112),CSVデータ3!AF112,0)+IF(ISNUMBER(CSVデータ4!AF112),CSVデータ4!AF112,0)","v":8},null,{"$f":"IF(ISNUMBER(CSVデータ1!AH112),CSVデータ1!AH112,0)+IF(ISNUMBER(CSVデータ2!AH112),CSVデータ2!AH112,0)+IF(ISNUMBER(CSVデータ3!AH112),CSVデータ3!AH112,0)+IF(ISNUMBER(CSVデータ4!AH112),CSVデータ4!AH112,0)","v":0},null,{"$f":"IF(ISNUMBER(CSVデータ1!AJ112),CSVデータ1!AJ112,0)+IF(ISNUMBER(CSVデータ2!AJ112),CSVデータ2!AJ112,0)+IF(ISNUMBER(CSVデータ3!AJ112),CSVデータ3!AJ112,0)+IF(ISNUMBER(CSVデータ4!AJ112),CSVデータ4!AJ112,0)","v":1},null,{"$f":"IF(ISNUMBER(CSVデータ1!AL112),CSVデータ1!AL112,0)+IF(ISNUMBER(CSVデータ2!AL112),CSVデータ2!AL112,0)+IF(ISNUMBER(CSVデータ3!AL112),CSVデータ3!AL112,0)+IF(ISNUMBER(CSVデータ4!AL112),CSVデータ4!AL112,0)","v":1},null,{"$f":"IF(ISNUMBER(CSVデータ1!AN112),CSVデータ1!AN112,0)+IF(ISNUMBER(CSVデータ2!AN112),CSVデータ2!AN112,0)+IF(ISNUMBER(CSVデータ3!AN112),CSVデータ3!AN112,0)+IF(ISNUMBER(CSVデータ4!AN112),CSVデータ4!AN112,0)","v":1}]
[{"$f":"CSVデータ1!A113","v":"明細部"},{"$f":"CSVデータ1!B113","v":"県"},{"$f":"CSVデータ1!C113","v":44},{"$f":"CSVデータ1!D113","v":"女"},{"$f":"IF(ISNUMBER(CSVデータ1!E113),CSVデータ1!E113,0)+IF(ISNUMBER(CSVデータ2!E113),CSVデータ2!E113,0)+IF(ISNUMBER(CSVデータ3!E113),CSVデータ3!E113,0)+IF(ISNUMBER(CSVデータ4!E113),CSVデータ4!E113,0)","v":69},{"$f":"IF(ISNUMBER(CSVデータ1!F113),CSVデータ1!F113,0)+IF(ISNUMBER(CSVデータ2!F113),CSVデータ2!F113,0)+IF(ISNUMBER(CSVデータ3!F113),CSVデータ3!F113,0)+IF(ISNUMBER(CSVデータ4!F113),CSVデータ4!F113,0)","v":16},null,{"$f":"IF(ISNUMBER(CSVデータ1!H113),CSVデータ1!H113,0)+IF(ISNUMBER(CSVデータ2!H113),CSVデータ2!H113,0)+IF(ISNUMBER(CSVデータ3!H113),CSVデータ3!H113,0)+IF(ISNUMBER(CSVデータ4!H113),CSVデータ4!H113,0)","v":11},null,{"$f":"IF(ISNUMBER(CSVデータ1!J113),CSVデータ1!J113,0)+IF(ISNUMBER(CSVデータ2!J113),CSVデータ2!J113,0)+IF(ISNUMBER(CSVデータ3!J113),CSVデータ3!J113,0)+IF(ISNUMBER(CSVデータ4!J113),CSVデータ4!J113,0)","v":2},null,{"$f":"IF(ISNUMBER(CSVデータ1!L113),CSVデータ1!L113,0)+IF(ISNUMBER(CSVデータ2!L113),CSVデータ2!L113,0)+IF(ISNUMBER(CSVデータ3!L113),CSVデータ3!L113,0)+IF(ISNUMBER(CSVデータ4!L113),CSVデータ4!L113,0)","v":6},null,{"$f":"IF(ISNUMBER(CSVデータ1!N113),CSVデータ1!N113,0)+IF(ISNUMBER(CSVデータ2!N113),CSVデータ2!N113,0)+IF(ISNUMBER(CSVデータ3!N113),CSVデータ3!N113,0)+IF(ISNUMBER(CSVデータ4!N113),CSVデータ4!N113,0)","v":0},null,{"$f":"IF(ISNUMBER(CSVデータ1!P113),CSVデータ1!P113,0)+IF(ISNUMBER(CSVデータ2!P113),CSVデータ2!P113,0)+IF(ISNUMBER(CSVデータ3!P113),CSVデータ3!P113,0)+IF(ISNUMBER(CSVデータ4!P113),CSVデータ4!P113,0)","v":3},null,{"$f":"IF(ISNUMBER(CSVデータ1!R113),CSVデータ1!R113,0)+IF(ISNUMBER(CSVデータ2!R113),CSVデータ2!R113,0)+IF(ISNUMBER(CSVデータ3!R113),CSVデータ3!R113,0)+IF(ISNUMBER(CSVデータ4!R113),CSVデータ4!R113,0)","v":14},null,{"$f":"IF(ISNUMBER(CSVデータ1!T113),CSVデータ1!T113,0)+IF(ISNUMBER(CSVデータ2!T113),CSVデータ2!T113,0)+IF(ISNUMBER(CSVデータ3!T113),CSVデータ3!T113,0)+IF(ISNUMBER(CSVデータ4!T113),CSVデータ4!T113,0)","v":0},null,{"$f":"IF(ISNUMBER(CSVデータ1!V113),CSVデータ1!V113,0)+IF(ISNUMBER(CSVデータ2!V113),CSVデータ2!V113,0)+IF(ISNUMBER(CSVデータ3!V113),CSVデータ3!V113,0)+IF(ISNUMBER(CSVデータ4!V113),CSVデータ4!V113,0)","v":9},null,{"$f":"IF(ISNUMBER(CSVデータ1!X113),CSVデータ1!X113,0)+IF(ISNUMBER(CSVデータ2!X113),CSVデータ2!X113,0)+IF(ISNUMBER(CSVデータ3!X113),CSVデータ3!X113,0)+IF(ISNUMBER(CSVデータ4!X113),CSVデータ4!X113,0)","v":9},null,{"$f":"IF(ISNUMBER(CSVデータ1!Z113),CSVデータ1!Z113,0)+IF(ISNUMBER(CSVデータ2!Z113),CSVデータ2!Z113,0)+IF(ISNUMBER(CSVデータ3!Z113),CSVデータ3!Z113,0)+IF(ISNUMBER(CSVデータ4!Z113),CSVデータ4!Z113,0)","v":24},null,{"$f":"IF(ISNUMBER(CSVデータ1!AB113),CSVデータ1!AB113,0)+IF(ISNUMBER(CSVデータ2!AB113),CSVデータ2!AB113,0)+IF(ISNUMBER(CSVデータ3!AB113),CSVデータ3!AB113,0)+IF(ISNUMBER(CSVデータ4!AB113),CSVデータ4!AB113,0)","v":0},null,{"$f":"IF(ISNUMBER(CSVデータ1!AD113),CSVデータ1!AD113,0)+IF(ISNUMBER(CSVデータ2!AD113),CSVデータ2!AD113,0)+IF(ISNUMBER(CSVデータ3!AD113),CSVデータ3!AD113,0)+IF(ISNUMBER(CSVデータ4!AD113),CSVデータ4!AD113,0)","v":7},null,{"$f":"IF(ISNUMBER(CSVデータ1!AF113),CSVデータ1!AF113,0)+IF(ISNUMBER(CSVデータ2!AF113),CSVデータ2!AF113,0)+IF(ISNUMBER(CSVデータ3!AF113),CSVデータ3!AF113,0)+IF(ISNUMBER(CSVデータ4!AF113),CSVデータ4!AF113,0)","v":6},null,{"$f":"IF(ISNUMBER(CSVデータ1!AH113),CSVデータ1!AH113,0)+IF(ISNUMBER(CSVデータ2!AH113),CSVデータ2!AH113,0)+IF(ISNUMBER(CSVデータ3!AH113),CSVデータ3!AH113,0)+IF(ISNUMBER(CSVデータ4!AH113),CSVデータ4!AH113,0)","v":0},null,{"$f":"IF(ISNUMBER(CSVデータ1!AJ113),CSVデータ1!AJ113,0)+IF(ISNUMBER(CSVデータ2!AJ113),CSVデータ2!AJ113,0)+IF(ISNUMBER(CSVデータ3!AJ113),CSVデータ3!AJ113,0)+IF(ISNUMBER(CSVデータ4!AJ113),CSVデータ4!AJ113,0)","v":0},null,{"$f":"IF(ISNUMBER(CSVデータ1!AL113),CSVデータ1!AL113,0)+IF(ISNUMBER(CSVデータ2!AL113),CSVデータ2!AL113,0)+IF(ISNUMBER(CSVデータ3!AL113),CSVデータ3!AL113,0)+IF(ISNUMBER(CSVデータ4!AL113),CSVデータ4!AL113,0)","v":1},null,{"$f":"IF(ISNUMBER(CSVデータ1!AN113),CSVデータ1!AN113,0)+IF(ISNUMBER(CSVデータ2!AN113),CSVデータ2!AN113,0)+IF(ISNUMBER(CSVデータ3!AN113),CSVデータ3!AN113,0)+IF(ISNUMBER(CSVデータ4!AN113),CSVデータ4!AN113,0)","v":1}]
[{"$f":"CSVデータ1!A114","v":"明細部"},{"$f":"CSVデータ1!B114","v":"県"},{"$f":"CSVデータ1!C114","v":45},{"$f":"CSVデータ1!D114","v":"女"},{"$f":"IF(ISNUMBER(CSVデータ1!E114),CSVデータ1!E114,0)+IF(ISNUMBER(CSVデータ2!E114),CSVデータ2!E114,0)+IF(ISNUMBER(CSVデータ3!E114),CSVデータ3!E114,0)+IF(ISNUMBER(CSVデータ4!E114),CSVデータ4!E114,0)","v":69},{"$f":"IF(ISNUMBER(CSVデータ1!F114),CSVデータ1!F114,0)+IF(ISNUMBER(CSVデータ2!F114),CSVデータ2!F114,0)+IF(ISNUMBER(CSVデータ3!F114),CSVデータ3!F114,0)+IF(ISNUMBER(CSVデータ4!F114),CSVデータ4!F114,0)","v":19},null,{"$f":"IF(ISNUMBER(CSVデータ1!H114),CSVデータ1!H114,0)+IF(ISNUMBER(CSVデータ2!H114),CSVデータ2!H114,0)+IF(ISNUMBER(CSVデータ3!H114),CSVデータ3!H114,0)+IF(ISNUMBER(CSVデータ4!H114),CSVデータ4!H114,0)","v":14},null,{"$f":"IF(ISNUMBER(CSVデータ1!J114),CSVデータ1!J114,0)+IF(ISNUMBER(CSVデータ2!J114),CSVデータ2!J114,0)+IF(ISNUMBER(CSVデータ3!J114),CSVデータ3!J114,0)+IF(ISNUMBER(CSVデータ4!J114),CSVデータ4!J114,0)","v":4},null,{"$f":"IF(ISNUMBER(CSVデータ1!L114),CSVデータ1!L114,0)+IF(ISNUMBER(CSVデータ2!L114),CSVデータ2!L114,0)+IF(ISNUMBER(CSVデータ3!L114),CSVデータ3!L114,0)+IF(ISNUMBER(CSVデータ4!L114),CSVデータ4!L114,0)","v":6},null,{"$f":"IF(ISNUMBER(CSVデータ1!N114),CSVデータ1!N114,0)+IF(ISNUMBER(CSVデータ2!N114),CSVデータ2!N114,0)+IF(ISNUMBER(CSVデータ3!N114),CSVデータ3!N114,0)+IF(ISNUMBER(CSVデータ4!N114),CSVデータ4!N114,0)","v":1},null,{"$f":"IF(ISNUMBER(CSVデータ1!P114),CSVデータ1!P114,0)+IF(ISNUMBER(CSVデータ2!P114),CSVデータ2!P114,0)+IF(ISNUMBER(CSVデータ3!P114),CSVデータ3!P114,0)+IF(ISNUMBER(CSVデータ4!P114),CSVデータ4!P114,0)","v":5},null,{"$f":"IF(ISNUMBER(CSVデータ1!R114),CSVデータ1!R114,0)+IF(ISNUMBER(CSVデータ2!R114),CSVデータ2!R114,0)+IF(ISNUMBER(CSVデータ3!R114),CSVデータ3!R114,0)+IF(ISNUMBER(CSVデータ4!R114),CSVデータ4!R114,0)","v":16},null,{"$f":"IF(ISNUMBER(CSVデータ1!T114),CSVデータ1!T114,0)+IF(ISNUMBER(CSVデータ2!T114),CSVデータ2!T114,0)+IF(ISNUMBER(CSVデータ3!T114),CSVデータ3!T114,0)+IF(ISNUMBER(CSVデータ4!T114),CSVデータ4!T114,0)","v":0},null,{"$f":"IF(ISNUMBER(CSVデータ1!V114),CSVデータ1!V114,0)+IF(ISNUMBER(CSVデータ2!V114),CSVデータ2!V114,0)+IF(ISNUMBER(CSVデータ3!V114),CSVデータ3!V114,0)+IF(ISNUMBER(CSVデータ4!V114),CSVデータ4!V114,0)","v":14},null,{"$f":"IF(ISNUMBER(CSVデータ1!X114),CSVデータ1!X114,0)+IF(ISNUMBER(CSVデータ2!X114),CSVデータ2!X114,0)+IF(ISNUMBER(CSVデータ3!X114),CSVデータ3!X114,0)+IF(ISNUMBER(CSVデータ4!X114),CSVデータ4!X114,0)","v":8},null,{"$f":"IF(ISNUMBER(CSVデータ1!Z114),CSVデータ1!Z114,0)+IF(ISNUMBER(CSVデータ2!Z114),CSVデータ2!Z114,0)+IF(ISNUMBER(CSVデータ3!Z114),CSVデータ3!Z114,0)+IF(ISNUMBER(CSVデータ4!Z114),CSVデータ4!Z114,0)","v":34},null,{"$f":"IF(ISNUMBER(CSVデータ1!AB114),CSVデータ1!AB114,0)+IF(ISNUMBER(CSVデータ2!AB114),CSVデータ2!AB114,0)+IF(ISNUMBER(CSVデータ3!AB114),CSVデータ3!AB114,0)+IF(ISNUMBER(CSVデータ4!AB114),CSVデータ4!AB114,0)","v":0},null,{"$f":"IF(ISNUMBER(CSVデータ1!AD114),CSVデータ1!AD114,0)+IF(ISNUMBER(CSVデータ2!AD114),CSVデータ2!AD114,0)+IF(ISNUMBER(CSVデータ3!AD114),CSVデータ3!AD114,0)+IF(ISNUMBER(CSVデータ4!AD114),CSVデータ4!AD114,0)","v":12},null,{"$f":"IF(ISNUMBER(CSVデータ1!AF114),CSVデータ1!AF114,0)+IF(ISNUMBER(CSVデータ2!AF114),CSVデータ2!AF114,0)+IF(ISNUMBER(CSVデータ3!AF114),CSVデータ3!AF114,0)+IF(ISNUMBER(CSVデータ4!AF114),CSVデータ4!AF114,0)","v":8},null,{"$f":"IF(ISNUMBER(CSVデータ1!AH114),CSVデータ1!AH114,0)+IF(ISNUMBER(CSVデータ2!AH114),CSVデータ2!AH114,0)+IF(ISNUMBER(CSVデータ3!AH114),CSVデータ3!AH114,0)+IF(ISNUMBER(CSVデータ4!AH114),CSVデータ4!AH114,0)","v":0},null,{"$f":"IF(ISNUMBER(CSVデータ1!AJ114),CSVデータ1!AJ114,0)+IF(ISNUMBER(CSVデータ2!AJ114),CSVデータ2!AJ114,0)+IF(ISNUMBER(CSVデータ3!AJ114),CSVデータ3!AJ114,0)+IF(ISNUMBER(CSVデータ4!AJ114),CSVデータ4!AJ114,0)","v":4},null,{"$f":"IF(ISNUMBER(CSVデータ1!AL114),CSVデータ1!AL114,0)+IF(ISNUMBER(CSVデータ2!AL114),CSVデータ2!AL114,0)+IF(ISNUMBER(CSVデータ3!AL114),CSVデータ3!AL114,0)+IF(ISNUMBER(CSVデータ4!AL114),CSVデータ4!AL114,0)","v":5},null,{"$f":"IF(ISNUMBER(CSVデータ1!AN114),CSVデータ1!AN114,0)+IF(ISNUMBER(CSVデータ2!AN114),CSVデータ2!AN114,0)+IF(ISNUMBER(CSVデータ3!AN114),CSVデータ3!AN114,0)+IF(ISNUMBER(CSVデータ4!AN114),CSVデータ4!AN114,0)","v":0}]
[{"$f":"CSVデータ1!A115","v":"明細部"},{"$f":"CSVデータ1!B115","v":"県"},{"$f":"CSVデータ1!C115","v":46},{"$f":"CSVデータ1!D115","v":"女"},{"$f":"IF(ISNUMBER(CSVデータ1!E115),CSVデータ1!E115,0)+IF(ISNUMBER(CSVデータ2!E115),CSVデータ2!E115,0)+IF(ISNUMBER(CSVデータ3!E115),CSVデータ3!E115,0)+IF(ISNUMBER(CSVデータ4!E115),CSVデータ4!E115,0)","v":84},{"$f":"IF(ISNUMBER(CSVデータ1!F115),CSVデータ1!F115,0)+IF(ISNUMBER(CSVデータ2!F115),CSVデータ2!F115,0)+IF(ISNUMBER(CSVデータ3!F115),CSVデータ3!F115,0)+IF(ISNUMBER(CSVデータ4!F115),CSVデータ4!F115,0)","v":19},null,{"$f":"IF(ISNUMBER(CSVデータ1!H115),CSVデータ1!H115,0)+IF(ISNUMBER(CSVデータ2!H115),CSVデータ2!H115,0)+IF(ISNUMBER(CSVデータ3!H115),CSVデータ3!H115,0)+IF(ISNUMBER(CSVデータ4!H115),CSVデータ4!H115,0)","v":11},null,{"$f":"IF(ISNUMBER(CSVデータ1!J115),CSVデータ1!J115,0)+IF(ISNUMBER(CSVデータ2!J115),CSVデータ2!J115,0)+IF(ISNUMBER(CSVデータ3!J115),CSVデータ3!J115,0)+IF(ISNUMBER(CSVデータ4!J115),CSVデータ4!J115,0)","v":5},null,{"$f":"IF(ISNUMBER(CSVデータ1!L115),CSVデータ1!L115,0)+IF(ISNUMBER(CSVデータ2!L115),CSVデータ2!L115,0)+IF(ISNUMBER(CSVデータ3!L115),CSVデータ3!L115,0)+IF(ISNUMBER(CSVデータ4!L115),CSVデータ4!L115,0)","v":7},null,{"$f":"IF(ISNUMBER(CSVデータ1!N115),CSVデータ1!N115,0)+IF(ISNUMBER(CSVデータ2!N115),CSVデータ2!N115,0)+IF(ISNUMBER(CSVデータ3!N115),CSVデータ3!N115,0)+IF(ISNUMBER(CSVデータ4!N115),CSVデータ4!N115,0)","v":1},null,{"$f":"IF(ISNUMBER(CSVデータ1!P115),CSVデータ1!P115,0)+IF(ISNUMBER(CSVデータ2!P115),CSVデータ2!P115,0)+IF(ISNUMBER(CSVデータ3!P115),CSVデータ3!P115,0)+IF(ISNUMBER(CSVデータ4!P115),CSVデータ4!P115,0)","v":9},null,{"$f":"IF(ISNUMBER(CSVデータ1!R115),CSVデータ1!R115,0)+IF(ISNUMBER(CSVデータ2!R115),CSVデータ2!R115,0)+IF(ISNUMBER(CSVデータ3!R115),CSVデータ3!R115,0)+IF(ISNUMBER(CSVデータ4!R115),CSVデータ4!R115,0)","v":23},null,{"$f":"IF(ISNUMBER(CSVデータ1!T115),CSVデータ1!T115,0)+IF(ISNUMBER(CSVデータ2!T115),CSVデータ2!T115,0)+IF(ISNUMBER(CSVデータ3!T115),CSVデータ3!T115,0)+IF(ISNUMBER(CSVデータ4!T115),CSVデータ4!T115,0)","v":0},null,{"$f":"IF(ISNUMBER(CSVデータ1!V115),CSVデータ1!V115,0)+IF(ISNUMBER(CSVデータ2!V115),CSVデータ2!V115,0)+IF(ISNUMBER(CSVデータ3!V115),CSVデータ3!V115,0)+IF(ISNUMBER(CSVデータ4!V115),CSVデータ4!V115,0)","v":17},null,{"$f":"IF(ISNUMBER(CSVデータ1!X115),CSVデータ1!X115,0)+IF(ISNUMBER(CSVデータ2!X115),CSVデータ2!X115,0)+IF(ISNUMBER(CSVデータ3!X115),CSVデータ3!X115,0)+IF(ISNUMBER(CSVデータ4!X115),CSVデータ4!X115,0)","v":12},null,{"$f":"IF(ISNUMBER(CSVデータ1!Z115),CSVデータ1!Z115,0)+IF(ISNUMBER(CSVデータ2!Z115),CSVデータ2!Z115,0)+IF(ISNUMBER(CSVデータ3!Z115),CSVデータ3!Z115,0)+IF(ISNUMBER(CSVデータ4!Z115),CSVデータ4!Z115,0)","v":33},null,{"$f":"IF(ISNUMBER(CSVデータ1!AB115),CSVデータ1!AB115,0)+IF(ISNUMBER(CSVデータ2!AB115),CSVデータ2!AB115,0)+IF(ISNUMBER(CSVデータ3!AB115),CSVデータ3!AB115,0)+IF(ISNUMBER(CSVデータ4!AB115),CSVデータ4!AB115,0)","v":0},null,{"$f":"IF(ISNUMBER(CSVデータ1!AD115),CSVデータ1!AD115,0)+IF(ISNUMBER(CSVデータ2!AD115),CSVデータ2!AD115,0)+IF(ISNUMBER(CSVデータ3!AD115),CSVデータ3!AD115,0)+IF(ISNUMBER(CSVデータ4!AD115),CSVデータ4!AD115,0)","v":16},null,{"$f":"IF(ISNUMBER(CSVデータ1!AF115),CSVデータ1!AF115,0)+IF(ISNUMBER(CSVデータ2!AF115),CSVデータ2!AF115,0)+IF(ISNUMBER(CSVデータ3!AF115),CSVデータ3!AF115,0)+IF(ISNUMBER(CSVデータ4!AF115),CSVデータ4!AF115,0)","v":6},null,{"$f":"IF(ISNUMBER(CSVデータ1!AH115),CSVデータ1!AH115,0)+IF(ISNUMBER(CSVデータ2!AH115),CSVデータ2!AH115,0)+IF(ISNUMBER(CSVデータ3!AH115),CSVデータ3!AH115,0)+IF(ISNUMBER(CSVデータ4!AH115),CSVデータ4!AH115,0)","v":0},null,{"$f":"IF(ISNUMBER(CSVデータ1!AJ115),CSVデータ1!AJ115,0)+IF(ISNUMBER(CSVデータ2!AJ115),CSVデータ2!AJ115,0)+IF(ISNUMBER(CSVデータ3!AJ115),CSVデータ3!AJ115,0)+IF(ISNUMBER(CSVデータ4!AJ115),CSVデータ4!AJ115,0)","v":1},null,{"$f":"IF(ISNUMBER(CSVデータ1!AL115),CSVデータ1!AL115,0)+IF(ISNUMBER(CSVデータ2!AL115),CSVデータ2!AL115,0)+IF(ISNUMBER(CSVデータ3!AL115),CSVデータ3!AL115,0)+IF(ISNUMBER(CSVデータ4!AL115),CSVデータ4!AL115,0)","v":6},null,{"$f":"IF(ISNUMBER(CSVデータ1!AN115),CSVデータ1!AN115,0)+IF(ISNUMBER(CSVデータ2!AN115),CSVデータ2!AN115,0)+IF(ISNUMBER(CSVデータ3!AN115),CSVデータ3!AN115,0)+IF(ISNUMBER(CSVデータ4!AN115),CSVデータ4!AN115,0)","v":1}]
[{"$f":"CSVデータ1!A116","v":"明細部"},{"$f":"CSVデータ1!B116","v":"県"},{"$f":"CSVデータ1!C116","v":47},{"$f":"CSVデータ1!D116","v":"女"},{"$f":"IF(ISNUMBER(CSVデータ1!E116),CSVデータ1!E116,0)+IF(ISNUMBER(CSVデータ2!E116),CSVデータ2!E116,0)+IF(ISNUMBER(CSVデータ3!E116),CSVデータ3!E116,0)+IF(ISNUMBER(CSVデータ4!E116),CSVデータ4!E116,0)","v":88},{"$f":"IF(ISNUMBER(CSVデータ1!F116),CSVデータ1!F116,0)+IF(ISNUMBER(CSVデータ2!F116),CSVデータ2!F116,0)+IF(ISNUMBER(CSVデータ3!F116),CSVデータ3!F116,0)+IF(ISNUMBER(CSVデータ4!F116),CSVデータ4!F116,0)","v":20},null,{"$f":"IF(ISNUMBER(CSVデータ1!H116),CSVデータ1!H116,0)+IF(ISNUMBER(CSVデータ2!H116),CSVデータ2!H116,0)+IF(ISNUMBER(CSVデータ3!H116),CSVデータ3!H116,0)+IF(ISNUMBER(CSVデータ4!H116),CSVデータ4!H116,0)","v":13},null,{"$f":"IF(ISNUMBER(CSVデータ1!J116),CSVデータ1!J116,0)+IF(ISNUMBER(CSVデータ2!J116),CSVデータ2!J116,0)+IF(ISNUMBER(CSVデータ3!J116),CSVデータ3!J116,0)+IF(ISNUMBER(CSVデータ4!J116),CSVデータ4!J116,0)","v":8},null,{"$f":"IF(ISNUMBER(CSVデータ1!L116),CSVデータ1!L116,0)+IF(ISNUMBER(CSVデータ2!L116),CSVデータ2!L116,0)+IF(ISNUMBER(CSVデータ3!L116),CSVデータ3!L116,0)+IF(ISNUMBER(CSVデータ4!L116),CSVデータ4!L116,0)","v":3},null,{"$f":"IF(ISNUMBER(CSVデータ1!N116),CSVデータ1!N116,0)+IF(ISNUMBER(CSVデータ2!N116),CSVデータ2!N116,0)+IF(ISNUMBER(CSVデータ3!N116),CSVデータ3!N116,0)+IF(ISNUMBER(CSVデータ4!N116),CSVデータ4!N116,0)","v":0},null,{"$f":"IF(ISNUMBER(CSVデータ1!P116),CSVデータ1!P116,0)+IF(ISNUMBER(CSVデータ2!P116),CSVデータ2!P116,0)+IF(ISNUMBER(CSVデータ3!P116),CSVデータ3!P116,0)+IF(ISNUMBER(CSVデータ4!P116),CSVデータ4!P116,0)","v":8},null,{"$f":"IF(ISNUMBER(CSVデータ1!R116),CSVデータ1!R116,0)+IF(ISNUMBER(CSVデータ2!R116),CSVデータ2!R116,0)+IF(ISNUMBER(CSVデータ3!R116),CSVデータ3!R116,0)+IF(ISNUMBER(CSVデータ4!R116),CSVデータ4!R116,0)","v":31},null,{"$f":"IF(ISNUMBER(CSVデータ1!T116),CSVデータ1!T116,0)+IF(ISNUMBER(CSVデータ2!T116),CSVデータ2!T116,0)+IF(ISNUMBER(CSVデータ3!T116),CSVデータ3!T116,0)+IF(ISNUMBER(CSVデータ4!T116),CSVデータ4!T116,0)","v":1},null,{"$f":"IF(ISNUMBER(CSVデータ1!V116),CSVデータ1!V116,0)+IF(ISNUMBER(CSVデータ2!V116),CSVデータ2!V116,0)+IF(ISNUMBER(CSVデータ3!V116),CSVデータ3!V116,0)+IF(ISNUMBER(CSVデータ4!V116),CSVデータ4!V116,0)","v":16},null,{"$f":"IF(ISNUMBER(CSVデータ1!X116),CSVデータ1!X116,0)+IF(ISNUMBER(CSVデータ2!X116),CSVデータ2!X116,0)+IF(ISNUMBER(CSVデータ3!X116),CSVデータ3!X116,0)+IF(ISNUMBER(CSVデータ4!X116),CSVデータ4!X116,0)","v":15},null,{"$f":"IF(ISNUMBER(CSVデータ1!Z116),CSVデータ1!Z116,0)+IF(ISNUMBER(CSVデータ2!Z116),CSVデータ2!Z116,0)+IF(ISNUMBER(CSVデータ3!Z116),CSVデータ3!Z116,0)+IF(ISNUMBER(CSVデータ4!Z116),CSVデータ4!Z116,0)","v":40},null,{"$f":"IF(ISNUMBER(CSVデータ1!AB116),CSVデータ1!AB116,0)+IF(ISNUMBER(CSVデータ2!AB116),CSVデータ2!AB116,0)+IF(ISNUMBER(CSVデータ3!AB116),CSVデータ3!AB116,0)+IF(ISNUMBER(CSVデータ4!AB116),CSVデータ4!AB116,0)","v":0},null,{"$f":"IF(ISNUMBER(CSVデータ1!AD116),CSVデータ1!AD116,0)+IF(ISNUMBER(CSVデータ2!AD116),CSVデータ2!AD116,0)+IF(ISNUMBER(CSVデータ3!AD116),CSVデータ3!AD116,0)+IF(ISNUMBER(CSVデータ4!AD116),CSVデータ4!AD116,0)","v":16},null,{"$f":"IF(ISNUMBER(CSVデータ1!AF116),CSVデータ1!AF116,0)+IF(ISNUMBER(CSVデータ2!AF116),CSVデータ2!AF116,0)+IF(ISNUMBER(CSVデータ3!AF116),CSVデータ3!AF116,0)+IF(ISNUMBER(CSVデータ4!AF116),CSVデータ4!AF116,0)","v":6},null,{"$f":"IF(ISNUMBER(CSVデータ1!AH116),CSVデータ1!AH116,0)+IF(ISNUMBER(CSVデータ2!AH116),CSVデータ2!AH116,0)+IF(ISNUMBER(CSVデータ3!AH116),CSVデータ3!AH116,0)+IF(ISNUMBER(CSVデータ4!AH116),CSVデータ4!AH116,0)","v":0},null,{"$f":"IF(ISNUMBER(CSVデータ1!AJ116),CSVデータ1!AJ116,0)+IF(ISNUMBER(CSVデータ2!AJ116),CSVデータ2!AJ116,0)+IF(ISNUMBER(CSVデータ3!AJ116),CSVデータ3!AJ116,0)+IF(ISNUMBER(CSVデータ4!AJ116),CSVデータ4!AJ116,0)","v":0},null,{"$f":"IF(ISNUMBER(CSVデータ1!AL116),CSVデータ1!AL116,0)+IF(ISNUMBER(CSVデータ2!AL116),CSVデータ2!AL116,0)+IF(ISNUMBER(CSVデータ3!AL116),CSVデータ3!AL116,0)+IF(ISNUMBER(CSVデータ4!AL116),CSVデータ4!AL116,0)","v":8},null,{"$f":"IF(ISNUMBER(CSVデータ1!AN116),CSVデータ1!AN116,0)+IF(ISNUMBER(CSVデータ2!AN116),CSVデータ2!AN116,0)+IF(ISNUMBER(CSVデータ3!AN116),CSVデータ3!AN116,0)+IF(ISNUMBER(CSVデータ4!AN116),CSVデータ4!AN116,0)","v":0}]
[{"$f":"CSVデータ1!A117","v":"明細部"},{"$f":"CSVデータ1!B117","v":"県"},{"$f":"CSVデータ1!C117","v":48},{"$f":"CSVデータ1!D117","v":"女"},{"$f":"IF(ISNUMBER(CSVデータ1!E117),CSVデータ1!E117,0)+IF(ISNUMBER(CSVデータ2!E117),CSVデータ2!E117,0)+IF(ISNUMBER(CSVデータ3!E117),CSVデータ3!E117,0)+IF(ISNUMBER(CSVデータ4!E117),CSVデータ4!E117,0)","v":92},{"$f":"IF(ISNUMBER(CSVデータ1!F117),CSVデータ1!F117,0)+IF(ISNUMBER(CSVデータ2!F117),CSVデータ2!F117,0)+IF(ISNUMBER(CSVデータ3!F117),CSVデータ3!F117,0)+IF(ISNUMBER(CSVデータ4!F117),CSVデータ4!F117,0)","v":19},null,{"$f":"IF(ISNUMBER(CSVデータ1!H117),CSVデータ1!H117,0)+IF(ISNUMBER(CSVデータ2!H117),CSVデータ2!H117,0)+IF(ISNUMBER(CSVデータ3!H117),CSVデータ3!H117,0)+IF(ISNUMBER(CSVデータ4!H117),CSVデータ4!H117,0)","v":12},null,{"$f":"IF(ISNUMBER(CSVデータ1!J117),CSVデータ1!J117,0)+IF(ISNUMBER(CSVデータ2!J117),CSVデータ2!J117,0)+IF(ISNUMBER(CSVデータ3!J117),CSVデータ3!J117,0)+IF(ISNUMBER(CSVデータ4!J117),CSVデータ4!J117,0)","v":6},null,{"$f":"IF(ISNUMBER(CSVデータ1!L117),CSVデータ1!L117,0)+IF(ISNUMBER(CSVデータ2!L117),CSVデータ2!L117,0)+IF(ISNUMBER(CSVデータ3!L117),CSVデータ3!L117,0)+IF(ISNUMBER(CSVデータ4!L117),CSVデータ4!L117,0)","v":5},null,{"$f":"IF(ISNUMBER(CSVデータ1!N117),CSVデータ1!N117,0)+IF(ISNUMBER(CSVデータ2!N117),CSVデータ2!N117,0)+IF(ISNUMBER(CSVデータ3!N117),CSVデータ3!N117,0)+IF(ISNUMBER(CSVデータ4!N117),CSVデータ4!N117,0)","v":2},null,{"$f":"IF(ISNUMBER(CSVデータ1!P117),CSVデータ1!P117,0)+IF(ISNUMBER(CSVデータ2!P117),CSVデータ2!P117,0)+IF(ISNUMBER(CSVデータ3!P117),CSVデータ3!P117,0)+IF(ISNUMBER(CSVデータ4!P117),CSVデータ4!P117,0)","v":9},null,{"$f":"IF(ISNUMBER(CSVデータ1!R117),CSVデータ1!R117,0)+IF(ISNUMBER(CSVデータ2!R117),CSVデータ2!R117,0)+IF(ISNUMBER(CSVデータ3!R117),CSVデータ3!R117,0)+IF(ISNUMBER(CSVデータ4!R117),CSVデータ4!R117,0)","v":35},null,{"$f":"IF(ISNUMBER(CSVデータ1!T117),CSVデータ1!T117,0)+IF(ISNUMBER(CSVデータ2!T117),CSVデータ2!T117,0)+IF(ISNUMBER(CSVデータ3!T117),CSVデータ3!T117,0)+IF(ISNUMBER(CSVデータ4!T117),CSVデータ4!T117,0)","v":2},null,{"$f":"IF(ISNUMBER(CSVデータ1!V117),CSVデータ1!V117,0)+IF(ISNUMBER(CSVデータ2!V117),CSVデータ2!V117,0)+IF(ISNUMBER(CSVデータ3!V117),CSVデータ3!V117,0)+IF(ISNUMBER(CSVデータ4!V117),CSVデータ4!V117,0)","v":21},null,{"$f":"IF(ISNUMBER(CSVデータ1!X117),CSVデータ1!X117,0)+IF(ISNUMBER(CSVデータ2!X117),CSVデータ2!X117,0)+IF(ISNUMBER(CSVデータ3!X117),CSVデータ3!X117,0)+IF(ISNUMBER(CSVデータ4!X117),CSVデータ4!X117,0)","v":16},null,{"$f":"IF(ISNUMBER(CSVデータ1!Z117),CSVデータ1!Z117,0)+IF(ISNUMBER(CSVデータ2!Z117),CSVデータ2!Z117,0)+IF(ISNUMBER(CSVデータ3!Z117),CSVデータ3!Z117,0)+IF(ISNUMBER(CSVデータ4!Z117),CSVデータ4!Z117,0)","v":36},null,{"$f":"IF(ISNUMBER(CSVデータ1!AB117),CSVデータ1!AB117,0)+IF(ISNUMBER(CSVデータ2!AB117),CSVデータ2!AB117,0)+IF(ISNUMBER(CSVデータ3!AB117),CSVデータ3!AB117,0)+IF(ISNUMBER(CSVデータ4!AB117),CSVデータ4!AB117,0)","v":0},null,{"$f":"IF(ISNUMBER(CSVデータ1!AD117),CSVデータ1!AD117,0)+IF(ISNUMBER(CSVデータ2!AD117),CSVデータ2!AD117,0)+IF(ISNUMBER(CSVデータ3!AD117),CSVデータ3!AD117,0)+IF(ISNUMBER(CSVデータ4!AD117),CSVデータ4!AD117,0)","v":18},null,{"$f":"IF(ISNUMBER(CSVデータ1!AF117),CSVデータ1!AF117,0)+IF(ISNUMBER(CSVデータ2!AF117),CSVデータ2!AF117,0)+IF(ISNUMBER(CSVデータ3!AF117),CSVデータ3!AF117,0)+IF(ISNUMBER(CSVデータ4!AF117),CSVデータ4!AF117,0)","v":6},null,{"$f":"IF(ISNUMBER(CSVデータ1!AH117),CSVデータ1!AH117,0)+IF(ISNUMBER(CSVデータ2!AH117),CSVデータ2!AH117,0)+IF(ISNUMBER(CSVデータ3!AH117),CSVデータ3!AH117,0)+IF(ISNUMBER(CSVデータ4!AH117),CSVデータ4!AH117,0)","v":0},null,{"$f":"IF(ISNUMBER(CSVデータ1!AJ117),CSVデータ1!AJ117,0)+IF(ISNUMBER(CSVデータ2!AJ117),CSVデータ2!AJ117,0)+IF(ISNUMBER(CSVデータ3!AJ117),CSVデータ3!AJ117,0)+IF(ISNUMBER(CSVデータ4!AJ117),CSVデータ4!AJ117,0)","v":3},null,{"$f":"IF(ISNUMBER(CSVデータ1!AL117),CSVデータ1!AL117,0)+IF(ISNUMBER(CSVデータ2!AL117),CSVデータ2!AL117,0)+IF(ISNUMBER(CSVデータ3!AL117),CSVデータ3!AL117,0)+IF(ISNUMBER(CSVデータ4!AL117),CSVデータ4!AL117,0)","v":4},null,{"$f":"IF(ISNUMBER(CSVデータ1!AN117),CSVデータ1!AN117,0)+IF(ISNUMBER(CSVデータ2!AN117),CSVデータ2!AN117,0)+IF(ISNUMBER(CSVデータ3!AN117),CSVデータ3!AN117,0)+IF(ISNUMBER(CSVデータ4!AN117),CSVデータ4!AN117,0)","v":1}]
[{"$f":"CSVデータ1!A118","v":"明細部"},{"$f":"CSVデータ1!B118","v":"県"},{"$f":"CSVデータ1!C118","v":49},{"$f":"CSVデータ1!D118","v":"女"},{"$f":"IF(ISNUMBER(CSVデータ1!E118),CSVデータ1!E118,0)+IF(ISNUMBER(CSVデータ2!E118),CSVデータ2!E118,0)+IF(ISNUMBER(CSVデータ3!E118),CSVデータ3!E118,0)+IF(ISNUMBER(CSVデータ4!E118),CSVデータ4!E118,0)","v":94},{"$f":"IF(ISNUMBER(CSVデータ1!F118),CSVデータ1!F118,0)+IF(ISNUMBER(CSVデータ2!F118),CSVデータ2!F118,0)+IF(ISNUMBER(CSVデータ3!F118),CSVデータ3!F118,0)+IF(ISNUMBER(CSVデータ4!F118),CSVデータ4!F118,0)","v":12},null,{"$f":"IF(ISNUMBER(CSVデータ1!H118),CSVデータ1!H118,0)+IF(ISNUMBER(CSVデータ2!H118),CSVデータ2!H118,0)+IF(ISNUMBER(CSVデータ3!H118),CSVデータ3!H118,0)+IF(ISNUMBER(CSVデータ4!H118),CSVデータ4!H118,0)","v":9},null,{"$f":"IF(ISNUMBER(CSVデータ1!J118),CSVデータ1!J118,0)+IF(ISNUMBER(CSVデータ2!J118),CSVデータ2!J118,0)+IF(ISNUMBER(CSVデータ3!J118),CSVデータ3!J118,0)+IF(ISNUMBER(CSVデータ4!J118),CSVデータ4!J118,0)","v":11},null,{"$f":"IF(ISNUMBER(CSVデータ1!L118),CSVデータ1!L118,0)+IF(ISNUMBER(CSVデータ2!L118),CSVデータ2!L118,0)+IF(ISNUMBER(CSVデータ3!L118),CSVデータ3!L118,0)+IF(ISNUMBER(CSVデータ4!L118),CSVデータ4!L118,0)","v":6},null,{"$f":"IF(ISNUMBER(CSVデータ1!N118),CSVデータ1!N118,0)+IF(ISNUMBER(CSVデータ2!N118),CSVデータ2!N118,0)+IF(ISNUMBER(CSVデータ3!N118),CSVデータ3!N118,0)+IF(ISNUMBER(CSVデータ4!N118),CSVデータ4!N118,0)","v":0},null,{"$f":"IF(ISNUMBER(CSVデータ1!P118),CSVデータ1!P118,0)+IF(ISNUMBER(CSVデータ2!P118),CSVデータ2!P118,0)+IF(ISNUMBER(CSVデータ3!P118),CSVデータ3!P118,0)+IF(ISNUMBER(CSVデータ4!P118),CSVデータ4!P118,0)","v":5},null,{"$f":"IF(ISNUMBER(CSVデータ1!R118),CSVデータ1!R118,0)+IF(ISNUMBER(CSVデータ2!R118),CSVデータ2!R118,0)+IF(ISNUMBER(CSVデータ3!R118),CSVデータ3!R118,0)+IF(ISNUMBER(CSVデータ4!R118),CSVデータ4!R118,0)","v":37},null,{"$f":"IF(ISNUMBER(CSVデータ1!T118),CSVデータ1!T118,0)+IF(ISNUMBER(CSVデータ2!T118),CSVデータ2!T118,0)+IF(ISNUMBER(CSVデータ3!T118),CSVデータ3!T118,0)+IF(ISNUMBER(CSVデータ4!T118),CSVデータ4!T118,0)","v":2},null,{"$f":"IF(ISNUMBER(CSVデータ1!V118),CSVデータ1!V118,0)+IF(ISNUMBER(CSVデータ2!V118),CSVデータ2!V118,0)+IF(ISNUMBER(CSVデータ3!V118),CSVデータ3!V118,0)+IF(ISNUMBER(CSVデータ4!V118),CSVデータ4!V118,0)","v":17},null,{"$f":"IF(ISNUMBER(CSVデータ1!X118),CSVデータ1!X118,0)+IF(ISNUMBER(CSVデータ2!X118),CSVデータ2!X118,0)+IF(ISNUMBER(CSVデータ3!X118),CSVデータ3!X118,0)+IF(ISNUMBER(CSVデータ4!X118),CSVデータ4!X118,0)","v":13},null,{"$f":"IF(ISNUMBER(CSVデータ1!Z118),CSVデータ1!Z118,0)+IF(ISNUMBER(CSVデータ2!Z118),CSVデータ2!Z118,0)+IF(ISNUMBER(CSVデータ3!Z118),CSVデータ3!Z118,0)+IF(ISNUMBER(CSVデータ4!Z118),CSVデータ4!Z118,0)","v":34},null,{"$f":"IF(ISNUMBER(CSVデータ1!AB118),CSVデータ1!AB118,0)+IF(ISNUMBER(CSVデータ2!AB118),CSVデータ2!AB118,0)+IF(ISNUMBER(CSVデータ3!AB118),CSVデータ3!AB118,0)+IF(ISNUMBER(CSVデータ4!AB118),CSVデータ4!AB118,0)","v":0},null,{"$f":"IF(ISNUMBER(CSVデータ1!AD118),CSVデータ1!AD118,0)+IF(ISNUMBER(CSVデータ2!AD118),CSVデータ2!AD118,0)+IF(ISNUMBER(CSVデータ3!AD118),CSVデータ3!AD118,0)+IF(ISNUMBER(CSVデータ4!AD118),CSVデータ4!AD118,0)","v":17},null,{"$f":"IF(ISNUMBER(CSVデータ1!AF118),CSVデータ1!AF118,0)+IF(ISNUMBER(CSVデータ2!AF118),CSVデータ2!AF118,0)+IF(ISNUMBER(CSVデータ3!AF118),CSVデータ3!AF118,0)+IF(ISNUMBER(CSVデータ4!AF118),CSVデータ4!AF118,0)","v":7},null,{"$f":"IF(ISNUMBER(CSVデータ1!AH118),CSVデータ1!AH118,0)+IF(ISNUMBER(CSVデータ2!AH118),CSVデータ2!AH118,0)+IF(ISNUMBER(CSVデータ3!AH118),CSVデータ3!AH118,0)+IF(ISNUMBER(CSVデータ4!AH118),CSVデータ4!AH118,0)","v":0},null,{"$f":"IF(ISNUMBER(CSVデータ1!AJ118),CSVデータ1!AJ118,0)+IF(ISNUMBER(CSVデータ2!AJ118),CSVデータ2!AJ118,0)+IF(ISNUMBER(CSVデータ3!AJ118),CSVデータ3!AJ118,0)+IF(ISNUMBER(CSVデータ4!AJ118),CSVデータ4!AJ118,0)","v":1},null,{"$f":"IF(ISNUMBER(CSVデータ1!AL118),CSVデータ1!AL118,0)+IF(ISNUMBER(CSVデータ2!AL118),CSVデータ2!AL118,0)+IF(ISNUMBER(CSVデータ3!AL118),CSVデータ3!AL118,0)+IF(ISNUMBER(CSVデータ4!AL118),CSVデータ4!AL118,0)","v":4},null,{"$f":"IF(ISNUMBER(CSVデータ1!AN118),CSVデータ1!AN118,0)+IF(ISNUMBER(CSVデータ2!AN118),CSVデータ2!AN118,0)+IF(ISNUMBER(CSVデータ3!AN118),CSVデータ3!AN118,0)+IF(ISNUMBER(CSVデータ4!AN118),CSVデータ4!AN118,0)","v":0}]
[{"$f":"CSVデータ1!A119","v":"明細部"},{"$f":"CSVデータ1!B119","v":"県"},{"$f":"CSVデータ1!C119","v":50},{"$f":"CSVデータ1!D119","v":"女"},{"$f":"IF(ISNUMBER(CSVデータ1!E119),CSVデータ1!E119,0)+IF(ISNUMBER(CSVデータ2!E119),CSVデータ2!E119,0)+IF(ISNUMBER(CSVデータ3!E119),CSVデータ3!E119,0)+IF(ISNUMBER(CSVデータ4!E119),CSVデータ4!E119,0)","v":106},{"$f":"IF(ISNUMBER(CSVデータ1!F119),CSVデータ1!F119,0)+IF(ISNUMBER(CSVデータ2!F119),CSVデータ2!F119,0)+IF(ISNUMBER(CSVデータ3!F119),CSVデータ3!F119,0)+IF(ISNUMBER(CSVデータ4!F119),CSVデータ4!F119,0)","v":13},null,{"$f":"IF(ISNUMBER(CSVデータ1!H119),CSVデータ1!H119,0)+IF(ISNUMBER(CSVデータ2!H119),CSVデータ2!H119,0)+IF(ISNUMBER(CSVデータ3!H119),CSVデータ3!H119,0)+IF(ISNUMBER(CSVデータ4!H119),CSVデータ4!H119,0)","v":9},null,{"$f":"IF(ISNUMBER(CSVデータ1!J119),CSVデータ1!J119,0)+IF(ISNUMBER(CSVデータ2!J119),CSVデータ2!J119,0)+IF(ISNUMBER(CSVデータ3!J119),CSVデータ3!J119,0)+IF(ISNUMBER(CSVデータ4!J119),CSVデータ4!J119,0)","v":12},null,{"$f":"IF(ISNUMBER(CSVデータ1!L119),CSVデータ1!L119,0)+IF(ISNUMBER(CSVデータ2!L119),CSVデータ2!L119,0)+IF(ISNUMBER(CSVデータ3!L119),CSVデータ3!L119,0)+IF(ISNUMBER(CSVデータ4!L119),CSVデータ4!L119,0)","v":10},null,{"$f":"IF(ISNUMBER(CSVデータ1!N119),CSVデータ1!N119,0)+IF(ISNUMBER(CSVデータ2!N119),CSVデータ2!N119,0)+IF(ISNUMBER(CSVデータ3!N119),CSVデータ3!N119,0)+IF(ISNUMBER(CSVデータ4!N119),CSVデータ4!N119,0)","v":1},null,{"$f":"IF(ISNUMBER(CSVデータ1!P119),CSVデータ1!P119,0)+IF(ISNUMBER(CSVデータ2!P119),CSVデータ2!P119,0)+IF(ISNUMBER(CSVデータ3!P119),CSVデータ3!P119,0)+IF(ISNUMBER(CSVデータ4!P119),CSVデータ4!P119,0)","v":6},null,{"$f":"IF(ISNUMBER(CSVデータ1!R119),CSVデータ1!R119,0)+IF(ISNUMBER(CSVデータ2!R119),CSVデータ2!R119,0)+IF(ISNUMBER(CSVデータ3!R119),CSVデータ3!R119,0)+IF(ISNUMBER(CSVデータ4!R119),CSVデータ4!R119,0)","v":38},null,{"$f":"IF(ISNUMBER(CSVデータ1!T119),CSVデータ1!T119,0)+IF(ISNUMBER(CSVデータ2!T119),CSVデータ2!T119,0)+IF(ISNUMBER(CSVデータ3!T119),CSVデータ3!T119,0)+IF(ISNUMBER(CSVデータ4!T119),CSVデータ4!T119,0)","v":1},null,{"$f":"IF(ISNUMBER(CSVデータ1!V119),CSVデータ1!V119,0)+IF(ISNUMBER(CSVデータ2!V119),CSVデータ2!V119,0)+IF(ISNUMBER(CSVデータ3!V119),CSVデータ3!V119,0)+IF(ISNUMBER(CSVデータ4!V119),CSVデータ4!V119,0)","v":22},null,{"$f":"IF(ISNUMBER(CSVデータ1!X119),CSVデータ1!X119,0)+IF(ISNUMBER(CSVデータ2!X119),CSVデータ2!X119,0)+IF(ISNUMBER(CSVデータ3!X119),CSVデータ3!X119,0)+IF(ISNUMBER(CSVデータ4!X119),CSVデータ4!X119,0)","v":18},null,{"$f":"IF(ISNUMBER(CSVデータ1!Z119),CSVデータ1!Z119,0)+IF(ISNUMBER(CSVデータ2!Z119),CSVデータ2!Z119,0)+IF(ISNUMBER(CSVデータ3!Z119),CSVデータ3!Z119,0)+IF(ISNUMBER(CSVデータ4!Z119),CSVデータ4!Z119,0)","v":53},null,{"$f":"IF(ISNUMBER(CSVデータ1!AB119),CSVデータ1!AB119,0)+IF(ISNUMBER(CSVデータ2!AB119),CSVデータ2!AB119,0)+IF(ISNUMBER(CSVデータ3!AB119),CSVデータ3!AB119,0)+IF(ISNUMBER(CSVデータ4!AB119),CSVデータ4!AB119,0)","v":0},null,{"$f":"IF(ISNUMBER(CSVデータ1!AD119),CSVデータ1!AD119,0)+IF(ISNUMBER(CSVデータ2!AD119),CSVデータ2!AD119,0)+IF(ISNUMBER(CSVデータ3!AD119),CSVデータ3!AD119,0)+IF(ISNUMBER(CSVデータ4!AD119),CSVデータ4!AD119,0)","v":17},null,{"$f":"IF(ISNUMBER(CSVデータ1!AF119),CSVデータ1!AF119,0)+IF(ISNUMBER(CSVデータ2!AF119),CSVデータ2!AF119,0)+IF(ISNUMBER(CSVデータ3!AF119),CSVデータ3!AF119,0)+IF(ISNUMBER(CSVデータ4!AF119),CSVデータ4!AF119,0)","v":14},null,{"$f":"IF(ISNUMBER(CSVデータ1!AH119),CSVデータ1!AH119,0)+IF(ISNUMBER(CSVデータ2!AH119),CSVデータ2!AH119,0)+IF(ISNUMBER(CSVデータ3!AH119),CSVデータ3!AH119,0)+IF(ISNUMBER(CSVデータ4!AH119),CSVデータ4!AH119,0)","v":0},null,{"$f":"IF(ISNUMBER(CSVデータ1!AJ119),CSVデータ1!AJ119,0)+IF(ISNUMBER(CSVデータ2!AJ119),CSVデータ2!AJ119,0)+IF(ISNUMBER(CSVデータ3!AJ119),CSVデータ3!AJ119,0)+IF(ISNUMBER(CSVデータ4!AJ119),CSVデータ4!AJ119,0)","v":1},null,{"$f":"IF(ISNUMBER(CSVデータ1!AL119),CSVデータ1!AL119,0)+IF(ISNUMBER(CSVデータ2!AL119),CSVデータ2!AL119,0)+IF(ISNUMBER(CSVデータ3!AL119),CSVデータ3!AL119,0)+IF(ISNUMBER(CSVデータ4!AL119),CSVデータ4!AL119,0)","v":6},null,{"$f":"IF(ISNUMBER(CSVデータ1!AN119),CSVデータ1!AN119,0)+IF(ISNUMBER(CSVデータ2!AN119),CSVデータ2!AN119,0)+IF(ISNUMBER(CSVデータ3!AN119),CSVデータ3!AN119,0)+IF(ISNUMBER(CSVデータ4!AN119),CSVデータ4!AN119,0)","v":0}]
[{"$f":"CSVデータ1!A120","v":"明細部"},{"$f":"CSVデータ1!B120","v":"県"},{"$f":"CSVデータ1!C120","v":51},{"$f":"CSVデータ1!D120","v":"女"},{"$f":"IF(ISNUMBER(CSVデータ1!E120),CSVデータ1!E120,0)+IF(ISNUMBER(CSVデータ2!E120),CSVデータ2!E120,0)+IF(ISNUMBER(CSVデータ3!E120),CSVデータ3!E120,0)+IF(ISNUMBER(CSVデータ4!E120),CSVデータ4!E120,0)","v":121},{"$f":"IF(ISNUMBER(CSVデータ1!F120),CSVデータ1!F120,0)+IF(ISNUMBER(CSVデータ2!F120),CSVデータ2!F120,0)+IF(ISNUMBER(CSVデータ3!F120),CSVデータ3!F120,0)+IF(ISNUMBER(CSVデータ4!F120),CSVデータ4!F120,0)","v":18},null,{"$f":"IF(ISNUMBER(CSVデータ1!H120),CSVデータ1!H120,0)+IF(ISNUMBER(CSVデータ2!H120),CSVデータ2!H120,0)+IF(ISNUMBER(CSVデータ3!H120),CSVデータ3!H120,0)+IF(ISNUMBER(CSVデータ4!H120),CSVデータ4!H120,0)","v":12},null,{"$f":"IF(ISNUMBER(CSVデータ1!J120),CSVデータ1!J120,0)+IF(ISNUMBER(CSVデータ2!J120),CSVデータ2!J120,0)+IF(ISNUMBER(CSVデータ3!J120),CSVデータ3!J120,0)+IF(ISNUMBER(CSVデータ4!J120),CSVデータ4!J120,0)","v":11},null,{"$f":"IF(ISNUMBER(CSVデータ1!L120),CSVデータ1!L120,0)+IF(ISNUMBER(CSVデータ2!L120),CSVデータ2!L120,0)+IF(ISNUMBER(CSVデータ3!L120),CSVデータ3!L120,0)+IF(ISNUMBER(CSVデータ4!L120),CSVデータ4!L120,0)","v":9},null,{"$f":"IF(ISNUMBER(CSVデータ1!N120),CSVデータ1!N120,0)+IF(ISNUMBER(CSVデータ2!N120),CSVデータ2!N120,0)+IF(ISNUMBER(CSVデータ3!N120),CSVデータ3!N120,0)+IF(ISNUMBER(CSVデータ4!N120),CSVデータ4!N120,0)","v":2},null,{"$f":"IF(ISNUMBER(CSVデータ1!P120),CSVデータ1!P120,0)+IF(ISNUMBER(CSVデータ2!P120),CSVデータ2!P120,0)+IF(ISNUMBER(CSVデータ3!P120),CSVデータ3!P120,0)+IF(ISNUMBER(CSVデータ4!P120),CSVデータ4!P120,0)","v":8},null,{"$f":"IF(ISNUMBER(CSVデータ1!R120),CSVデータ1!R120,0)+IF(ISNUMBER(CSVデータ2!R120),CSVデータ2!R120,0)+IF(ISNUMBER(CSVデータ3!R120),CSVデータ3!R120,0)+IF(ISNUMBER(CSVデータ4!R120),CSVデータ4!R120,0)","v":52},null,{"$f":"IF(ISNUMBER(CSVデータ1!T120),CSVデータ1!T120,0)+IF(ISNUMBER(CSVデータ2!T120),CSVデータ2!T120,0)+IF(ISNUMBER(CSVデータ3!T120),CSVデータ3!T120,0)+IF(ISNUMBER(CSVデータ4!T120),CSVデータ4!T120,0)","v":1},null,{"$f":"IF(ISNUMBER(CSVデータ1!V120),CSVデータ1!V120,0)+IF(ISNUMBER(CSVデータ2!V120),CSVデータ2!V120,0)+IF(ISNUMBER(CSVデータ3!V120),CSVデータ3!V120,0)+IF(ISNUMBER(CSVデータ4!V120),CSVデータ4!V120,0)","v":22},null,{"$f":"IF(ISNUMBER(CSVデータ1!X120),CSVデータ1!X120,0)+IF(ISNUMBER(CSVデータ2!X120),CSVデータ2!X120,0)+IF(ISNUMBER(CSVデータ3!X120),CSVデータ3!X120,0)+IF(ISNUMBER(CSVデータ4!X120),CSVデータ4!X120,0)","v":18},null,{"$f":"IF(ISNUMBER(CSVデータ1!Z120),CSVデータ1!Z120,0)+IF(ISNUMBER(CSVデータ2!Z120),CSVデータ2!Z120,0)+IF(ISNUMBER(CSVデータ3!Z120),CSVデータ3!Z120,0)+IF(ISNUMBER(CSVデータ4!Z120),CSVデータ4!Z120,0)","v":66},null,{"$f":"IF(ISNUMBER(CSVデータ1!AB120),CSVデータ1!AB120,0)+IF(ISNUMBER(CSVデータ2!AB120),CSVデータ2!AB120,0)+IF(ISNUMBER(CSVデータ3!AB120),CSVデータ3!AB120,0)+IF(ISNUMBER(CSVデータ4!AB120),CSVデータ4!AB120,0)","v":0},null,{"$f":"IF(ISNUMBER(CSVデータ1!AD120),CSVデータ1!AD120,0)+IF(ISNUMBER(CSVデータ2!AD120),CSVデータ2!AD120,0)+IF(ISNUMBER(CSVデータ3!AD120),CSVデータ3!AD120,0)+IF(ISNUMBER(CSVデータ4!AD120),CSVデータ4!AD120,0)","v":23},null,{"$f":"IF(ISNUMBER(CSVデータ1!AF120),CSVデータ1!AF120,0)+IF(ISNUMBER(CSVデータ2!AF120),CSVデータ2!AF120,0)+IF(ISNUMBER(CSVデータ3!AF120),CSVデータ3!AF120,0)+IF(ISNUMBER(CSVデータ4!AF120),CSVデータ4!AF120,0)","v":10},null,{"$f":"IF(ISNUMBER(CSVデータ1!AH120),CSVデータ1!AH120,0)+IF(ISNUMBER(CSVデータ2!AH120),CSVデータ2!AH120,0)+IF(ISNUMBER(CSVデータ3!AH120),CSVデータ3!AH120,0)+IF(ISNUMBER(CSVデータ4!AH120),CSVデータ4!AH120,0)","v":2},null,{"$f":"IF(ISNUMBER(CSVデータ1!AJ120),CSVデータ1!AJ120,0)+IF(ISNUMBER(CSVデータ2!AJ120),CSVデータ2!AJ120,0)+IF(ISNUMBER(CSVデータ3!AJ120),CSVデータ3!AJ120,0)+IF(ISNUMBER(CSVデータ4!AJ120),CSVデータ4!AJ120,0)","v":7},null,{"$f":"IF(ISNUMBER(CSVデータ1!AL120),CSVデータ1!AL120,0)+IF(ISNUMBER(CSVデータ2!AL120),CSVデータ2!AL120,0)+IF(ISNUMBER(CSVデータ3!AL120),CSVデータ3!AL120,0)+IF(ISNUMBER(CSVデータ4!AL120),CSVデータ4!AL120,0)","v":8},null,{"$f":"IF(ISNUMBER(CSVデータ1!AN120),CSVデータ1!AN120,0)+IF(ISNUMBER(CSVデータ2!AN120),CSVデータ2!AN120,0)+IF(ISNUMBER(CSVデータ3!AN120),CSVデータ3!AN120,0)+IF(ISNUMBER(CSVデータ4!AN120),CSVデータ4!AN120,0)","v":2}]
[{"$f":"CSVデータ1!A121","v":"明細部"},{"$f":"CSVデータ1!B121","v":"県"},{"$f":"CSVデータ1!C121","v":52},{"$f":"CSVデータ1!D121","v":"女"},{"$f":"IF(ISNUMBER(CSVデータ1!E121),CSVデータ1!E121,0)+IF(ISNUMBER(CSVデータ2!E121),CSVデータ2!E121,0)+IF(ISNUMBER(CSVデータ3!E121),CSVデータ3!E121,0)+IF(ISNUMBER(CSVデータ4!E121),CSVデータ4!E121,0)","v":125},{"$f":"IF(ISNUMBER(CSVデータ1!F121),CSVデータ1!F121,0)+IF(ISNUMBER(CSVデータ2!F121),CSVデータ2!F121,0)+IF(ISNUMBER(CSVデータ3!F121),CSVデータ3!F121,0)+IF(ISNUMBER(CSVデータ4!F121),CSVデータ4!F121,0)","v":25},null,{"$f":"IF(ISNUMBER(CSVデータ1!H121),CSVデータ1!H121,0)+IF(ISNUMBER(CSVデータ2!H121),CSVデータ2!H121,0)+IF(ISNUMBER(CSVデータ3!H121),CSVデータ3!H121,0)+IF(ISNUMBER(CSVデータ4!H121),CSVデータ4!H121,0)","v":22},null,{"$f":"IF(ISNUMBER(CSVデータ1!J121),CSVデータ1!J121,0)+IF(ISNUMBER(CSVデータ2!J121),CSVデータ2!J121,0)+IF(ISNUMBER(CSVデータ3!J121),CSVデータ3!J121,0)+IF(ISNUMBER(CSVデータ4!J121),CSVデータ4!J121,0)","v":10},null,{"$f":"IF(ISNUMBER(CSVデータ1!L121),CSVデータ1!L121,0)+IF(ISNUMBER(CSVデータ2!L121),CSVデータ2!L121,0)+IF(ISNUMBER(CSVデータ3!L121),CSVデータ3!L121,0)+IF(ISNUMBER(CSVデータ4!L121),CSVデータ4!L121,0)","v":10},null,{"$f":"IF(ISNUMBER(CSVデータ1!N121),CSVデータ1!N121,0)+IF(ISNUMBER(CSVデータ2!N121),CSVデータ2!N121,0)+IF(ISNUMBER(CSVデータ3!N121),CSVデータ3!N121,0)+IF(ISNUMBER(CSVデータ4!N121),CSVデータ4!N121,0)","v":3},null,{"$f":"IF(ISNUMBER(CSVデータ1!P121),CSVデータ1!P121,0)+IF(ISNUMBER(CSVデータ2!P121),CSVデータ2!P121,0)+IF(ISNUMBER(CSVデータ3!P121),CSVデータ3!P121,0)+IF(ISNUMBER(CSVデータ4!P121),CSVデータ4!P121,0)","v":17},null,{"$f":"IF(ISNUMBER(CSVデータ1!R121),CSVデータ1!R121,0)+IF(ISNUMBER(CSVデータ2!R121),CSVデータ2!R121,0)+IF(ISNUMBER(CSVデータ3!R121),CSVデータ3!R121,0)+IF(ISNUMBER(CSVデータ4!R121),CSVデータ4!R121,0)","v":50},null,{"$f":"IF(ISNUMBER(CSVデータ1!T121),CSVデータ1!T121,0)+IF(ISNUMBER(CSVデータ2!T121),CSVデータ2!T121,0)+IF(ISNUMBER(CSVデータ3!T121),CSVデータ3!T121,0)+IF(ISNUMBER(CSVデータ4!T121),CSVデータ4!T121,0)","v":2},null,{"$f":"IF(ISNUMBER(CSVデータ1!V121),CSVデータ1!V121,0)+IF(ISNUMBER(CSVデータ2!V121),CSVデータ2!V121,0)+IF(ISNUMBER(CSVデータ3!V121),CSVデータ3!V121,0)+IF(ISNUMBER(CSVデータ4!V121),CSVデータ4!V121,0)","v":34},null,{"$f":"IF(ISNUMBER(CSVデータ1!X121),CSVデータ1!X121,0)+IF(ISNUMBER(CSVデータ2!X121),CSVデータ2!X121,0)+IF(ISNUMBER(CSVデータ3!X121),CSVデータ3!X121,0)+IF(ISNUMBER(CSVデータ4!X121),CSVデータ4!X121,0)","v":20},null,{"$f":"IF(ISNUMBER(CSVデータ1!Z121),CSVデータ1!Z121,0)+IF(ISNUMBER(CSVデータ2!Z121),CSVデータ2!Z121,0)+IF(ISNUMBER(CSVデータ3!Z121),CSVデータ3!Z121,0)+IF(ISNUMBER(CSVデータ4!Z121),CSVデータ4!Z121,0)","v":67},null,{"$f":"IF(ISNUMBER(CSVデータ1!AB121),CSVデータ1!AB121,0)+IF(ISNUMBER(CSVデータ2!AB121),CSVデータ2!AB121,0)+IF(ISNUMBER(CSVデータ3!AB121),CSVデータ3!AB121,0)+IF(ISNUMBER(CSVデータ4!AB121),CSVデータ4!AB121,0)","v":0},null,{"$f":"IF(ISNUMBER(CSVデータ1!AD121),CSVデータ1!AD121,0)+IF(ISNUMBER(CSVデータ2!AD121),CSVデータ2!AD121,0)+IF(ISNUMBER(CSVデータ3!AD121),CSVデータ3!AD121,0)+IF(ISNUMBER(CSVデータ4!AD121),CSVデータ4!AD121,0)","v":23},null,{"$f":"IF(ISNUMBER(CSVデータ1!AF121),CSVデータ1!AF121,0)+IF(ISNUMBER(CSVデータ2!AF121),CSVデータ2!AF121,0)+IF(ISNUMBER(CSVデータ3!AF121),CSVデータ3!AF121,0)+IF(ISNUMBER(CSVデータ4!AF121),CSVデータ4!AF121,0)","v":8},null,{"$f":"IF(ISNUMBER(CSVデータ1!AH121),CSVデータ1!AH121,0)+IF(ISNUMBER(CSVデータ2!AH121),CSVデータ2!AH121,0)+IF(ISNUMBER(CSVデータ3!AH121),CSVデータ3!AH121,0)+IF(ISNUMBER(CSVデータ4!AH121),CSVデータ4!AH121,0)","v":2},null,{"$f":"IF(ISNUMBER(CSVデータ1!AJ121),CSVデータ1!AJ121,0)+IF(ISNUMBER(CSVデータ2!AJ121),CSVデータ2!AJ121,0)+IF(ISNUMBER(CSVデータ3!AJ121),CSVデータ3!AJ121,0)+IF(ISNUMBER(CSVデータ4!AJ121),CSVデータ4!AJ121,0)","v":4},null,{"$f":"IF(ISNUMBER(CSVデータ1!AL121),CSVデータ1!AL121,0)+IF(ISNUMBER(CSVデータ2!AL121),CSVデータ2!AL121,0)+IF(ISNUMBER(CSVデータ3!AL121),CSVデータ3!AL121,0)+IF(ISNUMBER(CSVデータ4!AL121),CSVデータ4!AL121,0)","v":10},null,{"$f":"IF(ISNUMBER(CSVデータ1!AN121),CSVデータ1!AN121,0)+IF(ISNUMBER(CSVデータ2!AN121),CSVデータ2!AN121,0)+IF(ISNUMBER(CSVデータ3!AN121),CSVデータ3!AN121,0)+IF(ISNUMBER(CSVデータ4!AN121),CSVデータ4!AN121,0)","v":2}]
[{"$f":"CSVデータ1!A122","v":"明細部"},{"$f":"CSVデータ1!B122","v":"県"},{"$f":"CSVデータ1!C122","v":53},{"$f":"CSVデータ1!D122","v":"女"},{"$f":"IF(ISNUMBER(CSVデータ1!E122),CSVデータ1!E122,0)+IF(ISNUMBER(CSVデータ2!E122),CSVデータ2!E122,0)+IF(ISNUMBER(CSVデータ3!E122),CSVデータ3!E122,0)+IF(ISNUMBER(CSVデータ4!E122),CSVデータ4!E122,0)","v":116},{"$f":"IF(ISNUMBER(CSVデータ1!F122),CSVデータ1!F122,0)+IF(ISNUMBER(CSVデータ2!F122),CSVデータ2!F122,0)+IF(ISNUMBER(CSVデータ3!F122),CSVデータ3!F122,0)+IF(ISNUMBER(CSVデータ4!F122),CSVデータ4!F122,0)","v":28},null,{"$f":"IF(ISNUMBER(CSVデータ1!H122),CSVデータ1!H122,0)+IF(ISNUMBER(CSVデータ2!H122),CSVデータ2!H122,0)+IF(ISNUMBER(CSVデータ3!H122),CSVデータ3!H122,0)+IF(ISNUMBER(CSVデータ4!H122),CSVデータ4!H122,0)","v":20},null,{"$f":"IF(ISNUMBER(CSVデータ1!J122),CSVデータ1!J122,0)+IF(ISNUMBER(CSVデータ2!J122),CSVデータ2!J122,0)+IF(ISNUMBER(CSVデータ3!J122),CSVデータ3!J122,0)+IF(ISNUMBER(CSVデータ4!J122),CSVデータ4!J122,0)","v":21},null,{"$f":"IF(ISNUMBER(CSVデータ1!L122),CSVデータ1!L122,0)+IF(ISNUMBER(CSVデータ2!L122),CSVデータ2!L122,0)+IF(ISNUMBER(CSVデータ3!L122),CSVデータ3!L122,0)+IF(ISNUMBER(CSVデータ4!L122),CSVデータ4!L122,0)","v":9},null,{"$f":"IF(ISNUMBER(CSVデータ1!N122),CSVデータ1!N122,0)+IF(ISNUMBER(CSVデータ2!N122),CSVデータ2!N122,0)+IF(ISNUMBER(CSVデータ3!N122),CSVデータ3!N122,0)+IF(ISNUMBER(CSVデータ4!N122),CSVデータ4!N122,0)","v":0},null,{"$f":"IF(ISNUMBER(CSVデータ1!P122),CSVデータ1!P122,0)+IF(ISNUMBER(CSVデータ2!P122),CSVデータ2!P122,0)+IF(ISNUMBER(CSVデータ3!P122),CSVデータ3!P122,0)+IF(ISNUMBER(CSVデータ4!P122),CSVデータ4!P122,0)","v":14},null,{"$f":"IF(ISNUMBER(CSVデータ1!R122),CSVデータ1!R122,0)+IF(ISNUMBER(CSVデータ2!R122),CSVデータ2!R122,0)+IF(ISNUMBER(CSVデータ3!R122),CSVデータ3!R122,0)+IF(ISNUMBER(CSVデータ4!R122),CSVデータ4!R122,0)","v":55},null,{"$f":"IF(ISNUMBER(CSVデータ1!T122),CSVデータ1!T122,0)+IF(ISNUMBER(CSVデータ2!T122),CSVデータ2!T122,0)+IF(ISNUMBER(CSVデータ3!T122),CSVデータ3!T122,0)+IF(ISNUMBER(CSVデータ4!T122),CSVデータ4!T122,0)","v":0},null,{"$f":"IF(ISNUMBER(CSVデータ1!V122),CSVデータ1!V122,0)+IF(ISNUMBER(CSVデータ2!V122),CSVデータ2!V122,0)+IF(ISNUMBER(CSVデータ3!V122),CSVデータ3!V122,0)+IF(ISNUMBER(CSVデータ4!V122),CSVデータ4!V122,0)","v":35},null,{"$f":"IF(ISNUMBER(CSVデータ1!X122),CSVデータ1!X122,0)+IF(ISNUMBER(CSVデータ2!X122),CSVデータ2!X122,0)+IF(ISNUMBER(CSVデータ3!X122),CSVデータ3!X122,0)+IF(ISNUMBER(CSVデータ4!X122),CSVデータ4!X122,0)","v":24},null,{"$f":"IF(ISNUMBER(CSVデータ1!Z122),CSVデータ1!Z122,0)+IF(ISNUMBER(CSVデータ2!Z122),CSVデータ2!Z122,0)+IF(ISNUMBER(CSVデータ3!Z122),CSVデータ3!Z122,0)+IF(ISNUMBER(CSVデータ4!Z122),CSVデータ4!Z122,0)","v":65},null,{"$f":"IF(ISNUMBER(CSVデータ1!AB122),CSVデータ1!AB122,0)+IF(ISNUMBER(CSVデータ2!AB122),CSVデータ2!AB122,0)+IF(ISNUMBER(CSVデータ3!AB122),CSVデータ3!AB122,0)+IF(ISNUMBER(CSVデータ4!AB122),CSVデータ4!AB122,0)","v":0},null,{"$f":"IF(ISNUMBER(CSVデータ1!AD122),CSVデータ1!AD122,0)+IF(ISNUMBER(CSVデータ2!AD122),CSVデータ2!AD122,0)+IF(ISNUMBER(CSVデータ3!AD122),CSVデータ3!AD122,0)+IF(ISNUMBER(CSVデータ4!AD122),CSVデータ4!AD122,0)","v":16},null,{"$f":"IF(ISNUMBER(CSVデータ1!AF122),CSVデータ1!AF122,0)+IF(ISNUMBER(CSVデータ2!AF122),CSVデータ2!AF122,0)+IF(ISNUMBER(CSVデータ3!AF122),CSVデータ3!AF122,0)+IF(ISNUMBER(CSVデータ4!AF122),CSVデータ4!AF122,0)","v":4},null,{"$f":"IF(ISNUMBER(CSVデータ1!AH122),CSVデータ1!AH122,0)+IF(ISNUMBER(CSVデータ2!AH122),CSVデータ2!AH122,0)+IF(ISNUMBER(CSVデータ3!AH122),CSVデータ3!AH122,0)+IF(ISNUMBER(CSVデータ4!AH122),CSVデータ4!AH122,0)","v":0},null,{"$f":"IF(ISNUMBER(CSVデータ1!AJ122),CSVデータ1!AJ122,0)+IF(ISNUMBER(CSVデータ2!AJ122),CSVデータ2!AJ122,0)+IF(ISNUMBER(CSVデータ3!AJ122),CSVデータ3!AJ122,0)+IF(ISNUMBER(CSVデータ4!AJ122),CSVデータ4!AJ122,0)","v":2},null,{"$f":"IF(ISNUMBER(CSVデータ1!AL122),CSVデータ1!AL122,0)+IF(ISNUMBER(CSVデータ2!AL122),CSVデータ2!AL122,0)+IF(ISNUMBER(CSVデータ3!AL122),CSVデータ3!AL122,0)+IF(ISNUMBER(CSVデータ4!AL122),CSVデータ4!AL122,0)","v":9},null,{"$f":"IF(ISNUMBER(CSVデータ1!AN122),CSVデータ1!AN122,0)+IF(ISNUMBER(CSVデータ2!AN122),CSVデータ2!AN122,0)+IF(ISNUMBER(CSVデータ3!AN122),CSVデータ3!AN122,0)+IF(ISNUMBER(CSVデータ4!AN122),CSVデータ4!AN122,0)","v":0}]
[{"$f":"CSVデータ1!A123","v":"明細部"},{"$f":"CSVデータ1!B123","v":"県"},{"$f":"CSVデータ1!C123","v":54},{"$f":"CSVデータ1!D123","v":"女"},{"$f":"IF(ISNUMBER(CSVデータ1!E123),CSVデータ1!E123,0)+IF(ISNUMBER(CSVデータ2!E123),CSVデータ2!E123,0)+IF(ISNUMBER(CSVデータ3!E123),CSVデータ3!E123,0)+IF(ISNUMBER(CSVデータ4!E123),CSVデータ4!E123,0)","v":149},{"$f":"IF(ISNUMBER(CSVデータ1!F123),CSVデータ1!F123,0)+IF(ISNUMBER(CSVデータ2!F123),CSVデータ2!F123,0)+IF(ISNUMBER(CSVデータ3!F123),CSVデータ3!F123,0)+IF(ISNUMBER(CSVデータ4!F123),CSVデータ4!F123,0)","v":28},null,{"$f":"IF(ISNUMBER(CSVデータ1!H123),CSVデータ1!H123,0)+IF(ISNUMBER(CSVデータ2!H123),CSVデータ2!H123,0)+IF(ISNUMBER(CSVデータ3!H123),CSVデータ3!H123,0)+IF(ISNUMBER(CSVデータ4!H123),CSVデータ4!H123,0)","v":23},null,{"$f":"IF(ISNUMBER(CSVデータ1!J123),CSVデータ1!J123,0)+IF(ISNUMBER(CSVデータ2!J123),CSVデータ2!J123,0)+IF(ISNUMBER(CSVデータ3!J123),CSVデータ3!J123,0)+IF(ISNUMBER(CSVデータ4!J123),CSVデータ4!J123,0)","v":20},null,{"$f":"IF(ISNUMBER(CSVデータ1!L123),CSVデータ1!L123,0)+IF(ISNUMBER(CSVデータ2!L123),CSVデータ2!L123,0)+IF(ISNUMBER(CSVデータ3!L123),CSVデータ3!L123,0)+IF(ISNUMBER(CSVデータ4!L123),CSVデータ4!L123,0)","v":18},null,{"$f":"IF(ISNUMBER(CSVデータ1!N123),CSVデータ1!N123,0)+IF(ISNUMBER(CSVデータ2!N123),CSVデータ2!N123,0)+IF(ISNUMBER(CSVデータ3!N123),CSVデータ3!N123,0)+IF(ISNUMBER(CSVデータ4!N123),CSVデータ4!N123,0)","v":4},null,{"$f":"IF(ISNUMBER(CSVデータ1!P123),CSVデータ1!P123,0)+IF(ISNUMBER(CSVデータ2!P123),CSVデータ2!P123,0)+IF(ISNUMBER(CSVデータ3!P123),CSVデータ3!P123,0)+IF(ISNUMBER(CSVデータ4!P123),CSVデータ4!P123,0)","v":21},null,{"$f":"IF(ISNUMBER(CSVデータ1!R123),CSVデータ1!R123,0)+IF(ISNUMBER(CSVデータ2!R123),CSVデータ2!R123,0)+IF(ISNUMBER(CSVデータ3!R123),CSVデータ3!R123,0)+IF(ISNUMBER(CSVデータ4!R123),CSVデータ4!R123,0)","v":79},null,{"$f":"IF(ISNUMBER(CSVデータ1!T123),CSVデータ1!T123,0)+IF(ISNUMBER(CSVデータ2!T123),CSVデータ2!T123,0)+IF(ISNUMBER(CSVデータ3!T123),CSVデータ3!T123,0)+IF(ISNUMBER(CSVデータ4!T123),CSVデータ4!T123,0)","v":3},null,{"$f":"IF(ISNUMBER(CSVデータ1!V123),CSVデータ1!V123,0)+IF(ISNUMBER(CSVデータ2!V123),CSVデータ2!V123,0)+IF(ISNUMBER(CSVデータ3!V123),CSVデータ3!V123,0)+IF(ISNUMBER(CSVデータ4!V123),CSVデータ4!V123,0)","v":35},null,{"$f":"IF(ISNUMBER(CSVデータ1!X123),CSVデータ1!X123,0)+IF(ISNUMBER(CSVデータ2!X123),CSVデータ2!X123,0)+IF(ISNUMBER(CSVデータ3!X123),CSVデータ3!X123,0)+IF(ISNUMBER(CSVデータ4!X123),CSVデータ4!X123,0)","v":25},null,{"$f":"IF(ISNUMBER(CSVデータ1!Z123),CSVデータ1!Z123,0)+IF(ISNUMBER(CSVデータ2!Z123),CSVデータ2!Z123,0)+IF(ISNUMBER(CSVデータ3!Z123),CSVデータ3!Z123,0)+IF(ISNUMBER(CSVデータ4!Z123),CSVデータ4!Z123,0)","v":86},null,{"$f":"IF(ISNUMBER(CSVデータ1!AB123),CSVデータ1!AB123,0)+IF(ISNUMBER(CSVデータ2!AB123),CSVデータ2!AB123,0)+IF(ISNUMBER(CSVデータ3!AB123),CSVデータ3!AB123,0)+IF(ISNUMBER(CSVデータ4!AB123),CSVデータ4!AB123,0)","v":0},null,{"$f":"IF(ISNUMBER(CSVデータ1!AD123),CSVデータ1!AD123,0)+IF(ISNUMBER(CSVデータ2!AD123),CSVデータ2!AD123,0)+IF(ISNUMBER(CSVデータ3!AD123),CSVデータ3!AD123,0)+IF(ISNUMBER(CSVデータ4!AD123),CSVデータ4!AD123,0)","v":33},null,{"$f":"IF(ISNUMBER(CSVデータ1!AF123),CSVデータ1!AF123,0)+IF(ISNUMBER(CSVデータ2!AF123),CSVデータ2!AF123,0)+IF(ISNUMBER(CSVデータ3!AF123),CSVデータ3!AF123,0)+IF(ISNUMBER(CSVデータ4!AF123),CSVデータ4!AF123,0)","v":15},null,{"$f":"IF(ISNUMBER(CSVデータ1!AH123),CSVデータ1!AH123,0)+IF(ISNUMBER(CSVデータ2!AH123),CSVデータ2!AH123,0)+IF(ISNUMBER(CSVデータ3!AH123),CSVデータ3!AH123,0)+IF(ISNUMBER(CSVデータ4!AH123),CSVデータ4!AH123,0)","v":0},null,{"$f":"IF(ISNUMBER(CSVデータ1!AJ123),CSVデータ1!AJ123,0)+IF(ISNUMBER(CSVデータ2!AJ123),CSVデータ2!AJ123,0)+IF(ISNUMBER(CSVデータ3!AJ123),CSVデータ3!AJ123,0)+IF(ISNUMBER(CSVデータ4!AJ123),CSVデータ4!AJ123,0)","v":4},null,{"$f":"IF(ISNUMBER(CSVデータ1!AL123),CSVデータ1!AL123,0)+IF(ISNUMBER(CSVデータ2!AL123),CSVデータ2!AL123,0)+IF(ISNUMBER(CSVデータ3!AL123),CSVデータ3!AL123,0)+IF(ISNUMBER(CSVデータ4!AL123),CSVデータ4!AL123,0)","v":18},null,{"$f":"IF(ISNUMBER(CSVデータ1!AN123),CSVデータ1!AN123,0)+IF(ISNUMBER(CSVデータ2!AN123),CSVデータ2!AN123,0)+IF(ISNUMBER(CSVデータ3!AN123),CSVデータ3!AN123,0)+IF(ISNUMBER(CSVデータ4!AN123),CSVデータ4!AN123,0)","v":2}]
[{"$f":"CSVデータ1!A124","v":"明細部"},{"$f":"CSVデータ1!B124","v":"県"},{"$f":"CSVデータ1!C124","v":55},{"$f":"CSVデータ1!D124","v":"女"},{"$f":"IF(ISNUMBER(CSVデータ1!E124),CSVデータ1!E124,0)+IF(ISNUMBER(CSVデータ2!E124),CSVデータ2!E124,0)+IF(ISNUMBER(CSVデータ3!E124),CSVデータ3!E124,0)+IF(ISNUMBER(CSVデータ4!E124),CSVデータ4!E124,0)","v":140},{"$f":"IF(ISNUMBER(CSVデータ1!F124),CSVデータ1!F124,0)+IF(ISNUMBER(CSVデータ2!F124),CSVデータ2!F124,0)+IF(ISNUMBER(CSVデータ3!F124),CSVデータ3!F124,0)+IF(ISNUMBER(CSVデータ4!F124),CSVデータ4!F124,0)","v":27},null,{"$f":"IF(ISNUMBER(CSVデータ1!H124),CSVデータ1!H124,0)+IF(ISNUMBER(CSVデータ2!H124),CSVデータ2!H124,0)+IF(ISNUMBER(CSVデータ3!H124),CSVデータ3!H124,0)+IF(ISNUMBER(CSVデータ4!H124),CSVデータ4!H124,0)","v":19},null,{"$f":"IF(ISNUMBER(CSVデータ1!J124),CSVデータ1!J124,0)+IF(ISNUMBER(CSVデータ2!J124),CSVデータ2!J124,0)+IF(ISNUMBER(CSVデータ3!J124),CSVデータ3!J124,0)+IF(ISNUMBER(CSVデータ4!J124),CSVデータ4!J124,0)","v":11},null,{"$f":"IF(ISNUMBER(CSVデータ1!L124),CSVデータ1!L124,0)+IF(ISNUMBER(CSVデータ2!L124),CSVデータ2!L124,0)+IF(ISNUMBER(CSVデータ3!L124),CSVデータ3!L124,0)+IF(ISNUMBER(CSVデータ4!L124),CSVデータ4!L124,0)","v":15},null,{"$f":"IF(ISNUMBER(CSVデータ1!N124),CSVデータ1!N124,0)+IF(ISNUMBER(CSVデータ2!N124),CSVデータ2!N124,0)+IF(ISNUMBER(CSVデータ3!N124),CSVデータ3!N124,0)+IF(ISNUMBER(CSVデータ4!N124),CSVデータ4!N124,0)","v":1},null,{"$f":"IF(ISNUMBER(CSVデータ1!P124),CSVデータ1!P124,0)+IF(ISNUMBER(CSVデータ2!P124),CSVデータ2!P124,0)+IF(ISNUMBER(CSVデータ3!P124),CSVデータ3!P124,0)+IF(ISNUMBER(CSVデータ4!P124),CSVデータ4!P124,0)","v":19},null,{"$f":"IF(ISNUMBER(CSVデータ1!R124),CSVデータ1!R124,0)+IF(ISNUMBER(CSVデータ2!R124),CSVデータ2!R124,0)+IF(ISNUMBER(CSVデータ3!R124),CSVデータ3!R124,0)+IF(ISNUMBER(CSVデータ4!R124),CSVデータ4!R124,0)","v":66},null,{"$f":"IF(ISNUMBER(CSVデータ1!T124),CSVデータ1!T124,0)+IF(ISNUMBER(CSVデータ2!T124),CSVデータ2!T124,0)+IF(ISNUMBER(CSVデータ3!T124),CSVデータ3!T124,0)+IF(ISNUMBER(CSVデータ4!T124),CSVデータ4!T124,0)","v":1},null,{"$f":"IF(ISNUMBER(CSVデータ1!V124),CSVデータ1!V124,0)+IF(ISNUMBER(CSVデータ2!V124),CSVデータ2!V124,0)+IF(ISNUMBER(CSVデータ3!V124),CSVデータ3!V124,0)+IF(ISNUMBER(CSVデータ4!V124),CSVデータ4!V124,0)","v":38},null,{"$f":"IF(ISNUMBER(CSVデータ1!X124),CSVデータ1!X124,0)+IF(ISNUMBER(CSVデータ2!X124),CSVデータ2!X124,0)+IF(ISNUMBER(CSVデータ3!X124),CSVデータ3!X124,0)+IF(ISNUMBER(CSVデータ4!X124),CSVデータ4!X124,0)","v":26},null,{"$f":"IF(ISNUMBER(CSVデータ1!Z124),CSVデータ1!Z124,0)+IF(ISNUMBER(CSVデータ2!Z124),CSVデータ2!Z124,0)+IF(ISNUMBER(CSVデータ3!Z124),CSVデータ3!Z124,0)+IF(ISNUMBER(CSVデータ4!Z124),CSVデータ4!Z124,0)","v":87},null,{"$f":"IF(ISNUMBER(CSVデータ1!AB124),CSVデータ1!AB124,0)+IF(ISNUMBER(CSVデータ2!AB124),CSVデータ2!AB124,0)+IF(ISNUMBER(CSVデータ3!AB124),CSVデータ3!AB124,0)+IF(ISNUMBER(CSVデータ4!AB124),CSVデータ4!AB124,0)","v":0},null,{"$f":"IF(ISNUMBER(CSVデータ1!AD124),CSVデータ1!AD124,0)+IF(ISNUMBER(CSVデータ2!AD124),CSVデータ2!AD124,0)+IF(ISNUMBER(CSVデータ3!AD124),CSVデータ3!AD124,0)+IF(ISNUMBER(CSVデータ4!AD124),CSVデータ4!AD124,0)","v":27},null,{"$f":"IF(ISNUMBER(CSVデータ1!AF124),CSVデータ1!AF124,0)+IF(ISNUMBER(CSVデータ2!AF124),CSVデータ2!AF124,0)+IF(ISNUMBER(CSVデータ3!AF124),CSVデータ3!AF124,0)+IF(ISNUMBER(CSVデータ4!AF124),CSVデータ4!AF124,0)","v":11},null,{"$f":"IF(ISNUMBER(CSVデータ1!AH124),CSVデータ1!AH124,0)+IF(ISNUMBER(CSVデータ2!AH124),CSVデータ2!AH124,0)+IF(ISNUMBER(CSVデータ3!AH124),CSVデータ3!AH124,0)+IF(ISNUMBER(CSVデータ4!AH124),CSVデータ4!AH124,0)","v":2},null,{"$f":"IF(ISNUMBER(CSVデータ1!AJ124),CSVデータ1!AJ124,0)+IF(ISNUMBER(CSVデータ2!AJ124),CSVデータ2!AJ124,0)+IF(ISNUMBER(CSVデータ3!AJ124),CSVデータ3!AJ124,0)+IF(ISNUMBER(CSVデータ4!AJ124),CSVデータ4!AJ124,0)","v":3},null,{"$f":"IF(ISNUMBER(CSVデータ1!AL124),CSVデータ1!AL124,0)+IF(ISNUMBER(CSVデータ2!AL124),CSVデータ2!AL124,0)+IF(ISNUMBER(CSVデータ3!AL124),CSVデータ3!AL124,0)+IF(ISNUMBER(CSVデータ4!AL124),CSVデータ4!AL124,0)","v":15},null,{"$f":"IF(ISNUMBER(CSVデータ1!AN124),CSVデータ1!AN124,0)+IF(ISNUMBER(CSVデータ2!AN124),CSVデータ2!AN124,0)+IF(ISNUMBER(CSVデータ3!AN124),CSVデータ3!AN124,0)+IF(ISNUMBER(CSVデータ4!AN124),CSVデータ4!AN124,0)","v":3}]
[{"$f":"CSVデータ1!A125","v":"明細部"},{"$f":"CSVデータ1!B125","v":"県"},{"$f":"CSVデータ1!C125","v":56},{"$f":"CSVデータ1!D125","v":"女"},{"$f":"IF(ISNUMBER(CSVデータ1!E125),CSVデータ1!E125,0)+IF(ISNUMBER(CSVデータ2!E125),CSVデータ2!E125,0)+IF(ISNUMBER(CSVデータ3!E125),CSVデータ3!E125,0)+IF(ISNUMBER(CSVデータ4!E125),CSVデータ4!E125,0)","v":129},{"$f":"IF(ISNUMBER(CSVデータ1!F125),CSVデータ1!F125,0)+IF(ISNUMBER(CSVデータ2!F125),CSVデータ2!F125,0)+IF(ISNUMBER(CSVデータ3!F125),CSVデータ3!F125,0)+IF(ISNUMBER(CSVデータ4!F125),CSVデータ4!F125,0)","v":26},null,{"$f":"IF(ISNUMBER(CSVデータ1!H125),CSVデータ1!H125,0)+IF(ISNUMBER(CSVデータ2!H125),CSVデータ2!H125,0)+IF(ISNUMBER(CSVデータ3!H125),CSVデータ3!H125,0)+IF(ISNUMBER(CSVデータ4!H125),CSVデータ4!H125,0)","v":19},null,{"$f":"IF(ISNUMBER(CSVデータ1!J125),CSVデータ1!J125,0)+IF(ISNUMBER(CSVデータ2!J125),CSVデータ2!J125,0)+IF(ISNUMBER(CSVデータ3!J125),CSVデータ3!J125,0)+IF(ISNUMBER(CSVデータ4!J125),CSVデータ4!J125,0)","v":14},null,{"$f":"IF(ISNUMBER(CSVデータ1!L125),CSVデータ1!L125,0)+IF(ISNUMBER(CSVデータ2!L125),CSVデータ2!L125,0)+IF(ISNUMBER(CSVデータ3!L125),CSVデータ3!L125,0)+IF(ISNUMBER(CSVデータ4!L125),CSVデータ4!L125,0)","v":12},null,{"$f":"IF(ISNUMBER(CSVデータ1!N125),CSVデータ1!N125,0)+IF(ISNUMBER(CSVデータ2!N125),CSVデータ2!N125,0)+IF(ISNUMBER(CSVデータ3!N125),CSVデータ3!N125,0)+IF(ISNUMBER(CSVデータ4!N125),CSVデータ4!N125,0)","v":0},null,{"$f":"IF(ISNUMBER(CSVデータ1!P125),CSVデータ1!P125,0)+IF(ISNUMBER(CSVデータ2!P125),CSVデータ2!P125,0)+IF(ISNUMBER(CSVデータ3!P125),CSVデータ3!P125,0)+IF(ISNUMBER(CSVデータ4!P125),CSVデータ4!P125,0)","v":19},null,{"$f":"IF(ISNUMBER(CSVデータ1!R125),CSVデータ1!R125,0)+IF(ISNUMBER(CSVデータ2!R125),CSVデータ2!R125,0)+IF(ISNUMBER(CSVデータ3!R125),CSVデータ3!R125,0)+IF(ISNUMBER(CSVデータ4!R125),CSVデータ4!R125,0)","v":80},null,{"$f":"IF(ISNUMBER(CSVデータ1!T125),CSVデータ1!T125,0)+IF(ISNUMBER(CSVデータ2!T125),CSVデータ2!T125,0)+IF(ISNUMBER(CSVデータ3!T125),CSVデータ3!T125,0)+IF(ISNUMBER(CSVデータ4!T125),CSVデータ4!T125,0)","v":4},null,{"$f":"IF(ISNUMBER(CSVデータ1!V125),CSVデータ1!V125,0)+IF(ISNUMBER(CSVデータ2!V125),CSVデータ2!V125,0)+IF(ISNUMBER(CSVデータ3!V125),CSVデータ3!V125,0)+IF(ISNUMBER(CSVデータ4!V125),CSVデータ4!V125,0)","v":40},null,{"$f":"IF(ISNUMBER(CSVデータ1!X125),CSVデータ1!X125,0)+IF(ISNUMBER(CSVデータ2!X125),CSVデータ2!X125,0)+IF(ISNUMBER(CSVデータ3!X125),CSVデータ3!X125,0)+IF(ISNUMBER(CSVデータ4!X125),CSVデータ4!X125,0)","v":20},null,{"$f":"IF(ISNUMBER(CSVデータ1!Z125),CSVデータ1!Z125,0)+IF(ISNUMBER(CSVデータ2!Z125),CSVデータ2!Z125,0)+IF(ISNUMBER(CSVデータ3!Z125),CSVデータ3!Z125,0)+IF(ISNUMBER(CSVデータ4!Z125),CSVデータ4!Z125,0)","v":83},null,{"$f":"IF(ISNUMBER(CSVデータ1!AB125),CSVデータ1!AB125,0)+IF(ISNUMBER(CSVデータ2!AB125),CSVデータ2!AB125,0)+IF(ISNUMBER(CSVデータ3!AB125),CSVデータ3!AB125,0)+IF(ISNUMBER(CSVデータ4!AB125),CSVデータ4!AB125,0)","v":0},null,{"$f":"IF(ISNUMBER(CSVデータ1!AD125),CSVデータ1!AD125,0)+IF(ISNUMBER(CSVデータ2!AD125),CSVデータ2!AD125,0)+IF(ISNUMBER(CSVデータ3!AD125),CSVデータ3!AD125,0)+IF(ISNUMBER(CSVデータ4!AD125),CSVデータ4!AD125,0)","v":34},null,{"$f":"IF(ISNUMBER(CSVデータ1!AF125),CSVデータ1!AF125,0)+IF(ISNUMBER(CSVデータ2!AF125),CSVデータ2!AF125,0)+IF(ISNUMBER(CSVデータ3!AF125),CSVデータ3!AF125,0)+IF(ISNUMBER(CSVデータ4!AF125),CSVデータ4!AF125,0)","v":13},null,{"$f":"IF(ISNUMBER(CSVデータ1!AH125),CSVデータ1!AH125,0)+IF(ISNUMBER(CSVデータ2!AH125),CSVデータ2!AH125,0)+IF(ISNUMBER(CSVデータ3!AH125),CSVデータ3!AH125,0)+IF(ISNUMBER(CSVデータ4!AH125),CSVデータ4!AH125,0)","v":0},null,{"$f":"IF(ISNUMBER(CSVデータ1!AJ125),CSVデータ1!AJ125,0)+IF(ISNUMBER(CSVデータ2!AJ125),CSVデータ2!AJ125,0)+IF(ISNUMBER(CSVデータ3!AJ125),CSVデータ3!AJ125,0)+IF(ISNUMBER(CSVデータ4!AJ125),CSVデータ4!AJ125,0)","v":3},null,{"$f":"IF(ISNUMBER(CSVデータ1!AL125),CSVデータ1!AL125,0)+IF(ISNUMBER(CSVデータ2!AL125),CSVデータ2!AL125,0)+IF(ISNUMBER(CSVデータ3!AL125),CSVデータ3!AL125,0)+IF(ISNUMBER(CSVデータ4!AL125),CSVデータ4!AL125,0)","v":23},null,{"$f":"IF(ISNUMBER(CSVデータ1!AN125),CSVデータ1!AN125,0)+IF(ISNUMBER(CSVデータ2!AN125),CSVデータ2!AN125,0)+IF(ISNUMBER(CSVデータ3!AN125),CSVデータ3!AN125,0)+IF(ISNUMBER(CSVデータ4!AN125),CSVデータ4!AN125,0)","v":2}]
[{"$f":"CSVデータ1!A126","v":"明細部"},{"$f":"CSVデータ1!B126","v":"県"},{"$f":"CSVデータ1!C126","v":57},{"$f":"CSVデータ1!D126","v":"女"},{"$f":"IF(ISNUMBER(CSVデータ1!E126),CSVデータ1!E126,0)+IF(ISNUMBER(CSVデータ2!E126),CSVデータ2!E126,0)+IF(ISNUMBER(CSVデータ3!E126),CSVデータ3!E126,0)+IF(ISNUMBER(CSVデータ4!E126),CSVデータ4!E126,0)","v":137},{"$f":"IF(ISNUMBER(CSVデータ1!F126),CSVデータ1!F126,0)+IF(ISNUMBER(CSVデータ2!F126),CSVデータ2!F126,0)+IF(ISNUMBER(CSVデータ3!F126),CSVデータ3!F126,0)+IF(ISNUMBER(CSVデータ4!F126),CSVデータ4!F126,0)","v":31},null,{"$f":"IF(ISNUMBER(CSVデータ1!H126),CSVデータ1!H126,0)+IF(ISNUMBER(CSVデータ2!H126),CSVデータ2!H126,0)+IF(ISNUMBER(CSVデータ3!H126),CSVデータ3!H126,0)+IF(ISNUMBER(CSVデータ4!H126),CSVデータ4!H126,0)","v":30},null,{"$f":"IF(ISNUMBER(CSVデータ1!J126),CSVデータ1!J126,0)+IF(ISNUMBER(CSVデータ2!J126),CSVデータ2!J126,0)+IF(ISNUMBER(CSVデータ3!J126),CSVデータ3!J126,0)+IF(ISNUMBER(CSVデータ4!J126),CSVデータ4!J126,0)","v":16},null,{"$f":"IF(ISNUMBER(CSVデータ1!L126),CSVデータ1!L126,0)+IF(ISNUMBER(CSVデータ2!L126),CSVデータ2!L126,0)+IF(ISNUMBER(CSVデータ3!L126),CSVデータ3!L126,0)+IF(ISNUMBER(CSVデータ4!L126),CSVデータ4!L126,0)","v":14},null,{"$f":"IF(ISNUMBER(CSVデータ1!N126),CSVデータ1!N126,0)+IF(ISNUMBER(CSVデータ2!N126),CSVデータ2!N126,0)+IF(ISNUMBER(CSVデータ3!N126),CSVデータ3!N126,0)+IF(ISNUMBER(CSVデータ4!N126),CSVデータ4!N126,0)","v":0},null,{"$f":"IF(ISNUMBER(CSVデータ1!P126),CSVデータ1!P126,0)+IF(ISNUMBER(CSVデータ2!P126),CSVデータ2!P126,0)+IF(ISNUMBER(CSVデータ3!P126),CSVデータ3!P126,0)+IF(ISNUMBER(CSVデータ4!P126),CSVデータ4!P126,0)","v":21},null,{"$f":"IF(ISNUMBER(CSVデータ1!R126),CSVデータ1!R126,0)+IF(ISNUMBER(CSVデータ2!R126),CSVデータ2!R126,0)+IF(ISNUMBER(CSVデータ3!R126),CSVデータ3!R126,0)+IF(ISNUMBER(CSVデータ4!R126),CSVデータ4!R126,0)","v":70},null,{"$f":"IF(ISNUMBER(CSVデータ1!T126),CSVデータ1!T126,0)+IF(ISNUMBER(CSVデータ2!T126),CSVデータ2!T126,0)+IF(ISNUMBER(CSVデータ3!T126),CSVデータ3!T126,0)+IF(ISNUMBER(CSVデータ4!T126),CSVデータ4!T126,0)","v":6},null,{"$f":"IF(ISNUMBER(CSVデータ1!V126),CSVデータ1!V126,0)+IF(ISNUMBER(CSVデータ2!V126),CSVデータ2!V126,0)+IF(ISNUMBER(CSVデータ3!V126),CSVデータ3!V126,0)+IF(ISNUMBER(CSVデータ4!V126),CSVデータ4!V126,0)","v":38},null,{"$f":"IF(ISNUMBER(CSVデータ1!X126),CSVデータ1!X126,0)+IF(ISNUMBER(CSVデータ2!X126),CSVデータ2!X126,0)+IF(ISNUMBER(CSVデータ3!X126),CSVデータ3!X126,0)+IF(ISNUMBER(CSVデータ4!X126),CSVデータ4!X126,0)","v":27},null,{"$f":"IF(ISNUMBER(CSVデータ1!Z126),CSVデータ1!Z126,0)+IF(ISNUMBER(CSVデータ2!Z126),CSVデータ2!Z126,0)+IF(ISNUMBER(CSVデータ3!Z126),CSVデータ3!Z126,0)+IF(ISNUMBER(CSVデータ4!Z126),CSVデータ4!Z126,0)","v":84},null,{"$f":"IF(ISNUMBER(CSVデータ1!AB126),CSVデータ1!AB126,0)+IF(ISNUMBER(CSVデータ2!AB126),CSVデータ2!AB126,0)+IF(ISNUMBER(CSVデータ3!AB126),CSVデータ3!AB126,0)+IF(ISNUMBER(CSVデータ4!AB126),CSVデータ4!AB126,0)","v":0},null,{"$f":"IF(ISNUMBER(CSVデータ1!AD126),CSVデータ1!AD126,0)+IF(ISNUMBER(CSVデータ2!AD126),CSVデータ2!AD126,0)+IF(ISNUMBER(CSVデータ3!AD126),CSVデータ3!AD126,0)+IF(ISNUMBER(CSVデータ4!AD126),CSVデータ4!AD126,0)","v":29},null,{"$f":"IF(ISNUMBER(CSVデータ1!AF126),CSVデータ1!AF126,0)+IF(ISNUMBER(CSVデータ2!AF126),CSVデータ2!AF126,0)+IF(ISNUMBER(CSVデータ3!AF126),CSVデータ3!AF126,0)+IF(ISNUMBER(CSVデータ4!AF126),CSVデータ4!AF126,0)","v":13},null,{"$f":"IF(ISNUMBER(CSVデータ1!AH126),CSVデータ1!AH126,0)+IF(ISNUMBER(CSVデータ2!AH126),CSVデータ2!AH126,0)+IF(ISNUMBER(CSVデータ3!AH126),CSVデータ3!AH126,0)+IF(ISNUMBER(CSVデータ4!AH126),CSVデータ4!AH126,0)","v":0},null,{"$f":"IF(ISNUMBER(CSVデータ1!AJ126),CSVデータ1!AJ126,0)+IF(ISNUMBER(CSVデータ2!AJ126),CSVデータ2!AJ126,0)+IF(ISNUMBER(CSVデータ3!AJ126),CSVデータ3!AJ126,0)+IF(ISNUMBER(CSVデータ4!AJ126),CSVデータ4!AJ126,0)","v":0},null,{"$f":"IF(ISNUMBER(CSVデータ1!AL126),CSVデータ1!AL126,0)+IF(ISNUMBER(CSVデータ2!AL126),CSVデータ2!AL126,0)+IF(ISNUMBER(CSVデータ3!AL126),CSVデータ3!AL126,0)+IF(ISNUMBER(CSVデータ4!AL126),CSVデータ4!AL126,0)","v":21},null,{"$f":"IF(ISNUMBER(CSVデータ1!AN126),CSVデータ1!AN126,0)+IF(ISNUMBER(CSVデータ2!AN126),CSVデータ2!AN126,0)+IF(ISNUMBER(CSVデータ3!AN126),CSVデータ3!AN126,0)+IF(ISNUMBER(CSVデータ4!AN126),CSVデータ4!AN126,0)","v":0}]
[{"$f":"CSVデータ1!A127","v":"明細部"},{"$f":"CSVデータ1!B127","v":"県"},{"$f":"CSVデータ1!C127","v":58},{"$f":"CSVデータ1!D127","v":"女"},{"$f":"IF(ISNUMBER(CSVデータ1!E127),CSVデータ1!E127,0)+IF(ISNUMBER(CSVデータ2!E127),CSVデータ2!E127,0)+IF(ISNUMBER(CSVデータ3!E127),CSVデータ3!E127,0)+IF(ISNUMBER(CSVデータ4!E127),CSVデータ4!E127,0)","v":132},{"$f":"IF(ISNUMBER(CSVデータ1!F127),CSVデータ1!F127,0)+IF(ISNUMBER(CSVデータ2!F127),CSVデータ2!F127,0)+IF(ISNUMBER(CSVデータ3!F127),CSVデータ3!F127,0)+IF(ISNUMBER(CSVデータ4!F127),CSVデータ4!F127,0)","v":28},null,{"$f":"IF(ISNUMBER(CSVデータ1!H127),CSVデータ1!H127,0)+IF(ISNUMBER(CSVデータ2!H127),CSVデータ2!H127,0)+IF(ISNUMBER(CSVデータ3!H127),CSVデータ3!H127,0)+IF(ISNUMBER(CSVデータ4!H127),CSVデータ4!H127,0)","v":23},null,{"$f":"IF(ISNUMBER(CSVデータ1!J127),CSVデータ1!J127,0)+IF(ISNUMBER(CSVデータ2!J127),CSVデータ2!J127,0)+IF(ISNUMBER(CSVデータ3!J127),CSVデータ3!J127,0)+IF(ISNUMBER(CSVデータ4!J127),CSVデータ4!J127,0)","v":14},null,{"$f":"IF(ISNUMBER(CSVデータ1!L127),CSVデータ1!L127,0)+IF(ISNUMBER(CSVデータ2!L127),CSVデータ2!L127,0)+IF(ISNUMBER(CSVデータ3!L127),CSVデータ3!L127,0)+IF(ISNUMBER(CSVデータ4!L127),CSVデータ4!L127,0)","v":10},null,{"$f":"IF(ISNUMBER(CSVデータ1!N127),CSVデータ1!N127,0)+IF(ISNUMBER(CSVデータ2!N127),CSVデータ2!N127,0)+IF(ISNUMBER(CSVデータ3!N127),CSVデータ3!N127,0)+IF(ISNUMBER(CSVデータ4!N127),CSVデータ4!N127,0)","v":1},null,{"$f":"IF(ISNUMBER(CSVデータ1!P127),CSVデータ1!P127,0)+IF(ISNUMBER(CSVデータ2!P127),CSVデータ2!P127,0)+IF(ISNUMBER(CSVデータ3!P127),CSVデータ3!P127,0)+IF(ISNUMBER(CSVデータ4!P127),CSVデータ4!P127,0)","v":20},null,{"$f":"IF(ISNUMBER(CSVデータ1!R127),CSVデータ1!R127,0)+IF(ISNUMBER(CSVデータ2!R127),CSVデータ2!R127,0)+IF(ISNUMBER(CSVデータ3!R127),CSVデータ3!R127,0)+IF(ISNUMBER(CSVデータ4!R127),CSVデータ4!R127,0)","v":70},null,{"$f":"IF(ISNUMBER(CSVデータ1!T127),CSVデータ1!T127,0)+IF(ISNUMBER(CSVデータ2!T127),CSVデータ2!T127,0)+IF(ISNUMBER(CSVデータ3!T127),CSVデータ3!T127,0)+IF(ISNUMBER(CSVデータ4!T127),CSVデータ4!T127,0)","v":1},null,{"$f":"IF(ISNUMBER(CSVデータ1!V127),CSVデータ1!V127,0)+IF(ISNUMBER(CSVデータ2!V127),CSVデータ2!V127,0)+IF(ISNUMBER(CSVデータ3!V127),CSVデータ3!V127,0)+IF(ISNUMBER(CSVデータ4!V127),CSVデータ4!V127,0)","v":43},null,{"$f":"IF(ISNUMBER(CSVデータ1!X127),CSVデータ1!X127,0)+IF(ISNUMBER(CSVデータ2!X127),CSVデータ2!X127,0)+IF(ISNUMBER(CSVデータ3!X127),CSVデータ3!X127,0)+IF(ISNUMBER(CSVデータ4!X127),CSVデータ4!X127,0)","v":24},null,{"$f":"IF(ISNUMBER(CSVデータ1!Z127),CSVデータ1!Z127,0)+IF(ISNUMBER(CSVデータ2!Z127),CSVデータ2!Z127,0)+IF(ISNUMBER(CSVデータ3!Z127),CSVデータ3!Z127,0)+IF(ISNUMBER(CSVデータ4!Z127),CSVデータ4!Z127,0)","v":84},null,{"$f":"IF(ISNUMBER(CSVデータ1!AB127),CSVデータ1!AB127,0)+IF(ISNUMBER(CSVデータ2!AB127),CSVデータ2!AB127,0)+IF(ISNUMBER(CSVデータ3!AB127),CSVデータ3!AB127,0)+IF(ISNUMBER(CSVデータ4!AB127),CSVデータ4!AB127,0)","v":0},null,{"$f":"IF(ISNUMBER(CSVデータ1!AD127),CSVデータ1!AD127,0)+IF(ISNUMBER(CSVデータ2!AD127),CSVデータ2!AD127,0)+IF(ISNUMBER(CSVデータ3!AD127),CSVデータ3!AD127,0)+IF(ISNUMBER(CSVデータ4!AD127),CSVデータ4!AD127,0)","v":29},null,{"$f":"IF(ISNUMBER(CSVデータ1!AF127),CSVデータ1!AF127,0)+IF(ISNUMBER(CSVデータ2!AF127),CSVデータ2!AF127,0)+IF(ISNUMBER(CSVデータ3!AF127),CSVデータ3!AF127,0)+IF(ISNUMBER(CSVデータ4!AF127),CSVデータ4!AF127,0)","v":6},null,{"$f":"IF(ISNUMBER(CSVデータ1!AH127),CSVデータ1!AH127,0)+IF(ISNUMBER(CSVデータ2!AH127),CSVデータ2!AH127,0)+IF(ISNUMBER(CSVデータ3!AH127),CSVデータ3!AH127,0)+IF(ISNUMBER(CSVデータ4!AH127),CSVデータ4!AH127,0)","v":3},null,{"$f":"IF(ISNUMBER(CSVデータ1!AJ127),CSVデータ1!AJ127,0)+IF(ISNUMBER(CSVデータ2!AJ127),CSVデータ2!AJ127,0)+IF(ISNUMBER(CSVデータ3!AJ127),CSVデータ3!AJ127,0)+IF(ISNUMBER(CSVデータ4!AJ127),CSVデータ4!AJ127,0)","v":4},null,{"$f":"IF(ISNUMBER(CSVデータ1!AL127),CSVデータ1!AL127,0)+IF(ISNUMBER(CSVデータ2!AL127),CSVデータ2!AL127,0)+IF(ISNUMBER(CSVデータ3!AL127),CSVデータ3!AL127,0)+IF(ISNUMBER(CSVデータ4!AL127),CSVデータ4!AL127,0)","v":21},null,{"$f":"IF(ISNUMBER(CSVデータ1!AN127),CSVデータ1!AN127,0)+IF(ISNUMBER(CSVデータ2!AN127),CSVデータ2!AN127,0)+IF(ISNUMBER(CSVデータ3!AN127),CSVデータ3!AN127,0)+IF(ISNUMBER(CSVデータ4!AN127),CSVデータ4!AN127,0)","v":2}]
[{"$f":"CSVデータ1!A128","v":"明細部"},{"$f":"CSVデータ1!B128","v":"県"},{"$f":"CSVデータ1!C128","v":59},{"$f":"CSVデータ1!D128","v":"女"},{"$f":"IF(ISNUMBER(CSVデータ1!E128),CSVデータ1!E128,0)+IF(ISNUMBER(CSVデータ2!E128),CSVデータ2!E128,0)+IF(ISNUMBER(CSVデータ3!E128),CSVデータ3!E128,0)+IF(ISNUMBER(CSVデータ4!E128),CSVデータ4!E128,0)","v":154},{"$f":"IF(ISNUMBER(CSVデータ1!F128),CSVデータ1!F128,0)+IF(ISNUMBER(CSVデータ2!F128),CSVデータ2!F128,0)+IF(ISNUMBER(CSVデータ3!F128),CSVデータ3!F128,0)+IF(ISNUMBER(CSVデータ4!F128),CSVデータ4!F128,0)","v":28},null,{"$f":"IF(ISNUMBER(CSVデータ1!H128),CSVデータ1!H128,0)+IF(ISNUMBER(CSVデータ2!H128),CSVデータ2!H128,0)+IF(ISNUMBER(CSVデータ3!H128),CSVデータ3!H128,0)+IF(ISNUMBER(CSVデータ4!H128),CSVデータ4!H128,0)","v":22},null,{"$f":"IF(ISNUMBER(CSVデータ1!J128),CSVデータ1!J128,0)+IF(ISNUMBER(CSVデータ2!J128),CSVデータ2!J128,0)+IF(ISNUMBER(CSVデータ3!J128),CSVデータ3!J128,0)+IF(ISNUMBER(CSVデータ4!J128),CSVデータ4!J128,0)","v":17},null,{"$f":"IF(ISNUMBER(CSVデータ1!L128),CSVデータ1!L128,0)+IF(ISNUMBER(CSVデータ2!L128),CSVデータ2!L128,0)+IF(ISNUMBER(CSVデータ3!L128),CSVデータ3!L128,0)+IF(ISNUMBER(CSVデータ4!L128),CSVデータ4!L128,0)","v":17},null,{"$f":"IF(ISNUMBER(CSVデータ1!N128),CSVデータ1!N128,0)+IF(ISNUMBER(CSVデータ2!N128),CSVデータ2!N128,0)+IF(ISNUMBER(CSVデータ3!N128),CSVデータ3!N128,0)+IF(ISNUMBER(CSVデータ4!N128),CSVデータ4!N128,0)","v":0},null,{"$f":"IF(ISNUMBER(CSVデータ1!P128),CSVデータ1!P128,0)+IF(ISNUMBER(CSVデータ2!P128),CSVデータ2!P128,0)+IF(ISNUMBER(CSVデータ3!P128),CSVデータ3!P128,0)+IF(ISNUMBER(CSVデータ4!P128),CSVデータ4!P128,0)","v":26},null,{"$f":"IF(ISNUMBER(CSVデータ1!R128),CSVデータ1!R128,0)+IF(ISNUMBER(CSVデータ2!R128),CSVデータ2!R128,0)+IF(ISNUMBER(CSVデータ3!R128),CSVデータ3!R128,0)+IF(ISNUMBER(CSVデータ4!R128),CSVデータ4!R128,0)","v":84},null,{"$f":"IF(ISNUMBER(CSVデータ1!T128),CSVデータ1!T128,0)+IF(ISNUMBER(CSVデータ2!T128),CSVデータ2!T128,0)+IF(ISNUMBER(CSVデータ3!T128),CSVデータ3!T128,0)+IF(ISNUMBER(CSVデータ4!T128),CSVデータ4!T128,0)","v":2},null,{"$f":"IF(ISNUMBER(CSVデータ1!V128),CSVデータ1!V128,0)+IF(ISNUMBER(CSVデータ2!V128),CSVデータ2!V128,0)+IF(ISNUMBER(CSVデータ3!V128),CSVデータ3!V128,0)+IF(ISNUMBER(CSVデータ4!V128),CSVデータ4!V128,0)","v":50},null,{"$f":"IF(ISNUMBER(CSVデータ1!X128),CSVデータ1!X128,0)+IF(ISNUMBER(CSVデータ2!X128),CSVデータ2!X128,0)+IF(ISNUMBER(CSVデータ3!X128),CSVデータ3!X128,0)+IF(ISNUMBER(CSVデータ4!X128),CSVデータ4!X128,0)","v":24},null,{"$f":"IF(ISNUMBER(CSVデータ1!Z128),CSVデータ1!Z128,0)+IF(ISNUMBER(CSVデータ2!Z128),CSVデータ2!Z128,0)+IF(ISNUMBER(CSVデータ3!Z128),CSVデータ3!Z128,0)+IF(ISNUMBER(CSVデータ4!Z128),CSVデータ4!Z128,0)","v":100},null,{"$f":"IF(ISNUMBER(CSVデータ1!AB128),CSVデータ1!AB128,0)+IF(ISNUMBER(CSVデータ2!AB128),CSVデータ2!AB128,0)+IF(ISNUMBER(CSVデータ3!AB128),CSVデータ3!AB128,0)+IF(ISNUMBER(CSVデータ4!AB128),CSVデータ4!AB128,0)","v":0},null,{"$f":"IF(ISNUMBER(CSVデータ1!AD128),CSVデータ1!AD128,0)+IF(ISNUMBER(CSVデータ2!AD128),CSVデータ2!AD128,0)+IF(ISNUMBER(CSVデータ3!AD128),CSVデータ3!AD128,0)+IF(ISNUMBER(CSVデータ4!AD128),CSVデータ4!AD128,0)","v":37},null,{"$f":"IF(ISNUMBER(CSVデータ1!AF128),CSVデータ1!AF128,0)+IF(ISNUMBER(CSVデータ2!AF128),CSVデータ2!AF128,0)+IF(ISNUMBER(CSVデータ3!AF128),CSVデータ3!AF128,0)+IF(ISNUMBER(CSVデータ4!AF128),CSVデータ4!AF128,0)","v":12},null,{"$f":"IF(ISNUMBER(CSVデータ1!AH128),CSVデータ1!AH128,0)+IF(ISNUMBER(CSVデータ2!AH128),CSVデータ2!AH128,0)+IF(ISNUMBER(CSVデータ3!AH128),CSVデータ3!AH128,0)+IF(ISNUMBER(CSVデータ4!AH128),CSVデータ4!AH128,0)","v":1},null,{"$f":"IF(ISNUMBER(CSVデータ1!AJ128),CSVデータ1!AJ128,0)+IF(ISNUMBER(CSVデータ2!AJ128),CSVデータ2!AJ128,0)+IF(ISNUMBER(CSVデータ3!AJ128),CSVデータ3!AJ128,0)+IF(ISNUMBER(CSVデータ4!AJ128),CSVデータ4!AJ128,0)","v":4},null,{"$f":"IF(ISNUMBER(CSVデータ1!AL128),CSVデータ1!AL128,0)+IF(ISNUMBER(CSVデータ2!AL128),CSVデータ2!AL128,0)+IF(ISNUMBER(CSVデータ3!AL128),CSVデータ3!AL128,0)+IF(ISNUMBER(CSVデータ4!AL128),CSVデータ4!AL128,0)","v":30},null,{"$f":"IF(ISNUMBER(CSVデータ1!AN128),CSVデータ1!AN128,0)+IF(ISNUMBER(CSVデータ2!AN128),CSVデータ2!AN128,0)+IF(ISNUMBER(CSVデータ3!AN128),CSVデータ3!AN128,0)+IF(ISNUMBER(CSVデータ4!AN128),CSVデータ4!AN128,0)","v":5}]
[{"$f":"CSVデータ1!A129","v":"明細部"},{"$f":"CSVデータ1!B129","v":"県"},{"$f":"CSVデータ1!C129","v":60},{"$f":"CSVデータ1!D129","v":"女"},{"$f":"IF(ISNUMBER(CSVデータ1!E129),CSVデータ1!E129,0)+IF(ISNUMBER(CSVデータ2!E129),CSVデータ2!E129,0)+IF(ISNUMBER(CSVデータ3!E129),CSVデータ3!E129,0)+IF(ISNUMBER(CSVデータ4!E129),CSVデータ4!E129,0)","v":177},{"$f":"IF(ISNUMBER(CSVデータ1!F129),CSVデータ1!F129,0)+IF(ISNUMBER(CSVデータ2!F129),CSVデータ2!F129,0)+IF(ISNUMBER(CSVデータ3!F129),CSVデータ3!F129,0)+IF(ISNUMBER(CSVデータ4!F129),CSVデータ4!F129,0)","v":31},null,{"$f":"IF(ISNUMBER(CSVデータ1!H129),CSVデータ1!H129,0)+IF(ISNUMBER(CSVデータ2!H129),CSVデータ2!H129,0)+IF(ISNUMBER(CSVデータ3!H129),CSVデータ3!H129,0)+IF(ISNUMBER(CSVデータ4!H129),CSVデータ4!H129,0)","v":32},null,{"$f":"IF(ISNUMBER(CSVデータ1!J129),CSVデータ1!J129,0)+IF(ISNUMBER(CSVデータ2!J129),CSVデータ2!J129,0)+IF(ISNUMBER(CSVデータ3!J129),CSVデータ3!J129,0)+IF(ISNUMBER(CSVデータ4!J129),CSVデータ4!J129,0)","v":22},null,{"$f":"IF(ISNUMBER(CSVデータ1!L129),CSVデータ1!L129,0)+IF(ISNUMBER(CSVデータ2!L129),CSVデータ2!L129,0)+IF(ISNUMBER(CSVデータ3!L129),CSVデータ3!L129,0)+IF(ISNUMBER(CSVデータ4!L129),CSVデータ4!L129,0)","v":18},null,{"$f":"IF(ISNUMBER(CSVデータ1!N129),CSVデータ1!N129,0)+IF(ISNUMBER(CSVデータ2!N129),CSVデータ2!N129,0)+IF(ISNUMBER(CSVデータ3!N129),CSVデータ3!N129,0)+IF(ISNUMBER(CSVデータ4!N129),CSVデータ4!N129,0)","v":1},null,{"$f":"IF(ISNUMBER(CSVデータ1!P129),CSVデータ1!P129,0)+IF(ISNUMBER(CSVデータ2!P129),CSVデータ2!P129,0)+IF(ISNUMBER(CSVデータ3!P129),CSVデータ3!P129,0)+IF(ISNUMBER(CSVデータ4!P129),CSVデータ4!P129,0)","v":30},null,{"$f":"IF(ISNUMBER(CSVデータ1!R129),CSVデータ1!R129,0)+IF(ISNUMBER(CSVデータ2!R129),CSVデータ2!R129,0)+IF(ISNUMBER(CSVデータ3!R129),CSVデータ3!R129,0)+IF(ISNUMBER(CSVデータ4!R129),CSVデータ4!R129,0)","v":112},null,{"$f":"IF(ISNUMBER(CSVデータ1!T129),CSVデータ1!T129,0)+IF(ISNUMBER(CSVデータ2!T129),CSVデータ2!T129,0)+IF(ISNUMBER(CSVデータ3!T129),CSVデータ3!T129,0)+IF(ISNUMBER(CSVデータ4!T129),CSVデータ4!T129,0)","v":6},null,{"$f":"IF(ISNUMBER(CSVデータ1!V129),CSVデータ1!V129,0)+IF(ISNUMBER(CSVデータ2!V129),CSVデータ2!V129,0)+IF(ISNUMBER(CSVデータ3!V129),CSVデータ3!V129,0)+IF(ISNUMBER(CSVデータ4!V129),CSVデータ4!V129,0)","v":52},null,{"$f":"IF(ISNUMBER(CSVデータ1!X129),CSVデータ1!X129,0)+IF(ISNUMBER(CSVデータ2!X129),CSVデータ2!X129,0)+IF(ISNUMBER(CSVデータ3!X129),CSVデータ3!X129,0)+IF(ISNUMBER(CSVデータ4!X129),CSVデータ4!X129,0)","v":29},null,{"$f":"IF(ISNUMBER(CSVデータ1!Z129),CSVデータ1!Z129,0)+IF(ISNUMBER(CSVデータ2!Z129),CSVデータ2!Z129,0)+IF(ISNUMBER(CSVデータ3!Z129),CSVデータ3!Z129,0)+IF(ISNUMBER(CSVデータ4!Z129),CSVデータ4!Z129,0)","v":103},null,{"$f":"IF(ISNUMBER(CSVデータ1!AB129),CSVデータ1!AB129,0)+IF(ISNUMBER(CSVデータ2!AB129),CSVデータ2!AB129,0)+IF(ISNUMBER(CSVデータ3!AB129),CSVデータ3!AB129,0)+IF(ISNUMBER(CSVデータ4!AB129),CSVデータ4!AB129,0)","v":0},null,{"$f":"IF(ISNUMBER(CSVデータ1!AD129),CSVデータ1!AD129,0)+IF(ISNUMBER(CSVデータ2!AD129),CSVデータ2!AD129,0)+IF(ISNUMBER(CSVデータ3!AD129),CSVデータ3!AD129,0)+IF(ISNUMBER(CSVデータ4!AD129),CSVデータ4!AD129,0)","v":32},null,{"$f":"IF(ISNUMBER(CSVデータ1!AF129),CSVデータ1!AF129,0)+IF(ISNUMBER(CSVデータ2!AF129),CSVデータ2!AF129,0)+IF(ISNUMBER(CSVデータ3!AF129),CSVデータ3!AF129,0)+IF(ISNUMBER(CSVデータ4!AF129),CSVデータ4!AF129,0)","v":16},null,{"$f":"IF(ISNUMBER(CSVデータ1!AH129),CSVデータ1!AH129,0)+IF(ISNUMBER(CSVデータ2!AH129),CSVデータ2!AH129,0)+IF(ISNUMBER(CSVデータ3!AH129),CSVデータ3!AH129,0)+IF(ISNUMBER(CSVデータ4!AH129),CSVデータ4!AH129,0)","v":3},null,{"$f":"IF(ISNUMBER(CSVデータ1!AJ129),CSVデータ1!AJ129,0)+IF(ISNUMBER(CSVデータ2!AJ129),CSVデータ2!AJ129,0)+IF(ISNUMBER(CSVデータ3!AJ129),CSVデータ3!AJ129,0)+IF(ISNUMBER(CSVデータ4!AJ129),CSVデータ4!AJ129,0)","v":6},null,{"$f":"IF(ISNUMBER(CSVデータ1!AL129),CSVデータ1!AL129,0)+IF(ISNUMBER(CSVデータ2!AL129),CSVデータ2!AL129,0)+IF(ISNUMBER(CSVデータ3!AL129),CSVデータ3!AL129,0)+IF(ISNUMBER(CSVデータ4!AL129),CSVデータ4!AL129,0)","v":34},null,{"$f":"IF(ISNUMBER(CSVデータ1!AN129),CSVデータ1!AN129,0)+IF(ISNUMBER(CSVデータ2!AN129),CSVデータ2!AN129,0)+IF(ISNUMBER(CSVデータ3!AN129),CSVデータ3!AN129,0)+IF(ISNUMBER(CSVデータ4!AN129),CSVデータ4!AN129,0)","v":2}]
[{"$f":"CSVデータ1!A130","v":"明細部"},{"$f":"CSVデータ1!B130","v":"県"},{"$f":"CSVデータ1!C130","v":61},{"$f":"CSVデータ1!D130","v":"女"},{"$f":"IF(ISNUMBER(CSVデータ1!E130),CSVデータ1!E130,0)+IF(ISNUMBER(CSVデータ2!E130),CSVデータ2!E130,0)+IF(ISNUMBER(CSVデータ3!E130),CSVデータ3!E130,0)+IF(ISNUMBER(CSVデータ4!E130),CSVデータ4!E130,0)","v":192},{"$f":"IF(ISNUMBER(CSVデータ1!F130),CSVデータ1!F130,0)+IF(ISNUMBER(CSVデータ2!F130),CSVデータ2!F130,0)+IF(ISNUMBER(CSVデータ3!F130),CSVデータ3!F130,0)+IF(ISNUMBER(CSVデータ4!F130),CSVデータ4!F130,0)","v":38},null,{"$f":"IF(ISNUMBER(CSVデータ1!H130),CSVデータ1!H130,0)+IF(ISNUMBER(CSVデータ2!H130),CSVデータ2!H130,0)+IF(ISNUMBER(CSVデータ3!H130),CSVデータ3!H130,0)+IF(ISNUMBER(CSVデータ4!H130),CSVデータ4!H130,0)","v":32},null,{"$f":"IF(ISNUMBER(CSVデータ1!J130),CSVデータ1!J130,0)+IF(ISNUMBER(CSVデータ2!J130),CSVデータ2!J130,0)+IF(ISNUMBER(CSVデータ3!J130),CSVデータ3!J130,0)+IF(ISNUMBER(CSVデータ4!J130),CSVデータ4!J130,0)","v":21},null,{"$f":"IF(ISNUMBER(CSVデータ1!L130),CSVデータ1!L130,0)+IF(ISNUMBER(CSVデータ2!L130),CSVデータ2!L130,0)+IF(ISNUMBER(CSVデータ3!L130),CSVデータ3!L130,0)+IF(ISNUMBER(CSVデータ4!L130),CSVデータ4!L130,0)","v":21},null,{"$f":"IF(ISNUMBER(CSVデータ1!N130),CSVデータ1!N130,0)+IF(ISNUMBER(CSVデータ2!N130),CSVデータ2!N130,0)+IF(ISNUMBER(CSVデータ3!N130),CSVデータ3!N130,0)+IF(ISNUMBER(CSVデータ4!N130),CSVデータ4!N130,0)","v":1},null,{"$f":"IF(ISNUMBER(CSVデータ1!P130),CSVデータ1!P130,0)+IF(ISNUMBER(CSVデータ2!P130),CSVデータ2!P130,0)+IF(ISNUMBER(CSVデータ3!P130),CSVデータ3!P130,0)+IF(ISNUMBER(CSVデータ4!P130),CSVデータ4!P130,0)","v":27},null,{"$f":"IF(ISNUMBER(CSVデータ1!R130),CSVデータ1!R130,0)+IF(ISNUMBER(CSVデータ2!R130),CSVデータ2!R130,0)+IF(ISNUMBER(CSVデータ3!R130),CSVデータ3!R130,0)+IF(ISNUMBER(CSVデータ4!R130),CSVデータ4!R130,0)","v":117},null,{"$f":"IF(ISNUMBER(CSVデータ1!T130),CSVデータ1!T130,0)+IF(ISNUMBER(CSVデータ2!T130),CSVデータ2!T130,0)+IF(ISNUMBER(CSVデータ3!T130),CSVデータ3!T130,0)+IF(ISNUMBER(CSVデータ4!T130),CSVデータ4!T130,0)","v":5},null,{"$f":"IF(ISNUMBER(CSVデータ1!V130),CSVデータ1!V130,0)+IF(ISNUMBER(CSVデータ2!V130),CSVデータ2!V130,0)+IF(ISNUMBER(CSVデータ3!V130),CSVデータ3!V130,0)+IF(ISNUMBER(CSVデータ4!V130),CSVデータ4!V130,0)","v":60},null,{"$f":"IF(ISNUMBER(CSVデータ1!X130),CSVデータ1!X130,0)+IF(ISNUMBER(CSVデータ2!X130),CSVデータ2!X130,0)+IF(ISNUMBER(CSVデータ3!X130),CSVデータ3!X130,0)+IF(ISNUMBER(CSVデータ4!X130),CSVデータ4!X130,0)","v":31},null,{"$f":"IF(ISNUMBER(CSVデータ1!Z130),CSVデータ1!Z130,0)+IF(ISNUMBER(CSVデータ2!Z130),CSVデータ2!Z130,0)+IF(ISNUMBER(CSVデータ3!Z130),CSVデータ3!Z130,0)+IF(ISNUMBER(CSVデータ4!Z130),CSVデータ4!Z130,0)","v":106},null,{"$f":"IF(ISNUMBER(CSVデータ1!AB130),CSVデータ1!AB130,0)+IF(ISNUMBER(CSVデータ2!AB130),CSVデータ2!AB130,0)+IF(ISNUMBER(CSVデータ3!AB130),CSVデータ3!AB130,0)+IF(ISNUMBER(CSVデータ4!AB130),CSVデータ4!AB130,0)","v":0},null,{"$f":"IF(ISNUMBER(CSVデータ1!AD130),CSVデータ1!AD130,0)+IF(ISNUMBER(CSVデータ2!AD130),CSVデータ2!AD130,0)+IF(ISNUMBER(CSVデータ3!AD130),CSVデータ3!AD130,0)+IF(ISNUMBER(CSVデータ4!AD130),CSVデータ4!AD130,0)","v":35},null,{"$f":"IF(ISNUMBER(CSVデータ1!AF130),CSVデータ1!AF130,0)+IF(ISNUMBER(CSVデータ2!AF130),CSVデータ2!AF130,0)+IF(ISNUMBER(CSVデータ3!AF130),CSVデータ3!AF130,0)+IF(ISNUMBER(CSVデータ4!AF130),CSVデータ4!AF130,0)","v":20},null,{"$f":"IF(ISNUMBER(CSVデータ1!AH130),CSVデータ1!AH130,0)+IF(ISNUMBER(CSVデータ2!AH130),CSVデータ2!AH130,0)+IF(ISNUMBER(CSVデータ3!AH130),CSVデータ3!AH130,0)+IF(ISNUMBER(CSVデータ4!AH130),CSVデータ4!AH130,0)","v":5},null,{"$f":"IF(ISNUMBER(CSVデータ1!AJ130),CSVデータ1!AJ130,0)+IF(ISNUMBER(CSVデータ2!AJ130),CSVデータ2!AJ130,0)+IF(ISNUMBER(CSVデータ3!AJ130),CSVデータ3!AJ130,0)+IF(ISNUMBER(CSVデータ4!AJ130),CSVデータ4!AJ130,0)","v":9},null,{"$f":"IF(ISNUMBER(CSVデータ1!AL130),CSVデータ1!AL130,0)+IF(ISNUMBER(CSVデータ2!AL130),CSVデータ2!AL130,0)+IF(ISNUMBER(CSVデータ3!AL130),CSVデータ3!AL130,0)+IF(ISNUMBER(CSVデータ4!AL130),CSVデータ4!AL130,0)","v":32},null,{"$f":"IF(ISNUMBER(CSVデータ1!AN130),CSVデータ1!AN130,0)+IF(ISNUMBER(CSVデータ2!AN130),CSVデータ2!AN130,0)+IF(ISNUMBER(CSVデータ3!AN130),CSVデータ3!AN130,0)+IF(ISNUMBER(CSVデータ4!AN130),CSVデータ4!AN130,0)","v":1}]
[{"$f":"CSVデータ1!A131","v":"明細部"},{"$f":"CSVデータ1!B131","v":"県"},{"$f":"CSVデータ1!C131","v":62},{"$f":"CSVデータ1!D131","v":"女"},{"$f":"IF(ISNUMBER(CSVデータ1!E131),CSVデータ1!E131,0)+IF(ISNUMBER(CSVデータ2!E131),CSVデータ2!E131,0)+IF(ISNUMBER(CSVデータ3!E131),CSVデータ3!E131,0)+IF(ISNUMBER(CSVデータ4!E131),CSVデータ4!E131,0)","v":215},{"$f":"IF(ISNUMBER(CSVデータ1!F131),CSVデータ1!F131,0)+IF(ISNUMBER(CSVデータ2!F131),CSVデータ2!F131,0)+IF(ISNUMBER(CSVデータ3!F131),CSVデータ3!F131,0)+IF(ISNUMBER(CSVデータ4!F131),CSVデータ4!F131,0)","v":44},null,{"$f":"IF(ISNUMBER(CSVデータ1!H131),CSVデータ1!H131,0)+IF(ISNUMBER(CSVデータ2!H131),CSVデータ2!H131,0)+IF(ISNUMBER(CSVデータ3!H131),CSVデータ3!H131,0)+IF(ISNUMBER(CSVデータ4!H131),CSVデータ4!H131,0)","v":41},null,{"$f":"IF(ISNUMBER(CSVデータ1!J131),CSVデータ1!J131,0)+IF(ISNUMBER(CSVデータ2!J131),CSVデータ2!J131,0)+IF(ISNUMBER(CSVデータ3!J131),CSVデータ3!J131,0)+IF(ISNUMBER(CSVデータ4!J131),CSVデータ4!J131,0)","v":25},null,{"$f":"IF(ISNUMBER(CSVデータ1!L131),CSVデータ1!L131,0)+IF(ISNUMBER(CSVデータ2!L131),CSVデータ2!L131,0)+IF(ISNUMBER(CSVデータ3!L131),CSVデータ3!L131,0)+IF(ISNUMBER(CSVデータ4!L131),CSVデータ4!L131,0)","v":17},null,{"$f":"IF(ISNUMBER(CSVデータ1!N131),CSVデータ1!N131,0)+IF(ISNUMBER(CSVデータ2!N131),CSVデータ2!N131,0)+IF(ISNUMBER(CSVデータ3!N131),CSVデータ3!N131,0)+IF(ISNUMBER(CSVデータ4!N131),CSVデータ4!N131,0)","v":1},null,{"$f":"IF(ISNUMBER(CSVデータ1!P131),CSVデータ1!P131,0)+IF(ISNUMBER(CSVデータ2!P131),CSVデータ2!P131,0)+IF(ISNUMBER(CSVデータ3!P131),CSVデータ3!P131,0)+IF(ISNUMBER(CSVデータ4!P131),CSVデータ4!P131,0)","v":33},null,{"$f":"IF(ISNUMBER(CSVデータ1!R131),CSVデータ1!R131,0)+IF(ISNUMBER(CSVデータ2!R131),CSVデータ2!R131,0)+IF(ISNUMBER(CSVデータ3!R131),CSVデータ3!R131,0)+IF(ISNUMBER(CSVデータ4!R131),CSVデータ4!R131,0)","v":131},null,{"$f":"IF(ISNUMBER(CSVデータ1!T131),CSVデータ1!T131,0)+IF(ISNUMBER(CSVデータ2!T131),CSVデータ2!T131,0)+IF(ISNUMBER(CSVデータ3!T131),CSVデータ3!T131,0)+IF(ISNUMBER(CSVデータ4!T131),CSVデータ4!T131,0)","v":5},null,{"$f":"IF(ISNUMBER(CSVデータ1!V131),CSVデータ1!V131,0)+IF(ISNUMBER(CSVデータ2!V131),CSVデータ2!V131,0)+IF(ISNUMBER(CSVデータ3!V131),CSVデータ3!V131,0)+IF(ISNUMBER(CSVデータ4!V131),CSVデータ4!V131,0)","v":65},null,{"$f":"IF(ISNUMBER(CSVデータ1!X131),CSVデータ1!X131,0)+IF(ISNUMBER(CSVデータ2!X131),CSVデータ2!X131,0)+IF(ISNUMBER(CSVデータ3!X131),CSVデータ3!X131,0)+IF(ISNUMBER(CSVデータ4!X131),CSVデータ4!X131,0)","v":34},null,{"$f":"IF(ISNUMBER(CSVデータ1!Z131),CSVデータ1!Z131,0)+IF(ISNUMBER(CSVデータ2!Z131),CSVデータ2!Z131,0)+IF(ISNUMBER(CSVデータ3!Z131),CSVデータ3!Z131,0)+IF(ISNUMBER(CSVデータ4!Z131),CSVデータ4!Z131,0)","v":133},null,{"$f":"IF(ISNUMBER(CSVデータ1!AB131),CSVデータ1!AB131,0)+IF(ISNUMBER(CSVデータ2!AB131),CSVデータ2!AB131,0)+IF(ISNUMBER(CSVデータ3!AB131),CSVデータ3!AB131,0)+IF(ISNUMBER(CSVデータ4!AB131),CSVデータ4!AB131,0)","v":0},null,{"$f":"IF(ISNUMBER(CSVデータ1!AD131),CSVデータ1!AD131,0)+IF(ISNUMBER(CSVデータ2!AD131),CSVデータ2!AD131,0)+IF(ISNUMBER(CSVデータ3!AD131),CSVデータ3!AD131,0)+IF(ISNUMBER(CSVデータ4!AD131),CSVデータ4!AD131,0)","v":47},null,{"$f":"IF(ISNUMBER(CSVデータ1!AF131),CSVデータ1!AF131,0)+IF(ISNUMBER(CSVデータ2!AF131),CSVデータ2!AF131,0)+IF(ISNUMBER(CSVデータ3!AF131),CSVデータ3!AF131,0)+IF(ISNUMBER(CSVデータ4!AF131),CSVデータ4!AF131,0)","v":32},null,{"$f":"IF(ISNUMBER(CSVデータ1!AH131),CSVデータ1!AH131,0)+IF(ISNUMBER(CSVデータ2!AH131),CSVデータ2!AH131,0)+IF(ISNUMBER(CSVデータ3!AH131),CSVデータ3!AH131,0)+IF(ISNUMBER(CSVデータ4!AH131),CSVデータ4!AH131,0)","v":3},null,{"$f":"IF(ISNUMBER(CSVデータ1!AJ131),CSVデータ1!AJ131,0)+IF(ISNUMBER(CSVデータ2!AJ131),CSVデータ2!AJ131,0)+IF(ISNUMBER(CSVデータ3!AJ131),CSVデータ3!AJ131,0)+IF(ISNUMBER(CSVデータ4!AJ131),CSVデータ4!AJ131,0)","v":9},null,{"$f":"IF(ISNUMBER(CSVデータ1!AL131),CSVデータ1!AL131,0)+IF(ISNUMBER(CSVデータ2!AL131),CSVデータ2!AL131,0)+IF(ISNUMBER(CSVデータ3!AL131),CSVデータ3!AL131,0)+IF(ISNUMBER(CSVデータ4!AL131),CSVデータ4!AL131,0)","v":53},null,{"$f":"IF(ISNUMBER(CSVデータ1!AN131),CSVデータ1!AN131,0)+IF(ISNUMBER(CSVデータ2!AN131),CSVデータ2!AN131,0)+IF(ISNUMBER(CSVデータ3!AN131),CSVデータ3!AN131,0)+IF(ISNUMBER(CSVデータ4!AN131),CSVデータ4!AN131,0)","v":3}]
[{"$f":"CSVデータ1!A132","v":"明細部"},{"$f":"CSVデータ1!B132","v":"県"},{"$f":"CSVデータ1!C132","v":63},{"$f":"CSVデータ1!D132","v":"女"},{"$f":"IF(ISNUMBER(CSVデータ1!E132),CSVデータ1!E132,0)+IF(ISNUMBER(CSVデータ2!E132),CSVデータ2!E132,0)+IF(ISNUMBER(CSVデータ3!E132),CSVデータ3!E132,0)+IF(ISNUMBER(CSVデータ4!E132),CSVデータ4!E132,0)","v":246},{"$f":"IF(ISNUMBER(CSVデータ1!F132),CSVデータ1!F132,0)+IF(ISNUMBER(CSVデータ2!F132),CSVデータ2!F132,0)+IF(ISNUMBER(CSVデータ3!F132),CSVデータ3!F132,0)+IF(ISNUMBER(CSVデータ4!F132),CSVデータ4!F132,0)","v":48},null,{"$f":"IF(ISNUMBER(CSVデータ1!H132),CSVデータ1!H132,0)+IF(ISNUMBER(CSVデータ2!H132),CSVデータ2!H132,0)+IF(ISNUMBER(CSVデータ3!H132),CSVデータ3!H132,0)+IF(ISNUMBER(CSVデータ4!H132),CSVデータ4!H132,0)","v":38},null,{"$f":"IF(ISNUMBER(CSVデータ1!J132),CSVデータ1!J132,0)+IF(ISNUMBER(CSVデータ2!J132),CSVデータ2!J132,0)+IF(ISNUMBER(CSVデータ3!J132),CSVデータ3!J132,0)+IF(ISNUMBER(CSVデータ4!J132),CSVデータ4!J132,0)","v":25},null,{"$f":"IF(ISNUMBER(CSVデータ1!L132),CSVデータ1!L132,0)+IF(ISNUMBER(CSVデータ2!L132),CSVデータ2!L132,0)+IF(ISNUMBER(CSVデータ3!L132),CSVデータ3!L132,0)+IF(ISNUMBER(CSVデータ4!L132),CSVデータ4!L132,0)","v":17},null,{"$f":"IF(ISNUMBER(CSVデータ1!N132),CSVデータ1!N132,0)+IF(ISNUMBER(CSVデータ2!N132),CSVデータ2!N132,0)+IF(ISNUMBER(CSVデータ3!N132),CSVデータ3!N132,0)+IF(ISNUMBER(CSVデータ4!N132),CSVデータ4!N132,0)","v":2},null,{"$f":"IF(ISNUMBER(CSVデータ1!P132),CSVデータ1!P132,0)+IF(ISNUMBER(CSVデータ2!P132),CSVデータ2!P132,0)+IF(ISNUMBER(CSVデータ3!P132),CSVデータ3!P132,0)+IF(ISNUMBER(CSVデータ4!P132),CSVデータ4!P132,0)","v":36},null,{"$f":"IF(ISNUMBER(CSVデータ1!R132),CSVデータ1!R132,0)+IF(ISNUMBER(CSVデータ2!R132),CSVデータ2!R132,0)+IF(ISNUMBER(CSVデータ3!R132),CSVデータ3!R132,0)+IF(ISNUMBER(CSVデータ4!R132),CSVデータ4!R132,0)","v":152},null,{"$f":"IF(ISNUMBER(CSVデータ1!T132),CSVデータ1!T132,0)+IF(ISNUMBER(CSVデータ2!T132),CSVデータ2!T132,0)+IF(ISNUMBER(CSVデータ3!T132),CSVデータ3!T132,0)+IF(ISNUMBER(CSVデータ4!T132),CSVデータ4!T132,0)","v":3},null,{"$f":"IF(ISNUMBER(CSVデータ1!V132),CSVデータ1!V132,0)+IF(ISNUMBER(CSVデータ2!V132),CSVデータ2!V132,0)+IF(ISNUMBER(CSVデータ3!V132),CSVデータ3!V132,0)+IF(ISNUMBER(CSVデータ4!V132),CSVデータ4!V132,0)","v":80},null,{"$f":"IF(ISNUMBER(CSVデータ1!X132),CSVデータ1!X132,0)+IF(ISNUMBER(CSVデータ2!X132),CSVデータ2!X132,0)+IF(ISNUMBER(CSVデータ3!X132),CSVデータ3!X132,0)+IF(ISNUMBER(CSVデータ4!X132),CSVデータ4!X132,0)","v":45},null,{"$f":"IF(ISNUMBER(CSVデータ1!Z132),CSVデータ1!Z132,0)+IF(ISNUMBER(CSVデータ2!Z132),CSVデータ2!Z132,0)+IF(ISNUMBER(CSVデータ3!Z132),CSVデータ3!Z132,0)+IF(ISNUMBER(CSVデータ4!Z132),CSVデータ4!Z132,0)","v":154},null,{"$f":"IF(ISNUMBER(CSVデータ1!AB132),CSVデータ1!AB132,0)+IF(ISNUMBER(CSVデータ2!AB132),CSVデータ2!AB132,0)+IF(ISNUMBER(CSVデータ3!AB132),CSVデータ3!AB132,0)+IF(ISNUMBER(CSVデータ4!AB132),CSVデータ4!AB132,0)","v":0},null,{"$f":"IF(ISNUMBER(CSVデータ1!AD132),CSVデータ1!AD132,0)+IF(ISNUMBER(CSVデータ2!AD132),CSVデータ2!AD132,0)+IF(ISNUMBER(CSVデータ3!AD132),CSVデータ3!AD132,0)+IF(ISNUMBER(CSVデータ4!AD132),CSVデータ4!AD132,0)","v":59},null,{"$f":"IF(ISNUMBER(CSVデータ1!AF132),CSVデータ1!AF132,0)+IF(ISNUMBER(CSVデータ2!AF132),CSVデータ2!AF132,0)+IF(ISNUMBER(CSVデータ3!AF132),CSVデータ3!AF132,0)+IF(ISNUMBER(CSVデータ4!AF132),CSVデータ4!AF132,0)","v":29},null,{"$f":"IF(ISNUMBER(CSVデータ1!AH132),CSVデータ1!AH132,0)+IF(ISNUMBER(CSVデータ2!AH132),CSVデータ2!AH132,0)+IF(ISNUMBER(CSVデータ3!AH132),CSVデータ3!AH132,0)+IF(ISNUMBER(CSVデータ4!AH132),CSVデータ4!AH132,0)","v":3},null,{"$f":"IF(ISNUMBER(CSVデータ1!AJ132),CSVデータ1!AJ132,0)+IF(ISNUMBER(CSVデータ2!AJ132),CSVデータ2!AJ132,0)+IF(ISNUMBER(CSVデータ3!AJ132),CSVデータ3!AJ132,0)+IF(ISNUMBER(CSVデータ4!AJ132),CSVデータ4!AJ132,0)","v":6},null,{"$f":"IF(ISNUMBER(CSVデータ1!AL132),CSVデータ1!AL132,0)+IF(ISNUMBER(CSVデータ2!AL132),CSVデータ2!AL132,0)+IF(ISNUMBER(CSVデータ3!AL132),CSVデータ3!AL132,0)+IF(ISNUMBER(CSVデータ4!AL132),CSVデータ4!AL132,0)","v":58},null,{"$f":"IF(ISNUMBER(CSVデータ1!AN132),CSVデータ1!AN132,0)+IF(ISNUMBER(CSVデータ2!AN132),CSVデータ2!AN132,0)+IF(ISNUMBER(CSVデータ3!AN132),CSVデータ3!AN132,0)+IF(ISNUMBER(CSVデータ4!AN132),CSVデータ4!AN132,0)","v":5}]
[{"$f":"CSVデータ1!A133","v":"明細部"},{"$f":"CSVデータ1!B133","v":"県"},{"$f":"CSVデータ1!C133","v":64},{"$f":"CSVデータ1!D133","v":"女"},{"$f":"IF(ISNUMBER(CSVデータ1!E133),CSVデータ1!E133,0)+IF(ISNUMBER(CSVデータ2!E133),CSVデータ2!E133,0)+IF(ISNUMBER(CSVデータ3!E133),CSVデータ3!E133,0)+IF(ISNUMBER(CSVデータ4!E133),CSVデータ4!E133,0)","v":320},{"$f":"IF(ISNUMBER(CSVデータ1!F133),CSVデータ1!F133,0)+IF(ISNUMBER(CSVデータ2!F133),CSVデータ2!F133,0)+IF(ISNUMBER(CSVデータ3!F133),CSVデータ3!F133,0)+IF(ISNUMBER(CSVデータ4!F133),CSVデータ4!F133,0)","v":59},null,{"$f":"IF(ISNUMBER(CSVデータ1!H133),CSVデータ1!H133,0)+IF(ISNUMBER(CSVデータ2!H133),CSVデータ2!H133,0)+IF(ISNUMBER(CSVデータ3!H133),CSVデータ3!H133,0)+IF(ISNUMBER(CSVデータ4!H133),CSVデータ4!H133,0)","v":58},null,{"$f":"IF(ISNUMBER(CSVデータ1!J133),CSVデータ1!J133,0)+IF(ISNUMBER(CSVデータ2!J133),CSVデータ2!J133,0)+IF(ISNUMBER(CSVデータ3!J133),CSVデータ3!J133,0)+IF(ISNUMBER(CSVデータ4!J133),CSVデータ4!J133,0)","v":32},null,{"$f":"IF(ISNUMBER(CSVデータ1!L133),CSVデータ1!L133,0)+IF(ISNUMBER(CSVデータ2!L133),CSVデータ2!L133,0)+IF(ISNUMBER(CSVデータ3!L133),CSVデータ3!L133,0)+IF(ISNUMBER(CSVデータ4!L133),CSVデータ4!L133,0)","v":31},null,{"$f":"IF(ISNUMBER(CSVデータ1!N133),CSVデータ1!N133,0)+IF(ISNUMBER(CSVデータ2!N133),CSVデータ2!N133,0)+IF(ISNUMBER(CSVデータ3!N133),CSVデータ3!N133,0)+IF(ISNUMBER(CSVデータ4!N133),CSVデータ4!N133,0)","v":1},null,{"$f":"IF(ISNUMBER(CSVデータ1!P133),CSVデータ1!P133,0)+IF(ISNUMBER(CSVデータ2!P133),CSVデータ2!P133,0)+IF(ISNUMBER(CSVデータ3!P133),CSVデータ3!P133,0)+IF(ISNUMBER(CSVデータ4!P133),CSVデータ4!P133,0)","v":52},null,{"$f":"IF(ISNUMBER(CSVデータ1!R133),CSVデータ1!R133,0)+IF(ISNUMBER(CSVデータ2!R133),CSVデータ2!R133,0)+IF(ISNUMBER(CSVデータ3!R133),CSVデータ3!R133,0)+IF(ISNUMBER(CSVデータ4!R133),CSVデータ4!R133,0)","v":203},null,{"$f":"IF(ISNUMBER(CSVデータ1!T133),CSVデータ1!T133,0)+IF(ISNUMBER(CSVデータ2!T133),CSVデータ2!T133,0)+IF(ISNUMBER(CSVデータ3!T133),CSVデータ3!T133,0)+IF(ISNUMBER(CSVデータ4!T133),CSVデータ4!T133,0)","v":7},null,{"$f":"IF(ISNUMBER(CSVデータ1!V133),CSVデータ1!V133,0)+IF(ISNUMBER(CSVデータ2!V133),CSVデータ2!V133,0)+IF(ISNUMBER(CSVデータ3!V133),CSVデータ3!V133,0)+IF(ISNUMBER(CSVデータ4!V133),CSVデータ4!V133,0)","v":110},null,{"$f":"IF(ISNUMBER(CSVデータ1!X133),CSVデータ1!X133,0)+IF(ISNUMBER(CSVデータ2!X133),CSVデータ2!X133,0)+IF(ISNUMBER(CSVデータ3!X133),CSVデータ3!X133,0)+IF(ISNUMBER(CSVデータ4!X133),CSVデータ4!X133,0)","v":59},null,{"$f":"IF(ISNUMBER(CSVデータ1!Z133),CSVデータ1!Z133,0)+IF(ISNUMBER(CSVデータ2!Z133),CSVデータ2!Z133,0)+IF(ISNUMBER(CSVデータ3!Z133),CSVデータ3!Z133,0)+IF(ISNUMBER(CSVデータ4!Z133),CSVデータ4!Z133,0)","v":177},null,{"$f":"IF(ISNUMBER(CSVデータ1!AB133),CSVデータ1!AB133,0)+IF(ISNUMBER(CSVデータ2!AB133),CSVデータ2!AB133,0)+IF(ISNUMBER(CSVデータ3!AB133),CSVデータ3!AB133,0)+IF(ISNUMBER(CSVデータ4!AB133),CSVデータ4!AB133,0)","v":0},null,{"$f":"IF(ISNUMBER(CSVデータ1!AD133),CSVデータ1!AD133,0)+IF(ISNUMBER(CSVデータ2!AD133),CSVデータ2!AD133,0)+IF(ISNUMBER(CSVデータ3!AD133),CSVデータ3!AD133,0)+IF(ISNUMBER(CSVデータ4!AD133),CSVデータ4!AD133,0)","v":65},null,{"$f":"IF(ISNUMBER(CSVデータ1!AF133),CSVデータ1!AF133,0)+IF(ISNUMBER(CSVデータ2!AF133),CSVデータ2!AF133,0)+IF(ISNUMBER(CSVデータ3!AF133),CSVデータ3!AF133,0)+IF(ISNUMBER(CSVデータ4!AF133),CSVデータ4!AF133,0)","v":37},null,{"$f":"IF(ISNUMBER(CSVデータ1!AH133),CSVデータ1!AH133,0)+IF(ISNUMBER(CSVデータ2!AH133),CSVデータ2!AH133,0)+IF(ISNUMBER(CSVデータ3!AH133),CSVデータ3!AH133,0)+IF(ISNUMBER(CSVデータ4!AH133),CSVデータ4!AH133,0)","v":3},null,{"$f":"IF(ISNUMBER(CSVデータ1!AJ133),CSVデータ1!AJ133,0)+IF(ISNUMBER(CSVデータ2!AJ133),CSVデータ2!AJ133,0)+IF(ISNUMBER(CSVデータ3!AJ133),CSVデータ3!AJ133,0)+IF(ISNUMBER(CSVデータ4!AJ133),CSVデータ4!AJ133,0)","v":6},null,{"$f":"IF(ISNUMBER(CSVデータ1!AL133),CSVデータ1!AL133,0)+IF(ISNUMBER(CSVデータ2!AL133),CSVデータ2!AL133,0)+IF(ISNUMBER(CSVデータ3!AL133),CSVデータ3!AL133,0)+IF(ISNUMBER(CSVデータ4!AL133),CSVデータ4!AL133,0)","v":64},null,{"$f":"IF(ISNUMBER(CSVデータ1!AN133),CSVデータ1!AN133,0)+IF(ISNUMBER(CSVデータ2!AN133),CSVデータ2!AN133,0)+IF(ISNUMBER(CSVデータ3!AN133),CSVデータ3!AN133,0)+IF(ISNUMBER(CSVデータ4!AN133),CSVデータ4!AN133,0)","v":5}]
[{"$f":"CSVデータ1!A134","v":"明細部"},{"$f":"CSVデータ1!B134","v":"県"},{"$f":"CSVデータ1!C134","v":65},{"$f":"CSVデータ1!D134","v":"女"},{"$f":"IF(ISNUMBER(CSVデータ1!E134),CSVデータ1!E134,0)+IF(ISNUMBER(CSVデータ2!E134),CSVデータ2!E134,0)+IF(ISNUMBER(CSVデータ3!E134),CSVデータ3!E134,0)+IF(ISNUMBER(CSVデータ4!E134),CSVデータ4!E134,0)","v":334},{"$f":"IF(ISNUMBER(CSVデータ1!F134),CSVデータ1!F134,0)+IF(ISNUMBER(CSVデータ2!F134),CSVデータ2!F134,0)+IF(ISNUMBER(CSVデータ3!F134),CSVデータ3!F134,0)+IF(ISNUMBER(CSVデータ4!F134),CSVデータ4!F134,0)","v":49},null,{"$f":"IF(ISNUMBER(CSVデータ1!H134),CSVデータ1!H134,0)+IF(ISNUMBER(CSVデータ2!H134),CSVデータ2!H134,0)+IF(ISNUMBER(CSVデータ3!H134),CSVデータ3!H134,0)+IF(ISNUMBER(CSVデータ4!H134),CSVデータ4!H134,0)","v":48},null,{"$f":"IF(ISNUMBER(CSVデータ1!J134),CSVデータ1!J134,0)+IF(ISNUMBER(CSVデータ2!J134),CSVデータ2!J134,0)+IF(ISNUMBER(CSVデータ3!J134),CSVデータ3!J134,0)+IF(ISNUMBER(CSVデータ4!J134),CSVデータ4!J134,0)","v":43},null,{"$f":"IF(ISNUMBER(CSVデータ1!L134),CSVデータ1!L134,0)+IF(ISNUMBER(CSVデータ2!L134),CSVデータ2!L134,0)+IF(ISNUMBER(CSVデータ3!L134),CSVデータ3!L134,0)+IF(ISNUMBER(CSVデータ4!L134),CSVデータ4!L134,0)","v":23},null,{"$f":"IF(ISNUMBER(CSVデータ1!N134),CSVデータ1!N134,0)+IF(ISNUMBER(CSVデータ2!N134),CSVデータ2!N134,0)+IF(ISNUMBER(CSVデータ3!N134),CSVデータ3!N134,0)+IF(ISNUMBER(CSVデータ4!N134),CSVデータ4!N134,0)","v":1},null,{"$f":"IF(ISNUMBER(CSVデータ1!P134),CSVデータ1!P134,0)+IF(ISNUMBER(CSVデータ2!P134),CSVデータ2!P134,0)+IF(ISNUMBER(CSVデータ3!P134),CSVデータ3!P134,0)+IF(ISNUMBER(CSVデータ4!P134),CSVデータ4!P134,0)","v":66},null,{"$f":"IF(ISNUMBER(CSVデータ1!R134),CSVデータ1!R134,0)+IF(ISNUMBER(CSVデータ2!R134),CSVデータ2!R134,0)+IF(ISNUMBER(CSVデータ3!R134),CSVデータ3!R134,0)+IF(ISNUMBER(CSVデータ4!R134),CSVデータ4!R134,0)","v":212},null,{"$f":"IF(ISNUMBER(CSVデータ1!T134),CSVデータ1!T134,0)+IF(ISNUMBER(CSVデータ2!T134),CSVデータ2!T134,0)+IF(ISNUMBER(CSVデータ3!T134),CSVデータ3!T134,0)+IF(ISNUMBER(CSVデータ4!T134),CSVデータ4!T134,0)","v":8},null,{"$f":"IF(ISNUMBER(CSVデータ1!V134),CSVデータ1!V134,0)+IF(ISNUMBER(CSVデータ2!V134),CSVデータ2!V134,0)+IF(ISNUMBER(CSVデータ3!V134),CSVデータ3!V134,0)+IF(ISNUMBER(CSVデータ4!V134),CSVデータ4!V134,0)","v":134},null,{"$f":"IF(ISNUMBER(CSVデータ1!X134),CSVデータ1!X134,0)+IF(ISNUMBER(CSVデータ2!X134),CSVデータ2!X134,0)+IF(ISNUMBER(CSVデータ3!X134),CSVデータ3!X134,0)+IF(ISNUMBER(CSVデータ4!X134),CSVデータ4!X134,0)","v":61},null,{"$f":"IF(ISNUMBER(CSVデータ1!Z134),CSVデータ1!Z134,0)+IF(ISNUMBER(CSVデータ2!Z134),CSVデータ2!Z134,0)+IF(ISNUMBER(CSVデータ3!Z134),CSVデータ3!Z134,0)+IF(ISNUMBER(CSVデータ4!Z134),CSVデータ4!Z134,0)","v":207},null,{"$f":"IF(ISNUMBER(CSVデータ1!AB134),CSVデータ1!AB134,0)+IF(ISNUMBER(CSVデータ2!AB134),CSVデータ2!AB134,0)+IF(ISNUMBER(CSVデータ3!AB134),CSVデータ3!AB134,0)+IF(ISNUMBER(CSVデータ4!AB134),CSVデータ4!AB134,0)","v":0},null,{"$f":"IF(ISNUMBER(CSVデータ1!AD134),CSVデータ1!AD134,0)+IF(ISNUMBER(CSVデータ2!AD134),CSVデータ2!AD134,0)+IF(ISNUMBER(CSVデータ3!AD134),CSVデータ3!AD134,0)+IF(ISNUMBER(CSVデータ4!AD134),CSVデータ4!AD134,0)","v":77},null,{"$f":"IF(ISNUMBER(CSVデータ1!AF134),CSVデータ1!AF134,0)+IF(ISNUMBER(CSVデータ2!AF134),CSVデータ2!AF134,0)+IF(ISNUMBER(CSVデータ3!AF134),CSVデータ3!AF134,0)+IF(ISNUMBER(CSVデータ4!AF134),CSVデータ4!AF134,0)","v":42},null,{"$f":"IF(ISNUMBER(CSVデータ1!AH134),CSVデータ1!AH134,0)+IF(ISNUMBER(CSVデータ2!AH134),CSVデータ2!AH134,0)+IF(ISNUMBER(CSVデータ3!AH134),CSVデータ3!AH134,0)+IF(ISNUMBER(CSVデータ4!AH134),CSVデータ4!AH134,0)","v":4},null,{"$f":"IF(ISNUMBER(CSVデータ1!AJ134),CSVデータ1!AJ134,0)+IF(ISNUMBER(CSVデータ2!AJ134),CSVデータ2!AJ134,0)+IF(ISNUMBER(CSVデータ3!AJ134),CSVデータ3!AJ134,0)+IF(ISNUMBER(CSVデータ4!AJ134),CSVデータ4!AJ134,0)","v":8},null,{"$f":"IF(ISNUMBER(CSVデータ1!AL134),CSVデータ1!AL134,0)+IF(ISNUMBER(CSVデータ2!AL134),CSVデータ2!AL134,0)+IF(ISNUMBER(CSVデータ3!AL134),CSVデータ3!AL134,0)+IF(ISNUMBER(CSVデータ4!AL134),CSVデータ4!AL134,0)","v":74},null,{"$f":"IF(ISNUMBER(CSVデータ1!AN134),CSVデータ1!AN134,0)+IF(ISNUMBER(CSVデータ2!AN134),CSVデータ2!AN134,0)+IF(ISNUMBER(CSVデータ3!AN134),CSVデータ3!AN134,0)+IF(ISNUMBER(CSVデータ4!AN134),CSVデータ4!AN134,0)","v":2}]
[{"$f":"CSVデータ1!A135","v":"明細部"},{"$f":"CSVデータ1!B135","v":"県"},{"$f":"CSVデータ1!C135","v":66},{"$f":"CSVデータ1!D135","v":"女"},{"$f":"IF(ISNUMBER(CSVデータ1!E135),CSVデータ1!E135,0)+IF(ISNUMBER(CSVデータ2!E135),CSVデータ2!E135,0)+IF(ISNUMBER(CSVデータ3!E135),CSVデータ3!E135,0)+IF(ISNUMBER(CSVデータ4!E135),CSVデータ4!E135,0)","v":407},{"$f":"IF(ISNUMBER(CSVデータ1!F135),CSVデータ1!F135,0)+IF(ISNUMBER(CSVデータ2!F135),CSVデータ2!F135,0)+IF(ISNUMBER(CSVデータ3!F135),CSVデータ3!F135,0)+IF(ISNUMBER(CSVデータ4!F135),CSVデータ4!F135,0)","v":72},null,{"$f":"IF(ISNUMBER(CSVデータ1!H135),CSVデータ1!H135,0)+IF(ISNUMBER(CSVデータ2!H135),CSVデータ2!H135,0)+IF(ISNUMBER(CSVデータ3!H135),CSVデータ3!H135,0)+IF(ISNUMBER(CSVデータ4!H135),CSVデータ4!H135,0)","v":62},null,{"$f":"IF(ISNUMBER(CSVデータ1!J135),CSVデータ1!J135,0)+IF(ISNUMBER(CSVデータ2!J135),CSVデータ2!J135,0)+IF(ISNUMBER(CSVデータ3!J135),CSVデータ3!J135,0)+IF(ISNUMBER(CSVデータ4!J135),CSVデータ4!J135,0)","v":33},null,{"$f":"IF(ISNUMBER(CSVデータ1!L135),CSVデータ1!L135,0)+IF(ISNUMBER(CSVデータ2!L135),CSVデータ2!L135,0)+IF(ISNUMBER(CSVデータ3!L135),CSVデータ3!L135,0)+IF(ISNUMBER(CSVデータ4!L135),CSVデータ4!L135,0)","v":33},null,{"$f":"IF(ISNUMBER(CSVデータ1!N135),CSVデータ1!N135,0)+IF(ISNUMBER(CSVデータ2!N135),CSVデータ2!N135,0)+IF(ISNUMBER(CSVデータ3!N135),CSVデータ3!N135,0)+IF(ISNUMBER(CSVデータ4!N135),CSVデータ4!N135,0)","v":0},null,{"$f":"IF(ISNUMBER(CSVデータ1!P135),CSVデータ1!P135,0)+IF(ISNUMBER(CSVデータ2!P135),CSVデータ2!P135,0)+IF(ISNUMBER(CSVデータ3!P135),CSVデータ3!P135,0)+IF(ISNUMBER(CSVデータ4!P135),CSVデータ4!P135,0)","v":74},null,{"$f":"IF(ISNUMBER(CSVデータ1!R135),CSVデータ1!R135,0)+IF(ISNUMBER(CSVデータ2!R135),CSVデータ2!R135,0)+IF(ISNUMBER(CSVデータ3!R135),CSVデータ3!R135,0)+IF(ISNUMBER(CSVデータ4!R135),CSVデータ4!R135,0)","v":272},null,{"$f":"IF(ISNUMBER(CSVデータ1!T135),CSVデータ1!T135,0)+IF(ISNUMBER(CSVデータ2!T135),CSVデータ2!T135,0)+IF(ISNUMBER(CSVデータ3!T135),CSVデータ3!T135,0)+IF(ISNUMBER(CSVデータ4!T135),CSVデータ4!T135,0)","v":5},null,{"$f":"IF(ISNUMBER(CSVデータ1!V135),CSVデータ1!V135,0)+IF(ISNUMBER(CSVデータ2!V135),CSVデータ2!V135,0)+IF(ISNUMBER(CSVデータ3!V135),CSVデータ3!V135,0)+IF(ISNUMBER(CSVデータ4!V135),CSVデータ4!V135,0)","v":168},null,{"$f":"IF(ISNUMBER(CSVデータ1!X135),CSVデータ1!X135,0)+IF(ISNUMBER(CSVデータ2!X135),CSVデータ2!X135,0)+IF(ISNUMBER(CSVデータ3!X135),CSVデータ3!X135,0)+IF(ISNUMBER(CSVデータ4!X135),CSVデータ4!X135,0)","v":83},null,{"$f":"IF(ISNUMBER(CSVデータ1!Z135),CSVデータ1!Z135,0)+IF(ISNUMBER(CSVデータ2!Z135),CSVデータ2!Z135,0)+IF(ISNUMBER(CSVデータ3!Z135),CSVデータ3!Z135,0)+IF(ISNUMBER(CSVデータ4!Z135),CSVデータ4!Z135,0)","v":248},null,{"$f":"IF(ISNUMBER(CSVデータ1!AB135),CSVデータ1!AB135,0)+IF(ISNUMBER(CSVデータ2!AB135),CSVデータ2!AB135,0)+IF(ISNUMBER(CSVデータ3!AB135),CSVデータ3!AB135,0)+IF(ISNUMBER(CSVデータ4!AB135),CSVデータ4!AB135,0)","v":0},null,{"$f":"IF(ISNUMBER(CSVデータ1!AD135),CSVデータ1!AD135,0)+IF(ISNUMBER(CSVデータ2!AD135),CSVデータ2!AD135,0)+IF(ISNUMBER(CSVデータ3!AD135),CSVデータ3!AD135,0)+IF(ISNUMBER(CSVデータ4!AD135),CSVデータ4!AD135,0)","v":102},null,{"$f":"IF(ISNUMBER(CSVデータ1!AF135),CSVデータ1!AF135,0)+IF(ISNUMBER(CSVデータ2!AF135),CSVデータ2!AF135,0)+IF(ISNUMBER(CSVデータ3!AF135),CSVデータ3!AF135,0)+IF(ISNUMBER(CSVデータ4!AF135),CSVデータ4!AF135,0)","v":59},null,{"$f":"IF(ISNUMBER(CSVデータ1!AH135),CSVデータ1!AH135,0)+IF(ISNUMBER(CSVデータ2!AH135),CSVデータ2!AH135,0)+IF(ISNUMBER(CSVデータ3!AH135),CSVデータ3!AH135,0)+IF(ISNUMBER(CSVデータ4!AH135),CSVデータ4!AH135,0)","v":8},null,{"$f":"IF(ISNUMBER(CSVデータ1!AJ135),CSVデータ1!AJ135,0)+IF(ISNUMBER(CSVデータ2!AJ135),CSVデータ2!AJ135,0)+IF(ISNUMBER(CSVデータ3!AJ135),CSVデータ3!AJ135,0)+IF(ISNUMBER(CSVデータ4!AJ135),CSVデータ4!AJ135,0)","v":11},null,{"$f":"IF(ISNUMBER(CSVデータ1!AL135),CSVデータ1!AL135,0)+IF(ISNUMBER(CSVデータ2!AL135),CSVデータ2!AL135,0)+IF(ISNUMBER(CSVデータ3!AL135),CSVデータ3!AL135,0)+IF(ISNUMBER(CSVデータ4!AL135),CSVデータ4!AL135,0)","v":98},null,{"$f":"IF(ISNUMBER(CSVデータ1!AN135),CSVデータ1!AN135,0)+IF(ISNUMBER(CSVデータ2!AN135),CSVデータ2!AN135,0)+IF(ISNUMBER(CSVデータ3!AN135),CSVデータ3!AN135,0)+IF(ISNUMBER(CSVデータ4!AN135),CSVデータ4!AN135,0)","v":9}]
[{"$f":"CSVデータ1!A136","v":"明細部"},{"$f":"CSVデータ1!B136","v":"県"},{"$f":"CSVデータ1!C136","v":67},{"$f":"CSVデータ1!D136","v":"女"},{"$f":"IF(ISNUMBER(CSVデータ1!E136),CSVデータ1!E136,0)+IF(ISNUMBER(CSVデータ2!E136),CSVデータ2!E136,0)+IF(ISNUMBER(CSVデータ3!E136),CSVデータ3!E136,0)+IF(ISNUMBER(CSVデータ4!E136),CSVデータ4!E136,0)","v":496},{"$f":"IF(ISNUMBER(CSVデータ1!F136),CSVデータ1!F136,0)+IF(ISNUMBER(CSVデータ2!F136),CSVデータ2!F136,0)+IF(ISNUMBER(CSVデータ3!F136),CSVデータ3!F136,0)+IF(ISNUMBER(CSVデータ4!F136),CSVデータ4!F136,0)","v":89},null,{"$f":"IF(ISNUMBER(CSVデータ1!H136),CSVデータ1!H136,0)+IF(ISNUMBER(CSVデータ2!H136),CSVデータ2!H136,0)+IF(ISNUMBER(CSVデータ3!H136),CSVデータ3!H136,0)+IF(ISNUMBER(CSVデータ4!H136),CSVデータ4!H136,0)","v":82},null,{"$f":"IF(ISNUMBER(CSVデータ1!J136),CSVデータ1!J136,0)+IF(ISNUMBER(CSVデータ2!J136),CSVデータ2!J136,0)+IF(ISNUMBER(CSVデータ3!J136),CSVデータ3!J136,0)+IF(ISNUMBER(CSVデータ4!J136),CSVデータ4!J136,0)","v":53},null,{"$f":"IF(ISNUMBER(CSVデータ1!L136),CSVデータ1!L136,0)+IF(ISNUMBER(CSVデータ2!L136),CSVデータ2!L136,0)+IF(ISNUMBER(CSVデータ3!L136),CSVデータ3!L136,0)+IF(ISNUMBER(CSVデータ4!L136),CSVデータ4!L136,0)","v":36},null,{"$f":"IF(ISNUMBER(CSVデータ1!N136),CSVデータ1!N136,0)+IF(ISNUMBER(CSVデータ2!N136),CSVデータ2!N136,0)+IF(ISNUMBER(CSVデータ3!N136),CSVデータ3!N136,0)+IF(ISNUMBER(CSVデータ4!N136),CSVデータ4!N136,0)","v":6},null,{"$f":"IF(ISNUMBER(CSVデータ1!P136),CSVデータ1!P136,0)+IF(ISNUMBER(CSVデータ2!P136),CSVデータ2!P136,0)+IF(ISNUMBER(CSVデータ3!P136),CSVデータ3!P136,0)+IF(ISNUMBER(CSVデータ4!P136),CSVデータ4!P136,0)","v":94},null,{"$f":"IF(ISNUMBER(CSVデータ1!R136),CSVデータ1!R136,0)+IF(ISNUMBER(CSVデータ2!R136),CSVデータ2!R136,0)+IF(ISNUMBER(CSVデータ3!R136),CSVデータ3!R136,0)+IF(ISNUMBER(CSVデータ4!R136),CSVデータ4!R136,0)","v":328},null,{"$f":"IF(ISNUMBER(CSVデータ1!T136),CSVデータ1!T136,0)+IF(ISNUMBER(CSVデータ2!T136),CSVデータ2!T136,0)+IF(ISNUMBER(CSVデータ3!T136),CSVデータ3!T136,0)+IF(ISNUMBER(CSVデータ4!T136),CSVデータ4!T136,0)","v":8},null,{"$f":"IF(ISNUMBER(CSVデータ1!V136),CSVデータ1!V136,0)+IF(ISNUMBER(CSVデータ2!V136),CSVデータ2!V136,0)+IF(ISNUMBER(CSVデータ3!V136),CSVデータ3!V136,0)+IF(ISNUMBER(CSVデータ4!V136),CSVデータ4!V136,0)","v":219},null,{"$f":"IF(ISNUMBER(CSVデータ1!X136),CSVデータ1!X136,0)+IF(ISNUMBER(CSVデータ2!X136),CSVデータ2!X136,0)+IF(ISNUMBER(CSVデータ3!X136),CSVデータ3!X136,0)+IF(ISNUMBER(CSVデータ4!X136),CSVデータ4!X136,0)","v":88},null,{"$f":"IF(ISNUMBER(CSVデータ1!Z136),CSVデータ1!Z136,0)+IF(ISNUMBER(CSVデータ2!Z136),CSVデータ2!Z136,0)+IF(ISNUMBER(CSVデータ3!Z136),CSVデータ3!Z136,0)+IF(ISNUMBER(CSVデータ4!Z136),CSVデータ4!Z136,0)","v":297},null,{"$f":"IF(ISNUMBER(CSVデータ1!AB136),CSVデータ1!AB136,0)+IF(ISNUMBER(CSVデータ2!AB136),CSVデータ2!AB136,0)+IF(ISNUMBER(CSVデータ3!AB136),CSVデータ3!AB136,0)+IF(ISNUMBER(CSVデータ4!AB136),CSVデータ4!AB136,0)","v":3},null,{"$f":"IF(ISNUMBER(CSVデータ1!AD136),CSVデータ1!AD136,0)+IF(ISNUMBER(CSVデータ2!AD136),CSVデータ2!AD136,0)+IF(ISNUMBER(CSVデータ3!AD136),CSVデータ3!AD136,0)+IF(ISNUMBER(CSVデータ4!AD136),CSVデータ4!AD136,0)","v":127},null,{"$f":"IF(ISNUMBER(CSVデータ1!AF136),CSVデータ1!AF136,0)+IF(ISNUMBER(CSVデータ2!AF136),CSVデータ2!AF136,0)+IF(ISNUMBER(CSVデータ3!AF136),CSVデータ3!AF136,0)+IF(ISNUMBER(CSVデータ4!AF136),CSVデータ4!AF136,0)","v":53},null,{"$f":"IF(ISNUMBER(CSVデータ1!AH136),CSVデータ1!AH136,0)+IF(ISNUMBER(CSVデータ2!AH136),CSVデータ2!AH136,0)+IF(ISNUMBER(CSVデータ3!AH136),CSVデータ3!AH136,0)+IF(ISNUMBER(CSVデータ4!AH136),CSVデータ4!AH136,0)","v":6},null,{"$f":"IF(ISNUMBER(CSVデータ1!AJ136),CSVデータ1!AJ136,0)+IF(ISNUMBER(CSVデータ2!AJ136),CSVデータ2!AJ136,0)+IF(ISNUMBER(CSVデータ3!AJ136),CSVデータ3!AJ136,0)+IF(ISNUMBER(CSVデータ4!AJ136),CSVデータ4!AJ136,0)","v":15},null,{"$f":"IF(ISNUMBER(CSVデータ1!AL136),CSVデータ1!AL136,0)+IF(ISNUMBER(CSVデータ2!AL136),CSVデータ2!AL136,0)+IF(ISNUMBER(CSVデータ3!AL136),CSVデータ3!AL136,0)+IF(ISNUMBER(CSVデータ4!AL136),CSVデータ4!AL136,0)","v":132},null,{"$f":"IF(ISNUMBER(CSVデータ1!AN136),CSVデータ1!AN136,0)+IF(ISNUMBER(CSVデータ2!AN136),CSVデータ2!AN136,0)+IF(ISNUMBER(CSVデータ3!AN136),CSVデータ3!AN136,0)+IF(ISNUMBER(CSVデータ4!AN136),CSVデータ4!AN136,0)","v":11}]
[{"$f":"CSVデータ1!A137","v":"明細部"},{"$f":"CSVデータ1!B137","v":"県"},{"$f":"CSVデータ1!C137","v":68},{"$f":"CSVデータ1!D137","v":"女"},{"$f":"IF(ISNUMBER(CSVデータ1!E137),CSVデータ1!E137,0)+IF(ISNUMBER(CSVデータ2!E137),CSVデータ2!E137,0)+IF(ISNUMBER(CSVデータ3!E137),CSVデータ3!E137,0)+IF(ISNUMBER(CSVデータ4!E137),CSVデータ4!E137,0)","v":570},{"$f":"IF(ISNUMBER(CSVデータ1!F137),CSVデータ1!F137,0)+IF(ISNUMBER(CSVデータ2!F137),CSVデータ2!F137,0)+IF(ISNUMBER(CSVデータ3!F137),CSVデータ3!F137,0)+IF(ISNUMBER(CSVデータ4!F137),CSVデータ4!F137,0)","v":110},null,{"$f":"IF(ISNUMBER(CSVデータ1!H137),CSVデータ1!H137,0)+IF(ISNUMBER(CSVデータ2!H137),CSVデータ2!H137,0)+IF(ISNUMBER(CSVデータ3!H137),CSVデータ3!H137,0)+IF(ISNUMBER(CSVデータ4!H137),CSVデータ4!H137,0)","v":101},null,{"$f":"IF(ISNUMBER(CSVデータ1!J137),CSVデータ1!J137,0)+IF(ISNUMBER(CSVデータ2!J137),CSVデータ2!J137,0)+IF(ISNUMBER(CSVデータ3!J137),CSVデータ3!J137,0)+IF(ISNUMBER(CSVデータ4!J137),CSVデータ4!J137,0)","v":70},null,{"$f":"IF(ISNUMBER(CSVデータ1!L137),CSVデータ1!L137,0)+IF(ISNUMBER(CSVデータ2!L137),CSVデータ2!L137,0)+IF(ISNUMBER(CSVデータ3!L137),CSVデータ3!L137,0)+IF(ISNUMBER(CSVデータ4!L137),CSVデータ4!L137,0)","v":36},null,{"$f":"IF(ISNUMBER(CSVデータ1!N137),CSVデータ1!N137,0)+IF(ISNUMBER(CSVデータ2!N137),CSVデータ2!N137,0)+IF(ISNUMBER(CSVデータ3!N137),CSVデータ3!N137,0)+IF(ISNUMBER(CSVデータ4!N137),CSVデータ4!N137,0)","v":8},null,{"$f":"IF(ISNUMBER(CSVデータ1!P137),CSVデータ1!P137,0)+IF(ISNUMBER(CSVデータ2!P137),CSVデータ2!P137,0)+IF(ISNUMBER(CSVデータ3!P137),CSVデータ3!P137,0)+IF(ISNUMBER(CSVデータ4!P137),CSVデータ4!P137,0)","v":104},null,{"$f":"IF(ISNUMBER(CSVデータ1!R137),CSVデータ1!R137,0)+IF(ISNUMBER(CSVデータ2!R137),CSVデータ2!R137,0)+IF(ISNUMBER(CSVデータ3!R137),CSVデータ3!R137,0)+IF(ISNUMBER(CSVデータ4!R137),CSVデータ4!R137,0)","v":387},null,{"$f":"IF(ISNUMBER(CSVデータ1!T137),CSVデータ1!T137,0)+IF(ISNUMBER(CSVデータ2!T137),CSVデータ2!T137,0)+IF(ISNUMBER(CSVデータ3!T137),CSVデータ3!T137,0)+IF(ISNUMBER(CSVデータ4!T137),CSVデータ4!T137,0)","v":15},null,{"$f":"IF(ISNUMBER(CSVデータ1!V137),CSVデータ1!V137,0)+IF(ISNUMBER(CSVデータ2!V137),CSVデータ2!V137,0)+IF(ISNUMBER(CSVデータ3!V137),CSVデータ3!V137,0)+IF(ISNUMBER(CSVデータ4!V137),CSVデータ4!V137,0)","v":252},null,{"$f":"IF(ISNUMBER(CSVデータ1!X137),CSVデータ1!X137,0)+IF(ISNUMBER(CSVデータ2!X137),CSVデータ2!X137,0)+IF(ISNUMBER(CSVデータ3!X137),CSVデータ3!X137,0)+IF(ISNUMBER(CSVデータ4!X137),CSVデータ4!X137,0)","v":90},null,{"$f":"IF(ISNUMBER(CSVデータ1!Z137),CSVデータ1!Z137,0)+IF(ISNUMBER(CSVデータ2!Z137),CSVデータ2!Z137,0)+IF(ISNUMBER(CSVデータ3!Z137),CSVデータ3!Z137,0)+IF(ISNUMBER(CSVデータ4!Z137),CSVデータ4!Z137,0)","v":304},null,{"$f":"IF(ISNUMBER(CSVデータ1!AB137),CSVデータ1!AB137,0)+IF(ISNUMBER(CSVデータ2!AB137),CSVデータ2!AB137,0)+IF(ISNUMBER(CSVデータ3!AB137),CSVデータ3!AB137,0)+IF(ISNUMBER(CSVデータ4!AB137),CSVデータ4!AB137,0)","v":0},null,{"$f":"IF(ISNUMBER(CSVデータ1!AD137),CSVデータ1!AD137,0)+IF(ISNUMBER(CSVデータ2!AD137),CSVデータ2!AD137,0)+IF(ISNUMBER(CSVデータ3!AD137),CSVデータ3!AD137,0)+IF(ISNUMBER(CSVデータ4!AD137),CSVデータ4!AD137,0)","v":127},null,{"$f":"IF(ISNUMBER(CSVデータ1!AF137),CSVデータ1!AF137,0)+IF(ISNUMBER(CSVデータ2!AF137),CSVデータ2!AF137,0)+IF(ISNUMBER(CSVデータ3!AF137),CSVデータ3!AF137,0)+IF(ISNUMBER(CSVデータ4!AF137),CSVデータ4!AF137,0)","v":64},null,{"$f":"IF(ISNUMBER(CSVデータ1!AH137),CSVデータ1!AH137,0)+IF(ISNUMBER(CSVデータ2!AH137),CSVデータ2!AH137,0)+IF(ISNUMBER(CSVデータ3!AH137),CSVデータ3!AH137,0)+IF(ISNUMBER(CSVデータ4!AH137),CSVデータ4!AH137,0)","v":13},null,{"$f":"IF(ISNUMBER(CSVデータ1!AJ137),CSVデータ1!AJ137,0)+IF(ISNUMBER(CSVデータ2!AJ137),CSVデータ2!AJ137,0)+IF(ISNUMBER(CSVデータ3!AJ137),CSVデータ3!AJ137,0)+IF(ISNUMBER(CSVデータ4!AJ137),CSVデータ4!AJ137,0)","v":19},null,{"$f":"IF(ISNUMBER(CSVデータ1!AL137),CSVデータ1!AL137,0)+IF(ISNUMBER(CSVデータ2!AL137),CSVデータ2!AL137,0)+IF(ISNUMBER(CSVデータ3!AL137),CSVデータ3!AL137,0)+IF(ISNUMBER(CSVデータ4!AL137),CSVデータ4!AL137,0)","v":143},null,{"$f":"IF(ISNUMBER(CSVデータ1!AN137),CSVデータ1!AN137,0)+IF(ISNUMBER(CSVデータ2!AN137),CSVデータ2!AN137,0)+IF(ISNUMBER(CSVデータ3!AN137),CSVデータ3!AN137,0)+IF(ISNUMBER(CSVデータ4!AN137),CSVデータ4!AN137,0)","v":12}]
[{"$f":"CSVデータ1!A138","v":"明細部"},{"$f":"CSVデータ1!B138","v":"県"},{"$f":"CSVデータ1!C138","v":69},{"$f":"CSVデータ1!D138","v":"女"},{"$f":"IF(ISNUMBER(CSVデータ1!E138),CSVデータ1!E138,0)+IF(ISNUMBER(CSVデータ2!E138),CSVデータ2!E138,0)+IF(ISNUMBER(CSVデータ3!E138),CSVデータ3!E138,0)+IF(ISNUMBER(CSVデータ4!E138),CSVデータ4!E138,0)","v":648},{"$f":"IF(ISNUMBER(CSVデータ1!F138),CSVデータ1!F138,0)+IF(ISNUMBER(CSVデータ2!F138),CSVデータ2!F138,0)+IF(ISNUMBER(CSVデータ3!F138),CSVデータ3!F138,0)+IF(ISNUMBER(CSVデータ4!F138),CSVデータ4!F138,0)","v":104},null,{"$f":"IF(ISNUMBER(CSVデータ1!H138),CSVデータ1!H138,0)+IF(ISNUMBER(CSVデータ2!H138),CSVデータ2!H138,0)+IF(ISNUMBER(CSVデータ3!H138),CSVデータ3!H138,0)+IF(ISNUMBER(CSVデータ4!H138),CSVデータ4!H138,0)","v":107},null,{"$f":"IF(ISNUMBER(CSVデータ1!J138),CSVデータ1!J138,0)+IF(ISNUMBER(CSVデータ2!J138),CSVデータ2!J138,0)+IF(ISNUMBER(CSVデータ3!J138),CSVデータ3!J138,0)+IF(ISNUMBER(CSVデータ4!J138),CSVデータ4!J138,0)","v":72},null,{"$f":"IF(ISNUMBER(CSVデータ1!L138),CSVデータ1!L138,0)+IF(ISNUMBER(CSVデータ2!L138),CSVデータ2!L138,0)+IF(ISNUMBER(CSVデータ3!L138),CSVデータ3!L138,0)+IF(ISNUMBER(CSVデータ4!L138),CSVデータ4!L138,0)","v":46},null,{"$f":"IF(ISNUMBER(CSVデータ1!N138),CSVデータ1!N138,0)+IF(ISNUMBER(CSVデータ2!N138),CSVデータ2!N138,0)+IF(ISNUMBER(CSVデータ3!N138),CSVデータ3!N138,0)+IF(ISNUMBER(CSVデータ4!N138),CSVデータ4!N138,0)","v":5},null,{"$f":"IF(ISNUMBER(CSVデータ1!P138),CSVデータ1!P138,0)+IF(ISNUMBER(CSVデータ2!P138),CSVデータ2!P138,0)+IF(ISNUMBER(CSVデータ3!P138),CSVデータ3!P138,0)+IF(ISNUMBER(CSVデータ4!P138),CSVデータ4!P138,0)","v":144},null,{"$f":"IF(ISNUMBER(CSVデータ1!R138),CSVデータ1!R138,0)+IF(ISNUMBER(CSVデータ2!R138),CSVデータ2!R138,0)+IF(ISNUMBER(CSVデータ3!R138),CSVデータ3!R138,0)+IF(ISNUMBER(CSVデータ4!R138),CSVデータ4!R138,0)","v":463},null,{"$f":"IF(ISNUMBER(CSVデータ1!T138),CSVデータ1!T138,0)+IF(ISNUMBER(CSVデータ2!T138),CSVデータ2!T138,0)+IF(ISNUMBER(CSVデータ3!T138),CSVデータ3!T138,0)+IF(ISNUMBER(CSVデータ4!T138),CSVデータ4!T138,0)","v":9},null,{"$f":"IF(ISNUMBER(CSVデータ1!V138),CSVデータ1!V138,0)+IF(ISNUMBER(CSVデータ2!V138),CSVデータ2!V138,0)+IF(ISNUMBER(CSVデータ3!V138),CSVデータ3!V138,0)+IF(ISNUMBER(CSVデータ4!V138),CSVデータ4!V138,0)","v":324},null,{"$f":"IF(ISNUMBER(CSVデータ1!X138),CSVデータ1!X138,0)+IF(ISNUMBER(CSVデータ2!X138),CSVデータ2!X138,0)+IF(ISNUMBER(CSVデータ3!X138),CSVデータ3!X138,0)+IF(ISNUMBER(CSVデータ4!X138),CSVデータ4!X138,0)","v":109},null,{"$f":"IF(ISNUMBER(CSVデータ1!Z138),CSVデータ1!Z138,0)+IF(ISNUMBER(CSVデータ2!Z138),CSVデータ2!Z138,0)+IF(ISNUMBER(CSVデータ3!Z138),CSVデータ3!Z138,0)+IF(ISNUMBER(CSVデータ4!Z138),CSVデータ4!Z138,0)","v":384},null,{"$f":"IF(ISNUMBER(CSVデータ1!AB138),CSVデータ1!AB138,0)+IF(ISNUMBER(CSVデータ2!AB138),CSVデータ2!AB138,0)+IF(ISNUMBER(CSVデータ3!AB138),CSVデータ3!AB138,0)+IF(ISNUMBER(CSVデータ4!AB138),CSVデータ4!AB138,0)","v":1},null,{"$f":"IF(ISNUMBER(CSVデータ1!AD138),CSVデータ1!AD138,0)+IF(ISNUMBER(CSVデータ2!AD138),CSVデータ2!AD138,0)+IF(ISNUMBER(CSVデータ3!AD138),CSVデータ3!AD138,0)+IF(ISNUMBER(CSVデータ4!AD138),CSVデータ4!AD138,0)","v":155},null,{"$f":"IF(ISNUMBER(CSVデータ1!AF138),CSVデータ1!AF138,0)+IF(ISNUMBER(CSVデータ2!AF138),CSVデータ2!AF138,0)+IF(ISNUMBER(CSVデータ3!AF138),CSVデータ3!AF138,0)+IF(ISNUMBER(CSVデータ4!AF138),CSVデータ4!AF138,0)","v":70},null,{"$f":"IF(ISNUMBER(CSVデータ1!AH138),CSVデータ1!AH138,0)+IF(ISNUMBER(CSVデータ2!AH138),CSVデータ2!AH138,0)+IF(ISNUMBER(CSVデータ3!AH138),CSVデータ3!AH138,0)+IF(ISNUMBER(CSVデータ4!AH138),CSVデータ4!AH138,0)","v":10},null,{"$f":"IF(ISNUMBER(CSVデータ1!AJ138),CSVデータ1!AJ138,0)+IF(ISNUMBER(CSVデータ2!AJ138),CSVデータ2!AJ138,0)+IF(ISNUMBER(CSVデータ3!AJ138),CSVデータ3!AJ138,0)+IF(ISNUMBER(CSVデータ4!AJ138),CSVデータ4!AJ138,0)","v":11},null,{"$f":"IF(ISNUMBER(CSVデータ1!AL138),CSVデータ1!AL138,0)+IF(ISNUMBER(CSVデータ2!AL138),CSVデータ2!AL138,0)+IF(ISNUMBER(CSVデータ3!AL138),CSVデータ3!AL138,0)+IF(ISNUMBER(CSVデータ4!AL138),CSVデータ4!AL138,0)","v":161},null,{"$f":"IF(ISNUMBER(CSVデータ1!AN138),CSVデータ1!AN138,0)+IF(ISNUMBER(CSVデータ2!AN138),CSVデータ2!AN138,0)+IF(ISNUMBER(CSVデータ3!AN138),CSVデータ3!AN138,0)+IF(ISNUMBER(CSVデータ4!AN138),CSVデータ4!AN138,0)","v":9}]
[{"$f":"CSVデータ1!A139","v":"明細部"},{"$f":"CSVデータ1!B139","v":"県"},{"$f":"CSVデータ1!C139","v":70},{"$f":"CSVデータ1!D139","v":"女"},{"$f":"IF(ISNUMBER(CSVデータ1!E139),CSVデータ1!E139,0)+IF(ISNUMBER(CSVデータ2!E139),CSVデータ2!E139,0)+IF(ISNUMBER(CSVデータ3!E139),CSVデータ3!E139,0)+IF(ISNUMBER(CSVデータ4!E139),CSVデータ4!E139,0)","v":723},{"$f":"IF(ISNUMBER(CSVデータ1!F139),CSVデータ1!F139,0)+IF(ISNUMBER(CSVデータ2!F139),CSVデータ2!F139,0)+IF(ISNUMBER(CSVデータ3!F139),CSVデータ3!F139,0)+IF(ISNUMBER(CSVデータ4!F139),CSVデータ4!F139,0)","v":131},null,{"$f":"IF(ISNUMBER(CSVデータ1!H139),CSVデータ1!H139,0)+IF(ISNUMBER(CSVデータ2!H139),CSVデータ2!H139,0)+IF(ISNUMBER(CSVデータ3!H139),CSVデータ3!H139,0)+IF(ISNUMBER(CSVデータ4!H139),CSVデータ4!H139,0)","v":132},null,{"$f":"IF(ISNUMBER(CSVデータ1!J139),CSVデータ1!J139,0)+IF(ISNUMBER(CSVデータ2!J139),CSVデータ2!J139,0)+IF(ISNUMBER(CSVデータ3!J139),CSVデータ3!J139,0)+IF(ISNUMBER(CSVデータ4!J139),CSVデータ4!J139,0)","v":74},null,{"$f":"IF(ISNUMBER(CSVデータ1!L139),CSVデータ1!L139,0)+IF(ISNUMBER(CSVデータ2!L139),CSVデータ2!L139,0)+IF(ISNUMBER(CSVデータ3!L139),CSVデータ3!L139,0)+IF(ISNUMBER(CSVデータ4!L139),CSVデータ4!L139,0)","v":54},null,{"$f":"IF(ISNUMBER(CSVデータ1!N139),CSVデータ1!N139,0)+IF(ISNUMBER(CSVデータ2!N139),CSVデータ2!N139,0)+IF(ISNUMBER(CSVデータ3!N139),CSVデータ3!N139,0)+IF(ISNUMBER(CSVデータ4!N139),CSVデータ4!N139,0)","v":12},null,{"$f":"IF(ISNUMBER(CSVデータ1!P139),CSVデータ1!P139,0)+IF(ISNUMBER(CSVデータ2!P139),CSVデータ2!P139,0)+IF(ISNUMBER(CSVデータ3!P139),CSVデータ3!P139,0)+IF(ISNUMBER(CSVデータ4!P139),CSVデータ4!P139,0)","v":166},null,{"$f":"IF(ISNUMBER(CSVデータ1!R139),CSVデータ1!R139,0)+IF(ISNUMBER(CSVデータ2!R139),CSVデータ2!R139,0)+IF(ISNUMBER(CSVデータ3!R139),CSVデータ3!R139,0)+IF(ISNUMBER(CSVデータ4!R139),CSVデータ4!R139,0)","v":495},null,{"$f":"IF(ISNUMBER(CSVデータ1!T139),CSVデータ1!T139,0)+IF(ISNUMBER(CSVデータ2!T139),CSVデータ2!T139,0)+IF(ISNUMBER(CSVデータ3!T139),CSVデータ3!T139,0)+IF(ISNUMBER(CSVデータ4!T139),CSVデータ4!T139,0)","v":15},null,{"$f":"IF(ISNUMBER(CSVデータ1!V139),CSVデータ1!V139,0)+IF(ISNUMBER(CSVデータ2!V139),CSVデータ2!V139,0)+IF(ISNUMBER(CSVデータ3!V139),CSVデータ3!V139,0)+IF(ISNUMBER(CSVデータ4!V139),CSVデータ4!V139,0)","v":334},null,{"$f":"IF(ISNUMBER(CSVデータ1!X139),CSVデータ1!X139,0)+IF(ISNUMBER(CSVデータ2!X139),CSVデータ2!X139,0)+IF(ISNUMBER(CSVデータ3!X139),CSVデータ3!X139,0)+IF(ISNUMBER(CSVデータ4!X139),CSVデータ4!X139,0)","v":106},null,{"$f":"IF(ISNUMBER(CSVデータ1!Z139),CSVデータ1!Z139,0)+IF(ISNUMBER(CSVデータ2!Z139),CSVデータ2!Z139,0)+IF(ISNUMBER(CSVデータ3!Z139),CSVデータ3!Z139,0)+IF(ISNUMBER(CSVデータ4!Z139),CSVデータ4!Z139,0)","v":396},null,{"$f":"IF(ISNUMBER(CSVデータ1!AB139),CSVデータ1!AB139,0)+IF(ISNUMBER(CSVデータ2!AB139),CSVデータ2!AB139,0)+IF(ISNUMBER(CSVデータ3!AB139),CSVデータ3!AB139,0)+IF(ISNUMBER(CSVデータ4!AB139),CSVデータ4!AB139,0)","v":0},null,{"$f":"IF(ISNUMBER(CSVデータ1!AD139),CSVデータ1!AD139,0)+IF(ISNUMBER(CSVデータ2!AD139),CSVデータ2!AD139,0)+IF(ISNUMBER(CSVデータ3!AD139),CSVデータ3!AD139,0)+IF(ISNUMBER(CSVデータ4!AD139),CSVデータ4!AD139,0)","v":158},null,{"$f":"IF(ISNUMBER(CSVデータ1!AF139),CSVデータ1!AF139,0)+IF(ISNUMBER(CSVデータ2!AF139),CSVデータ2!AF139,0)+IF(ISNUMBER(CSVデータ3!AF139),CSVデータ3!AF139,0)+IF(ISNUMBER(CSVデータ4!AF139),CSVデータ4!AF139,0)","v":70},null,{"$f":"IF(ISNUMBER(CSVデータ1!AH139),CSVデータ1!AH139,0)+IF(ISNUMBER(CSVデータ2!AH139),CSVデータ2!AH139,0)+IF(ISNUMBER(CSVデータ3!AH139),CSVデータ3!AH139,0)+IF(ISNUMBER(CSVデータ4!AH139),CSVデータ4!AH139,0)","v":17},null,{"$f":"IF(ISNUMBER(CSVデータ1!AJ139),CSVデータ1!AJ139,0)+IF(ISNUMBER(CSVデータ2!AJ139),CSVデータ2!AJ139,0)+IF(ISNUMBER(CSVデータ3!AJ139),CSVデータ3!AJ139,0)+IF(ISNUMBER(CSVデータ4!AJ139),CSVデータ4!AJ139,0)","v":13},null,{"$f":"IF(ISNUMBER(CSVデータ1!AL139),CSVデータ1!AL139,0)+IF(ISNUMBER(CSVデータ2!AL139),CSVデータ2!AL139,0)+IF(ISNUMBER(CSVデータ3!AL139),CSVデータ3!AL139,0)+IF(ISNUMBER(CSVデータ4!AL139),CSVデータ4!AL139,0)","v":200},null,{"$f":"IF(ISNUMBER(CSVデータ1!AN139),CSVデータ1!AN139,0)+IF(ISNUMBER(CSVデータ2!AN139),CSVデータ2!AN139,0)+IF(ISNUMBER(CSVデータ3!AN139),CSVデータ3!AN139,0)+IF(ISNUMBER(CSVデータ4!AN139),CSVデータ4!AN139,0)","v":12}]
[{"$f":"CSVデータ1!A140","v":"明細部"},{"$f":"CSVデータ1!B140","v":"県"},{"$f":"CSVデータ1!C140","v":71},{"$f":"CSVデータ1!D140","v":"女"},{"$f":"IF(ISNUMBER(CSVデータ1!E140),CSVデータ1!E140,0)+IF(ISNUMBER(CSVデータ2!E140),CSVデータ2!E140,0)+IF(ISNUMBER(CSVデータ3!E140),CSVデータ3!E140,0)+IF(ISNUMBER(CSVデータ4!E140),CSVデータ4!E140,0)","v":765},{"$f":"IF(ISNUMBER(CSVデータ1!F140),CSVデータ1!F140,0)+IF(ISNUMBER(CSVデータ2!F140),CSVデータ2!F140,0)+IF(ISNUMBER(CSVデータ3!F140),CSVデータ3!F140,0)+IF(ISNUMBER(CSVデータ4!F140),CSVデータ4!F140,0)","v":127},null,{"$f":"IF(ISNUMBER(CSVデータ1!H140),CSVデータ1!H140,0)+IF(ISNUMBER(CSVデータ2!H140),CSVデータ2!H140,0)+IF(ISNUMBER(CSVデータ3!H140),CSVデータ3!H140,0)+IF(ISNUMBER(CSVデータ4!H140),CSVデータ4!H140,0)","v":144},null,{"$f":"IF(ISNUMBER(CSVデータ1!J140),CSVデータ1!J140,0)+IF(ISNUMBER(CSVデータ2!J140),CSVデータ2!J140,0)+IF(ISNUMBER(CSVデータ3!J140),CSVデータ3!J140,0)+IF(ISNUMBER(CSVデータ4!J140),CSVデータ4!J140,0)","v":80},null,{"$f":"IF(ISNUMBER(CSVデータ1!L140),CSVデータ1!L140,0)+IF(ISNUMBER(CSVデータ2!L140),CSVデータ2!L140,0)+IF(ISNUMBER(CSVデータ3!L140),CSVデータ3!L140,0)+IF(ISNUMBER(CSVデータ4!L140),CSVデータ4!L140,0)","v":55},null,{"$f":"IF(ISNUMBER(CSVデータ1!N140),CSVデータ1!N140,0)+IF(ISNUMBER(CSVデータ2!N140),CSVデータ2!N140,0)+IF(ISNUMBER(CSVデータ3!N140),CSVデータ3!N140,0)+IF(ISNUMBER(CSVデータ4!N140),CSVデータ4!N140,0)","v":8},null,{"$f":"IF(ISNUMBER(CSVデータ1!P140),CSVデータ1!P140,0)+IF(ISNUMBER(CSVデータ2!P140),CSVデータ2!P140,0)+IF(ISNUMBER(CSVデータ3!P140),CSVデータ3!P140,0)+IF(ISNUMBER(CSVデータ4!P140),CSVデータ4!P140,0)","v":176},null,{"$f":"IF(ISNUMBER(CSVデータ1!R140),CSVデータ1!R140,0)+IF(ISNUMBER(CSVデータ2!R140),CSVデータ2!R140,0)+IF(ISNUMBER(CSVデータ3!R140),CSVデータ3!R140,0)+IF(ISNUMBER(CSVデータ4!R140),CSVデータ4!R140,0)","v":529},null,{"$f":"IF(ISNUMBER(CSVデータ1!T140),CSVデータ1!T140,0)+IF(ISNUMBER(CSVデータ2!T140),CSVデータ2!T140,0)+IF(ISNUMBER(CSVデータ3!T140),CSVデータ3!T140,0)+IF(ISNUMBER(CSVデータ4!T140),CSVデータ4!T140,0)","v":12},null,{"$f":"IF(ISNUMBER(CSVデータ1!V140),CSVデータ1!V140,0)+IF(ISNUMBER(CSVデータ2!V140),CSVデータ2!V140,0)+IF(ISNUMBER(CSVデータ3!V140),CSVデータ3!V140,0)+IF(ISNUMBER(CSVデータ4!V140),CSVデータ4!V140,0)","v":396},null,{"$f":"IF(ISNUMBER(CSVデータ1!X140),CSVデータ1!X140,0)+IF(ISNUMBER(CSVデータ2!X140),CSVデータ2!X140,0)+IF(ISNUMBER(CSVデータ3!X140),CSVデータ3!X140,0)+IF(ISNUMBER(CSVデータ4!X140),CSVデータ4!X140,0)","v":124},null,{"$f":"IF(ISNUMBER(CSVデータ1!Z140),CSVデータ1!Z140,0)+IF(ISNUMBER(CSVデータ2!Z140),CSVデータ2!Z140,0)+IF(ISNUMBER(CSVデータ3!Z140),CSVデータ3!Z140,0)+IF(ISNUMBER(CSVデータ4!Z140),CSVデータ4!Z140,0)","v":425},null,{"$f":"IF(ISNUMBER(CSVデータ1!AB140),CSVデータ1!AB140,0)+IF(ISNUMBER(CSVデータ2!AB140),CSVデータ2!AB140,0)+IF(ISNUMBER(CSVデータ3!AB140),CSVデータ3!AB140,0)+IF(ISNUMBER(CSVデータ4!AB140),CSVデータ4!AB140,0)","v":3},null,{"$f":"IF(ISNUMBER(CSVデータ1!AD140),CSVデータ1!AD140,0)+IF(ISNUMBER(CSVデータ2!AD140),CSVデータ2!AD140,0)+IF(ISNUMBER(CSVデータ3!AD140),CSVデータ3!AD140,0)+IF(ISNUMBER(CSVデータ4!AD140),CSVデータ4!AD140,0)","v":173},null,{"$f":"IF(ISNUMBER(CSVデータ1!AF140),CSVデータ1!AF140,0)+IF(ISNUMBER(CSVデータ2!AF140),CSVデータ2!AF140,0)+IF(ISNUMBER(CSVデータ3!AF140),CSVデータ3!AF140,0)+IF(ISNUMBER(CSVデータ4!AF140),CSVデータ4!AF140,0)","v":83},null,{"$f":"IF(ISNUMBER(CSVデータ1!AH140),CSVデータ1!AH140,0)+IF(ISNUMBER(CSVデータ2!AH140),CSVデータ2!AH140,0)+IF(ISNUMBER(CSVデータ3!AH140),CSVデータ3!AH140,0)+IF(ISNUMBER(CSVデータ4!AH140),CSVデータ4!AH140,0)","v":13},null,{"$f":"IF(ISNUMBER(CSVデータ1!AJ140),CSVデータ1!AJ140,0)+IF(ISNUMBER(CSVデータ2!AJ140),CSVデータ2!AJ140,0)+IF(ISNUMBER(CSVデータ3!AJ140),CSVデータ3!AJ140,0)+IF(ISNUMBER(CSVデータ4!AJ140),CSVデータ4!AJ140,0)","v":18},null,{"$f":"IF(ISNUMBER(CSVデータ1!AL140),CSVデータ1!AL140,0)+IF(ISNUMBER(CSVデータ2!AL140),CSVデータ2!AL140,0)+IF(ISNUMBER(CSVデータ3!AL140),CSVデータ3!AL140,0)+IF(ISNUMBER(CSVデータ4!AL140),CSVデータ4!AL140,0)","v":210},null,{"$f":"IF(ISNUMBER(CSVデータ1!AN140),CSVデータ1!AN140,0)+IF(ISNUMBER(CSVデータ2!AN140),CSVデータ2!AN140,0)+IF(ISNUMBER(CSVデータ3!AN140),CSVデータ3!AN140,0)+IF(ISNUMBER(CSVデータ4!AN140),CSVデータ4!AN140,0)","v":18}]
[{"$f":"CSVデータ1!A141","v":"明細部"},{"$f":"CSVデータ1!B141","v":"県"},{"$f":"CSVデータ1!C141","v":72},{"$f":"CSVデータ1!D141","v":"女"},{"$f":"IF(ISNUMBER(CSVデータ1!E141),CSVデータ1!E141,0)+IF(ISNUMBER(CSVデータ2!E141),CSVデータ2!E141,0)+IF(ISNUMBER(CSVデータ3!E141),CSVデータ3!E141,0)+IF(ISNUMBER(CSVデータ4!E141),CSVデータ4!E141,0)","v":840},{"$f":"IF(ISNUMBER(CSVデータ1!F141),CSVデータ1!F141,0)+IF(ISNUMBER(CSVデータ2!F141),CSVデータ2!F141,0)+IF(ISNUMBER(CSVデータ3!F141),CSVデータ3!F141,0)+IF(ISNUMBER(CSVデータ4!F141),CSVデータ4!F141,0)","v":148},null,{"$f":"IF(ISNUMBER(CSVデータ1!H141),CSVデータ1!H141,0)+IF(ISNUMBER(CSVデータ2!H141),CSVデータ2!H141,0)+IF(ISNUMBER(CSVデータ3!H141),CSVデータ3!H141,0)+IF(ISNUMBER(CSVデータ4!H141),CSVデータ4!H141,0)","v":143},null,{"$f":"IF(ISNUMBER(CSVデータ1!J141),CSVデータ1!J141,0)+IF(ISNUMBER(CSVデータ2!J141),CSVデータ2!J141,0)+IF(ISNUMBER(CSVデータ3!J141),CSVデータ3!J141,0)+IF(ISNUMBER(CSVデータ4!J141),CSVデータ4!J141,0)","v":107},null,{"$f":"IF(ISNUMBER(CSVデータ1!L141),CSVデータ1!L141,0)+IF(ISNUMBER(CSVデータ2!L141),CSVデータ2!L141,0)+IF(ISNUMBER(CSVデータ3!L141),CSVデータ3!L141,0)+IF(ISNUMBER(CSVデータ4!L141),CSVデータ4!L141,0)","v":50},null,{"$f":"IF(ISNUMBER(CSVデータ1!N141),CSVデータ1!N141,0)+IF(ISNUMBER(CSVデータ2!N141),CSVデータ2!N141,0)+IF(ISNUMBER(CSVデータ3!N141),CSVデータ3!N141,0)+IF(ISNUMBER(CSVデータ4!N141),CSVデータ4!N141,0)","v":6},null,{"$f":"IF(ISNUMBER(CSVデータ1!P141),CSVデータ1!P141,0)+IF(ISNUMBER(CSVデータ2!P141),CSVデータ2!P141,0)+IF(ISNUMBER(CSVデータ3!P141),CSVデータ3!P141,0)+IF(ISNUMBER(CSVデータ4!P141),CSVデータ4!P141,0)","v":189},null,{"$f":"IF(ISNUMBER(CSVデータ1!R141),CSVデータ1!R141,0)+IF(ISNUMBER(CSVデータ2!R141),CSVデータ2!R141,0)+IF(ISNUMBER(CSVデータ3!R141),CSVデータ3!R141,0)+IF(ISNUMBER(CSVデータ4!R141),CSVデータ4!R141,0)","v":621},null,{"$f":"IF(ISNUMBER(CSVデータ1!T141),CSVデータ1!T141,0)+IF(ISNUMBER(CSVデータ2!T141),CSVデータ2!T141,0)+IF(ISNUMBER(CSVデータ3!T141),CSVデータ3!T141,0)+IF(ISNUMBER(CSVデータ4!T141),CSVデータ4!T141,0)","v":15},null,{"$f":"IF(ISNUMBER(CSVデータ1!V141),CSVデータ1!V141,0)+IF(ISNUMBER(CSVデータ2!V141),CSVデータ2!V141,0)+IF(ISNUMBER(CSVデータ3!V141),CSVデータ3!V141,0)+IF(ISNUMBER(CSVデータ4!V141),CSVデータ4!V141,0)","v":467},null,{"$f":"IF(ISNUMBER(CSVデータ1!X141),CSVデータ1!X141,0)+IF(ISNUMBER(CSVデータ2!X141),CSVデータ2!X141,0)+IF(ISNUMBER(CSVデータ3!X141),CSVデータ3!X141,0)+IF(ISNUMBER(CSVデータ4!X141),CSVデータ4!X141,0)","v":139},null,{"$f":"IF(ISNUMBER(CSVデータ1!Z141),CSVデータ1!Z141,0)+IF(ISNUMBER(CSVデータ2!Z141),CSVデータ2!Z141,0)+IF(ISNUMBER(CSVデータ3!Z141),CSVデータ3!Z141,0)+IF(ISNUMBER(CSVデータ4!Z141),CSVデータ4!Z141,0)","v":448},null,{"$f":"IF(ISNUMBER(CSVデータ1!AB141),CSVデータ1!AB141,0)+IF(ISNUMBER(CSVデータ2!AB141),CSVデータ2!AB141,0)+IF(ISNUMBER(CSVデータ3!AB141),CSVデータ3!AB141,0)+IF(ISNUMBER(CSVデータ4!AB141),CSVデータ4!AB141,0)","v":0},null,{"$f":"IF(ISNUMBER(CSVデータ1!AD141),CSVデータ1!AD141,0)+IF(ISNUMBER(CSVデータ2!AD141),CSVデータ2!AD141,0)+IF(ISNUMBER(CSVデータ3!AD141),CSVデータ3!AD141,0)+IF(ISNUMBER(CSVデータ4!AD141),CSVデータ4!AD141,0)","v":219},null,{"$f":"IF(ISNUMBER(CSVデータ1!AF141),CSVデータ1!AF141,0)+IF(ISNUMBER(CSVデータ2!AF141),CSVデータ2!AF141,0)+IF(ISNUMBER(CSVデータ3!AF141),CSVデータ3!AF141,0)+IF(ISNUMBER(CSVデータ4!AF141),CSVデータ4!AF141,0)","v":78},null,{"$f":"IF(ISNUMBER(CSVデータ1!AH141),CSVデータ1!AH141,0)+IF(ISNUMBER(CSVデータ2!AH141),CSVデータ2!AH141,0)+IF(ISNUMBER(CSVデータ3!AH141),CSVデータ3!AH141,0)+IF(ISNUMBER(CSVデータ4!AH141),CSVデータ4!AH141,0)","v":23},null,{"$f":"IF(ISNUMBER(CSVデータ1!AJ141),CSVデータ1!AJ141,0)+IF(ISNUMBER(CSVデータ2!AJ141),CSVデータ2!AJ141,0)+IF(ISNUMBER(CSVデータ3!AJ141),CSVデータ3!AJ141,0)+IF(ISNUMBER(CSVデータ4!AJ141),CSVデータ4!AJ141,0)","v":26},null,{"$f":"IF(ISNUMBER(CSVデータ1!AL141),CSVデータ1!AL141,0)+IF(ISNUMBER(CSVデータ2!AL141),CSVデータ2!AL141,0)+IF(ISNUMBER(CSVデータ3!AL141),CSVデータ3!AL141,0)+IF(ISNUMBER(CSVデータ4!AL141),CSVデータ4!AL141,0)","v":235},null,{"$f":"IF(ISNUMBER(CSVデータ1!AN141),CSVデータ1!AN141,0)+IF(ISNUMBER(CSVデータ2!AN141),CSVデータ2!AN141,0)+IF(ISNUMBER(CSVデータ3!AN141),CSVデータ3!AN141,0)+IF(ISNUMBER(CSVデータ4!AN141),CSVデータ4!AN141,0)","v":11}]
[{"$f":"CSVデータ1!A142","v":"明細部"},{"$f":"CSVデータ1!B142","v":"県"},{"$f":"CSVデータ1!C142","v":73},{"$f":"CSVデータ1!D142","v":"女"},{"$f":"IF(ISNUMBER(CSVデータ1!E142),CSVデータ1!E142,0)+IF(ISNUMBER(CSVデータ2!E142),CSVデータ2!E142,0)+IF(ISNUMBER(CSVデータ3!E142),CSVデータ3!E142,0)+IF(ISNUMBER(CSVデータ4!E142),CSVデータ4!E142,0)","v":984},{"$f":"IF(ISNUMBER(CSVデータ1!F142),CSVデータ1!F142,0)+IF(ISNUMBER(CSVデータ2!F142),CSVデータ2!F142,0)+IF(ISNUMBER(CSVデータ3!F142),CSVデータ3!F142,0)+IF(ISNUMBER(CSVデータ4!F142),CSVデータ4!F142,0)","v":180},null,{"$f":"IF(ISNUMBER(CSVデータ1!H142),CSVデータ1!H142,0)+IF(ISNUMBER(CSVデータ2!H142),CSVデータ2!H142,0)+IF(ISNUMBER(CSVデータ3!H142),CSVデータ3!H142,0)+IF(ISNUMBER(CSVデータ4!H142),CSVデータ4!H142,0)","v":187},null,{"$f":"IF(ISNUMBER(CSVデータ1!J142),CSVデータ1!J142,0)+IF(ISNUMBER(CSVデータ2!J142),CSVデータ2!J142,0)+IF(ISNUMBER(CSVデータ3!J142),CSVデータ3!J142,0)+IF(ISNUMBER(CSVデータ4!J142),CSVデータ4!J142,0)","v":103},null,{"$f":"IF(ISNUMBER(CSVデータ1!L142),CSVデータ1!L142,0)+IF(ISNUMBER(CSVデータ2!L142),CSVデータ2!L142,0)+IF(ISNUMBER(CSVデータ3!L142),CSVデータ3!L142,0)+IF(ISNUMBER(CSVデータ4!L142),CSVデータ4!L142,0)","v":54},null,{"$f":"IF(ISNUMBER(CSVデータ1!N142),CSVデータ1!N142,0)+IF(ISNUMBER(CSVデータ2!N142),CSVデータ2!N142,0)+IF(ISNUMBER(CSVデータ3!N142),CSVデータ3!N142,0)+IF(ISNUMBER(CSVデータ4!N142),CSVデータ4!N142,0)","v":9},null,{"$f":"IF(ISNUMBER(CSVデータ1!P142),CSVデータ1!P142,0)+IF(ISNUMBER(CSVデータ2!P142),CSVデータ2!P142,0)+IF(ISNUMBER(CSVデータ3!P142),CSVデータ3!P142,0)+IF(ISNUMBER(CSVデータ4!P142),CSVデータ4!P142,0)","v":215},null,{"$f":"IF(ISNUMBER(CSVデータ1!R142),CSVデータ1!R142,0)+IF(ISNUMBER(CSVデータ2!R142),CSVデータ2!R142,0)+IF(ISNUMBER(CSVデータ3!R142),CSVデータ3!R142,0)+IF(ISNUMBER(CSVデータ4!R142),CSVデータ4!R142,0)","v":717},null,{"$f":"IF(ISNUMBER(CSVデータ1!T142),CSVデータ1!T142,0)+IF(ISNUMBER(CSVデータ2!T142),CSVデータ2!T142,0)+IF(ISNUMBER(CSVデータ3!T142),CSVデータ3!T142,0)+IF(ISNUMBER(CSVデータ4!T142),CSVデータ4!T142,0)","v":17},null,{"$f":"IF(ISNUMBER(CSVデータ1!V142),CSVデータ1!V142,0)+IF(ISNUMBER(CSVデータ2!V142),CSVデータ2!V142,0)+IF(ISNUMBER(CSVデータ3!V142),CSVデータ3!V142,0)+IF(ISNUMBER(CSVデータ4!V142),CSVデータ4!V142,0)","v":537},null,{"$f":"IF(ISNUMBER(CSVデータ1!X142),CSVデータ1!X142,0)+IF(ISNUMBER(CSVデータ2!X142),CSVデータ2!X142,0)+IF(ISNUMBER(CSVデータ3!X142),CSVデータ3!X142,0)+IF(ISNUMBER(CSVデータ4!X142),CSVデータ4!X142,0)","v":156},null,{"$f":"IF(ISNUMBER(CSVデータ1!Z142),CSVデータ1!Z142,0)+IF(ISNUMBER(CSVデータ2!Z142),CSVデータ2!Z142,0)+IF(ISNUMBER(CSVデータ3!Z142),CSVデータ3!Z142,0)+IF(ISNUMBER(CSVデータ4!Z142),CSVデータ4!Z142,0)","v":557},null,{"$f":"IF(ISNUMBER(CSVデータ1!AB142),CSVデータ1!AB142,0)+IF(ISNUMBER(CSVデータ2!AB142),CSVデータ2!AB142,0)+IF(ISNUMBER(CSVデータ3!AB142),CSVデータ3!AB142,0)+IF(ISNUMBER(CSVデータ4!AB142),CSVデータ4!AB142,0)","v":5},null,{"$f":"IF(ISNUMBER(CSVデータ1!AD142),CSVデータ1!AD142,0)+IF(ISNUMBER(CSVデータ2!AD142),CSVデータ2!AD142,0)+IF(ISNUMBER(CSVデータ3!AD142),CSVデータ3!AD142,0)+IF(ISNUMBER(CSVデータ4!AD142),CSVデータ4!AD142,0)","v":249},null,{"$f":"IF(ISNUMBER(CSVデータ1!AF142),CSVデータ1!AF142,0)+IF(ISNUMBER(CSVデータ2!AF142),CSVデータ2!AF142,0)+IF(ISNUMBER(CSVデータ3!AF142),CSVデータ3!AF142,0)+IF(ISNUMBER(CSVデータ4!AF142),CSVデータ4!AF142,0)","v":100},null,{"$f":"IF(ISNUMBER(CSVデータ1!AH142),CSVデータ1!AH142,0)+IF(ISNUMBER(CSVデータ2!AH142),CSVデータ2!AH142,0)+IF(ISNUMBER(CSVデータ3!AH142),CSVデータ3!AH142,0)+IF(ISNUMBER(CSVデータ4!AH142),CSVデータ4!AH142,0)","v":31},null,{"$f":"IF(ISNUMBER(CSVデータ1!AJ142),CSVデータ1!AJ142,0)+IF(ISNUMBER(CSVデータ2!AJ142),CSVデータ2!AJ142,0)+IF(ISNUMBER(CSVデータ3!AJ142),CSVデータ3!AJ142,0)+IF(ISNUMBER(CSVデータ4!AJ142),CSVデータ4!AJ142,0)","v":12},null,{"$f":"IF(ISNUMBER(CSVデータ1!AL142),CSVデータ1!AL142,0)+IF(ISNUMBER(CSVデータ2!AL142),CSVデータ2!AL142,0)+IF(ISNUMBER(CSVデータ3!AL142),CSVデータ3!AL142,0)+IF(ISNUMBER(CSVデータ4!AL142),CSVデータ4!AL142,0)","v":308},null,{"$f":"IF(ISNUMBER(CSVデータ1!AN142),CSVデータ1!AN142,0)+IF(ISNUMBER(CSVデータ2!AN142),CSVデータ2!AN142,0)+IF(ISNUMBER(CSVデータ3!AN142),CSVデータ3!AN142,0)+IF(ISNUMBER(CSVデータ4!AN142),CSVデータ4!AN142,0)","v":17}]
[{"$f":"CSVデータ1!A143","v":"明細部"},{"$f":"CSVデータ1!B143","v":"県"},{"$f":"CSVデータ1!C143","v":74},{"$f":"CSVデータ1!D143","v":"女"},{"$f":"IF(ISNUMBER(CSVデータ1!E143),CSVデータ1!E143,0)+IF(ISNUMBER(CSVデータ2!E143),CSVデータ2!E143,0)+IF(ISNUMBER(CSVデータ3!E143),CSVデータ3!E143,0)+IF(ISNUMBER(CSVデータ4!E143),CSVデータ4!E143,0)","v":1075},{"$f":"IF(ISNUMBER(CSVデータ1!F143),CSVデータ1!F143,0)+IF(ISNUMBER(CSVデータ2!F143),CSVデータ2!F143,0)+IF(ISNUMBER(CSVデータ3!F143),CSVデータ3!F143,0)+IF(ISNUMBER(CSVデータ4!F143),CSVデータ4!F143,0)","v":192},null,{"$f":"IF(ISNUMBER(CSVデータ1!H143),CSVデータ1!H143,0)+IF(ISNUMBER(CSVデータ2!H143),CSVデータ2!H143,0)+IF(ISNUMBER(CSVデータ3!H143),CSVデータ3!H143,0)+IF(ISNUMBER(CSVデータ4!H143),CSVデータ4!H143,0)","v":201},null,{"$f":"IF(ISNUMBER(CSVデータ1!J143),CSVデータ1!J143,0)+IF(ISNUMBER(CSVデータ2!J143),CSVデータ2!J143,0)+IF(ISNUMBER(CSVデータ3!J143),CSVデータ3!J143,0)+IF(ISNUMBER(CSVデータ4!J143),CSVデータ4!J143,0)","v":107},null,{"$f":"IF(ISNUMBER(CSVデータ1!L143),CSVデータ1!L143,0)+IF(ISNUMBER(CSVデータ2!L143),CSVデータ2!L143,0)+IF(ISNUMBER(CSVデータ3!L143),CSVデータ3!L143,0)+IF(ISNUMBER(CSVデータ4!L143),CSVデータ4!L143,0)","v":66},null,{"$f":"IF(ISNUMBER(CSVデータ1!N143),CSVデータ1!N143,0)+IF(ISNUMBER(CSVデータ2!N143),CSVデータ2!N143,0)+IF(ISNUMBER(CSVデータ3!N143),CSVデータ3!N143,0)+IF(ISNUMBER(CSVデータ4!N143),CSVデータ4!N143,0)","v":9},null,{"$f":"IF(ISNUMBER(CSVデータ1!P143),CSVデータ1!P143,0)+IF(ISNUMBER(CSVデータ2!P143),CSVデータ2!P143,0)+IF(ISNUMBER(CSVデータ3!P143),CSVデータ3!P143,0)+IF(ISNUMBER(CSVデータ4!P143),CSVデータ4!P143,0)","v":245},null,{"$f":"IF(ISNUMBER(CSVデータ1!R143),CSVデータ1!R143,0)+IF(ISNUMBER(CSVデータ2!R143),CSVデータ2!R143,0)+IF(ISNUMBER(CSVデータ3!R143),CSVデータ3!R143,0)+IF(ISNUMBER(CSVデータ4!R143),CSVデータ4!R143,0)","v":763},null,{"$f":"IF(ISNUMBER(CSVデータ1!T143),CSVデータ1!T143,0)+IF(ISNUMBER(CSVデータ2!T143),CSVデータ2!T143,0)+IF(ISNUMBER(CSVデータ3!T143),CSVデータ3!T143,0)+IF(ISNUMBER(CSVデータ4!T143),CSVデータ4!T143,0)","v":23},null,{"$f":"IF(ISNUMBER(CSVデータ1!V143),CSVデータ1!V143,0)+IF(ISNUMBER(CSVデータ2!V143),CSVデータ2!V143,0)+IF(ISNUMBER(CSVデータ3!V143),CSVデータ3!V143,0)+IF(ISNUMBER(CSVデータ4!V143),CSVデータ4!V143,0)","v":585},null,{"$f":"IF(ISNUMBER(CSVデータ1!X143),CSVデータ1!X143,0)+IF(ISNUMBER(CSVデータ2!X143),CSVデータ2!X143,0)+IF(ISNUMBER(CSVデータ3!X143),CSVデータ3!X143,0)+IF(ISNUMBER(CSVデータ4!X143),CSVデータ4!X143,0)","v":166},null,{"$f":"IF(ISNUMBER(CSVデータ1!Z143),CSVデータ1!Z143,0)+IF(ISNUMBER(CSVデータ2!Z143),CSVデータ2!Z143,0)+IF(ISNUMBER(CSVデータ3!Z143),CSVデータ3!Z143,0)+IF(ISNUMBER(CSVデータ4!Z143),CSVデータ4!Z143,0)","v":582},null,{"$f":"IF(ISNUMBER(CSVデータ1!AB143),CSVデータ1!AB143,0)+IF(ISNUMBER(CSVデータ2!AB143),CSVデータ2!AB143,0)+IF(ISNUMBER(CSVデータ3!AB143),CSVデータ3!AB143,0)+IF(ISNUMBER(CSVデータ4!AB143),CSVデータ4!AB143,0)","v":3},null,{"$f":"IF(ISNUMBER(CSVデータ1!AD143),CSVデータ1!AD143,0)+IF(ISNUMBER(CSVデータ2!AD143),CSVデータ2!AD143,0)+IF(ISNUMBER(CSVデータ3!AD143),CSVデータ3!AD143,0)+IF(ISNUMBER(CSVデータ4!AD143),CSVデータ4!AD143,0)","v":299},null,{"$f":"IF(ISNUMBER(CSVデータ1!AF143),CSVデータ1!AF143,0)+IF(ISNUMBER(CSVデータ2!AF143),CSVデータ2!AF143,0)+IF(ISNUMBER(CSVデータ3!AF143),CSVデータ3!AF143,0)+IF(ISNUMBER(CSVデータ4!AF143),CSVデータ4!AF143,0)","v":88},null,{"$f":"IF(ISNUMBER(CSVデータ1!AH143),CSVデータ1!AH143,0)+IF(ISNUMBER(CSVデータ2!AH143),CSVデータ2!AH143,0)+IF(ISNUMBER(CSVデータ3!AH143),CSVデータ3!AH143,0)+IF(ISNUMBER(CSVデータ4!AH143),CSVデータ4!AH143,0)","v":23},null,{"$f":"IF(ISNUMBER(CSVデータ1!AJ143),CSVデータ1!AJ143,0)+IF(ISNUMBER(CSVデータ2!AJ143),CSVデータ2!AJ143,0)+IF(ISNUMBER(CSVデータ3!AJ143),CSVデータ3!AJ143,0)+IF(ISNUMBER(CSVデータ4!AJ143),CSVデータ4!AJ143,0)","v":24},null,{"$f":"IF(ISNUMBER(CSVデータ1!AL143),CSVデータ1!AL143,0)+IF(ISNUMBER(CSVデータ2!AL143),CSVデータ2!AL143,0)+IF(ISNUMBER(CSVデータ3!AL143),CSVデータ3!AL143,0)+IF(ISNUMBER(CSVデータ4!AL143),CSVデータ4!AL143,0)","v":362},null,{"$f":"IF(ISNUMBER(CSVデータ1!AN143),CSVデータ1!AN143,0)+IF(ISNUMBER(CSVデータ2!AN143),CSVデータ2!AN143,0)+IF(ISNUMBER(CSVデータ3!AN143),CSVデータ3!AN143,0)+IF(ISNUMBER(CSVデータ4!AN143),CSVデータ4!AN143,0)","v":18}]
[{"$f":"CSVデータ1!A144","v":"明細部"},{"$f":"CSVデータ1!B144","v":"保険者（地区）"},{"$f":"CSVデータ1!C144","v":40},{"$f":"CSVデータ1!D144","v":"男"},{"$f":"IF(ISNUMBER(CSVデータ1!E144),CSVデータ1!E144,0)+IF(ISNUMBER(CSVデータ2!E144),CSVデータ2!E144,0)+IF(ISNUMBER(CSVデータ3!E144),CSVデータ3!E144,0)+IF(ISNUMBER(CSVデータ4!E144),CSVデータ4!E144,0)","v":3},{"$f":"IF(ISNUMBER(CSVデータ1!F144),CSVデータ1!F144,0)+IF(ISNUMBER(CSVデータ2!F144),CSVデータ2!F144,0)+IF(ISNUMBER(CSVデータ3!F144),CSVデータ3!F144,0)+IF(ISNUMBER(CSVデータ4!F144),CSVデータ4!F144,0)","v":1},null,{"$f":"IF(ISNUMBER(CSVデータ1!H144),CSVデータ1!H144,0)+IF(ISNUMBER(CSVデータ2!H144),CSVデータ2!H144,0)+IF(ISNUMBER(CSVデータ3!H144),CSVデータ3!H144,0)+IF(ISNUMBER(CSVデータ4!H144),CSVデータ4!H144,0)","v":1},null,{"$f":"IF(ISNUMBER(CSVデータ1!J144),CSVデータ1!J144,0)+IF(ISNUMBER(CSVデータ2!J144),CSVデータ2!J144,0)+IF(ISNUMBER(CSVデータ3!J144),CSVデータ3!J144,0)+IF(ISNUMBER(CSVデータ4!J144),CSVデータ4!J144,0)","v":0},null,{"$f":"IF(ISNUMBER(CSVデータ1!L144),CSVデータ1!L144,0)+IF(ISNUMBER(CSVデータ2!L144),CSVデータ2!L144,0)+IF(ISNUMBER(CSVデータ3!L144),CSVデータ3!L144,0)+IF(ISNUMBER(CSVデータ4!L144),CSVデータ4!L144,0)","v":0},null,{"$f":"IF(ISNUMBER(CSVデータ1!N144),CSVデータ1!N144,0)+IF(ISNUMBER(CSVデータ2!N144),CSVデータ2!N144,0)+IF(ISNUMBER(CSVデータ3!N144),CSVデータ3!N144,0)+IF(ISNUMBER(CSVデータ4!N144),CSVデータ4!N144,0)","v":0},null,{"$f":"IF(ISNUMBER(CSVデータ1!P144),CSVデータ1!P144,0)+IF(ISNUMBER(CSVデータ2!P144),CSVデータ2!P144,0)+IF(ISNUMBER(CSVデータ3!P144),CSVデータ3!P144,0)+IF(ISNUMBER(CSVデータ4!P144),CSVデータ4!P144,0)","v":0},null,{"$f":"IF(ISNUMBER(CSVデータ1!R144),CSVデータ1!R144,0)+IF(ISNUMBER(CSVデータ2!R144),CSVデータ2!R144,0)+IF(ISNUMBER(CSVデータ3!R144),CSVデータ3!R144,0)+IF(ISNUMBER(CSVデータ4!R144),CSVデータ4!R144,0)","v":0},null,{"$f":"IF(ISNUMBER(CSVデータ1!T144),CSVデータ1!T144,0)+IF(ISNUMBER(CSVデータ2!T144),CSVデータ2!T144,0)+IF(ISNUMBER(CSVデータ3!T144),CSVデータ3!T144,0)+IF(ISNUMBER(CSVデータ4!T144),CSVデータ4!T144,0)","v":0},null,{"$f":"IF(ISNUMBER(CSVデータ1!V144),CSVデータ1!V144,0)+IF(ISNUMBER(CSVデータ2!V144),CSVデータ2!V144,0)+IF(ISNUMBER(CSVデータ3!V144),CSVデータ3!V144,0)+IF(ISNUMBER(CSVデータ4!V144),CSVデータ4!V144,0)","v":0},null,{"$f":"IF(ISNUMBER(CSVデータ1!X144),CSVデータ1!X144,0)+IF(ISNUMBER(CSVデータ2!X144),CSVデータ2!X144,0)+IF(ISNUMBER(CSVデータ3!X144),CSVデータ3!X144,0)+IF(ISNUMBER(CSVデータ4!X144),CSVデータ4!X144,0)","v":0},null,{"$f":"IF(ISNUMBER(CSVデータ1!Z144),CSVデータ1!Z144,0)+IF(ISNUMBER(CSVデータ2!Z144),CSVデータ2!Z144,0)+IF(ISNUMBER(CSVデータ3!Z144),CSVデータ3!Z144,0)+IF(ISNUMBER(CSVデータ4!Z144),CSVデータ4!Z144,0)","v":0},null,{"$f":"IF(ISNUMBER(CSVデータ1!AB144),CSVデータ1!AB144,0)+IF(ISNUMBER(CSVデータ2!AB144),CSVデータ2!AB144,0)+IF(ISNUMBER(CSVデータ3!AB144),CSVデータ3!AB144,0)+IF(ISNUMBER(CSVデータ4!AB144),CSVデータ4!AB144,0)","v":0},null,{"$f":"IF(ISNUMBER(CSVデータ1!AD144),CSVデータ1!AD144,0)+IF(ISNUMBER(CSVデータ2!AD144),CSVデータ2!AD144,0)+IF(ISNUMBER(CSVデータ3!AD144),CSVデータ3!AD144,0)+IF(ISNUMBER(CSVデータ4!AD144),CSVデータ4!AD144,0)","v":0},null,{"$f":"IF(ISNUMBER(CSVデータ1!AF144),CSVデータ1!AF144,0)+IF(ISNUMBER(CSVデータ2!AF144),CSVデータ2!AF144,0)+IF(ISNUMBER(CSVデータ3!AF144),CSVデータ3!AF144,0)+IF(ISNUMBER(CSVデータ4!AF144),CSVデータ4!AF144,0)","v":0},null,{"$f":"IF(ISNUMBER(CSVデータ1!AH144),CSVデータ1!AH144,0)+IF(ISNUMBER(CSVデータ2!AH144),CSVデータ2!AH144,0)+IF(ISNUMBER(CSVデータ3!AH144),CSVデータ3!AH144,0)+IF(ISNUMBER(CSVデータ4!AH144),CSVデータ4!AH144,0)","v":0},null,{"$f":"IF(ISNUMBER(CSVデータ1!AJ144),CSVデータ1!AJ144,0)+IF(ISNUMBER(CSVデータ2!AJ144),CSVデータ2!AJ144,0)+IF(ISNUMBER(CSVデータ3!AJ144),CSVデータ3!AJ144,0)+IF(ISNUMBER(CSVデータ4!AJ144),CSVデータ4!AJ144,0)","v":0},null,{"$f":"IF(ISNUMBER(CSVデータ1!AL144),CSVデータ1!AL144,0)+IF(ISNUMBER(CSVデータ2!AL144),CSVデータ2!AL144,0)+IF(ISNUMBER(CSVデータ3!AL144),CSVデータ3!AL144,0)+IF(ISNUMBER(CSVデータ4!AL144),CSVデータ4!AL144,0)","v":0},null,{"$f":"IF(ISNUMBER(CSVデータ1!AN144),CSVデータ1!AN144,0)+IF(ISNUMBER(CSVデータ2!AN144),CSVデータ2!AN144,0)+IF(ISNUMBER(CSVデータ3!AN144),CSVデータ3!AN144,0)+IF(ISNUMBER(CSVデータ4!AN144),CSVデータ4!AN144,0)","v":0}]
[{"$f":"CSVデータ1!A145","v":"明細部"},{"$f":"CSVデータ1!B145","v":"保険者（地区）"},{"$f":"CSVデータ1!C145","v":41},{"$f":"CSVデータ1!D145","v":"男"},{"$f":"IF(ISNUMBER(CSVデータ1!E145),CSVデータ1!E145,0)+IF(ISNUMBER(CSVデータ2!E145),CSVデータ2!E145,0)+IF(ISNUMBER(CSVデータ3!E145),CSVデータ3!E145,0)+IF(ISNUMBER(CSVデータ4!E145),CSVデータ4!E145,0)","v":5},{"$f":"IF(ISNUMBER(CSVデータ1!F145),CSVデータ1!F145,0)+IF(ISNUMBER(CSVデータ2!F145),CSVデータ2!F145,0)+IF(ISNUMBER(CSVデータ3!F145),CSVデータ3!F145,0)+IF(ISNUMBER(CSVデータ4!F145),CSVデータ4!F145,0)","v":0},null,{"$f":"IF(ISNUMBER(CSVデータ1!H145),CSVデータ1!H145,0)+IF(ISNUMBER(CSVデータ2!H145),CSVデータ2!H145,0)+IF(ISNUMBER(CSVデータ3!H145),CSVデータ3!H145,0)+IF(ISNUMBER(CSVデータ4!H145),CSVデータ4!H145,0)","v":2},null,{"$f":"IF(ISNUMBER(CSVデータ1!J145),CSVデータ1!J145,0)+IF(ISNUMBER(CSVデータ2!J145),CSVデータ2!J145,0)+IF(ISNUMBER(CSVデータ3!J145),CSVデータ3!J145,0)+IF(ISNUMBER(CSVデータ4!J145),CSVデータ4!J145,0)","v":0},null,{"$f":"IF(ISNUMBER(CSVデータ1!L145),CSVデータ1!L145,0)+IF(ISNUMBER(CSVデータ2!L145),CSVデータ2!L145,0)+IF(ISNUMBER(CSVデータ3!L145),CSVデータ3!L145,0)+IF(ISNUMBER(CSVデータ4!L145),CSVデータ4!L145,0)","v":1},null,{"$f":"IF(ISNUMBER(CSVデータ1!N145),CSVデータ1!N145,0)+IF(ISNUMBER(CSVデータ2!N145),CSVデータ2!N145,0)+IF(ISNUMBER(CSVデータ3!N145),CSVデータ3!N145,0)+IF(ISNUMBER(CSVデータ4!N145),CSVデータ4!N145,0)","v":0},null,{"$f":"IF(ISNUMBER(CSVデータ1!P145),CSVデータ1!P145,0)+IF(ISNUMBER(CSVデータ2!P145),CSVデータ2!P145,0)+IF(ISNUMBER(CSVデータ3!P145),CSVデータ3!P145,0)+IF(ISNUMBER(CSVデータ4!P145),CSVデータ4!P145,0)","v":0},null,{"$f":"IF(ISNUMBER(CSVデータ1!R145),CSVデータ1!R145,0)+IF(ISNUMBER(CSVデータ2!R145),CSVデータ2!R145,0)+IF(ISNUMBER(CSVデータ3!R145),CSVデータ3!R145,0)+IF(ISNUMBER(CSVデータ4!R145),CSVデータ4!R145,0)","v":0},null,{"$f":"IF(ISNUMBER(CSVデータ1!T145),CSVデータ1!T145,0)+IF(ISNUMBER(CSVデータ2!T145),CSVデータ2!T145,0)+IF(ISNUMBER(CSVデータ3!T145),CSVデータ3!T145,0)+IF(ISNUMBER(CSVデータ4!T145),CSVデータ4!T145,0)","v":0},null,{"$f":"IF(ISNUMBER(CSVデータ1!V145),CSVデータ1!V145,0)+IF(ISNUMBER(CSVデータ2!V145),CSVデータ2!V145,0)+IF(ISNUMBER(CSVデータ3!V145),CSVデータ3!V145,0)+IF(ISNUMBER(CSVデータ4!V145),CSVデータ4!V145,0)","v":0},null,{"$f":"IF(ISNUMBER(CSVデータ1!X145),CSVデータ1!X145,0)+IF(ISNUMBER(CSVデータ2!X145),CSVデータ2!X145,0)+IF(ISNUMBER(CSVデータ3!X145),CSVデータ3!X145,0)+IF(ISNUMBER(CSVデータ4!X145),CSVデータ4!X145,0)","v":0},null,{"$f":"IF(ISNUMBER(CSVデータ1!Z145),CSVデータ1!Z145,0)+IF(ISNUMBER(CSVデータ2!Z145),CSVデータ2!Z145,0)+IF(ISNUMBER(CSVデータ3!Z145),CSVデータ3!Z145,0)+IF(ISNUMBER(CSVデータ4!Z145),CSVデータ4!Z145,0)","v":1},null,{"$f":"IF(ISNUMBER(CSVデータ1!AB145),CSVデータ1!AB145,0)+IF(ISNUMBER(CSVデータ2!AB145),CSVデータ2!AB145,0)+IF(ISNUMBER(CSVデータ3!AB145),CSVデータ3!AB145,0)+IF(ISNUMBER(CSVデータ4!AB145),CSVデータ4!AB145,0)","v":0},null,{"$f":"IF(ISNUMBER(CSVデータ1!AD145),CSVデータ1!AD145,0)+IF(ISNUMBER(CSVデータ2!AD145),CSVデータ2!AD145,0)+IF(ISNUMBER(CSVデータ3!AD145),CSVデータ3!AD145,0)+IF(ISNUMBER(CSVデータ4!AD145),CSVデータ4!AD145,0)","v":2},null,{"$f":"IF(ISNUMBER(CSVデータ1!AF145),CSVデータ1!AF145,0)+IF(ISNUMBER(CSVデータ2!AF145),CSVデータ2!AF145,0)+IF(ISNUMBER(CSVデータ3!AF145),CSVデータ3!AF145,0)+IF(ISNUMBER(CSVデータ4!AF145),CSVデータ4!AF145,0)","v":0},null,{"$f":"IF(ISNUMBER(CSVデータ1!AH145),CSVデータ1!AH145,0)+IF(ISNUMBER(CSVデータ2!AH145),CSVデータ2!AH145,0)+IF(ISNUMBER(CSVデータ3!AH145),CSVデータ3!AH145,0)+IF(ISNUMBER(CSVデータ4!AH145),CSVデータ4!AH145,0)","v":0},null,{"$f":"IF(ISNUMBER(CSVデータ1!AJ145),CSVデータ1!AJ145,0)+IF(ISNUMBER(CSVデータ2!AJ145),CSVデータ2!AJ145,0)+IF(ISNUMBER(CSVデータ3!AJ145),CSVデータ3!AJ145,0)+IF(ISNUMBER(CSVデータ4!AJ145),CSVデータ4!AJ145,0)","v":0},null,{"$f":"IF(ISNUMBER(CSVデータ1!AL145),CSVデータ1!AL145,0)+IF(ISNUMBER(CSVデータ2!AL145),CSVデータ2!AL145,0)+IF(ISNUMBER(CSVデータ3!AL145),CSVデータ3!AL145,0)+IF(ISNUMBER(CSVデータ4!AL145),CSVデータ4!AL145,0)","v":0},null,{"$f":"IF(ISNUMBER(CSVデータ1!AN145),CSVデータ1!AN145,0)+IF(ISNUMBER(CSVデータ2!AN145),CSVデータ2!AN145,0)+IF(ISNUMBER(CSVデータ3!AN145),CSVデータ3!AN145,0)+IF(ISNUMBER(CSVデータ4!AN145),CSVデータ4!AN145,0)","v":0}]
[{"$f":"CSVデータ1!A146","v":"明細部"},{"$f":"CSVデータ1!B146","v":"保険者（地区）"},{"$f":"CSVデータ1!C146","v":42},{"$f":"CSVデータ1!D146","v":"男"},{"$f":"IF(ISNUMBER(CSVデータ1!E146),CSVデータ1!E146,0)+IF(ISNUMBER(CSVデータ2!E146),CSVデータ2!E146,0)+IF(ISNUMBER(CSVデータ3!E146),CSVデータ3!E146,0)+IF(ISNUMBER(CSVデータ4!E146),CSVデータ4!E146,0)","v":3},{"$f":"IF(ISNUMBER(CSVデータ1!F146),CSVデータ1!F146,0)+IF(ISNUMBER(CSVデータ2!F146),CSVデータ2!F146,0)+IF(ISNUMBER(CSVデータ3!F146),CSVデータ3!F146,0)+IF(ISNUMBER(CSVデータ4!F146),CSVデータ4!F146,0)","v":1},null,{"$f":"IF(ISNUMBER(CSVデータ1!H146),CSVデータ1!H146,0)+IF(ISNUMBER(CSVデータ2!H146),CSVデータ2!H146,0)+IF(ISNUMBER(CSVデータ3!H146),CSVデータ3!H146,0)+IF(ISNUMBER(CSVデータ4!H146),CSVデータ4!H146,0)","v":1},null,{"$f":"IF(ISNUMBER(CSVデータ1!J146),CSVデータ1!J146,0)+IF(ISNUMBER(CSVデータ2!J146),CSVデータ2!J146,0)+IF(ISNUMBER(CSVデータ3!J146),CSVデータ3!J146,0)+IF(ISNUMBER(CSVデータ4!J146),CSVデータ4!J146,0)","v":1},null,{"$f":"IF(ISNUMBER(CSVデータ1!L146),CSVデータ1!L146,0)+IF(ISNUMBER(CSVデータ2!L146),CSVデータ2!L146,0)+IF(ISNUMBER(CSVデータ3!L146),CSVデータ3!L146,0)+IF(ISNUMBER(CSVデータ4!L146),CSVデータ4!L146,0)","v":0},null,{"$f":"IF(ISNUMBER(CSVデータ1!N146),CSVデータ1!N146,0)+IF(ISNUMBER(CSVデータ2!N146),CSVデータ2!N146,0)+IF(ISNUMBER(CSVデータ3!N146),CSVデータ3!N146,0)+IF(ISNUMBER(CSVデータ4!N146),CSVデータ4!N146,0)","v":1},null,{"$f":"IF(ISNUMBER(CSVデータ1!P146),CSVデータ1!P146,0)+IF(ISNUMBER(CSVデータ2!P146),CSVデータ2!P146,0)+IF(ISNUMBER(CSVデータ3!P146),CSVデータ3!P146,0)+IF(ISNUMBER(CSVデータ4!P146),CSVデータ4!P146,0)","v":2},null,{"$f":"IF(ISNUMBER(CSVデータ1!R146),CSVデータ1!R146,0)+IF(ISNUMBER(CSVデータ2!R146),CSVデータ2!R146,0)+IF(ISNUMBER(CSVデータ3!R146),CSVデータ3!R146,0)+IF(ISNUMBER(CSVデータ4!R146),CSVデータ4!R146,0)","v":0},null,{"$f":"IF(ISNUMBER(CSVデータ1!T146),CSVデータ1!T146,0)+IF(ISNUMBER(CSVデータ2!T146),CSVデータ2!T146,0)+IF(ISNUMBER(CSVデータ3!T146),CSVデータ3!T146,0)+IF(ISNUMBER(CSVデータ4!T146),CSVデータ4!T146,0)","v":0},null,{"$f":"IF(ISNUMBER(CSVデータ1!V146),CSVデータ1!V146,0)+IF(ISNUMBER(CSVデータ2!V146),CSVデータ2!V146,0)+IF(ISNUMBER(CSVデータ3!V146),CSVデータ3!V146,0)+IF(ISNUMBER(CSVデータ4!V146),CSVデータ4!V146,0)","v":0},null,{"$f":"IF(ISNUMBER(CSVデータ1!X146),CSVデータ1!X146,0)+IF(ISNUMBER(CSVデータ2!X146),CSVデータ2!X146,0)+IF(ISNUMBER(CSVデータ3!X146),CSVデータ3!X146,0)+IF(ISNUMBER(CSVデータ4!X146),CSVデータ4!X146,0)","v":0},null,{"$f":"IF(ISNUMBER(CSVデータ1!Z146),CSVデータ1!Z146,0)+IF(ISNUMBER(CSVデータ2!Z146),CSVデータ2!Z146,0)+IF(ISNUMBER(CSVデータ3!Z146),CSVデータ3!Z146,0)+IF(ISNUMBER(CSVデータ4!Z146),CSVデータ4!Z146,0)","v":0},null,{"$f":"IF(ISNUMBER(CSVデータ1!AB146),CSVデータ1!AB146,0)+IF(ISNUMBER(CSVデータ2!AB146),CSVデータ2!AB146,0)+IF(ISNUMBER(CSVデータ3!AB146),CSVデータ3!AB146,0)+IF(ISNUMBER(CSVデータ4!AB146),CSVデータ4!AB146,0)","v":0},null,{"$f":"IF(ISNUMBER(CSVデータ1!AD146),CSVデータ1!AD146,0)+IF(ISNUMBER(CSVデータ2!AD146),CSVデータ2!AD146,0)+IF(ISNUMBER(CSVデータ3!AD146),CSVデータ3!AD146,0)+IF(ISNUMBER(CSVデータ4!AD146),CSVデータ4!AD146,0)","v":0},null,{"$f":"IF(ISNUMBER(CSVデータ1!AF146),CSVデータ1!AF146,0)+IF(ISNUMBER(CSVデータ2!AF146),CSVデータ2!AF146,0)+IF(ISNUMBER(CSVデータ3!AF146),CSVデータ3!AF146,0)+IF(ISNUMBER(CSVデータ4!AF146),CSVデータ4!AF146,0)","v":0},null,{"$f":"IF(ISNUMBER(CSVデータ1!AH146),CSVデータ1!AH146,0)+IF(ISNUMBER(CSVデータ2!AH146),CSVデータ2!AH146,0)+IF(ISNUMBER(CSVデータ3!AH146),CSVデータ3!AH146,0)+IF(ISNUMBER(CSVデータ4!AH146),CSVデータ4!AH146,0)","v":0},null,{"$f":"IF(ISNUMBER(CSVデータ1!AJ146),CSVデータ1!AJ146,0)+IF(ISNUMBER(CSVデータ2!AJ146),CSVデータ2!AJ146,0)+IF(ISNUMBER(CSVデータ3!AJ146),CSVデータ3!AJ146,0)+IF(ISNUMBER(CSVデータ4!AJ146),CSVデータ4!AJ146,0)","v":0},null,{"$f":"IF(ISNUMBER(CSVデータ1!AL146),CSVデータ1!AL146,0)+IF(ISNUMBER(CSVデータ2!AL146),CSVデータ2!AL146,0)+IF(ISNUMBER(CSVデータ3!AL146),CSVデータ3!AL146,0)+IF(ISNUMBER(CSVデータ4!AL146),CSVデータ4!AL146,0)","v":0},null,{"$f":"IF(ISNUMBER(CSVデータ1!AN146),CSVデータ1!AN146,0)+IF(ISNUMBER(CSVデータ2!AN146),CSVデータ2!AN146,0)+IF(ISNUMBER(CSVデータ3!AN146),CSVデータ3!AN146,0)+IF(ISNUMBER(CSVデータ4!AN146),CSVデータ4!AN146,0)","v":0}]
[{"$f":"CSVデータ1!A147","v":"明細部"},{"$f":"CSVデータ1!B147","v":"保険者（地区）"},{"$f":"CSVデータ1!C147","v":43},{"$f":"CSVデータ1!D147","v":"男"},{"$f":"IF(ISNUMBER(CSVデータ1!E147),CSVデータ1!E147,0)+IF(ISNUMBER(CSVデータ2!E147),CSVデータ2!E147,0)+IF(ISNUMBER(CSVデータ3!E147),CSVデータ3!E147,0)+IF(ISNUMBER(CSVデータ4!E147),CSVデータ4!E147,0)","v":2},{"$f":"IF(ISNUMBER(CSVデータ1!F147),CSVデータ1!F147,0)+IF(ISNUMBER(CSVデータ2!F147),CSVデータ2!F147,0)+IF(ISNUMBER(CSVデータ3!F147),CSVデータ3!F147,0)+IF(ISNUMBER(CSVデータ4!F147),CSVデータ4!F147,0)","v":1},null,{"$f":"IF(ISNUMBER(CSVデータ1!H147),CSVデータ1!H147,0)+IF(ISNUMBER(CSVデータ2!H147),CSVデータ2!H147,0)+IF(ISNUMBER(CSVデータ3!H147),CSVデータ3!H147,0)+IF(ISNUMBER(CSVデータ4!H147),CSVデータ4!H147,0)","v":0},null,{"$f":"IF(ISNUMBER(CSVデータ1!J147),CSVデータ1!J147,0)+IF(ISNUMBER(CSVデータ2!J147),CSVデータ2!J147,0)+IF(ISNUMBER(CSVデータ3!J147),CSVデータ3!J147,0)+IF(ISNUMBER(CSVデータ4!J147),CSVデータ4!J147,0)","v":0},null,{"$f":"IF(ISNUMBER(CSVデータ1!L147),CSVデータ1!L147,0)+IF(ISNUMBER(CSVデータ2!L147),CSVデータ2!L147,0)+IF(ISNUMBER(CSVデータ3!L147),CSVデータ3!L147,0)+IF(ISNUMBER(CSVデータ4!L147),CSVデータ4!L147,0)","v":0},null,{"$f":"IF(ISNUMBER(CSVデータ1!N147),CSVデータ1!N147,0)+IF(ISNUMBER(CSVデータ2!N147),CSVデータ2!N147,0)+IF(ISNUMBER(CSVデータ3!N147),CSVデータ3!N147,0)+IF(ISNUMBER(CSVデータ4!N147),CSVデータ4!N147,0)","v":0},null,{"$f":"IF(ISNUMBER(CSVデータ1!P147),CSVデータ1!P147,0)+IF(ISNUMBER(CSVデータ2!P147),CSVデータ2!P147,0)+IF(ISNUMBER(CSVデータ3!P147),CSVデータ3!P147,0)+IF(ISNUMBER(CSVデータ4!P147),CSVデータ4!P147,0)","v":0},null,{"$f":"IF(ISNUMBER(CSVデータ1!R147),CSVデータ1!R147,0)+IF(ISNUMBER(CSVデータ2!R147),CSVデータ2!R147,0)+IF(ISNUMBER(CSVデータ3!R147),CSVデータ3!R147,0)+IF(ISNUMBER(CSVデータ4!R147),CSVデータ4!R147,0)","v":0},null,{"$f":"IF(ISNUMBER(CSVデータ1!T147),CSVデータ1!T147,0)+IF(ISNUMBER(CSVデータ2!T147),CSVデータ2!T147,0)+IF(ISNUMBER(CSVデータ3!T147),CSVデータ3!T147,0)+IF(ISNUMBER(CSVデータ4!T147),CSVデータ4!T147,0)","v":0},null,{"$f":"IF(ISNUMBER(CSVデータ1!V147),CSVデータ1!V147,0)+IF(ISNUMBER(CSVデータ2!V147),CSVデータ2!V147,0)+IF(ISNUMBER(CSVデータ3!V147),CSVデータ3!V147,0)+IF(ISNUMBER(CSVデータ4!V147),CSVデータ4!V147,0)","v":0},null,{"$f":"IF(ISNUMBER(CSVデータ1!X147),CSVデータ1!X147,0)+IF(ISNUMBER(CSVデータ2!X147),CSVデータ2!X147,0)+IF(ISNUMBER(CSVデータ3!X147),CSVデータ3!X147,0)+IF(ISNUMBER(CSVデータ4!X147),CSVデータ4!X147,0)","v":0},null,{"$f":"IF(ISNUMBER(CSVデータ1!Z147),CSVデータ1!Z147,0)+IF(ISNUMBER(CSVデータ2!Z147),CSVデータ2!Z147,0)+IF(ISNUMBER(CSVデータ3!Z147),CSVデータ3!Z147,0)+IF(ISNUMBER(CSVデータ4!Z147),CSVデータ4!Z147,0)","v":1},null,{"$f":"IF(ISNUMBER(CSVデータ1!AB147),CSVデータ1!AB147,0)+IF(ISNUMBER(CSVデータ2!AB147),CSVデータ2!AB147,0)+IF(ISNUMBER(CSVデータ3!AB147),CSVデータ3!AB147,0)+IF(ISNUMBER(CSVデータ4!AB147),CSVデータ4!AB147,0)","v":0},null,{"$f":"IF(ISNUMBER(CSVデータ1!AD147),CSVデータ1!AD147,0)+IF(ISNUMBER(CSVデータ2!AD147),CSVデータ2!AD147,0)+IF(ISNUMBER(CSVデータ3!AD147),CSVデータ3!AD147,0)+IF(ISNUMBER(CSVデータ4!AD147),CSVデータ4!AD147,0)","v":0},null,{"$f":"IF(ISNUMBER(CSVデータ1!AF147),CSVデータ1!AF147,0)+IF(ISNUMBER(CSVデータ2!AF147),CSVデータ2!AF147,0)+IF(ISNUMBER(CSVデータ3!AF147),CSVデータ3!AF147,0)+IF(ISNUMBER(CSVデータ4!AF147),CSVデータ4!AF147,0)","v":0},null,{"$f":"IF(ISNUMBER(CSVデータ1!AH147),CSVデータ1!AH147,0)+IF(ISNUMBER(CSVデータ2!AH147),CSVデータ2!AH147,0)+IF(ISNUMBER(CSVデータ3!AH147),CSVデータ3!AH147,0)+IF(ISNUMBER(CSVデータ4!AH147),CSVデータ4!AH147,0)","v":0},null,{"$f":"IF(ISNUMBER(CSVデータ1!AJ147),CSVデータ1!AJ147,0)+IF(ISNUMBER(CSVデータ2!AJ147),CSVデータ2!AJ147,0)+IF(ISNUMBER(CSVデータ3!AJ147),CSVデータ3!AJ147,0)+IF(ISNUMBER(CSVデータ4!AJ147),CSVデータ4!AJ147,0)","v":0},null,{"$f":"IF(ISNUMBER(CSVデータ1!AL147),CSVデータ1!AL147,0)+IF(ISNUMBER(CSVデータ2!AL147),CSVデータ2!AL147,0)+IF(ISNUMBER(CSVデータ3!AL147),CSVデータ3!AL147,0)+IF(ISNUMBER(CSVデータ4!AL147),CSVデータ4!AL147,0)","v":0},null,{"$f":"IF(ISNUMBER(CSVデータ1!AN147),CSVデータ1!AN147,0)+IF(ISNUMBER(CSVデータ2!AN147),CSVデータ2!AN147,0)+IF(ISNUMBER(CSVデータ3!AN147),CSVデータ3!AN147,0)+IF(ISNUMBER(CSVデータ4!AN147),CSVデータ4!AN147,0)","v":0}]
[{"$f":"CSVデータ1!A148","v":"明細部"},{"$f":"CSVデータ1!B148","v":"保険者（地区）"},{"$f":"CSVデータ1!C148","v":44},{"$f":"CSVデータ1!D148","v":"男"},{"$f":"IF(ISNUMBER(CSVデータ1!E148),CSVデータ1!E148,0)+IF(ISNUMBER(CSVデータ2!E148),CSVデータ2!E148,0)+IF(ISNUMBER(CSVデータ3!E148),CSVデータ3!E148,0)+IF(ISNUMBER(CSVデータ4!E148),CSVデータ4!E148,0)","v":8},{"$f":"IF(ISNUMBER(CSVデータ1!F148),CSVデータ1!F148,0)+IF(ISNUMBER(CSVデータ2!F148),CSVデータ2!F148,0)+IF(ISNUMBER(CSVデータ3!F148),CSVデータ3!F148,0)+IF(ISNUMBER(CSVデータ4!F148),CSVデータ4!F148,0)","v":1},null,{"$f":"IF(ISNUMBER(CSVデータ1!H148),CSVデータ1!H148,0)+IF(ISNUMBER(CSVデータ2!H148),CSVデータ2!H148,0)+IF(ISNUMBER(CSVデータ3!H148),CSVデータ3!H148,0)+IF(ISNUMBER(CSVデータ4!H148),CSVデータ4!H148,0)","v":2},null,{"$f":"IF(ISNUMBER(CSVデータ1!J148),CSVデータ1!J148,0)+IF(ISNUMBER(CSVデータ2!J148),CSVデータ2!J148,0)+IF(ISNUMBER(CSVデータ3!J148),CSVデータ3!J148,0)+IF(ISNUMBER(CSVデータ4!J148),CSVデータ4!J148,0)","v":0},null,{"$f":"IF(ISNUMBER(CSVデータ1!L148),CSVデータ1!L148,0)+IF(ISNUMBER(CSVデータ2!L148),CSVデータ2!L148,0)+IF(ISNUMBER(CSVデータ3!L148),CSVデータ3!L148,0)+IF(ISNUMBER(CSVデータ4!L148),CSVデータ4!L148,0)","v":0},null,{"$f":"IF(ISNUMBER(CSVデータ1!N148),CSVデータ1!N148,0)+IF(ISNUMBER(CSVデータ2!N148),CSVデータ2!N148,0)+IF(ISNUMBER(CSVデータ3!N148),CSVデータ3!N148,0)+IF(ISNUMBER(CSVデータ4!N148),CSVデータ4!N148,0)","v":0},null,{"$f":"IF(ISNUMBER(CSVデータ1!P148),CSVデータ1!P148,0)+IF(ISNUMBER(CSVデータ2!P148),CSVデータ2!P148,0)+IF(ISNUMBER(CSVデータ3!P148),CSVデータ3!P148,0)+IF(ISNUMBER(CSVデータ4!P148),CSVデータ4!P148,0)","v":0},null,{"$f":"IF(ISNUMBER(CSVデータ1!R148),CSVデータ1!R148,0)+IF(ISNUMBER(CSVデータ2!R148),CSVデータ2!R148,0)+IF(ISNUMBER(CSVデータ3!R148),CSVデータ3!R148,0)+IF(ISNUMBER(CSVデータ4!R148),CSVデータ4!R148,0)","v":1},null,{"$f":"IF(ISNUMBER(CSVデータ1!T148),CSVデータ1!T148,0)+IF(ISNUMBER(CSVデータ2!T148),CSVデータ2!T148,0)+IF(ISNUMBER(CSVデータ3!T148),CSVデータ3!T148,0)+IF(ISNUMBER(CSVデータ4!T148),CSVデータ4!T148,0)","v":1},null,{"$f":"IF(ISNUMBER(CSVデータ1!V148),CSVデータ1!V148,0)+IF(ISNUMBER(CSVデータ2!V148),CSVデータ2!V148,0)+IF(ISNUMBER(CSVデータ3!V148),CSVデータ3!V148,0)+IF(ISNUMBER(CSVデータ4!V148),CSVデータ4!V148,0)","v":0},null,{"$f":"IF(ISNUMBER(CSVデータ1!X148),CSVデータ1!X148,0)+IF(ISNUMBER(CSVデータ2!X148),CSVデータ2!X148,0)+IF(ISNUMBER(CSVデータ3!X148),CSVデータ3!X148,0)+IF(ISNUMBER(CSVデータ4!X148),CSVデータ4!X148,0)","v":2},null,{"$f":"IF(ISNUMBER(CSVデータ1!Z148),CSVデータ1!Z148,0)+IF(ISNUMBER(CSVデータ2!Z148),CSVデータ2!Z148,0)+IF(ISNUMBER(CSVデータ3!Z148),CSVデータ3!Z148,0)+IF(ISNUMBER(CSVデータ4!Z148),CSVデータ4!Z148,0)","v":3},null,{"$f":"IF(ISNUMBER(CSVデータ1!AB148),CSVデータ1!AB148,0)+IF(ISNUMBER(CSVデータ2!AB148),CSVデータ2!AB148,0)+IF(ISNUMBER(CSVデータ3!AB148),CSVデータ3!AB148,0)+IF(ISNUMBER(CSVデータ4!AB148),CSVデータ4!AB148,0)","v":0},null,{"$f":"IF(ISNUMBER(CSVデータ1!AD148),CSVデータ1!AD148,0)+IF(ISNUMBER(CSVデータ2!AD148),CSVデータ2!AD148,0)+IF(ISNUMBER(CSVデータ3!AD148),CSVデータ3!AD148,0)+IF(ISNUMBER(CSVデータ4!AD148),CSVデータ4!AD148,0)","v":3},null,{"$f":"IF(ISNUMBER(CSVデータ1!AF148),CSVデータ1!AF148,0)+IF(ISNUMBER(CSVデータ2!AF148),CSVデータ2!AF148,0)+IF(ISNUMBER(CSVデータ3!AF148),CSVデータ3!AF148,0)+IF(ISNUMBER(CSVデータ4!AF148),CSVデータ4!AF148,0)","v":1},null,{"$f":"IF(ISNUMBER(CSVデータ1!AH148),CSVデータ1!AH148,0)+IF(ISNUMBER(CSVデータ2!AH148),CSVデータ2!AH148,0)+IF(ISNUMBER(CSVデータ3!AH148),CSVデータ3!AH148,0)+IF(ISNUMBER(CSVデータ4!AH148),CSVデータ4!AH148,0)","v":0},null,{"$f":"IF(ISNUMBER(CSVデータ1!AJ148),CSVデータ1!AJ148,0)+IF(ISNUMBER(CSVデータ2!AJ148),CSVデータ2!AJ148,0)+IF(ISNUMBER(CSVデータ3!AJ148),CSVデータ3!AJ148,0)+IF(ISNUMBER(CSVデータ4!AJ148),CSVデータ4!AJ148,0)","v":0},null,{"$f":"IF(ISNUMBER(CSVデータ1!AL148),CSVデータ1!AL148,0)+IF(ISNUMBER(CSVデータ2!AL148),CSVデータ2!AL148,0)+IF(ISNUMBER(CSVデータ3!AL148),CSVデータ3!AL148,0)+IF(ISNUMBER(CSVデータ4!AL148),CSVデータ4!AL148,0)","v":0},null,{"$f":"IF(ISNUMBER(CSVデータ1!AN148),CSVデータ1!AN148,0)+IF(ISNUMBER(CSVデータ2!AN148),CSVデータ2!AN148,0)+IF(ISNUMBER(CSVデータ3!AN148),CSVデータ3!AN148,0)+IF(ISNUMBER(CSVデータ4!AN148),CSVデータ4!AN148,0)","v":0}]
[{"$f":"CSVデータ1!A149","v":"明細部"},{"$f":"CSVデータ1!B149","v":"保険者（地区）"},{"$f":"CSVデータ1!C149","v":45},{"$f":"CSVデータ1!D149","v":"男"},{"$f":"IF(ISNUMBER(CSVデータ1!E149),CSVデータ1!E149,0)+IF(ISNUMBER(CSVデータ2!E149),CSVデータ2!E149,0)+IF(ISNUMBER(CSVデータ3!E149),CSVデータ3!E149,0)+IF(ISNUMBER(CSVデータ4!E149),CSVデータ4!E149,0)","v":2},{"$f":"IF(ISNUMBER(CSVデータ1!F149),CSVデータ1!F149,0)+IF(ISNUMBER(CSVデータ2!F149),CSVデータ2!F149,0)+IF(ISNUMBER(CSVデータ3!F149),CSVデータ3!F149,0)+IF(ISNUMBER(CSVデータ4!F149),CSVデータ4!F149,0)","v":1},null,{"$f":"IF(ISNUMBER(CSVデータ1!H149),CSVデータ1!H149,0)+IF(ISNUMBER(CSVデータ2!H149),CSVデータ2!H149,0)+IF(ISNUMBER(CSVデータ3!H149),CSVデータ3!H149,0)+IF(ISNUMBER(CSVデータ4!H149),CSVデータ4!H149,0)","v":2},null,{"$f":"IF(ISNUMBER(CSVデータ1!J149),CSVデータ1!J149,0)+IF(ISNUMBER(CSVデータ2!J149),CSVデータ2!J149,0)+IF(ISNUMBER(CSVデータ3!J149),CSVデータ3!J149,0)+IF(ISNUMBER(CSVデータ4!J149),CSVデータ4!J149,0)","v":0},null,{"$f":"IF(ISNUMBER(CSVデータ1!L149),CSVデータ1!L149,0)+IF(ISNUMBER(CSVデータ2!L149),CSVデータ2!L149,0)+IF(ISNUMBER(CSVデータ3!L149),CSVデータ3!L149,0)+IF(ISNUMBER(CSVデータ4!L149),CSVデータ4!L149,0)","v":1},null,{"$f":"IF(ISNUMBER(CSVデータ1!N149),CSVデータ1!N149,0)+IF(ISNUMBER(CSVデータ2!N149),CSVデータ2!N149,0)+IF(ISNUMBER(CSVデータ3!N149),CSVデータ3!N149,0)+IF(ISNUMBER(CSVデータ4!N149),CSVデータ4!N149,0)","v":0},null,{"$f":"IF(ISNUMBER(CSVデータ1!P149),CSVデータ1!P149,0)+IF(ISNUMBER(CSVデータ2!P149),CSVデータ2!P149,0)+IF(ISNUMBER(CSVデータ3!P149),CSVデータ3!P149,0)+IF(ISNUMBER(CSVデータ4!P149),CSVデータ4!P149,0)","v":0},null,{"$f":"IF(ISNUMBER(CSVデータ1!R149),CSVデータ1!R149,0)+IF(ISNUMBER(CSVデータ2!R149),CSVデータ2!R149,0)+IF(ISNUMBER(CSVデータ3!R149),CSVデータ3!R149,0)+IF(ISNUMBER(CSVデータ4!R149),CSVデータ4!R149,0)","v":0},null,{"$f":"IF(ISNUMBER(CSVデータ1!T149),CSVデータ1!T149,0)+IF(ISNUMBER(CSVデータ2!T149),CSVデータ2!T149,0)+IF(ISNUMBER(CSVデータ3!T149),CSVデータ3!T149,0)+IF(ISNUMBER(CSVデータ4!T149),CSVデータ4!T149,0)","v":0},null,{"$f":"IF(ISNUMBER(CSVデータ1!V149),CSVデータ1!V149,0)+IF(ISNUMBER(CSVデータ2!V149),CSVデータ2!V149,0)+IF(ISNUMBER(CSVデータ3!V149),CSVデータ3!V149,0)+IF(ISNUMBER(CSVデータ4!V149),CSVデータ4!V149,0)","v":0},null,{"$f":"IF(ISNUMBER(CSVデータ1!X149),CSVデータ1!X149,0)+IF(ISNUMBER(CSVデータ2!X149),CSVデータ2!X149,0)+IF(ISNUMBER(CSVデータ3!X149),CSVデータ3!X149,0)+IF(ISNUMBER(CSVデータ4!X149),CSVデータ4!X149,0)","v":0},null,{"$f":"IF(ISNUMBER(CSVデータ1!Z149),CSVデータ1!Z149,0)+IF(ISNUMBER(CSVデータ2!Z149),CSVデータ2!Z149,0)+IF(ISNUMBER(CSVデータ3!Z149),CSVデータ3!Z149,0)+IF(ISNUMBER(CSVデータ4!Z149),CSVデータ4!Z149,0)","v":2},null,{"$f":"IF(ISNUMBER(CSVデータ1!AB149),CSVデータ1!AB149,0)+IF(ISNUMBER(CSVデータ2!AB149),CSVデータ2!AB149,0)+IF(ISNUMBER(CSVデータ3!AB149),CSVデータ3!AB149,0)+IF(ISNUMBER(CSVデータ4!AB149),CSVデータ4!AB149,0)","v":0},null,{"$f":"IF(ISNUMBER(CSVデータ1!AD149),CSVデータ1!AD149,0)+IF(ISNUMBER(CSVデータ2!AD149),CSVデータ2!AD149,0)+IF(ISNUMBER(CSVデータ3!AD149),CSVデータ3!AD149,0)+IF(ISNUMBER(CSVデータ4!AD149),CSVデータ4!AD149,0)","v":0},null,{"$f":"IF(ISNUMBER(CSVデータ1!AF149),CSVデータ1!AF149,0)+IF(ISNUMBER(CSVデータ2!AF149),CSVデータ2!AF149,0)+IF(ISNUMBER(CSVデータ3!AF149),CSVデータ3!AF149,0)+IF(ISNUMBER(CSVデータ4!AF149),CSVデータ4!AF149,0)","v":0},null,{"$f":"IF(ISNUMBER(CSVデータ1!AH149),CSVデータ1!AH149,0)+IF(ISNUMBER(CSVデータ2!AH149),CSVデータ2!AH149,0)+IF(ISNUMBER(CSVデータ3!AH149),CSVデータ3!AH149,0)+IF(ISNUMBER(CSVデータ4!AH149),CSVデータ4!AH149,0)","v":0},null,{"$f":"IF(ISNUMBER(CSVデータ1!AJ149),CSVデータ1!AJ149,0)+IF(ISNUMBER(CSVデータ2!AJ149),CSVデータ2!AJ149,0)+IF(ISNUMBER(CSVデータ3!AJ149),CSVデータ3!AJ149,0)+IF(ISNUMBER(CSVデータ4!AJ149),CSVデータ4!AJ149,0)","v":0},null,{"$f":"IF(ISNUMBER(CSVデータ1!AL149),CSVデータ1!AL149,0)+IF(ISNUMBER(CSVデータ2!AL149),CSVデータ2!AL149,0)+IF(ISNUMBER(CSVデータ3!AL149),CSVデータ3!AL149,0)+IF(ISNUMBER(CSVデータ4!AL149),CSVデータ4!AL149,0)","v":0},null,{"$f":"IF(ISNUMBER(CSVデータ1!AN149),CSVデータ1!AN149,0)+IF(ISNUMBER(CSVデータ2!AN149),CSVデータ2!AN149,0)+IF(ISNUMBER(CSVデータ3!AN149),CSVデータ3!AN149,0)+IF(ISNUMBER(CSVデータ4!AN149),CSVデータ4!AN149,0)","v":0}]
[{"$f":"CSVデータ1!A150","v":"明細部"},{"$f":"CSVデータ1!B150","v":"保険者（地区）"},{"$f":"CSVデータ1!C150","v":46},{"$f":"CSVデータ1!D150","v":"男"},{"$f":"IF(ISNUMBER(CSVデータ1!E150),CSVデータ1!E150,0)+IF(ISNUMBER(CSVデータ2!E150),CSVデータ2!E150,0)+IF(ISNUMBER(CSVデータ3!E150),CSVデータ3!E150,0)+IF(ISNUMBER(CSVデータ4!E150),CSVデータ4!E150,0)","v":6},{"$f":"IF(ISNUMBER(CSVデータ1!F150),CSVデータ1!F150,0)+IF(ISNUMBER(CSVデータ2!F150),CSVデータ2!F150,0)+IF(ISNUMBER(CSVデータ3!F150),CSVデータ3!F150,0)+IF(ISNUMBER(CSVデータ4!F150),CSVデータ4!F150,0)","v":2},null,{"$f":"IF(ISNUMBER(CSVデータ1!H150),CSVデータ1!H150,0)+IF(ISNUMBER(CSVデータ2!H150),CSVデータ2!H150,0)+IF(ISNUMBER(CSVデータ3!H150),CSVデータ3!H150,0)+IF(ISNUMBER(CSVデータ4!H150),CSVデータ4!H150,0)","v":3},null,{"$f":"IF(ISNUMBER(CSVデータ1!J150),CSVデータ1!J150,0)+IF(ISNUMBER(CSVデータ2!J150),CSVデータ2!J150,0)+IF(ISNUMBER(CSVデータ3!J150),CSVデータ3!J150,0)+IF(ISNUMBER(CSVデータ4!J150),CSVデータ4!J150,0)","v":0},null,{"$f":"IF(ISNUMBER(CSVデータ1!L150),CSVデータ1!L150,0)+IF(ISNUMBER(CSVデータ2!L150),CSVデータ2!L150,0)+IF(ISNUMBER(CSVデータ3!L150),CSVデータ3!L150,0)+IF(ISNUMBER(CSVデータ4!L150),CSVデータ4!L150,0)","v":3},null,{"$f":"IF(ISNUMBER(CSVデータ1!N150),CSVデータ1!N150,0)+IF(ISNUMBER(CSVデータ2!N150),CSVデータ2!N150,0)+IF(ISNUMBER(CSVデータ3!N150),CSVデータ3!N150,0)+IF(ISNUMBER(CSVデータ4!N150),CSVデータ4!N150,0)","v":0},null,{"$f":"IF(ISNUMBER(CSVデータ1!P150),CSVデータ1!P150,0)+IF(ISNUMBER(CSVデータ2!P150),CSVデータ2!P150,0)+IF(ISNUMBER(CSVデータ3!P150),CSVデータ3!P150,0)+IF(ISNUMBER(CSVデータ4!P150),CSVデータ4!P150,0)","v":0},null,{"$f":"IF(ISNUMBER(CSVデータ1!R150),CSVデータ1!R150,0)+IF(ISNUMBER(CSVデータ2!R150),CSVデータ2!R150,0)+IF(ISNUMBER(CSVデータ3!R150),CSVデータ3!R150,0)+IF(ISNUMBER(CSVデータ4!R150),CSVデータ4!R150,0)","v":2},null,{"$f":"IF(ISNUMBER(CSVデータ1!T150),CSVデータ1!T150,0)+IF(ISNUMBER(CSVデータ2!T150),CSVデータ2!T150,0)+IF(ISNUMBER(CSVデータ3!T150),CSVデータ3!T150,0)+IF(ISNUMBER(CSVデータ4!T150),CSVデータ4!T150,0)","v":0},null,{"$f":"IF(ISNUMBER(CSVデータ1!V150),CSVデータ1!V150,0)+IF(ISNUMBER(CSVデータ2!V150),CSVデータ2!V150,0)+IF(ISNUMBER(CSVデータ3!V150),CSVデータ3!V150,0)+IF(ISNUMBER(CSVデータ4!V150),CSVデータ4!V150,0)","v":3},null,{"$f":"IF(ISNUMBER(CSVデータ1!X150),CSVデータ1!X150,0)+IF(ISNUMBER(CSVデータ2!X150),CSVデータ2!X150,0)+IF(ISNUMBER(CSVデータ3!X150),CSVデータ3!X150,0)+IF(ISNUMBER(CSVデータ4!X150),CSVデータ4!X150,0)","v":0},null,{"$f":"IF(ISNUMBER(CSVデータ1!Z150),CSVデータ1!Z150,0)+IF(ISNUMBER(CSVデータ2!Z150),CSVデータ2!Z150,0)+IF(ISNUMBER(CSVデータ3!Z150),CSVデータ3!Z150,0)+IF(ISNUMBER(CSVデータ4!Z150),CSVデータ4!Z150,0)","v":3},null,{"$f":"IF(ISNUMBER(CSVデータ1!AB150),CSVデータ1!AB150,0)+IF(ISNUMBER(CSVデータ2!AB150),CSVデータ2!AB150,0)+IF(ISNUMBER(CSVデータ3!AB150),CSVデータ3!AB150,0)+IF(ISNUMBER(CSVデータ4!AB150),CSVデータ4!AB150,0)","v":0},null,{"$f":"IF(ISNUMBER(CSVデータ1!AD150),CSVデータ1!AD150,0)+IF(ISNUMBER(CSVデータ2!AD150),CSVデータ2!AD150,0)+IF(ISNUMBER(CSVデータ3!AD150),CSVデータ3!AD150,0)+IF(ISNUMBER(CSVデータ4!AD150),CSVデータ4!AD150,0)","v":2},null,{"$f":"IF(ISNUMBER(CSVデータ1!AF150),CSVデータ1!AF150,0)+IF(ISNUMBER(CSVデータ2!AF150),CSVデータ2!AF150,0)+IF(ISNUMBER(CSVデータ3!AF150),CSVデータ3!AF150,0)+IF(ISNUMBER(CSVデータ4!AF150),CSVデータ4!AF150,0)","v":0},null,{"$f":"IF(ISNUMBER(CSVデータ1!AH150),CSVデータ1!AH150,0)+IF(ISNUMBER(CSVデータ2!AH150),CSVデータ2!AH150,0)+IF(ISNUMBER(CSVデータ3!AH150),CSVデータ3!AH150,0)+IF(ISNUMBER(CSVデータ4!AH150),CSVデータ4!AH150,0)","v":0},null,{"$f":"IF(ISNUMBER(CSVデータ1!AJ150),CSVデータ1!AJ150,0)+IF(ISNUMBER(CSVデータ2!AJ150),CSVデータ2!AJ150,0)+IF(ISNUMBER(CSVデータ3!AJ150),CSVデータ3!AJ150,0)+IF(ISNUMBER(CSVデータ4!AJ150),CSVデータ4!AJ150,0)","v":0},null,{"$f":"IF(ISNUMBER(CSVデータ1!AL150),CSVデータ1!AL150,0)+IF(ISNUMBER(CSVデータ2!AL150),CSVデータ2!AL150,0)+IF(ISNUMBER(CSVデータ3!AL150),CSVデータ3!AL150,0)+IF(ISNUMBER(CSVデータ4!AL150),CSVデータ4!AL150,0)","v":0},null,{"$f":"IF(ISNUMBER(CSVデータ1!AN150),CSVデータ1!AN150,0)+IF(ISNUMBER(CSVデータ2!AN150),CSVデータ2!AN150,0)+IF(ISNUMBER(CSVデータ3!AN150),CSVデータ3!AN150,0)+IF(ISNUMBER(CSVデータ4!AN150),CSVデータ4!AN150,0)","v":0}]
[{"$f":"CSVデータ1!A151","v":"明細部"},{"$f":"CSVデータ1!B151","v":"保険者（地区）"},{"$f":"CSVデータ1!C151","v":47},{"$f":"CSVデータ1!D151","v":"男"},{"$f":"IF(ISNUMBER(CSVデータ1!E151),CSVデータ1!E151,0)+IF(ISNUMBER(CSVデータ2!E151),CSVデータ2!E151,0)+IF(ISNUMBER(CSVデータ3!E151),CSVデータ3!E151,0)+IF(ISNUMBER(CSVデータ4!E151),CSVデータ4!E151,0)","v":6},{"$f":"IF(ISNUMBER(CSVデータ1!F151),CSVデータ1!F151,0)+IF(ISNUMBER(CSVデータ2!F151),CSVデータ2!F151,0)+IF(ISNUMBER(CSVデータ3!F151),CSVデータ3!F151,0)+IF(ISNUMBER(CSVデータ4!F151),CSVデータ4!F151,0)","v":2},null,{"$f":"IF(ISNUMBER(CSVデータ1!H151),CSVデータ1!H151,0)+IF(ISNUMBER(CSVデータ2!H151),CSVデータ2!H151,0)+IF(ISNUMBER(CSVデータ3!H151),CSVデータ3!H151,0)+IF(ISNUMBER(CSVデータ4!H151),CSVデータ4!H151,0)","v":5},null,{"$f":"IF(ISNUMBER(CSVデータ1!J151),CSVデータ1!J151,0)+IF(ISNUMBER(CSVデータ2!J151),CSVデータ2!J151,0)+IF(ISNUMBER(CSVデータ3!J151),CSVデータ3!J151,0)+IF(ISNUMBER(CSVデータ4!J151),CSVデータ4!J151,0)","v":0},null,{"$f":"IF(ISNUMBER(CSVデータ1!L151),CSVデータ1!L151,0)+IF(ISNUMBER(CSVデータ2!L151),CSVデータ2!L151,0)+IF(ISNUMBER(CSVデータ3!L151),CSVデータ3!L151,0)+IF(ISNUMBER(CSVデータ4!L151),CSVデータ4!L151,0)","v":2},null,{"$f":"IF(ISNUMBER(CSVデータ1!N151),CSVデータ1!N151,0)+IF(ISNUMBER(CSVデータ2!N151),CSVデータ2!N151,0)+IF(ISNUMBER(CSVデータ3!N151),CSVデータ3!N151,0)+IF(ISNUMBER(CSVデータ4!N151),CSVデータ4!N151,0)","v":0},null,{"$f":"IF(ISNUMBER(CSVデータ1!P151),CSVデータ1!P151,0)+IF(ISNUMBER(CSVデータ2!P151),CSVデータ2!P151,0)+IF(ISNUMBER(CSVデータ3!P151),CSVデータ3!P151,0)+IF(ISNUMBER(CSVデータ4!P151),CSVデータ4!P151,0)","v":1},null,{"$f":"IF(ISNUMBER(CSVデータ1!R151),CSVデータ1!R151,0)+IF(ISNUMBER(CSVデータ2!R151),CSVデータ2!R151,0)+IF(ISNUMBER(CSVデータ3!R151),CSVデータ3!R151,0)+IF(ISNUMBER(CSVデータ4!R151),CSVデータ4!R151,0)","v":2},null,{"$f":"IF(ISNUMBER(CSVデータ1!T151),CSVデータ1!T151,0)+IF(ISNUMBER(CSVデータ2!T151),CSVデータ2!T151,0)+IF(ISNUMBER(CSVデータ3!T151),CSVデータ3!T151,0)+IF(ISNUMBER(CSVデータ4!T151),CSVデータ4!T151,0)","v":1},null,{"$f":"IF(ISNUMBER(CSVデータ1!V151),CSVデータ1!V151,0)+IF(ISNUMBER(CSVデータ2!V151),CSVデータ2!V151,0)+IF(ISNUMBER(CSVデータ3!V151),CSVデータ3!V151,0)+IF(ISNUMBER(CSVデータ4!V151),CSVデータ4!V151,0)","v":2},null,{"$f":"IF(ISNUMBER(CSVデータ1!X151),CSVデータ1!X151,0)+IF(ISNUMBER(CSVデータ2!X151),CSVデータ2!X151,0)+IF(ISNUMBER(CSVデータ3!X151),CSVデータ3!X151,0)+IF(ISNUMBER(CSVデータ4!X151),CSVデータ4!X151,0)","v":2},null,{"$f":"IF(ISNUMBER(CSVデータ1!Z151),CSVデータ1!Z151,0)+IF(ISNUMBER(CSVデータ2!Z151),CSVデータ2!Z151,0)+IF(ISNUMBER(CSVデータ3!Z151),CSVデータ3!Z151,0)+IF(ISNUMBER(CSVデータ4!Z151),CSVデータ4!Z151,0)","v":4},null,{"$f":"IF(ISNUMBER(CSVデータ1!AB151),CSVデータ1!AB151,0)+IF(ISNUMBER(CSVデータ2!AB151),CSVデータ2!AB151,0)+IF(ISNUMBER(CSVデータ3!AB151),CSVデータ3!AB151,0)+IF(ISNUMBER(CSVデータ4!AB151),CSVデータ4!AB151,0)","v":0},null,{"$f":"IF(ISNUMBER(CSVデータ1!AD151),CSVデータ1!AD151,0)+IF(ISNUMBER(CSVデータ2!AD151),CSVデータ2!AD151,0)+IF(ISNUMBER(CSVデータ3!AD151),CSVデータ3!AD151,0)+IF(ISNUMBER(CSVデータ4!AD151),CSVデータ4!AD151,0)","v":0},null,{"$f":"IF(ISNUMBER(CSVデータ1!AF151),CSVデータ1!AF151,0)+IF(ISNUMBER(CSVデータ2!AF151),CSVデータ2!AF151,0)+IF(ISNUMBER(CSVデータ3!AF151),CSVデータ3!AF151,0)+IF(ISNUMBER(CSVデータ4!AF151),CSVデータ4!AF151,0)","v":0},null,{"$f":"IF(ISNUMBER(CSVデータ1!AH151),CSVデータ1!AH151,0)+IF(ISNUMBER(CSVデータ2!AH151),CSVデータ2!AH151,0)+IF(ISNUMBER(CSVデータ3!AH151),CSVデータ3!AH151,0)+IF(ISNUMBER(CSVデータ4!AH151),CSVデータ4!AH151,0)","v":0},null,{"$f":"IF(ISNUMBER(CSVデータ1!AJ151),CSVデータ1!AJ151,0)+IF(ISNUMBER(CSVデータ2!AJ151),CSVデータ2!AJ151,0)+IF(ISNUMBER(CSVデータ3!AJ151),CSVデータ3!AJ151,0)+IF(ISNUMBER(CSVデータ4!AJ151),CSVデータ4!AJ151,0)","v":0},null,{"$f":"IF(ISNUMBER(CSVデータ1!AL151),CSVデータ1!AL151,0)+IF(ISNUMBER(CSVデータ2!AL151),CSVデータ2!AL151,0)+IF(ISNUMBER(CSVデータ3!AL151),CSVデータ3!AL151,0)+IF(ISNUMBER(CSVデータ4!AL151),CSVデータ4!AL151,0)","v":0},null,{"$f":"IF(ISNUMBER(CSVデータ1!AN151),CSVデータ1!AN151,0)+IF(ISNUMBER(CSVデータ2!AN151),CSVデータ2!AN151,0)+IF(ISNUMBER(CSVデータ3!AN151),CSVデータ3!AN151,0)+IF(ISNUMBER(CSVデータ4!AN151),CSVデータ4!AN151,0)","v":0}]
[{"$f":"CSVデータ1!A152","v":"明細部"},{"$f":"CSVデータ1!B152","v":"保険者（地区）"},{"$f":"CSVデータ1!C152","v":48},{"$f":"CSVデータ1!D152","v":"男"},{"$f":"IF(ISNUMBER(CSVデータ1!E152),CSVデータ1!E152,0)+IF(ISNUMBER(CSVデータ2!E152),CSVデータ2!E152,0)+IF(ISNUMBER(CSVデータ3!E152),CSVデータ3!E152,0)+IF(ISNUMBER(CSVデータ4!E152),CSVデータ4!E152,0)","v":5},{"$f":"IF(ISNUMBER(CSVデータ1!F152),CSVデータ1!F152,0)+IF(ISNUMBER(CSVデータ2!F152),CSVデータ2!F152,0)+IF(ISNUMBER(CSVデータ3!F152),CSVデータ3!F152,0)+IF(ISNUMBER(CSVデータ4!F152),CSVデータ4!F152,0)","v":0},null,{"$f":"IF(ISNUMBER(CSVデータ1!H152),CSVデータ1!H152,0)+IF(ISNUMBER(CSVデータ2!H152),CSVデータ2!H152,0)+IF(ISNUMBER(CSVデータ3!H152),CSVデータ3!H152,0)+IF(ISNUMBER(CSVデータ4!H152),CSVデータ4!H152,0)","v":1},null,{"$f":"IF(ISNUMBER(CSVデータ1!J152),CSVデータ1!J152,0)+IF(ISNUMBER(CSVデータ2!J152),CSVデータ2!J152,0)+IF(ISNUMBER(CSVデータ3!J152),CSVデータ3!J152,0)+IF(ISNUMBER(CSVデータ4!J152),CSVデータ4!J152,0)","v":0},null,{"$f":"IF(ISNUMBER(CSVデータ1!L152),CSVデータ1!L152,0)+IF(ISNUMBER(CSVデータ2!L152),CSVデータ2!L152,0)+IF(ISNUMBER(CSVデータ3!L152),CSVデータ3!L152,0)+IF(ISNUMBER(CSVデータ4!L152),CSVデータ4!L152,0)","v":2},null,{"$f":"IF(ISNUMBER(CSVデータ1!N152),CSVデータ1!N152,0)+IF(ISNUMBER(CSVデータ2!N152),CSVデータ2!N152,0)+IF(ISNUMBER(CSVデータ3!N152),CSVデータ3!N152,0)+IF(ISNUMBER(CSVデータ4!N152),CSVデータ4!N152,0)","v":0},null,{"$f":"IF(ISNUMBER(CSVデータ1!P152),CSVデータ1!P152,0)+IF(ISNUMBER(CSVデータ2!P152),CSVデータ2!P152,0)+IF(ISNUMBER(CSVデータ3!P152),CSVデータ3!P152,0)+IF(ISNUMBER(CSVデータ4!P152),CSVデータ4!P152,0)","v":1},null,{"$f":"IF(ISNUMBER(CSVデータ1!R152),CSVデータ1!R152,0)+IF(ISNUMBER(CSVデータ2!R152),CSVデータ2!R152,0)+IF(ISNUMBER(CSVデータ3!R152),CSVデータ3!R152,0)+IF(ISNUMBER(CSVデータ4!R152),CSVデータ4!R152,0)","v":2},null,{"$f":"IF(ISNUMBER(CSVデータ1!T152),CSVデータ1!T152,0)+IF(ISNUMBER(CSVデータ2!T152),CSVデータ2!T152,0)+IF(ISNUMBER(CSVデータ3!T152),CSVデータ3!T152,0)+IF(ISNUMBER(CSVデータ4!T152),CSVデータ4!T152,0)","v":1},null,{"$f":"IF(ISNUMBER(CSVデータ1!V152),CSVデータ1!V152,0)+IF(ISNUMBER(CSVデータ2!V152),CSVデータ2!V152,0)+IF(ISNUMBER(CSVデータ3!V152),CSVデータ3!V152,0)+IF(ISNUMBER(CSVデータ4!V152),CSVデータ4!V152,0)","v":0},null,{"$f":"IF(ISNUMBER(CSVデータ1!X152),CSVデータ1!X152,0)+IF(ISNUMBER(CSVデータ2!X152),CSVデータ2!X152,0)+IF(ISNUMBER(CSVデータ3!X152),CSVデータ3!X152,0)+IF(ISNUMBER(CSVデータ4!X152),CSVデータ4!X152,0)","v":0},null,{"$f":"IF(ISNUMBER(CSVデータ1!Z152),CSVデータ1!Z152,0)+IF(ISNUMBER(CSVデータ2!Z152),CSVデータ2!Z152,0)+IF(ISNUMBER(CSVデータ3!Z152),CSVデータ3!Z152,0)+IF(ISNUMBER(CSVデータ4!Z152),CSVデータ4!Z152,0)","v":3},null,{"$f":"IF(ISNUMBER(CSVデータ1!AB152),CSVデータ1!AB152,0)+IF(ISNUMBER(CSVデータ2!AB152),CSVデータ2!AB152,0)+IF(ISNUMBER(CSVデータ3!AB152),CSVデータ3!AB152,0)+IF(ISNUMBER(CSVデータ4!AB152),CSVデータ4!AB152,0)","v":0},null,{"$f":"IF(ISNUMBER(CSVデータ1!AD152),CSVデータ1!AD152,0)+IF(ISNUMBER(CSVデータ2!AD152),CSVデータ2!AD152,0)+IF(ISNUMBER(CSVデータ3!AD152),CSVデータ3!AD152,0)+IF(ISNUMBER(CSVデータ4!AD152),CSVデータ4!AD152,0)","v":2},null,{"$f":"IF(ISNUMBER(CSVデータ1!AF152),CSVデータ1!AF152,0)+IF(ISNUMBER(CSVデータ2!AF152),CSVデータ2!AF152,0)+IF(ISNUMBER(CSVデータ3!AF152),CSVデータ3!AF152,0)+IF(ISNUMBER(CSVデータ4!AF152),CSVデータ4!AF152,0)","v":0},null,{"$f":"IF(ISNUMBER(CSVデータ1!AH152),CSVデータ1!AH152,0)+IF(ISNUMBER(CSVデータ2!AH152),CSVデータ2!AH152,0)+IF(ISNUMBER(CSVデータ3!AH152),CSVデータ3!AH152,0)+IF(ISNUMBER(CSVデータ4!AH152),CSVデータ4!AH152,0)","v":0},null,{"$f":"IF(ISNUMBER(CSVデータ1!AJ152),CSVデータ1!AJ152,0)+IF(ISNUMBER(CSVデータ2!AJ152),CSVデータ2!AJ152,0)+IF(ISNUMBER(CSVデータ3!AJ152),CSVデータ3!AJ152,0)+IF(ISNUMBER(CSVデータ4!AJ152),CSVデータ4!AJ152,0)","v":0},null,{"$f":"IF(ISNUMBER(CSVデータ1!AL152),CSVデータ1!AL152,0)+IF(ISNUMBER(CSVデータ2!AL152),CSVデータ2!AL152,0)+IF(ISNUMBER(CSVデータ3!AL152),CSVデータ3!AL152,0)+IF(ISNUMBER(CSVデータ4!AL152),CSVデータ4!AL152,0)","v":0},null,{"$f":"IF(ISNUMBER(CSVデータ1!AN152),CSVデータ1!AN152,0)+IF(ISNUMBER(CSVデータ2!AN152),CSVデータ2!AN152,0)+IF(ISNUMBER(CSVデータ3!AN152),CSVデータ3!AN152,0)+IF(ISNUMBER(CSVデータ4!AN152),CSVデータ4!AN152,0)","v":0}]
[{"$f":"CSVデータ1!A153","v":"明細部"},{"$f":"CSVデータ1!B153","v":"保険者（地区）"},{"$f":"CSVデータ1!C153","v":49},{"$f":"CSVデータ1!D153","v":"男"},{"$f":"IF(ISNUMBER(CSVデータ1!E153),CSVデータ1!E153,0)+IF(ISNUMBER(CSVデータ2!E153),CSVデータ2!E153,0)+IF(ISNUMBER(CSVデータ3!E153),CSVデータ3!E153,0)+IF(ISNUMBER(CSVデータ4!E153),CSVデータ4!E153,0)","v":0},{"$f":"IF(ISNUMBER(CSVデータ1!F153),CSVデータ1!F153,0)+IF(ISNUMBER(CSVデータ2!F153),CSVデータ2!F153,0)+IF(ISNUMBER(CSVデータ3!F153),CSVデータ3!F153,0)+IF(ISNUMBER(CSVデータ4!F153),CSVデータ4!F153,0)","v":0},null,{"$f":"IF(ISNUMBER(CSVデータ1!H153),CSVデータ1!H153,0)+IF(ISNUMBER(CSVデータ2!H153),CSVデータ2!H153,0)+IF(ISNUMBER(CSVデータ3!H153),CSVデータ3!H153,0)+IF(ISNUMBER(CSVデータ4!H153),CSVデータ4!H153,0)","v":0},null,{"$f":"IF(ISNUMBER(CSVデータ1!J153),CSVデータ1!J153,0)+IF(ISNUMBER(CSVデータ2!J153),CSVデータ2!J153,0)+IF(ISNUMBER(CSVデータ3!J153),CSVデータ3!J153,0)+IF(ISNUMBER(CSVデータ4!J153),CSVデータ4!J153,0)","v":0},null,{"$f":"IF(ISNUMBER(CSVデータ1!L153),CSVデータ1!L153,0)+IF(ISNUMBER(CSVデータ2!L153),CSVデータ2!L153,0)+IF(ISNUMBER(CSVデータ3!L153),CSVデータ3!L153,0)+IF(ISNUMBER(CSVデータ4!L153),CSVデータ4!L153,0)","v":0},null,{"$f":"IF(ISNUMBER(CSVデータ1!N153),CSVデータ1!N153,0)+IF(ISNUMBER(CSVデータ2!N153),CSVデータ2!N153,0)+IF(ISNUMBER(CSVデータ3!N153),CSVデータ3!N153,0)+IF(ISNUMBER(CSVデータ4!N153),CSVデータ4!N153,0)","v":0},null,{"$f":"IF(ISNUMBER(CSVデータ1!P153),CSVデータ1!P153,0)+IF(ISNUMBER(CSVデータ2!P153),CSVデータ2!P153,0)+IF(ISNUMBER(CSVデータ3!P153),CSVデータ3!P153,0)+IF(ISNUMBER(CSVデータ4!P153),CSVデータ4!P153,0)","v":0},null,{"$f":"IF(ISNUMBER(CSVデータ1!R153),CSVデータ1!R153,0)+IF(ISNUMBER(CSVデータ2!R153),CSVデータ2!R153,0)+IF(ISNUMBER(CSVデータ3!R153),CSVデータ3!R153,0)+IF(ISNUMBER(CSVデータ4!R153),CSVデータ4!R153,0)","v":0},null,{"$f":"IF(ISNUMBER(CSVデータ1!T153),CSVデータ1!T153,0)+IF(ISNUMBER(CSVデータ2!T153),CSVデータ2!T153,0)+IF(ISNUMBER(CSVデータ3!T153),CSVデータ3!T153,0)+IF(ISNUMBER(CSVデータ4!T153),CSVデータ4!T153,0)","v":0},null,{"$f":"IF(ISNUMBER(CSVデータ1!V153),CSVデータ1!V153,0)+IF(ISNUMBER(CSVデータ2!V153),CSVデータ2!V153,0)+IF(ISNUMBER(CSVデータ3!V153),CSVデータ3!V153,0)+IF(ISNUMBER(CSVデータ4!V153),CSVデータ4!V153,0)","v":0},null,{"$f":"IF(ISNUMBER(CSVデータ1!X153),CSVデータ1!X153,0)+IF(ISNUMBER(CSVデータ2!X153),CSVデータ2!X153,0)+IF(ISNUMBER(CSVデータ3!X153),CSVデータ3!X153,0)+IF(ISNUMBER(CSVデータ4!X153),CSVデータ4!X153,0)","v":0},null,{"$f":"IF(ISNUMBER(CSVデータ1!Z153),CSVデータ1!Z153,0)+IF(ISNUMBER(CSVデータ2!Z153),CSVデータ2!Z153,0)+IF(ISNUMBER(CSVデータ3!Z153),CSVデータ3!Z153,0)+IF(ISNUMBER(CSVデータ4!Z153),CSVデータ4!Z153,0)","v":0},null,{"$f":"IF(ISNUMBER(CSVデータ1!AB153),CSVデータ1!AB153,0)+IF(ISNUMBER(CSVデータ2!AB153),CSVデータ2!AB153,0)+IF(ISNUMBER(CSVデータ3!AB153),CSVデータ3!AB153,0)+IF(ISNUMBER(CSVデータ4!AB153),CSVデータ4!AB153,0)","v":0},null,{"$f":"IF(ISNUMBER(CSVデータ1!AD153),CSVデータ1!AD153,0)+IF(ISNUMBER(CSVデータ2!AD153),CSVデータ2!AD153,0)+IF(ISNUMBER(CSVデータ3!AD153),CSVデータ3!AD153,0)+IF(ISNUMBER(CSVデータ4!AD153),CSVデータ4!AD153,0)","v":0},null,{"$f":"IF(ISNUMBER(CSVデータ1!AF153),CSVデータ1!AF153,0)+IF(ISNUMBER(CSVデータ2!AF153),CSVデータ2!AF153,0)+IF(ISNUMBER(CSVデータ3!AF153),CSVデータ3!AF153,0)+IF(ISNUMBER(CSVデータ4!AF153),CSVデータ4!AF153,0)","v":0},null,{"$f":"IF(ISNUMBER(CSVデータ1!AH153),CSVデータ1!AH153,0)+IF(ISNUMBER(CSVデータ2!AH153),CSVデータ2!AH153,0)+IF(ISNUMBER(CSVデータ3!AH153),CSVデータ3!AH153,0)+IF(ISNUMBER(CSVデータ4!AH153),CSVデータ4!AH153,0)","v":0},null,{"$f":"IF(ISNUMBER(CSVデータ1!AJ153),CSVデータ1!AJ153,0)+IF(ISNUMBER(CSVデータ2!AJ153),CSVデータ2!AJ153,0)+IF(ISNUMBER(CSVデータ3!AJ153),CSVデータ3!AJ153,0)+IF(ISNUMBER(CSVデータ4!AJ153),CSVデータ4!AJ153,0)","v":0},null,{"$f":"IF(ISNUMBER(CSVデータ1!AL153),CSVデータ1!AL153,0)+IF(ISNUMBER(CSVデータ2!AL153),CSVデータ2!AL153,0)+IF(ISNUMBER(CSVデータ3!AL153),CSVデータ3!AL153,0)+IF(ISNUMBER(CSVデータ4!AL153),CSVデータ4!AL153,0)","v":0},null,{"$f":"IF(ISNUMBER(CSVデータ1!AN153),CSVデータ1!AN153,0)+IF(ISNUMBER(CSVデータ2!AN153),CSVデータ2!AN153,0)+IF(ISNUMBER(CSVデータ3!AN153),CSVデータ3!AN153,0)+IF(ISNUMBER(CSVデータ4!AN153),CSVデータ4!AN153,0)","v":0}]
[{"$f":"CSVデータ1!A154","v":"明細部"},{"$f":"CSVデータ1!B154","v":"保険者（地区）"},{"$f":"CSVデータ1!C154","v":50},{"$f":"CSVデータ1!D154","v":"男"},{"$f":"IF(ISNUMBER(CSVデータ1!E154),CSVデータ1!E154,0)+IF(ISNUMBER(CSVデータ2!E154),CSVデータ2!E154,0)+IF(ISNUMBER(CSVデータ3!E154),CSVデータ3!E154,0)+IF(ISNUMBER(CSVデータ4!E154),CSVデータ4!E154,0)","v":4},{"$f":"IF(ISNUMBER(CSVデータ1!F154),CSVデータ1!F154,0)+IF(ISNUMBER(CSVデータ2!F154),CSVデータ2!F154,0)+IF(ISNUMBER(CSVデータ3!F154),CSVデータ3!F154,0)+IF(ISNUMBER(CSVデータ4!F154),CSVデータ4!F154,0)","v":1},null,{"$f":"IF(ISNUMBER(CSVデータ1!H154),CSVデータ1!H154,0)+IF(ISNUMBER(CSVデータ2!H154),CSVデータ2!H154,0)+IF(ISNUMBER(CSVデータ3!H154),CSVデータ3!H154,0)+IF(ISNUMBER(CSVデータ4!H154),CSVデータ4!H154,0)","v":2},null,{"$f":"IF(ISNUMBER(CSVデータ1!J154),CSVデータ1!J154,0)+IF(ISNUMBER(CSVデータ2!J154),CSVデータ2!J154,0)+IF(ISNUMBER(CSVデータ3!J154),CSVデータ3!J154,0)+IF(ISNUMBER(CSVデータ4!J154),CSVデータ4!J154,0)","v":1},null,{"$f":"IF(ISNUMBER(CSVデータ1!L154),CSVデータ1!L154,0)+IF(ISNUMBER(CSVデータ2!L154),CSVデータ2!L154,0)+IF(ISNUMBER(CSVデータ3!L154),CSVデータ3!L154,0)+IF(ISNUMBER(CSVデータ4!L154),CSVデータ4!L154,0)","v":3},null,{"$f":"IF(ISNUMBER(CSVデータ1!N154),CSVデータ1!N154,0)+IF(ISNUMBER(CSVデータ2!N154),CSVデータ2!N154,0)+IF(ISNUMBER(CSVデータ3!N154),CSVデータ3!N154,0)+IF(ISNUMBER(CSVデータ4!N154),CSVデータ4!N154,0)","v":0},null,{"$f":"IF(ISNUMBER(CSVデータ1!P154),CSVデータ1!P154,0)+IF(ISNUMBER(CSVデータ2!P154),CSVデータ2!P154,0)+IF(ISNUMBER(CSVデータ3!P154),CSVデータ3!P154,0)+IF(ISNUMBER(CSVデータ4!P154),CSVデータ4!P154,0)","v":0},null,{"$f":"IF(ISNUMBER(CSVデータ1!R154),CSVデータ1!R154,0)+IF(ISNUMBER(CSVデータ2!R154),CSVデータ2!R154,0)+IF(ISNUMBER(CSVデータ3!R154),CSVデータ3!R154,0)+IF(ISNUMBER(CSVデータ4!R154),CSVデータ4!R154,0)","v":2},null,{"$f":"IF(ISNUMBER(CSVデータ1!T154),CSVデータ1!T154,0)+IF(ISNUMBER(CSVデータ2!T154),CSVデータ2!T154,0)+IF(ISNUMBER(CSVデータ3!T154),CSVデータ3!T154,0)+IF(ISNUMBER(CSVデータ4!T154),CSVデータ4!T154,0)","v":1},null,{"$f":"IF(ISNUMBER(CSVデータ1!V154),CSVデータ1!V154,0)+IF(ISNUMBER(CSVデータ2!V154),CSVデータ2!V154,0)+IF(ISNUMBER(CSVデータ3!V154),CSVデータ3!V154,0)+IF(ISNUMBER(CSVデータ4!V154),CSVデータ4!V154,0)","v":1},null,{"$f":"IF(ISNUMBER(CSVデータ1!X154),CSVデータ1!X154,0)+IF(ISNUMBER(CSVデータ2!X154),CSVデータ2!X154,0)+IF(ISNUMBER(CSVデータ3!X154),CSVデータ3!X154,0)+IF(ISNUMBER(CSVデータ4!X154),CSVデータ4!X154,0)","v":0},null,{"$f":"IF(ISNUMBER(CSVデータ1!Z154),CSVデータ1!Z154,0)+IF(ISNUMBER(CSVデータ2!Z154),CSVデータ2!Z154,0)+IF(ISNUMBER(CSVデータ3!Z154),CSVデータ3!Z154,0)+IF(ISNUMBER(CSVデータ4!Z154),CSVデータ4!Z154,0)","v":2},null,{"$f":"IF(ISNUMBER(CSVデータ1!AB154),CSVデータ1!AB154,0)+IF(ISNUMBER(CSVデータ2!AB154),CSVデータ2!AB154,0)+IF(ISNUMBER(CSVデータ3!AB154),CSVデータ3!AB154,0)+IF(ISNUMBER(CSVデータ4!AB154),CSVデータ4!AB154,0)","v":0},null,{"$f":"IF(ISNUMBER(CSVデータ1!AD154),CSVデータ1!AD154,0)+IF(ISNUMBER(CSVデータ2!AD154),CSVデータ2!AD154,0)+IF(ISNUMBER(CSVデータ3!AD154),CSVデータ3!AD154,0)+IF(ISNUMBER(CSVデータ4!AD154),CSVデータ4!AD154,0)","v":0},null,{"$f":"IF(ISNUMBER(CSVデータ1!AF154),CSVデータ1!AF154,0)+IF(ISNUMBER(CSVデータ2!AF154),CSVデータ2!AF154,0)+IF(ISNUMBER(CSVデータ3!AF154),CSVデータ3!AF154,0)+IF(ISNUMBER(CSVデータ4!AF154),CSVデータ4!AF154,0)","v":0},null,{"$f":"IF(ISNUMBER(CSVデータ1!AH154),CSVデータ1!AH154,0)+IF(ISNUMBER(CSVデータ2!AH154),CSVデータ2!AH154,0)+IF(ISNUMBER(CSVデータ3!AH154),CSVデータ3!AH154,0)+IF(ISNUMBER(CSVデータ4!AH154),CSVデータ4!AH154,0)","v":0},null,{"$f":"IF(ISNUMBER(CSVデータ1!AJ154),CSVデータ1!AJ154,0)+IF(ISNUMBER(CSVデータ2!AJ154),CSVデータ2!AJ154,0)+IF(ISNUMBER(CSVデータ3!AJ154),CSVデータ3!AJ154,0)+IF(ISNUMBER(CSVデータ4!AJ154),CSVデータ4!AJ154,0)","v":0},null,{"$f":"IF(ISNUMBER(CSVデータ1!AL154),CSVデータ1!AL154,0)+IF(ISNUMBER(CSVデータ2!AL154),CSVデータ2!AL154,0)+IF(ISNUMBER(CSVデータ3!AL154),CSVデータ3!AL154,0)+IF(ISNUMBER(CSVデータ4!AL154),CSVデータ4!AL154,0)","v":0},null,{"$f":"IF(ISNUMBER(CSVデータ1!AN154),CSVデータ1!AN154,0)+IF(ISNUMBER(CSVデータ2!AN154),CSVデータ2!AN154,0)+IF(ISNUMBER(CSVデータ3!AN154),CSVデータ3!AN154,0)+IF(ISNUMBER(CSVデータ4!AN154),CSVデータ4!AN154,0)","v":0}]
[{"$f":"CSVデータ1!A155","v":"明細部"},{"$f":"CSVデータ1!B155","v":"保険者（地区）"},{"$f":"CSVデータ1!C155","v":51},{"$f":"CSVデータ1!D155","v":"男"},{"$f":"IF(ISNUMBER(CSVデータ1!E155),CSVデータ1!E155,0)+IF(ISNUMBER(CSVデータ2!E155),CSVデータ2!E155,0)+IF(ISNUMBER(CSVデータ3!E155),CSVデータ3!E155,0)+IF(ISNUMBER(CSVデータ4!E155),CSVデータ4!E155,0)","v":8},{"$f":"IF(ISNUMBER(CSVデータ1!F155),CSVデータ1!F155,0)+IF(ISNUMBER(CSVデータ2!F155),CSVデータ2!F155,0)+IF(ISNUMBER(CSVデータ3!F155),CSVデータ3!F155,0)+IF(ISNUMBER(CSVデータ4!F155),CSVデータ4!F155,0)","v":6},null,{"$f":"IF(ISNUMBER(CSVデータ1!H155),CSVデータ1!H155,0)+IF(ISNUMBER(CSVデータ2!H155),CSVデータ2!H155,0)+IF(ISNUMBER(CSVデータ3!H155),CSVデータ3!H155,0)+IF(ISNUMBER(CSVデータ4!H155),CSVデータ4!H155,0)","v":5},null,{"$f":"IF(ISNUMBER(CSVデータ1!J155),CSVデータ1!J155,0)+IF(ISNUMBER(CSVデータ2!J155),CSVデータ2!J155,0)+IF(ISNUMBER(CSVデータ3!J155),CSVデータ3!J155,0)+IF(ISNUMBER(CSVデータ4!J155),CSVデータ4!J155,0)","v":6},null,{"$f":"IF(ISNUMBER(CSVデータ1!L155),CSVデータ1!L155,0)+IF(ISNUMBER(CSVデータ2!L155),CSVデータ2!L155,0)+IF(ISNUMBER(CSVデータ3!L155),CSVデータ3!L155,0)+IF(ISNUMBER(CSVデータ4!L155),CSVデータ4!L155,0)","v":3},null,{"$f":"IF(ISNUMBER(CSVデータ1!N155),CSVデータ1!N155,0)+IF(ISNUMBER(CSVデータ2!N155),CSVデータ2!N155,0)+IF(ISNUMBER(CSVデータ3!N155),CSVデータ3!N155,0)+IF(ISNUMBER(CSVデータ4!N155),CSVデータ4!N155,0)","v":0},null,{"$f":"IF(ISNUMBER(CSVデータ1!P155),CSVデータ1!P155,0)+IF(ISNUMBER(CSVデータ2!P155),CSVデータ2!P155,0)+IF(ISNUMBER(CSVデータ3!P155),CSVデータ3!P155,0)+IF(ISNUMBER(CSVデータ4!P155),CSVデータ4!P155,0)","v":2},null,{"$f":"IF(ISNUMBER(CSVデータ1!R155),CSVデータ1!R155,0)+IF(ISNUMBER(CSVデータ2!R155),CSVデータ2!R155,0)+IF(ISNUMBER(CSVデータ3!R155),CSVデータ3!R155,0)+IF(ISNUMBER(CSVデータ4!R155),CSVデータ4!R155,0)","v":1},null,{"$f":"IF(ISNUMBER(CSVデータ1!T155),CSVデータ1!T155,0)+IF(ISNUMBER(CSVデータ2!T155),CSVデータ2!T155,0)+IF(ISNUMBER(CSVデータ3!T155),CSVデータ3!T155,0)+IF(ISNUMBER(CSVデータ4!T155),CSVデータ4!T155,0)","v":1},null,{"$f":"IF(ISNUMBER(CSVデータ1!V155),CSVデータ1!V155,0)+IF(ISNUMBER(CSVデータ2!V155),CSVデータ2!V155,0)+IF(ISNUMBER(CSVデータ3!V155),CSVデータ3!V155,0)+IF(ISNUMBER(CSVデータ4!V155),CSVデータ4!V155,0)","v":1},null,{"$f":"IF(ISNUMBER(CSVデータ1!X155),CSVデータ1!X155,0)+IF(ISNUMBER(CSVデータ2!X155),CSVデータ2!X155,0)+IF(ISNUMBER(CSVデータ3!X155),CSVデータ3!X155,0)+IF(ISNUMBER(CSVデータ4!X155),CSVデータ4!X155,0)","v":2},null,{"$f":"IF(ISNUMBER(CSVデータ1!Z155),CSVデータ1!Z155,0)+IF(ISNUMBER(CSVデータ2!Z155),CSVデータ2!Z155,0)+IF(ISNUMBER(CSVデータ3!Z155),CSVデータ3!Z155,0)+IF(ISNUMBER(CSVデータ4!Z155),CSVデータ4!Z155,0)","v":3},null,{"$f":"IF(ISNUMBER(CSVデータ1!AB155),CSVデータ1!AB155,0)+IF(ISNUMBER(CSVデータ2!AB155),CSVデータ2!AB155,0)+IF(ISNUMBER(CSVデータ3!AB155),CSVデータ3!AB155,0)+IF(ISNUMBER(CSVデータ4!AB155),CSVデータ4!AB155,0)","v":0},null,{"$f":"IF(ISNUMBER(CSVデータ1!AD155),CSVデータ1!AD155,0)+IF(ISNUMBER(CSVデータ2!AD155),CSVデータ2!AD155,0)+IF(ISNUMBER(CSVデータ3!AD155),CSVデータ3!AD155,0)+IF(ISNUMBER(CSVデータ4!AD155),CSVデータ4!AD155,0)","v":3},null,{"$f":"IF(ISNUMBER(CSVデータ1!AF155),CSVデータ1!AF155,0)+IF(ISNUMBER(CSVデータ2!AF155),CSVデータ2!AF155,0)+IF(ISNUMBER(CSVデータ3!AF155),CSVデータ3!AF155,0)+IF(ISNUMBER(CSVデータ4!AF155),CSVデータ4!AF155,0)","v":0},null,{"$f":"IF(ISNUMBER(CSVデータ1!AH155),CSVデータ1!AH155,0)+IF(ISNUMBER(CSVデータ2!AH155),CSVデータ2!AH155,0)+IF(ISNUMBER(CSVデータ3!AH155),CSVデータ3!AH155,0)+IF(ISNUMBER(CSVデータ4!AH155),CSVデータ4!AH155,0)","v":0},null,{"$f":"IF(ISNUMBER(CSVデータ1!AJ155),CSVデータ1!AJ155,0)+IF(ISNUMBER(CSVデータ2!AJ155),CSVデータ2!AJ155,0)+IF(ISNUMBER(CSVデータ3!AJ155),CSVデータ3!AJ155,0)+IF(ISNUMBER(CSVデータ4!AJ155),CSVデータ4!AJ155,0)","v":0},null,{"$f":"IF(ISNUMBER(CSVデータ1!AL155),CSVデータ1!AL155,0)+IF(ISNUMBER(CSVデータ2!AL155),CSVデータ2!AL155,0)+IF(ISNUMBER(CSVデータ3!AL155),CSVデータ3!AL155,0)+IF(ISNUMBER(CSVデータ4!AL155),CSVデータ4!AL155,0)","v":0},null,{"$f":"IF(ISNUMBER(CSVデータ1!AN155),CSVデータ1!AN155,0)+IF(ISNUMBER(CSVデータ2!AN155),CSVデータ2!AN155,0)+IF(ISNUMBER(CSVデータ3!AN155),CSVデータ3!AN155,0)+IF(ISNUMBER(CSVデータ4!AN155),CSVデータ4!AN155,0)","v":0}]
[{"$f":"CSVデータ1!A156","v":"明細部"},{"$f":"CSVデータ1!B156","v":"保険者（地区）"},{"$f":"CSVデータ1!C156","v":52},{"$f":"CSVデータ1!D156","v":"男"},{"$f":"IF(ISNUMBER(CSVデータ1!E156),CSVデータ1!E156,0)+IF(ISNUMBER(CSVデータ2!E156),CSVデータ2!E156,0)+IF(ISNUMBER(CSVデータ3!E156),CSVデータ3!E156,0)+IF(ISNUMBER(CSVデータ4!E156),CSVデータ4!E156,0)","v":6},{"$f":"IF(ISNUMBER(CSVデータ1!F156),CSVデータ1!F156,0)+IF(ISNUMBER(CSVデータ2!F156),CSVデータ2!F156,0)+IF(ISNUMBER(CSVデータ3!F156),CSVデータ3!F156,0)+IF(ISNUMBER(CSVデータ4!F156),CSVデータ4!F156,0)","v":4},null,{"$f":"IF(ISNUMBER(CSVデータ1!H156),CSVデータ1!H156,0)+IF(ISNUMBER(CSVデータ2!H156),CSVデータ2!H156,0)+IF(ISNUMBER(CSVデータ3!H156),CSVデータ3!H156,0)+IF(ISNUMBER(CSVデータ4!H156),CSVデータ4!H156,0)","v":5},null,{"$f":"IF(ISNUMBER(CSVデータ1!J156),CSVデータ1!J156,0)+IF(ISNUMBER(CSVデータ2!J156),CSVデータ2!J156,0)+IF(ISNUMBER(CSVデータ3!J156),CSVデータ3!J156,0)+IF(ISNUMBER(CSVデータ4!J156),CSVデータ4!J156,0)","v":2},null,{"$f":"IF(ISNUMBER(CSVデータ1!L156),CSVデータ1!L156,0)+IF(ISNUMBER(CSVデータ2!L156),CSVデータ2!L156,0)+IF(ISNUMBER(CSVデータ3!L156),CSVデータ3!L156,0)+IF(ISNUMBER(CSVデータ4!L156),CSVデータ4!L156,0)","v":3},null,{"$f":"IF(ISNUMBER(CSVデータ1!N156),CSVデータ1!N156,0)+IF(ISNUMBER(CSVデータ2!N156),CSVデータ2!N156,0)+IF(ISNUMBER(CSVデータ3!N156),CSVデータ3!N156,0)+IF(ISNUMBER(CSVデータ4!N156),CSVデータ4!N156,0)","v":0},null,{"$f":"IF(ISNUMBER(CSVデータ1!P156),CSVデータ1!P156,0)+IF(ISNUMBER(CSVデータ2!P156),CSVデータ2!P156,0)+IF(ISNUMBER(CSVデータ3!P156),CSVデータ3!P156,0)+IF(ISNUMBER(CSVデータ4!P156),CSVデータ4!P156,0)","v":3},null,{"$f":"IF(ISNUMBER(CSVデータ1!R156),CSVデータ1!R156,0)+IF(ISNUMBER(CSVデータ2!R156),CSVデータ2!R156,0)+IF(ISNUMBER(CSVデータ3!R156),CSVデータ3!R156,0)+IF(ISNUMBER(CSVデータ4!R156),CSVデータ4!R156,0)","v":2},null,{"$f":"IF(ISNUMBER(CSVデータ1!T156),CSVデータ1!T156,0)+IF(ISNUMBER(CSVデータ2!T156),CSVデータ2!T156,0)+IF(ISNUMBER(CSVデータ3!T156),CSVデータ3!T156,0)+IF(ISNUMBER(CSVデータ4!T156),CSVデータ4!T156,0)","v":0},null,{"$f":"IF(ISNUMBER(CSVデータ1!V156),CSVデータ1!V156,0)+IF(ISNUMBER(CSVデータ2!V156),CSVデータ2!V156,0)+IF(ISNUMBER(CSVデータ3!V156),CSVデータ3!V156,0)+IF(ISNUMBER(CSVデータ4!V156),CSVデータ4!V156,0)","v":2},null,{"$f":"IF(ISNUMBER(CSVデータ1!X156),CSVデータ1!X156,0)+IF(ISNUMBER(CSVデータ2!X156),CSVデータ2!X156,0)+IF(ISNUMBER(CSVデータ3!X156),CSVデータ3!X156,0)+IF(ISNUMBER(CSVデータ4!X156),CSVデータ4!X156,0)","v":1},null,{"$f":"IF(ISNUMBER(CSVデータ1!Z156),CSVデータ1!Z156,0)+IF(ISNUMBER(CSVデータ2!Z156),CSVデータ2!Z156,0)+IF(ISNUMBER(CSVデータ3!Z156),CSVデータ3!Z156,0)+IF(ISNUMBER(CSVデータ4!Z156),CSVデータ4!Z156,0)","v":2},null,{"$f":"IF(ISNUMBER(CSVデータ1!AB156),CSVデータ1!AB156,0)+IF(ISNUMBER(CSVデータ2!AB156),CSVデータ2!AB156,0)+IF(ISNUMBER(CSVデータ3!AB156),CSVデータ3!AB156,0)+IF(ISNUMBER(CSVデータ4!AB156),CSVデータ4!AB156,0)","v":0},null,{"$f":"IF(ISNUMBER(CSVデータ1!AD156),CSVデータ1!AD156,0)+IF(ISNUMBER(CSVデータ2!AD156),CSVデータ2!AD156,0)+IF(ISNUMBER(CSVデータ3!AD156),CSVデータ3!AD156,0)+IF(ISNUMBER(CSVデータ4!AD156),CSVデータ4!AD156,0)","v":2},null,{"$f":"IF(ISNUMBER(CSVデータ1!AF156),CSVデータ1!AF156,0)+IF(ISNUMBER(CSVデータ2!AF156),CSVデータ2!AF156,0)+IF(ISNUMBER(CSVデータ3!AF156),CSVデータ3!AF156,0)+IF(ISNUMBER(CSVデータ4!AF156),CSVデータ4!AF156,0)","v":0},null,{"$f":"IF(ISNUMBER(CSVデータ1!AH156),CSVデータ1!AH156,0)+IF(ISNUMBER(CSVデータ2!AH156),CSVデータ2!AH156,0)+IF(ISNUMBER(CSVデータ3!AH156),CSVデータ3!AH156,0)+IF(ISNUMBER(CSVデータ4!AH156),CSVデータ4!AH156,0)","v":0},null,{"$f":"IF(ISNUMBER(CSVデータ1!AJ156),CSVデータ1!AJ156,0)+IF(ISNUMBER(CSVデータ2!AJ156),CSVデータ2!AJ156,0)+IF(ISNUMBER(CSVデータ3!AJ156),CSVデータ3!AJ156,0)+IF(ISNUMBER(CSVデータ4!AJ156),CSVデータ4!AJ156,0)","v":0},null,{"$f":"IF(ISNUMBER(CSVデータ1!AL156),CSVデータ1!AL156,0)+IF(ISNUMBER(CSVデータ2!AL156),CSVデータ2!AL156,0)+IF(ISNUMBER(CSVデータ3!AL156),CSVデータ3!AL156,0)+IF(ISNUMBER(CSVデータ4!AL156),CSVデータ4!AL156,0)","v":0},null,{"$f":"IF(ISNUMBER(CSVデータ1!AN156),CSVデータ1!AN156,0)+IF(ISNUMBER(CSVデータ2!AN156),CSVデータ2!AN156,0)+IF(ISNUMBER(CSVデータ3!AN156),CSVデータ3!AN156,0)+IF(ISNUMBER(CSVデータ4!AN156),CSVデータ4!AN156,0)","v":0}]
[{"$f":"CSVデータ1!A157","v":"明細部"},{"$f":"CSVデータ1!B157","v":"保険者（地区）"},{"$f":"CSVデータ1!C157","v":53},{"$f":"CSVデータ1!D157","v":"男"},{"$f":"IF(ISNUMBER(CSVデータ1!E157),CSVデータ1!E157,0)+IF(ISNUMBER(CSVデータ2!E157),CSVデータ2!E157,0)+IF(ISNUMBER(CSVデータ3!E157),CSVデータ3!E157,0)+IF(ISNUMBER(CSVデータ4!E157),CSVデータ4!E157,0)","v":6},{"$f":"IF(ISNUMBER(CSVデータ1!F157),CSVデータ1!F157,0)+IF(ISNUMBER(CSVデータ2!F157),CSVデータ2!F157,0)+IF(ISNUMBER(CSVデータ3!F157),CSVデータ3!F157,0)+IF(ISNUMBER(CSVデータ4!F157),CSVデータ4!F157,0)","v":2},null,{"$f":"IF(ISNUMBER(CSVデータ1!H157),CSVデータ1!H157,0)+IF(ISNUMBER(CSVデータ2!H157),CSVデータ2!H157,0)+IF(ISNUMBER(CSVデータ3!H157),CSVデータ3!H157,0)+IF(ISNUMBER(CSVデータ4!H157),CSVデータ4!H157,0)","v":3},null,{"$f":"IF(ISNUMBER(CSVデータ1!J157),CSVデータ1!J157,0)+IF(ISNUMBER(CSVデータ2!J157),CSVデータ2!J157,0)+IF(ISNUMBER(CSVデータ3!J157),CSVデータ3!J157,0)+IF(ISNUMBER(CSVデータ4!J157),CSVデータ4!J157,0)","v":2},null,{"$f":"IF(ISNUMBER(CSVデータ1!L157),CSVデータ1!L157,0)+IF(ISNUMBER(CSVデータ2!L157),CSVデータ2!L157,0)+IF(ISNUMBER(CSVデータ3!L157),CSVデータ3!L157,0)+IF(ISNUMBER(CSVデータ4!L157),CSVデータ4!L157,0)","v":2},null,{"$f":"IF(ISNUMBER(CSVデータ1!N157),CSVデータ1!N157,0)+IF(ISNUMBER(CSVデータ2!N157),CSVデータ2!N157,0)+IF(ISNUMBER(CSVデータ3!N157),CSVデータ3!N157,0)+IF(ISNUMBER(CSVデータ4!N157),CSVデータ4!N157,0)","v":0},null,{"$f":"IF(ISNUMBER(CSVデータ1!P157),CSVデータ1!P157,0)+IF(ISNUMBER(CSVデータ2!P157),CSVデータ2!P157,0)+IF(ISNUMBER(CSVデータ3!P157),CSVデータ3!P157,0)+IF(ISNUMBER(CSVデータ4!P157),CSVデータ4!P157,0)","v":0},null,{"$f":"IF(ISNUMBER(CSVデータ1!R157),CSVデータ1!R157,0)+IF(ISNUMBER(CSVデータ2!R157),CSVデータ2!R157,0)+IF(ISNUMBER(CSVデータ3!R157),CSVデータ3!R157,0)+IF(ISNUMBER(CSVデータ4!R157),CSVデータ4!R157,0)","v":2},null,{"$f":"IF(ISNUMBER(CSVデータ1!T157),CSVデータ1!T157,0)+IF(ISNUMBER(CSVデータ2!T157),CSVデータ2!T157,0)+IF(ISNUMBER(CSVデータ3!T157),CSVデータ3!T157,0)+IF(ISNUMBER(CSVデータ4!T157),CSVデータ4!T157,0)","v":0},null,{"$f":"IF(ISNUMBER(CSVデータ1!V157),CSVデータ1!V157,0)+IF(ISNUMBER(CSVデータ2!V157),CSVデータ2!V157,0)+IF(ISNUMBER(CSVデータ3!V157),CSVデータ3!V157,0)+IF(ISNUMBER(CSVデータ4!V157),CSVデータ4!V157,0)","v":3},null,{"$f":"IF(ISNUMBER(CSVデータ1!X157),CSVデータ1!X157,0)+IF(ISNUMBER(CSVデータ2!X157),CSVデータ2!X157,0)+IF(ISNUMBER(CSVデータ3!X157),CSVデータ3!X157,0)+IF(ISNUMBER(CSVデータ4!X157),CSVデータ4!X157,0)","v":2},null,{"$f":"IF(ISNUMBER(CSVデータ1!Z157),CSVデータ1!Z157,0)+IF(ISNUMBER(CSVデータ2!Z157),CSVデータ2!Z157,0)+IF(ISNUMBER(CSVデータ3!Z157),CSVデータ3!Z157,0)+IF(ISNUMBER(CSVデータ4!Z157),CSVデータ4!Z157,0)","v":0},null,{"$f":"IF(ISNUMBER(CSVデータ1!AB157),CSVデータ1!AB157,0)+IF(ISNUMBER(CSVデータ2!AB157),CSVデータ2!AB157,0)+IF(ISNUMBER(CSVデータ3!AB157),CSVデータ3!AB157,0)+IF(ISNUMBER(CSVデータ4!AB157),CSVデータ4!AB157,0)","v":0},null,{"$f":"IF(ISNUMBER(CSVデータ1!AD157),CSVデータ1!AD157,0)+IF(ISNUMBER(CSVデータ2!AD157),CSVデータ2!AD157,0)+IF(ISNUMBER(CSVデータ3!AD157),CSVデータ3!AD157,0)+IF(ISNUMBER(CSVデータ4!AD157),CSVデータ4!AD157,0)","v":2},null,{"$f":"IF(ISNUMBER(CSVデータ1!AF157),CSVデータ1!AF157,0)+IF(ISNUMBER(CSVデータ2!AF157),CSVデータ2!AF157,0)+IF(ISNUMBER(CSVデータ3!AF157),CSVデータ3!AF157,0)+IF(ISNUMBER(CSVデータ4!AF157),CSVデータ4!AF157,0)","v":0},null,{"$f":"IF(ISNUMBER(CSVデータ1!AH157),CSVデータ1!AH157,0)+IF(ISNUMBER(CSVデータ2!AH157),CSVデータ2!AH157,0)+IF(ISNUMBER(CSVデータ3!AH157),CSVデータ3!AH157,0)+IF(ISNUMBER(CSVデータ4!AH157),CSVデータ4!AH157,0)","v":0},null,{"$f":"IF(ISNUMBER(CSVデータ1!AJ157),CSVデータ1!AJ157,0)+IF(ISNUMBER(CSVデータ2!AJ157),CSVデータ2!AJ157,0)+IF(ISNUMBER(CSVデータ3!AJ157),CSVデータ3!AJ157,0)+IF(ISNUMBER(CSVデータ4!AJ157),CSVデータ4!AJ157,0)","v":0},null,{"$f":"IF(ISNUMBER(CSVデータ1!AL157),CSVデータ1!AL157,0)+IF(ISNUMBER(CSVデータ2!AL157),CSVデータ2!AL157,0)+IF(ISNUMBER(CSVデータ3!AL157),CSVデータ3!AL157,0)+IF(ISNUMBER(CSVデータ4!AL157),CSVデータ4!AL157,0)","v":0},null,{"$f":"IF(ISNUMBER(CSVデータ1!AN157),CSVデータ1!AN157,0)+IF(ISNUMBER(CSVデータ2!AN157),CSVデータ2!AN157,0)+IF(ISNUMBER(CSVデータ3!AN157),CSVデータ3!AN157,0)+IF(ISNUMBER(CSVデータ4!AN157),CSVデータ4!AN157,0)","v":0}]
[{"$f":"CSVデータ1!A158","v":"明細部"},{"$f":"CSVデータ1!B158","v":"保険者（地区）"},{"$f":"CSVデータ1!C158","v":54},{"$f":"CSVデータ1!D158","v":"男"},{"$f":"IF(ISNUMBER(CSVデータ1!E158),CSVデータ1!E158,0)+IF(ISNUMBER(CSVデータ2!E158),CSVデータ2!E158,0)+IF(ISNUMBER(CSVデータ3!E158),CSVデータ3!E158,0)+IF(ISNUMBER(CSVデータ4!E158),CSVデータ4!E158,0)","v":12},{"$f":"IF(ISNUMBER(CSVデータ1!F158),CSVデータ1!F158,0)+IF(ISNUMBER(CSVデータ2!F158),CSVデータ2!F158,0)+IF(ISNUMBER(CSVデータ3!F158),CSVデータ3!F158,0)+IF(ISNUMBER(CSVデータ4!F158),CSVデータ4!F158,0)","v":6},null,{"$f":"IF(ISNUMBER(CSVデータ1!H158),CSVデータ1!H158,0)+IF(ISNUMBER(CSVデータ2!H158),CSVデータ2!H158,0)+IF(ISNUMBER(CSVデータ3!H158),CSVデータ3!H158,0)+IF(ISNUMBER(CSVデータ4!H158),CSVデータ4!H158,0)","v":8},null,{"$f":"IF(ISNUMBER(CSVデータ1!J158),CSVデータ1!J158,0)+IF(ISNUMBER(CSVデータ2!J158),CSVデータ2!J158,0)+IF(ISNUMBER(CSVデータ3!J158),CSVデータ3!J158,0)+IF(ISNUMBER(CSVデータ4!J158),CSVデータ4!J158,0)","v":3},null,{"$f":"IF(ISNUMBER(CSVデータ1!L158),CSVデータ1!L158,0)+IF(ISNUMBER(CSVデータ2!L158),CSVデータ2!L158,0)+IF(ISNUMBER(CSVデータ3!L158),CSVデータ3!L158,0)+IF(ISNUMBER(CSVデータ4!L158),CSVデータ4!L158,0)","v":2},null,{"$f":"IF(ISNUMBER(CSVデータ1!N158),CSVデータ1!N158,0)+IF(ISNUMBER(CSVデータ2!N158),CSVデータ2!N158,0)+IF(ISNUMBER(CSVデータ3!N158),CSVデータ3!N158,0)+IF(ISNUMBER(CSVデータ4!N158),CSVデータ4!N158,0)","v":1},null,{"$f":"IF(ISNUMBER(CSVデータ1!P158),CSVデータ1!P158,0)+IF(ISNUMBER(CSVデータ2!P158),CSVデータ2!P158,0)+IF(ISNUMBER(CSVデータ3!P158),CSVデータ3!P158,0)+IF(ISNUMBER(CSVデータ4!P158),CSVデータ4!P158,0)","v":2},null,{"$f":"IF(ISNUMBER(CSVデータ1!R158),CSVデータ1!R158,0)+IF(ISNUMBER(CSVデータ2!R158),CSVデータ2!R158,0)+IF(ISNUMBER(CSVデータ3!R158),CSVデータ3!R158,0)+IF(ISNUMBER(CSVデータ4!R158),CSVデータ4!R158,0)","v":6},null,{"$f":"IF(ISNUMBER(CSVデータ1!T158),CSVデータ1!T158,0)+IF(ISNUMBER(CSVデータ2!T158),CSVデータ2!T158,0)+IF(ISNUMBER(CSVデータ3!T158),CSVデータ3!T158,0)+IF(ISNUMBER(CSVデータ4!T158),CSVデータ4!T158,0)","v":4},null,{"$f":"IF(ISNUMBER(CSVデータ1!V158),CSVデータ1!V158,0)+IF(ISNUMBER(CSVデータ2!V158),CSVデータ2!V158,0)+IF(ISNUMBER(CSVデータ3!V158),CSVデータ3!V158,0)+IF(ISNUMBER(CSVデータ4!V158),CSVデータ4!V158,0)","v":4},null,{"$f":"IF(ISNUMBER(CSVデータ1!X158),CSVデータ1!X158,0)+IF(ISNUMBER(CSVデータ2!X158),CSVデータ2!X158,0)+IF(ISNUMBER(CSVデータ3!X158),CSVデータ3!X158,0)+IF(ISNUMBER(CSVデータ4!X158),CSVデータ4!X158,0)","v":4},null,{"$f":"IF(ISNUMBER(CSVデータ1!Z158),CSVデータ1!Z158,0)+IF(ISNUMBER(CSVデータ2!Z158),CSVデータ2!Z158,0)+IF(ISNUMBER(CSVデータ3!Z158),CSVデータ3!Z158,0)+IF(ISNUMBER(CSVデータ4!Z158),CSVデータ4!Z158,0)","v":6},null,{"$f":"IF(ISNUMBER(CSVデータ1!AB158),CSVデータ1!AB158,0)+IF(ISNUMBER(CSVデータ2!AB158),CSVデータ2!AB158,0)+IF(ISNUMBER(CSVデータ3!AB158),CSVデータ3!AB158,0)+IF(ISNUMBER(CSVデータ4!AB158),CSVデータ4!AB158,0)","v":0},null,{"$f":"IF(ISNUMBER(CSVデータ1!AD158),CSVデータ1!AD158,0)+IF(ISNUMBER(CSVデータ2!AD158),CSVデータ2!AD158,0)+IF(ISNUMBER(CSVデータ3!AD158),CSVデータ3!AD158,0)+IF(ISNUMBER(CSVデータ4!AD158),CSVデータ4!AD158,0)","v":4},null,{"$f":"IF(ISNUMBER(CSVデータ1!AF158),CSVデータ1!AF158,0)+IF(ISNUMBER(CSVデータ2!AF158),CSVデータ2!AF158,0)+IF(ISNUMBER(CSVデータ3!AF158),CSVデータ3!AF158,0)+IF(ISNUMBER(CSVデータ4!AF158),CSVデータ4!AF158,0)","v":0},null,{"$f":"IF(ISNUMBER(CSVデータ1!AH158),CSVデータ1!AH158,0)+IF(ISNUMBER(CSVデータ2!AH158),CSVデータ2!AH158,0)+IF(ISNUMBER(CSVデータ3!AH158),CSVデータ3!AH158,0)+IF(ISNUMBER(CSVデータ4!AH158),CSVデータ4!AH158,0)","v":0},null,{"$f":"IF(ISNUMBER(CSVデータ1!AJ158),CSVデータ1!AJ158,0)+IF(ISNUMBER(CSVデータ2!AJ158),CSVデータ2!AJ158,0)+IF(ISNUMBER(CSVデータ3!AJ158),CSVデータ3!AJ158,0)+IF(ISNUMBER(CSVデータ4!AJ158),CSVデータ4!AJ158,0)","v":0},null,{"$f":"IF(ISNUMBER(CSVデータ1!AL158),CSVデータ1!AL158,0)+IF(ISNUMBER(CSVデータ2!AL158),CSVデータ2!AL158,0)+IF(ISNUMBER(CSVデータ3!AL158),CSVデータ3!AL158,0)+IF(ISNUMBER(CSVデータ4!AL158),CSVデータ4!AL158,0)","v":0},null,{"$f":"IF(ISNUMBER(CSVデータ1!AN158),CSVデータ1!AN158,0)+IF(ISNUMBER(CSVデータ2!AN158),CSVデータ2!AN158,0)+IF(ISNUMBER(CSVデータ3!AN158),CSVデータ3!AN158,0)+IF(ISNUMBER(CSVデータ4!AN158),CSVデータ4!AN158,0)","v":0}]
[{"$f":"CSVデータ1!A159","v":"明細部"},{"$f":"CSVデータ1!B159","v":"保険者（地区）"},{"$f":"CSVデータ1!C159","v":55},{"$f":"CSVデータ1!D159","v":"男"},{"$f":"IF(ISNUMBER(CSVデータ1!E159),CSVデータ1!E159,0)+IF(ISNUMBER(CSVデータ2!E159),CSVデータ2!E159,0)+IF(ISNUMBER(CSVデータ3!E159),CSVデータ3!E159,0)+IF(ISNUMBER(CSVデータ4!E159),CSVデータ4!E159,0)","v":7},{"$f":"IF(ISNUMBER(CSVデータ1!F159),CSVデータ1!F159,0)+IF(ISNUMBER(CSVデータ2!F159),CSVデータ2!F159,0)+IF(ISNUMBER(CSVデータ3!F159),CSVデータ3!F159,0)+IF(ISNUMBER(CSVデータ4!F159),CSVデータ4!F159,0)","v":3},null,{"$f":"IF(ISNUMBER(CSVデータ1!H159),CSVデータ1!H159,0)+IF(ISNUMBER(CSVデータ2!H159),CSVデータ2!H159,0)+IF(ISNUMBER(CSVデータ3!H159),CSVデータ3!H159,0)+IF(ISNUMBER(CSVデータ4!H159),CSVデータ4!H159,0)","v":5},null,{"$f":"IF(ISNUMBER(CSVデータ1!J159),CSVデータ1!J159,0)+IF(ISNUMBER(CSVデータ2!J159),CSVデータ2!J159,0)+IF(ISNUMBER(CSVデータ3!J159),CSVデータ3!J159,0)+IF(ISNUMBER(CSVデータ4!J159),CSVデータ4!J159,0)","v":2},null,{"$f":"IF(ISNUMBER(CSVデータ1!L159),CSVデータ1!L159,0)+IF(ISNUMBER(CSVデータ2!L159),CSVデータ2!L159,0)+IF(ISNUMBER(CSVデータ3!L159),CSVデータ3!L159,0)+IF(ISNUMBER(CSVデータ4!L159),CSVデータ4!L159,0)","v":2},null,{"$f":"IF(ISNUMBER(CSVデータ1!N159),CSVデータ1!N159,0)+IF(ISNUMBER(CSVデータ2!N159),CSVデータ2!N159,0)+IF(ISNUMBER(CSVデータ3!N159),CSVデータ3!N159,0)+IF(ISNUMBER(CSVデータ4!N159),CSVデータ4!N159,0)","v":0},null,{"$f":"IF(ISNUMBER(CSVデータ1!P159),CSVデータ1!P159,0)+IF(ISNUMBER(CSVデータ2!P159),CSVデータ2!P159,0)+IF(ISNUMBER(CSVデータ3!P159),CSVデータ3!P159,0)+IF(ISNUMBER(CSVデータ4!P159),CSVデータ4!P159,0)","v":0},null,{"$f":"IF(ISNUMBER(CSVデータ1!R159),CSVデータ1!R159,0)+IF(ISNUMBER(CSVデータ2!R159),CSVデータ2!R159,0)+IF(ISNUMBER(CSVデータ3!R159),CSVデータ3!R159,0)+IF(ISNUMBER(CSVデータ4!R159),CSVデータ4!R159,0)","v":3},null,{"$f":"IF(ISNUMBER(CSVデータ1!T159),CSVデータ1!T159,0)+IF(ISNUMBER(CSVデータ2!T159),CSVデータ2!T159,0)+IF(ISNUMBER(CSVデータ3!T159),CSVデータ3!T159,0)+IF(ISNUMBER(CSVデータ4!T159),CSVデータ4!T159,0)","v":0},null,{"$f":"IF(ISNUMBER(CSVデータ1!V159),CSVデータ1!V159,0)+IF(ISNUMBER(CSVデータ2!V159),CSVデータ2!V159,0)+IF(ISNUMBER(CSVデータ3!V159),CSVデータ3!V159,0)+IF(ISNUMBER(CSVデータ4!V159),CSVデータ4!V159,0)","v":2},null,{"$f":"IF(ISNUMBER(CSVデータ1!X159),CSVデータ1!X159,0)+IF(ISNUMBER(CSVデータ2!X159),CSVデータ2!X159,0)+IF(ISNUMBER(CSVデータ3!X159),CSVデータ3!X159,0)+IF(ISNUMBER(CSVデータ4!X159),CSVデータ4!X159,0)","v":0},null,{"$f":"IF(ISNUMBER(CSVデータ1!Z159),CSVデータ1!Z159,0)+IF(ISNUMBER(CSVデータ2!Z159),CSVデータ2!Z159,0)+IF(ISNUMBER(CSVデータ3!Z159),CSVデータ3!Z159,0)+IF(ISNUMBER(CSVデータ4!Z159),CSVデータ4!Z159,0)","v":4},null,{"$f":"IF(ISNUMBER(CSVデータ1!AB159),CSVデータ1!AB159,0)+IF(ISNUMBER(CSVデータ2!AB159),CSVデータ2!AB159,0)+IF(ISNUMBER(CSVデータ3!AB159),CSVデータ3!AB159,0)+IF(ISNUMBER(CSVデータ4!AB159),CSVデータ4!AB159,0)","v":0},null,{"$f":"IF(ISNUMBER(CSVデータ1!AD159),CSVデータ1!AD159,0)+IF(ISNUMBER(CSVデータ2!AD159),CSVデータ2!AD159,0)+IF(ISNUMBER(CSVデータ3!AD159),CSVデータ3!AD159,0)+IF(ISNUMBER(CSVデータ4!AD159),CSVデータ4!AD159,0)","v":2},null,{"$f":"IF(ISNUMBER(CSVデータ1!AF159),CSVデータ1!AF159,0)+IF(ISNUMBER(CSVデータ2!AF159),CSVデータ2!AF159,0)+IF(ISNUMBER(CSVデータ3!AF159),CSVデータ3!AF159,0)+IF(ISNUMBER(CSVデータ4!AF159),CSVデータ4!AF159,0)","v":0},null,{"$f":"IF(ISNUMBER(CSVデータ1!AH159),CSVデータ1!AH159,0)+IF(ISNUMBER(CSVデータ2!AH159),CSVデータ2!AH159,0)+IF(ISNUMBER(CSVデータ3!AH159),CSVデータ3!AH159,0)+IF(ISNUMBER(CSVデータ4!AH159),CSVデータ4!AH159,0)","v":0},null,{"$f":"IF(ISNUMBER(CSVデータ1!AJ159),CSVデータ1!AJ159,0)+IF(ISNUMBER(CSVデータ2!AJ159),CSVデータ2!AJ159,0)+IF(ISNUMBER(CSVデータ3!AJ159),CSVデータ3!AJ159,0)+IF(ISNUMBER(CSVデータ4!AJ159),CSVデータ4!AJ159,0)","v":0},null,{"$f":"IF(ISNUMBER(CSVデータ1!AL159),CSVデータ1!AL159,0)+IF(ISNUMBER(CSVデータ2!AL159),CSVデータ2!AL159,0)+IF(ISNUMBER(CSVデータ3!AL159),CSVデータ3!AL159,0)+IF(ISNUMBER(CSVデータ4!AL159),CSVデータ4!AL159,0)","v":0},null,{"$f":"IF(ISNUMBER(CSVデータ1!AN159),CSVデータ1!AN159,0)+IF(ISNUMBER(CSVデータ2!AN159),CSVデータ2!AN159,0)+IF(ISNUMBER(CSVデータ3!AN159),CSVデータ3!AN159,0)+IF(ISNUMBER(CSVデータ4!AN159),CSVデータ4!AN159,0)","v":0}]
[{"$f":"CSVデータ1!A160","v":"明細部"},{"$f":"CSVデータ1!B160","v":"保険者（地区）"},{"$f":"CSVデータ1!C160","v":56},{"$f":"CSVデータ1!D160","v":"男"},{"$f":"IF(ISNUMBER(CSVデータ1!E160),CSVデータ1!E160,0)+IF(ISNUMBER(CSVデータ2!E160),CSVデータ2!E160,0)+IF(ISNUMBER(CSVデータ3!E160),CSVデータ3!E160,0)+IF(ISNUMBER(CSVデータ4!E160),CSVデータ4!E160,0)","v":5},{"$f":"IF(ISNUMBER(CSVデータ1!F160),CSVデータ1!F160,0)+IF(ISNUMBER(CSVデータ2!F160),CSVデータ2!F160,0)+IF(ISNUMBER(CSVデータ3!F160),CSVデータ3!F160,0)+IF(ISNUMBER(CSVデータ4!F160),CSVデータ4!F160,0)","v":2},null,{"$f":"IF(ISNUMBER(CSVデータ1!H160),CSVデータ1!H160,0)+IF(ISNUMBER(CSVデータ2!H160),CSVデータ2!H160,0)+IF(ISNUMBER(CSVデータ3!H160),CSVデータ3!H160,0)+IF(ISNUMBER(CSVデータ4!H160),CSVデータ4!H160,0)","v":2},null,{"$f":"IF(ISNUMBER(CSVデータ1!J160),CSVデータ1!J160,0)+IF(ISNUMBER(CSVデータ2!J160),CSVデータ2!J160,0)+IF(ISNUMBER(CSVデータ3!J160),CSVデータ3!J160,0)+IF(ISNUMBER(CSVデータ4!J160),CSVデータ4!J160,0)","v":0},null,{"$f":"IF(ISNUMBER(CSVデータ1!L160),CSVデータ1!L160,0)+IF(ISNUMBER(CSVデータ2!L160),CSVデータ2!L160,0)+IF(ISNUMBER(CSVデータ3!L160),CSVデータ3!L160,0)+IF(ISNUMBER(CSVデータ4!L160),CSVデータ4!L160,0)","v":1},null,{"$f":"IF(ISNUMBER(CSVデータ1!N160),CSVデータ1!N160,0)+IF(ISNUMBER(CSVデータ2!N160),CSVデータ2!N160,0)+IF(ISNUMBER(CSVデータ3!N160),CSVデータ3!N160,0)+IF(ISNUMBER(CSVデータ4!N160),CSVデータ4!N160,0)","v":0},null,{"$f":"IF(ISNUMBER(CSVデータ1!P160),CSVデータ1!P160,0)+IF(ISNUMBER(CSVデータ2!P160),CSVデータ2!P160,0)+IF(ISNUMBER(CSVデータ3!P160),CSVデータ3!P160,0)+IF(ISNUMBER(CSVデータ4!P160),CSVデータ4!P160,0)","v":1},null,{"$f":"IF(ISNUMBER(CSVデータ1!R160),CSVデータ1!R160,0)+IF(ISNUMBER(CSVデータ2!R160),CSVデータ2!R160,0)+IF(ISNUMBER(CSVデータ3!R160),CSVデータ3!R160,0)+IF(ISNUMBER(CSVデータ4!R160),CSVデータ4!R160,0)","v":2},null,{"$f":"IF(ISNUMBER(CSVデータ1!T160),CSVデータ1!T160,0)+IF(ISNUMBER(CSVデータ2!T160),CSVデータ2!T160,0)+IF(ISNUMBER(CSVデータ3!T160),CSVデータ3!T160,0)+IF(ISNUMBER(CSVデータ4!T160),CSVデータ4!T160,0)","v":1},null,{"$f":"IF(ISNUMBER(CSVデータ1!V160),CSVデータ1!V160,0)+IF(ISNUMBER(CSVデータ2!V160),CSVデータ2!V160,0)+IF(ISNUMBER(CSVデータ3!V160),CSVデータ3!V160,0)+IF(ISNUMBER(CSVデータ4!V160),CSVデータ4!V160,0)","v":0},null,{"$f":"IF(ISNUMBER(CSVデータ1!X160),CSVデータ1!X160,0)+IF(ISNUMBER(CSVデータ2!X160),CSVデータ2!X160,0)+IF(ISNUMBER(CSVデータ3!X160),CSVデータ3!X160,0)+IF(ISNUMBER(CSVデータ4!X160),CSVデータ4!X160,0)","v":1},null,{"$f":"IF(ISNUMBER(CSVデータ1!Z160),CSVデータ1!Z160,0)+IF(ISNUMBER(CSVデータ2!Z160),CSVデータ2!Z160,0)+IF(ISNUMBER(CSVデータ3!Z160),CSVデータ3!Z160,0)+IF(ISNUMBER(CSVデータ4!Z160),CSVデータ4!Z160,0)","v":2},null,{"$f":"IF(ISNUMBER(CSVデータ1!AB160),CSVデータ1!AB160,0)+IF(ISNUMBER(CSVデータ2!AB160),CSVデータ2!AB160,0)+IF(ISNUMBER(CSVデータ3!AB160),CSVデータ3!AB160,0)+IF(ISNUMBER(CSVデータ4!AB160),CSVデータ4!AB160,0)","v":0},null,{"$f":"IF(ISNUMBER(CSVデータ1!AD160),CSVデータ1!AD160,0)+IF(ISNUMBER(CSVデータ2!AD160),CSVデータ2!AD160,0)+IF(ISNUMBER(CSVデータ3!AD160),CSVデータ3!AD160,0)+IF(ISNUMBER(CSVデータ4!AD160),CSVデータ4!AD160,0)","v":3},null,{"$f":"IF(ISNUMBER(CSVデータ1!AF160),CSVデータ1!AF160,0)+IF(ISNUMBER(CSVデータ2!AF160),CSVデータ2!AF160,0)+IF(ISNUMBER(CSVデータ3!AF160),CSVデータ3!AF160,0)+IF(ISNUMBER(CSVデータ4!AF160),CSVデータ4!AF160,0)","v":0},null,{"$f":"IF(ISNUMBER(CSVデータ1!AH160),CSVデータ1!AH160,0)+IF(ISNUMBER(CSVデータ2!AH160),CSVデータ2!AH160,0)+IF(ISNUMBER(CSVデータ3!AH160),CSVデータ3!AH160,0)+IF(ISNUMBER(CSVデータ4!AH160),CSVデータ4!AH160,0)","v":0},null,{"$f":"IF(ISNUMBER(CSVデータ1!AJ160),CSVデータ1!AJ160,0)+IF(ISNUMBER(CSVデータ2!AJ160),CSVデータ2!AJ160,0)+IF(ISNUMBER(CSVデータ3!AJ160),CSVデータ3!AJ160,0)+IF(ISNUMBER(CSVデータ4!AJ160),CSVデータ4!AJ160,0)","v":0},null,{"$f":"IF(ISNUMBER(CSVデータ1!AL160),CSVデータ1!AL160,0)+IF(ISNUMBER(CSVデータ2!AL160),CSVデータ2!AL160,0)+IF(ISNUMBER(CSVデータ3!AL160),CSVデータ3!AL160,0)+IF(ISNUMBER(CSVデータ4!AL160),CSVデータ4!AL160,0)","v":0},null,{"$f":"IF(ISNUMBER(CSVデータ1!AN160),CSVデータ1!AN160,0)+IF(ISNUMBER(CSVデータ2!AN160),CSVデータ2!AN160,0)+IF(ISNUMBER(CSVデータ3!AN160),CSVデータ3!AN160,0)+IF(ISNUMBER(CSVデータ4!AN160),CSVデータ4!AN160,0)","v":0}]
[{"$f":"CSVデータ1!A161","v":"明細部"},{"$f":"CSVデータ1!B161","v":"保険者（地区）"},{"$f":"CSVデータ1!C161","v":57},{"$f":"CSVデータ1!D161","v":"男"},{"$f":"IF(ISNUMBER(CSVデータ1!E161),CSVデータ1!E161,0)+IF(ISNUMBER(CSVデータ2!E161),CSVデータ2!E161,0)+IF(ISNUMBER(CSVデータ3!E161),CSVデータ3!E161,0)+IF(ISNUMBER(CSVデータ4!E161),CSVデータ4!E161,0)","v":5},{"$f":"IF(ISNUMBER(CSVデータ1!F161),CSVデータ1!F161,0)+IF(ISNUMBER(CSVデータ2!F161),CSVデータ2!F161,0)+IF(ISNUMBER(CSVデータ3!F161),CSVデータ3!F161,0)+IF(ISNUMBER(CSVデータ4!F161),CSVデータ4!F161,0)","v":1},null,{"$f":"IF(ISNUMBER(CSVデータ1!H161),CSVデータ1!H161,0)+IF(ISNUMBER(CSVデータ2!H161),CSVデータ2!H161,0)+IF(ISNUMBER(CSVデータ3!H161),CSVデータ3!H161,0)+IF(ISNUMBER(CSVデータ4!H161),CSVデータ4!H161,0)","v":3},null,{"$f":"IF(ISNUMBER(CSVデータ1!J161),CSVデータ1!J161,0)+IF(ISNUMBER(CSVデータ2!J161),CSVデータ2!J161,0)+IF(ISNUMBER(CSVデータ3!J161),CSVデータ3!J161,0)+IF(ISNUMBER(CSVデータ4!J161),CSVデータ4!J161,0)","v":0},null,{"$f":"IF(ISNUMBER(CSVデータ1!L161),CSVデータ1!L161,0)+IF(ISNUMBER(CSVデータ2!L161),CSVデータ2!L161,0)+IF(ISNUMBER(CSVデータ3!L161),CSVデータ3!L161,0)+IF(ISNUMBER(CSVデータ4!L161),CSVデータ4!L161,0)","v":3},null,{"$f":"IF(ISNUMBER(CSVデータ1!N161),CSVデータ1!N161,0)+IF(ISNUMBER(CSVデータ2!N161),CSVデータ2!N161,0)+IF(ISNUMBER(CSVデータ3!N161),CSVデータ3!N161,0)+IF(ISNUMBER(CSVデータ4!N161),CSVデータ4!N161,0)","v":0},null,{"$f":"IF(ISNUMBER(CSVデータ1!P161),CSVデータ1!P161,0)+IF(ISNUMBER(CSVデータ2!P161),CSVデータ2!P161,0)+IF(ISNUMBER(CSVデータ3!P161),CSVデータ3!P161,0)+IF(ISNUMBER(CSVデータ4!P161),CSVデータ4!P161,0)","v":2},null,{"$f":"IF(ISNUMBER(CSVデータ1!R161),CSVデータ1!R161,0)+IF(ISNUMBER(CSVデータ2!R161),CSVデータ2!R161,0)+IF(ISNUMBER(CSVデータ3!R161),CSVデータ3!R161,0)+IF(ISNUMBER(CSVデータ4!R161),CSVデータ4!R161,0)","v":3},null,{"$f":"IF(ISNUMBER(CSVデータ1!T161),CSVデータ1!T161,0)+IF(ISNUMBER(CSVデータ2!T161),CSVデータ2!T161,0)+IF(ISNUMBER(CSVデータ3!T161),CSVデータ3!T161,0)+IF(ISNUMBER(CSVデータ4!T161),CSVデータ4!T161,0)","v":0},null,{"$f":"IF(ISNUMBER(CSVデータ1!V161),CSVデータ1!V161,0)+IF(ISNUMBER(CSVデータ2!V161),CSVデータ2!V161,0)+IF(ISNUMBER(CSVデータ3!V161),CSVデータ3!V161,0)+IF(ISNUMBER(CSVデータ4!V161),CSVデータ4!V161,0)","v":3},null,{"$f":"IF(ISNUMBER(CSVデータ1!X161),CSVデータ1!X161,0)+IF(ISNUMBER(CSVデータ2!X161),CSVデータ2!X161,0)+IF(ISNUMBER(CSVデータ3!X161),CSVデータ3!X161,0)+IF(ISNUMBER(CSVデータ4!X161),CSVデータ4!X161,0)","v":1},null,{"$f":"IF(ISNUMBER(CSVデータ1!Z161),CSVデータ1!Z161,0)+IF(ISNUMBER(CSVデータ2!Z161),CSVデータ2!Z161,0)+IF(ISNUMBER(CSVデータ3!Z161),CSVデータ3!Z161,0)+IF(ISNUMBER(CSVデータ4!Z161),CSVデータ4!Z161,0)","v":1},null,{"$f":"IF(ISNUMBER(CSVデータ1!AB161),CSVデータ1!AB161,0)+IF(ISNUMBER(CSVデータ2!AB161),CSVデータ2!AB161,0)+IF(ISNUMBER(CSVデータ3!AB161),CSVデータ3!AB161,0)+IF(ISNUMBER(CSVデータ4!AB161),CSVデータ4!AB161,0)","v":0},null,{"$f":"IF(ISNUMBER(CSVデータ1!AD161),CSVデータ1!AD161,0)+IF(ISNUMBER(CSVデータ2!AD161),CSVデータ2!AD161,0)+IF(ISNUMBER(CSVデータ3!AD161),CSVデータ3!AD161,0)+IF(ISNUMBER(CSVデータ4!AD161),CSVデータ4!AD161,0)","v":3},null,{"$f":"IF(ISNUMBER(CSVデータ1!AF161),CSVデータ1!AF161,0)+IF(ISNUMBER(CSVデータ2!AF161),CSVデータ2!AF161,0)+IF(ISNUMBER(CSVデータ3!AF161),CSVデータ3!AF161,0)+IF(ISNUMBER(CSVデータ4!AF161),CSVデータ4!AF161,0)","v":0},null,{"$f":"IF(ISNUMBER(CSVデータ1!AH161),CSVデータ1!AH161,0)+IF(ISNUMBER(CSVデータ2!AH161),CSVデータ2!AH161,0)+IF(ISNUMBER(CSVデータ3!AH161),CSVデータ3!AH161,0)+IF(ISNUMBER(CSVデータ4!AH161),CSVデータ4!AH161,0)","v":0},null,{"$f":"IF(ISNUMBER(CSVデータ1!AJ161),CSVデータ1!AJ161,0)+IF(ISNUMBER(CSVデータ2!AJ161),CSVデータ2!AJ161,0)+IF(ISNUMBER(CSVデータ3!AJ161),CSVデータ3!AJ161,0)+IF(ISNUMBER(CSVデータ4!AJ161),CSVデータ4!AJ161,0)","v":0},null,{"$f":"IF(ISNUMBER(CSVデータ1!AL161),CSVデータ1!AL161,0)+IF(ISNUMBER(CSVデータ2!AL161),CSVデータ2!AL161,0)+IF(ISNUMBER(CSVデータ3!AL161),CSVデータ3!AL161,0)+IF(ISNUMBER(CSVデータ4!AL161),CSVデータ4!AL161,0)","v":1},null,{"$f":"IF(ISNUMBER(CSVデータ1!AN161),CSVデータ1!AN161,0)+IF(ISNUMBER(CSVデータ2!AN161),CSVデータ2!AN161,0)+IF(ISNUMBER(CSVデータ3!AN161),CSVデータ3!AN161,0)+IF(ISNUMBER(CSVデータ4!AN161),CSVデータ4!AN161,0)","v":0}]
[{"$f":"CSVデータ1!A162","v":"明細部"},{"$f":"CSVデータ1!B162","v":"保険者（地区）"},{"$f":"CSVデータ1!C162","v":58},{"$f":"CSVデータ1!D162","v":"男"},{"$f":"IF(ISNUMBER(CSVデータ1!E162),CSVデータ1!E162,0)+IF(ISNUMBER(CSVデータ2!E162),CSVデータ2!E162,0)+IF(ISNUMBER(CSVデータ3!E162),CSVデータ3!E162,0)+IF(ISNUMBER(CSVデータ4!E162),CSVデータ4!E162,0)","v":5},{"$f":"IF(ISNUMBER(CSVデータ1!F162),CSVデータ1!F162,0)+IF(ISNUMBER(CSVデータ2!F162),CSVデータ2!F162,0)+IF(ISNUMBER(CSVデータ3!F162),CSVデータ3!F162,0)+IF(ISNUMBER(CSVデータ4!F162),CSVデータ4!F162,0)","v":3},null,{"$f":"IF(ISNUMBER(CSVデータ1!H162),CSVデータ1!H162,0)+IF(ISNUMBER(CSVデータ2!H162),CSVデータ2!H162,0)+IF(ISNUMBER(CSVデータ3!H162),CSVデータ3!H162,0)+IF(ISNUMBER(CSVデータ4!H162),CSVデータ4!H162,0)","v":3},null,{"$f":"IF(ISNUMBER(CSVデータ1!J162),CSVデータ1!J162,0)+IF(ISNUMBER(CSVデータ2!J162),CSVデータ2!J162,0)+IF(ISNUMBER(CSVデータ3!J162),CSVデータ3!J162,0)+IF(ISNUMBER(CSVデータ4!J162),CSVデータ4!J162,0)","v":0},null,{"$f":"IF(ISNUMBER(CSVデータ1!L162),CSVデータ1!L162,0)+IF(ISNUMBER(CSVデータ2!L162),CSVデータ2!L162,0)+IF(ISNUMBER(CSVデータ3!L162),CSVデータ3!L162,0)+IF(ISNUMBER(CSVデータ4!L162),CSVデータ4!L162,0)","v":3},null,{"$f":"IF(ISNUMBER(CSVデータ1!N162),CSVデータ1!N162,0)+IF(ISNUMBER(CSVデータ2!N162),CSVデータ2!N162,0)+IF(ISNUMBER(CSVデータ3!N162),CSVデータ3!N162,0)+IF(ISNUMBER(CSVデータ4!N162),CSVデータ4!N162,0)","v":0},null,{"$f":"IF(ISNUMBER(CSVデータ1!P162),CSVデータ1!P162,0)+IF(ISNUMBER(CSVデータ2!P162),CSVデータ2!P162,0)+IF(ISNUMBER(CSVデータ3!P162),CSVデータ3!P162,0)+IF(ISNUMBER(CSVデータ4!P162),CSVデータ4!P162,0)","v":1},null,{"$f":"IF(ISNUMBER(CSVデータ1!R162),CSVデータ1!R162,0)+IF(ISNUMBER(CSVデータ2!R162),CSVデータ2!R162,0)+IF(ISNUMBER(CSVデータ3!R162),CSVデータ3!R162,0)+IF(ISNUMBER(CSVデータ4!R162),CSVデータ4!R162,0)","v":2},null,{"$f":"IF(ISNUMBER(CSVデータ1!T162),CSVデータ1!T162,0)+IF(ISNUMBER(CSVデータ2!T162),CSVデータ2!T162,0)+IF(ISNUMBER(CSVデータ3!T162),CSVデータ3!T162,0)+IF(ISNUMBER(CSVデータ4!T162),CSVデータ4!T162,0)","v":1},null,{"$f":"IF(ISNUMBER(CSVデータ1!V162),CSVデータ1!V162,0)+IF(ISNUMBER(CSVデータ2!V162),CSVデータ2!V162,0)+IF(ISNUMBER(CSVデータ3!V162),CSVデータ3!V162,0)+IF(ISNUMBER(CSVデータ4!V162),CSVデータ4!V162,0)","v":2},null,{"$f":"IF(ISNUMBER(CSVデータ1!X162),CSVデータ1!X162,0)+IF(ISNUMBER(CSVデータ2!X162),CSVデータ2!X162,0)+IF(ISNUMBER(CSVデータ3!X162),CSVデータ3!X162,0)+IF(ISNUMBER(CSVデータ4!X162),CSVデータ4!X162,0)","v":1},null,{"$f":"IF(ISNUMBER(CSVデータ1!Z162),CSVデータ1!Z162,0)+IF(ISNUMBER(CSVデータ2!Z162),CSVデータ2!Z162,0)+IF(ISNUMBER(CSVデータ3!Z162),CSVデータ3!Z162,0)+IF(ISNUMBER(CSVデータ4!Z162),CSVデータ4!Z162,0)","v":2},null,{"$f":"IF(ISNUMBER(CSVデータ1!AB162),CSVデータ1!AB162,0)+IF(ISNUMBER(CSVデータ2!AB162),CSVデータ2!AB162,0)+IF(ISNUMBER(CSVデータ3!AB162),CSVデータ3!AB162,0)+IF(ISNUMBER(CSVデータ4!AB162),CSVデータ4!AB162,0)","v":0},null,{"$f":"IF(ISNUMBER(CSVデータ1!AD162),CSVデータ1!AD162,0)+IF(ISNUMBER(CSVデータ2!AD162),CSVデータ2!AD162,0)+IF(ISNUMBER(CSVデータ3!AD162),CSVデータ3!AD162,0)+IF(ISNUMBER(CSVデータ4!AD162),CSVデータ4!AD162,0)","v":3},null,{"$f":"IF(ISNUMBER(CSVデータ1!AF162),CSVデータ1!AF162,0)+IF(ISNUMBER(CSVデータ2!AF162),CSVデータ2!AF162,0)+IF(ISNUMBER(CSVデータ3!AF162),CSVデータ3!AF162,0)+IF(ISNUMBER(CSVデータ4!AF162),CSVデータ4!AF162,0)","v":0},null,{"$f":"IF(ISNUMBER(CSVデータ1!AH162),CSVデータ1!AH162,0)+IF(ISNUMBER(CSVデータ2!AH162),CSVデータ2!AH162,0)+IF(ISNUMBER(CSVデータ3!AH162),CSVデータ3!AH162,0)+IF(ISNUMBER(CSVデータ4!AH162),CSVデータ4!AH162,0)","v":0},null,{"$f":"IF(ISNUMBER(CSVデータ1!AJ162),CSVデータ1!AJ162,0)+IF(ISNUMBER(CSVデータ2!AJ162),CSVデータ2!AJ162,0)+IF(ISNUMBER(CSVデータ3!AJ162),CSVデータ3!AJ162,0)+IF(ISNUMBER(CSVデータ4!AJ162),CSVデータ4!AJ162,0)","v":0},null,{"$f":"IF(ISNUMBER(CSVデータ1!AL162),CSVデータ1!AL162,0)+IF(ISNUMBER(CSVデータ2!AL162),CSVデータ2!AL162,0)+IF(ISNUMBER(CSVデータ3!AL162),CSVデータ3!AL162,0)+IF(ISNUMBER(CSVデータ4!AL162),CSVデータ4!AL162,0)","v":0},null,{"$f":"IF(ISNUMBER(CSVデータ1!AN162),CSVデータ1!AN162,0)+IF(ISNUMBER(CSVデータ2!AN162),CSVデータ2!AN162,0)+IF(ISNUMBER(CSVデータ3!AN162),CSVデータ3!AN162,0)+IF(ISNUMBER(CSVデータ4!AN162),CSVデータ4!AN162,0)","v":0}]
[{"$f":"CSVデータ1!A163","v":"明細部"},{"$f":"CSVデータ1!B163","v":"保険者（地区）"},{"$f":"CSVデータ1!C163","v":59},{"$f":"CSVデータ1!D163","v":"男"},{"$f":"IF(ISNUMBER(CSVデータ1!E163),CSVデータ1!E163,0)+IF(ISNUMBER(CSVデータ2!E163),CSVデータ2!E163,0)+IF(ISNUMBER(CSVデータ3!E163),CSVデータ3!E163,0)+IF(ISNUMBER(CSVデータ4!E163),CSVデータ4!E163,0)","v":15},{"$f":"IF(ISNUMBER(CSVデータ1!F163),CSVデータ1!F163,0)+IF(ISNUMBER(CSVデータ2!F163),CSVデータ2!F163,0)+IF(ISNUMBER(CSVデータ3!F163),CSVデータ3!F163,0)+IF(ISNUMBER(CSVデータ4!F163),CSVデータ4!F163,0)","v":6},null,{"$f":"IF(ISNUMBER(CSVデータ1!H163),CSVデータ1!H163,0)+IF(ISNUMBER(CSVデータ2!H163),CSVデータ2!H163,0)+IF(ISNUMBER(CSVデータ3!H163),CSVデータ3!H163,0)+IF(ISNUMBER(CSVデータ4!H163),CSVデータ4!H163,0)","v":11},null,{"$f":"IF(ISNUMBER(CSVデータ1!J163),CSVデータ1!J163,0)+IF(ISNUMBER(CSVデータ2!J163),CSVデータ2!J163,0)+IF(ISNUMBER(CSVデータ3!J163),CSVデータ3!J163,0)+IF(ISNUMBER(CSVデータ4!J163),CSVデータ4!J163,0)","v":4},null,{"$f":"IF(ISNUMBER(CSVデータ1!L163),CSVデータ1!L163,0)+IF(ISNUMBER(CSVデータ2!L163),CSVデータ2!L163,0)+IF(ISNUMBER(CSVデータ3!L163),CSVデータ3!L163,0)+IF(ISNUMBER(CSVデータ4!L163),CSVデータ4!L163,0)","v":4},null,{"$f":"IF(ISNUMBER(CSVデータ1!N163),CSVデータ1!N163,0)+IF(ISNUMBER(CSVデータ2!N163),CSVデータ2!N163,0)+IF(ISNUMBER(CSVデータ3!N163),CSVデータ3!N163,0)+IF(ISNUMBER(CSVデータ4!N163),CSVデータ4!N163,0)","v":0},null,{"$f":"IF(ISNUMBER(CSVデータ1!P163),CSVデータ1!P163,0)+IF(ISNUMBER(CSVデータ2!P163),CSVデータ2!P163,0)+IF(ISNUMBER(CSVデータ3!P163),CSVデータ3!P163,0)+IF(ISNUMBER(CSVデータ4!P163),CSVデータ4!P163,0)","v":5},null,{"$f":"IF(ISNUMBER(CSVデータ1!R163),CSVデータ1!R163,0)+IF(ISNUMBER(CSVデータ2!R163),CSVデータ2!R163,0)+IF(ISNUMBER(CSVデータ3!R163),CSVデータ3!R163,0)+IF(ISNUMBER(CSVデータ4!R163),CSVデータ4!R163,0)","v":6},null,{"$f":"IF(ISNUMBER(CSVデータ1!T163),CSVデータ1!T163,0)+IF(ISNUMBER(CSVデータ2!T163),CSVデータ2!T163,0)+IF(ISNUMBER(CSVデータ3!T163),CSVデータ3!T163,0)+IF(ISNUMBER(CSVデータ4!T163),CSVデータ4!T163,0)","v":3},null,{"$f":"IF(ISNUMBER(CSVデータ1!V163),CSVデータ1!V163,0)+IF(ISNUMBER(CSVデータ2!V163),CSVデータ2!V163,0)+IF(ISNUMBER(CSVデータ3!V163),CSVデータ3!V163,0)+IF(ISNUMBER(CSVデータ4!V163),CSVデータ4!V163,0)","v":8},null,{"$f":"IF(ISNUMBER(CSVデータ1!X163),CSVデータ1!X163,0)+IF(ISNUMBER(CSVデータ2!X163),CSVデータ2!X163,0)+IF(ISNUMBER(CSVデータ3!X163),CSVデータ3!X163,0)+IF(ISNUMBER(CSVデータ4!X163),CSVデータ4!X163,0)","v":7},null,{"$f":"IF(ISNUMBER(CSVデータ1!Z163),CSVデータ1!Z163,0)+IF(ISNUMBER(CSVデータ2!Z163),CSVデータ2!Z163,0)+IF(ISNUMBER(CSVデータ3!Z163),CSVデータ3!Z163,0)+IF(ISNUMBER(CSVデータ4!Z163),CSVデータ4!Z163,0)","v":6},null,{"$f":"IF(ISNUMBER(CSVデータ1!AB163),CSVデータ1!AB163,0)+IF(ISNUMBER(CSVデータ2!AB163),CSVデータ2!AB163,0)+IF(ISNUMBER(CSVデータ3!AB163),CSVデータ3!AB163,0)+IF(ISNUMBER(CSVデータ4!AB163),CSVデータ4!AB163,0)","v":0},null,{"$f":"IF(ISNUMBER(CSVデータ1!AD163),CSVデータ1!AD163,0)+IF(ISNUMBER(CSVデータ2!AD163),CSVデータ2!AD163,0)+IF(ISNUMBER(CSVデータ3!AD163),CSVデータ3!AD163,0)+IF(ISNUMBER(CSVデータ4!AD163),CSVデータ4!AD163,0)","v":4},null,{"$f":"IF(ISNUMBER(CSVデータ1!AF163),CSVデータ1!AF163,0)+IF(ISNUMBER(CSVデータ2!AF163),CSVデータ2!AF163,0)+IF(ISNUMBER(CSVデータ3!AF163),CSVデータ3!AF163,0)+IF(ISNUMBER(CSVデータ4!AF163),CSVデータ4!AF163,0)","v":0},null,{"$f":"IF(ISNUMBER(CSVデータ1!AH163),CSVデータ1!AH163,0)+IF(ISNUMBER(CSVデータ2!AH163),CSVデータ2!AH163,0)+IF(ISNUMBER(CSVデータ3!AH163),CSVデータ3!AH163,0)+IF(ISNUMBER(CSVデータ4!AH163),CSVデータ4!AH163,0)","v":0},null,{"$f":"IF(ISNUMBER(CSVデータ1!AJ163),CSVデータ1!AJ163,0)+IF(ISNUMBER(CSVデータ2!AJ163),CSVデータ2!AJ163,0)+IF(ISNUMBER(CSVデータ3!AJ163),CSVデータ3!AJ163,0)+IF(ISNUMBER(CSVデータ4!AJ163),CSVデータ4!AJ163,0)","v":0},null,{"$f":"IF(ISNUMBER(CSVデータ1!AL163),CSVデータ1!AL163,0)+IF(ISNUMBER(CSVデータ2!AL163),CSVデータ2!AL163,0)+IF(ISNUMBER(CSVデータ3!AL163),CSVデータ3!AL163,0)+IF(ISNUMBER(CSVデータ4!AL163),CSVデータ4!AL163,0)","v":0},null,{"$f":"IF(ISNUMBER(CSVデータ1!AN163),CSVデータ1!AN163,0)+IF(ISNUMBER(CSVデータ2!AN163),CSVデータ2!AN163,0)+IF(ISNUMBER(CSVデータ3!AN163),CSVデータ3!AN163,0)+IF(ISNUMBER(CSVデータ4!AN163),CSVデータ4!AN163,0)","v":0}]
[{"$f":"CSVデータ1!A164","v":"明細部"},{"$f":"CSVデータ1!B164","v":"保険者（地区）"},{"$f":"CSVデータ1!C164","v":60},{"$f":"CSVデータ1!D164","v":"男"},{"$f":"IF(ISNUMBER(CSVデータ1!E164),CSVデータ1!E164,0)+IF(ISNUMBER(CSVデータ2!E164),CSVデータ2!E164,0)+IF(ISNUMBER(CSVデータ3!E164),CSVデータ3!E164,0)+IF(ISNUMBER(CSVデータ4!E164),CSVデータ4!E164,0)","v":8},{"$f":"IF(ISNUMBER(CSVデータ1!F164),CSVデータ1!F164,0)+IF(ISNUMBER(CSVデータ2!F164),CSVデータ2!F164,0)+IF(ISNUMBER(CSVデータ3!F164),CSVデータ3!F164,0)+IF(ISNUMBER(CSVデータ4!F164),CSVデータ4!F164,0)","v":3},null,{"$f":"IF(ISNUMBER(CSVデータ1!H164),CSVデータ1!H164,0)+IF(ISNUMBER(CSVデータ2!H164),CSVデータ2!H164,0)+IF(ISNUMBER(CSVデータ3!H164),CSVデータ3!H164,0)+IF(ISNUMBER(CSVデータ4!H164),CSVデータ4!H164,0)","v":5},null,{"$f":"IF(ISNUMBER(CSVデータ1!J164),CSVデータ1!J164,0)+IF(ISNUMBER(CSVデータ2!J164),CSVデータ2!J164,0)+IF(ISNUMBER(CSVデータ3!J164),CSVデータ3!J164,0)+IF(ISNUMBER(CSVデータ4!J164),CSVデータ4!J164,0)","v":0},null,{"$f":"IF(ISNUMBER(CSVデータ1!L164),CSVデータ1!L164,0)+IF(ISNUMBER(CSVデータ2!L164),CSVデータ2!L164,0)+IF(ISNUMBER(CSVデータ3!L164),CSVデータ3!L164,0)+IF(ISNUMBER(CSVデータ4!L164),CSVデータ4!L164,0)","v":1},null,{"$f":"IF(ISNUMBER(CSVデータ1!N164),CSVデータ1!N164,0)+IF(ISNUMBER(CSVデータ2!N164),CSVデータ2!N164,0)+IF(ISNUMBER(CSVデータ3!N164),CSVデータ3!N164,0)+IF(ISNUMBER(CSVデータ4!N164),CSVデータ4!N164,0)","v":0},null,{"$f":"IF(ISNUMBER(CSVデータ1!P164),CSVデータ1!P164,0)+IF(ISNUMBER(CSVデータ2!P164),CSVデータ2!P164,0)+IF(ISNUMBER(CSVデータ3!P164),CSVデータ3!P164,0)+IF(ISNUMBER(CSVデータ4!P164),CSVデータ4!P164,0)","v":0},null,{"$f":"IF(ISNUMBER(CSVデータ1!R164),CSVデータ1!R164,0)+IF(ISNUMBER(CSVデータ2!R164),CSVデータ2!R164,0)+IF(ISNUMBER(CSVデータ3!R164),CSVデータ3!R164,0)+IF(ISNUMBER(CSVデータ4!R164),CSVデータ4!R164,0)","v":2},null,{"$f":"IF(ISNUMBER(CSVデータ1!T164),CSVデータ1!T164,0)+IF(ISNUMBER(CSVデータ2!T164),CSVデータ2!T164,0)+IF(ISNUMBER(CSVデータ3!T164),CSVデータ3!T164,0)+IF(ISNUMBER(CSVデータ4!T164),CSVデータ4!T164,0)","v":2},null,{"$f":"IF(ISNUMBER(CSVデータ1!V164),CSVデータ1!V164,0)+IF(ISNUMBER(CSVデータ2!V164),CSVデータ2!V164,0)+IF(ISNUMBER(CSVデータ3!V164),CSVデータ3!V164,0)+IF(ISNUMBER(CSVデータ4!V164),CSVデータ4!V164,0)","v":2},null,{"$f":"IF(ISNUMBER(CSVデータ1!X164),CSVデータ1!X164,0)+IF(ISNUMBER(CSVデータ2!X164),CSVデータ2!X164,0)+IF(ISNUMBER(CSVデータ3!X164),CSVデータ3!X164,0)+IF(ISNUMBER(CSVデータ4!X164),CSVデータ4!X164,0)","v":3},null,{"$f":"IF(ISNUMBER(CSVデータ1!Z164),CSVデータ1!Z164,0)+IF(ISNUMBER(CSVデータ2!Z164),CSVデータ2!Z164,0)+IF(ISNUMBER(CSVデータ3!Z164),CSVデータ3!Z164,0)+IF(ISNUMBER(CSVデータ4!Z164),CSVデータ4!Z164,0)","v":4},null,{"$f":"IF(ISNUMBER(CSVデータ1!AB164),CSVデータ1!AB164,0)+IF(ISNUMBER(CSVデータ2!AB164),CSVデータ2!AB164,0)+IF(ISNUMBER(CSVデータ3!AB164),CSVデータ3!AB164,0)+IF(ISNUMBER(CSVデータ4!AB164),CSVデータ4!AB164,0)","v":0},null,{"$f":"IF(ISNUMBER(CSVデータ1!AD164),CSVデータ1!AD164,0)+IF(ISNUMBER(CSVデータ2!AD164),CSVデータ2!AD164,0)+IF(ISNUMBER(CSVデータ3!AD164),CSVデータ3!AD164,0)+IF(ISNUMBER(CSVデータ4!AD164),CSVデータ4!AD164,0)","v":1},null,{"$f":"IF(ISNUMBER(CSVデータ1!AF164),CSVデータ1!AF164,0)+IF(ISNUMBER(CSVデータ2!AF164),CSVデータ2!AF164,0)+IF(ISNUMBER(CSVデータ3!AF164),CSVデータ3!AF164,0)+IF(ISNUMBER(CSVデータ4!AF164),CSVデータ4!AF164,0)","v":0},null,{"$f":"IF(ISNUMBER(CSVデータ1!AH164),CSVデータ1!AH164,0)+IF(ISNUMBER(CSVデータ2!AH164),CSVデータ2!AH164,0)+IF(ISNUMBER(CSVデータ3!AH164),CSVデータ3!AH164,0)+IF(ISNUMBER(CSVデータ4!AH164),CSVデータ4!AH164,0)","v":0},null,{"$f":"IF(ISNUMBER(CSVデータ1!AJ164),CSVデータ1!AJ164,0)+IF(ISNUMBER(CSVデータ2!AJ164),CSVデータ2!AJ164,0)+IF(ISNUMBER(CSVデータ3!AJ164),CSVデータ3!AJ164,0)+IF(ISNUMBER(CSVデータ4!AJ164),CSVデータ4!AJ164,0)","v":0},null,{"$f":"IF(ISNUMBER(CSVデータ1!AL164),CSVデータ1!AL164,0)+IF(ISNUMBER(CSVデータ2!AL164),CSVデータ2!AL164,0)+IF(ISNUMBER(CSVデータ3!AL164),CSVデータ3!AL164,0)+IF(ISNUMBER(CSVデータ4!AL164),CSVデータ4!AL164,0)","v":0},null,{"$f":"IF(ISNUMBER(CSVデータ1!AN164),CSVデータ1!AN164,0)+IF(ISNUMBER(CSVデータ2!AN164),CSVデータ2!AN164,0)+IF(ISNUMBER(CSVデータ3!AN164),CSVデータ3!AN164,0)+IF(ISNUMBER(CSVデータ4!AN164),CSVデータ4!AN164,0)","v":0}]
[{"$f":"CSVデータ1!A165","v":"明細部"},{"$f":"CSVデータ1!B165","v":"保険者（地区）"},{"$f":"CSVデータ1!C165","v":61},{"$f":"CSVデータ1!D165","v":"男"},{"$f":"IF(ISNUMBER(CSVデータ1!E165),CSVデータ1!E165,0)+IF(ISNUMBER(CSVデータ2!E165),CSVデータ2!E165,0)+IF(ISNUMBER(CSVデータ3!E165),CSVデータ3!E165,0)+IF(ISNUMBER(CSVデータ4!E165),CSVデータ4!E165,0)","v":9},{"$f":"IF(ISNUMBER(CSVデータ1!F165),CSVデータ1!F165,0)+IF(ISNUMBER(CSVデータ2!F165),CSVデータ2!F165,0)+IF(ISNUMBER(CSVデータ3!F165),CSVデータ3!F165,0)+IF(ISNUMBER(CSVデータ4!F165),CSVデータ4!F165,0)","v":2},null,{"$f":"IF(ISNUMBER(CSVデータ1!H165),CSVデータ1!H165,0)+IF(ISNUMBER(CSVデータ2!H165),CSVデータ2!H165,0)+IF(ISNUMBER(CSVデータ3!H165),CSVデータ3!H165,0)+IF(ISNUMBER(CSVデータ4!H165),CSVデータ4!H165,0)","v":3},null,{"$f":"IF(ISNUMBER(CSVデータ1!J165),CSVデータ1!J165,0)+IF(ISNUMBER(CSVデータ2!J165),CSVデータ2!J165,0)+IF(ISNUMBER(CSVデータ3!J165),CSVデータ3!J165,0)+IF(ISNUMBER(CSVデータ4!J165),CSVデータ4!J165,0)","v":0},null,{"$f":"IF(ISNUMBER(CSVデータ1!L165),CSVデータ1!L165,0)+IF(ISNUMBER(CSVデータ2!L165),CSVデータ2!L165,0)+IF(ISNUMBER(CSVデータ3!L165),CSVデータ3!L165,0)+IF(ISNUMBER(CSVデータ4!L165),CSVデータ4!L165,0)","v":0},null,{"$f":"IF(ISNUMBER(CSVデータ1!N165),CSVデータ1!N165,0)+IF(ISNUMBER(CSVデータ2!N165),CSVデータ2!N165,0)+IF(ISNUMBER(CSVデータ3!N165),CSVデータ3!N165,0)+IF(ISNUMBER(CSVデータ4!N165),CSVデータ4!N165,0)","v":2},null,{"$f":"IF(ISNUMBER(CSVデータ1!P165),CSVデータ1!P165,0)+IF(ISNUMBER(CSVデータ2!P165),CSVデータ2!P165,0)+IF(ISNUMBER(CSVデータ3!P165),CSVデータ3!P165,0)+IF(ISNUMBER(CSVデータ4!P165),CSVデータ4!P165,0)","v":0},null,{"$f":"IF(ISNUMBER(CSVデータ1!R165),CSVデータ1!R165,0)+IF(ISNUMBER(CSVデータ2!R165),CSVデータ2!R165,0)+IF(ISNUMBER(CSVデータ3!R165),CSVデータ3!R165,0)+IF(ISNUMBER(CSVデータ4!R165),CSVデータ4!R165,0)","v":3},null,{"$f":"IF(ISNUMBER(CSVデータ1!T165),CSVデータ1!T165,0)+IF(ISNUMBER(CSVデータ2!T165),CSVデータ2!T165,0)+IF(ISNUMBER(CSVデータ3!T165),CSVデータ3!T165,0)+IF(ISNUMBER(CSVデータ4!T165),CSVデータ4!T165,0)","v":1},null,{"$f":"IF(ISNUMBER(CSVデータ1!V165),CSVデータ1!V165,0)+IF(ISNUMBER(CSVデータ2!V165),CSVデータ2!V165,0)+IF(ISNUMBER(CSVデータ3!V165),CSVデータ3!V165,0)+IF(ISNUMBER(CSVデータ4!V165),CSVデータ4!V165,0)","v":5},null,{"$f":"IF(ISNUMBER(CSVデータ1!X165),CSVデータ1!X165,0)+IF(ISNUMBER(CSVデータ2!X165),CSVデータ2!X165,0)+IF(ISNUMBER(CSVデータ3!X165),CSVデータ3!X165,0)+IF(ISNUMBER(CSVデータ4!X165),CSVデータ4!X165,0)","v":1},null,{"$f":"IF(ISNUMBER(CSVデータ1!Z165),CSVデータ1!Z165,0)+IF(ISNUMBER(CSVデータ2!Z165),CSVデータ2!Z165,0)+IF(ISNUMBER(CSVデータ3!Z165),CSVデータ3!Z165,0)+IF(ISNUMBER(CSVデータ4!Z165),CSVデータ4!Z165,0)","v":3},null,{"$f":"IF(ISNUMBER(CSVデータ1!AB165),CSVデータ1!AB165,0)+IF(ISNUMBER(CSVデータ2!AB165),CSVデータ2!AB165,0)+IF(ISNUMBER(CSVデータ3!AB165),CSVデータ3!AB165,0)+IF(ISNUMBER(CSVデータ4!AB165),CSVデータ4!AB165,0)","v":0},null,{"$f":"IF(ISNUMBER(CSVデータ1!AD165),CSVデータ1!AD165,0)+IF(ISNUMBER(CSVデータ2!AD165),CSVデータ2!AD165,0)+IF(ISNUMBER(CSVデータ3!AD165),CSVデータ3!AD165,0)+IF(ISNUMBER(CSVデータ4!AD165),CSVデータ4!AD165,0)","v":1},null,{"$f":"IF(ISNUMBER(CSVデータ1!AF165),CSVデータ1!AF165,0)+IF(ISNUMBER(CSVデータ2!AF165),CSVデータ2!AF165,0)+IF(ISNUMBER(CSVデータ3!AF165),CSVデータ3!AF165,0)+IF(ISNUMBER(CSVデータ4!AF165),CSVデータ4!AF165,0)","v":0},null,{"$f":"IF(ISNUMBER(CSVデータ1!AH165),CSVデータ1!AH165,0)+IF(ISNUMBER(CSVデータ2!AH165),CSVデータ2!AH165,0)+IF(ISNUMBER(CSVデータ3!AH165),CSVデータ3!AH165,0)+IF(ISNUMBER(CSVデータ4!AH165),CSVデータ4!AH165,0)","v":0},null,{"$f":"IF(ISNUMBER(CSVデータ1!AJ165),CSVデータ1!AJ165,0)+IF(ISNUMBER(CSVデータ2!AJ165),CSVデータ2!AJ165,0)+IF(ISNUMBER(CSVデータ3!AJ165),CSVデータ3!AJ165,0)+IF(ISNUMBER(CSVデータ4!AJ165),CSVデータ4!AJ165,0)","v":0},null,{"$f":"IF(ISNUMBER(CSVデータ1!AL165),CSVデータ1!AL165,0)+IF(ISNUMBER(CSVデータ2!AL165),CSVデータ2!AL165,0)+IF(ISNUMBER(CSVデータ3!AL165),CSVデータ3!AL165,0)+IF(ISNUMBER(CSVデータ4!AL165),CSVデータ4!AL165,0)","v":1},null,{"$f":"IF(ISNUMBER(CSVデータ1!AN165),CSVデータ1!AN165,0)+IF(ISNUMBER(CSVデータ2!AN165),CSVデータ2!AN165,0)+IF(ISNUMBER(CSVデータ3!AN165),CSVデータ3!AN165,0)+IF(ISNUMBER(CSVデータ4!AN165),CSVデータ4!AN165,0)","v":1}]
[{"$f":"CSVデータ1!A166","v":"明細部"},{"$f":"CSVデータ1!B166","v":"保険者（地区）"},{"$f":"CSVデータ1!C166","v":62},{"$f":"CSVデータ1!D166","v":"男"},{"$f":"IF(ISNUMBER(CSVデータ1!E166),CSVデータ1!E166,0)+IF(ISNUMBER(CSVデータ2!E166),CSVデータ2!E166,0)+IF(ISNUMBER(CSVデータ3!E166),CSVデータ3!E166,0)+IF(ISNUMBER(CSVデータ4!E166),CSVデータ4!E166,0)","v":4},{"$f":"IF(ISNUMBER(CSVデータ1!F166),CSVデータ1!F166,0)+IF(ISNUMBER(CSVデータ2!F166),CSVデータ2!F166,0)+IF(ISNUMBER(CSVデータ3!F166),CSVデータ3!F166,0)+IF(ISNUMBER(CSVデータ4!F166),CSVデータ4!F166,0)","v":2},null,{"$f":"IF(ISNUMBER(CSVデータ1!H166),CSVデータ1!H166,0)+IF(ISNUMBER(CSVデータ2!H166),CSVデータ2!H166,0)+IF(ISNUMBER(CSVデータ3!H166),CSVデータ3!H166,0)+IF(ISNUMBER(CSVデータ4!H166),CSVデータ4!H166,0)","v":3},null,{"$f":"IF(ISNUMBER(CSVデータ1!J166),CSVデータ1!J166,0)+IF(ISNUMBER(CSVデータ2!J166),CSVデータ2!J166,0)+IF(ISNUMBER(CSVデータ3!J166),CSVデータ3!J166,0)+IF(ISNUMBER(CSVデータ4!J166),CSVデータ4!J166,0)","v":1},null,{"$f":"IF(ISNUMBER(CSVデータ1!L166),CSVデータ1!L166,0)+IF(ISNUMBER(CSVデータ2!L166),CSVデータ2!L166,0)+IF(ISNUMBER(CSVデータ3!L166),CSVデータ3!L166,0)+IF(ISNUMBER(CSVデータ4!L166),CSVデータ4!L166,0)","v":0},null,{"$f":"IF(ISNUMBER(CSVデータ1!N166),CSVデータ1!N166,0)+IF(ISNUMBER(CSVデータ2!N166),CSVデータ2!N166,0)+IF(ISNUMBER(CSVデータ3!N166),CSVデータ3!N166,0)+IF(ISNUMBER(CSVデータ4!N166),CSVデータ4!N166,0)","v":0},null,{"$f":"IF(ISNUMBER(CSVデータ1!P166),CSVデータ1!P166,0)+IF(ISNUMBER(CSVデータ2!P166),CSVデータ2!P166,0)+IF(ISNUMBER(CSVデータ3!P166),CSVデータ3!P166,0)+IF(ISNUMBER(CSVデータ4!P166),CSVデータ4!P166,0)","v":1},null,{"$f":"IF(ISNUMBER(CSVデータ1!R166),CSVデータ1!R166,0)+IF(ISNUMBER(CSVデータ2!R166),CSVデータ2!R166,0)+IF(ISNUMBER(CSVデータ3!R166),CSVデータ3!R166,0)+IF(ISNUMBER(CSVデータ4!R166),CSVデータ4!R166,0)","v":3},null,{"$f":"IF(ISNUMBER(CSVデータ1!T166),CSVデータ1!T166,0)+IF(ISNUMBER(CSVデータ2!T166),CSVデータ2!T166,0)+IF(ISNUMBER(CSVデータ3!T166),CSVデータ3!T166,0)+IF(ISNUMBER(CSVデータ4!T166),CSVデータ4!T166,0)","v":1},null,{"$f":"IF(ISNUMBER(CSVデータ1!V166),CSVデータ1!V166,0)+IF(ISNUMBER(CSVデータ2!V166),CSVデータ2!V166,0)+IF(ISNUMBER(CSVデータ3!V166),CSVデータ3!V166,0)+IF(ISNUMBER(CSVデータ4!V166),CSVデータ4!V166,0)","v":2},null,{"$f":"IF(ISNUMBER(CSVデータ1!X166),CSVデータ1!X166,0)+IF(ISNUMBER(CSVデータ2!X166),CSVデータ2!X166,0)+IF(ISNUMBER(CSVデータ3!X166),CSVデータ3!X166,0)+IF(ISNUMBER(CSVデータ4!X166),CSVデータ4!X166,0)","v":0},null,{"$f":"IF(ISNUMBER(CSVデータ1!Z166),CSVデータ1!Z166,0)+IF(ISNUMBER(CSVデータ2!Z166),CSVデータ2!Z166,0)+IF(ISNUMBER(CSVデータ3!Z166),CSVデータ3!Z166,0)+IF(ISNUMBER(CSVデータ4!Z166),CSVデータ4!Z166,0)","v":0},null,{"$f":"IF(ISNUMBER(CSVデータ1!AB166),CSVデータ1!AB166,0)+IF(ISNUMBER(CSVデータ2!AB166),CSVデータ2!AB166,0)+IF(ISNUMBER(CSVデータ3!AB166),CSVデータ3!AB166,0)+IF(ISNUMBER(CSVデータ4!AB166),CSVデータ4!AB166,0)","v":0},null,{"$f":"IF(ISNUMBER(CSVデータ1!AD166),CSVデータ1!AD166,0)+IF(ISNUMBER(CSVデータ2!AD166),CSVデータ2!AD166,0)+IF(ISNUMBER(CSVデータ3!AD166),CSVデータ3!AD166,0)+IF(ISNUMBER(CSVデータ4!AD166),CSVデータ4!AD166,0)","v":1},null,{"$f":"IF(ISNUMBER(CSVデータ1!AF166),CSVデータ1!AF166,0)+IF(ISNUMBER(CSVデータ2!AF166),CSVデータ2!AF166,0)+IF(ISNUMBER(CSVデータ3!AF166),CSVデータ3!AF166,0)+IF(ISNUMBER(CSVデータ4!AF166),CSVデータ4!AF166,0)","v":0},null,{"$f":"IF(ISNUMBER(CSVデータ1!AH166),CSVデータ1!AH166,0)+IF(ISNUMBER(CSVデータ2!AH166),CSVデータ2!AH166,0)+IF(ISNUMBER(CSVデータ3!AH166),CSVデータ3!AH166,0)+IF(ISNUMBER(CSVデータ4!AH166),CSVデータ4!AH166,0)","v":0},null,{"$f":"IF(ISNUMBER(CSVデータ1!AJ166),CSVデータ1!AJ166,0)+IF(ISNUMBER(CSVデータ2!AJ166),CSVデータ2!AJ166,0)+IF(ISNUMBER(CSVデータ3!AJ166),CSVデータ3!AJ166,0)+IF(ISNUMBER(CSVデータ4!AJ166),CSVデータ4!AJ166,0)","v":0},null,{"$f":"IF(ISNUMBER(CSVデータ1!AL166),CSVデータ1!AL166,0)+IF(ISNUMBER(CSVデータ2!AL166),CSVデータ2!AL166,0)+IF(ISNUMBER(CSVデータ3!AL166),CSVデータ3!AL166,0)+IF(ISNUMBER(CSVデータ4!AL166),CSVデータ4!AL166,0)","v":1},null,{"$f":"IF(ISNUMBER(CSVデータ1!AN166),CSVデータ1!AN166,0)+IF(ISNUMBER(CSVデータ2!AN166),CSVデータ2!AN166,0)+IF(ISNUMBER(CSVデータ3!AN166),CSVデータ3!AN166,0)+IF(ISNUMBER(CSVデータ4!AN166),CSVデータ4!AN166,0)","v":1}]
[{"$f":"CSVデータ1!A167","v":"明細部"},{"$f":"CSVデータ1!B167","v":"保険者（地区）"},{"$f":"CSVデータ1!C167","v":63},{"$f":"CSVデータ1!D167","v":"男"},{"$f":"IF(ISNUMBER(CSVデータ1!E167),CSVデータ1!E167,0)+IF(ISNUMBER(CSVデータ2!E167),CSVデータ2!E167,0)+IF(ISNUMBER(CSVデータ3!E167),CSVデータ3!E167,0)+IF(ISNUMBER(CSVデータ4!E167),CSVデータ4!E167,0)","v":7},{"$f":"IF(ISNUMBER(CSVデータ1!F167),CSVデータ1!F167,0)+IF(ISNUMBER(CSVデータ2!F167),CSVデータ2!F167,0)+IF(ISNUMBER(CSVデータ3!F167),CSVデータ3!F167,0)+IF(ISNUMBER(CSVデータ4!F167),CSVデータ4!F167,0)","v":3},null,{"$f":"IF(ISNUMBER(CSVデータ1!H167),CSVデータ1!H167,0)+IF(ISNUMBER(CSVデータ2!H167),CSVデータ2!H167,0)+IF(ISNUMBER(CSVデータ3!H167),CSVデータ3!H167,0)+IF(ISNUMBER(CSVデータ4!H167),CSVデータ4!H167,0)","v":5},null,{"$f":"IF(ISNUMBER(CSVデータ1!J167),CSVデータ1!J167,0)+IF(ISNUMBER(CSVデータ2!J167),CSVデータ2!J167,0)+IF(ISNUMBER(CSVデータ3!J167),CSVデータ3!J167,0)+IF(ISNUMBER(CSVデータ4!J167),CSVデータ4!J167,0)","v":3},null,{"$f":"IF(ISNUMBER(CSVデータ1!L167),CSVデータ1!L167,0)+IF(ISNUMBER(CSVデータ2!L167),CSVデータ2!L167,0)+IF(ISNUMBER(CSVデータ3!L167),CSVデータ3!L167,0)+IF(ISNUMBER(CSVデータ4!L167),CSVデータ4!L167,0)","v":2},null,{"$f":"IF(ISNUMBER(CSVデータ1!N167),CSVデータ1!N167,0)+IF(ISNUMBER(CSVデータ2!N167),CSVデータ2!N167,0)+IF(ISNUMBER(CSVデータ3!N167),CSVデータ3!N167,0)+IF(ISNUMBER(CSVデータ4!N167),CSVデータ4!N167,0)","v":0},null,{"$f":"IF(ISNUMBER(CSVデータ1!P167),CSVデータ1!P167,0)+IF(ISNUMBER(CSVデータ2!P167),CSVデータ2!P167,0)+IF(ISNUMBER(CSVデータ3!P167),CSVデータ3!P167,0)+IF(ISNUMBER(CSVデータ4!P167),CSVデータ4!P167,0)","v":4},null,{"$f":"IF(ISNUMBER(CSVデータ1!R167),CSVデータ1!R167,0)+IF(ISNUMBER(CSVデータ2!R167),CSVデータ2!R167,0)+IF(ISNUMBER(CSVデータ3!R167),CSVデータ3!R167,0)+IF(ISNUMBER(CSVデータ4!R167),CSVデータ4!R167,0)","v":3},null,{"$f":"IF(ISNUMBER(CSVデータ1!T167),CSVデータ1!T167,0)+IF(ISNUMBER(CSVデータ2!T167),CSVデータ2!T167,0)+IF(ISNUMBER(CSVデータ3!T167),CSVデータ3!T167,0)+IF(ISNUMBER(CSVデータ4!T167),CSVデータ4!T167,0)","v":1},null,{"$f":"IF(ISNUMBER(CSVデータ1!V167),CSVデータ1!V167,0)+IF(ISNUMBER(CSVデータ2!V167),CSVデータ2!V167,0)+IF(ISNUMBER(CSVデータ3!V167),CSVデータ3!V167,0)+IF(ISNUMBER(CSVデータ4!V167),CSVデータ4!V167,0)","v":2},null,{"$f":"IF(ISNUMBER(CSVデータ1!X167),CSVデータ1!X167,0)+IF(ISNUMBER(CSVデータ2!X167),CSVデータ2!X167,0)+IF(ISNUMBER(CSVデータ3!X167),CSVデータ3!X167,0)+IF(ISNUMBER(CSVデータ4!X167),CSVデータ4!X167,0)","v":1},null,{"$f":"IF(ISNUMBER(CSVデータ1!Z167),CSVデータ1!Z167,0)+IF(ISNUMBER(CSVデータ2!Z167),CSVデータ2!Z167,0)+IF(ISNUMBER(CSVデータ3!Z167),CSVデータ3!Z167,0)+IF(ISNUMBER(CSVデータ4!Z167),CSVデータ4!Z167,0)","v":3},null,{"$f":"IF(ISNUMBER(CSVデータ1!AB167),CSVデータ1!AB167,0)+IF(ISNUMBER(CSVデータ2!AB167),CSVデータ2!AB167,0)+IF(ISNUMBER(CSVデータ3!AB167),CSVデータ3!AB167,0)+IF(ISNUMBER(CSVデータ4!AB167),CSVデータ4!AB167,0)","v":0},null,{"$f":"IF(ISNUMBER(CSVデータ1!AD167),CSVデータ1!AD167,0)+IF(ISNUMBER(CSVデータ2!AD167),CSVデータ2!AD167,0)+IF(ISNUMBER(CSVデータ3!AD167),CSVデータ3!AD167,0)+IF(ISNUMBER(CSVデータ4!AD167),CSVデータ4!AD167,0)","v":1},null,{"$f":"IF(ISNUMBER(CSVデータ1!AF167),CSVデータ1!AF167,0)+IF(ISNUMBER(CSVデータ2!AF167),CSVデータ2!AF167,0)+IF(ISNUMBER(CSVデータ3!AF167),CSVデータ3!AF167,0)+IF(ISNUMBER(CSVデータ4!AF167),CSVデータ4!AF167,0)","v":0},null,{"$f":"IF(ISNUMBER(CSVデータ1!AH167),CSVデータ1!AH167,0)+IF(ISNUMBER(CSVデータ2!AH167),CSVデータ2!AH167,0)+IF(ISNUMBER(CSVデータ3!AH167),CSVデータ3!AH167,0)+IF(ISNUMBER(CSVデータ4!AH167),CSVデータ4!AH167,0)","v":0},null,{"$f":"IF(ISNUMBER(CSVデータ1!AJ167),CSVデータ1!AJ167,0)+IF(ISNUMBER(CSVデータ2!AJ167),CSVデータ2!AJ167,0)+IF(ISNUMBER(CSVデータ3!AJ167),CSVデータ3!AJ167,0)+IF(ISNUMBER(CSVデータ4!AJ167),CSVデータ4!AJ167,0)","v":0},null,{"$f":"IF(ISNUMBER(CSVデータ1!AL167),CSVデータ1!AL167,0)+IF(ISNUMBER(CSVデータ2!AL167),CSVデータ2!AL167,0)+IF(ISNUMBER(CSVデータ3!AL167),CSVデータ3!AL167,0)+IF(ISNUMBER(CSVデータ4!AL167),CSVデータ4!AL167,0)","v":0},null,{"$f":"IF(ISNUMBER(CSVデータ1!AN167),CSVデータ1!AN167,0)+IF(ISNUMBER(CSVデータ2!AN167),CSVデータ2!AN167,0)+IF(ISNUMBER(CSVデータ3!AN167),CSVデータ3!AN167,0)+IF(ISNUMBER(CSVデータ4!AN167),CSVデータ4!AN167,0)","v":0}]
[{"$f":"CSVデータ1!A168","v":"明細部"},{"$f":"CSVデータ1!B168","v":"保険者（地区）"},{"$f":"CSVデータ1!C168","v":64},{"$f":"CSVデータ1!D168","v":"男"},{"$f":"IF(ISNUMBER(CSVデータ1!E168),CSVデータ1!E168,0)+IF(ISNUMBER(CSVデータ2!E168),CSVデータ2!E168,0)+IF(ISNUMBER(CSVデータ3!E168),CSVデータ3!E168,0)+IF(ISNUMBER(CSVデータ4!E168),CSVデータ4!E168,0)","v":13},{"$f":"IF(ISNUMBER(CSVデータ1!F168),CSVデータ1!F168,0)+IF(ISNUMBER(CSVデータ2!F168),CSVデータ2!F168,0)+IF(ISNUMBER(CSVデータ3!F168),CSVデータ3!F168,0)+IF(ISNUMBER(CSVデータ4!F168),CSVデータ4!F168,0)","v":3},null,{"$f":"IF(ISNUMBER(CSVデータ1!H168),CSVデータ1!H168,0)+IF(ISNUMBER(CSVデータ2!H168),CSVデータ2!H168,0)+IF(ISNUMBER(CSVデータ3!H168),CSVデータ3!H168,0)+IF(ISNUMBER(CSVデータ4!H168),CSVデータ4!H168,0)","v":8},null,{"$f":"IF(ISNUMBER(CSVデータ1!J168),CSVデータ1!J168,0)+IF(ISNUMBER(CSVデータ2!J168),CSVデータ2!J168,0)+IF(ISNUMBER(CSVデータ3!J168),CSVデータ3!J168,0)+IF(ISNUMBER(CSVデータ4!J168),CSVデータ4!J168,0)","v":1},null,{"$f":"IF(ISNUMBER(CSVデータ1!L168),CSVデータ1!L168,0)+IF(ISNUMBER(CSVデータ2!L168),CSVデータ2!L168,0)+IF(ISNUMBER(CSVデータ3!L168),CSVデータ3!L168,0)+IF(ISNUMBER(CSVデータ4!L168),CSVデータ4!L168,0)","v":2},null,{"$f":"IF(ISNUMBER(CSVデータ1!N168),CSVデータ1!N168,0)+IF(ISNUMBER(CSVデータ2!N168),CSVデータ2!N168,0)+IF(ISNUMBER(CSVデータ3!N168),CSVデータ3!N168,0)+IF(ISNUMBER(CSVデータ4!N168),CSVデータ4!N168,0)","v":0},null,{"$f":"IF(ISNUMBER(CSVデータ1!P168),CSVデータ1!P168,0)+IF(ISNUMBER(CSVデータ2!P168),CSVデータ2!P168,0)+IF(ISNUMBER(CSVデータ3!P168),CSVデータ3!P168,0)+IF(ISNUMBER(CSVデータ4!P168),CSVデータ4!P168,0)","v":3},null,{"$f":"IF(ISNUMBER(CSVデータ1!R168),CSVデータ1!R168,0)+IF(ISNUMBER(CSVデータ2!R168),CSVデータ2!R168,0)+IF(ISNUMBER(CSVデータ3!R168),CSVデータ3!R168,0)+IF(ISNUMBER(CSVデータ4!R168),CSVデータ4!R168,0)","v":5},null,{"$f":"IF(ISNUMBER(CSVデータ1!T168),CSVデータ1!T168,0)+IF(ISNUMBER(CSVデータ2!T168),CSVデータ2!T168,0)+IF(ISNUMBER(CSVデータ3!T168),CSVデータ3!T168,0)+IF(ISNUMBER(CSVデータ4!T168),CSVデータ4!T168,0)","v":1},null,{"$f":"IF(ISNUMBER(CSVデータ1!V168),CSVデータ1!V168,0)+IF(ISNUMBER(CSVデータ2!V168),CSVデータ2!V168,0)+IF(ISNUMBER(CSVデータ3!V168),CSVデータ3!V168,0)+IF(ISNUMBER(CSVデータ4!V168),CSVデータ4!V168,0)","v":6},null,{"$f":"IF(ISNUMBER(CSVデータ1!X168),CSVデータ1!X168,0)+IF(ISNUMBER(CSVデータ2!X168),CSVデータ2!X168,0)+IF(ISNUMBER(CSVデータ3!X168),CSVデータ3!X168,0)+IF(ISNUMBER(CSVデータ4!X168),CSVデータ4!X168,0)","v":3},null,{"$f":"IF(ISNUMBER(CSVデータ1!Z168),CSVデータ1!Z168,0)+IF(ISNUMBER(CSVデータ2!Z168),CSVデータ2!Z168,0)+IF(ISNUMBER(CSVデータ3!Z168),CSVデータ3!Z168,0)+IF(ISNUMBER(CSVデータ4!Z168),CSVデータ4!Z168,0)","v":3},null,{"$f":"IF(ISNUMBER(CSVデータ1!AB168),CSVデータ1!AB168,0)+IF(ISNUMBER(CSVデータ2!AB168),CSVデータ2!AB168,0)+IF(ISNUMBER(CSVデータ3!AB168),CSVデータ3!AB168,0)+IF(ISNUMBER(CSVデータ4!AB168),CSVデータ4!AB168,0)","v":0},null,{"$f":"IF(ISNUMBER(CSVデータ1!AD168),CSVデータ1!AD168,0)+IF(ISNUMBER(CSVデータ2!AD168),CSVデータ2!AD168,0)+IF(ISNUMBER(CSVデータ3!AD168),CSVデータ3!AD168,0)+IF(ISNUMBER(CSVデータ4!AD168),CSVデータ4!AD168,0)","v":6},null,{"$f":"IF(ISNUMBER(CSVデータ1!AF168),CSVデータ1!AF168,0)+IF(ISNUMBER(CSVデータ2!AF168),CSVデータ2!AF168,0)+IF(ISNUMBER(CSVデータ3!AF168),CSVデータ3!AF168,0)+IF(ISNUMBER(CSVデータ4!AF168),CSVデータ4!AF168,0)","v":0},null,{"$f":"IF(ISNUMBER(CSVデータ1!AH168),CSVデータ1!AH168,0)+IF(ISNUMBER(CSVデータ2!AH168),CSVデータ2!AH168,0)+IF(ISNUMBER(CSVデータ3!AH168),CSVデータ3!AH168,0)+IF(ISNUMBER(CSVデータ4!AH168),CSVデータ4!AH168,0)","v":0},null,{"$f":"IF(ISNUMBER(CSVデータ1!AJ168),CSVデータ1!AJ168,0)+IF(ISNUMBER(CSVデータ2!AJ168),CSVデータ2!AJ168,0)+IF(ISNUMBER(CSVデータ3!AJ168),CSVデータ3!AJ168,0)+IF(ISNUMBER(CSVデータ4!AJ168),CSVデータ4!AJ168,0)","v":0},null,{"$f":"IF(ISNUMBER(CSVデータ1!AL168),CSVデータ1!AL168,0)+IF(ISNUMBER(CSVデータ2!AL168),CSVデータ2!AL168,0)+IF(ISNUMBER(CSVデータ3!AL168),CSVデータ3!AL168,0)+IF(ISNUMBER(CSVデータ4!AL168),CSVデータ4!AL168,0)","v":3},null,{"$f":"IF(ISNUMBER(CSVデータ1!AN168),CSVデータ1!AN168,0)+IF(ISNUMBER(CSVデータ2!AN168),CSVデータ2!AN168,0)+IF(ISNUMBER(CSVデータ3!AN168),CSVデータ3!AN168,0)+IF(ISNUMBER(CSVデータ4!AN168),CSVデータ4!AN168,0)","v":0}]
[{"$f":"CSVデータ1!A169","v":"明細部"},{"$f":"CSVデータ1!B169","v":"保険者（地区）"},{"$f":"CSVデータ1!C169","v":65},{"$f":"CSVデータ1!D169","v":"男"},{"$f":"IF(ISNUMBER(CSVデータ1!E169),CSVデータ1!E169,0)+IF(ISNUMBER(CSVデータ2!E169),CSVデータ2!E169,0)+IF(ISNUMBER(CSVデータ3!E169),CSVデータ3!E169,0)+IF(ISNUMBER(CSVデータ4!E169),CSVデータ4!E169,0)","v":8},{"$f":"IF(ISNUMBER(CSVデータ1!F169),CSVデータ1!F169,0)+IF(ISNUMBER(CSVデータ2!F169),CSVデータ2!F169,0)+IF(ISNUMBER(CSVデータ3!F169),CSVデータ3!F169,0)+IF(ISNUMBER(CSVデータ4!F169),CSVデータ4!F169,0)","v":3},null,{"$f":"IF(ISNUMBER(CSVデータ1!H169),CSVデータ1!H169,0)+IF(ISNUMBER(CSVデータ2!H169),CSVデータ2!H169,0)+IF(ISNUMBER(CSVデータ3!H169),CSVデータ3!H169,0)+IF(ISNUMBER(CSVデータ4!H169),CSVデータ4!H169,0)","v":3},null,{"$f":"IF(ISNUMBER(CSVデータ1!J169),CSVデータ1!J169,0)+IF(ISNUMBER(CSVデータ2!J169),CSVデータ2!J169,0)+IF(ISNUMBER(CSVデータ3!J169),CSVデータ3!J169,0)+IF(ISNUMBER(CSVデータ4!J169),CSVデータ4!J169,0)","v":0},null,{"$f":"IF(ISNUMBER(CSVデータ1!L169),CSVデータ1!L169,0)+IF(ISNUMBER(CSVデータ2!L169),CSVデータ2!L169,0)+IF(ISNUMBER(CSVデータ3!L169),CSVデータ3!L169,0)+IF(ISNUMBER(CSVデータ4!L169),CSVデータ4!L169,0)","v":3},null,{"$f":"IF(ISNUMBER(CSVデータ1!N169),CSVデータ1!N169,0)+IF(ISNUMBER(CSVデータ2!N169),CSVデータ2!N169,0)+IF(ISNUMBER(CSVデータ3!N169),CSVデータ3!N169,0)+IF(ISNUMBER(CSVデータ4!N169),CSVデータ4!N169,0)","v":2},null,{"$f":"IF(ISNUMBER(CSVデータ1!P169),CSVデータ1!P169,0)+IF(ISNUMBER(CSVデータ2!P169),CSVデータ2!P169,0)+IF(ISNUMBER(CSVデータ3!P169),CSVデータ3!P169,0)+IF(ISNUMBER(CSVデータ4!P169),CSVデータ4!P169,0)","v":2},null,{"$f":"IF(ISNUMBER(CSVデータ1!R169),CSVデータ1!R169,0)+IF(ISNUMBER(CSVデータ2!R169),CSVデータ2!R169,0)+IF(ISNUMBER(CSVデータ3!R169),CSVデータ3!R169,0)+IF(ISNUMBER(CSVデータ4!R169),CSVデータ4!R169,0)","v":4},null,{"$f":"IF(ISNUMBER(CSVデータ1!T169),CSVデータ1!T169,0)+IF(ISNUMBER(CSVデータ2!T169),CSVデータ2!T169,0)+IF(ISNUMBER(CSVデータ3!T169),CSVデータ3!T169,0)+IF(ISNUMBER(CSVデータ4!T169),CSVデータ4!T169,0)","v":0},null,{"$f":"IF(ISNUMBER(CSVデータ1!V169),CSVデータ1!V169,0)+IF(ISNUMBER(CSVデータ2!V169),CSVデータ2!V169,0)+IF(ISNUMBER(CSVデータ3!V169),CSVデータ3!V169,0)+IF(ISNUMBER(CSVデータ4!V169),CSVデータ4!V169,0)","v":3},null,{"$f":"IF(ISNUMBER(CSVデータ1!X169),CSVデータ1!X169,0)+IF(ISNUMBER(CSVデータ2!X169),CSVデータ2!X169,0)+IF(ISNUMBER(CSVデータ3!X169),CSVデータ3!X169,0)+IF(ISNUMBER(CSVデータ4!X169),CSVデータ4!X169,0)","v":2},null,{"$f":"IF(ISNUMBER(CSVデータ1!Z169),CSVデータ1!Z169,0)+IF(ISNUMBER(CSVデータ2!Z169),CSVデータ2!Z169,0)+IF(ISNUMBER(CSVデータ3!Z169),CSVデータ3!Z169,0)+IF(ISNUMBER(CSVデータ4!Z169),CSVデータ4!Z169,0)","v":3},null,{"$f":"IF(ISNUMBER(CSVデータ1!AB169),CSVデータ1!AB169,0)+IF(ISNUMBER(CSVデータ2!AB169),CSVデータ2!AB169,0)+IF(ISNUMBER(CSVデータ3!AB169),CSVデータ3!AB169,0)+IF(ISNUMBER(CSVデータ4!AB169),CSVデータ4!AB169,0)","v":0},null,{"$f":"IF(ISNUMBER(CSVデータ1!AD169),CSVデータ1!AD169,0)+IF(ISNUMBER(CSVデータ2!AD169),CSVデータ2!AD169,0)+IF(ISNUMBER(CSVデータ3!AD169),CSVデータ3!AD169,0)+IF(ISNUMBER(CSVデータ4!AD169),CSVデータ4!AD169,0)","v":2},null,{"$f":"IF(ISNUMBER(CSVデータ1!AF169),CSVデータ1!AF169,0)+IF(ISNUMBER(CSVデータ2!AF169),CSVデータ2!AF169,0)+IF(ISNUMBER(CSVデータ3!AF169),CSVデータ3!AF169,0)+IF(ISNUMBER(CSVデータ4!AF169),CSVデータ4!AF169,0)","v":0},null,{"$f":"IF(ISNUMBER(CSVデータ1!AH169),CSVデータ1!AH169,0)+IF(ISNUMBER(CSVデータ2!AH169),CSVデータ2!AH169,0)+IF(ISNUMBER(CSVデータ3!AH169),CSVデータ3!AH169,0)+IF(ISNUMBER(CSVデータ4!AH169),CSVデータ4!AH169,0)","v":2},null,{"$f":"IF(ISNUMBER(CSVデータ1!AJ169),CSVデータ1!AJ169,0)+IF(ISNUMBER(CSVデータ2!AJ169),CSVデータ2!AJ169,0)+IF(ISNUMBER(CSVデータ3!AJ169),CSVデータ3!AJ169,0)+IF(ISNUMBER(CSVデータ4!AJ169),CSVデータ4!AJ169,0)","v":0},null,{"$f":"IF(ISNUMBER(CSVデータ1!AL169),CSVデータ1!AL169,0)+IF(ISNUMBER(CSVデータ2!AL169),CSVデータ2!AL169,0)+IF(ISNUMBER(CSVデータ3!AL169),CSVデータ3!AL169,0)+IF(ISNUMBER(CSVデータ4!AL169),CSVデータ4!AL169,0)","v":0},null,{"$f":"IF(ISNUMBER(CSVデータ1!AN169),CSVデータ1!AN169,0)+IF(ISNUMBER(CSVデータ2!AN169),CSVデータ2!AN169,0)+IF(ISNUMBER(CSVデータ3!AN169),CSVデータ3!AN169,0)+IF(ISNUMBER(CSVデータ4!AN169),CSVデータ4!AN169,0)","v":0}]
[{"$f":"CSVデータ1!A170","v":"明細部"},{"$f":"CSVデータ1!B170","v":"保険者（地区）"},{"$f":"CSVデータ1!C170","v":66},{"$f":"CSVデータ1!D170","v":"男"},{"$f":"IF(ISNUMBER(CSVデータ1!E170),CSVデータ1!E170,0)+IF(ISNUMBER(CSVデータ2!E170),CSVデータ2!E170,0)+IF(ISNUMBER(CSVデータ3!E170),CSVデータ3!E170,0)+IF(ISNUMBER(CSVデータ4!E170),CSVデータ4!E170,0)","v":12},{"$f":"IF(ISNUMBER(CSVデータ1!F170),CSVデータ1!F170,0)+IF(ISNUMBER(CSVデータ2!F170),CSVデータ2!F170,0)+IF(ISNUMBER(CSVデータ3!F170),CSVデータ3!F170,0)+IF(ISNUMBER(CSVデータ4!F170),CSVデータ4!F170,0)","v":4},null,{"$f":"IF(ISNUMBER(CSVデータ1!H170),CSVデータ1!H170,0)+IF(ISNUMBER(CSVデータ2!H170),CSVデータ2!H170,0)+IF(ISNUMBER(CSVデータ3!H170),CSVデータ3!H170,0)+IF(ISNUMBER(CSVデータ4!H170),CSVデータ4!H170,0)","v":6},null,{"$f":"IF(ISNUMBER(CSVデータ1!J170),CSVデータ1!J170,0)+IF(ISNUMBER(CSVデータ2!J170),CSVデータ2!J170,0)+IF(ISNUMBER(CSVデータ3!J170),CSVデータ3!J170,0)+IF(ISNUMBER(CSVデータ4!J170),CSVデータ4!J170,0)","v":5},null,{"$f":"IF(ISNUMBER(CSVデータ1!L170),CSVデータ1!L170,0)+IF(ISNUMBER(CSVデータ2!L170),CSVデータ2!L170,0)+IF(ISNUMBER(CSVデータ3!L170),CSVデータ3!L170,0)+IF(ISNUMBER(CSVデータ4!L170),CSVデータ4!L170,0)","v":4},null,{"$f":"IF(ISNUMBER(CSVデータ1!N170),CSVデータ1!N170,0)+IF(ISNUMBER(CSVデータ2!N170),CSVデータ2!N170,0)+IF(ISNUMBER(CSVデータ3!N170),CSVデータ3!N170,0)+IF(ISNUMBER(CSVデータ4!N170),CSVデータ4!N170,0)","v":0},null,{"$f":"IF(ISNUMBER(CSVデータ1!P170),CSVデータ1!P170,0)+IF(ISNUMBER(CSVデータ2!P170),CSVデータ2!P170,0)+IF(ISNUMBER(CSVデータ3!P170),CSVデータ3!P170,0)+IF(ISNUMBER(CSVデータ4!P170),CSVデータ4!P170,0)","v":5},null,{"$f":"IF(ISNUMBER(CSVデータ1!R170),CSVデータ1!R170,0)+IF(ISNUMBER(CSVデータ2!R170),CSVデータ2!R170,0)+IF(ISNUMBER(CSVデータ3!R170),CSVデータ3!R170,0)+IF(ISNUMBER(CSVデータ4!R170),CSVデータ4!R170,0)","v":7},null,{"$f":"IF(ISNUMBER(CSVデータ1!T170),CSVデータ1!T170,0)+IF(ISNUMBER(CSVデータ2!T170),CSVデータ2!T170,0)+IF(ISNUMBER(CSVデータ3!T170),CSVデータ3!T170,0)+IF(ISNUMBER(CSVデータ4!T170),CSVデータ4!T170,0)","v":3},null,{"$f":"IF(ISNUMBER(CSVデータ1!V170),CSVデータ1!V170,0)+IF(ISNUMBER(CSVデータ2!V170),CSVデータ2!V170,0)+IF(ISNUMBER(CSVデータ3!V170),CSVデータ3!V170,0)+IF(ISNUMBER(CSVデータ4!V170),CSVデータ4!V170,0)","v":8},null,{"$f":"IF(ISNUMBER(CSVデータ1!X170),CSVデータ1!X170,0)+IF(ISNUMBER(CSVデータ2!X170),CSVデータ2!X170,0)+IF(ISNUMBER(CSVデータ3!X170),CSVデータ3!X170,0)+IF(ISNUMBER(CSVデータ4!X170),CSVデータ4!X170,0)","v":4},null,{"$f":"IF(ISNUMBER(CSVデータ1!Z170),CSVデータ1!Z170,0)+IF(ISNUMBER(CSVデータ2!Z170),CSVデータ2!Z170,0)+IF(ISNUMBER(CSVデータ3!Z170),CSVデータ3!Z170,0)+IF(ISNUMBER(CSVデータ4!Z170),CSVデータ4!Z170,0)","v":5},null,{"$f":"IF(ISNUMBER(CSVデータ1!AB170),CSVデータ1!AB170,0)+IF(ISNUMBER(CSVデータ2!AB170),CSVデータ2!AB170,0)+IF(ISNUMBER(CSVデータ3!AB170),CSVデータ3!AB170,0)+IF(ISNUMBER(CSVデータ4!AB170),CSVデータ4!AB170,0)","v":0},null,{"$f":"IF(ISNUMBER(CSVデータ1!AD170),CSVデータ1!AD170,0)+IF(ISNUMBER(CSVデータ2!AD170),CSVデータ2!AD170,0)+IF(ISNUMBER(CSVデータ3!AD170),CSVデータ3!AD170,0)+IF(ISNUMBER(CSVデータ4!AD170),CSVデータ4!AD170,0)","v":3},null,{"$f":"IF(ISNUMBER(CSVデータ1!AF170),CSVデータ1!AF170,0)+IF(ISNUMBER(CSVデータ2!AF170),CSVデータ2!AF170,0)+IF(ISNUMBER(CSVデータ3!AF170),CSVデータ3!AF170,0)+IF(ISNUMBER(CSVデータ4!AF170),CSVデータ4!AF170,0)","v":0},null,{"$f":"IF(ISNUMBER(CSVデータ1!AH170),CSVデータ1!AH170,0)+IF(ISNUMBER(CSVデータ2!AH170),CSVデータ2!AH170,0)+IF(ISNUMBER(CSVデータ3!AH170),CSVデータ3!AH170,0)+IF(ISNUMBER(CSVデータ4!AH170),CSVデータ4!AH170,0)","v":0},null,{"$f":"IF(ISNUMBER(CSVデータ1!AJ170),CSVデータ1!AJ170,0)+IF(ISNUMBER(CSVデータ2!AJ170),CSVデータ2!AJ170,0)+IF(ISNUMBER(CSVデータ3!AJ170),CSVデータ3!AJ170,0)+IF(ISNUMBER(CSVデータ4!AJ170),CSVデータ4!AJ170,0)","v":0},null,{"$f":"IF(ISNUMBER(CSVデータ1!AL170),CSVデータ1!AL170,0)+IF(ISNUMBER(CSVデータ2!AL170),CSVデータ2!AL170,0)+IF(ISNUMBER(CSVデータ3!AL170),CSVデータ3!AL170,0)+IF(ISNUMBER(CSVデータ4!AL170),CSVデータ4!AL170,0)","v":2},null,{"$f":"IF(ISNUMBER(CSVデータ1!AN170),CSVデータ1!AN170,0)+IF(ISNUMBER(CSVデータ2!AN170),CSVデータ2!AN170,0)+IF(ISNUMBER(CSVデータ3!AN170),CSVデータ3!AN170,0)+IF(ISNUMBER(CSVデータ4!AN170),CSVデータ4!AN170,0)","v":0}]
[{"$f":"CSVデータ1!A171","v":"明細部"},{"$f":"CSVデータ1!B171","v":"保険者（地区）"},{"$f":"CSVデータ1!C171","v":67},{"$f":"CSVデータ1!D171","v":"男"},{"$f":"IF(ISNUMBER(CSVデータ1!E171),CSVデータ1!E171,0)+IF(ISNUMBER(CSVデータ2!E171),CSVデータ2!E171,0)+IF(ISNUMBER(CSVデータ3!E171),CSVデータ3!E171,0)+IF(ISNUMBER(CSVデータ4!E171),CSVデータ4!E171,0)","v":13},{"$f":"IF(ISNUMBER(CSVデータ1!F171),CSVデータ1!F171,0)+IF(ISNUMBER(CSVデータ2!F171),CSVデータ2!F171,0)+IF(ISNUMBER(CSVデータ3!F171),CSVデータ3!F171,0)+IF(ISNUMBER(CSVデータ4!F171),CSVデータ4!F171,0)","v":6},null,{"$f":"IF(ISNUMBER(CSVデータ1!H171),CSVデータ1!H171,0)+IF(ISNUMBER(CSVデータ2!H171),CSVデータ2!H171,0)+IF(ISNUMBER(CSVデータ3!H171),CSVデータ3!H171,0)+IF(ISNUMBER(CSVデータ4!H171),CSVデータ4!H171,0)","v":8},null,{"$f":"IF(ISNUMBER(CSVデータ1!J171),CSVデータ1!J171,0)+IF(ISNUMBER(CSVデータ2!J171),CSVデータ2!J171,0)+IF(ISNUMBER(CSVデータ3!J171),CSVデータ3!J171,0)+IF(ISNUMBER(CSVデータ4!J171),CSVデータ4!J171,0)","v":2},null,{"$f":"IF(ISNUMBER(CSVデータ1!L171),CSVデータ1!L171,0)+IF(ISNUMBER(CSVデータ2!L171),CSVデータ2!L171,0)+IF(ISNUMBER(CSVデータ3!L171),CSVデータ3!L171,0)+IF(ISNUMBER(CSVデータ4!L171),CSVデータ4!L171,0)","v":3},null,{"$f":"IF(ISNUMBER(CSVデータ1!N171),CSVデータ1!N171,0)+IF(ISNUMBER(CSVデータ2!N171),CSVデータ2!N171,0)+IF(ISNUMBER(CSVデータ3!N171),CSVデータ3!N171,0)+IF(ISNUMBER(CSVデータ4!N171),CSVデータ4!N171,0)","v":0},null,{"$f":"IF(ISNUMBER(CSVデータ1!P171),CSVデータ1!P171,0)+IF(ISNUMBER(CSVデータ2!P171),CSVデータ2!P171,0)+IF(ISNUMBER(CSVデータ3!P171),CSVデータ3!P171,0)+IF(ISNUMBER(CSVデータ4!P171),CSVデータ4!P171,0)","v":7},null,{"$f":"IF(ISNUMBER(CSVデータ1!R171),CSVデータ1!R171,0)+IF(ISNUMBER(CSVデータ2!R171),CSVデータ2!R171,0)+IF(ISNUMBER(CSVデータ3!R171),CSVデータ3!R171,0)+IF(ISNUMBER(CSVデータ4!R171),CSVデータ4!R171,0)","v":6},null,{"$f":"IF(ISNUMBER(CSVデータ1!T171),CSVデータ1!T171,0)+IF(ISNUMBER(CSVデータ2!T171),CSVデータ2!T171,0)+IF(ISNUMBER(CSVデータ3!T171),CSVデータ3!T171,0)+IF(ISNUMBER(CSVデータ4!T171),CSVデータ4!T171,0)","v":2},null,{"$f":"IF(ISNUMBER(CSVデータ1!V171),CSVデータ1!V171,0)+IF(ISNUMBER(CSVデータ2!V171),CSVデータ2!V171,0)+IF(ISNUMBER(CSVデータ3!V171),CSVデータ3!V171,0)+IF(ISNUMBER(CSVデータ4!V171),CSVデータ4!V171,0)","v":5},null,{"$f":"IF(ISNUMBER(CSVデータ1!X171),CSVデータ1!X171,0)+IF(ISNUMBER(CSVデータ2!X171),CSVデータ2!X171,0)+IF(ISNUMBER(CSVデータ3!X171),CSVデータ3!X171,0)+IF(ISNUMBER(CSVデータ4!X171),CSVデータ4!X171,0)","v":3},null,{"$f":"IF(ISNUMBER(CSVデータ1!Z171),CSVデータ1!Z171,0)+IF(ISNUMBER(CSVデータ2!Z171),CSVデータ2!Z171,0)+IF(ISNUMBER(CSVデータ3!Z171),CSVデータ3!Z171,0)+IF(ISNUMBER(CSVデータ4!Z171),CSVデータ4!Z171,0)","v":5},null,{"$f":"IF(ISNUMBER(CSVデータ1!AB171),CSVデータ1!AB171,0)+IF(ISNUMBER(CSVデータ2!AB171),CSVデータ2!AB171,0)+IF(ISNUMBER(CSVデータ3!AB171),CSVデータ3!AB171,0)+IF(ISNUMBER(CSVデータ4!AB171),CSVデータ4!AB171,0)","v":0},null,{"$f":"IF(ISNUMBER(CSVデータ1!AD171),CSVデータ1!AD171,0)+IF(ISNUMBER(CSVデータ2!AD171),CSVデータ2!AD171,0)+IF(ISNUMBER(CSVデータ3!AD171),CSVデータ3!AD171,0)+IF(ISNUMBER(CSVデータ4!AD171),CSVデータ4!AD171,0)","v":7},null,{"$f":"IF(ISNUMBER(CSVデータ1!AF171),CSVデータ1!AF171,0)+IF(ISNUMBER(CSVデータ2!AF171),CSVデータ2!AF171,0)+IF(ISNUMBER(CSVデータ3!AF171),CSVデータ3!AF171,0)+IF(ISNUMBER(CSVデータ4!AF171),CSVデータ4!AF171,0)","v":0},null,{"$f":"IF(ISNUMBER(CSVデータ1!AH171),CSVデータ1!AH171,0)+IF(ISNUMBER(CSVデータ2!AH171),CSVデータ2!AH171,0)+IF(ISNUMBER(CSVデータ3!AH171),CSVデータ3!AH171,0)+IF(ISNUMBER(CSVデータ4!AH171),CSVデータ4!AH171,0)","v":0},null,{"$f":"IF(ISNUMBER(CSVデータ1!AJ171),CSVデータ1!AJ171,0)+IF(ISNUMBER(CSVデータ2!AJ171),CSVデータ2!AJ171,0)+IF(ISNUMBER(CSVデータ3!AJ171),CSVデータ3!AJ171,0)+IF(ISNUMBER(CSVデータ4!AJ171),CSVデータ4!AJ171,0)","v":0},null,{"$f":"IF(ISNUMBER(CSVデータ1!AL171),CSVデータ1!AL171,0)+IF(ISNUMBER(CSVデータ2!AL171),CSVデータ2!AL171,0)+IF(ISNUMBER(CSVデータ3!AL171),CSVデータ3!AL171,0)+IF(ISNUMBER(CSVデータ4!AL171),CSVデータ4!AL171,0)","v":3},null,{"$f":"IF(ISNUMBER(CSVデータ1!AN171),CSVデータ1!AN171,0)+IF(ISNUMBER(CSVデータ2!AN171),CSVデータ2!AN171,0)+IF(ISNUMBER(CSVデータ3!AN171),CSVデータ3!AN171,0)+IF(ISNUMBER(CSVデータ4!AN171),CSVデータ4!AN171,0)","v":0}]
[{"$f":"CSVデータ1!A172","v":"明細部"},{"$f":"CSVデータ1!B172","v":"保険者（地区）"},{"$f":"CSVデータ1!C172","v":68},{"$f":"CSVデータ1!D172","v":"男"},{"$f":"IF(ISNUMBER(CSVデータ1!E172),CSVデータ1!E172,0)+IF(ISNUMBER(CSVデータ2!E172),CSVデータ2!E172,0)+IF(ISNUMBER(CSVデータ3!E172),CSVデータ3!E172,0)+IF(ISNUMBER(CSVデータ4!E172),CSVデータ4!E172,0)","v":15},{"$f":"IF(ISNUMBER(CSVデータ1!F172),CSVデータ1!F172,0)+IF(ISNUMBER(CSVデータ2!F172),CSVデータ2!F172,0)+IF(ISNUMBER(CSVデータ3!F172),CSVデータ3!F172,0)+IF(ISNUMBER(CSVデータ4!F172),CSVデータ4!F172,0)","v":2},null,{"$f":"IF(ISNUMBER(CSVデータ1!H172),CSVデータ1!H172,0)+IF(ISNUMBER(CSVデータ2!H172),CSVデータ2!H172,0)+IF(ISNUMBER(CSVデータ3!H172),CSVデータ3!H172,0)+IF(ISNUMBER(CSVデータ4!H172),CSVデータ4!H172,0)","v":3},null,{"$f":"IF(ISNUMBER(CSVデータ1!J172),CSVデータ1!J172,0)+IF(ISNUMBER(CSVデータ2!J172),CSVデータ2!J172,0)+IF(ISNUMBER(CSVデータ3!J172),CSVデータ3!J172,0)+IF(ISNUMBER(CSVデータ4!J172),CSVデータ4!J172,0)","v":3},null,{"$f":"IF(ISNUMBER(CSVデータ1!L172),CSVデータ1!L172,0)+IF(ISNUMBER(CSVデータ2!L172),CSVデータ2!L172,0)+IF(ISNUMBER(CSVデータ3!L172),CSVデータ3!L172,0)+IF(ISNUMBER(CSVデータ4!L172),CSVデータ4!L172,0)","v":0},null,{"$f":"IF(ISNUMBER(CSVデータ1!N172),CSVデータ1!N172,0)+IF(ISNUMBER(CSVデータ2!N172),CSVデータ2!N172,0)+IF(ISNUMBER(CSVデータ3!N172),CSVデータ3!N172,0)+IF(ISNUMBER(CSVデータ4!N172),CSVデータ4!N172,0)","v":0},null,{"$f":"IF(ISNUMBER(CSVデータ1!P172),CSVデータ1!P172,0)+IF(ISNUMBER(CSVデータ2!P172),CSVデータ2!P172,0)+IF(ISNUMBER(CSVデータ3!P172),CSVデータ3!P172,0)+IF(ISNUMBER(CSVデータ4!P172),CSVデータ4!P172,0)","v":3},null,{"$f":"IF(ISNUMBER(CSVデータ1!R172),CSVデータ1!R172,0)+IF(ISNUMBER(CSVデータ2!R172),CSVデータ2!R172,0)+IF(ISNUMBER(CSVデータ3!R172),CSVデータ3!R172,0)+IF(ISNUMBER(CSVデータ4!R172),CSVデータ4!R172,0)","v":3},null,{"$f":"IF(ISNUMBER(CSVデータ1!T172),CSVデータ1!T172,0)+IF(ISNUMBER(CSVデータ2!T172),CSVデータ2!T172,0)+IF(ISNUMBER(CSVデータ3!T172),CSVデータ3!T172,0)+IF(ISNUMBER(CSVデータ4!T172),CSVデータ4!T172,0)","v":3},null,{"$f":"IF(ISNUMBER(CSVデータ1!V172),CSVデータ1!V172,0)+IF(ISNUMBER(CSVデータ2!V172),CSVデータ2!V172,0)+IF(ISNUMBER(CSVデータ3!V172),CSVデータ3!V172,0)+IF(ISNUMBER(CSVデータ4!V172),CSVデータ4!V172,0)","v":8},null,{"$f":"IF(ISNUMBER(CSVデータ1!X172),CSVデータ1!X172,0)+IF(ISNUMBER(CSVデータ2!X172),CSVデータ2!X172,0)+IF(ISNUMBER(CSVデータ3!X172),CSVデータ3!X172,0)+IF(ISNUMBER(CSVデータ4!X172),CSVデータ4!X172,0)","v":6},null,{"$f":"IF(ISNUMBER(CSVデータ1!Z172),CSVデータ1!Z172,0)+IF(ISNUMBER(CSVデータ2!Z172),CSVデータ2!Z172,0)+IF(ISNUMBER(CSVデータ3!Z172),CSVデータ3!Z172,0)+IF(ISNUMBER(CSVデータ4!Z172),CSVデータ4!Z172,0)","v":7},null,{"$f":"IF(ISNUMBER(CSVデータ1!AB172),CSVデータ1!AB172,0)+IF(ISNUMBER(CSVデータ2!AB172),CSVデータ2!AB172,0)+IF(ISNUMBER(CSVデータ3!AB172),CSVデータ3!AB172,0)+IF(ISNUMBER(CSVデータ4!AB172),CSVデータ4!AB172,0)","v":0},null,{"$f":"IF(ISNUMBER(CSVデータ1!AD172),CSVデータ1!AD172,0)+IF(ISNUMBER(CSVデータ2!AD172),CSVデータ2!AD172,0)+IF(ISNUMBER(CSVデータ3!AD172),CSVデータ3!AD172,0)+IF(ISNUMBER(CSVデータ4!AD172),CSVデータ4!AD172,0)","v":6},null,{"$f":"IF(ISNUMBER(CSVデータ1!AF172),CSVデータ1!AF172,0)+IF(ISNUMBER(CSVデータ2!AF172),CSVデータ2!AF172,0)+IF(ISNUMBER(CSVデータ3!AF172),CSVデータ3!AF172,0)+IF(ISNUMBER(CSVデータ4!AF172),CSVデータ4!AF172,0)","v":0},null,{"$f":"IF(ISNUMBER(CSVデータ1!AH172),CSVデータ1!AH172,0)+IF(ISNUMBER(CSVデータ2!AH172),CSVデータ2!AH172,0)+IF(ISNUMBER(CSVデータ3!AH172),CSVデータ3!AH172,0)+IF(ISNUMBER(CSVデータ4!AH172),CSVデータ4!AH172,0)","v":0},null,{"$f":"IF(ISNUMBER(CSVデータ1!AJ172),CSVデータ1!AJ172,0)+IF(ISNUMBER(CSVデータ2!AJ172),CSVデータ2!AJ172,0)+IF(ISNUMBER(CSVデータ3!AJ172),CSVデータ3!AJ172,0)+IF(ISNUMBER(CSVデータ4!AJ172),CSVデータ4!AJ172,0)","v":0},null,{"$f":"IF(ISNUMBER(CSVデータ1!AL172),CSVデータ1!AL172,0)+IF(ISNUMBER(CSVデータ2!AL172),CSVデータ2!AL172,0)+IF(ISNUMBER(CSVデータ3!AL172),CSVデータ3!AL172,0)+IF(ISNUMBER(CSVデータ4!AL172),CSVデータ4!AL172,0)","v":4},null,{"$f":"IF(ISNUMBER(CSVデータ1!AN172),CSVデータ1!AN172,0)+IF(ISNUMBER(CSVデータ2!AN172),CSVデータ2!AN172,0)+IF(ISNUMBER(CSVデータ3!AN172),CSVデータ3!AN172,0)+IF(ISNUMBER(CSVデータ4!AN172),CSVデータ4!AN172,0)","v":1}]
[{"$f":"CSVデータ1!A173","v":"明細部"},{"$f":"CSVデータ1!B173","v":"保険者（地区）"},{"$f":"CSVデータ1!C173","v":69},{"$f":"CSVデータ1!D173","v":"男"},{"$f":"IF(ISNUMBER(CSVデータ1!E173),CSVデータ1!E173,0)+IF(ISNUMBER(CSVデータ2!E173),CSVデータ2!E173,0)+IF(ISNUMBER(CSVデータ3!E173),CSVデータ3!E173,0)+IF(ISNUMBER(CSVデータ4!E173),CSVデータ4!E173,0)","v":23},{"$f":"IF(ISNUMBER(CSVデータ1!F173),CSVデータ1!F173,0)+IF(ISNUMBER(CSVデータ2!F173),CSVデータ2!F173,0)+IF(ISNUMBER(CSVデータ3!F173),CSVデータ3!F173,0)+IF(ISNUMBER(CSVデータ4!F173),CSVデータ4!F173,0)","v":6},null,{"$f":"IF(ISNUMBER(CSVデータ1!H173),CSVデータ1!H173,0)+IF(ISNUMBER(CSVデータ2!H173),CSVデータ2!H173,0)+IF(ISNUMBER(CSVデータ3!H173),CSVデータ3!H173,0)+IF(ISNUMBER(CSVデータ4!H173),CSVデータ4!H173,0)","v":12},null,{"$f":"IF(ISNUMBER(CSVデータ1!J173),CSVデータ1!J173,0)+IF(ISNUMBER(CSVデータ2!J173),CSVデータ2!J173,0)+IF(ISNUMBER(CSVデータ3!J173),CSVデータ3!J173,0)+IF(ISNUMBER(CSVデータ4!J173),CSVデータ4!J173,0)","v":5},null,{"$f":"IF(ISNUMBER(CSVデータ1!L173),CSVデータ1!L173,0)+IF(ISNUMBER(CSVデータ2!L173),CSVデータ2!L173,0)+IF(ISNUMBER(CSVデータ3!L173),CSVデータ3!L173,0)+IF(ISNUMBER(CSVデータ4!L173),CSVデータ4!L173,0)","v":3},null,{"$f":"IF(ISNUMBER(CSVデータ1!N173),CSVデータ1!N173,0)+IF(ISNUMBER(CSVデータ2!N173),CSVデータ2!N173,0)+IF(ISNUMBER(CSVデータ3!N173),CSVデータ3!N173,0)+IF(ISNUMBER(CSVデータ4!N173),CSVデータ4!N173,0)","v":1},null,{"$f":"IF(ISNUMBER(CSVデータ1!P173),CSVデータ1!P173,0)+IF(ISNUMBER(CSVデータ2!P173),CSVデータ2!P173,0)+IF(ISNUMBER(CSVデータ3!P173),CSVデータ3!P173,0)+IF(ISNUMBER(CSVデータ4!P173),CSVデータ4!P173,0)","v":10},null,{"$f":"IF(ISNUMBER(CSVデータ1!R173),CSVデータ1!R173,0)+IF(ISNUMBER(CSVデータ2!R173),CSVデータ2!R173,0)+IF(ISNUMBER(CSVデータ3!R173),CSVデータ3!R173,0)+IF(ISNUMBER(CSVデータ4!R173),CSVデータ4!R173,0)","v":10},null,{"$f":"IF(ISNUMBER(CSVデータ1!T173),CSVデータ1!T173,0)+IF(ISNUMBER(CSVデータ2!T173),CSVデータ2!T173,0)+IF(ISNUMBER(CSVデータ3!T173),CSVデータ3!T173,0)+IF(ISNUMBER(CSVデータ4!T173),CSVデータ4!T173,0)","v":4},null,{"$f":"IF(ISNUMBER(CSVデータ1!V173),CSVデータ1!V173,0)+IF(ISNUMBER(CSVデータ2!V173),CSVデータ2!V173,0)+IF(ISNUMBER(CSVデータ3!V173),CSVデータ3!V173,0)+IF(ISNUMBER(CSVデータ4!V173),CSVデータ4!V173,0)","v":12},null,{"$f":"IF(ISNUMBER(CSVデータ1!X173),CSVデータ1!X173,0)+IF(ISNUMBER(CSVデータ2!X173),CSVデータ2!X173,0)+IF(ISNUMBER(CSVデータ3!X173),CSVデータ3!X173,0)+IF(ISNUMBER(CSVデータ4!X173),CSVデータ4!X173,0)","v":4},null,{"$f":"IF(ISNUMBER(CSVデータ1!Z173),CSVデータ1!Z173,0)+IF(ISNUMBER(CSVデータ2!Z173),CSVデータ2!Z173,0)+IF(ISNUMBER(CSVデータ3!Z173),CSVデータ3!Z173,0)+IF(ISNUMBER(CSVデータ4!Z173),CSVデータ4!Z173,0)","v":5},null,{"$f":"IF(ISNUMBER(CSVデータ1!AB173),CSVデータ1!AB173,0)+IF(ISNUMBER(CSVデータ2!AB173),CSVデータ2!AB173,0)+IF(ISNUMBER(CSVデータ3!AB173),CSVデータ3!AB173,0)+IF(ISNUMBER(CSVデータ4!AB173),CSVデータ4!AB173,0)","v":0},null,{"$f":"IF(ISNUMBER(CSVデータ1!AD173),CSVデータ1!AD173,0)+IF(ISNUMBER(CSVデータ2!AD173),CSVデータ2!AD173,0)+IF(ISNUMBER(CSVデータ3!AD173),CSVデータ3!AD173,0)+IF(ISNUMBER(CSVデータ4!AD173),CSVデータ4!AD173,0)","v":10},null,{"$f":"IF(ISNUMBER(CSVデータ1!AF173),CSVデータ1!AF173,0)+IF(ISNUMBER(CSVデータ2!AF173),CSVデータ2!AF173,0)+IF(ISNUMBER(CSVデータ3!AF173),CSVデータ3!AF173,0)+IF(ISNUMBER(CSVデータ4!AF173),CSVデータ4!AF173,0)","v":0},null,{"$f":"IF(ISNUMBER(CSVデータ1!AH173),CSVデータ1!AH173,0)+IF(ISNUMBER(CSVデータ2!AH173),CSVデータ2!AH173,0)+IF(ISNUMBER(CSVデータ3!AH173),CSVデータ3!AH173,0)+IF(ISNUMBER(CSVデータ4!AH173),CSVデータ4!AH173,0)","v":0},null,{"$f":"IF(ISNUMBER(CSVデータ1!AJ173),CSVデータ1!AJ173,0)+IF(ISNUMBER(CSVデータ2!AJ173),CSVデータ2!AJ173,0)+IF(ISNUMBER(CSVデータ3!AJ173),CSVデータ3!AJ173,0)+IF(ISNUMBER(CSVデータ4!AJ173),CSVデータ4!AJ173,0)","v":0},null,{"$f":"IF(ISNUMBER(CSVデータ1!AL173),CSVデータ1!AL173,0)+IF(ISNUMBER(CSVデータ2!AL173),CSVデータ2!AL173,0)+IF(ISNUMBER(CSVデータ3!AL173),CSVデータ3!AL173,0)+IF(ISNUMBER(CSVデータ4!AL173),CSVデータ4!AL173,0)","v":3},null,{"$f":"IF(ISNUMBER(CSVデータ1!AN173),CSVデータ1!AN173,0)+IF(ISNUMBER(CSVデータ2!AN173),CSVデータ2!AN173,0)+IF(ISNUMBER(CSVデータ3!AN173),CSVデータ3!AN173,0)+IF(ISNUMBER(CSVデータ4!AN173),CSVデータ4!AN173,0)","v":2}]
[{"$f":"CSVデータ1!A174","v":"明細部"},{"$f":"CSVデータ1!B174","v":"保険者（地区）"},{"$f":"CSVデータ1!C174","v":70},{"$f":"CSVデータ1!D174","v":"男"},{"$f":"IF(ISNUMBER(CSVデータ1!E174),CSVデータ1!E174,0)+IF(ISNUMBER(CSVデータ2!E174),CSVデータ2!E174,0)+IF(ISNUMBER(CSVデータ3!E174),CSVデータ3!E174,0)+IF(ISNUMBER(CSVデータ4!E174),CSVデータ4!E174,0)","v":19},{"$f":"IF(ISNUMBER(CSVデータ1!F174),CSVデータ1!F174,0)+IF(ISNUMBER(CSVデータ2!F174),CSVデータ2!F174,0)+IF(ISNUMBER(CSVデータ3!F174),CSVデータ3!F174,0)+IF(ISNUMBER(CSVデータ4!F174),CSVデータ4!F174,0)","v":8},null,{"$f":"IF(ISNUMBER(CSVデータ1!H174),CSVデータ1!H174,0)+IF(ISNUMBER(CSVデータ2!H174),CSVデータ2!H174,0)+IF(ISNUMBER(CSVデータ3!H174),CSVデータ3!H174,0)+IF(ISNUMBER(CSVデータ4!H174),CSVデータ4!H174,0)","v":13},null,{"$f":"IF(ISNUMBER(CSVデータ1!J174),CSVデータ1!J174,0)+IF(ISNUMBER(CSVデータ2!J174),CSVデータ2!J174,0)+IF(ISNUMBER(CSVデータ3!J174),CSVデータ3!J174,0)+IF(ISNUMBER(CSVデータ4!J174),CSVデータ4!J174,0)","v":4},null,{"$f":"IF(ISNUMBER(CSVデータ1!L174),CSVデータ1!L174,0)+IF(ISNUMBER(CSVデータ2!L174),CSVデータ2!L174,0)+IF(ISNUMBER(CSVデータ3!L174),CSVデータ3!L174,0)+IF(ISNUMBER(CSVデータ4!L174),CSVデータ4!L174,0)","v":3},null,{"$f":"IF(ISNUMBER(CSVデータ1!N174),CSVデータ1!N174,0)+IF(ISNUMBER(CSVデータ2!N174),CSVデータ2!N174,0)+IF(ISNUMBER(CSVデータ3!N174),CSVデータ3!N174,0)+IF(ISNUMBER(CSVデータ4!N174),CSVデータ4!N174,0)","v":0},null,{"$f":"IF(ISNUMBER(CSVデータ1!P174),CSVデータ1!P174,0)+IF(ISNUMBER(CSVデータ2!P174),CSVデータ2!P174,0)+IF(ISNUMBER(CSVデータ3!P174),CSVデータ3!P174,0)+IF(ISNUMBER(CSVデータ4!P174),CSVデータ4!P174,0)","v":5},null,{"$f":"IF(ISNUMBER(CSVデータ1!R174),CSVデータ1!R174,0)+IF(ISNUMBER(CSVデータ2!R174),CSVデータ2!R174,0)+IF(ISNUMBER(CSVデータ3!R174),CSVデータ3!R174,0)+IF(ISNUMBER(CSVデータ4!R174),CSVデータ4!R174,0)","v":10},null,{"$f":"IF(ISNUMBER(CSVデータ1!T174),CSVデータ1!T174,0)+IF(ISNUMBER(CSVデータ2!T174),CSVデータ2!T174,0)+IF(ISNUMBER(CSVデータ3!T174),CSVデータ3!T174,0)+IF(ISNUMBER(CSVデータ4!T174),CSVデータ4!T174,0)","v":1},null,{"$f":"IF(ISNUMBER(CSVデータ1!V174),CSVデータ1!V174,0)+IF(ISNUMBER(CSVデータ2!V174),CSVデータ2!V174,0)+IF(ISNUMBER(CSVデータ3!V174),CSVデータ3!V174,0)+IF(ISNUMBER(CSVデータ4!V174),CSVデータ4!V174,0)","v":9},null,{"$f":"IF(ISNUMBER(CSVデータ1!X174),CSVデータ1!X174,0)+IF(ISNUMBER(CSVデータ2!X174),CSVデータ2!X174,0)+IF(ISNUMBER(CSVデータ3!X174),CSVデータ3!X174,0)+IF(ISNUMBER(CSVデータ4!X174),CSVデータ4!X174,0)","v":2},null,{"$f":"IF(ISNUMBER(CSVデータ1!Z174),CSVデータ1!Z174,0)+IF(ISNUMBER(CSVデータ2!Z174),CSVデータ2!Z174,0)+IF(ISNUMBER(CSVデータ3!Z174),CSVデータ3!Z174,0)+IF(ISNUMBER(CSVデータ4!Z174),CSVデータ4!Z174,0)","v":8},null,{"$f":"IF(ISNUMBER(CSVデータ1!AB174),CSVデータ1!AB174,0)+IF(ISNUMBER(CSVデータ2!AB174),CSVデータ2!AB174,0)+IF(ISNUMBER(CSVデータ3!AB174),CSVデータ3!AB174,0)+IF(ISNUMBER(CSVデータ4!AB174),CSVデータ4!AB174,0)","v":0},null,{"$f":"IF(ISNUMBER(CSVデータ1!AD174),CSVデータ1!AD174,0)+IF(ISNUMBER(CSVデータ2!AD174),CSVデータ2!AD174,0)+IF(ISNUMBER(CSVデータ3!AD174),CSVデータ3!AD174,0)+IF(ISNUMBER(CSVデータ4!AD174),CSVデータ4!AD174,0)","v":7},null,{"$f":"IF(ISNUMBER(CSVデータ1!AF174),CSVデータ1!AF174,0)+IF(ISNUMBER(CSVデータ2!AF174),CSVデータ2!AF174,0)+IF(ISNUMBER(CSVデータ3!AF174),CSVデータ3!AF174,0)+IF(ISNUMBER(CSVデータ4!AF174),CSVデータ4!AF174,0)","v":1},null,{"$f":"IF(ISNUMBER(CSVデータ1!AH174),CSVデータ1!AH174,0)+IF(ISNUMBER(CSVデータ2!AH174),CSVデータ2!AH174,0)+IF(ISNUMBER(CSVデータ3!AH174),CSVデータ3!AH174,0)+IF(ISNUMBER(CSVデータ4!AH174),CSVデータ4!AH174,0)","v":0},null,{"$f":"IF(ISNUMBER(CSVデータ1!AJ174),CSVデータ1!AJ174,0)+IF(ISNUMBER(CSVデータ2!AJ174),CSVデータ2!AJ174,0)+IF(ISNUMBER(CSVデータ3!AJ174),CSVデータ3!AJ174,0)+IF(ISNUMBER(CSVデータ4!AJ174),CSVデータ4!AJ174,0)","v":0},null,{"$f":"IF(ISNUMBER(CSVデータ1!AL174),CSVデータ1!AL174,0)+IF(ISNUMBER(CSVデータ2!AL174),CSVデータ2!AL174,0)+IF(ISNUMBER(CSVデータ3!AL174),CSVデータ3!AL174,0)+IF(ISNUMBER(CSVデータ4!AL174),CSVデータ4!AL174,0)","v":5},null,{"$f":"IF(ISNUMBER(CSVデータ1!AN174),CSVデータ1!AN174,0)+IF(ISNUMBER(CSVデータ2!AN174),CSVデータ2!AN174,0)+IF(ISNUMBER(CSVデータ3!AN174),CSVデータ3!AN174,0)+IF(ISNUMBER(CSVデータ4!AN174),CSVデータ4!AN174,0)","v":0}]
[{"$f":"CSVデータ1!A175","v":"明細部"},{"$f":"CSVデータ1!B175","v":"保険者（地区）"},{"$f":"CSVデータ1!C175","v":71},{"$f":"CSVデータ1!D175","v":"男"},{"$f":"IF(ISNUMBER(CSVデータ1!E175),CSVデータ1!E175,0)+IF(ISNUMBER(CSVデータ2!E175),CSVデータ2!E175,0)+IF(ISNUMBER(CSVデータ3!E175),CSVデータ3!E175,0)+IF(ISNUMBER(CSVデータ4!E175),CSVデータ4!E175,0)","v":13},{"$f":"IF(ISNUMBER(CSVデータ1!F175),CSVデータ1!F175,0)+IF(ISNUMBER(CSVデータ2!F175),CSVデータ2!F175,0)+IF(ISNUMBER(CSVデータ3!F175),CSVデータ3!F175,0)+IF(ISNUMBER(CSVデータ4!F175),CSVデータ4!F175,0)","v":5},null,{"$f":"IF(ISNUMBER(CSVデータ1!H175),CSVデータ1!H175,0)+IF(ISNUMBER(CSVデータ2!H175),CSVデータ2!H175,0)+IF(ISNUMBER(CSVデータ3!H175),CSVデータ3!H175,0)+IF(ISNUMBER(CSVデータ4!H175),CSVデータ4!H175,0)","v":6},null,{"$f":"IF(ISNUMBER(CSVデータ1!J175),CSVデータ1!J175,0)+IF(ISNUMBER(CSVデータ2!J175),CSVデータ2!J175,0)+IF(ISNUMBER(CSVデータ3!J175),CSVデータ3!J175,0)+IF(ISNUMBER(CSVデータ4!J175),CSVデータ4!J175,0)","v":1},null,{"$f":"IF(ISNUMBER(CSVデータ1!L175),CSVデータ1!L175,0)+IF(ISNUMBER(CSVデータ2!L175),CSVデータ2!L175,0)+IF(ISNUMBER(CSVデータ3!L175),CSVデータ3!L175,0)+IF(ISNUMBER(CSVデータ4!L175),CSVデータ4!L175,0)","v":3},null,{"$f":"IF(ISNUMBER(CSVデータ1!N175),CSVデータ1!N175,0)+IF(ISNUMBER(CSVデータ2!N175),CSVデータ2!N175,0)+IF(ISNUMBER(CSVデータ3!N175),CSVデータ3!N175,0)+IF(ISNUMBER(CSVデータ4!N175),CSVデータ4!N175,0)","v":0},null,{"$f":"IF(ISNUMBER(CSVデータ1!P175),CSVデータ1!P175,0)+IF(ISNUMBER(CSVデータ2!P175),CSVデータ2!P175,0)+IF(ISNUMBER(CSVデータ3!P175),CSVデータ3!P175,0)+IF(ISNUMBER(CSVデータ4!P175),CSVデータ4!P175,0)","v":4},null,{"$f":"IF(ISNUMBER(CSVデータ1!R175),CSVデータ1!R175,0)+IF(ISNUMBER(CSVデータ2!R175),CSVデータ2!R175,0)+IF(ISNUMBER(CSVデータ3!R175),CSVデータ3!R175,0)+IF(ISNUMBER(CSVデータ4!R175),CSVデータ4!R175,0)","v":6},null,{"$f":"IF(ISNUMBER(CSVデータ1!T175),CSVデータ1!T175,0)+IF(ISNUMBER(CSVデータ2!T175),CSVデータ2!T175,0)+IF(ISNUMBER(CSVデータ3!T175),CSVデータ3!T175,0)+IF(ISNUMBER(CSVデータ4!T175),CSVデータ4!T175,0)","v":0},null,{"$f":"IF(ISNUMBER(CSVデータ1!V175),CSVデータ1!V175,0)+IF(ISNUMBER(CSVデータ2!V175),CSVデータ2!V175,0)+IF(ISNUMBER(CSVデータ3!V175),CSVデータ3!V175,0)+IF(ISNUMBER(CSVデータ4!V175),CSVデータ4!V175,0)","v":6},null,{"$f":"IF(ISNUMBER(CSVデータ1!X175),CSVデータ1!X175,0)+IF(ISNUMBER(CSVデータ2!X175),CSVデータ2!X175,0)+IF(ISNUMBER(CSVデータ3!X175),CSVデータ3!X175,0)+IF(ISNUMBER(CSVデータ4!X175),CSVデータ4!X175,0)","v":2},null,{"$f":"IF(ISNUMBER(CSVデータ1!Z175),CSVデータ1!Z175,0)+IF(ISNUMBER(CSVデータ2!Z175),CSVデータ2!Z175,0)+IF(ISNUMBER(CSVデータ3!Z175),CSVデータ3!Z175,0)+IF(ISNUMBER(CSVデータ4!Z175),CSVデータ4!Z175,0)","v":9},null,{"$f":"IF(ISNUMBER(CSVデータ1!AB175),CSVデータ1!AB175,0)+IF(ISNUMBER(CSVデータ2!AB175),CSVデータ2!AB175,0)+IF(ISNUMBER(CSVデータ3!AB175),CSVデータ3!AB175,0)+IF(ISNUMBER(CSVデータ4!AB175),CSVデータ4!AB175,0)","v":0},null,{"$f":"IF(ISNUMBER(CSVデータ1!AD175),CSVデータ1!AD175,0)+IF(ISNUMBER(CSVデータ2!AD175),CSVデータ2!AD175,0)+IF(ISNUMBER(CSVデータ3!AD175),CSVデータ3!AD175,0)+IF(ISNUMBER(CSVデータ4!AD175),CSVデータ4!AD175,0)","v":8},null,{"$f":"IF(ISNUMBER(CSVデータ1!AF175),CSVデータ1!AF175,0)+IF(ISNUMBER(CSVデータ2!AF175),CSVデータ2!AF175,0)+IF(ISNUMBER(CSVデータ3!AF175),CSVデータ3!AF175,0)+IF(ISNUMBER(CSVデータ4!AF175),CSVデータ4!AF175,0)","v":0},null,{"$f":"IF(ISNUMBER(CSVデータ1!AH175),CSVデータ1!AH175,0)+IF(ISNUMBER(CSVデータ2!AH175),CSVデータ2!AH175,0)+IF(ISNUMBER(CSVデータ3!AH175),CSVデータ3!AH175,0)+IF(ISNUMBER(CSVデータ4!AH175),CSVデータ4!AH175,0)","v":0},null,{"$f":"IF(ISNUMBER(CSVデータ1!AJ175),CSVデータ1!AJ175,0)+IF(ISNUMBER(CSVデータ2!AJ175),CSVデータ2!AJ175,0)+IF(ISNUMBER(CSVデータ3!AJ175),CSVデータ3!AJ175,0)+IF(ISNUMBER(CSVデータ4!AJ175),CSVデータ4!AJ175,0)","v":0},null,{"$f":"IF(ISNUMBER(CSVデータ1!AL175),CSVデータ1!AL175,0)+IF(ISNUMBER(CSVデータ2!AL175),CSVデータ2!AL175,0)+IF(ISNUMBER(CSVデータ3!AL175),CSVデータ3!AL175,0)+IF(ISNUMBER(CSVデータ4!AL175),CSVデータ4!AL175,0)","v":4},null,{"$f":"IF(ISNUMBER(CSVデータ1!AN175),CSVデータ1!AN175,0)+IF(ISNUMBER(CSVデータ2!AN175),CSVデータ2!AN175,0)+IF(ISNUMBER(CSVデータ3!AN175),CSVデータ3!AN175,0)+IF(ISNUMBER(CSVデータ4!AN175),CSVデータ4!AN175,0)","v":0}]
[{"$f":"CSVデータ1!A176","v":"明細部"},{"$f":"CSVデータ1!B176","v":"保険者（地区）"},{"$f":"CSVデータ1!C176","v":72},{"$f":"CSVデータ1!D176","v":"男"},{"$f":"IF(ISNUMBER(CSVデータ1!E176),CSVデータ1!E176,0)+IF(ISNUMBER(CSVデータ2!E176),CSVデータ2!E176,0)+IF(ISNUMBER(CSVデータ3!E176),CSVデータ3!E176,0)+IF(ISNUMBER(CSVデータ4!E176),CSVデータ4!E176,0)","v":27},{"$f":"IF(ISNUMBER(CSVデータ1!F176),CSVデータ1!F176,0)+IF(ISNUMBER(CSVデータ2!F176),CSVデータ2!F176,0)+IF(ISNUMBER(CSVデータ3!F176),CSVデータ3!F176,0)+IF(ISNUMBER(CSVデータ4!F176),CSVデータ4!F176,0)","v":11},null,{"$f":"IF(ISNUMBER(CSVデータ1!H176),CSVデータ1!H176,0)+IF(ISNUMBER(CSVデータ2!H176),CSVデータ2!H176,0)+IF(ISNUMBER(CSVデータ3!H176),CSVデータ3!H176,0)+IF(ISNUMBER(CSVデータ4!H176),CSVデータ4!H176,0)","v":16},null,{"$f":"IF(ISNUMBER(CSVデータ1!J176),CSVデータ1!J176,0)+IF(ISNUMBER(CSVデータ2!J176),CSVデータ2!J176,0)+IF(ISNUMBER(CSVデータ3!J176),CSVデータ3!J176,0)+IF(ISNUMBER(CSVデータ4!J176),CSVデータ4!J176,0)","v":3},null,{"$f":"IF(ISNUMBER(CSVデータ1!L176),CSVデータ1!L176,0)+IF(ISNUMBER(CSVデータ2!L176),CSVデータ2!L176,0)+IF(ISNUMBER(CSVデータ3!L176),CSVデータ3!L176,0)+IF(ISNUMBER(CSVデータ4!L176),CSVデータ4!L176,0)","v":5},null,{"$f":"IF(ISNUMBER(CSVデータ1!N176),CSVデータ1!N176,0)+IF(ISNUMBER(CSVデータ2!N176),CSVデータ2!N176,0)+IF(ISNUMBER(CSVデータ3!N176),CSVデータ3!N176,0)+IF(ISNUMBER(CSVデータ4!N176),CSVデータ4!N176,0)","v":3},null,{"$f":"IF(ISNUMBER(CSVデータ1!P176),CSVデータ1!P176,0)+IF(ISNUMBER(CSVデータ2!P176),CSVデータ2!P176,0)+IF(ISNUMBER(CSVデータ3!P176),CSVデータ3!P176,0)+IF(ISNUMBER(CSVデータ4!P176),CSVデータ4!P176,0)","v":4},null,{"$f":"IF(ISNUMBER(CSVデータ1!R176),CSVデータ1!R176,0)+IF(ISNUMBER(CSVデータ2!R176),CSVデータ2!R176,0)+IF(ISNUMBER(CSVデータ3!R176),CSVデータ3!R176,0)+IF(ISNUMBER(CSVデータ4!R176),CSVデータ4!R176,0)","v":11},null,{"$f":"IF(ISNUMBER(CSVデータ1!T176),CSVデータ1!T176,0)+IF(ISNUMBER(CSVデータ2!T176),CSVデータ2!T176,0)+IF(ISNUMBER(CSVデータ3!T176),CSVデータ3!T176,0)+IF(ISNUMBER(CSVデータ4!T176),CSVデータ4!T176,0)","v":3},null,{"$f":"IF(ISNUMBER(CSVデータ1!V176),CSVデータ1!V176,0)+IF(ISNUMBER(CSVデータ2!V176),CSVデータ2!V176,0)+IF(ISNUMBER(CSVデータ3!V176),CSVデータ3!V176,0)+IF(ISNUMBER(CSVデータ4!V176),CSVデータ4!V176,0)","v":18},null,{"$f":"IF(ISNUMBER(CSVデータ1!X176),CSVデータ1!X176,0)+IF(ISNUMBER(CSVデータ2!X176),CSVデータ2!X176,0)+IF(ISNUMBER(CSVデータ3!X176),CSVデータ3!X176,0)+IF(ISNUMBER(CSVデータ4!X176),CSVデータ4!X176,0)","v":5},null,{"$f":"IF(ISNUMBER(CSVデータ1!Z176),CSVデータ1!Z176,0)+IF(ISNUMBER(CSVデータ2!Z176),CSVデータ2!Z176,0)+IF(ISNUMBER(CSVデータ3!Z176),CSVデータ3!Z176,0)+IF(ISNUMBER(CSVデータ4!Z176),CSVデータ4!Z176,0)","v":13},null,{"$f":"IF(ISNUMBER(CSVデータ1!AB176),CSVデータ1!AB176,0)+IF(ISNUMBER(CSVデータ2!AB176),CSVデータ2!AB176,0)+IF(ISNUMBER(CSVデータ3!AB176),CSVデータ3!AB176,0)+IF(ISNUMBER(CSVデータ4!AB176),CSVデータ4!AB176,0)","v":0},null,{"$f":"IF(ISNUMBER(CSVデータ1!AD176),CSVデータ1!AD176,0)+IF(ISNUMBER(CSVデータ2!AD176),CSVデータ2!AD176,0)+IF(ISNUMBER(CSVデータ3!AD176),CSVデータ3!AD176,0)+IF(ISNUMBER(CSVデータ4!AD176),CSVデータ4!AD176,0)","v":10},null,{"$f":"IF(ISNUMBER(CSVデータ1!AF176),CSVデータ1!AF176,0)+IF(ISNUMBER(CSVデータ2!AF176),CSVデータ2!AF176,0)+IF(ISNUMBER(CSVデータ3!AF176),CSVデータ3!AF176,0)+IF(ISNUMBER(CSVデータ4!AF176),CSVデータ4!AF176,0)","v":0},null,{"$f":"IF(ISNUMBER(CSVデータ1!AH176),CSVデータ1!AH176,0)+IF(ISNUMBER(CSVデータ2!AH176),CSVデータ2!AH176,0)+IF(ISNUMBER(CSVデータ3!AH176),CSVデータ3!AH176,0)+IF(ISNUMBER(CSVデータ4!AH176),CSVデータ4!AH176,0)","v":0},null,{"$f":"IF(ISNUMBER(CSVデータ1!AJ176),CSVデータ1!AJ176,0)+IF(ISNUMBER(CSVデータ2!AJ176),CSVデータ2!AJ176,0)+IF(ISNUMBER(CSVデータ3!AJ176),CSVデータ3!AJ176,0)+IF(ISNUMBER(CSVデータ4!AJ176),CSVデータ4!AJ176,0)","v":0},null,{"$f":"IF(ISNUMBER(CSVデータ1!AL176),CSVデータ1!AL176,0)+IF(ISNUMBER(CSVデータ2!AL176),CSVデータ2!AL176,0)+IF(ISNUMBER(CSVデータ3!AL176),CSVデータ3!AL176,0)+IF(ISNUMBER(CSVデータ4!AL176),CSVデータ4!AL176,0)","v":9},null,{"$f":"IF(ISNUMBER(CSVデータ1!AN176),CSVデータ1!AN176,0)+IF(ISNUMBER(CSVデータ2!AN176),CSVデータ2!AN176,0)+IF(ISNUMBER(CSVデータ3!AN176),CSVデータ3!AN176,0)+IF(ISNUMBER(CSVデータ4!AN176),CSVデータ4!AN176,0)","v":0}]
[{"$f":"CSVデータ1!A177","v":"明細部"},{"$f":"CSVデータ1!B177","v":"保険者（地区）"},{"$f":"CSVデータ1!C177","v":73},{"$f":"CSVデータ1!D177","v":"男"},{"$f":"IF(ISNUMBER(CSVデータ1!E177),CSVデータ1!E177,0)+IF(ISNUMBER(CSVデータ2!E177),CSVデータ2!E177,0)+IF(ISNUMBER(CSVデータ3!E177),CSVデータ3!E177,0)+IF(ISNUMBER(CSVデータ4!E177),CSVデータ4!E177,0)","v":23},{"$f":"IF(ISNUMBER(CSVデータ1!F177),CSVデータ1!F177,0)+IF(ISNUMBER(CSVデータ2!F177),CSVデータ2!F177,0)+IF(ISNUMBER(CSVデータ3!F177),CSVデータ3!F177,0)+IF(ISNUMBER(CSVデータ4!F177),CSVデータ4!F177,0)","v":7},null,{"$f":"IF(ISNUMBER(CSVデータ1!H177),CSVデータ1!H177,0)+IF(ISNUMBER(CSVデータ2!H177),CSVデータ2!H177,0)+IF(ISNUMBER(CSVデータ3!H177),CSVデータ3!H177,0)+IF(ISNUMBER(CSVデータ4!H177),CSVデータ4!H177,0)","v":12},null,{"$f":"IF(ISNUMBER(CSVデータ1!J177),CSVデータ1!J177,0)+IF(ISNUMBER(CSVデータ2!J177),CSVデータ2!J177,0)+IF(ISNUMBER(CSVデータ3!J177),CSVデータ3!J177,0)+IF(ISNUMBER(CSVデータ4!J177),CSVデータ4!J177,0)","v":5},null,{"$f":"IF(ISNUMBER(CSVデータ1!L177),CSVデータ1!L177,0)+IF(ISNUMBER(CSVデータ2!L177),CSVデータ2!L177,0)+IF(ISNUMBER(CSVデータ3!L177),CSVデータ3!L177,0)+IF(ISNUMBER(CSVデータ4!L177),CSVデータ4!L177,0)","v":3},null,{"$f":"IF(ISNUMBER(CSVデータ1!N177),CSVデータ1!N177,0)+IF(ISNUMBER(CSVデータ2!N177),CSVデータ2!N177,0)+IF(ISNUMBER(CSVデータ3!N177),CSVデータ3!N177,0)+IF(ISNUMBER(CSVデータ4!N177),CSVデータ4!N177,0)","v":1},null,{"$f":"IF(ISNUMBER(CSVデータ1!P177),CSVデータ1!P177,0)+IF(ISNUMBER(CSVデータ2!P177),CSVデータ2!P177,0)+IF(ISNUMBER(CSVデータ3!P177),CSVデータ3!P177,0)+IF(ISNUMBER(CSVデータ4!P177),CSVデータ4!P177,0)","v":10},null,{"$f":"IF(ISNUMBER(CSVデータ1!R177),CSVデータ1!R177,0)+IF(ISNUMBER(CSVデータ2!R177),CSVデータ2!R177,0)+IF(ISNUMBER(CSVデータ3!R177),CSVデータ3!R177,0)+IF(ISNUMBER(CSVデータ4!R177),CSVデータ4!R177,0)","v":12},null,{"$f":"IF(ISNUMBER(CSVデータ1!T177),CSVデータ1!T177,0)+IF(ISNUMBER(CSVデータ2!T177),CSVデータ2!T177,0)+IF(ISNUMBER(CSVデータ3!T177),CSVデータ3!T177,0)+IF(ISNUMBER(CSVデータ4!T177),CSVデータ4!T177,0)","v":3},null,{"$f":"IF(ISNUMBER(CSVデータ1!V177),CSVデータ1!V177,0)+IF(ISNUMBER(CSVデータ2!V177),CSVデータ2!V177,0)+IF(ISNUMBER(CSVデータ3!V177),CSVデータ3!V177,0)+IF(ISNUMBER(CSVデータ4!V177),CSVデータ4!V177,0)","v":13},null,{"$f":"IF(ISNUMBER(CSVデータ1!X177),CSVデータ1!X177,0)+IF(ISNUMBER(CSVデータ2!X177),CSVデータ2!X177,0)+IF(ISNUMBER(CSVデータ3!X177),CSVデータ3!X177,0)+IF(ISNUMBER(CSVデータ4!X177),CSVデータ4!X177,0)","v":5},null,{"$f":"IF(ISNUMBER(CSVデータ1!Z177),CSVデータ1!Z177,0)+IF(ISNUMBER(CSVデータ2!Z177),CSVデータ2!Z177,0)+IF(ISNUMBER(CSVデータ3!Z177),CSVデータ3!Z177,0)+IF(ISNUMBER(CSVデータ4!Z177),CSVデータ4!Z177,0)","v":9},null,{"$f":"IF(ISNUMBER(CSVデータ1!AB177),CSVデータ1!AB177,0)+IF(ISNUMBER(CSVデータ2!AB177),CSVデータ2!AB177,0)+IF(ISNUMBER(CSVデータ3!AB177),CSVデータ3!AB177,0)+IF(ISNUMBER(CSVデータ4!AB177),CSVデータ4!AB177,0)","v":0},null,{"$f":"IF(ISNUMBER(CSVデータ1!AD177),CSVデータ1!AD177,0)+IF(ISNUMBER(CSVデータ2!AD177),CSVデータ2!AD177,0)+IF(ISNUMBER(CSVデータ3!AD177),CSVデータ3!AD177,0)+IF(ISNUMBER(CSVデータ4!AD177),CSVデータ4!AD177,0)","v":12},null,{"$f":"IF(ISNUMBER(CSVデータ1!AF177),CSVデータ1!AF177,0)+IF(ISNUMBER(CSVデータ2!AF177),CSVデータ2!AF177,0)+IF(ISNUMBER(CSVデータ3!AF177),CSVデータ3!AF177,0)+IF(ISNUMBER(CSVデータ4!AF177),CSVデータ4!AF177,0)","v":0},null,{"$f":"IF(ISNUMBER(CSVデータ1!AH177),CSVデータ1!AH177,0)+IF(ISNUMBER(CSVデータ2!AH177),CSVデータ2!AH177,0)+IF(ISNUMBER(CSVデータ3!AH177),CSVデータ3!AH177,0)+IF(ISNUMBER(CSVデータ4!AH177),CSVデータ4!AH177,0)","v":1},null,{"$f":"IF(ISNUMBER(CSVデータ1!AJ177),CSVデータ1!AJ177,0)+IF(ISNUMBER(CSVデータ2!AJ177),CSVデータ2!AJ177,0)+IF(ISNUMBER(CSVデータ3!AJ177),CSVデータ3!AJ177,0)+IF(ISNUMBER(CSVデータ4!AJ177),CSVデータ4!AJ177,0)","v":0},null,{"$f":"IF(ISNUMBER(CSVデータ1!AL177),CSVデータ1!AL177,0)+IF(ISNUMBER(CSVデータ2!AL177),CSVデータ2!AL177,0)+IF(ISNUMBER(CSVデータ3!AL177),CSVデータ3!AL177,0)+IF(ISNUMBER(CSVデータ4!AL177),CSVデータ4!AL177,0)","v":7},null,{"$f":"IF(ISNUMBER(CSVデータ1!AN177),CSVデータ1!AN177,0)+IF(ISNUMBER(CSVデータ2!AN177),CSVデータ2!AN177,0)+IF(ISNUMBER(CSVデータ3!AN177),CSVデータ3!AN177,0)+IF(ISNUMBER(CSVデータ4!AN177),CSVデータ4!AN177,0)","v":0}]
[{"$f":"CSVデータ1!A178","v":"明細部"},{"$f":"CSVデータ1!B178","v":"保険者（地区）"},{"$f":"CSVデータ1!C178","v":74},{"$f":"CSVデータ1!D178","v":"男"},{"$f":"IF(ISNUMBER(CSVデータ1!E178),CSVデータ1!E178,0)+IF(ISNUMBER(CSVデータ2!E178),CSVデータ2!E178,0)+IF(ISNUMBER(CSVデータ3!E178),CSVデータ3!E178,0)+IF(ISNUMBER(CSVデータ4!E178),CSVデータ4!E178,0)","v":31},{"$f":"IF(ISNUMBER(CSVデータ1!F178),CSVデータ1!F178,0)+IF(ISNUMBER(CSVデータ2!F178),CSVデータ2!F178,0)+IF(ISNUMBER(CSVデータ3!F178),CSVデータ3!F178,0)+IF(ISNUMBER(CSVデータ4!F178),CSVデータ4!F178,0)","v":10},null,{"$f":"IF(ISNUMBER(CSVデータ1!H178),CSVデータ1!H178,0)+IF(ISNUMBER(CSVデータ2!H178),CSVデータ2!H178,0)+IF(ISNUMBER(CSVデータ3!H178),CSVデータ3!H178,0)+IF(ISNUMBER(CSVデータ4!H178),CSVデータ4!H178,0)","v":18},null,{"$f":"IF(ISNUMBER(CSVデータ1!J178),CSVデータ1!J178,0)+IF(ISNUMBER(CSVデータ2!J178),CSVデータ2!J178,0)+IF(ISNUMBER(CSVデータ3!J178),CSVデータ3!J178,0)+IF(ISNUMBER(CSVデータ4!J178),CSVデータ4!J178,0)","v":5},null,{"$f":"IF(ISNUMBER(CSVデータ1!L178),CSVデータ1!L178,0)+IF(ISNUMBER(CSVデータ2!L178),CSVデータ2!L178,0)+IF(ISNUMBER(CSVデータ3!L178),CSVデータ3!L178,0)+IF(ISNUMBER(CSVデータ4!L178),CSVデータ4!L178,0)","v":2},null,{"$f":"IF(ISNUMBER(CSVデータ1!N178),CSVデータ1!N178,0)+IF(ISNUMBER(CSVデータ2!N178),CSVデータ2!N178,0)+IF(ISNUMBER(CSVデータ3!N178),CSVデータ3!N178,0)+IF(ISNUMBER(CSVデータ4!N178),CSVデータ4!N178,0)","v":1},null,{"$f":"IF(ISNUMBER(CSVデータ1!P178),CSVデータ1!P178,0)+IF(ISNUMBER(CSVデータ2!P178),CSVデータ2!P178,0)+IF(ISNUMBER(CSVデータ3!P178),CSVデータ3!P178,0)+IF(ISNUMBER(CSVデータ4!P178),CSVデータ4!P178,0)","v":13},null,{"$f":"IF(ISNUMBER(CSVデータ1!R178),CSVデータ1!R178,0)+IF(ISNUMBER(CSVデータ2!R178),CSVデータ2!R178,0)+IF(ISNUMBER(CSVデータ3!R178),CSVデータ3!R178,0)+IF(ISNUMBER(CSVデータ4!R178),CSVデータ4!R178,0)","v":16},null,{"$f":"IF(ISNUMBER(CSVデータ1!T178),CSVデータ1!T178,0)+IF(ISNUMBER(CSVデータ2!T178),CSVデータ2!T178,0)+IF(ISNUMBER(CSVデータ3!T178),CSVデータ3!T178,0)+IF(ISNUMBER(CSVデータ4!T178),CSVデータ4!T178,0)","v":3},null,{"$f":"IF(ISNUMBER(CSVデータ1!V178),CSVデータ1!V178,0)+IF(ISNUMBER(CSVデータ2!V178),CSVデータ2!V178,0)+IF(ISNUMBER(CSVデータ3!V178),CSVデータ3!V178,0)+IF(ISNUMBER(CSVデータ4!V178),CSVデータ4!V178,0)","v":16},null,{"$f":"IF(ISNUMBER(CSVデータ1!X178),CSVデータ1!X178,0)+IF(ISNUMBER(CSVデータ2!X178),CSVデータ2!X178,0)+IF(ISNUMBER(CSVデータ3!X178),CSVデータ3!X178,0)+IF(ISNUMBER(CSVデータ4!X178),CSVデータ4!X178,0)","v":8},null,{"$f":"IF(ISNUMBER(CSVデータ1!Z178),CSVデータ1!Z178,0)+IF(ISNUMBER(CSVデータ2!Z178),CSVデータ2!Z178,0)+IF(ISNUMBER(CSVデータ3!Z178),CSVデータ3!Z178,0)+IF(ISNUMBER(CSVデータ4!Z178),CSVデータ4!Z178,0)","v":9},null,{"$f":"IF(ISNUMBER(CSVデータ1!AB178),CSVデータ1!AB178,0)+IF(ISNUMBER(CSVデータ2!AB178),CSVデータ2!AB178,0)+IF(ISNUMBER(CSVデータ3!AB178),CSVデータ3!AB178,0)+IF(ISNUMBER(CSVデータ4!AB178),CSVデータ4!AB178,0)","v":0},null,{"$f":"IF(ISNUMBER(CSVデータ1!AD178),CSVデータ1!AD178,0)+IF(ISNUMBER(CSVデータ2!AD178),CSVデータ2!AD178,0)+IF(ISNUMBER(CSVデータ3!AD178),CSVデータ3!AD178,0)+IF(ISNUMBER(CSVデータ4!AD178),CSVデータ4!AD178,0)","v":19},null,{"$f":"IF(ISNUMBER(CSVデータ1!AF178),CSVデータ1!AF178,0)+IF(ISNUMBER(CSVデータ2!AF178),CSVデータ2!AF178,0)+IF(ISNUMBER(CSVデータ3!AF178),CSVデータ3!AF178,0)+IF(ISNUMBER(CSVデータ4!AF178),CSVデータ4!AF178,0)","v":0},null,{"$f":"IF(ISNUMBER(CSVデータ1!AH178),CSVデータ1!AH178,0)+IF(ISNUMBER(CSVデータ2!AH178),CSVデータ2!AH178,0)+IF(ISNUMBER(CSVデータ3!AH178),CSVデータ3!AH178,0)+IF(ISNUMBER(CSVデータ4!AH178),CSVデータ4!AH178,0)","v":0},null,{"$f":"IF(ISNUMBER(CSVデータ1!AJ178),CSVデータ1!AJ178,0)+IF(ISNUMBER(CSVデータ2!AJ178),CSVデータ2!AJ178,0)+IF(ISNUMBER(CSVデータ3!AJ178),CSVデータ3!AJ178,0)+IF(ISNUMBER(CSVデータ4!AJ178),CSVデータ4!AJ178,0)","v":0},null,{"$f":"IF(ISNUMBER(CSVデータ1!AL178),CSVデータ1!AL178,0)+IF(ISNUMBER(CSVデータ2!AL178),CSVデータ2!AL178,0)+IF(ISNUMBER(CSVデータ3!AL178),CSVデータ3!AL178,0)+IF(ISNUMBER(CSVデータ4!AL178),CSVデータ4!AL178,0)","v":9},null,{"$f":"IF(ISNUMBER(CSVデータ1!AN178),CSVデータ1!AN178,0)+IF(ISNUMBER(CSVデータ2!AN178),CSVデータ2!AN178,0)+IF(ISNUMBER(CSVデータ3!AN178),CSVデータ3!AN178,0)+IF(ISNUMBER(CSVデータ4!AN178),CSVデータ4!AN178,0)","v":1}]
[{"$f":"CSVデータ1!A179","v":"明細部"},{"$f":"CSVデータ1!B179","v":"保険者（地区）"},{"$f":"CSVデータ1!C179","v":40},{"$f":"CSVデータ1!D179","v":"女"},{"$f":"IF(ISNUMBER(CSVデータ1!E179),CSVデータ1!E179,0)+IF(ISNUMBER(CSVデータ2!E179),CSVデータ2!E179,0)+IF(ISNUMBER(CSVデータ3!E179),CSVデータ3!E179,0)+IF(ISNUMBER(CSVデータ4!E179),CSVデータ4!E179,0)","v":6},{"$f":"IF(ISNUMBER(CSVデータ1!F179),CSVデータ1!F179,0)+IF(ISNUMBER(CSVデータ2!F179),CSVデータ2!F179,0)+IF(ISNUMBER(CSVデータ3!F179),CSVデータ3!F179,0)+IF(ISNUMBER(CSVデータ4!F179),CSVデータ4!F179,0)","v":2},null,{"$f":"IF(ISNUMBER(CSVデータ1!H179),CSVデータ1!H179,0)+IF(ISNUMBER(CSVデータ2!H179),CSVデータ2!H179,0)+IF(ISNUMBER(CSVデータ3!H179),CSVデータ3!H179,0)+IF(ISNUMBER(CSVデータ4!H179),CSVデータ4!H179,0)","v":1},null,{"$f":"IF(ISNUMBER(CSVデータ1!J179),CSVデータ1!J179,0)+IF(ISNUMBER(CSVデータ2!J179),CSVデータ2!J179,0)+IF(ISNUMBER(CSVデータ3!J179),CSVデータ3!J179,0)+IF(ISNUMBER(CSVデータ4!J179),CSVデータ4!J179,0)","v":0},null,{"$f":"IF(ISNUMBER(CSVデータ1!L179),CSVデータ1!L179,0)+IF(ISNUMBER(CSVデータ2!L179),CSVデータ2!L179,0)+IF(ISNUMBER(CSVデータ3!L179),CSVデータ3!L179,0)+IF(ISNUMBER(CSVデータ4!L179),CSVデータ4!L179,0)","v":0},null,{"$f":"IF(ISNUMBER(CSVデータ1!N179),CSVデータ1!N179,0)+IF(ISNUMBER(CSVデータ2!N179),CSVデータ2!N179,0)+IF(ISNUMBER(CSVデータ3!N179),CSVデータ3!N179,0)+IF(ISNUMBER(CSVデータ4!N179),CSVデータ4!N179,0)","v":0},null,{"$f":"IF(ISNUMBER(CSVデータ1!P179),CSVデータ1!P179,0)+IF(ISNUMBER(CSVデータ2!P179),CSVデータ2!P179,0)+IF(ISNUMBER(CSVデータ3!P179),CSVデータ3!P179,0)+IF(ISNUMBER(CSVデータ4!P179),CSVデータ4!P179,0)","v":0},null,{"$f":"IF(ISNUMBER(CSVデータ1!R179),CSVデータ1!R179,0)+IF(ISNUMBER(CSVデータ2!R179),CSVデータ2!R179,0)+IF(ISNUMBER(CSVデータ3!R179),CSVデータ3!R179,0)+IF(ISNUMBER(CSVデータ4!R179),CSVデータ4!R179,0)","v":0},null,{"$f":"IF(ISNUMBER(CSVデータ1!T179),CSVデータ1!T179,0)+IF(ISNUMBER(CSVデータ2!T179),CSVデータ2!T179,0)+IF(ISNUMBER(CSVデータ3!T179),CSVデータ3!T179,0)+IF(ISNUMBER(CSVデータ4!T179),CSVデータ4!T179,0)","v":0},null,{"$f":"IF(ISNUMBER(CSVデータ1!V179),CSVデータ1!V179,0)+IF(ISNUMBER(CSVデータ2!V179),CSVデータ2!V179,0)+IF(ISNUMBER(CSVデータ3!V179),CSVデータ3!V179,0)+IF(ISNUMBER(CSVデータ4!V179),CSVデータ4!V179,0)","v":0},null,{"$f":"IF(ISNUMBER(CSVデータ1!X179),CSVデータ1!X179,0)+IF(ISNUMBER(CSVデータ2!X179),CSVデータ2!X179,0)+IF(ISNUMBER(CSVデータ3!X179),CSVデータ3!X179,0)+IF(ISNUMBER(CSVデータ4!X179),CSVデータ4!X179,0)","v":0},null,{"$f":"IF(ISNUMBER(CSVデータ1!Z179),CSVデータ1!Z179,0)+IF(ISNUMBER(CSVデータ2!Z179),CSVデータ2!Z179,0)+IF(ISNUMBER(CSVデータ3!Z179),CSVデータ3!Z179,0)+IF(ISNUMBER(CSVデータ4!Z179),CSVデータ4!Z179,0)","v":2},null,{"$f":"IF(ISNUMBER(CSVデータ1!AB179),CSVデータ1!AB179,0)+IF(ISNUMBER(CSVデータ2!AB179),CSVデータ2!AB179,0)+IF(ISNUMBER(CSVデータ3!AB179),CSVデータ3!AB179,0)+IF(ISNUMBER(CSVデータ4!AB179),CSVデータ4!AB179,0)","v":0},null,{"$f":"IF(ISNUMBER(CSVデータ1!AD179),CSVデータ1!AD179,0)+IF(ISNUMBER(CSVデータ2!AD179),CSVデータ2!AD179,0)+IF(ISNUMBER(CSVデータ3!AD179),CSVデータ3!AD179,0)+IF(ISNUMBER(CSVデータ4!AD179),CSVデータ4!AD179,0)","v":0},null,{"$f":"IF(ISNUMBER(CSVデータ1!AF179),CSVデータ1!AF179,0)+IF(ISNUMBER(CSVデータ2!AF179),CSVデータ2!AF179,0)+IF(ISNUMBER(CSVデータ3!AF179),CSVデータ3!AF179,0)+IF(ISNUMBER(CSVデータ4!AF179),CSVデータ4!AF179,0)","v":0},null,{"$f":"IF(ISNUMBER(CSVデータ1!AH179),CSVデータ1!AH179,0)+IF(ISNUMBER(CSVデータ2!AH179),CSVデータ2!AH179,0)+IF(ISNUMBER(CSVデータ3!AH179),CSVデータ3!AH179,0)+IF(ISNUMBER(CSVデータ4!AH179),CSVデータ4!AH179,0)","v":0},null,{"$f":"IF(ISNUMBER(CSVデータ1!AJ179),CSVデータ1!AJ179,0)+IF(ISNUMBER(CSVデータ2!AJ179),CSVデータ2!AJ179,0)+IF(ISNUMBER(CSVデータ3!AJ179),CSVデータ3!AJ179,0)+IF(ISNUMBER(CSVデータ4!AJ179),CSVデータ4!AJ179,0)","v":0},null,{"$f":"IF(ISNUMBER(CSVデータ1!AL179),CSVデータ1!AL179,0)+IF(ISNUMBER(CSVデータ2!AL179),CSVデータ2!AL179,0)+IF(ISNUMBER(CSVデータ3!AL179),CSVデータ3!AL179,0)+IF(ISNUMBER(CSVデータ4!AL179),CSVデータ4!AL179,0)","v":0},null,{"$f":"IF(ISNUMBER(CSVデータ1!AN179),CSVデータ1!AN179,0)+IF(ISNUMBER(CSVデータ2!AN179),CSVデータ2!AN179,0)+IF(ISNUMBER(CSVデータ3!AN179),CSVデータ3!AN179,0)+IF(ISNUMBER(CSVデータ4!AN179),CSVデータ4!AN179,0)","v":0}]
[{"$f":"CSVデータ1!A180","v":"明細部"},{"$f":"CSVデータ1!B180","v":"保険者（地区）"},{"$f":"CSVデータ1!C180","v":41},{"$f":"CSVデータ1!D180","v":"女"},{"$f":"IF(ISNUMBER(CSVデータ1!E180),CSVデータ1!E180,0)+IF(ISNUMBER(CSVデータ2!E180),CSVデータ2!E180,0)+IF(ISNUMBER(CSVデータ3!E180),CSVデータ3!E180,0)+IF(ISNUMBER(CSVデータ4!E180),CSVデータ4!E180,0)","v":4},{"$f":"IF(ISNUMBER(CSVデータ1!F180),CSVデータ1!F180,0)+IF(ISNUMBER(CSVデータ2!F180),CSVデータ2!F180,0)+IF(ISNUMBER(CSVデータ3!F180),CSVデータ3!F180,0)+IF(ISNUMBER(CSVデータ4!F180),CSVデータ4!F180,0)","v":1},null,{"$f":"IF(ISNUMBER(CSVデータ1!H180),CSVデータ1!H180,0)+IF(ISNUMBER(CSVデータ2!H180),CSVデータ2!H180,0)+IF(ISNUMBER(CSVデータ3!H180),CSVデータ3!H180,0)+IF(ISNUMBER(CSVデータ4!H180),CSVデータ4!H180,0)","v":2},null,{"$f":"IF(ISNUMBER(CSVデータ1!J180),CSVデータ1!J180,0)+IF(ISNUMBER(CSVデータ2!J180),CSVデータ2!J180,0)+IF(ISNUMBER(CSVデータ3!J180),CSVデータ3!J180,0)+IF(ISNUMBER(CSVデータ4!J180),CSVデータ4!J180,0)","v":1},null,{"$f":"IF(ISNUMBER(CSVデータ1!L180),CSVデータ1!L180,0)+IF(ISNUMBER(CSVデータ2!L180),CSVデータ2!L180,0)+IF(ISNUMBER(CSVデータ3!L180),CSVデータ3!L180,0)+IF(ISNUMBER(CSVデータ4!L180),CSVデータ4!L180,0)","v":0},null,{"$f":"IF(ISNUMBER(CSVデータ1!N180),CSVデータ1!N180,0)+IF(ISNUMBER(CSVデータ2!N180),CSVデータ2!N180,0)+IF(ISNUMBER(CSVデータ3!N180),CSVデータ3!N180,0)+IF(ISNUMBER(CSVデータ4!N180),CSVデータ4!N180,0)","v":0},null,{"$f":"IF(ISNUMBER(CSVデータ1!P180),CSVデータ1!P180,0)+IF(ISNUMBER(CSVデータ2!P180),CSVデータ2!P180,0)+IF(ISNUMBER(CSVデータ3!P180),CSVデータ3!P180,0)+IF(ISNUMBER(CSVデータ4!P180),CSVデータ4!P180,0)","v":0},null,{"$f":"IF(ISNUMBER(CSVデータ1!R180),CSVデータ1!R180,0)+IF(ISNUMBER(CSVデータ2!R180),CSVデータ2!R180,0)+IF(ISNUMBER(CSVデータ3!R180),CSVデータ3!R180,0)+IF(ISNUMBER(CSVデータ4!R180),CSVデータ4!R180,0)","v":1},null,{"$f":"IF(ISNUMBER(CSVデータ1!T180),CSVデータ1!T180,0)+IF(ISNUMBER(CSVデータ2!T180),CSVデータ2!T180,0)+IF(ISNUMBER(CSVデータ3!T180),CSVデータ3!T180,0)+IF(ISNUMBER(CSVデータ4!T180),CSVデータ4!T180,0)","v":0},null,{"$f":"IF(ISNUMBER(CSVデータ1!V180),CSVデータ1!V180,0)+IF(ISNUMBER(CSVデータ2!V180),CSVデータ2!V180,0)+IF(ISNUMBER(CSVデータ3!V180),CSVデータ3!V180,0)+IF(ISNUMBER(CSVデータ4!V180),CSVデータ4!V180,0)","v":0},null,{"$f":"IF(ISNUMBER(CSVデータ1!X180),CSVデータ1!X180,0)+IF(ISNUMBER(CSVデータ2!X180),CSVデータ2!X180,0)+IF(ISNUMBER(CSVデータ3!X180),CSVデータ3!X180,0)+IF(ISNUMBER(CSVデータ4!X180),CSVデータ4!X180,0)","v":1},null,{"$f":"IF(ISNUMBER(CSVデータ1!Z180),CSVデータ1!Z180,0)+IF(ISNUMBER(CSVデータ2!Z180),CSVデータ2!Z180,0)+IF(ISNUMBER(CSVデータ3!Z180),CSVデータ3!Z180,0)+IF(ISNUMBER(CSVデータ4!Z180),CSVデータ4!Z180,0)","v":2},null,{"$f":"IF(ISNUMBER(CSVデータ1!AB180),CSVデータ1!AB180,0)+IF(ISNUMBER(CSVデータ2!AB180),CSVデータ2!AB180,0)+IF(ISNUMBER(CSVデータ3!AB180),CSVデータ3!AB180,0)+IF(ISNUMBER(CSVデータ4!AB180),CSVデータ4!AB180,0)","v":0},null,{"$f":"IF(ISNUMBER(CSVデータ1!AD180),CSVデータ1!AD180,0)+IF(ISNUMBER(CSVデータ2!AD180),CSVデータ2!AD180,0)+IF(ISNUMBER(CSVデータ3!AD180),CSVデータ3!AD180,0)+IF(ISNUMBER(CSVデータ4!AD180),CSVデータ4!AD180,0)","v":0},null,{"$f":"IF(ISNUMBER(CSVデータ1!AF180),CSVデータ1!AF180,0)+IF(ISNUMBER(CSVデータ2!AF180),CSVデータ2!AF180,0)+IF(ISNUMBER(CSVデータ3!AF180),CSVデータ3!AF180,0)+IF(ISNUMBER(CSVデータ4!AF180),CSVデータ4!AF180,0)","v":0},null,{"$f":"IF(ISNUMBER(CSVデータ1!AH180),CSVデータ1!AH180,0)+IF(ISNUMBER(CSVデータ2!AH180),CSVデータ2!AH180,0)+IF(ISNUMBER(CSVデータ3!AH180),CSVデータ3!AH180,0)+IF(ISNUMBER(CSVデータ4!AH180),CSVデータ4!AH180,0)","v":0},null,{"$f":"IF(ISNUMBER(CSVデータ1!AJ180),CSVデータ1!AJ180,0)+IF(ISNUMBER(CSVデータ2!AJ180),CSVデータ2!AJ180,0)+IF(ISNUMBER(CSVデータ3!AJ180),CSVデータ3!AJ180,0)+IF(ISNUMBER(CSVデータ4!AJ180),CSVデータ4!AJ180,0)","v":0},null,{"$f":"IF(ISNUMBER(CSVデータ1!AL180),CSVデータ1!AL180,0)+IF(ISNUMBER(CSVデータ2!AL180),CSVデータ2!AL180,0)+IF(ISNUMBER(CSVデータ3!AL180),CSVデータ3!AL180,0)+IF(ISNUMBER(CSVデータ4!AL180),CSVデータ4!AL180,0)","v":0},null,{"$f":"IF(ISNUMBER(CSVデータ1!AN180),CSVデータ1!AN180,0)+IF(ISNUMBER(CSVデータ2!AN180),CSVデータ2!AN180,0)+IF(ISNUMBER(CSVデータ3!AN180),CSVデータ3!AN180,0)+IF(ISNUMBER(CSVデータ4!AN180),CSVデータ4!AN180,0)","v":0}]
[{"$f":"CSVデータ1!A181","v":"明細部"},{"$f":"CSVデータ1!B181","v":"保険者（地区）"},{"$f":"CSVデータ1!C181","v":42},{"$f":"CSVデータ1!D181","v":"女"},{"$f":"IF(ISNUMBER(CSVデータ1!E181),CSVデータ1!E181,0)+IF(ISNUMBER(CSVデータ2!E181),CSVデータ2!E181,0)+IF(ISNUMBER(CSVデータ3!E181),CSVデータ3!E181,0)+IF(ISNUMBER(CSVデータ4!E181),CSVデータ4!E181,0)","v":1},{"$f":"IF(ISNUMBER(CSVデータ1!F181),CSVデータ1!F181,0)+IF(ISNUMBER(CSVデータ2!F181),CSVデータ2!F181,0)+IF(ISNUMBER(CSVデータ3!F181),CSVデータ3!F181,0)+IF(ISNUMBER(CSVデータ4!F181),CSVデータ4!F181,0)","v":0},null,{"$f":"IF(ISNUMBER(CSVデータ1!H181),CSVデータ1!H181,0)+IF(ISNUMBER(CSVデータ2!H181),CSVデータ2!H181,0)+IF(ISNUMBER(CSVデータ3!H181),CSVデータ3!H181,0)+IF(ISNUMBER(CSVデータ4!H181),CSVデータ4!H181,0)","v":0},null,{"$f":"IF(ISNUMBER(CSVデータ1!J181),CSVデータ1!J181,0)+IF(ISNUMBER(CSVデータ2!J181),CSVデータ2!J181,0)+IF(ISNUMBER(CSVデータ3!J181),CSVデータ3!J181,0)+IF(ISNUMBER(CSVデータ4!J181),CSVデータ4!J181,0)","v":0},null,{"$f":"IF(ISNUMBER(CSVデータ1!L181),CSVデータ1!L181,0)+IF(ISNUMBER(CSVデータ2!L181),CSVデータ2!L181,0)+IF(ISNUMBER(CSVデータ3!L181),CSVデータ3!L181,0)+IF(ISNUMBER(CSVデータ4!L181),CSVデータ4!L181,0)","v":0},null,{"$f":"IF(ISNUMBER(CSVデータ1!N181),CSVデータ1!N181,0)+IF(ISNUMBER(CSVデータ2!N181),CSVデータ2!N181,0)+IF(ISNUMBER(CSVデータ3!N181),CSVデータ3!N181,0)+IF(ISNUMBER(CSVデータ4!N181),CSVデータ4!N181,0)","v":0},null,{"$f":"IF(ISNUMBER(CSVデータ1!P181),CSVデータ1!P181,0)+IF(ISNUMBER(CSVデータ2!P181),CSVデータ2!P181,0)+IF(ISNUMBER(CSVデータ3!P181),CSVデータ3!P181,0)+IF(ISNUMBER(CSVデータ4!P181),CSVデータ4!P181,0)","v":0},null,{"$f":"IF(ISNUMBER(CSVデータ1!R181),CSVデータ1!R181,0)+IF(ISNUMBER(CSVデータ2!R181),CSVデータ2!R181,0)+IF(ISNUMBER(CSVデータ3!R181),CSVデータ3!R181,0)+IF(ISNUMBER(CSVデータ4!R181),CSVデータ4!R181,0)","v":0},null,{"$f":"IF(ISNUMBER(CSVデータ1!T181),CSVデータ1!T181,0)+IF(ISNUMBER(CSVデータ2!T181),CSVデータ2!T181,0)+IF(ISNUMBER(CSVデータ3!T181),CSVデータ3!T181,0)+IF(ISNUMBER(CSVデータ4!T181),CSVデータ4!T181,0)","v":0},null,{"$f":"IF(ISNUMBER(CSVデータ1!V181),CSVデータ1!V181,0)+IF(ISNUMBER(CSVデータ2!V181),CSVデータ2!V181,0)+IF(ISNUMBER(CSVデータ3!V181),CSVデータ3!V181,0)+IF(ISNUMBER(CSVデータ4!V181),CSVデータ4!V181,0)","v":0},null,{"$f":"IF(ISNUMBER(CSVデータ1!X181),CSVデータ1!X181,0)+IF(ISNUMBER(CSVデータ2!X181),CSVデータ2!X181,0)+IF(ISNUMBER(CSVデータ3!X181),CSVデータ3!X181,0)+IF(ISNUMBER(CSVデータ4!X181),CSVデータ4!X181,0)","v":0},null,{"$f":"IF(ISNUMBER(CSVデータ1!Z181),CSVデータ1!Z181,0)+IF(ISNUMBER(CSVデータ2!Z181),CSVデータ2!Z181,0)+IF(ISNUMBER(CSVデータ3!Z181),CSVデータ3!Z181,0)+IF(ISNUMBER(CSVデータ4!Z181),CSVデータ4!Z181,0)","v":0},null,{"$f":"IF(ISNUMBER(CSVデータ1!AB181),CSVデータ1!AB181,0)+IF(ISNUMBER(CSVデータ2!AB181),CSVデータ2!AB181,0)+IF(ISNUMBER(CSVデータ3!AB181),CSVデータ3!AB181,0)+IF(ISNUMBER(CSVデータ4!AB181),CSVデータ4!AB181,0)","v":0},null,{"$f":"IF(ISNUMBER(CSVデータ1!AD181),CSVデータ1!AD181,0)+IF(ISNUMBER(CSVデータ2!AD181),CSVデータ2!AD181,0)+IF(ISNUMBER(CSVデータ3!AD181),CSVデータ3!AD181,0)+IF(ISNUMBER(CSVデータ4!AD181),CSVデータ4!AD181,0)","v":0},null,{"$f":"IF(ISNUMBER(CSVデータ1!AF181),CSVデータ1!AF181,0)+IF(ISNUMBER(CSVデータ2!AF181),CSVデータ2!AF181,0)+IF(ISNUMBER(CSVデータ3!AF181),CSVデータ3!AF181,0)+IF(ISNUMBER(CSVデータ4!AF181),CSVデータ4!AF181,0)","v":0},null,{"$f":"IF(ISNUMBER(CSVデータ1!AH181),CSVデータ1!AH181,0)+IF(ISNUMBER(CSVデータ2!AH181),CSVデータ2!AH181,0)+IF(ISNUMBER(CSVデータ3!AH181),CSVデータ3!AH181,0)+IF(ISNUMBER(CSVデータ4!AH181),CSVデータ4!AH181,0)","v":0},null,{"$f":"IF(ISNUMBER(CSVデータ1!AJ181),CSVデータ1!AJ181,0)+IF(ISNUMBER(CSVデータ2!AJ181),CSVデータ2!AJ181,0)+IF(ISNUMBER(CSVデータ3!AJ181),CSVデータ3!AJ181,0)+IF(ISNUMBER(CSVデータ4!AJ181),CSVデータ4!AJ181,0)","v":0},null,{"$f":"IF(ISNUMBER(CSVデータ1!AL181),CSVデータ1!AL181,0)+IF(ISNUMBER(CSVデータ2!AL181),CSVデータ2!AL181,0)+IF(ISNUMBER(CSVデータ3!AL181),CSVデータ3!AL181,0)+IF(ISNUMBER(CSVデータ4!AL181),CSVデータ4!AL181,0)","v":0},null,{"$f":"IF(ISNUMBER(CSVデータ1!AN181),CSVデータ1!AN181,0)+IF(ISNUMBER(CSVデータ2!AN181),CSVデータ2!AN181,0)+IF(ISNUMBER(CSVデータ3!AN181),CSVデータ3!AN181,0)+IF(ISNUMBER(CSVデータ4!AN181),CSVデータ4!AN181,0)","v":0}]
[{"$f":"CSVデータ1!A182","v":"明細部"},{"$f":"CSVデータ1!B182","v":"保険者（地区）"},{"$f":"CSVデータ1!C182","v":43},{"$f":"CSVデータ1!D182","v":"女"},{"$f":"IF(ISNUMBER(CSVデータ1!E182),CSVデータ1!E182,0)+IF(ISNUMBER(CSVデータ2!E182),CSVデータ2!E182,0)+IF(ISNUMBER(CSVデータ3!E182),CSVデータ3!E182,0)+IF(ISNUMBER(CSVデータ4!E182),CSVデータ4!E182,0)","v":3},{"$f":"IF(ISNUMBER(CSVデータ1!F182),CSVデータ1!F182,0)+IF(ISNUMBER(CSVデータ2!F182),CSVデータ2!F182,0)+IF(ISNUMBER(CSVデータ3!F182),CSVデータ3!F182,0)+IF(ISNUMBER(CSVデータ4!F182),CSVデータ4!F182,0)","v":1},null,{"$f":"IF(ISNUMBER(CSVデータ1!H182),CSVデータ1!H182,0)+IF(ISNUMBER(CSVデータ2!H182),CSVデータ2!H182,0)+IF(ISNUMBER(CSVデータ3!H182),CSVデータ3!H182,0)+IF(ISNUMBER(CSVデータ4!H182),CSVデータ4!H182,0)","v":0},null,{"$f":"IF(ISNUMBER(CSVデータ1!J182),CSVデータ1!J182,0)+IF(ISNUMBER(CSVデータ2!J182),CSVデータ2!J182,0)+IF(ISNUMBER(CSVデータ3!J182),CSVデータ3!J182,0)+IF(ISNUMBER(CSVデータ4!J182),CSVデータ4!J182,0)","v":0},null,{"$f":"IF(ISNUMBER(CSVデータ1!L182),CSVデータ1!L182,0)+IF(ISNUMBER(CSVデータ2!L182),CSVデータ2!L182,0)+IF(ISNUMBER(CSVデータ3!L182),CSVデータ3!L182,0)+IF(ISNUMBER(CSVデータ4!L182),CSVデータ4!L182,0)","v":0},null,{"$f":"IF(ISNUMBER(CSVデータ1!N182),CSVデータ1!N182,0)+IF(ISNUMBER(CSVデータ2!N182),CSVデータ2!N182,0)+IF(ISNUMBER(CSVデータ3!N182),CSVデータ3!N182,0)+IF(ISNUMBER(CSVデータ4!N182),CSVデータ4!N182,0)","v":0},null,{"$f":"IF(ISNUMBER(CSVデータ1!P182),CSVデータ1!P182,0)+IF(ISNUMBER(CSVデータ2!P182),CSVデータ2!P182,0)+IF(ISNUMBER(CSVデータ3!P182),CSVデータ3!P182,0)+IF(ISNUMBER(CSVデータ4!P182),CSVデータ4!P182,0)","v":0},null,{"$f":"IF(ISNUMBER(CSVデータ1!R182),CSVデータ1!R182,0)+IF(ISNUMBER(CSVデータ2!R182),CSVデータ2!R182,0)+IF(ISNUMBER(CSVデータ3!R182),CSVデータ3!R182,0)+IF(ISNUMBER(CSVデータ4!R182),CSVデータ4!R182,0)","v":1},null,{"$f":"IF(ISNUMBER(CSVデータ1!T182),CSVデータ1!T182,0)+IF(ISNUMBER(CSVデータ2!T182),CSVデータ2!T182,0)+IF(ISNUMBER(CSVデータ3!T182),CSVデータ3!T182,0)+IF(ISNUMBER(CSVデータ4!T182),CSVデータ4!T182,0)","v":0},null,{"$f":"IF(ISNUMBER(CSVデータ1!V182),CSVデータ1!V182,0)+IF(ISNUMBER(CSVデータ2!V182),CSVデータ2!V182,0)+IF(ISNUMBER(CSVデータ3!V182),CSVデータ3!V182,0)+IF(ISNUMBER(CSVデータ4!V182),CSVデータ4!V182,0)","v":0},null,{"$f":"IF(ISNUMBER(CSVデータ1!X182),CSVデータ1!X182,0)+IF(ISNUMBER(CSVデータ2!X182),CSVデータ2!X182,0)+IF(ISNUMBER(CSVデータ3!X182),CSVデータ3!X182,0)+IF(ISNUMBER(CSVデータ4!X182),CSVデータ4!X182,0)","v":0},null,{"$f":"IF(ISNUMBER(CSVデータ1!Z182),CSVデータ1!Z182,0)+IF(ISNUMBER(CSVデータ2!Z182),CSVデータ2!Z182,0)+IF(ISNUMBER(CSVデータ3!Z182),CSVデータ3!Z182,0)+IF(ISNUMBER(CSVデータ4!Z182),CSVデータ4!Z182,0)","v":1},null,{"$f":"IF(ISNUMBER(CSVデータ1!AB182),CSVデータ1!AB182,0)+IF(ISNUMBER(CSVデータ2!AB182),CSVデータ2!AB182,0)+IF(ISNUMBER(CSVデータ3!AB182),CSVデータ3!AB182,0)+IF(ISNUMBER(CSVデータ4!AB182),CSVデータ4!AB182,0)","v":0},null,{"$f":"IF(ISNUMBER(CSVデータ1!AD182),CSVデータ1!AD182,0)+IF(ISNUMBER(CSVデータ2!AD182),CSVデータ2!AD182,0)+IF(ISNUMBER(CSVデータ3!AD182),CSVデータ3!AD182,0)+IF(ISNUMBER(CSVデータ4!AD182),CSVデータ4!AD182,0)","v":0},null,{"$f":"IF(ISNUMBER(CSVデータ1!AF182),CSVデータ1!AF182,0)+IF(ISNUMBER(CSVデータ2!AF182),CSVデータ2!AF182,0)+IF(ISNUMBER(CSVデータ3!AF182),CSVデータ3!AF182,0)+IF(ISNUMBER(CSVデータ4!AF182),CSVデータ4!AF182,0)","v":0},null,{"$f":"IF(ISNUMBER(CSVデータ1!AH182),CSVデータ1!AH182,0)+IF(ISNUMBER(CSVデータ2!AH182),CSVデータ2!AH182,0)+IF(ISNUMBER(CSVデータ3!AH182),CSVデータ3!AH182,0)+IF(ISNUMBER(CSVデータ4!AH182),CSVデータ4!AH182,0)","v":0},null,{"$f":"IF(ISNUMBER(CSVデータ1!AJ182),CSVデータ1!AJ182,0)+IF(ISNUMBER(CSVデータ2!AJ182),CSVデータ2!AJ182,0)+IF(ISNUMBER(CSVデータ3!AJ182),CSVデータ3!AJ182,0)+IF(ISNUMBER(CSVデータ4!AJ182),CSVデータ4!AJ182,0)","v":0},null,{"$f":"IF(ISNUMBER(CSVデータ1!AL182),CSVデータ1!AL182,0)+IF(ISNUMBER(CSVデータ2!AL182),CSVデータ2!AL182,0)+IF(ISNUMBER(CSVデータ3!AL182),CSVデータ3!AL182,0)+IF(ISNUMBER(CSVデータ4!AL182),CSVデータ4!AL182,0)","v":0},null,{"$f":"IF(ISNUMBER(CSVデータ1!AN182),CSVデータ1!AN182,0)+IF(ISNUMBER(CSVデータ2!AN182),CSVデータ2!AN182,0)+IF(ISNUMBER(CSVデータ3!AN182),CSVデータ3!AN182,0)+IF(ISNUMBER(CSVデータ4!AN182),CSVデータ4!AN182,0)","v":0}]
[{"$f":"CSVデータ1!A183","v":"明細部"},{"$f":"CSVデータ1!B183","v":"保険者（地区）"},{"$f":"CSVデータ1!C183","v":44},{"$f":"CSVデータ1!D183","v":"女"},{"$f":"IF(ISNUMBER(CSVデータ1!E183),CSVデータ1!E183,0)+IF(ISNUMBER(CSVデータ2!E183),CSVデータ2!E183,0)+IF(ISNUMBER(CSVデータ3!E183),CSVデータ3!E183,0)+IF(ISNUMBER(CSVデータ4!E183),CSVデータ4!E183,0)","v":2},{"$f":"IF(ISNUMBER(CSVデータ1!F183),CSVデータ1!F183,0)+IF(ISNUMBER(CSVデータ2!F183),CSVデータ2!F183,0)+IF(ISNUMBER(CSVデータ3!F183),CSVデータ3!F183,0)+IF(ISNUMBER(CSVデータ4!F183),CSVデータ4!F183,0)","v":0},null,{"$f":"IF(ISNUMBER(CSVデータ1!H183),CSVデータ1!H183,0)+IF(ISNUMBER(CSVデータ2!H183),CSVデータ2!H183,0)+IF(ISNUMBER(CSVデータ3!H183),CSVデータ3!H183,0)+IF(ISNUMBER(CSVデータ4!H183),CSVデータ4!H183,0)","v":1},null,{"$f":"IF(ISNUMBER(CSVデータ1!J183),CSVデータ1!J183,0)+IF(ISNUMBER(CSVデータ2!J183),CSVデータ2!J183,0)+IF(ISNUMBER(CSVデータ3!J183),CSVデータ3!J183,0)+IF(ISNUMBER(CSVデータ4!J183),CSVデータ4!J183,0)","v":0},null,{"$f":"IF(ISNUMBER(CSVデータ1!L183),CSVデータ1!L183,0)+IF(ISNUMBER(CSVデータ2!L183),CSVデータ2!L183,0)+IF(ISNUMBER(CSVデータ3!L183),CSVデータ3!L183,0)+IF(ISNUMBER(CSVデータ4!L183),CSVデータ4!L183,0)","v":0},null,{"$f":"IF(ISNUMBER(CSVデータ1!N183),CSVデータ1!N183,0)+IF(ISNUMBER(CSVデータ2!N183),CSVデータ2!N183,0)+IF(ISNUMBER(CSVデータ3!N183),CSVデータ3!N183,0)+IF(ISNUMBER(CSVデータ4!N183),CSVデータ4!N183,0)","v":0},null,{"$f":"IF(ISNUMBER(CSVデータ1!P183),CSVデータ1!P183,0)+IF(ISNUMBER(CSVデータ2!P183),CSVデータ2!P183,0)+IF(ISNUMBER(CSVデータ3!P183),CSVデータ3!P183,0)+IF(ISNUMBER(CSVデータ4!P183),CSVデータ4!P183,0)","v":0},null,{"$f":"IF(ISNUMBER(CSVデータ1!R183),CSVデータ1!R183,0)+IF(ISNUMBER(CSVデータ2!R183),CSVデータ2!R183,0)+IF(ISNUMBER(CSVデータ3!R183),CSVデータ3!R183,0)+IF(ISNUMBER(CSVデータ4!R183),CSVデータ4!R183,0)","v":0},null,{"$f":"IF(ISNUMBER(CSVデータ1!T183),CSVデータ1!T183,0)+IF(ISNUMBER(CSVデータ2!T183),CSVデータ2!T183,0)+IF(ISNUMBER(CSVデータ3!T183),CSVデータ3!T183,0)+IF(ISNUMBER(CSVデータ4!T183),CSVデータ4!T183,0)","v":0},null,{"$f":"IF(ISNUMBER(CSVデータ1!V183),CSVデータ1!V183,0)+IF(ISNUMBER(CSVデータ2!V183),CSVデータ2!V183,0)+IF(ISNUMBER(CSVデータ3!V183),CSVデータ3!V183,0)+IF(ISNUMBER(CSVデータ4!V183),CSVデータ4!V183,0)","v":0},null,{"$f":"IF(ISNUMBER(CSVデータ1!X183),CSVデータ1!X183,0)+IF(ISNUMBER(CSVデータ2!X183),CSVデータ2!X183,0)+IF(ISNUMBER(CSVデータ3!X183),CSVデータ3!X183,0)+IF(ISNUMBER(CSVデータ4!X183),CSVデータ4!X183,0)","v":0},null,{"$f":"IF(ISNUMBER(CSVデータ1!Z183),CSVデータ1!Z183,0)+IF(ISNUMBER(CSVデータ2!Z183),CSVデータ2!Z183,0)+IF(ISNUMBER(CSVデータ3!Z183),CSVデータ3!Z183,0)+IF(ISNUMBER(CSVデータ4!Z183),CSVデータ4!Z183,0)","v":2},null,{"$f":"IF(ISNUMBER(CSVデータ1!AB183),CSVデータ1!AB183,0)+IF(ISNUMBER(CSVデータ2!AB183),CSVデータ2!AB183,0)+IF(ISNUMBER(CSVデータ3!AB183),CSVデータ3!AB183,0)+IF(ISNUMBER(CSVデータ4!AB183),CSVデータ4!AB183,0)","v":0},null,{"$f":"IF(ISNUMBER(CSVデータ1!AD183),CSVデータ1!AD183,0)+IF(ISNUMBER(CSVデータ2!AD183),CSVデータ2!AD183,0)+IF(ISNUMBER(CSVデータ3!AD183),CSVデータ3!AD183,0)+IF(ISNUMBER(CSVデータ4!AD183),CSVデータ4!AD183,0)","v":0},null,{"$f":"IF(ISNUMBER(CSVデータ1!AF183),CSVデータ1!AF183,0)+IF(ISNUMBER(CSVデータ2!AF183),CSVデータ2!AF183,0)+IF(ISNUMBER(CSVデータ3!AF183),CSVデータ3!AF183,0)+IF(ISNUMBER(CSVデータ4!AF183),CSVデータ4!AF183,0)","v":0},null,{"$f":"IF(ISNUMBER(CSVデータ1!AH183),CSVデータ1!AH183,0)+IF(ISNUMBER(CSVデータ2!AH183),CSVデータ2!AH183,0)+IF(ISNUMBER(CSVデータ3!AH183),CSVデータ3!AH183,0)+IF(ISNUMBER(CSVデータ4!AH183),CSVデータ4!AH183,0)","v":0},null,{"$f":"IF(ISNUMBER(CSVデータ1!AJ183),CSVデータ1!AJ183,0)+IF(ISNUMBER(CSVデータ2!AJ183),CSVデータ2!AJ183,0)+IF(ISNUMBER(CSVデータ3!AJ183),CSVデータ3!AJ183,0)+IF(ISNUMBER(CSVデータ4!AJ183),CSVデータ4!AJ183,0)","v":0},null,{"$f":"IF(ISNUMBER(CSVデータ1!AL183),CSVデータ1!AL183,0)+IF(ISNUMBER(CSVデータ2!AL183),CSVデータ2!AL183,0)+IF(ISNUMBER(CSVデータ3!AL183),CSVデータ3!AL183,0)+IF(ISNUMBER(CSVデータ4!AL183),CSVデータ4!AL183,0)","v":0},null,{"$f":"IF(ISNUMBER(CSVデータ1!AN183),CSVデータ1!AN183,0)+IF(ISNUMBER(CSVデータ2!AN183),CSVデータ2!AN183,0)+IF(ISNUMBER(CSVデータ3!AN183),CSVデータ3!AN183,0)+IF(ISNUMBER(CSVデータ4!AN183),CSVデータ4!AN183,0)","v":0}]
[{"$f":"CSVデータ1!A184","v":"明細部"},{"$f":"CSVデータ1!B184","v":"保険者（地区）"},{"$f":"CSVデータ1!C184","v":45},{"$f":"CSVデータ1!D184","v":"女"},{"$f":"IF(ISNUMBER(CSVデータ1!E184),CSVデータ1!E184,0)+IF(ISNUMBER(CSVデータ2!E184),CSVデータ2!E184,0)+IF(ISNUMBER(CSVデータ3!E184),CSVデータ3!E184,0)+IF(ISNUMBER(CSVデータ4!E184),CSVデータ4!E184,0)","v":1},{"$f":"IF(ISNUMBER(CSVデータ1!F184),CSVデータ1!F184,0)+IF(ISNUMBER(CSVデータ2!F184),CSVデータ2!F184,0)+IF(ISNUMBER(CSVデータ3!F184),CSVデータ3!F184,0)+IF(ISNUMBER(CSVデータ4!F184),CSVデータ4!F184,0)","v":1},null,{"$f":"IF(ISNUMBER(CSVデータ1!H184),CSVデータ1!H184,0)+IF(ISNUMBER(CSVデータ2!H184),CSVデータ2!H184,0)+IF(ISNUMBER(CSVデータ3!H184),CSVデータ3!H184,0)+IF(ISNUMBER(CSVデータ4!H184),CSVデータ4!H184,0)","v":0},null,{"$f":"IF(ISNUMBER(CSVデータ1!J184),CSVデータ1!J184,0)+IF(ISNUMBER(CSVデータ2!J184),CSVデータ2!J184,0)+IF(ISNUMBER(CSVデータ3!J184),CSVデータ3!J184,0)+IF(ISNUMBER(CSVデータ4!J184),CSVデータ4!J184,0)","v":0},null,{"$f":"IF(ISNUMBER(CSVデータ1!L184),CSVデータ1!L184,0)+IF(ISNUMBER(CSVデータ2!L184),CSVデータ2!L184,0)+IF(ISNUMBER(CSVデータ3!L184),CSVデータ3!L184,0)+IF(ISNUMBER(CSVデータ4!L184),CSVデータ4!L184,0)","v":0},null,{"$f":"IF(ISNUMBER(CSVデータ1!N184),CSVデータ1!N184,0)+IF(ISNUMBER(CSVデータ2!N184),CSVデータ2!N184,0)+IF(ISNUMBER(CSVデータ3!N184),CSVデータ3!N184,0)+IF(ISNUMBER(CSVデータ4!N184),CSVデータ4!N184,0)","v":0},null,{"$f":"IF(ISNUMBER(CSVデータ1!P184),CSVデータ1!P184,0)+IF(ISNUMBER(CSVデータ2!P184),CSVデータ2!P184,0)+IF(ISNUMBER(CSVデータ3!P184),CSVデータ3!P184,0)+IF(ISNUMBER(CSVデータ4!P184),CSVデータ4!P184,0)","v":0},null,{"$f":"IF(ISNUMBER(CSVデータ1!R184),CSVデータ1!R184,0)+IF(ISNUMBER(CSVデータ2!R184),CSVデータ2!R184,0)+IF(ISNUMBER(CSVデータ3!R184),CSVデータ3!R184,0)+IF(ISNUMBER(CSVデータ4!R184),CSVデータ4!R184,0)","v":0},null,{"$f":"IF(ISNUMBER(CSVデータ1!T184),CSVデータ1!T184,0)+IF(ISNUMBER(CSVデータ2!T184),CSVデータ2!T184,0)+IF(ISNUMBER(CSVデータ3!T184),CSVデータ3!T184,0)+IF(ISNUMBER(CSVデータ4!T184),CSVデータ4!T184,0)","v":0},null,{"$f":"IF(ISNUMBER(CSVデータ1!V184),CSVデータ1!V184,0)+IF(ISNUMBER(CSVデータ2!V184),CSVデータ2!V184,0)+IF(ISNUMBER(CSVデータ3!V184),CSVデータ3!V184,0)+IF(ISNUMBER(CSVデータ4!V184),CSVデータ4!V184,0)","v":0},null,{"$f":"IF(ISNUMBER(CSVデータ1!X184),CSVデータ1!X184,0)+IF(ISNUMBER(CSVデータ2!X184),CSVデータ2!X184,0)+IF(ISNUMBER(CSVデータ3!X184),CSVデータ3!X184,0)+IF(ISNUMBER(CSVデータ4!X184),CSVデータ4!X184,0)","v":0},null,{"$f":"IF(ISNUMBER(CSVデータ1!Z184),CSVデータ1!Z184,0)+IF(ISNUMBER(CSVデータ2!Z184),CSVデータ2!Z184,0)+IF(ISNUMBER(CSVデータ3!Z184),CSVデータ3!Z184,0)+IF(ISNUMBER(CSVデータ4!Z184),CSVデータ4!Z184,0)","v":0},null,{"$f":"IF(ISNUMBER(CSVデータ1!AB184),CSVデータ1!AB184,0)+IF(ISNUMBER(CSVデータ2!AB184),CSVデータ2!AB184,0)+IF(ISNUMBER(CSVデータ3!AB184),CSVデータ3!AB184,0)+IF(ISNUMBER(CSVデータ4!AB184),CSVデータ4!AB184,0)","v":0},null,{"$f":"IF(ISNUMBER(CSVデータ1!AD184),CSVデータ1!AD184,0)+IF(ISNUMBER(CSVデータ2!AD184),CSVデータ2!AD184,0)+IF(ISNUMBER(CSVデータ3!AD184),CSVデータ3!AD184,0)+IF(ISNUMBER(CSVデータ4!AD184),CSVデータ4!AD184,0)","v":0},null,{"$f":"IF(ISNUMBER(CSVデータ1!AF184),CSVデータ1!AF184,0)+IF(ISNUMBER(CSVデータ2!AF184),CSVデータ2!AF184,0)+IF(ISNUMBER(CSVデータ3!AF184),CSVデータ3!AF184,0)+IF(ISNUMBER(CSVデータ4!AF184),CSVデータ4!AF184,0)","v":0},null,{"$f":"IF(ISNUMBER(CSVデータ1!AH184),CSVデータ1!AH184,0)+IF(ISNUMBER(CSVデータ2!AH184),CSVデータ2!AH184,0)+IF(ISNUMBER(CSVデータ3!AH184),CSVデータ3!AH184,0)+IF(ISNUMBER(CSVデータ4!AH184),CSVデータ4!AH184,0)","v":0},null,{"$f":"IF(ISNUMBER(CSVデータ1!AJ184),CSVデータ1!AJ184,0)+IF(ISNUMBER(CSVデータ2!AJ184),CSVデータ2!AJ184,0)+IF(ISNUMBER(CSVデータ3!AJ184),CSVデータ3!AJ184,0)+IF(ISNUMBER(CSVデータ4!AJ184),CSVデータ4!AJ184,0)","v":0},null,{"$f":"IF(ISNUMBER(CSVデータ1!AL184),CSVデータ1!AL184,0)+IF(ISNUMBER(CSVデータ2!AL184),CSVデータ2!AL184,0)+IF(ISNUMBER(CSVデータ3!AL184),CSVデータ3!AL184,0)+IF(ISNUMBER(CSVデータ4!AL184),CSVデータ4!AL184,0)","v":0},null,{"$f":"IF(ISNUMBER(CSVデータ1!AN184),CSVデータ1!AN184,0)+IF(ISNUMBER(CSVデータ2!AN184),CSVデータ2!AN184,0)+IF(ISNUMBER(CSVデータ3!AN184),CSVデータ3!AN184,0)+IF(ISNUMBER(CSVデータ4!AN184),CSVデータ4!AN184,0)","v":0}]
[{"$f":"CSVデータ1!A185","v":"明細部"},{"$f":"CSVデータ1!B185","v":"保険者（地区）"},{"$f":"CSVデータ1!C185","v":46},{"$f":"CSVデータ1!D185","v":"女"},{"$f":"IF(ISNUMBER(CSVデータ1!E185),CSVデータ1!E185,0)+IF(ISNUMBER(CSVデータ2!E185),CSVデータ2!E185,0)+IF(ISNUMBER(CSVデータ3!E185),CSVデータ3!E185,0)+IF(ISNUMBER(CSVデータ4!E185),CSVデータ4!E185,0)","v":1},{"$f":"IF(ISNUMBER(CSVデータ1!F185),CSVデータ1!F185,0)+IF(ISNUMBER(CSVデータ2!F185),CSVデータ2!F185,0)+IF(ISNUMBER(CSVデータ3!F185),CSVデータ3!F185,0)+IF(ISNUMBER(CSVデータ4!F185),CSVデータ4!F185,0)","v":0},null,{"$f":"IF(ISNUMBER(CSVデータ1!H185),CSVデータ1!H185,0)+IF(ISNUMBER(CSVデータ2!H185),CSVデータ2!H185,0)+IF(ISNUMBER(CSVデータ3!H185),CSVデータ3!H185,0)+IF(ISNUMBER(CSVデータ4!H185),CSVデータ4!H185,0)","v":0},null,{"$f":"IF(ISNUMBER(CSVデータ1!J185),CSVデータ1!J185,0)+IF(ISNUMBER(CSVデータ2!J185),CSVデータ2!J185,0)+IF(ISNUMBER(CSVデータ3!J185),CSVデータ3!J185,0)+IF(ISNUMBER(CSVデータ4!J185),CSVデータ4!J185,0)","v":0},null,{"$f":"IF(ISNUMBER(CSVデータ1!L185),CSVデータ1!L185,0)+IF(ISNUMBER(CSVデータ2!L185),CSVデータ2!L185,0)+IF(ISNUMBER(CSVデータ3!L185),CSVデータ3!L185,0)+IF(ISNUMBER(CSVデータ4!L185),CSVデータ4!L185,0)","v":0},null,{"$f":"IF(ISNUMBER(CSVデータ1!N185),CSVデータ1!N185,0)+IF(ISNUMBER(CSVデータ2!N185),CSVデータ2!N185,0)+IF(ISNUMBER(CSVデータ3!N185),CSVデータ3!N185,0)+IF(ISNUMBER(CSVデータ4!N185),CSVデータ4!N185,0)","v":0},null,{"$f":"IF(ISNUMBER(CSVデータ1!P185),CSVデータ1!P185,0)+IF(ISNUMBER(CSVデータ2!P185),CSVデータ2!P185,0)+IF(ISNUMBER(CSVデータ3!P185),CSVデータ3!P185,0)+IF(ISNUMBER(CSVデータ4!P185),CSVデータ4!P185,0)","v":0},null,{"$f":"IF(ISNUMBER(CSVデータ1!R185),CSVデータ1!R185,0)+IF(ISNUMBER(CSVデータ2!R185),CSVデータ2!R185,0)+IF(ISNUMBER(CSVデータ3!R185),CSVデータ3!R185,0)+IF(ISNUMBER(CSVデータ4!R185),CSVデータ4!R185,0)","v":0},null,{"$f":"IF(ISNUMBER(CSVデータ1!T185),CSVデータ1!T185,0)+IF(ISNUMBER(CSVデータ2!T185),CSVデータ2!T185,0)+IF(ISNUMBER(CSVデータ3!T185),CSVデータ3!T185,0)+IF(ISNUMBER(CSVデータ4!T185),CSVデータ4!T185,0)","v":0},null,{"$f":"IF(ISNUMBER(CSVデータ1!V185),CSVデータ1!V185,0)+IF(ISNUMBER(CSVデータ2!V185),CSVデータ2!V185,0)+IF(ISNUMBER(CSVデータ3!V185),CSVデータ3!V185,0)+IF(ISNUMBER(CSVデータ4!V185),CSVデータ4!V185,0)","v":0},null,{"$f":"IF(ISNUMBER(CSVデータ1!X185),CSVデータ1!X185,0)+IF(ISNUMBER(CSVデータ2!X185),CSVデータ2!X185,0)+IF(ISNUMBER(CSVデータ3!X185),CSVデータ3!X185,0)+IF(ISNUMBER(CSVデータ4!X185),CSVデータ4!X185,0)","v":0},null,{"$f":"IF(ISNUMBER(CSVデータ1!Z185),CSVデータ1!Z185,0)+IF(ISNUMBER(CSVデータ2!Z185),CSVデータ2!Z185,0)+IF(ISNUMBER(CSVデータ3!Z185),CSVデータ3!Z185,0)+IF(ISNUMBER(CSVデータ4!Z185),CSVデータ4!Z185,0)","v":0},null,{"$f":"IF(ISNUMBER(CSVデータ1!AB185),CSVデータ1!AB185,0)+IF(ISNUMBER(CSVデータ2!AB185),CSVデータ2!AB185,0)+IF(ISNUMBER(CSVデータ3!AB185),CSVデータ3!AB185,0)+IF(ISNUMBER(CSVデータ4!AB185),CSVデータ4!AB185,0)","v":0},null,{"$f":"IF(ISNUMBER(CSVデータ1!AD185),CSVデータ1!AD185,0)+IF(ISNUMBER(CSVデータ2!AD185),CSVデータ2!AD185,0)+IF(ISNUMBER(CSVデータ3!AD185),CSVデータ3!AD185,0)+IF(ISNUMBER(CSVデータ4!AD185),CSVデータ4!AD185,0)","v":0},null,{"$f":"IF(ISNUMBER(CSVデータ1!AF185),CSVデータ1!AF185,0)+IF(ISNUMBER(CSVデータ2!AF185),CSVデータ2!AF185,0)+IF(ISNUMBER(CSVデータ3!AF185),CSVデータ3!AF185,0)+IF(ISNUMBER(CSVデータ4!AF185),CSVデータ4!AF185,0)","v":0},null,{"$f":"IF(ISNUMBER(CSVデータ1!AH185),CSVデータ1!AH185,0)+IF(ISNUMBER(CSVデータ2!AH185),CSVデータ2!AH185,0)+IF(ISNUMBER(CSVデータ3!AH185),CSVデータ3!AH185,0)+IF(ISNUMBER(CSVデータ4!AH185),CSVデータ4!AH185,0)","v":0},null,{"$f":"IF(ISNUMBER(CSVデータ1!AJ185),CSVデータ1!AJ185,0)+IF(ISNUMBER(CSVデータ2!AJ185),CSVデータ2!AJ185,0)+IF(ISNUMBER(CSVデータ3!AJ185),CSVデータ3!AJ185,0)+IF(ISNUMBER(CSVデータ4!AJ185),CSVデータ4!AJ185,0)","v":0},null,{"$f":"IF(ISNUMBER(CSVデータ1!AL185),CSVデータ1!AL185,0)+IF(ISNUMBER(CSVデータ2!AL185),CSVデータ2!AL185,0)+IF(ISNUMBER(CSVデータ3!AL185),CSVデータ3!AL185,0)+IF(ISNUMBER(CSVデータ4!AL185),CSVデータ4!AL185,0)","v":0},null,{"$f":"IF(ISNUMBER(CSVデータ1!AN185),CSVデータ1!AN185,0)+IF(ISNUMBER(CSVデータ2!AN185),CSVデータ2!AN185,0)+IF(ISNUMBER(CSVデータ3!AN185),CSVデータ3!AN185,0)+IF(ISNUMBER(CSVデータ4!AN185),CSVデータ4!AN185,0)","v":0}]
[{"$f":"CSVデータ1!A186","v":"明細部"},{"$f":"CSVデータ1!B186","v":"保険者（地区）"},{"$f":"CSVデータ1!C186","v":47},{"$f":"CSVデータ1!D186","v":"女"},{"$f":"IF(ISNUMBER(CSVデータ1!E186),CSVデータ1!E186,0)+IF(ISNUMBER(CSVデータ2!E186),CSVデータ2!E186,0)+IF(ISNUMBER(CSVデータ3!E186),CSVデータ3!E186,0)+IF(ISNUMBER(CSVデータ4!E186),CSVデータ4!E186,0)","v":3},{"$f":"IF(ISNUMBER(CSVデータ1!F186),CSVデータ1!F186,0)+IF(ISNUMBER(CSVデータ2!F186),CSVデータ2!F186,0)+IF(ISNUMBER(CSVデータ3!F186),CSVデータ3!F186,0)+IF(ISNUMBER(CSVデータ4!F186),CSVデータ4!F186,0)","v":0},null,{"$f":"IF(ISNUMBER(CSVデータ1!H186),CSVデータ1!H186,0)+IF(ISNUMBER(CSVデータ2!H186),CSVデータ2!H186,0)+IF(ISNUMBER(CSVデータ3!H186),CSVデータ3!H186,0)+IF(ISNUMBER(CSVデータ4!H186),CSVデータ4!H186,0)","v":0},null,{"$f":"IF(ISNUMBER(CSVデータ1!J186),CSVデータ1!J186,0)+IF(ISNUMBER(CSVデータ2!J186),CSVデータ2!J186,0)+IF(ISNUMBER(CSVデータ3!J186),CSVデータ3!J186,0)+IF(ISNUMBER(CSVデータ4!J186),CSVデータ4!J186,0)","v":1},null,{"$f":"IF(ISNUMBER(CSVデータ1!L186),CSVデータ1!L186,0)+IF(ISNUMBER(CSVデータ2!L186),CSVデータ2!L186,0)+IF(ISNUMBER(CSVデータ3!L186),CSVデータ3!L186,0)+IF(ISNUMBER(CSVデータ4!L186),CSVデータ4!L186,0)","v":0},null,{"$f":"IF(ISNUMBER(CSVデータ1!N186),CSVデータ1!N186,0)+IF(ISNUMBER(CSVデータ2!N186),CSVデータ2!N186,0)+IF(ISNUMBER(CSVデータ3!N186),CSVデータ3!N186,0)+IF(ISNUMBER(CSVデータ4!N186),CSVデータ4!N186,0)","v":0},null,{"$f":"IF(ISNUMBER(CSVデータ1!P186),CSVデータ1!P186,0)+IF(ISNUMBER(CSVデータ2!P186),CSVデータ2!P186,0)+IF(ISNUMBER(CSVデータ3!P186),CSVデータ3!P186,0)+IF(ISNUMBER(CSVデータ4!P186),CSVデータ4!P186,0)","v":0},null,{"$f":"IF(ISNUMBER(CSVデータ1!R186),CSVデータ1!R186,0)+IF(ISNUMBER(CSVデータ2!R186),CSVデータ2!R186,0)+IF(ISNUMBER(CSVデータ3!R186),CSVデータ3!R186,0)+IF(ISNUMBER(CSVデータ4!R186),CSVデータ4!R186,0)","v":0},null,{"$f":"IF(ISNUMBER(CSVデータ1!T186),CSVデータ1!T186,0)+IF(ISNUMBER(CSVデータ2!T186),CSVデータ2!T186,0)+IF(ISNUMBER(CSVデータ3!T186),CSVデータ3!T186,0)+IF(ISNUMBER(CSVデータ4!T186),CSVデータ4!T186,0)","v":0},null,{"$f":"IF(ISNUMBER(CSVデータ1!V186),CSVデータ1!V186,0)+IF(ISNUMBER(CSVデータ2!V186),CSVデータ2!V186,0)+IF(ISNUMBER(CSVデータ3!V186),CSVデータ3!V186,0)+IF(ISNUMBER(CSVデータ4!V186),CSVデータ4!V186,0)","v":2},null,{"$f":"IF(ISNUMBER(CSVデータ1!X186),CSVデータ1!X186,0)+IF(ISNUMBER(CSVデータ2!X186),CSVデータ2!X186,0)+IF(ISNUMBER(CSVデータ3!X186),CSVデータ3!X186,0)+IF(ISNUMBER(CSVデータ4!X186),CSVデータ4!X186,0)","v":1},null,{"$f":"IF(ISNUMBER(CSVデータ1!Z186),CSVデータ1!Z186,0)+IF(ISNUMBER(CSVデータ2!Z186),CSVデータ2!Z186,0)+IF(ISNUMBER(CSVデータ3!Z186),CSVデータ3!Z186,0)+IF(ISNUMBER(CSVデータ4!Z186),CSVデータ4!Z186,0)","v":0},null,{"$f":"IF(ISNUMBER(CSVデータ1!AB186),CSVデータ1!AB186,0)+IF(ISNUMBER(CSVデータ2!AB186),CSVデータ2!AB186,0)+IF(ISNUMBER(CSVデータ3!AB186),CSVデータ3!AB186,0)+IF(ISNUMBER(CSVデータ4!AB186),CSVデータ4!AB186,0)","v":0},null,{"$f":"IF(ISNUMBER(CSVデータ1!AD186),CSVデータ1!AD186,0)+IF(ISNUMBER(CSVデータ2!AD186),CSVデータ2!AD186,0)+IF(ISNUMBER(CSVデータ3!AD186),CSVデータ3!AD186,0)+IF(ISNUMBER(CSVデータ4!AD186),CSVデータ4!AD186,0)","v":0},null,{"$f":"IF(ISNUMBER(CSVデータ1!AF186),CSVデータ1!AF186,0)+IF(ISNUMBER(CSVデータ2!AF186),CSVデータ2!AF186,0)+IF(ISNUMBER(CSVデータ3!AF186),CSVデータ3!AF186,0)+IF(ISNUMBER(CSVデータ4!AF186),CSVデータ4!AF186,0)","v":0},null,{"$f":"IF(ISNUMBER(CSVデータ1!AH186),CSVデータ1!AH186,0)+IF(ISNUMBER(CSVデータ2!AH186),CSVデータ2!AH186,0)+IF(ISNUMBER(CSVデータ3!AH186),CSVデータ3!AH186,0)+IF(ISNUMBER(CSVデータ4!AH186),CSVデータ4!AH186,0)","v":0},null,{"$f":"IF(ISNUMBER(CSVデータ1!AJ186),CSVデータ1!AJ186,0)+IF(ISNUMBER(CSVデータ2!AJ186),CSVデータ2!AJ186,0)+IF(ISNUMBER(CSVデータ3!AJ186),CSVデータ3!AJ186,0)+IF(ISNUMBER(CSVデータ4!AJ186),CSVデータ4!AJ186,0)","v":0},null,{"$f":"IF(ISNUMBER(CSVデータ1!AL186),CSVデータ1!AL186,0)+IF(ISNUMBER(CSVデータ2!AL186),CSVデータ2!AL186,0)+IF(ISNUMBER(CSVデータ3!AL186),CSVデータ3!AL186,0)+IF(ISNUMBER(CSVデータ4!AL186),CSVデータ4!AL186,0)","v":0},null,{"$f":"IF(ISNUMBER(CSVデータ1!AN186),CSVデータ1!AN186,0)+IF(ISNUMBER(CSVデータ2!AN186),CSVデータ2!AN186,0)+IF(ISNUMBER(CSVデータ3!AN186),CSVデータ3!AN186,0)+IF(ISNUMBER(CSVデータ4!AN186),CSVデータ4!AN186,0)","v":0}]
[{"$f":"CSVデータ1!A187","v":"明細部"},{"$f":"CSVデータ1!B187","v":"保険者（地区）"},{"$f":"CSVデータ1!C187","v":48},{"$f":"CSVデータ1!D187","v":"女"},{"$f":"IF(ISNUMBER(CSVデータ1!E187),CSVデータ1!E187,0)+IF(ISNUMBER(CSVデータ2!E187),CSVデータ2!E187,0)+IF(ISNUMBER(CSVデータ3!E187),CSVデータ3!E187,0)+IF(ISNUMBER(CSVデータ4!E187),CSVデータ4!E187,0)","v":3},{"$f":"IF(ISNUMBER(CSVデータ1!F187),CSVデータ1!F187,0)+IF(ISNUMBER(CSVデータ2!F187),CSVデータ2!F187,0)+IF(ISNUMBER(CSVデータ3!F187),CSVデータ3!F187,0)+IF(ISNUMBER(CSVデータ4!F187),CSVデータ4!F187,0)","v":1},null,{"$f":"IF(ISNUMBER(CSVデータ1!H187),CSVデータ1!H187,0)+IF(ISNUMBER(CSVデータ2!H187),CSVデータ2!H187,0)+IF(ISNUMBER(CSVデータ3!H187),CSVデータ3!H187,0)+IF(ISNUMBER(CSVデータ4!H187),CSVデータ4!H187,0)","v":0},null,{"$f":"IF(ISNUMBER(CSVデータ1!J187),CSVデータ1!J187,0)+IF(ISNUMBER(CSVデータ2!J187),CSVデータ2!J187,0)+IF(ISNUMBER(CSVデータ3!J187),CSVデータ3!J187,0)+IF(ISNUMBER(CSVデータ4!J187),CSVデータ4!J187,0)","v":0},null,{"$f":"IF(ISNUMBER(CSVデータ1!L187),CSVデータ1!L187,0)+IF(ISNUMBER(CSVデータ2!L187),CSVデータ2!L187,0)+IF(ISNUMBER(CSVデータ3!L187),CSVデータ3!L187,0)+IF(ISNUMBER(CSVデータ4!L187),CSVデータ4!L187,0)","v":0},null,{"$f":"IF(ISNUMBER(CSVデータ1!N187),CSVデータ1!N187,0)+IF(ISNUMBER(CSVデータ2!N187),CSVデータ2!N187,0)+IF(ISNUMBER(CSVデータ3!N187),CSVデータ3!N187,0)+IF(ISNUMBER(CSVデータ4!N187),CSVデータ4!N187,0)","v":0},null,{"$f":"IF(ISNUMBER(CSVデータ1!P187),CSVデータ1!P187,0)+IF(ISNUMBER(CSVデータ2!P187),CSVデータ2!P187,0)+IF(ISNUMBER(CSVデータ3!P187),CSVデータ3!P187,0)+IF(ISNUMBER(CSVデータ4!P187),CSVデータ4!P187,0)","v":0},null,{"$f":"IF(ISNUMBER(CSVデータ1!R187),CSVデータ1!R187,0)+IF(ISNUMBER(CSVデータ2!R187),CSVデータ2!R187,0)+IF(ISNUMBER(CSVデータ3!R187),CSVデータ3!R187,0)+IF(ISNUMBER(CSVデータ4!R187),CSVデータ4!R187,0)","v":0},null,{"$f":"IF(ISNUMBER(CSVデータ1!T187),CSVデータ1!T187,0)+IF(ISNUMBER(CSVデータ2!T187),CSVデータ2!T187,0)+IF(ISNUMBER(CSVデータ3!T187),CSVデータ3!T187,0)+IF(ISNUMBER(CSVデータ4!T187),CSVデータ4!T187,0)","v":0},null,{"$f":"IF(ISNUMBER(CSVデータ1!V187),CSVデータ1!V187,0)+IF(ISNUMBER(CSVデータ2!V187),CSVデータ2!V187,0)+IF(ISNUMBER(CSVデータ3!V187),CSVデータ3!V187,0)+IF(ISNUMBER(CSVデータ4!V187),CSVデータ4!V187,0)","v":1},null,{"$f":"IF(ISNUMBER(CSVデータ1!X187),CSVデータ1!X187,0)+IF(ISNUMBER(CSVデータ2!X187),CSVデータ2!X187,0)+IF(ISNUMBER(CSVデータ3!X187),CSVデータ3!X187,0)+IF(ISNUMBER(CSVデータ4!X187),CSVデータ4!X187,0)","v":0},null,{"$f":"IF(ISNUMBER(CSVデータ1!Z187),CSVデータ1!Z187,0)+IF(ISNUMBER(CSVデータ2!Z187),CSVデータ2!Z187,0)+IF(ISNUMBER(CSVデータ3!Z187),CSVデータ3!Z187,0)+IF(ISNUMBER(CSVデータ4!Z187),CSVデータ4!Z187,0)","v":1},null,{"$f":"IF(ISNUMBER(CSVデータ1!AB187),CSVデータ1!AB187,0)+IF(ISNUMBER(CSVデータ2!AB187),CSVデータ2!AB187,0)+IF(ISNUMBER(CSVデータ3!AB187),CSVデータ3!AB187,0)+IF(ISNUMBER(CSVデータ4!AB187),CSVデータ4!AB187,0)","v":0},null,{"$f":"IF(ISNUMBER(CSVデータ1!AD187),CSVデータ1!AD187,0)+IF(ISNUMBER(CSVデータ2!AD187),CSVデータ2!AD187,0)+IF(ISNUMBER(CSVデータ3!AD187),CSVデータ3!AD187,0)+IF(ISNUMBER(CSVデータ4!AD187),CSVデータ4!AD187,0)","v":1},null,{"$f":"IF(ISNUMBER(CSVデータ1!AF187),CSVデータ1!AF187,0)+IF(ISNUMBER(CSVデータ2!AF187),CSVデータ2!AF187,0)+IF(ISNUMBER(CSVデータ3!AF187),CSVデータ3!AF187,0)+IF(ISNUMBER(CSVデータ4!AF187),CSVデータ4!AF187,0)","v":0},null,{"$f":"IF(ISNUMBER(CSVデータ1!AH187),CSVデータ1!AH187,0)+IF(ISNUMBER(CSVデータ2!AH187),CSVデータ2!AH187,0)+IF(ISNUMBER(CSVデータ3!AH187),CSVデータ3!AH187,0)+IF(ISNUMBER(CSVデータ4!AH187),CSVデータ4!AH187,0)","v":0},null,{"$f":"IF(ISNUMBER(CSVデータ1!AJ187),CSVデータ1!AJ187,0)+IF(ISNUMBER(CSVデータ2!AJ187),CSVデータ2!AJ187,0)+IF(ISNUMBER(CSVデータ3!AJ187),CSVデータ3!AJ187,0)+IF(ISNUMBER(CSVデータ4!AJ187),CSVデータ4!AJ187,0)","v":0},null,{"$f":"IF(ISNUMBER(CSVデータ1!AL187),CSVデータ1!AL187,0)+IF(ISNUMBER(CSVデータ2!AL187),CSVデータ2!AL187,0)+IF(ISNUMBER(CSVデータ3!AL187),CSVデータ3!AL187,0)+IF(ISNUMBER(CSVデータ4!AL187),CSVデータ4!AL187,0)","v":0},null,{"$f":"IF(ISNUMBER(CSVデータ1!AN187),CSVデータ1!AN187,0)+IF(ISNUMBER(CSVデータ2!AN187),CSVデータ2!AN187,0)+IF(ISNUMBER(CSVデータ3!AN187),CSVデータ3!AN187,0)+IF(ISNUMBER(CSVデータ4!AN187),CSVデータ4!AN187,0)","v":0}]
[{"$f":"CSVデータ1!A188","v":"明細部"},{"$f":"CSVデータ1!B188","v":"保険者（地区）"},{"$f":"CSVデータ1!C188","v":49},{"$f":"CSVデータ1!D188","v":"女"},{"$f":"IF(ISNUMBER(CSVデータ1!E188),CSVデータ1!E188,0)+IF(ISNUMBER(CSVデータ2!E188),CSVデータ2!E188,0)+IF(ISNUMBER(CSVデータ3!E188),CSVデータ3!E188,0)+IF(ISNUMBER(CSVデータ4!E188),CSVデータ4!E188,0)","v":3},{"$f":"IF(ISNUMBER(CSVデータ1!F188),CSVデータ1!F188,0)+IF(ISNUMBER(CSVデータ2!F188),CSVデータ2!F188,0)+IF(ISNUMBER(CSVデータ3!F188),CSVデータ3!F188,0)+IF(ISNUMBER(CSVデータ4!F188),CSVデータ4!F188,0)","v":0},null,{"$f":"IF(ISNUMBER(CSVデータ1!H188),CSVデータ1!H188,0)+IF(ISNUMBER(CSVデータ2!H188),CSVデータ2!H188,0)+IF(ISNUMBER(CSVデータ3!H188),CSVデータ3!H188,0)+IF(ISNUMBER(CSVデータ4!H188),CSVデータ4!H188,0)","v":0},null,{"$f":"IF(ISNUMBER(CSVデータ1!J188),CSVデータ1!J188,0)+IF(ISNUMBER(CSVデータ2!J188),CSVデータ2!J188,0)+IF(ISNUMBER(CSVデータ3!J188),CSVデータ3!J188,0)+IF(ISNUMBER(CSVデータ4!J188),CSVデータ4!J188,0)","v":0},null,{"$f":"IF(ISNUMBER(CSVデータ1!L188),CSVデータ1!L188,0)+IF(ISNUMBER(CSVデータ2!L188),CSVデータ2!L188,0)+IF(ISNUMBER(CSVデータ3!L188),CSVデータ3!L188,0)+IF(ISNUMBER(CSVデータ4!L188),CSVデータ4!L188,0)","v":0},null,{"$f":"IF(ISNUMBER(CSVデータ1!N188),CSVデータ1!N188,0)+IF(ISNUMBER(CSVデータ2!N188),CSVデータ2!N188,0)+IF(ISNUMBER(CSVデータ3!N188),CSVデータ3!N188,0)+IF(ISNUMBER(CSVデータ4!N188),CSVデータ4!N188,0)","v":0},null,{"$f":"IF(ISNUMBER(CSVデータ1!P188),CSVデータ1!P188,0)+IF(ISNUMBER(CSVデータ2!P188),CSVデータ2!P188,0)+IF(ISNUMBER(CSVデータ3!P188),CSVデータ3!P188,0)+IF(ISNUMBER(CSVデータ4!P188),CSVデータ4!P188,0)","v":0},null,{"$f":"IF(ISNUMBER(CSVデータ1!R188),CSVデータ1!R188,0)+IF(ISNUMBER(CSVデータ2!R188),CSVデータ2!R188,0)+IF(ISNUMBER(CSVデータ3!R188),CSVデータ3!R188,0)+IF(ISNUMBER(CSVデータ4!R188),CSVデータ4!R188,0)","v":0},null,{"$f":"IF(ISNUMBER(CSVデータ1!T188),CSVデータ1!T188,0)+IF(ISNUMBER(CSVデータ2!T188),CSVデータ2!T188,0)+IF(ISNUMBER(CSVデータ3!T188),CSVデータ3!T188,0)+IF(ISNUMBER(CSVデータ4!T188),CSVデータ4!T188,0)","v":0},null,{"$f":"IF(ISNUMBER(CSVデータ1!V188),CSVデータ1!V188,0)+IF(ISNUMBER(CSVデータ2!V188),CSVデータ2!V188,0)+IF(ISNUMBER(CSVデータ3!V188),CSVデータ3!V188,0)+IF(ISNUMBER(CSVデータ4!V188),CSVデータ4!V188,0)","v":0},null,{"$f":"IF(ISNUMBER(CSVデータ1!X188),CSVデータ1!X188,0)+IF(ISNUMBER(CSVデータ2!X188),CSVデータ2!X188,0)+IF(ISNUMBER(CSVデータ3!X188),CSVデータ3!X188,0)+IF(ISNUMBER(CSVデータ4!X188),CSVデータ4!X188,0)","v":0},null,{"$f":"IF(ISNUMBER(CSVデータ1!Z188),CSVデータ1!Z188,0)+IF(ISNUMBER(CSVデータ2!Z188),CSVデータ2!Z188,0)+IF(ISNUMBER(CSVデータ3!Z188),CSVデータ3!Z188,0)+IF(ISNUMBER(CSVデータ4!Z188),CSVデータ4!Z188,0)","v":2},null,{"$f":"IF(ISNUMBER(CSVデータ1!AB188),CSVデータ1!AB188,0)+IF(ISNUMBER(CSVデータ2!AB188),CSVデータ2!AB188,0)+IF(ISNUMBER(CSVデータ3!AB188),CSVデータ3!AB188,0)+IF(ISNUMBER(CSVデータ4!AB188),CSVデータ4!AB188,0)","v":0},null,{"$f":"IF(ISNUMBER(CSVデータ1!AD188),CSVデータ1!AD188,0)+IF(ISNUMBER(CSVデータ2!AD188),CSVデータ2!AD188,0)+IF(ISNUMBER(CSVデータ3!AD188),CSVデータ3!AD188,0)+IF(ISNUMBER(CSVデータ4!AD188),CSVデータ4!AD188,0)","v":0},null,{"$f":"IF(ISNUMBER(CSVデータ1!AF188),CSVデータ1!AF188,0)+IF(ISNUMBER(CSVデータ2!AF188),CSVデータ2!AF188,0)+IF(ISNUMBER(CSVデータ3!AF188),CSVデータ3!AF188,0)+IF(ISNUMBER(CSVデータ4!AF188),CSVデータ4!AF188,0)","v":0},null,{"$f":"IF(ISNUMBER(CSVデータ1!AH188),CSVデータ1!AH188,0)+IF(ISNUMBER(CSVデータ2!AH188),CSVデータ2!AH188,0)+IF(ISNUMBER(CSVデータ3!AH188),CSVデータ3!AH188,0)+IF(ISNUMBER(CSVデータ4!AH188),CSVデータ4!AH188,0)","v":0},null,{"$f":"IF(ISNUMBER(CSVデータ1!AJ188),CSVデータ1!AJ188,0)+IF(ISNUMBER(CSVデータ2!AJ188),CSVデータ2!AJ188,0)+IF(ISNUMBER(CSVデータ3!AJ188),CSVデータ3!AJ188,0)+IF(ISNUMBER(CSVデータ4!AJ188),CSVデータ4!AJ188,0)","v":0},null,{"$f":"IF(ISNUMBER(CSVデータ1!AL188),CSVデータ1!AL188,0)+IF(ISNUMBER(CSVデータ2!AL188),CSVデータ2!AL188,0)+IF(ISNUMBER(CSVデータ3!AL188),CSVデータ3!AL188,0)+IF(ISNUMBER(CSVデータ4!AL188),CSVデータ4!AL188,0)","v":0},null,{"$f":"IF(ISNUMBER(CSVデータ1!AN188),CSVデータ1!AN188,0)+IF(ISNUMBER(CSVデータ2!AN188),CSVデータ2!AN188,0)+IF(ISNUMBER(CSVデータ3!AN188),CSVデータ3!AN188,0)+IF(ISNUMBER(CSVデータ4!AN188),CSVデータ4!AN188,0)","v":0}]
[{"$f":"CSVデータ1!A189","v":"明細部"},{"$f":"CSVデータ1!B189","v":"保険者（地区）"},{"$f":"CSVデータ1!C189","v":50},{"$f":"CSVデータ1!D189","v":"女"},{"$f":"IF(ISNUMBER(CSVデータ1!E189),CSVデータ1!E189,0)+IF(ISNUMBER(CSVデータ2!E189),CSVデータ2!E189,0)+IF(ISNUMBER(CSVデータ3!E189),CSVデータ3!E189,0)+IF(ISNUMBER(CSVデータ4!E189),CSVデータ4!E189,0)","v":5},{"$f":"IF(ISNUMBER(CSVデータ1!F189),CSVデータ1!F189,0)+IF(ISNUMBER(CSVデータ2!F189),CSVデータ2!F189,0)+IF(ISNUMBER(CSVデータ3!F189),CSVデータ3!F189,0)+IF(ISNUMBER(CSVデータ4!F189),CSVデータ4!F189,0)","v":0},null,{"$f":"IF(ISNUMBER(CSVデータ1!H189),CSVデータ1!H189,0)+IF(ISNUMBER(CSVデータ2!H189),CSVデータ2!H189,0)+IF(ISNUMBER(CSVデータ3!H189),CSVデータ3!H189,0)+IF(ISNUMBER(CSVデータ4!H189),CSVデータ4!H189,0)","v":0},null,{"$f":"IF(ISNUMBER(CSVデータ1!J189),CSVデータ1!J189,0)+IF(ISNUMBER(CSVデータ2!J189),CSVデータ2!J189,0)+IF(ISNUMBER(CSVデータ3!J189),CSVデータ3!J189,0)+IF(ISNUMBER(CSVデータ4!J189),CSVデータ4!J189,0)","v":0},null,{"$f":"IF(ISNUMBER(CSVデータ1!L189),CSVデータ1!L189,0)+IF(ISNUMBER(CSVデータ2!L189),CSVデータ2!L189,0)+IF(ISNUMBER(CSVデータ3!L189),CSVデータ3!L189,0)+IF(ISNUMBER(CSVデータ4!L189),CSVデータ4!L189,0)","v":0},null,{"$f":"IF(ISNUMBER(CSVデータ1!N189),CSVデータ1!N189,0)+IF(ISNUMBER(CSVデータ2!N189),CSVデータ2!N189,0)+IF(ISNUMBER(CSVデータ3!N189),CSVデータ3!N189,0)+IF(ISNUMBER(CSVデータ4!N189),CSVデータ4!N189,0)","v":0},null,{"$f":"IF(ISNUMBER(CSVデータ1!P189),CSVデータ1!P189,0)+IF(ISNUMBER(CSVデータ2!P189),CSVデータ2!P189,0)+IF(ISNUMBER(CSVデータ3!P189),CSVデータ3!P189,0)+IF(ISNUMBER(CSVデータ4!P189),CSVデータ4!P189,0)","v":0},null,{"$f":"IF(ISNUMBER(CSVデータ1!R189),CSVデータ1!R189,0)+IF(ISNUMBER(CSVデータ2!R189),CSVデータ2!R189,0)+IF(ISNUMBER(CSVデータ3!R189),CSVデータ3!R189,0)+IF(ISNUMBER(CSVデータ4!R189),CSVデータ4!R189,0)","v":1},null,{"$f":"IF(ISNUMBER(CSVデータ1!T189),CSVデータ1!T189,0)+IF(ISNUMBER(CSVデータ2!T189),CSVデータ2!T189,0)+IF(ISNUMBER(CSVデータ3!T189),CSVデータ3!T189,0)+IF(ISNUMBER(CSVデータ4!T189),CSVデータ4!T189,0)","v":0},null,{"$f":"IF(ISNUMBER(CSVデータ1!V189),CSVデータ1!V189,0)+IF(ISNUMBER(CSVデータ2!V189),CSVデータ2!V189,0)+IF(ISNUMBER(CSVデータ3!V189),CSVデータ3!V189,0)+IF(ISNUMBER(CSVデータ4!V189),CSVデータ4!V189,0)","v":1},null,{"$f":"IF(ISNUMBER(CSVデータ1!X189),CSVデータ1!X189,0)+IF(ISNUMBER(CSVデータ2!X189),CSVデータ2!X189,0)+IF(ISNUMBER(CSVデータ3!X189),CSVデータ3!X189,0)+IF(ISNUMBER(CSVデータ4!X189),CSVデータ4!X189,0)","v":1},null,{"$f":"IF(ISNUMBER(CSVデータ1!Z189),CSVデータ1!Z189,0)+IF(ISNUMBER(CSVデータ2!Z189),CSVデータ2!Z189,0)+IF(ISNUMBER(CSVデータ3!Z189),CSVデータ3!Z189,0)+IF(ISNUMBER(CSVデータ4!Z189),CSVデータ4!Z189,0)","v":1},null,{"$f":"IF(ISNUMBER(CSVデータ1!AB189),CSVデータ1!AB189,0)+IF(ISNUMBER(CSVデータ2!AB189),CSVデータ2!AB189,0)+IF(ISNUMBER(CSVデータ3!AB189),CSVデータ3!AB189,0)+IF(ISNUMBER(CSVデータ4!AB189),CSVデータ4!AB189,0)","v":0},null,{"$f":"IF(ISNUMBER(CSVデータ1!AD189),CSVデータ1!AD189,0)+IF(ISNUMBER(CSVデータ2!AD189),CSVデータ2!AD189,0)+IF(ISNUMBER(CSVデータ3!AD189),CSVデータ3!AD189,0)+IF(ISNUMBER(CSVデータ4!AD189),CSVデータ4!AD189,0)","v":2},null,{"$f":"IF(ISNUMBER(CSVデータ1!AF189),CSVデータ1!AF189,0)+IF(ISNUMBER(CSVデータ2!AF189),CSVデータ2!AF189,0)+IF(ISNUMBER(CSVデータ3!AF189),CSVデータ3!AF189,0)+IF(ISNUMBER(CSVデータ4!AF189),CSVデータ4!AF189,0)","v":0},null,{"$f":"IF(ISNUMBER(CSVデータ1!AH189),CSVデータ1!AH189,0)+IF(ISNUMBER(CSVデータ2!AH189),CSVデータ2!AH189,0)+IF(ISNUMBER(CSVデータ3!AH189),CSVデータ3!AH189,0)+IF(ISNUMBER(CSVデータ4!AH189),CSVデータ4!AH189,0)","v":0},null,{"$f":"IF(ISNUMBER(CSVデータ1!AJ189),CSVデータ1!AJ189,0)+IF(ISNUMBER(CSVデータ2!AJ189),CSVデータ2!AJ189,0)+IF(ISNUMBER(CSVデータ3!AJ189),CSVデータ3!AJ189,0)+IF(ISNUMBER(CSVデータ4!AJ189),CSVデータ4!AJ189,0)","v":0},null,{"$f":"IF(ISNUMBER(CSVデータ1!AL189),CSVデータ1!AL189,0)+IF(ISNUMBER(CSVデータ2!AL189),CSVデータ2!AL189,0)+IF(ISNUMBER(CSVデータ3!AL189),CSVデータ3!AL189,0)+IF(ISNUMBER(CSVデータ4!AL189),CSVデータ4!AL189,0)","v":0},null,{"$f":"IF(ISNUMBER(CSVデータ1!AN189),CSVデータ1!AN189,0)+IF(ISNUMBER(CSVデータ2!AN189),CSVデータ2!AN189,0)+IF(ISNUMBER(CSVデータ3!AN189),CSVデータ3!AN189,0)+IF(ISNUMBER(CSVデータ4!AN189),CSVデータ4!AN189,0)","v":0}]
[{"$f":"CSVデータ1!A190","v":"明細部"},{"$f":"CSVデータ1!B190","v":"保険者（地区）"},{"$f":"CSVデータ1!C190","v":51},{"$f":"CSVデータ1!D190","v":"女"},{"$f":"IF(ISNUMBER(CSVデータ1!E190),CSVデータ1!E190,0)+IF(ISNUMBER(CSVデータ2!E190),CSVデータ2!E190,0)+IF(ISNUMBER(CSVデータ3!E190),CSVデータ3!E190,0)+IF(ISNUMBER(CSVデータ4!E190),CSVデータ4!E190,0)","v":6},{"$f":"IF(ISNUMBER(CSVデータ1!F190),CSVデータ1!F190,0)+IF(ISNUMBER(CSVデータ2!F190),CSVデータ2!F190,0)+IF(ISNUMBER(CSVデータ3!F190),CSVデータ3!F190,0)+IF(ISNUMBER(CSVデータ4!F190),CSVデータ4!F190,0)","v":1},null,{"$f":"IF(ISNUMBER(CSVデータ1!H190),CSVデータ1!H190,0)+IF(ISNUMBER(CSVデータ2!H190),CSVデータ2!H190,0)+IF(ISNUMBER(CSVデータ3!H190),CSVデータ3!H190,0)+IF(ISNUMBER(CSVデータ4!H190),CSVデータ4!H190,0)","v":1},null,{"$f":"IF(ISNUMBER(CSVデータ1!J190),CSVデータ1!J190,0)+IF(ISNUMBER(CSVデータ2!J190),CSVデータ2!J190,0)+IF(ISNUMBER(CSVデータ3!J190),CSVデータ3!J190,0)+IF(ISNUMBER(CSVデータ4!J190),CSVデータ4!J190,0)","v":0},null,{"$f":"IF(ISNUMBER(CSVデータ1!L190),CSVデータ1!L190,0)+IF(ISNUMBER(CSVデータ2!L190),CSVデータ2!L190,0)+IF(ISNUMBER(CSVデータ3!L190),CSVデータ3!L190,0)+IF(ISNUMBER(CSVデータ4!L190),CSVデータ4!L190,0)","v":0},null,{"$f":"IF(ISNUMBER(CSVデータ1!N190),CSVデータ1!N190,0)+IF(ISNUMBER(CSVデータ2!N190),CSVデータ2!N190,0)+IF(ISNUMBER(CSVデータ3!N190),CSVデータ3!N190,0)+IF(ISNUMBER(CSVデータ4!N190),CSVデータ4!N190,0)","v":0},null,{"$f":"IF(ISNUMBER(CSVデータ1!P190),CSVデータ1!P190,0)+IF(ISNUMBER(CSVデータ2!P190),CSVデータ2!P190,0)+IF(ISNUMBER(CSVデータ3!P190),CSVデータ3!P190,0)+IF(ISNUMBER(CSVデータ4!P190),CSVデータ4!P190,0)","v":0},null,{"$f":"IF(ISNUMBER(CSVデータ1!R190),CSVデータ1!R190,0)+IF(ISNUMBER(CSVデータ2!R190),CSVデータ2!R190,0)+IF(ISNUMBER(CSVデータ3!R190),CSVデータ3!R190,0)+IF(ISNUMBER(CSVデータ4!R190),CSVデータ4!R190,0)","v":1},null,{"$f":"IF(ISNUMBER(CSVデータ1!T190),CSVデータ1!T190,0)+IF(ISNUMBER(CSVデータ2!T190),CSVデータ2!T190,0)+IF(ISNUMBER(CSVデータ3!T190),CSVデータ3!T190,0)+IF(ISNUMBER(CSVデータ4!T190),CSVデータ4!T190,0)","v":0},null,{"$f":"IF(ISNUMBER(CSVデータ1!V190),CSVデータ1!V190,0)+IF(ISNUMBER(CSVデータ2!V190),CSVデータ2!V190,0)+IF(ISNUMBER(CSVデータ3!V190),CSVデータ3!V190,0)+IF(ISNUMBER(CSVデータ4!V190),CSVデータ4!V190,0)","v":0},null,{"$f":"IF(ISNUMBER(CSVデータ1!X190),CSVデータ1!X190,0)+IF(ISNUMBER(CSVデータ2!X190),CSVデータ2!X190,0)+IF(ISNUMBER(CSVデータ3!X190),CSVデータ3!X190,0)+IF(ISNUMBER(CSVデータ4!X190),CSVデータ4!X190,0)","v":0},null,{"$f":"IF(ISNUMBER(CSVデータ1!Z190),CSVデータ1!Z190,0)+IF(ISNUMBER(CSVデータ2!Z190),CSVデータ2!Z190,0)+IF(ISNUMBER(CSVデータ3!Z190),CSVデータ3!Z190,0)+IF(ISNUMBER(CSVデータ4!Z190),CSVデータ4!Z190,0)","v":2},null,{"$f":"IF(ISNUMBER(CSVデータ1!AB190),CSVデータ1!AB190,0)+IF(ISNUMBER(CSVデータ2!AB190),CSVデータ2!AB190,0)+IF(ISNUMBER(CSVデータ3!AB190),CSVデータ3!AB190,0)+IF(ISNUMBER(CSVデータ4!AB190),CSVデータ4!AB190,0)","v":0},null,{"$f":"IF(ISNUMBER(CSVデータ1!AD190),CSVデータ1!AD190,0)+IF(ISNUMBER(CSVデータ2!AD190),CSVデータ2!AD190,0)+IF(ISNUMBER(CSVデータ3!AD190),CSVデータ3!AD190,0)+IF(ISNUMBER(CSVデータ4!AD190),CSVデータ4!AD190,0)","v":1},null,{"$f":"IF(ISNUMBER(CSVデータ1!AF190),CSVデータ1!AF190,0)+IF(ISNUMBER(CSVデータ2!AF190),CSVデータ2!AF190,0)+IF(ISNUMBER(CSVデータ3!AF190),CSVデータ3!AF190,0)+IF(ISNUMBER(CSVデータ4!AF190),CSVデータ4!AF190,0)","v":0},null,{"$f":"IF(ISNUMBER(CSVデータ1!AH190),CSVデータ1!AH190,0)+IF(ISNUMBER(CSVデータ2!AH190),CSVデータ2!AH190,0)+IF(ISNUMBER(CSVデータ3!AH190),CSVデータ3!AH190,0)+IF(ISNUMBER(CSVデータ4!AH190),CSVデータ4!AH190,0)","v":0},null,{"$f":"IF(ISNUMBER(CSVデータ1!AJ190),CSVデータ1!AJ190,0)+IF(ISNUMBER(CSVデータ2!AJ190),CSVデータ2!AJ190,0)+IF(ISNUMBER(CSVデータ3!AJ190),CSVデータ3!AJ190,0)+IF(ISNUMBER(CSVデータ4!AJ190),CSVデータ4!AJ190,0)","v":0},null,{"$f":"IF(ISNUMBER(CSVデータ1!AL190),CSVデータ1!AL190,0)+IF(ISNUMBER(CSVデータ2!AL190),CSVデータ2!AL190,0)+IF(ISNUMBER(CSVデータ3!AL190),CSVデータ3!AL190,0)+IF(ISNUMBER(CSVデータ4!AL190),CSVデータ4!AL190,0)","v":0},null,{"$f":"IF(ISNUMBER(CSVデータ1!AN190),CSVデータ1!AN190,0)+IF(ISNUMBER(CSVデータ2!AN190),CSVデータ2!AN190,0)+IF(ISNUMBER(CSVデータ3!AN190),CSVデータ3!AN190,0)+IF(ISNUMBER(CSVデータ4!AN190),CSVデータ4!AN190,0)","v":0}]
[{"$f":"CSVデータ1!A191","v":"明細部"},{"$f":"CSVデータ1!B191","v":"保険者（地区）"},{"$f":"CSVデータ1!C191","v":52},{"$f":"CSVデータ1!D191","v":"女"},{"$f":"IF(ISNUMBER(CSVデータ1!E191),CSVデータ1!E191,0)+IF(ISNUMBER(CSVデータ2!E191),CSVデータ2!E191,0)+IF(ISNUMBER(CSVデータ3!E191),CSVデータ3!E191,0)+IF(ISNUMBER(CSVデータ4!E191),CSVデータ4!E191,0)","v":6},{"$f":"IF(ISNUMBER(CSVデータ1!F191),CSVデータ1!F191,0)+IF(ISNUMBER(CSVデータ2!F191),CSVデータ2!F191,0)+IF(ISNUMBER(CSVデータ3!F191),CSVデータ3!F191,0)+IF(ISNUMBER(CSVデータ4!F191),CSVデータ4!F191,0)","v":1},null,{"$f":"IF(ISNUMBER(CSVデータ1!H191),CSVデータ1!H191,0)+IF(ISNUMBER(CSVデータ2!H191),CSVデータ2!H191,0)+IF(ISNUMBER(CSVデータ3!H191),CSVデータ3!H191,0)+IF(ISNUMBER(CSVデータ4!H191),CSVデータ4!H191,0)","v":1},null,{"$f":"IF(ISNUMBER(CSVデータ1!J191),CSVデータ1!J191,0)+IF(ISNUMBER(CSVデータ2!J191),CSVデータ2!J191,0)+IF(ISNUMBER(CSVデータ3!J191),CSVデータ3!J191,0)+IF(ISNUMBER(CSVデータ4!J191),CSVデータ4!J191,0)","v":0},null,{"$f":"IF(ISNUMBER(CSVデータ1!L191),CSVデータ1!L191,0)+IF(ISNUMBER(CSVデータ2!L191),CSVデータ2!L191,0)+IF(ISNUMBER(CSVデータ3!L191),CSVデータ3!L191,0)+IF(ISNUMBER(CSVデータ4!L191),CSVデータ4!L191,0)","v":0},null,{"$f":"IF(ISNUMBER(CSVデータ1!N191),CSVデータ1!N191,0)+IF(ISNUMBER(CSVデータ2!N191),CSVデータ2!N191,0)+IF(ISNUMBER(CSVデータ3!N191),CSVデータ3!N191,0)+IF(ISNUMBER(CSVデータ4!N191),CSVデータ4!N191,0)","v":0},null,{"$f":"IF(ISNUMBER(CSVデータ1!P191),CSVデータ1!P191,0)+IF(ISNUMBER(CSVデータ2!P191),CSVデータ2!P191,0)+IF(ISNUMBER(CSVデータ3!P191),CSVデータ3!P191,0)+IF(ISNUMBER(CSVデータ4!P191),CSVデータ4!P191,0)","v":0},null,{"$f":"IF(ISNUMBER(CSVデータ1!R191),CSVデータ1!R191,0)+IF(ISNUMBER(CSVデータ2!R191),CSVデータ2!R191,0)+IF(ISNUMBER(CSVデータ3!R191),CSVデータ3!R191,0)+IF(ISNUMBER(CSVデータ4!R191),CSVデータ4!R191,0)","v":0},null,{"$f":"IF(ISNUMBER(CSVデータ1!T191),CSVデータ1!T191,0)+IF(ISNUMBER(CSVデータ2!T191),CSVデータ2!T191,0)+IF(ISNUMBER(CSVデータ3!T191),CSVデータ3!T191,0)+IF(ISNUMBER(CSVデータ4!T191),CSVデータ4!T191,0)","v":0},null,{"$f":"IF(ISNUMBER(CSVデータ1!V191),CSVデータ1!V191,0)+IF(ISNUMBER(CSVデータ2!V191),CSVデータ2!V191,0)+IF(ISNUMBER(CSVデータ3!V191),CSVデータ3!V191,0)+IF(ISNUMBER(CSVデータ4!V191),CSVデータ4!V191,0)","v":0},null,{"$f":"IF(ISNUMBER(CSVデータ1!X191),CSVデータ1!X191,0)+IF(ISNUMBER(CSVデータ2!X191),CSVデータ2!X191,0)+IF(ISNUMBER(CSVデータ3!X191),CSVデータ3!X191,0)+IF(ISNUMBER(CSVデータ4!X191),CSVデータ4!X191,0)","v":1},null,{"$f":"IF(ISNUMBER(CSVデータ1!Z191),CSVデータ1!Z191,0)+IF(ISNUMBER(CSVデータ2!Z191),CSVデータ2!Z191,0)+IF(ISNUMBER(CSVデータ3!Z191),CSVデータ3!Z191,0)+IF(ISNUMBER(CSVデータ4!Z191),CSVデータ4!Z191,0)","v":2},null,{"$f":"IF(ISNUMBER(CSVデータ1!AB191),CSVデータ1!AB191,0)+IF(ISNUMBER(CSVデータ2!AB191),CSVデータ2!AB191,0)+IF(ISNUMBER(CSVデータ3!AB191),CSVデータ3!AB191,0)+IF(ISNUMBER(CSVデータ4!AB191),CSVデータ4!AB191,0)","v":0},null,{"$f":"IF(ISNUMBER(CSVデータ1!AD191),CSVデータ1!AD191,0)+IF(ISNUMBER(CSVデータ2!AD191),CSVデータ2!AD191,0)+IF(ISNUMBER(CSVデータ3!AD191),CSVデータ3!AD191,0)+IF(ISNUMBER(CSVデータ4!AD191),CSVデータ4!AD191,0)","v":2},null,{"$f":"IF(ISNUMBER(CSVデータ1!AF191),CSVデータ1!AF191,0)+IF(ISNUMBER(CSVデータ2!AF191),CSVデータ2!AF191,0)+IF(ISNUMBER(CSVデータ3!AF191),CSVデータ3!AF191,0)+IF(ISNUMBER(CSVデータ4!AF191),CSVデータ4!AF191,0)","v":0},null,{"$f":"IF(ISNUMBER(CSVデータ1!AH191),CSVデータ1!AH191,0)+IF(ISNUMBER(CSVデータ2!AH191),CSVデータ2!AH191,0)+IF(ISNUMBER(CSVデータ3!AH191),CSVデータ3!AH191,0)+IF(ISNUMBER(CSVデータ4!AH191),CSVデータ4!AH191,0)","v":0},null,{"$f":"IF(ISNUMBER(CSVデータ1!AJ191),CSVデータ1!AJ191,0)+IF(ISNUMBER(CSVデータ2!AJ191),CSVデータ2!AJ191,0)+IF(ISNUMBER(CSVデータ3!AJ191),CSVデータ3!AJ191,0)+IF(ISNUMBER(CSVデータ4!AJ191),CSVデータ4!AJ191,0)","v":0},null,{"$f":"IF(ISNUMBER(CSVデータ1!AL191),CSVデータ1!AL191,0)+IF(ISNUMBER(CSVデータ2!AL191),CSVデータ2!AL191,0)+IF(ISNUMBER(CSVデータ3!AL191),CSVデータ3!AL191,0)+IF(ISNUMBER(CSVデータ4!AL191),CSVデータ4!AL191,0)","v":0},null,{"$f":"IF(ISNUMBER(CSVデータ1!AN191),CSVデータ1!AN191,0)+IF(ISNUMBER(CSVデータ2!AN191),CSVデータ2!AN191,0)+IF(ISNUMBER(CSVデータ3!AN191),CSVデータ3!AN191,0)+IF(ISNUMBER(CSVデータ4!AN191),CSVデータ4!AN191,0)","v":0}]
[{"$f":"CSVデータ1!A192","v":"明細部"},{"$f":"CSVデータ1!B192","v":"保険者（地区）"},{"$f":"CSVデータ1!C192","v":53},{"$f":"CSVデータ1!D192","v":"女"},{"$f":"IF(ISNUMBER(CSVデータ1!E192),CSVデータ1!E192,0)+IF(ISNUMBER(CSVデータ2!E192),CSVデータ2!E192,0)+IF(ISNUMBER(CSVデータ3!E192),CSVデータ3!E192,0)+IF(ISNUMBER(CSVデータ4!E192),CSVデータ4!E192,0)","v":8},{"$f":"IF(ISNUMBER(CSVデータ1!F192),CSVデータ1!F192,0)+IF(ISNUMBER(CSVデータ2!F192),CSVデータ2!F192,0)+IF(ISNUMBER(CSVデータ3!F192),CSVデータ3!F192,0)+IF(ISNUMBER(CSVデータ4!F192),CSVデータ4!F192,0)","v":2},null,{"$f":"IF(ISNUMBER(CSVデータ1!H192),CSVデータ1!H192,0)+IF(ISNUMBER(CSVデータ2!H192),CSVデータ2!H192,0)+IF(ISNUMBER(CSVデータ3!H192),CSVデータ3!H192,0)+IF(ISNUMBER(CSVデータ4!H192),CSVデータ4!H192,0)","v":1},null,{"$f":"IF(ISNUMBER(CSVデータ1!J192),CSVデータ1!J192,0)+IF(ISNUMBER(CSVデータ2!J192),CSVデータ2!J192,0)+IF(ISNUMBER(CSVデータ3!J192),CSVデータ3!J192,0)+IF(ISNUMBER(CSVデータ4!J192),CSVデータ4!J192,0)","v":0},null,{"$f":"IF(ISNUMBER(CSVデータ1!L192),CSVデータ1!L192,0)+IF(ISNUMBER(CSVデータ2!L192),CSVデータ2!L192,0)+IF(ISNUMBER(CSVデータ3!L192),CSVデータ3!L192,0)+IF(ISNUMBER(CSVデータ4!L192),CSVデータ4!L192,0)","v":0},null,{"$f":"IF(ISNUMBER(CSVデータ1!N192),CSVデータ1!N192,0)+IF(ISNUMBER(CSVデータ2!N192),CSVデータ2!N192,0)+IF(ISNUMBER(CSVデータ3!N192),CSVデータ3!N192,0)+IF(ISNUMBER(CSVデータ4!N192),CSVデータ4!N192,0)","v":0},null,{"$f":"IF(ISNUMBER(CSVデータ1!P192),CSVデータ1!P192,0)+IF(ISNUMBER(CSVデータ2!P192),CSVデータ2!P192,0)+IF(ISNUMBER(CSVデータ3!P192),CSVデータ3!P192,0)+IF(ISNUMBER(CSVデータ4!P192),CSVデータ4!P192,0)","v":0},null,{"$f":"IF(ISNUMBER(CSVデータ1!R192),CSVデータ1!R192,0)+IF(ISNUMBER(CSVデータ2!R192),CSVデータ2!R192,0)+IF(ISNUMBER(CSVデータ3!R192),CSVデータ3!R192,0)+IF(ISNUMBER(CSVデータ4!R192),CSVデータ4!R192,0)","v":2},null,{"$f":"IF(ISNUMBER(CSVデータ1!T192),CSVデータ1!T192,0)+IF(ISNUMBER(CSVデータ2!T192),CSVデータ2!T192,0)+IF(ISNUMBER(CSVデータ3!T192),CSVデータ3!T192,0)+IF(ISNUMBER(CSVデータ4!T192),CSVデータ4!T192,0)","v":0},null,{"$f":"IF(ISNUMBER(CSVデータ1!V192),CSVデータ1!V192,0)+IF(ISNUMBER(CSVデータ2!V192),CSVデータ2!V192,0)+IF(ISNUMBER(CSVデータ3!V192),CSVデータ3!V192,0)+IF(ISNUMBER(CSVデータ4!V192),CSVデータ4!V192,0)","v":0},null,{"$f":"IF(ISNUMBER(CSVデータ1!X192),CSVデータ1!X192,0)+IF(ISNUMBER(CSVデータ2!X192),CSVデータ2!X192,0)+IF(ISNUMBER(CSVデータ3!X192),CSVデータ3!X192,0)+IF(ISNUMBER(CSVデータ4!X192),CSVデータ4!X192,0)","v":0},null,{"$f":"IF(ISNUMBER(CSVデータ1!Z192),CSVデータ1!Z192,0)+IF(ISNUMBER(CSVデータ2!Z192),CSVデータ2!Z192,0)+IF(ISNUMBER(CSVデータ3!Z192),CSVデータ3!Z192,0)+IF(ISNUMBER(CSVデータ4!Z192),CSVデータ4!Z192,0)","v":2},null,{"$f":"IF(ISNUMBER(CSVデータ1!AB192),CSVデータ1!AB192,0)+IF(ISNUMBER(CSVデータ2!AB192),CSVデータ2!AB192,0)+IF(ISNUMBER(CSVデータ3!AB192),CSVデータ3!AB192,0)+IF(ISNUMBER(CSVデータ4!AB192),CSVデータ4!AB192,0)","v":0},null,{"$f":"IF(ISNUMBER(CSVデータ1!AD192),CSVデータ1!AD192,0)+IF(ISNUMBER(CSVデータ2!AD192),CSVデータ2!AD192,0)+IF(ISNUMBER(CSVデータ3!AD192),CSVデータ3!AD192,0)+IF(ISNUMBER(CSVデータ4!AD192),CSVデータ4!AD192,0)","v":2},null,{"$f":"IF(ISNUMBER(CSVデータ1!AF192),CSVデータ1!AF192,0)+IF(ISNUMBER(CSVデータ2!AF192),CSVデータ2!AF192,0)+IF(ISNUMBER(CSVデータ3!AF192),CSVデータ3!AF192,0)+IF(ISNUMBER(CSVデータ4!AF192),CSVデータ4!AF192,0)","v":0},null,{"$f":"IF(ISNUMBER(CSVデータ1!AH192),CSVデータ1!AH192,0)+IF(ISNUMBER(CSVデータ2!AH192),CSVデータ2!AH192,0)+IF(ISNUMBER(CSVデータ3!AH192),CSVデータ3!AH192,0)+IF(ISNUMBER(CSVデータ4!AH192),CSVデータ4!AH192,0)","v":0},null,{"$f":"IF(ISNUMBER(CSVデータ1!AJ192),CSVデータ1!AJ192,0)+IF(ISNUMBER(CSVデータ2!AJ192),CSVデータ2!AJ192,0)+IF(ISNUMBER(CSVデータ3!AJ192),CSVデータ3!AJ192,0)+IF(ISNUMBER(CSVデータ4!AJ192),CSVデータ4!AJ192,0)","v":0},null,{"$f":"IF(ISNUMBER(CSVデータ1!AL192),CSVデータ1!AL192,0)+IF(ISNUMBER(CSVデータ2!AL192),CSVデータ2!AL192,0)+IF(ISNUMBER(CSVデータ3!AL192),CSVデータ3!AL192,0)+IF(ISNUMBER(CSVデータ4!AL192),CSVデータ4!AL192,0)","v":1},null,{"$f":"IF(ISNUMBER(CSVデータ1!AN192),CSVデータ1!AN192,0)+IF(ISNUMBER(CSVデータ2!AN192),CSVデータ2!AN192,0)+IF(ISNUMBER(CSVデータ3!AN192),CSVデータ3!AN192,0)+IF(ISNUMBER(CSVデータ4!AN192),CSVデータ4!AN192,0)","v":0}]
[{"$f":"CSVデータ1!A193","v":"明細部"},{"$f":"CSVデータ1!B193","v":"保険者（地区）"},{"$f":"CSVデータ1!C193","v":54},{"$f":"CSVデータ1!D193","v":"女"},{"$f":"IF(ISNUMBER(CSVデータ1!E193),CSVデータ1!E193,0)+IF(ISNUMBER(CSVデータ2!E193),CSVデータ2!E193,0)+IF(ISNUMBER(CSVデータ3!E193),CSVデータ3!E193,0)+IF(ISNUMBER(CSVデータ4!E193),CSVデータ4!E193,0)","v":5},{"$f":"IF(ISNUMBER(CSVデータ1!F193),CSVデータ1!F193,0)+IF(ISNUMBER(CSVデータ2!F193),CSVデータ2!F193,0)+IF(ISNUMBER(CSVデータ3!F193),CSVデータ3!F193,0)+IF(ISNUMBER(CSVデータ4!F193),CSVデータ4!F193,0)","v":1},null,{"$f":"IF(ISNUMBER(CSVデータ1!H193),CSVデータ1!H193,0)+IF(ISNUMBER(CSVデータ2!H193),CSVデータ2!H193,0)+IF(ISNUMBER(CSVデータ3!H193),CSVデータ3!H193,0)+IF(ISNUMBER(CSVデータ4!H193),CSVデータ4!H193,0)","v":1},null,{"$f":"IF(ISNUMBER(CSVデータ1!J193),CSVデータ1!J193,0)+IF(ISNUMBER(CSVデータ2!J193),CSVデータ2!J193,0)+IF(ISNUMBER(CSVデータ3!J193),CSVデータ3!J193,0)+IF(ISNUMBER(CSVデータ4!J193),CSVデータ4!J193,0)","v":2},null,{"$f":"IF(ISNUMBER(CSVデータ1!L193),CSVデータ1!L193,0)+IF(ISNUMBER(CSVデータ2!L193),CSVデータ2!L193,0)+IF(ISNUMBER(CSVデータ3!L193),CSVデータ3!L193,0)+IF(ISNUMBER(CSVデータ4!L193),CSVデータ4!L193,0)","v":1},null,{"$f":"IF(ISNUMBER(CSVデータ1!N193),CSVデータ1!N193,0)+IF(ISNUMBER(CSVデータ2!N193),CSVデータ2!N193,0)+IF(ISNUMBER(CSVデータ3!N193),CSVデータ3!N193,0)+IF(ISNUMBER(CSVデータ4!N193),CSVデータ4!N193,0)","v":0},null,{"$f":"IF(ISNUMBER(CSVデータ1!P193),CSVデータ1!P193,0)+IF(ISNUMBER(CSVデータ2!P193),CSVデータ2!P193,0)+IF(ISNUMBER(CSVデータ3!P193),CSVデータ3!P193,0)+IF(ISNUMBER(CSVデータ4!P193),CSVデータ4!P193,0)","v":1},null,{"$f":"IF(ISNUMBER(CSVデータ1!R193),CSVデータ1!R193,0)+IF(ISNUMBER(CSVデータ2!R193),CSVデータ2!R193,0)+IF(ISNUMBER(CSVデータ3!R193),CSVデータ3!R193,0)+IF(ISNUMBER(CSVデータ4!R193),CSVデータ4!R193,0)","v":0},null,{"$f":"IF(ISNUMBER(CSVデータ1!T193),CSVデータ1!T193,0)+IF(ISNUMBER(CSVデータ2!T193),CSVデータ2!T193,0)+IF(ISNUMBER(CSVデータ3!T193),CSVデータ3!T193,0)+IF(ISNUMBER(CSVデータ4!T193),CSVデータ4!T193,0)","v":0},null,{"$f":"IF(ISNUMBER(CSVデータ1!V193),CSVデータ1!V193,0)+IF(ISNUMBER(CSVデータ2!V193),CSVデータ2!V193,0)+IF(ISNUMBER(CSVデータ3!V193),CSVデータ3!V193,0)+IF(ISNUMBER(CSVデータ4!V193),CSVデータ4!V193,0)","v":3},null,{"$f":"IF(ISNUMBER(CSVデータ1!X193),CSVデータ1!X193,0)+IF(ISNUMBER(CSVデータ2!X193),CSVデータ2!X193,0)+IF(ISNUMBER(CSVデータ3!X193),CSVデータ3!X193,0)+IF(ISNUMBER(CSVデータ4!X193),CSVデータ4!X193,0)","v":0},null,{"$f":"IF(ISNUMBER(CSVデータ1!Z193),CSVデータ1!Z193,0)+IF(ISNUMBER(CSVデータ2!Z193),CSVデータ2!Z193,0)+IF(ISNUMBER(CSVデータ3!Z193),CSVデータ3!Z193,0)+IF(ISNUMBER(CSVデータ4!Z193),CSVデータ4!Z193,0)","v":2},null,{"$f":"IF(ISNUMBER(CSVデータ1!AB193),CSVデータ1!AB193,0)+IF(ISNUMBER(CSVデータ2!AB193),CSVデータ2!AB193,0)+IF(ISNUMBER(CSVデータ3!AB193),CSVデータ3!AB193,0)+IF(ISNUMBER(CSVデータ4!AB193),CSVデータ4!AB193,0)","v":0},null,{"$f":"IF(ISNUMBER(CSVデータ1!AD193),CSVデータ1!AD193,0)+IF(ISNUMBER(CSVデータ2!AD193),CSVデータ2!AD193,0)+IF(ISNUMBER(CSVデータ3!AD193),CSVデータ3!AD193,0)+IF(ISNUMBER(CSVデータ4!AD193),CSVデータ4!AD193,0)","v":0},null,{"$f":"IF(ISNUMBER(CSVデータ1!AF193),CSVデータ1!AF193,0)+IF(ISNUMBER(CSVデータ2!AF193),CSVデータ2!AF193,0)+IF(ISNUMBER(CSVデータ3!AF193),CSVデータ3!AF193,0)+IF(ISNUMBER(CSVデータ4!AF193),CSVデータ4!AF193,0)","v":0},null,{"$f":"IF(ISNUMBER(CSVデータ1!AH193),CSVデータ1!AH193,0)+IF(ISNUMBER(CSVデータ2!AH193),CSVデータ2!AH193,0)+IF(ISNUMBER(CSVデータ3!AH193),CSVデータ3!AH193,0)+IF(ISNUMBER(CSVデータ4!AH193),CSVデータ4!AH193,0)","v":0},null,{"$f":"IF(ISNUMBER(CSVデータ1!AJ193),CSVデータ1!AJ193,0)+IF(ISNUMBER(CSVデータ2!AJ193),CSVデータ2!AJ193,0)+IF(ISNUMBER(CSVデータ3!AJ193),CSVデータ3!AJ193,0)+IF(ISNUMBER(CSVデータ4!AJ193),CSVデータ4!AJ193,0)","v":0},null,{"$f":"IF(ISNUMBER(CSVデータ1!AL193),CSVデータ1!AL193,0)+IF(ISNUMBER(CSVデータ2!AL193),CSVデータ2!AL193,0)+IF(ISNUMBER(CSVデータ3!AL193),CSVデータ3!AL193,0)+IF(ISNUMBER(CSVデータ4!AL193),CSVデータ4!AL193,0)","v":0},null,{"$f":"IF(ISNUMBER(CSVデータ1!AN193),CSVデータ1!AN193,0)+IF(ISNUMBER(CSVデータ2!AN193),CSVデータ2!AN193,0)+IF(ISNUMBER(CSVデータ3!AN193),CSVデータ3!AN193,0)+IF(ISNUMBER(CSVデータ4!AN193),CSVデータ4!AN193,0)","v":0}]
[{"$f":"CSVデータ1!A194","v":"明細部"},{"$f":"CSVデータ1!B194","v":"保険者（地区）"},{"$f":"CSVデータ1!C194","v":55},{"$f":"CSVデータ1!D194","v":"女"},{"$f":"IF(ISNUMBER(CSVデータ1!E194),CSVデータ1!E194,0)+IF(ISNUMBER(CSVデータ2!E194),CSVデータ2!E194,0)+IF(ISNUMBER(CSVデータ3!E194),CSVデータ3!E194,0)+IF(ISNUMBER(CSVデータ4!E194),CSVデータ4!E194,0)","v":3},{"$f":"IF(ISNUMBER(CSVデータ1!F194),CSVデータ1!F194,0)+IF(ISNUMBER(CSVデータ2!F194),CSVデータ2!F194,0)+IF(ISNUMBER(CSVデータ3!F194),CSVデータ3!F194,0)+IF(ISNUMBER(CSVデータ4!F194),CSVデータ4!F194,0)","v":1},null,{"$f":"IF(ISNUMBER(CSVデータ1!H194),CSVデータ1!H194,0)+IF(ISNUMBER(CSVデータ2!H194),CSVデータ2!H194,0)+IF(ISNUMBER(CSVデータ3!H194),CSVデータ3!H194,0)+IF(ISNUMBER(CSVデータ4!H194),CSVデータ4!H194,0)","v":0},null,{"$f":"IF(ISNUMBER(CSVデータ1!J194),CSVデータ1!J194,0)+IF(ISNUMBER(CSVデータ2!J194),CSVデータ2!J194,0)+IF(ISNUMBER(CSVデータ3!J194),CSVデータ3!J194,0)+IF(ISNUMBER(CSVデータ4!J194),CSVデータ4!J194,0)","v":0},null,{"$f":"IF(ISNUMBER(CSVデータ1!L194),CSVデータ1!L194,0)+IF(ISNUMBER(CSVデータ2!L194),CSVデータ2!L194,0)+IF(ISNUMBER(CSVデータ3!L194),CSVデータ3!L194,0)+IF(ISNUMBER(CSVデータ4!L194),CSVデータ4!L194,0)","v":0},null,{"$f":"IF(ISNUMBER(CSVデータ1!N194),CSVデータ1!N194,0)+IF(ISNUMBER(CSVデータ2!N194),CSVデータ2!N194,0)+IF(ISNUMBER(CSVデータ3!N194),CSVデータ3!N194,0)+IF(ISNUMBER(CSVデータ4!N194),CSVデータ4!N194,0)","v":0},null,{"$f":"IF(ISNUMBER(CSVデータ1!P194),CSVデータ1!P194,0)+IF(ISNUMBER(CSVデータ2!P194),CSVデータ2!P194,0)+IF(ISNUMBER(CSVデータ3!P194),CSVデータ3!P194,0)+IF(ISNUMBER(CSVデータ4!P194),CSVデータ4!P194,0)","v":0},null,{"$f":"IF(ISNUMBER(CSVデータ1!R194),CSVデータ1!R194,0)+IF(ISNUMBER(CSVデータ2!R194),CSVデータ2!R194,0)+IF(ISNUMBER(CSVデータ3!R194),CSVデータ3!R194,0)+IF(ISNUMBER(CSVデータ4!R194),CSVデータ4!R194,0)","v":0},null,{"$f":"IF(ISNUMBER(CSVデータ1!T194),CSVデータ1!T194,0)+IF(ISNUMBER(CSVデータ2!T194),CSVデータ2!T194,0)+IF(ISNUMBER(CSVデータ3!T194),CSVデータ3!T194,0)+IF(ISNUMBER(CSVデータ4!T194),CSVデータ4!T194,0)","v":0},null,{"$f":"IF(ISNUMBER(CSVデータ1!V194),CSVデータ1!V194,0)+IF(ISNUMBER(CSVデータ2!V194),CSVデータ2!V194,0)+IF(ISNUMBER(CSVデータ3!V194),CSVデータ3!V194,0)+IF(ISNUMBER(CSVデータ4!V194),CSVデータ4!V194,0)","v":0},null,{"$f":"IF(ISNUMBER(CSVデータ1!X194),CSVデータ1!X194,0)+IF(ISNUMBER(CSVデータ2!X194),CSVデータ2!X194,0)+IF(ISNUMBER(CSVデータ3!X194),CSVデータ3!X194,0)+IF(ISNUMBER(CSVデータ4!X194),CSVデータ4!X194,0)","v":0},null,{"$f":"IF(ISNUMBER(CSVデータ1!Z194),CSVデータ1!Z194,0)+IF(ISNUMBER(CSVデータ2!Z194),CSVデータ2!Z194,0)+IF(ISNUMBER(CSVデータ3!Z194),CSVデータ3!Z194,0)+IF(ISNUMBER(CSVデータ4!Z194),CSVデータ4!Z194,0)","v":2},null,{"$f":"IF(ISNUMBER(CSVデータ1!AB194),CSVデータ1!AB194,0)+IF(ISNUMBER(CSVデータ2!AB194),CSVデータ2!AB194,0)+IF(ISNUMBER(CSVデータ3!AB194),CSVデータ3!AB194,0)+IF(ISNUMBER(CSVデータ4!AB194),CSVデータ4!AB194,0)","v":0},null,{"$f":"IF(ISNUMBER(CSVデータ1!AD194),CSVデータ1!AD194,0)+IF(ISNUMBER(CSVデータ2!AD194),CSVデータ2!AD194,0)+IF(ISNUMBER(CSVデータ3!AD194),CSVデータ3!AD194,0)+IF(ISNUMBER(CSVデータ4!AD194),CSVデータ4!AD194,0)","v":0},null,{"$f":"IF(ISNUMBER(CSVデータ1!AF194),CSVデータ1!AF194,0)+IF(ISNUMBER(CSVデータ2!AF194),CSVデータ2!AF194,0)+IF(ISNUMBER(CSVデータ3!AF194),CSVデータ3!AF194,0)+IF(ISNUMBER(CSVデータ4!AF194),CSVデータ4!AF194,0)","v":0},null,{"$f":"IF(ISNUMBER(CSVデータ1!AH194),CSVデータ1!AH194,0)+IF(ISNUMBER(CSVデータ2!AH194),CSVデータ2!AH194,0)+IF(ISNUMBER(CSVデータ3!AH194),CSVデータ3!AH194,0)+IF(ISNUMBER(CSVデータ4!AH194),CSVデータ4!AH194,0)","v":0},null,{"$f":"IF(ISNUMBER(CSVデータ1!AJ194),CSVデータ1!AJ194,0)+IF(ISNUMBER(CSVデータ2!AJ194),CSVデータ2!AJ194,0)+IF(ISNUMBER(CSVデータ3!AJ194),CSVデータ3!AJ194,0)+IF(ISNUMBER(CSVデータ4!AJ194),CSVデータ4!AJ194,0)","v":0},null,{"$f":"IF(ISNUMBER(CSVデータ1!AL194),CSVデータ1!AL194,0)+IF(ISNUMBER(CSVデータ2!AL194),CSVデータ2!AL194,0)+IF(ISNUMBER(CSVデータ3!AL194),CSVデータ3!AL194,0)+IF(ISNUMBER(CSVデータ4!AL194),CSVデータ4!AL194,0)","v":0},null,{"$f":"IF(ISNUMBER(CSVデータ1!AN194),CSVデータ1!AN194,0)+IF(ISNUMBER(CSVデータ2!AN194),CSVデータ2!AN194,0)+IF(ISNUMBER(CSVデータ3!AN194),CSVデータ3!AN194,0)+IF(ISNUMBER(CSVデータ4!AN194),CSVデータ4!AN194,0)","v":0}]
[{"$f":"CSVデータ1!A195","v":"明細部"},{"$f":"CSVデータ1!B195","v":"保険者（地区）"},{"$f":"CSVデータ1!C195","v":56},{"$f":"CSVデータ1!D195","v":"女"},{"$f":"IF(ISNUMBER(CSVデータ1!E195),CSVデータ1!E195,0)+IF(ISNUMBER(CSVデータ2!E195),CSVデータ2!E195,0)+IF(ISNUMBER(CSVデータ3!E195),CSVデータ3!E195,0)+IF(ISNUMBER(CSVデータ4!E195),CSVデータ4!E195,0)","v":9},{"$f":"IF(ISNUMBER(CSVデータ1!F195),CSVデータ1!F195,0)+IF(ISNUMBER(CSVデータ2!F195),CSVデータ2!F195,0)+IF(ISNUMBER(CSVデータ3!F195),CSVデータ3!F195,0)+IF(ISNUMBER(CSVデータ4!F195),CSVデータ4!F195,0)","v":1},null,{"$f":"IF(ISNUMBER(CSVデータ1!H195),CSVデータ1!H195,0)+IF(ISNUMBER(CSVデータ2!H195),CSVデータ2!H195,0)+IF(ISNUMBER(CSVデータ3!H195),CSVデータ3!H195,0)+IF(ISNUMBER(CSVデータ4!H195),CSVデータ4!H195,0)","v":1},null,{"$f":"IF(ISNUMBER(CSVデータ1!J195),CSVデータ1!J195,0)+IF(ISNUMBER(CSVデータ2!J195),CSVデータ2!J195,0)+IF(ISNUMBER(CSVデータ3!J195),CSVデータ3!J195,0)+IF(ISNUMBER(CSVデータ4!J195),CSVデータ4!J195,0)","v":0},null,{"$f":"IF(ISNUMBER(CSVデータ1!L195),CSVデータ1!L195,0)+IF(ISNUMBER(CSVデータ2!L195),CSVデータ2!L195,0)+IF(ISNUMBER(CSVデータ3!L195),CSVデータ3!L195,0)+IF(ISNUMBER(CSVデータ4!L195),CSVデータ4!L195,0)","v":2},null,{"$f":"IF(ISNUMBER(CSVデータ1!N195),CSVデータ1!N195,0)+IF(ISNUMBER(CSVデータ2!N195),CSVデータ2!N195,0)+IF(ISNUMBER(CSVデータ3!N195),CSVデータ3!N195,0)+IF(ISNUMBER(CSVデータ4!N195),CSVデータ4!N195,0)","v":0},null,{"$f":"IF(ISNUMBER(CSVデータ1!P195),CSVデータ1!P195,0)+IF(ISNUMBER(CSVデータ2!P195),CSVデータ2!P195,0)+IF(ISNUMBER(CSVデータ3!P195),CSVデータ3!P195,0)+IF(ISNUMBER(CSVデータ4!P195),CSVデータ4!P195,0)","v":1},null,{"$f":"IF(ISNUMBER(CSVデータ1!R195),CSVデータ1!R195,0)+IF(ISNUMBER(CSVデータ2!R195),CSVデータ2!R195,0)+IF(ISNUMBER(CSVデータ3!R195),CSVデータ3!R195,0)+IF(ISNUMBER(CSVデータ4!R195),CSVデータ4!R195,0)","v":4},null,{"$f":"IF(ISNUMBER(CSVデータ1!T195),CSVデータ1!T195,0)+IF(ISNUMBER(CSVデータ2!T195),CSVデータ2!T195,0)+IF(ISNUMBER(CSVデータ3!T195),CSVデータ3!T195,0)+IF(ISNUMBER(CSVデータ4!T195),CSVデータ4!T195,0)","v":0},null,{"$f":"IF(ISNUMBER(CSVデータ1!V195),CSVデータ1!V195,0)+IF(ISNUMBER(CSVデータ2!V195),CSVデータ2!V195,0)+IF(ISNUMBER(CSVデータ3!V195),CSVデータ3!V195,0)+IF(ISNUMBER(CSVデータ4!V195),CSVデータ4!V195,0)","v":2},null,{"$f":"IF(ISNUMBER(CSVデータ1!X195),CSVデータ1!X195,0)+IF(ISNUMBER(CSVデータ2!X195),CSVデータ2!X195,0)+IF(ISNUMBER(CSVデータ3!X195),CSVデータ3!X195,0)+IF(ISNUMBER(CSVデータ4!X195),CSVデータ4!X195,0)","v":2},null,{"$f":"IF(ISNUMBER(CSVデータ1!Z195),CSVデータ1!Z195,0)+IF(ISNUMBER(CSVデータ2!Z195),CSVデータ2!Z195,0)+IF(ISNUMBER(CSVデータ3!Z195),CSVデータ3!Z195,0)+IF(ISNUMBER(CSVデータ4!Z195),CSVデータ4!Z195,0)","v":5},null,{"$f":"IF(ISNUMBER(CSVデータ1!AB195),CSVデータ1!AB195,0)+IF(ISNUMBER(CSVデータ2!AB195),CSVデータ2!AB195,0)+IF(ISNUMBER(CSVデータ3!AB195),CSVデータ3!AB195,0)+IF(ISNUMBER(CSVデータ4!AB195),CSVデータ4!AB195,0)","v":0},null,{"$f":"IF(ISNUMBER(CSVデータ1!AD195),CSVデータ1!AD195,0)+IF(ISNUMBER(CSVデータ2!AD195),CSVデータ2!AD195,0)+IF(ISNUMBER(CSVデータ3!AD195),CSVデータ3!AD195,0)+IF(ISNUMBER(CSVデータ4!AD195),CSVデータ4!AD195,0)","v":2},null,{"$f":"IF(ISNUMBER(CSVデータ1!AF195),CSVデータ1!AF195,0)+IF(ISNUMBER(CSVデータ2!AF195),CSVデータ2!AF195,0)+IF(ISNUMBER(CSVデータ3!AF195),CSVデータ3!AF195,0)+IF(ISNUMBER(CSVデータ4!AF195),CSVデータ4!AF195,0)","v":0},null,{"$f":"IF(ISNUMBER(CSVデータ1!AH195),CSVデータ1!AH195,0)+IF(ISNUMBER(CSVデータ2!AH195),CSVデータ2!AH195,0)+IF(ISNUMBER(CSVデータ3!AH195),CSVデータ3!AH195,0)+IF(ISNUMBER(CSVデータ4!AH195),CSVデータ4!AH195,0)","v":0},null,{"$f":"IF(ISNUMBER(CSVデータ1!AJ195),CSVデータ1!AJ195,0)+IF(ISNUMBER(CSVデータ2!AJ195),CSVデータ2!AJ195,0)+IF(ISNUMBER(CSVデータ3!AJ195),CSVデータ3!AJ195,0)+IF(ISNUMBER(CSVデータ4!AJ195),CSVデータ4!AJ195,0)","v":0},null,{"$f":"IF(ISNUMBER(CSVデータ1!AL195),CSVデータ1!AL195,0)+IF(ISNUMBER(CSVデータ2!AL195),CSVデータ2!AL195,0)+IF(ISNUMBER(CSVデータ3!AL195),CSVデータ3!AL195,0)+IF(ISNUMBER(CSVデータ4!AL195),CSVデータ4!AL195,0)","v":1},null,{"$f":"IF(ISNUMBER(CSVデータ1!AN195),CSVデータ1!AN195,0)+IF(ISNUMBER(CSVデータ2!AN195),CSVデータ2!AN195,0)+IF(ISNUMBER(CSVデータ3!AN195),CSVデータ3!AN195,0)+IF(ISNUMBER(CSVデータ4!AN195),CSVデータ4!AN195,0)","v":0}]
[{"$f":"CSVデータ1!A196","v":"明細部"},{"$f":"CSVデータ1!B196","v":"保険者（地区）"},{"$f":"CSVデータ1!C196","v":57},{"$f":"CSVデータ1!D196","v":"女"},{"$f":"IF(ISNUMBER(CSVデータ1!E196),CSVデータ1!E196,0)+IF(ISNUMBER(CSVデータ2!E196),CSVデータ2!E196,0)+IF(ISNUMBER(CSVデータ3!E196),CSVデータ3!E196,0)+IF(ISNUMBER(CSVデータ4!E196),CSVデータ4!E196,0)","v":7},{"$f":"IF(ISNUMBER(CSVデータ1!F196),CSVデータ1!F196,0)+IF(ISNUMBER(CSVデータ2!F196),CSVデータ2!F196,0)+IF(ISNUMBER(CSVデータ3!F196),CSVデータ3!F196,0)+IF(ISNUMBER(CSVデータ4!F196),CSVデータ4!F196,0)","v":3},null,{"$f":"IF(ISNUMBER(CSVデータ1!H196),CSVデータ1!H196,0)+IF(ISNUMBER(CSVデータ2!H196),CSVデータ2!H196,0)+IF(ISNUMBER(CSVデータ3!H196),CSVデータ3!H196,0)+IF(ISNUMBER(CSVデータ4!H196),CSVデータ4!H196,0)","v":2},null,{"$f":"IF(ISNUMBER(CSVデータ1!J196),CSVデータ1!J196,0)+IF(ISNUMBER(CSVデータ2!J196),CSVデータ2!J196,0)+IF(ISNUMBER(CSVデータ3!J196),CSVデータ3!J196,0)+IF(ISNUMBER(CSVデータ4!J196),CSVデータ4!J196,0)","v":0},null,{"$f":"IF(ISNUMBER(CSVデータ1!L196),CSVデータ1!L196,0)+IF(ISNUMBER(CSVデータ2!L196),CSVデータ2!L196,0)+IF(ISNUMBER(CSVデータ3!L196),CSVデータ3!L196,0)+IF(ISNUMBER(CSVデータ4!L196),CSVデータ4!L196,0)","v":0},null,{"$f":"IF(ISNUMBER(CSVデータ1!N196),CSVデータ1!N196,0)+IF(ISNUMBER(CSVデータ2!N196),CSVデータ2!N196,0)+IF(ISNUMBER(CSVデータ3!N196),CSVデータ3!N196,0)+IF(ISNUMBER(CSVデータ4!N196),CSVデータ4!N196,0)","v":0},null,{"$f":"IF(ISNUMBER(CSVデータ1!P196),CSVデータ1!P196,0)+IF(ISNUMBER(CSVデータ2!P196),CSVデータ2!P196,0)+IF(ISNUMBER(CSVデータ3!P196),CSVデータ3!P196,0)+IF(ISNUMBER(CSVデータ4!P196),CSVデータ4!P196,0)","v":2},null,{"$f":"IF(ISNUMBER(CSVデータ1!R196),CSVデータ1!R196,0)+IF(ISNUMBER(CSVデータ2!R196),CSVデータ2!R196,0)+IF(ISNUMBER(CSVデータ3!R196),CSVデータ3!R196,0)+IF(ISNUMBER(CSVデータ4!R196),CSVデータ4!R196,0)","v":2},null,{"$f":"IF(ISNUMBER(CSVデータ1!T196),CSVデータ1!T196,0)+IF(ISNUMBER(CSVデータ2!T196),CSVデータ2!T196,0)+IF(ISNUMBER(CSVデータ3!T196),CSVデータ3!T196,0)+IF(ISNUMBER(CSVデータ4!T196),CSVデータ4!T196,0)","v":0},null,{"$f":"IF(ISNUMBER(CSVデータ1!V196),CSVデータ1!V196,0)+IF(ISNUMBER(CSVデータ2!V196),CSVデータ2!V196,0)+IF(ISNUMBER(CSVデータ3!V196),CSVデータ3!V196,0)+IF(ISNUMBER(CSVデータ4!V196),CSVデータ4!V196,0)","v":4},null,{"$f":"IF(ISNUMBER(CSVデータ1!X196),CSVデータ1!X196,0)+IF(ISNUMBER(CSVデータ2!X196),CSVデータ2!X196,0)+IF(ISNUMBER(CSVデータ3!X196),CSVデータ3!X196,0)+IF(ISNUMBER(CSVデータ4!X196),CSVデータ4!X196,0)","v":3},null,{"$f":"IF(ISNUMBER(CSVデータ1!Z196),CSVデータ1!Z196,0)+IF(ISNUMBER(CSVデータ2!Z196),CSVデータ2!Z196,0)+IF(ISNUMBER(CSVデータ3!Z196),CSVデータ3!Z196,0)+IF(ISNUMBER(CSVデータ4!Z196),CSVデータ4!Z196,0)","v":6},null,{"$f":"IF(ISNUMBER(CSVデータ1!AB196),CSVデータ1!AB196,0)+IF(ISNUMBER(CSVデータ2!AB196),CSVデータ2!AB196,0)+IF(ISNUMBER(CSVデータ3!AB196),CSVデータ3!AB196,0)+IF(ISNUMBER(CSVデータ4!AB196),CSVデータ4!AB196,0)","v":0},null,{"$f":"IF(ISNUMBER(CSVデータ1!AD196),CSVデータ1!AD196,0)+IF(ISNUMBER(CSVデータ2!AD196),CSVデータ2!AD196,0)+IF(ISNUMBER(CSVデータ3!AD196),CSVデータ3!AD196,0)+IF(ISNUMBER(CSVデータ4!AD196),CSVデータ4!AD196,0)","v":1},null,{"$f":"IF(ISNUMBER(CSVデータ1!AF196),CSVデータ1!AF196,0)+IF(ISNUMBER(CSVデータ2!AF196),CSVデータ2!AF196,0)+IF(ISNUMBER(CSVデータ3!AF196),CSVデータ3!AF196,0)+IF(ISNUMBER(CSVデータ4!AF196),CSVデータ4!AF196,0)","v":0},null,{"$f":"IF(ISNUMBER(CSVデータ1!AH196),CSVデータ1!AH196,0)+IF(ISNUMBER(CSVデータ2!AH196),CSVデータ2!AH196,0)+IF(ISNUMBER(CSVデータ3!AH196),CSVデータ3!AH196,0)+IF(ISNUMBER(CSVデータ4!AH196),CSVデータ4!AH196,0)","v":0},null,{"$f":"IF(ISNUMBER(CSVデータ1!AJ196),CSVデータ1!AJ196,0)+IF(ISNUMBER(CSVデータ2!AJ196),CSVデータ2!AJ196,0)+IF(ISNUMBER(CSVデータ3!AJ196),CSVデータ3!AJ196,0)+IF(ISNUMBER(CSVデータ4!AJ196),CSVデータ4!AJ196,0)","v":0},null,{"$f":"IF(ISNUMBER(CSVデータ1!AL196),CSVデータ1!AL196,0)+IF(ISNUMBER(CSVデータ2!AL196),CSVデータ2!AL196,0)+IF(ISNUMBER(CSVデータ3!AL196),CSVデータ3!AL196,0)+IF(ISNUMBER(CSVデータ4!AL196),CSVデータ4!AL196,0)","v":0},null,{"$f":"IF(ISNUMBER(CSVデータ1!AN196),CSVデータ1!AN196,0)+IF(ISNUMBER(CSVデータ2!AN196),CSVデータ2!AN196,0)+IF(ISNUMBER(CSVデータ3!AN196),CSVデータ3!AN196,0)+IF(ISNUMBER(CSVデータ4!AN196),CSVデータ4!AN196,0)","v":0}]
[{"$f":"CSVデータ1!A197","v":"明細部"},{"$f":"CSVデータ1!B197","v":"保険者（地区）"},{"$f":"CSVデータ1!C197","v":58},{"$f":"CSVデータ1!D197","v":"女"},{"$f":"IF(ISNUMBER(CSVデータ1!E197),CSVデータ1!E197,0)+IF(ISNUMBER(CSVデータ2!E197),CSVデータ2!E197,0)+IF(ISNUMBER(CSVデータ3!E197),CSVデータ3!E197,0)+IF(ISNUMBER(CSVデータ4!E197),CSVデータ4!E197,0)","v":8},{"$f":"IF(ISNUMBER(CSVデータ1!F197),CSVデータ1!F197,0)+IF(ISNUMBER(CSVデータ2!F197),CSVデータ2!F197,0)+IF(ISNUMBER(CSVデータ3!F197),CSVデータ3!F197,0)+IF(ISNUMBER(CSVデータ4!F197),CSVデータ4!F197,0)","v":2},null,{"$f":"IF(ISNUMBER(CSVデータ1!H197),CSVデータ1!H197,0)+IF(ISNUMBER(CSVデータ2!H197),CSVデータ2!H197,0)+IF(ISNUMBER(CSVデータ3!H197),CSVデータ3!H197,0)+IF(ISNUMBER(CSVデータ4!H197),CSVデータ4!H197,0)","v":0},null,{"$f":"IF(ISNUMBER(CSVデータ1!J197),CSVデータ1!J197,0)+IF(ISNUMBER(CSVデータ2!J197),CSVデータ2!J197,0)+IF(ISNUMBER(CSVデータ3!J197),CSVデータ3!J197,0)+IF(ISNUMBER(CSVデータ4!J197),CSVデータ4!J197,0)","v":0},null,{"$f":"IF(ISNUMBER(CSVデータ1!L197),CSVデータ1!L197,0)+IF(ISNUMBER(CSVデータ2!L197),CSVデータ2!L197,0)+IF(ISNUMBER(CSVデータ3!L197),CSVデータ3!L197,0)+IF(ISNUMBER(CSVデータ4!L197),CSVデータ4!L197,0)","v":0},null,{"$f":"IF(ISNUMBER(CSVデータ1!N197),CSVデータ1!N197,0)+IF(ISNUMBER(CSVデータ2!N197),CSVデータ2!N197,0)+IF(ISNUMBER(CSVデータ3!N197),CSVデータ3!N197,0)+IF(ISNUMBER(CSVデータ4!N197),CSVデータ4!N197,0)","v":0},null,{"$f":"IF(ISNUMBER(CSVデータ1!P197),CSVデータ1!P197,0)+IF(ISNUMBER(CSVデータ2!P197),CSVデータ2!P197,0)+IF(ISNUMBER(CSVデータ3!P197),CSVデータ3!P197,0)+IF(ISNUMBER(CSVデータ4!P197),CSVデータ4!P197,0)","v":2},null,{"$f":"IF(ISNUMBER(CSVデータ1!R197),CSVデータ1!R197,0)+IF(ISNUMBER(CSVデータ2!R197),CSVデータ2!R197,0)+IF(ISNUMBER(CSVデータ3!R197),CSVデータ3!R197,0)+IF(ISNUMBER(CSVデータ4!R197),CSVデータ4!R197,0)","v":3},null,{"$f":"IF(ISNUMBER(CSVデータ1!T197),CSVデータ1!T197,0)+IF(ISNUMBER(CSVデータ2!T197),CSVデータ2!T197,0)+IF(ISNUMBER(CSVデータ3!T197),CSVデータ3!T197,0)+IF(ISNUMBER(CSVデータ4!T197),CSVデータ4!T197,0)","v":0},null,{"$f":"IF(ISNUMBER(CSVデータ1!V197),CSVデータ1!V197,0)+IF(ISNUMBER(CSVデータ2!V197),CSVデータ2!V197,0)+IF(ISNUMBER(CSVデータ3!V197),CSVデータ3!V197,0)+IF(ISNUMBER(CSVデータ4!V197),CSVデータ4!V197,0)","v":3},null,{"$f":"IF(ISNUMBER(CSVデータ1!X197),CSVデータ1!X197,0)+IF(ISNUMBER(CSVデータ2!X197),CSVデータ2!X197,0)+IF(ISNUMBER(CSVデータ3!X197),CSVデータ3!X197,0)+IF(ISNUMBER(CSVデータ4!X197),CSVデータ4!X197,0)","v":1},null,{"$f":"IF(ISNUMBER(CSVデータ1!Z197),CSVデータ1!Z197,0)+IF(ISNUMBER(CSVデータ2!Z197),CSVデータ2!Z197,0)+IF(ISNUMBER(CSVデータ3!Z197),CSVデータ3!Z197,0)+IF(ISNUMBER(CSVデータ4!Z197),CSVデータ4!Z197,0)","v":4},null,{"$f":"IF(ISNUMBER(CSVデータ1!AB197),CSVデータ1!AB197,0)+IF(ISNUMBER(CSVデータ2!AB197),CSVデータ2!AB197,0)+IF(ISNUMBER(CSVデータ3!AB197),CSVデータ3!AB197,0)+IF(ISNUMBER(CSVデータ4!AB197),CSVデータ4!AB197,0)","v":0},null,{"$f":"IF(ISNUMBER(CSVデータ1!AD197),CSVデータ1!AD197,0)+IF(ISNUMBER(CSVデータ2!AD197),CSVデータ2!AD197,0)+IF(ISNUMBER(CSVデータ3!AD197),CSVデータ3!AD197,0)+IF(ISNUMBER(CSVデータ4!AD197),CSVデータ4!AD197,0)","v":1},null,{"$f":"IF(ISNUMBER(CSVデータ1!AF197),CSVデータ1!AF197,0)+IF(ISNUMBER(CSVデータ2!AF197),CSVデータ2!AF197,0)+IF(ISNUMBER(CSVデータ3!AF197),CSVデータ3!AF197,0)+IF(ISNUMBER(CSVデータ4!AF197),CSVデータ4!AF197,0)","v":0},null,{"$f":"IF(ISNUMBER(CSVデータ1!AH197),CSVデータ1!AH197,0)+IF(ISNUMBER(CSVデータ2!AH197),CSVデータ2!AH197,0)+IF(ISNUMBER(CSVデータ3!AH197),CSVデータ3!AH197,0)+IF(ISNUMBER(CSVデータ4!AH197),CSVデータ4!AH197,0)","v":0},null,{"$f":"IF(ISNUMBER(CSVデータ1!AJ197),CSVデータ1!AJ197,0)+IF(ISNUMBER(CSVデータ2!AJ197),CSVデータ2!AJ197,0)+IF(ISNUMBER(CSVデータ3!AJ197),CSVデータ3!AJ197,0)+IF(ISNUMBER(CSVデータ4!AJ197),CSVデータ4!AJ197,0)","v":0},null,{"$f":"IF(ISNUMBER(CSVデータ1!AL197),CSVデータ1!AL197,0)+IF(ISNUMBER(CSVデータ2!AL197),CSVデータ2!AL197,0)+IF(ISNUMBER(CSVデータ3!AL197),CSVデータ3!AL197,0)+IF(ISNUMBER(CSVデータ4!AL197),CSVデータ4!AL197,0)","v":0},null,{"$f":"IF(ISNUMBER(CSVデータ1!AN197),CSVデータ1!AN197,0)+IF(ISNUMBER(CSVデータ2!AN197),CSVデータ2!AN197,0)+IF(ISNUMBER(CSVデータ3!AN197),CSVデータ3!AN197,0)+IF(ISNUMBER(CSVデータ4!AN197),CSVデータ4!AN197,0)","v":0}]
[{"$f":"CSVデータ1!A198","v":"明細部"},{"$f":"CSVデータ1!B198","v":"保険者（地区）"},{"$f":"CSVデータ1!C198","v":59},{"$f":"CSVデータ1!D198","v":"女"},{"$f":"IF(ISNUMBER(CSVデータ1!E198),CSVデータ1!E198,0)+IF(ISNUMBER(CSVデータ2!E198),CSVデータ2!E198,0)+IF(ISNUMBER(CSVデータ3!E198),CSVデータ3!E198,0)+IF(ISNUMBER(CSVデータ4!E198),CSVデータ4!E198,0)","v":9},{"$f":"IF(ISNUMBER(CSVデータ1!F198),CSVデータ1!F198,0)+IF(ISNUMBER(CSVデータ2!F198),CSVデータ2!F198,0)+IF(ISNUMBER(CSVデータ3!F198),CSVデータ3!F198,0)+IF(ISNUMBER(CSVデータ4!F198),CSVデータ4!F198,0)","v":3},null,{"$f":"IF(ISNUMBER(CSVデータ1!H198),CSVデータ1!H198,0)+IF(ISNUMBER(CSVデータ2!H198),CSVデータ2!H198,0)+IF(ISNUMBER(CSVデータ3!H198),CSVデータ3!H198,0)+IF(ISNUMBER(CSVデータ4!H198),CSVデータ4!H198,0)","v":2},null,{"$f":"IF(ISNUMBER(CSVデータ1!J198),CSVデータ1!J198,0)+IF(ISNUMBER(CSVデータ2!J198),CSVデータ2!J198,0)+IF(ISNUMBER(CSVデータ3!J198),CSVデータ3!J198,0)+IF(ISNUMBER(CSVデータ4!J198),CSVデータ4!J198,0)","v":1},null,{"$f":"IF(ISNUMBER(CSVデータ1!L198),CSVデータ1!L198,0)+IF(ISNUMBER(CSVデータ2!L198),CSVデータ2!L198,0)+IF(ISNUMBER(CSVデータ3!L198),CSVデータ3!L198,0)+IF(ISNUMBER(CSVデータ4!L198),CSVデータ4!L198,0)","v":0},null,{"$f":"IF(ISNUMBER(CSVデータ1!N198),CSVデータ1!N198,0)+IF(ISNUMBER(CSVデータ2!N198),CSVデータ2!N198,0)+IF(ISNUMBER(CSVデータ3!N198),CSVデータ3!N198,0)+IF(ISNUMBER(CSVデータ4!N198),CSVデータ4!N198,0)","v":0},null,{"$f":"IF(ISNUMBER(CSVデータ1!P198),CSVデータ1!P198,0)+IF(ISNUMBER(CSVデータ2!P198),CSVデータ2!P198,0)+IF(ISNUMBER(CSVデータ3!P198),CSVデータ3!P198,0)+IF(ISNUMBER(CSVデータ4!P198),CSVデータ4!P198,0)","v":3},null,{"$f":"IF(ISNUMBER(CSVデータ1!R198),CSVデータ1!R198,0)+IF(ISNUMBER(CSVデータ2!R198),CSVデータ2!R198,0)+IF(ISNUMBER(CSVデータ3!R198),CSVデータ3!R198,0)+IF(ISNUMBER(CSVデータ4!R198),CSVデータ4!R198,0)","v":4},null,{"$f":"IF(ISNUMBER(CSVデータ1!T198),CSVデータ1!T198,0)+IF(ISNUMBER(CSVデータ2!T198),CSVデータ2!T198,0)+IF(ISNUMBER(CSVデータ3!T198),CSVデータ3!T198,0)+IF(ISNUMBER(CSVデータ4!T198),CSVデータ4!T198,0)","v":0},null,{"$f":"IF(ISNUMBER(CSVデータ1!V198),CSVデータ1!V198,0)+IF(ISNUMBER(CSVデータ2!V198),CSVデータ2!V198,0)+IF(ISNUMBER(CSVデータ3!V198),CSVデータ3!V198,0)+IF(ISNUMBER(CSVデータ4!V198),CSVデータ4!V198,0)","v":5},null,{"$f":"IF(ISNUMBER(CSVデータ1!X198),CSVデータ1!X198,0)+IF(ISNUMBER(CSVデータ2!X198),CSVデータ2!X198,0)+IF(ISNUMBER(CSVデータ3!X198),CSVデータ3!X198,0)+IF(ISNUMBER(CSVデータ4!X198),CSVデータ4!X198,0)","v":3},null,{"$f":"IF(ISNUMBER(CSVデータ1!Z198),CSVデータ1!Z198,0)+IF(ISNUMBER(CSVデータ2!Z198),CSVデータ2!Z198,0)+IF(ISNUMBER(CSVデータ3!Z198),CSVデータ3!Z198,0)+IF(ISNUMBER(CSVデータ4!Z198),CSVデータ4!Z198,0)","v":6},null,{"$f":"IF(ISNUMBER(CSVデータ1!AB198),CSVデータ1!AB198,0)+IF(ISNUMBER(CSVデータ2!AB198),CSVデータ2!AB198,0)+IF(ISNUMBER(CSVデータ3!AB198),CSVデータ3!AB198,0)+IF(ISNUMBER(CSVデータ4!AB198),CSVデータ4!AB198,0)","v":0},null,{"$f":"IF(ISNUMBER(CSVデータ1!AD198),CSVデータ1!AD198,0)+IF(ISNUMBER(CSVデータ2!AD198),CSVデータ2!AD198,0)+IF(ISNUMBER(CSVデータ3!AD198),CSVデータ3!AD198,0)+IF(ISNUMBER(CSVデータ4!AD198),CSVデータ4!AD198,0)","v":4},null,{"$f":"IF(ISNUMBER(CSVデータ1!AF198),CSVデータ1!AF198,0)+IF(ISNUMBER(CSVデータ2!AF198),CSVデータ2!AF198,0)+IF(ISNUMBER(CSVデータ3!AF198),CSVデータ3!AF198,0)+IF(ISNUMBER(CSVデータ4!AF198),CSVデータ4!AF198,0)","v":0},null,{"$f":"IF(ISNUMBER(CSVデータ1!AH198),CSVデータ1!AH198,0)+IF(ISNUMBER(CSVデータ2!AH198),CSVデータ2!AH198,0)+IF(ISNUMBER(CSVデータ3!AH198),CSVデータ3!AH198,0)+IF(ISNUMBER(CSVデータ4!AH198),CSVデータ4!AH198,0)","v":0},null,{"$f":"IF(ISNUMBER(CSVデータ1!AJ198),CSVデータ1!AJ198,0)+IF(ISNUMBER(CSVデータ2!AJ198),CSVデータ2!AJ198,0)+IF(ISNUMBER(CSVデータ3!AJ198),CSVデータ3!AJ198,0)+IF(ISNUMBER(CSVデータ4!AJ198),CSVデータ4!AJ198,0)","v":0},null,{"$f":"IF(ISNUMBER(CSVデータ1!AL198),CSVデータ1!AL198,0)+IF(ISNUMBER(CSVデータ2!AL198),CSVデータ2!AL198,0)+IF(ISNUMBER(CSVデータ3!AL198),CSVデータ3!AL198,0)+IF(ISNUMBER(CSVデータ4!AL198),CSVデータ4!AL198,0)","v":1},null,{"$f":"IF(ISNUMBER(CSVデータ1!AN198),CSVデータ1!AN198,0)+IF(ISNUMBER(CSVデータ2!AN198),CSVデータ2!AN198,0)+IF(ISNUMBER(CSVデータ3!AN198),CSVデータ3!AN198,0)+IF(ISNUMBER(CSVデータ4!AN198),CSVデータ4!AN198,0)","v":0}]
[{"$f":"CSVデータ1!A199","v":"明細部"},{"$f":"CSVデータ1!B199","v":"保険者（地区）"},{"$f":"CSVデータ1!C199","v":60},{"$f":"CSVデータ1!D199","v":"女"},{"$f":"IF(ISNUMBER(CSVデータ1!E199),CSVデータ1!E199,0)+IF(ISNUMBER(CSVデータ2!E199),CSVデータ2!E199,0)+IF(ISNUMBER(CSVデータ3!E199),CSVデータ3!E199,0)+IF(ISNUMBER(CSVデータ4!E199),CSVデータ4!E199,0)","v":8},{"$f":"IF(ISNUMBER(CSVデータ1!F199),CSVデータ1!F199,0)+IF(ISNUMBER(CSVデータ2!F199),CSVデータ2!F199,0)+IF(ISNUMBER(CSVデータ3!F199),CSVデータ3!F199,0)+IF(ISNUMBER(CSVデータ4!F199),CSVデータ4!F199,0)","v":0},null,{"$f":"IF(ISNUMBER(CSVデータ1!H199),CSVデータ1!H199,0)+IF(ISNUMBER(CSVデータ2!H199),CSVデータ2!H199,0)+IF(ISNUMBER(CSVデータ3!H199),CSVデータ3!H199,0)+IF(ISNUMBER(CSVデータ4!H199),CSVデータ4!H199,0)","v":0},null,{"$f":"IF(ISNUMBER(CSVデータ1!J199),CSVデータ1!J199,0)+IF(ISNUMBER(CSVデータ2!J199),CSVデータ2!J199,0)+IF(ISNUMBER(CSVデータ3!J199),CSVデータ3!J199,0)+IF(ISNUMBER(CSVデータ4!J199),CSVデータ4!J199,0)","v":0},null,{"$f":"IF(ISNUMBER(CSVデータ1!L199),CSVデータ1!L199,0)+IF(ISNUMBER(CSVデータ2!L199),CSVデータ2!L199,0)+IF(ISNUMBER(CSVデータ3!L199),CSVデータ3!L199,0)+IF(ISNUMBER(CSVデータ4!L199),CSVデータ4!L199,0)","v":0},null,{"$f":"IF(ISNUMBER(CSVデータ1!N199),CSVデータ1!N199,0)+IF(ISNUMBER(CSVデータ2!N199),CSVデータ2!N199,0)+IF(ISNUMBER(CSVデータ3!N199),CSVデータ3!N199,0)+IF(ISNUMBER(CSVデータ4!N199),CSVデータ4!N199,0)","v":0},null,{"$f":"IF(ISNUMBER(CSVデータ1!P199),CSVデータ1!P199,0)+IF(ISNUMBER(CSVデータ2!P199),CSVデータ2!P199,0)+IF(ISNUMBER(CSVデータ3!P199),CSVデータ3!P199,0)+IF(ISNUMBER(CSVデータ4!P199),CSVデータ4!P199,0)","v":2},null,{"$f":"IF(ISNUMBER(CSVデータ1!R199),CSVデータ1!R199,0)+IF(ISNUMBER(CSVデータ2!R199),CSVデータ2!R199,0)+IF(ISNUMBER(CSVデータ3!R199),CSVデータ3!R199,0)+IF(ISNUMBER(CSVデータ4!R199),CSVデータ4!R199,0)","v":3},null,{"$f":"IF(ISNUMBER(CSVデータ1!T199),CSVデータ1!T199,0)+IF(ISNUMBER(CSVデータ2!T199),CSVデータ2!T199,0)+IF(ISNUMBER(CSVデータ3!T199),CSVデータ3!T199,0)+IF(ISNUMBER(CSVデータ4!T199),CSVデータ4!T199,0)","v":0},null,{"$f":"IF(ISNUMBER(CSVデータ1!V199),CSVデータ1!V199,0)+IF(ISNUMBER(CSVデータ2!V199),CSVデータ2!V199,0)+IF(ISNUMBER(CSVデータ3!V199),CSVデータ3!V199,0)+IF(ISNUMBER(CSVデータ4!V199),CSVデータ4!V199,0)","v":3},null,{"$f":"IF(ISNUMBER(CSVデータ1!X199),CSVデータ1!X199,0)+IF(ISNUMBER(CSVデータ2!X199),CSVデータ2!X199,0)+IF(ISNUMBER(CSVデータ3!X199),CSVデータ3!X199,0)+IF(ISNUMBER(CSVデータ4!X199),CSVデータ4!X199,0)","v":1},null,{"$f":"IF(ISNUMBER(CSVデータ1!Z199),CSVデータ1!Z199,0)+IF(ISNUMBER(CSVデータ2!Z199),CSVデータ2!Z199,0)+IF(ISNUMBER(CSVデータ3!Z199),CSVデータ3!Z199,0)+IF(ISNUMBER(CSVデータ4!Z199),CSVデータ4!Z199,0)","v":2},null,{"$f":"IF(ISNUMBER(CSVデータ1!AB199),CSVデータ1!AB199,0)+IF(ISNUMBER(CSVデータ2!AB199),CSVデータ2!AB199,0)+IF(ISNUMBER(CSVデータ3!AB199),CSVデータ3!AB199,0)+IF(ISNUMBER(CSVデータ4!AB199),CSVデータ4!AB199,0)","v":0},null,{"$f":"IF(ISNUMBER(CSVデータ1!AD199),CSVデータ1!AD199,0)+IF(ISNUMBER(CSVデータ2!AD199),CSVデータ2!AD199,0)+IF(ISNUMBER(CSVデータ3!AD199),CSVデータ3!AD199,0)+IF(ISNUMBER(CSVデータ4!AD199),CSVデータ4!AD199,0)","v":2},null,{"$f":"IF(ISNUMBER(CSVデータ1!AF199),CSVデータ1!AF199,0)+IF(ISNUMBER(CSVデータ2!AF199),CSVデータ2!AF199,0)+IF(ISNUMBER(CSVデータ3!AF199),CSVデータ3!AF199,0)+IF(ISNUMBER(CSVデータ4!AF199),CSVデータ4!AF199,0)","v":0},null,{"$f":"IF(ISNUMBER(CSVデータ1!AH199),CSVデータ1!AH199,0)+IF(ISNUMBER(CSVデータ2!AH199),CSVデータ2!AH199,0)+IF(ISNUMBER(CSVデータ3!AH199),CSVデータ3!AH199,0)+IF(ISNUMBER(CSVデータ4!AH199),CSVデータ4!AH199,0)","v":0},null,{"$f":"IF(ISNUMBER(CSVデータ1!AJ199),CSVデータ1!AJ199,0)+IF(ISNUMBER(CSVデータ2!AJ199),CSVデータ2!AJ199,0)+IF(ISNUMBER(CSVデータ3!AJ199),CSVデータ3!AJ199,0)+IF(ISNUMBER(CSVデータ4!AJ199),CSVデータ4!AJ199,0)","v":0},null,{"$f":"IF(ISNUMBER(CSVデータ1!AL199),CSVデータ1!AL199,0)+IF(ISNUMBER(CSVデータ2!AL199),CSVデータ2!AL199,0)+IF(ISNUMBER(CSVデータ3!AL199),CSVデータ3!AL199,0)+IF(ISNUMBER(CSVデータ4!AL199),CSVデータ4!AL199,0)","v":0},null,{"$f":"IF(ISNUMBER(CSVデータ1!AN199),CSVデータ1!AN199,0)+IF(ISNUMBER(CSVデータ2!AN199),CSVデータ2!AN199,0)+IF(ISNUMBER(CSVデータ3!AN199),CSVデータ3!AN199,0)+IF(ISNUMBER(CSVデータ4!AN199),CSVデータ4!AN199,0)","v":0}]
[{"$f":"CSVデータ1!A200","v":"明細部"},{"$f":"CSVデータ1!B200","v":"保険者（地区）"},{"$f":"CSVデータ1!C200","v":61},{"$f":"CSVデータ1!D200","v":"女"},{"$f":"IF(ISNUMBER(CSVデータ1!E200),CSVデータ1!E200,0)+IF(ISNUMBER(CSVデータ2!E200),CSVデータ2!E200,0)+IF(ISNUMBER(CSVデータ3!E200),CSVデータ3!E200,0)+IF(ISNUMBER(CSVデータ4!E200),CSVデータ4!E200,0)","v":11},{"$f":"IF(ISNUMBER(CSVデータ1!F200),CSVデータ1!F200,0)+IF(ISNUMBER(CSVデータ2!F200),CSVデータ2!F200,0)+IF(ISNUMBER(CSVデータ3!F200),CSVデータ3!F200,0)+IF(ISNUMBER(CSVデータ4!F200),CSVデータ4!F200,0)","v":4},null,{"$f":"IF(ISNUMBER(CSVデータ1!H200),CSVデータ1!H200,0)+IF(ISNUMBER(CSVデータ2!H200),CSVデータ2!H200,0)+IF(ISNUMBER(CSVデータ3!H200),CSVデータ3!H200,0)+IF(ISNUMBER(CSVデータ4!H200),CSVデータ4!H200,0)","v":4},null,{"$f":"IF(ISNUMBER(CSVデータ1!J200),CSVデータ1!J200,0)+IF(ISNUMBER(CSVデータ2!J200),CSVデータ2!J200,0)+IF(ISNUMBER(CSVデータ3!J200),CSVデータ3!J200,0)+IF(ISNUMBER(CSVデータ4!J200),CSVデータ4!J200,0)","v":2},null,{"$f":"IF(ISNUMBER(CSVデータ1!L200),CSVデータ1!L200,0)+IF(ISNUMBER(CSVデータ2!L200),CSVデータ2!L200,0)+IF(ISNUMBER(CSVデータ3!L200),CSVデータ3!L200,0)+IF(ISNUMBER(CSVデータ4!L200),CSVデータ4!L200,0)","v":0},null,{"$f":"IF(ISNUMBER(CSVデータ1!N200),CSVデータ1!N200,0)+IF(ISNUMBER(CSVデータ2!N200),CSVデータ2!N200,0)+IF(ISNUMBER(CSVデータ3!N200),CSVデータ3!N200,0)+IF(ISNUMBER(CSVデータ4!N200),CSVデータ4!N200,0)","v":0},null,{"$f":"IF(ISNUMBER(CSVデータ1!P200),CSVデータ1!P200,0)+IF(ISNUMBER(CSVデータ2!P200),CSVデータ2!P200,0)+IF(ISNUMBER(CSVデータ3!P200),CSVデータ3!P200,0)+IF(ISNUMBER(CSVデータ4!P200),CSVデータ4!P200,0)","v":1},null,{"$f":"IF(ISNUMBER(CSVデータ1!R200),CSVデータ1!R200,0)+IF(ISNUMBER(CSVデータ2!R200),CSVデータ2!R200,0)+IF(ISNUMBER(CSVデータ3!R200),CSVデータ3!R200,0)+IF(ISNUMBER(CSVデータ4!R200),CSVデータ4!R200,0)","v":6},null,{"$f":"IF(ISNUMBER(CSVデータ1!T200),CSVデータ1!T200,0)+IF(ISNUMBER(CSVデータ2!T200),CSVデータ2!T200,0)+IF(ISNUMBER(CSVデータ3!T200),CSVデータ3!T200,0)+IF(ISNUMBER(CSVデータ4!T200),CSVデータ4!T200,0)","v":1},null,{"$f":"IF(ISNUMBER(CSVデータ1!V200),CSVデータ1!V200,0)+IF(ISNUMBER(CSVデータ2!V200),CSVデータ2!V200,0)+IF(ISNUMBER(CSVデータ3!V200),CSVデータ3!V200,0)+IF(ISNUMBER(CSVデータ4!V200),CSVデータ4!V200,0)","v":5},null,{"$f":"IF(ISNUMBER(CSVデータ1!X200),CSVデータ1!X200,0)+IF(ISNUMBER(CSVデータ2!X200),CSVデータ2!X200,0)+IF(ISNUMBER(CSVデータ3!X200),CSVデータ3!X200,0)+IF(ISNUMBER(CSVデータ4!X200),CSVデータ4!X200,0)","v":2},null,{"$f":"IF(ISNUMBER(CSVデータ1!Z200),CSVデータ1!Z200,0)+IF(ISNUMBER(CSVデータ2!Z200),CSVデータ2!Z200,0)+IF(ISNUMBER(CSVデータ3!Z200),CSVデータ3!Z200,0)+IF(ISNUMBER(CSVデータ4!Z200),CSVデータ4!Z200,0)","v":6},null,{"$f":"IF(ISNUMBER(CSVデータ1!AB200),CSVデータ1!AB200,0)+IF(ISNUMBER(CSVデータ2!AB200),CSVデータ2!AB200,0)+IF(ISNUMBER(CSVデータ3!AB200),CSVデータ3!AB200,0)+IF(ISNUMBER(CSVデータ4!AB200),CSVデータ4!AB200,0)","v":0},null,{"$f":"IF(ISNUMBER(CSVデータ1!AD200),CSVデータ1!AD200,0)+IF(ISNUMBER(CSVデータ2!AD200),CSVデータ2!AD200,0)+IF(ISNUMBER(CSVデータ3!AD200),CSVデータ3!AD200,0)+IF(ISNUMBER(CSVデータ4!AD200),CSVデータ4!AD200,0)","v":2},null,{"$f":"IF(ISNUMBER(CSVデータ1!AF200),CSVデータ1!AF200,0)+IF(ISNUMBER(CSVデータ2!AF200),CSVデータ2!AF200,0)+IF(ISNUMBER(CSVデータ3!AF200),CSVデータ3!AF200,0)+IF(ISNUMBER(CSVデータ4!AF200),CSVデータ4!AF200,0)","v":0},null,{"$f":"IF(ISNUMBER(CSVデータ1!AH200),CSVデータ1!AH200,0)+IF(ISNUMBER(CSVデータ2!AH200),CSVデータ2!AH200,0)+IF(ISNUMBER(CSVデータ3!AH200),CSVデータ3!AH200,0)+IF(ISNUMBER(CSVデータ4!AH200),CSVデータ4!AH200,0)","v":0},null,{"$f":"IF(ISNUMBER(CSVデータ1!AJ200),CSVデータ1!AJ200,0)+IF(ISNUMBER(CSVデータ2!AJ200),CSVデータ2!AJ200,0)+IF(ISNUMBER(CSVデータ3!AJ200),CSVデータ3!AJ200,0)+IF(ISNUMBER(CSVデータ4!AJ200),CSVデータ4!AJ200,0)","v":0},null,{"$f":"IF(ISNUMBER(CSVデータ1!AL200),CSVデータ1!AL200,0)+IF(ISNUMBER(CSVデータ2!AL200),CSVデータ2!AL200,0)+IF(ISNUMBER(CSVデータ3!AL200),CSVデータ3!AL200,0)+IF(ISNUMBER(CSVデータ4!AL200),CSVデータ4!AL200,0)","v":3},null,{"$f":"IF(ISNUMBER(CSVデータ1!AN200),CSVデータ1!AN200,0)+IF(ISNUMBER(CSVデータ2!AN200),CSVデータ2!AN200,0)+IF(ISNUMBER(CSVデータ3!AN200),CSVデータ3!AN200,0)+IF(ISNUMBER(CSVデータ4!AN200),CSVデータ4!AN200,0)","v":0}]
[{"$f":"CSVデータ1!A201","v":"明細部"},{"$f":"CSVデータ1!B201","v":"保険者（地区）"},{"$f":"CSVデータ1!C201","v":62},{"$f":"CSVデータ1!D201","v":"女"},{"$f":"IF(ISNUMBER(CSVデータ1!E201),CSVデータ1!E201,0)+IF(ISNUMBER(CSVデータ2!E201),CSVデータ2!E201,0)+IF(ISNUMBER(CSVデータ3!E201),CSVデータ3!E201,0)+IF(ISNUMBER(CSVデータ4!E201),CSVデータ4!E201,0)","v":10},{"$f":"IF(ISNUMBER(CSVデータ1!F201),CSVデータ1!F201,0)+IF(ISNUMBER(CSVデータ2!F201),CSVデータ2!F201,0)+IF(ISNUMBER(CSVデータ3!F201),CSVデータ3!F201,0)+IF(ISNUMBER(CSVデータ4!F201),CSVデータ4!F201,0)","v":0},null,{"$f":"IF(ISNUMBER(CSVデータ1!H201),CSVデータ1!H201,0)+IF(ISNUMBER(CSVデータ2!H201),CSVデータ2!H201,0)+IF(ISNUMBER(CSVデータ3!H201),CSVデータ3!H201,0)+IF(ISNUMBER(CSVデータ4!H201),CSVデータ4!H201,0)","v":1},null,{"$f":"IF(ISNUMBER(CSVデータ1!J201),CSVデータ1!J201,0)+IF(ISNUMBER(CSVデータ2!J201),CSVデータ2!J201,0)+IF(ISNUMBER(CSVデータ3!J201),CSVデータ3!J201,0)+IF(ISNUMBER(CSVデータ4!J201),CSVデータ4!J201,0)","v":3},null,{"$f":"IF(ISNUMBER(CSVデータ1!L201),CSVデータ1!L201,0)+IF(ISNUMBER(CSVデータ2!L201),CSVデータ2!L201,0)+IF(ISNUMBER(CSVデータ3!L201),CSVデータ3!L201,0)+IF(ISNUMBER(CSVデータ4!L201),CSVデータ4!L201,0)","v":0},null,{"$f":"IF(ISNUMBER(CSVデータ1!N201),CSVデータ1!N201,0)+IF(ISNUMBER(CSVデータ2!N201),CSVデータ2!N201,0)+IF(ISNUMBER(CSVデータ3!N201),CSVデータ3!N201,0)+IF(ISNUMBER(CSVデータ4!N201),CSVデータ4!N201,0)","v":0},null,{"$f":"IF(ISNUMBER(CSVデータ1!P201),CSVデータ1!P201,0)+IF(ISNUMBER(CSVデータ2!P201),CSVデータ2!P201,0)+IF(ISNUMBER(CSVデータ3!P201),CSVデータ3!P201,0)+IF(ISNUMBER(CSVデータ4!P201),CSVデータ4!P201,0)","v":2},null,{"$f":"IF(ISNUMBER(CSVデータ1!R201),CSVデータ1!R201,0)+IF(ISNUMBER(CSVデータ2!R201),CSVデータ2!R201,0)+IF(ISNUMBER(CSVデータ3!R201),CSVデータ3!R201,0)+IF(ISNUMBER(CSVデータ4!R201),CSVデータ4!R201,0)","v":4},null,{"$f":"IF(ISNUMBER(CSVデータ1!T201),CSVデータ1!T201,0)+IF(ISNUMBER(CSVデータ2!T201),CSVデータ2!T201,0)+IF(ISNUMBER(CSVデータ3!T201),CSVデータ3!T201,0)+IF(ISNUMBER(CSVデータ4!T201),CSVデータ4!T201,0)","v":0},null,{"$f":"IF(ISNUMBER(CSVデータ1!V201),CSVデータ1!V201,0)+IF(ISNUMBER(CSVデータ2!V201),CSVデータ2!V201,0)+IF(ISNUMBER(CSVデータ3!V201),CSVデータ3!V201,0)+IF(ISNUMBER(CSVデータ4!V201),CSVデータ4!V201,0)","v":2},null,{"$f":"IF(ISNUMBER(CSVデータ1!X201),CSVデータ1!X201,0)+IF(ISNUMBER(CSVデータ2!X201),CSVデータ2!X201,0)+IF(ISNUMBER(CSVデータ3!X201),CSVデータ3!X201,0)+IF(ISNUMBER(CSVデータ4!X201),CSVデータ4!X201,0)","v":0},null,{"$f":"IF(ISNUMBER(CSVデータ1!Z201),CSVデータ1!Z201,0)+IF(ISNUMBER(CSVデータ2!Z201),CSVデータ2!Z201,0)+IF(ISNUMBER(CSVデータ3!Z201),CSVデータ3!Z201,0)+IF(ISNUMBER(CSVデータ4!Z201),CSVデータ4!Z201,0)","v":7},null,{"$f":"IF(ISNUMBER(CSVデータ1!AB201),CSVデータ1!AB201,0)+IF(ISNUMBER(CSVデータ2!AB201),CSVデータ2!AB201,0)+IF(ISNUMBER(CSVデータ3!AB201),CSVデータ3!AB201,0)+IF(ISNUMBER(CSVデータ4!AB201),CSVデータ4!AB201,0)","v":0},null,{"$f":"IF(ISNUMBER(CSVデータ1!AD201),CSVデータ1!AD201,0)+IF(ISNUMBER(CSVデータ2!AD201),CSVデータ2!AD201,0)+IF(ISNUMBER(CSVデータ3!AD201),CSVデータ3!AD201,0)+IF(ISNUMBER(CSVデータ4!AD201),CSVデータ4!AD201,0)","v":1},null,{"$f":"IF(ISNUMBER(CSVデータ1!AF201),CSVデータ1!AF201,0)+IF(ISNUMBER(CSVデータ2!AF201),CSVデータ2!AF201,0)+IF(ISNUMBER(CSVデータ3!AF201),CSVデータ3!AF201,0)+IF(ISNUMBER(CSVデータ4!AF201),CSVデータ4!AF201,0)","v":0},null,{"$f":"IF(ISNUMBER(CSVデータ1!AH201),CSVデータ1!AH201,0)+IF(ISNUMBER(CSVデータ2!AH201),CSVデータ2!AH201,0)+IF(ISNUMBER(CSVデータ3!AH201),CSVデータ3!AH201,0)+IF(ISNUMBER(CSVデータ4!AH201),CSVデータ4!AH201,0)","v":0},null,{"$f":"IF(ISNUMBER(CSVデータ1!AJ201),CSVデータ1!AJ201,0)+IF(ISNUMBER(CSVデータ2!AJ201),CSVデータ2!AJ201,0)+IF(ISNUMBER(CSVデータ3!AJ201),CSVデータ3!AJ201,0)+IF(ISNUMBER(CSVデータ4!AJ201),CSVデータ4!AJ201,0)","v":0},null,{"$f":"IF(ISNUMBER(CSVデータ1!AL201),CSVデータ1!AL201,0)+IF(ISNUMBER(CSVデータ2!AL201),CSVデータ2!AL201,0)+IF(ISNUMBER(CSVデータ3!AL201),CSVデータ3!AL201,0)+IF(ISNUMBER(CSVデータ4!AL201),CSVデータ4!AL201,0)","v":3},null,{"$f":"IF(ISNUMBER(CSVデータ1!AN201),CSVデータ1!AN201,0)+IF(ISNUMBER(CSVデータ2!AN201),CSVデータ2!AN201,0)+IF(ISNUMBER(CSVデータ3!AN201),CSVデータ3!AN201,0)+IF(ISNUMBER(CSVデータ4!AN201),CSVデータ4!AN201,0)","v":0}]
[{"$f":"CSVデータ1!A202","v":"明細部"},{"$f":"CSVデータ1!B202","v":"保険者（地区）"},{"$f":"CSVデータ1!C202","v":63},{"$f":"CSVデータ1!D202","v":"女"},{"$f":"IF(ISNUMBER(CSVデータ1!E202),CSVデータ1!E202,0)+IF(ISNUMBER(CSVデータ2!E202),CSVデータ2!E202,0)+IF(ISNUMBER(CSVデータ3!E202),CSVデータ3!E202,0)+IF(ISNUMBER(CSVデータ4!E202),CSVデータ4!E202,0)","v":13},{"$f":"IF(ISNUMBER(CSVデータ1!F202),CSVデータ1!F202,0)+IF(ISNUMBER(CSVデータ2!F202),CSVデータ2!F202,0)+IF(ISNUMBER(CSVデータ3!F202),CSVデータ3!F202,0)+IF(ISNUMBER(CSVデータ4!F202),CSVデータ4!F202,0)","v":3},null,{"$f":"IF(ISNUMBER(CSVデータ1!H202),CSVデータ1!H202,0)+IF(ISNUMBER(CSVデータ2!H202),CSVデータ2!H202,0)+IF(ISNUMBER(CSVデータ3!H202),CSVデータ3!H202,0)+IF(ISNUMBER(CSVデータ4!H202),CSVデータ4!H202,0)","v":2},null,{"$f":"IF(ISNUMBER(CSVデータ1!J202),CSVデータ1!J202,0)+IF(ISNUMBER(CSVデータ2!J202),CSVデータ2!J202,0)+IF(ISNUMBER(CSVデータ3!J202),CSVデータ3!J202,0)+IF(ISNUMBER(CSVデータ4!J202),CSVデータ4!J202,0)","v":2},null,{"$f":"IF(ISNUMBER(CSVデータ1!L202),CSVデータ1!L202,0)+IF(ISNUMBER(CSVデータ2!L202),CSVデータ2!L202,0)+IF(ISNUMBER(CSVデータ3!L202),CSVデータ3!L202,0)+IF(ISNUMBER(CSVデータ4!L202),CSVデータ4!L202,0)","v":0},null,{"$f":"IF(ISNUMBER(CSVデータ1!N202),CSVデータ1!N202,0)+IF(ISNUMBER(CSVデータ2!N202),CSVデータ2!N202,0)+IF(ISNUMBER(CSVデータ3!N202),CSVデータ3!N202,0)+IF(ISNUMBER(CSVデータ4!N202),CSVデータ4!N202,0)","v":0},null,{"$f":"IF(ISNUMBER(CSVデータ1!P202),CSVデータ1!P202,0)+IF(ISNUMBER(CSVデータ2!P202),CSVデータ2!P202,0)+IF(ISNUMBER(CSVデータ3!P202),CSVデータ3!P202,0)+IF(ISNUMBER(CSVデータ4!P202),CSVデータ4!P202,0)","v":2},null,{"$f":"IF(ISNUMBER(CSVデータ1!R202),CSVデータ1!R202,0)+IF(ISNUMBER(CSVデータ2!R202),CSVデータ2!R202,0)+IF(ISNUMBER(CSVデータ3!R202),CSVデータ3!R202,0)+IF(ISNUMBER(CSVデータ4!R202),CSVデータ4!R202,0)","v":6},null,{"$f":"IF(ISNUMBER(CSVデータ1!T202),CSVデータ1!T202,0)+IF(ISNUMBER(CSVデータ2!T202),CSVデータ2!T202,0)+IF(ISNUMBER(CSVデータ3!T202),CSVデータ3!T202,0)+IF(ISNUMBER(CSVデータ4!T202),CSVデータ4!T202,0)","v":0},null,{"$f":"IF(ISNUMBER(CSVデータ1!V202),CSVデータ1!V202,0)+IF(ISNUMBER(CSVデータ2!V202),CSVデータ2!V202,0)+IF(ISNUMBER(CSVデータ3!V202),CSVデータ3!V202,0)+IF(ISNUMBER(CSVデータ4!V202),CSVデータ4!V202,0)","v":3},null,{"$f":"IF(ISNUMBER(CSVデータ1!X202),CSVデータ1!X202,0)+IF(ISNUMBER(CSVデータ2!X202),CSVデータ2!X202,0)+IF(ISNUMBER(CSVデータ3!X202),CSVデータ3!X202,0)+IF(ISNUMBER(CSVデータ4!X202),CSVデータ4!X202,0)","v":3},null,{"$f":"IF(ISNUMBER(CSVデータ1!Z202),CSVデータ1!Z202,0)+IF(ISNUMBER(CSVデータ2!Z202),CSVデータ2!Z202,0)+IF(ISNUMBER(CSVデータ3!Z202),CSVデータ3!Z202,0)+IF(ISNUMBER(CSVデータ4!Z202),CSVデータ4!Z202,0)","v":8},null,{"$f":"IF(ISNUMBER(CSVデータ1!AB202),CSVデータ1!AB202,0)+IF(ISNUMBER(CSVデータ2!AB202),CSVデータ2!AB202,0)+IF(ISNUMBER(CSVデータ3!AB202),CSVデータ3!AB202,0)+IF(ISNUMBER(CSVデータ4!AB202),CSVデータ4!AB202,0)","v":0},null,{"$f":"IF(ISNUMBER(CSVデータ1!AD202),CSVデータ1!AD202,0)+IF(ISNUMBER(CSVデータ2!AD202),CSVデータ2!AD202,0)+IF(ISNUMBER(CSVデータ3!AD202),CSVデータ3!AD202,0)+IF(ISNUMBER(CSVデータ4!AD202),CSVデータ4!AD202,0)","v":6},null,{"$f":"IF(ISNUMBER(CSVデータ1!AF202),CSVデータ1!AF202,0)+IF(ISNUMBER(CSVデータ2!AF202),CSVデータ2!AF202,0)+IF(ISNUMBER(CSVデータ3!AF202),CSVデータ3!AF202,0)+IF(ISNUMBER(CSVデータ4!AF202),CSVデータ4!AF202,0)","v":0},null,{"$f":"IF(ISNUMBER(CSVデータ1!AH202),CSVデータ1!AH202,0)+IF(ISNUMBER(CSVデータ2!AH202),CSVデータ2!AH202,0)+IF(ISNUMBER(CSVデータ3!AH202),CSVデータ3!AH202,0)+IF(ISNUMBER(CSVデータ4!AH202),CSVデータ4!AH202,0)","v":0},null,{"$f":"IF(ISNUMBER(CSVデータ1!AJ202),CSVデータ1!AJ202,0)+IF(ISNUMBER(CSVデータ2!AJ202),CSVデータ2!AJ202,0)+IF(ISNUMBER(CSVデータ3!AJ202),CSVデータ3!AJ202,0)+IF(ISNUMBER(CSVデータ4!AJ202),CSVデータ4!AJ202,0)","v":0},null,{"$f":"IF(ISNUMBER(CSVデータ1!AL202),CSVデータ1!AL202,0)+IF(ISNUMBER(CSVデータ2!AL202),CSVデータ2!AL202,0)+IF(ISNUMBER(CSVデータ3!AL202),CSVデータ3!AL202,0)+IF(ISNUMBER(CSVデータ4!AL202),CSVデータ4!AL202,0)","v":1},null,{"$f":"IF(ISNUMBER(CSVデータ1!AN202),CSVデータ1!AN202,0)+IF(ISNUMBER(CSVデータ2!AN202),CSVデータ2!AN202,0)+IF(ISNUMBER(CSVデータ3!AN202),CSVデータ3!AN202,0)+IF(ISNUMBER(CSVデータ4!AN202),CSVデータ4!AN202,0)","v":0}]
[{"$f":"CSVデータ1!A203","v":"明細部"},{"$f":"CSVデータ1!B203","v":"保険者（地区）"},{"$f":"CSVデータ1!C203","v":64},{"$f":"CSVデータ1!D203","v":"女"},{"$f":"IF(ISNUMBER(CSVデータ1!E203),CSVデータ1!E203,0)+IF(ISNUMBER(CSVデータ2!E203),CSVデータ2!E203,0)+IF(ISNUMBER(CSVデータ3!E203),CSVデータ3!E203,0)+IF(ISNUMBER(CSVデータ4!E203),CSVデータ4!E203,0)","v":13},{"$f":"IF(ISNUMBER(CSVデータ1!F203),CSVデータ1!F203,0)+IF(ISNUMBER(CSVデータ2!F203),CSVデータ2!F203,0)+IF(ISNUMBER(CSVデータ3!F203),CSVデータ3!F203,0)+IF(ISNUMBER(CSVデータ4!F203),CSVデータ4!F203,0)","v":2},null,{"$f":"IF(ISNUMBER(CSVデータ1!H203),CSVデータ1!H203,0)+IF(ISNUMBER(CSVデータ2!H203),CSVデータ2!H203,0)+IF(ISNUMBER(CSVデータ3!H203),CSVデータ3!H203,0)+IF(ISNUMBER(CSVデータ4!H203),CSVデータ4!H203,0)","v":1},null,{"$f":"IF(ISNUMBER(CSVデータ1!J203),CSVデータ1!J203,0)+IF(ISNUMBER(CSVデータ2!J203),CSVデータ2!J203,0)+IF(ISNUMBER(CSVデータ3!J203),CSVデータ3!J203,0)+IF(ISNUMBER(CSVデータ4!J203),CSVデータ4!J203,0)","v":3},null,{"$f":"IF(ISNUMBER(CSVデータ1!L203),CSVデータ1!L203,0)+IF(ISNUMBER(CSVデータ2!L203),CSVデータ2!L203,0)+IF(ISNUMBER(CSVデータ3!L203),CSVデータ3!L203,0)+IF(ISNUMBER(CSVデータ4!L203),CSVデータ4!L203,0)","v":1},null,{"$f":"IF(ISNUMBER(CSVデータ1!N203),CSVデータ1!N203,0)+IF(ISNUMBER(CSVデータ2!N203),CSVデータ2!N203,0)+IF(ISNUMBER(CSVデータ3!N203),CSVデータ3!N203,0)+IF(ISNUMBER(CSVデータ4!N203),CSVデータ4!N203,0)","v":0},null,{"$f":"IF(ISNUMBER(CSVデータ1!P203),CSVデータ1!P203,0)+IF(ISNUMBER(CSVデータ2!P203),CSVデータ2!P203,0)+IF(ISNUMBER(CSVデータ3!P203),CSVデータ3!P203,0)+IF(ISNUMBER(CSVデータ4!P203),CSVデータ4!P203,0)","v":1},null,{"$f":"IF(ISNUMBER(CSVデータ1!R203),CSVデータ1!R203,0)+IF(ISNUMBER(CSVデータ2!R203),CSVデータ2!R203,0)+IF(ISNUMBER(CSVデータ3!R203),CSVデータ3!R203,0)+IF(ISNUMBER(CSVデータ4!R203),CSVデータ4!R203,0)","v":5},null,{"$f":"IF(ISNUMBER(CSVデータ1!T203),CSVデータ1!T203,0)+IF(ISNUMBER(CSVデータ2!T203),CSVデータ2!T203,0)+IF(ISNUMBER(CSVデータ3!T203),CSVデータ3!T203,0)+IF(ISNUMBER(CSVデータ4!T203),CSVデータ4!T203,0)","v":0},null,{"$f":"IF(ISNUMBER(CSVデータ1!V203),CSVデータ1!V203,0)+IF(ISNUMBER(CSVデータ2!V203),CSVデータ2!V203,0)+IF(ISNUMBER(CSVデータ3!V203),CSVデータ3!V203,0)+IF(ISNUMBER(CSVデータ4!V203),CSVデータ4!V203,0)","v":1},null,{"$f":"IF(ISNUMBER(CSVデータ1!X203),CSVデータ1!X203,0)+IF(ISNUMBER(CSVデータ2!X203),CSVデータ2!X203,0)+IF(ISNUMBER(CSVデータ3!X203),CSVデータ3!X203,0)+IF(ISNUMBER(CSVデータ4!X203),CSVデータ4!X203,0)","v":3},null,{"$f":"IF(ISNUMBER(CSVデータ1!Z203),CSVデータ1!Z203,0)+IF(ISNUMBER(CSVデータ2!Z203),CSVデータ2!Z203,0)+IF(ISNUMBER(CSVデータ3!Z203),CSVデータ3!Z203,0)+IF(ISNUMBER(CSVデータ4!Z203),CSVデータ4!Z203,0)","v":7},null,{"$f":"IF(ISNUMBER(CSVデータ1!AB203),CSVデータ1!AB203,0)+IF(ISNUMBER(CSVデータ2!AB203),CSVデータ2!AB203,0)+IF(ISNUMBER(CSVデータ3!AB203),CSVデータ3!AB203,0)+IF(ISNUMBER(CSVデータ4!AB203),CSVデータ4!AB203,0)","v":0},null,{"$f":"IF(ISNUMBER(CSVデータ1!AD203),CSVデータ1!AD203,0)+IF(ISNUMBER(CSVデータ2!AD203),CSVデータ2!AD203,0)+IF(ISNUMBER(CSVデータ3!AD203),CSVデータ3!AD203,0)+IF(ISNUMBER(CSVデータ4!AD203),CSVデータ4!AD203,0)","v":4},null,{"$f":"IF(ISNUMBER(CSVデータ1!AF203),CSVデータ1!AF203,0)+IF(ISNUMBER(CSVデータ2!AF203),CSVデータ2!AF203,0)+IF(ISNUMBER(CSVデータ3!AF203),CSVデータ3!AF203,0)+IF(ISNUMBER(CSVデータ4!AF203),CSVデータ4!AF203,0)","v":0},null,{"$f":"IF(ISNUMBER(CSVデータ1!AH203),CSVデータ1!AH203,0)+IF(ISNUMBER(CSVデータ2!AH203),CSVデータ2!AH203,0)+IF(ISNUMBER(CSVデータ3!AH203),CSVデータ3!AH203,0)+IF(ISNUMBER(CSVデータ4!AH203),CSVデータ4!AH203,0)","v":0},null,{"$f":"IF(ISNUMBER(CSVデータ1!AJ203),CSVデータ1!AJ203,0)+IF(ISNUMBER(CSVデータ2!AJ203),CSVデータ2!AJ203,0)+IF(ISNUMBER(CSVデータ3!AJ203),CSVデータ3!AJ203,0)+IF(ISNUMBER(CSVデータ4!AJ203),CSVデータ4!AJ203,0)","v":0},null,{"$f":"IF(ISNUMBER(CSVデータ1!AL203),CSVデータ1!AL203,0)+IF(ISNUMBER(CSVデータ2!AL203),CSVデータ2!AL203,0)+IF(ISNUMBER(CSVデータ3!AL203),CSVデータ3!AL203,0)+IF(ISNUMBER(CSVデータ4!AL203),CSVデータ4!AL203,0)","v":2},null,{"$f":"IF(ISNUMBER(CSVデータ1!AN203),CSVデータ1!AN203,0)+IF(ISNUMBER(CSVデータ2!AN203),CSVデータ2!AN203,0)+IF(ISNUMBER(CSVデータ3!AN203),CSVデータ3!AN203,0)+IF(ISNUMBER(CSVデータ4!AN203),CSVデータ4!AN203,0)","v":0}]
[{"$f":"CSVデータ1!A204","v":"明細部"},{"$f":"CSVデータ1!B204","v":"保険者（地区）"},{"$f":"CSVデータ1!C204","v":65},{"$f":"CSVデータ1!D204","v":"女"},{"$f":"IF(ISNUMBER(CSVデータ1!E204),CSVデータ1!E204,0)+IF(ISNUMBER(CSVデータ2!E204),CSVデータ2!E204,0)+IF(ISNUMBER(CSVデータ3!E204),CSVデータ3!E204,0)+IF(ISNUMBER(CSVデータ4!E204),CSVデータ4!E204,0)","v":12},{"$f":"IF(ISNUMBER(CSVデータ1!F204),CSVデータ1!F204,0)+IF(ISNUMBER(CSVデータ2!F204),CSVデータ2!F204,0)+IF(ISNUMBER(CSVデータ3!F204),CSVデータ3!F204,0)+IF(ISNUMBER(CSVデータ4!F204),CSVデータ4!F204,0)","v":0},null,{"$f":"IF(ISNUMBER(CSVデータ1!H204),CSVデータ1!H204,0)+IF(ISNUMBER(CSVデータ2!H204),CSVデータ2!H204,0)+IF(ISNUMBER(CSVデータ3!H204),CSVデータ3!H204,0)+IF(ISNUMBER(CSVデータ4!H204),CSVデータ4!H204,0)","v":0},null,{"$f":"IF(ISNUMBER(CSVデータ1!J204),CSVデータ1!J204,0)+IF(ISNUMBER(CSVデータ2!J204),CSVデータ2!J204,0)+IF(ISNUMBER(CSVデータ3!J204),CSVデータ3!J204,0)+IF(ISNUMBER(CSVデータ4!J204),CSVデータ4!J204,0)","v":0},null,{"$f":"IF(ISNUMBER(CSVデータ1!L204),CSVデータ1!L204,0)+IF(ISNUMBER(CSVデータ2!L204),CSVデータ2!L204,0)+IF(ISNUMBER(CSVデータ3!L204),CSVデータ3!L204,0)+IF(ISNUMBER(CSVデータ4!L204),CSVデータ4!L204,0)","v":1},null,{"$f":"IF(ISNUMBER(CSVデータ1!N204),CSVデータ1!N204,0)+IF(ISNUMBER(CSVデータ2!N204),CSVデータ2!N204,0)+IF(ISNUMBER(CSVデータ3!N204),CSVデータ3!N204,0)+IF(ISNUMBER(CSVデータ4!N204),CSVデータ4!N204,0)","v":0},null,{"$f":"IF(ISNUMBER(CSVデータ1!P204),CSVデータ1!P204,0)+IF(ISNUMBER(CSVデータ2!P204),CSVデータ2!P204,0)+IF(ISNUMBER(CSVデータ3!P204),CSVデータ3!P204,0)+IF(ISNUMBER(CSVデータ4!P204),CSVデータ4!P204,0)","v":2},null,{"$f":"IF(ISNUMBER(CSVデータ1!R204),CSVデータ1!R204,0)+IF(ISNUMBER(CSVデータ2!R204),CSVデータ2!R204,0)+IF(ISNUMBER(CSVデータ3!R204),CSVデータ3!R204,0)+IF(ISNUMBER(CSVデータ4!R204),CSVデータ4!R204,0)","v":5},null,{"$f":"IF(ISNUMBER(CSVデータ1!T204),CSVデータ1!T204,0)+IF(ISNUMBER(CSVデータ2!T204),CSVデータ2!T204,0)+IF(ISNUMBER(CSVデータ3!T204),CSVデータ3!T204,0)+IF(ISNUMBER(CSVデータ4!T204),CSVデータ4!T204,0)","v":0},null,{"$f":"IF(ISNUMBER(CSVデータ1!V204),CSVデータ1!V204,0)+IF(ISNUMBER(CSVデータ2!V204),CSVデータ2!V204,0)+IF(ISNUMBER(CSVデータ3!V204),CSVデータ3!V204,0)+IF(ISNUMBER(CSVデータ4!V204),CSVデータ4!V204,0)","v":6},null,{"$f":"IF(ISNUMBER(CSVデータ1!X204),CSVデータ1!X204,0)+IF(ISNUMBER(CSVデータ2!X204),CSVデータ2!X204,0)+IF(ISNUMBER(CSVデータ3!X204),CSVデータ3!X204,0)+IF(ISNUMBER(CSVデータ4!X204),CSVデータ4!X204,0)","v":3},null,{"$f":"IF(ISNUMBER(CSVデータ1!Z204),CSVデータ1!Z204,0)+IF(ISNUMBER(CSVデータ2!Z204),CSVデータ2!Z204,0)+IF(ISNUMBER(CSVデータ3!Z204),CSVデータ3!Z204,0)+IF(ISNUMBER(CSVデータ4!Z204),CSVデータ4!Z204,0)","v":8},null,{"$f":"IF(ISNUMBER(CSVデータ1!AB204),CSVデータ1!AB204,0)+IF(ISNUMBER(CSVデータ2!AB204),CSVデータ2!AB204,0)+IF(ISNUMBER(CSVデータ3!AB204),CSVデータ3!AB204,0)+IF(ISNUMBER(CSVデータ4!AB204),CSVデータ4!AB204,0)","v":0},null,{"$f":"IF(ISNUMBER(CSVデータ1!AD204),CSVデータ1!AD204,0)+IF(ISNUMBER(CSVデータ2!AD204),CSVデータ2!AD204,0)+IF(ISNUMBER(CSVデータ3!AD204),CSVデータ3!AD204,0)+IF(ISNUMBER(CSVデータ4!AD204),CSVデータ4!AD204,0)","v":4},null,{"$f":"IF(ISNUMBER(CSVデータ1!AF204),CSVデータ1!AF204,0)+IF(ISNUMBER(CSVデータ2!AF204),CSVデータ2!AF204,0)+IF(ISNUMBER(CSVデータ3!AF204),CSVデータ3!AF204,0)+IF(ISNUMBER(CSVデータ4!AF204),CSVデータ4!AF204,0)","v":0},null,{"$f":"IF(ISNUMBER(CSVデータ1!AH204),CSVデータ1!AH204,0)+IF(ISNUMBER(CSVデータ2!AH204),CSVデータ2!AH204,0)+IF(ISNUMBER(CSVデータ3!AH204),CSVデータ3!AH204,0)+IF(ISNUMBER(CSVデータ4!AH204),CSVデータ4!AH204,0)","v":0},null,{"$f":"IF(ISNUMBER(CSVデータ1!AJ204),CSVデータ1!AJ204,0)+IF(ISNUMBER(CSVデータ2!AJ204),CSVデータ2!AJ204,0)+IF(ISNUMBER(CSVデータ3!AJ204),CSVデータ3!AJ204,0)+IF(ISNUMBER(CSVデータ4!AJ204),CSVデータ4!AJ204,0)","v":0},null,{"$f":"IF(ISNUMBER(CSVデータ1!AL204),CSVデータ1!AL204,0)+IF(ISNUMBER(CSVデータ2!AL204),CSVデータ2!AL204,0)+IF(ISNUMBER(CSVデータ3!AL204),CSVデータ3!AL204,0)+IF(ISNUMBER(CSVデータ4!AL204),CSVデータ4!AL204,0)","v":3},null,{"$f":"IF(ISNUMBER(CSVデータ1!AN204),CSVデータ1!AN204,0)+IF(ISNUMBER(CSVデータ2!AN204),CSVデータ2!AN204,0)+IF(ISNUMBER(CSVデータ3!AN204),CSVデータ3!AN204,0)+IF(ISNUMBER(CSVデータ4!AN204),CSVデータ4!AN204,0)","v":0}]
[{"$f":"CSVデータ1!A205","v":"明細部"},{"$f":"CSVデータ1!B205","v":"保険者（地区）"},{"$f":"CSVデータ1!C205","v":66},{"$f":"CSVデータ1!D205","v":"女"},{"$f":"IF(ISNUMBER(CSVデータ1!E205),CSVデータ1!E205,0)+IF(ISNUMBER(CSVデータ2!E205),CSVデータ2!E205,0)+IF(ISNUMBER(CSVデータ3!E205),CSVデータ3!E205,0)+IF(ISNUMBER(CSVデータ4!E205),CSVデータ4!E205,0)","v":12},{"$f":"IF(ISNUMBER(CSVデータ1!F205),CSVデータ1!F205,0)+IF(ISNUMBER(CSVデータ2!F205),CSVデータ2!F205,0)+IF(ISNUMBER(CSVデータ3!F205),CSVデータ3!F205,0)+IF(ISNUMBER(CSVデータ4!F205),CSVデータ4!F205,0)","v":2},null,{"$f":"IF(ISNUMBER(CSVデータ1!H205),CSVデータ1!H205,0)+IF(ISNUMBER(CSVデータ2!H205),CSVデータ2!H205,0)+IF(ISNUMBER(CSVデータ3!H205),CSVデータ3!H205,0)+IF(ISNUMBER(CSVデータ4!H205),CSVデータ4!H205,0)","v":2},null,{"$f":"IF(ISNUMBER(CSVデータ1!J205),CSVデータ1!J205,0)+IF(ISNUMBER(CSVデータ2!J205),CSVデータ2!J205,0)+IF(ISNUMBER(CSVデータ3!J205),CSVデータ3!J205,0)+IF(ISNUMBER(CSVデータ4!J205),CSVデータ4!J205,0)","v":0},null,{"$f":"IF(ISNUMBER(CSVデータ1!L205),CSVデータ1!L205,0)+IF(ISNUMBER(CSVデータ2!L205),CSVデータ2!L205,0)+IF(ISNUMBER(CSVデータ3!L205),CSVデータ3!L205,0)+IF(ISNUMBER(CSVデータ4!L205),CSVデータ4!L205,0)","v":1},null,{"$f":"IF(ISNUMBER(CSVデータ1!N205),CSVデータ1!N205,0)+IF(ISNUMBER(CSVデータ2!N205),CSVデータ2!N205,0)+IF(ISNUMBER(CSVデータ3!N205),CSVデータ3!N205,0)+IF(ISNUMBER(CSVデータ4!N205),CSVデータ4!N205,0)","v":0},null,{"$f":"IF(ISNUMBER(CSVデータ1!P205),CSVデータ1!P205,0)+IF(ISNUMBER(CSVデータ2!P205),CSVデータ2!P205,0)+IF(ISNUMBER(CSVデータ3!P205),CSVデータ3!P205,0)+IF(ISNUMBER(CSVデータ4!P205),CSVデータ4!P205,0)","v":2},null,{"$f":"IF(ISNUMBER(CSVデータ1!R205),CSVデータ1!R205,0)+IF(ISNUMBER(CSVデータ2!R205),CSVデータ2!R205,0)+IF(ISNUMBER(CSVデータ3!R205),CSVデータ3!R205,0)+IF(ISNUMBER(CSVデータ4!R205),CSVデータ4!R205,0)","v":4},null,{"$f":"IF(ISNUMBER(CSVデータ1!T205),CSVデータ1!T205,0)+IF(ISNUMBER(CSVデータ2!T205),CSVデータ2!T205,0)+IF(ISNUMBER(CSVデータ3!T205),CSVデータ3!T205,0)+IF(ISNUMBER(CSVデータ4!T205),CSVデータ4!T205,0)","v":0},null,{"$f":"IF(ISNUMBER(CSVデータ1!V205),CSVデータ1!V205,0)+IF(ISNUMBER(CSVデータ2!V205),CSVデータ2!V205,0)+IF(ISNUMBER(CSVデータ3!V205),CSVデータ3!V205,0)+IF(ISNUMBER(CSVデータ4!V205),CSVデータ4!V205,0)","v":7},null,{"$f":"IF(ISNUMBER(CSVデータ1!X205),CSVデータ1!X205,0)+IF(ISNUMBER(CSVデータ2!X205),CSVデータ2!X205,0)+IF(ISNUMBER(CSVデータ3!X205),CSVデータ3!X205,0)+IF(ISNUMBER(CSVデータ4!X205),CSVデータ4!X205,0)","v":1},null,{"$f":"IF(ISNUMBER(CSVデータ1!Z205),CSVデータ1!Z205,0)+IF(ISNUMBER(CSVデータ2!Z205),CSVデータ2!Z205,0)+IF(ISNUMBER(CSVデータ3!Z205),CSVデータ3!Z205,0)+IF(ISNUMBER(CSVデータ4!Z205),CSVデータ4!Z205,0)","v":6},null,{"$f":"IF(ISNUMBER(CSVデータ1!AB205),CSVデータ1!AB205,0)+IF(ISNUMBER(CSVデータ2!AB205),CSVデータ2!AB205,0)+IF(ISNUMBER(CSVデータ3!AB205),CSVデータ3!AB205,0)+IF(ISNUMBER(CSVデータ4!AB205),CSVデータ4!AB205,0)","v":0},null,{"$f":"IF(ISNUMBER(CSVデータ1!AD205),CSVデータ1!AD205,0)+IF(ISNUMBER(CSVデータ2!AD205),CSVデータ2!AD205,0)+IF(ISNUMBER(CSVデータ3!AD205),CSVデータ3!AD205,0)+IF(ISNUMBER(CSVデータ4!AD205),CSVデータ4!AD205,0)","v":2},null,{"$f":"IF(ISNUMBER(CSVデータ1!AF205),CSVデータ1!AF205,0)+IF(ISNUMBER(CSVデータ2!AF205),CSVデータ2!AF205,0)+IF(ISNUMBER(CSVデータ3!AF205),CSVデータ3!AF205,0)+IF(ISNUMBER(CSVデータ4!AF205),CSVデータ4!AF205,0)","v":0},null,{"$f":"IF(ISNUMBER(CSVデータ1!AH205),CSVデータ1!AH205,0)+IF(ISNUMBER(CSVデータ2!AH205),CSVデータ2!AH205,0)+IF(ISNUMBER(CSVデータ3!AH205),CSVデータ3!AH205,0)+IF(ISNUMBER(CSVデータ4!AH205),CSVデータ4!AH205,0)","v":0},null,{"$f":"IF(ISNUMBER(CSVデータ1!AJ205),CSVデータ1!AJ205,0)+IF(ISNUMBER(CSVデータ2!AJ205),CSVデータ2!AJ205,0)+IF(ISNUMBER(CSVデータ3!AJ205),CSVデータ3!AJ205,0)+IF(ISNUMBER(CSVデータ4!AJ205),CSVデータ4!AJ205,0)","v":0},null,{"$f":"IF(ISNUMBER(CSVデータ1!AL205),CSVデータ1!AL205,0)+IF(ISNUMBER(CSVデータ2!AL205),CSVデータ2!AL205,0)+IF(ISNUMBER(CSVデータ3!AL205),CSVデータ3!AL205,0)+IF(ISNUMBER(CSVデータ4!AL205),CSVデータ4!AL205,0)","v":2},null,{"$f":"IF(ISNUMBER(CSVデータ1!AN205),CSVデータ1!AN205,0)+IF(ISNUMBER(CSVデータ2!AN205),CSVデータ2!AN205,0)+IF(ISNUMBER(CSVデータ3!AN205),CSVデータ3!AN205,0)+IF(ISNUMBER(CSVデータ4!AN205),CSVデータ4!AN205,0)","v":0}]
[{"$f":"CSVデータ1!A206","v":"明細部"},{"$f":"CSVデータ1!B206","v":"保険者（地区）"},{"$f":"CSVデータ1!C206","v":67},{"$f":"CSVデータ1!D206","v":"女"},{"$f":"IF(ISNUMBER(CSVデータ1!E206),CSVデータ1!E206,0)+IF(ISNUMBER(CSVデータ2!E206),CSVデータ2!E206,0)+IF(ISNUMBER(CSVデータ3!E206),CSVデータ3!E206,0)+IF(ISNUMBER(CSVデータ4!E206),CSVデータ4!E206,0)","v":16},{"$f":"IF(ISNUMBER(CSVデータ1!F206),CSVデータ1!F206,0)+IF(ISNUMBER(CSVデータ2!F206),CSVデータ2!F206,0)+IF(ISNUMBER(CSVデータ3!F206),CSVデータ3!F206,0)+IF(ISNUMBER(CSVデータ4!F206),CSVデータ4!F206,0)","v":1},null,{"$f":"IF(ISNUMBER(CSVデータ1!H206),CSVデータ1!H206,0)+IF(ISNUMBER(CSVデータ2!H206),CSVデータ2!H206,0)+IF(ISNUMBER(CSVデータ3!H206),CSVデータ3!H206,0)+IF(ISNUMBER(CSVデータ4!H206),CSVデータ4!H206,0)","v":0},null,{"$f":"IF(ISNUMBER(CSVデータ1!J206),CSVデータ1!J206,0)+IF(ISNUMBER(CSVデータ2!J206),CSVデータ2!J206,0)+IF(ISNUMBER(CSVデータ3!J206),CSVデータ3!J206,0)+IF(ISNUMBER(CSVデータ4!J206),CSVデータ4!J206,0)","v":1},null,{"$f":"IF(ISNUMBER(CSVデータ1!L206),CSVデータ1!L206,0)+IF(ISNUMBER(CSVデータ2!L206),CSVデータ2!L206,0)+IF(ISNUMBER(CSVデータ3!L206),CSVデータ3!L206,0)+IF(ISNUMBER(CSVデータ4!L206),CSVデータ4!L206,0)","v":0},null,{"$f":"IF(ISNUMBER(CSVデータ1!N206),CSVデータ1!N206,0)+IF(ISNUMBER(CSVデータ2!N206),CSVデータ2!N206,0)+IF(ISNUMBER(CSVデータ3!N206),CSVデータ3!N206,0)+IF(ISNUMBER(CSVデータ4!N206),CSVデータ4!N206,0)","v":0},null,{"$f":"IF(ISNUMBER(CSVデータ1!P206),CSVデータ1!P206,0)+IF(ISNUMBER(CSVデータ2!P206),CSVデータ2!P206,0)+IF(ISNUMBER(CSVデータ3!P206),CSVデータ3!P206,0)+IF(ISNUMBER(CSVデータ4!P206),CSVデータ4!P206,0)","v":5},null,{"$f":"IF(ISNUMBER(CSVデータ1!R206),CSVデータ1!R206,0)+IF(ISNUMBER(CSVデータ2!R206),CSVデータ2!R206,0)+IF(ISNUMBER(CSVデータ3!R206),CSVデータ3!R206,0)+IF(ISNUMBER(CSVデータ4!R206),CSVデータ4!R206,0)","v":4},null,{"$f":"IF(ISNUMBER(CSVデータ1!T206),CSVデータ1!T206,0)+IF(ISNUMBER(CSVデータ2!T206),CSVデータ2!T206,0)+IF(ISNUMBER(CSVデータ3!T206),CSVデータ3!T206,0)+IF(ISNUMBER(CSVデータ4!T206),CSVデータ4!T206,0)","v":0},null,{"$f":"IF(ISNUMBER(CSVデータ1!V206),CSVデータ1!V206,0)+IF(ISNUMBER(CSVデータ2!V206),CSVデータ2!V206,0)+IF(ISNUMBER(CSVデータ3!V206),CSVデータ3!V206,0)+IF(ISNUMBER(CSVデータ4!V206),CSVデータ4!V206,0)","v":7},null,{"$f":"IF(ISNUMBER(CSVデータ1!X206),CSVデータ1!X206,0)+IF(ISNUMBER(CSVデータ2!X206),CSVデータ2!X206,0)+IF(ISNUMBER(CSVデータ3!X206),CSVデータ3!X206,0)+IF(ISNUMBER(CSVデータ4!X206),CSVデータ4!X206,0)","v":1},null,{"$f":"IF(ISNUMBER(CSVデータ1!Z206),CSVデータ1!Z206,0)+IF(ISNUMBER(CSVデータ2!Z206),CSVデータ2!Z206,0)+IF(ISNUMBER(CSVデータ3!Z206),CSVデータ3!Z206,0)+IF(ISNUMBER(CSVデータ4!Z206),CSVデータ4!Z206,0)","v":10},null,{"$f":"IF(ISNUMBER(CSVデータ1!AB206),CSVデータ1!AB206,0)+IF(ISNUMBER(CSVデータ2!AB206),CSVデータ2!AB206,0)+IF(ISNUMBER(CSVデータ3!AB206),CSVデータ3!AB206,0)+IF(ISNUMBER(CSVデータ4!AB206),CSVデータ4!AB206,0)","v":0},null,{"$f":"IF(ISNUMBER(CSVデータ1!AD206),CSVデータ1!AD206,0)+IF(ISNUMBER(CSVデータ2!AD206),CSVデータ2!AD206,0)+IF(ISNUMBER(CSVデータ3!AD206),CSVデータ3!AD206,0)+IF(ISNUMBER(CSVデータ4!AD206),CSVデータ4!AD206,0)","v":5},null,{"$f":"IF(ISNUMBER(CSVデータ1!AF206),CSVデータ1!AF206,0)+IF(ISNUMBER(CSVデータ2!AF206),CSVデータ2!AF206,0)+IF(ISNUMBER(CSVデータ3!AF206),CSVデータ3!AF206,0)+IF(ISNUMBER(CSVデータ4!AF206),CSVデータ4!AF206,0)","v":0},null,{"$f":"IF(ISNUMBER(CSVデータ1!AH206),CSVデータ1!AH206,0)+IF(ISNUMBER(CSVデータ2!AH206),CSVデータ2!AH206,0)+IF(ISNUMBER(CSVデータ3!AH206),CSVデータ3!AH206,0)+IF(ISNUMBER(CSVデータ4!AH206),CSVデータ4!AH206,0)","v":0},null,{"$f":"IF(ISNUMBER(CSVデータ1!AJ206),CSVデータ1!AJ206,0)+IF(ISNUMBER(CSVデータ2!AJ206),CSVデータ2!AJ206,0)+IF(ISNUMBER(CSVデータ3!AJ206),CSVデータ3!AJ206,0)+IF(ISNUMBER(CSVデータ4!AJ206),CSVデータ4!AJ206,0)","v":0},null,{"$f":"IF(ISNUMBER(CSVデータ1!AL206),CSVデータ1!AL206,0)+IF(ISNUMBER(CSVデータ2!AL206),CSVデータ2!AL206,0)+IF(ISNUMBER(CSVデータ3!AL206),CSVデータ3!AL206,0)+IF(ISNUMBER(CSVデータ4!AL206),CSVデータ4!AL206,0)","v":3},null,{"$f":"IF(ISNUMBER(CSVデータ1!AN206),CSVデータ1!AN206,0)+IF(ISNUMBER(CSVデータ2!AN206),CSVデータ2!AN206,0)+IF(ISNUMBER(CSVデータ3!AN206),CSVデータ3!AN206,0)+IF(ISNUMBER(CSVデータ4!AN206),CSVデータ4!AN206,0)","v":0}]
[{"$f":"CSVデータ1!A207","v":"明細部"},{"$f":"CSVデータ1!B207","v":"保険者（地区）"},{"$f":"CSVデータ1!C207","v":68},{"$f":"CSVデータ1!D207","v":"女"},{"$f":"IF(ISNUMBER(CSVデータ1!E207),CSVデータ1!E207,0)+IF(ISNUMBER(CSVデータ2!E207),CSVデータ2!E207,0)+IF(ISNUMBER(CSVデータ3!E207),CSVデータ3!E207,0)+IF(ISNUMBER(CSVデータ4!E207),CSVデータ4!E207,0)","v":22},{"$f":"IF(ISNUMBER(CSVデータ1!F207),CSVデータ1!F207,0)+IF(ISNUMBER(CSVデータ2!F207),CSVデータ2!F207,0)+IF(ISNUMBER(CSVデータ3!F207),CSVデータ3!F207,0)+IF(ISNUMBER(CSVデータ4!F207),CSVデータ4!F207,0)","v":4},null,{"$f":"IF(ISNUMBER(CSVデータ1!H207),CSVデータ1!H207,0)+IF(ISNUMBER(CSVデータ2!H207),CSVデータ2!H207,0)+IF(ISNUMBER(CSVデータ3!H207),CSVデータ3!H207,0)+IF(ISNUMBER(CSVデータ4!H207),CSVデータ4!H207,0)","v":5},null,{"$f":"IF(ISNUMBER(CSVデータ1!J207),CSVデータ1!J207,0)+IF(ISNUMBER(CSVデータ2!J207),CSVデータ2!J207,0)+IF(ISNUMBER(CSVデータ3!J207),CSVデータ3!J207,0)+IF(ISNUMBER(CSVデータ4!J207),CSVデータ4!J207,0)","v":2},null,{"$f":"IF(ISNUMBER(CSVデータ1!L207),CSVデータ1!L207,0)+IF(ISNUMBER(CSVデータ2!L207),CSVデータ2!L207,0)+IF(ISNUMBER(CSVデータ3!L207),CSVデータ3!L207,0)+IF(ISNUMBER(CSVデータ4!L207),CSVデータ4!L207,0)","v":2},null,{"$f":"IF(ISNUMBER(CSVデータ1!N207),CSVデータ1!N207,0)+IF(ISNUMBER(CSVデータ2!N207),CSVデータ2!N207,0)+IF(ISNUMBER(CSVデータ3!N207),CSVデータ3!N207,0)+IF(ISNUMBER(CSVデータ4!N207),CSVデータ4!N207,0)","v":0},null,{"$f":"IF(ISNUMBER(CSVデータ1!P207),CSVデータ1!P207,0)+IF(ISNUMBER(CSVデータ2!P207),CSVデータ2!P207,0)+IF(ISNUMBER(CSVデータ3!P207),CSVデータ3!P207,0)+IF(ISNUMBER(CSVデータ4!P207),CSVデータ4!P207,0)","v":5},null,{"$f":"IF(ISNUMBER(CSVデータ1!R207),CSVデータ1!R207,0)+IF(ISNUMBER(CSVデータ2!R207),CSVデータ2!R207,0)+IF(ISNUMBER(CSVデータ3!R207),CSVデータ3!R207,0)+IF(ISNUMBER(CSVデータ4!R207),CSVデータ4!R207,0)","v":10},null,{"$f":"IF(ISNUMBER(CSVデータ1!T207),CSVデータ1!T207,0)+IF(ISNUMBER(CSVデータ2!T207),CSVデータ2!T207,0)+IF(ISNUMBER(CSVデータ3!T207),CSVデータ3!T207,0)+IF(ISNUMBER(CSVデータ4!T207),CSVデータ4!T207,0)","v":0},null,{"$f":"IF(ISNUMBER(CSVデータ1!V207),CSVデータ1!V207,0)+IF(ISNUMBER(CSVデータ2!V207),CSVデータ2!V207,0)+IF(ISNUMBER(CSVデータ3!V207),CSVデータ3!V207,0)+IF(ISNUMBER(CSVデータ4!V207),CSVデータ4!V207,0)","v":11},null,{"$f":"IF(ISNUMBER(CSVデータ1!X207),CSVデータ1!X207,0)+IF(ISNUMBER(CSVデータ2!X207),CSVデータ2!X207,0)+IF(ISNUMBER(CSVデータ3!X207),CSVデータ3!X207,0)+IF(ISNUMBER(CSVデータ4!X207),CSVデータ4!X207,0)","v":6},null,{"$f":"IF(ISNUMBER(CSVデータ1!Z207),CSVデータ1!Z207,0)+IF(ISNUMBER(CSVデータ2!Z207),CSVデータ2!Z207,0)+IF(ISNUMBER(CSVデータ3!Z207),CSVデータ3!Z207,0)+IF(ISNUMBER(CSVデータ4!Z207),CSVデータ4!Z207,0)","v":13},null,{"$f":"IF(ISNUMBER(CSVデータ1!AB207),CSVデータ1!AB207,0)+IF(ISNUMBER(CSVデータ2!AB207),CSVデータ2!AB207,0)+IF(ISNUMBER(CSVデータ3!AB207),CSVデータ3!AB207,0)+IF(ISNUMBER(CSVデータ4!AB207),CSVデータ4!AB207,0)","v":0},null,{"$f":"IF(ISNUMBER(CSVデータ1!AD207),CSVデータ1!AD207,0)+IF(ISNUMBER(CSVデータ2!AD207),CSVデータ2!AD207,0)+IF(ISNUMBER(CSVデータ3!AD207),CSVデータ3!AD207,0)+IF(ISNUMBER(CSVデータ4!AD207),CSVデータ4!AD207,0)","v":4},null,{"$f":"IF(ISNUMBER(CSVデータ1!AF207),CSVデータ1!AF207,0)+IF(ISNUMBER(CSVデータ2!AF207),CSVデータ2!AF207,0)+IF(ISNUMBER(CSVデータ3!AF207),CSVデータ3!AF207,0)+IF(ISNUMBER(CSVデータ4!AF207),CSVデータ4!AF207,0)","v":0},null,{"$f":"IF(ISNUMBER(CSVデータ1!AH207),CSVデータ1!AH207,0)+IF(ISNUMBER(CSVデータ2!AH207),CSVデータ2!AH207,0)+IF(ISNUMBER(CSVデータ3!AH207),CSVデータ3!AH207,0)+IF(ISNUMBER(CSVデータ4!AH207),CSVデータ4!AH207,0)","v":0},null,{"$f":"IF(ISNUMBER(CSVデータ1!AJ207),CSVデータ1!AJ207,0)+IF(ISNUMBER(CSVデータ2!AJ207),CSVデータ2!AJ207,0)+IF(ISNUMBER(CSVデータ3!AJ207),CSVデータ3!AJ207,0)+IF(ISNUMBER(CSVデータ4!AJ207),CSVデータ4!AJ207,0)","v":0},null,{"$f":"IF(ISNUMBER(CSVデータ1!AL207),CSVデータ1!AL207,0)+IF(ISNUMBER(CSVデータ2!AL207),CSVデータ2!AL207,0)+IF(ISNUMBER(CSVデータ3!AL207),CSVデータ3!AL207,0)+IF(ISNUMBER(CSVデータ4!AL207),CSVデータ4!AL207,0)","v":4},null,{"$f":"IF(ISNUMBER(CSVデータ1!AN207),CSVデータ1!AN207,0)+IF(ISNUMBER(CSVデータ2!AN207),CSVデータ2!AN207,0)+IF(ISNUMBER(CSVデータ3!AN207),CSVデータ3!AN207,0)+IF(ISNUMBER(CSVデータ4!AN207),CSVデータ4!AN207,0)","v":0}]
[{"$f":"CSVデータ1!A208","v":"明細部"},{"$f":"CSVデータ1!B208","v":"保険者（地区）"},{"$f":"CSVデータ1!C208","v":69},{"$f":"CSVデータ1!D208","v":"女"},{"$f":"IF(ISNUMBER(CSVデータ1!E208),CSVデータ1!E208,0)+IF(ISNUMBER(CSVデータ2!E208),CSVデータ2!E208,0)+IF(ISNUMBER(CSVデータ3!E208),CSVデータ3!E208,0)+IF(ISNUMBER(CSVデータ4!E208),CSVデータ4!E208,0)","v":13},{"$f":"IF(ISNUMBER(CSVデータ1!F208),CSVデータ1!F208,0)+IF(ISNUMBER(CSVデータ2!F208),CSVデータ2!F208,0)+IF(ISNUMBER(CSVデータ3!F208),CSVデータ3!F208,0)+IF(ISNUMBER(CSVデータ4!F208),CSVデータ4!F208,0)","v":1},null,{"$f":"IF(ISNUMBER(CSVデータ1!H208),CSVデータ1!H208,0)+IF(ISNUMBER(CSVデータ2!H208),CSVデータ2!H208,0)+IF(ISNUMBER(CSVデータ3!H208),CSVデータ3!H208,0)+IF(ISNUMBER(CSVデータ4!H208),CSVデータ4!H208,0)","v":0},null,{"$f":"IF(ISNUMBER(CSVデータ1!J208),CSVデータ1!J208,0)+IF(ISNUMBER(CSVデータ2!J208),CSVデータ2!J208,0)+IF(ISNUMBER(CSVデータ3!J208),CSVデータ3!J208,0)+IF(ISNUMBER(CSVデータ4!J208),CSVデータ4!J208,0)","v":0},null,{"$f":"IF(ISNUMBER(CSVデータ1!L208),CSVデータ1!L208,0)+IF(ISNUMBER(CSVデータ2!L208),CSVデータ2!L208,0)+IF(ISNUMBER(CSVデータ3!L208),CSVデータ3!L208,0)+IF(ISNUMBER(CSVデータ4!L208),CSVデータ4!L208,0)","v":0},null,{"$f":"IF(ISNUMBER(CSVデータ1!N208),CSVデータ1!N208,0)+IF(ISNUMBER(CSVデータ2!N208),CSVデータ2!N208,0)+IF(ISNUMBER(CSVデータ3!N208),CSVデータ3!N208,0)+IF(ISNUMBER(CSVデータ4!N208),CSVデータ4!N208,0)","v":0},null,{"$f":"IF(ISNUMBER(CSVデータ1!P208),CSVデータ1!P208,0)+IF(ISNUMBER(CSVデータ2!P208),CSVデータ2!P208,0)+IF(ISNUMBER(CSVデータ3!P208),CSVデータ3!P208,0)+IF(ISNUMBER(CSVデータ4!P208),CSVデータ4!P208,0)","v":3},null,{"$f":"IF(ISNUMBER(CSVデータ1!R208),CSVデータ1!R208,0)+IF(ISNUMBER(CSVデータ2!R208),CSVデータ2!R208,0)+IF(ISNUMBER(CSVデータ3!R208),CSVデータ3!R208,0)+IF(ISNUMBER(CSVデータ4!R208),CSVデータ4!R208,0)","v":7},null,{"$f":"IF(ISNUMBER(CSVデータ1!T208),CSVデータ1!T208,0)+IF(ISNUMBER(CSVデータ2!T208),CSVデータ2!T208,0)+IF(ISNUMBER(CSVデータ3!T208),CSVデータ3!T208,0)+IF(ISNUMBER(CSVデータ4!T208),CSVデータ4!T208,0)","v":0},null,{"$f":"IF(ISNUMBER(CSVデータ1!V208),CSVデータ1!V208,0)+IF(ISNUMBER(CSVデータ2!V208),CSVデータ2!V208,0)+IF(ISNUMBER(CSVデータ3!V208),CSVデータ3!V208,0)+IF(ISNUMBER(CSVデータ4!V208),CSVデータ4!V208,0)","v":3},null,{"$f":"IF(ISNUMBER(CSVデータ1!X208),CSVデータ1!X208,0)+IF(ISNUMBER(CSVデータ2!X208),CSVデータ2!X208,0)+IF(ISNUMBER(CSVデータ3!X208),CSVデータ3!X208,0)+IF(ISNUMBER(CSVデータ4!X208),CSVデータ4!X208,0)","v":1},null,{"$f":"IF(ISNUMBER(CSVデータ1!Z208),CSVデータ1!Z208,0)+IF(ISNUMBER(CSVデータ2!Z208),CSVデータ2!Z208,0)+IF(ISNUMBER(CSVデータ3!Z208),CSVデータ3!Z208,0)+IF(ISNUMBER(CSVデータ4!Z208),CSVデータ4!Z208,0)","v":9},null,{"$f":"IF(ISNUMBER(CSVデータ1!AB208),CSVデータ1!AB208,0)+IF(ISNUMBER(CSVデータ2!AB208),CSVデータ2!AB208,0)+IF(ISNUMBER(CSVデータ3!AB208),CSVデータ3!AB208,0)+IF(ISNUMBER(CSVデータ4!AB208),CSVデータ4!AB208,0)","v":0},null,{"$f":"IF(ISNUMBER(CSVデータ1!AD208),CSVデータ1!AD208,0)+IF(ISNUMBER(CSVデータ2!AD208),CSVデータ2!AD208,0)+IF(ISNUMBER(CSVデータ3!AD208),CSVデータ3!AD208,0)+IF(ISNUMBER(CSVデータ4!AD208),CSVデータ4!AD208,0)","v":3},null,{"$f":"IF(ISNUMBER(CSVデータ1!AF208),CSVデータ1!AF208,0)+IF(ISNUMBER(CSVデータ2!AF208),CSVデータ2!AF208,0)+IF(ISNUMBER(CSVデータ3!AF208),CSVデータ3!AF208,0)+IF(ISNUMBER(CSVデータ4!AF208),CSVデータ4!AF208,0)","v":0},null,{"$f":"IF(ISNUMBER(CSVデータ1!AH208),CSVデータ1!AH208,0)+IF(ISNUMBER(CSVデータ2!AH208),CSVデータ2!AH208,0)+IF(ISNUMBER(CSVデータ3!AH208),CSVデータ3!AH208,0)+IF(ISNUMBER(CSVデータ4!AH208),CSVデータ4!AH208,0)","v":0},null,{"$f":"IF(ISNUMBER(CSVデータ1!AJ208),CSVデータ1!AJ208,0)+IF(ISNUMBER(CSVデータ2!AJ208),CSVデータ2!AJ208,0)+IF(ISNUMBER(CSVデータ3!AJ208),CSVデータ3!AJ208,0)+IF(ISNUMBER(CSVデータ4!AJ208),CSVデータ4!AJ208,0)","v":0},null,{"$f":"IF(ISNUMBER(CSVデータ1!AL208),CSVデータ1!AL208,0)+IF(ISNUMBER(CSVデータ2!AL208),CSVデータ2!AL208,0)+IF(ISNUMBER(CSVデータ3!AL208),CSVデータ3!AL208,0)+IF(ISNUMBER(CSVデータ4!AL208),CSVデータ4!AL208,0)","v":1},null,{"$f":"IF(ISNUMBER(CSVデータ1!AN208),CSVデータ1!AN208,0)+IF(ISNUMBER(CSVデータ2!AN208),CSVデータ2!AN208,0)+IF(ISNUMBER(CSVデータ3!AN208),CSVデータ3!AN208,0)+IF(ISNUMBER(CSVデータ4!AN208),CSVデータ4!AN208,0)","v":0}]
[{"$f":"CSVデータ1!A209","v":"明細部"},{"$f":"CSVデータ1!B209","v":"保険者（地区）"},{"$f":"CSVデータ1!C209","v":70},{"$f":"CSVデータ1!D209","v":"女"},{"$f":"IF(ISNUMBER(CSVデータ1!E209),CSVデータ1!E209,0)+IF(ISNUMBER(CSVデータ2!E209),CSVデータ2!E209,0)+IF(ISNUMBER(CSVデータ3!E209),CSVデータ3!E209,0)+IF(ISNUMBER(CSVデータ4!E209),CSVデータ4!E209,0)","v":21},{"$f":"IF(ISNUMBER(CSVデータ1!F209),CSVデータ1!F209,0)+IF(ISNUMBER(CSVデータ2!F209),CSVデータ2!F209,0)+IF(ISNUMBER(CSVデータ3!F209),CSVデータ3!F209,0)+IF(ISNUMBER(CSVデータ4!F209),CSVデータ4!F209,0)","v":4},null,{"$f":"IF(ISNUMBER(CSVデータ1!H209),CSVデータ1!H209,0)+IF(ISNUMBER(CSVデータ2!H209),CSVデータ2!H209,0)+IF(ISNUMBER(CSVデータ3!H209),CSVデータ3!H209,0)+IF(ISNUMBER(CSVデータ4!H209),CSVデータ4!H209,0)","v":5},null,{"$f":"IF(ISNUMBER(CSVデータ1!J209),CSVデータ1!J209,0)+IF(ISNUMBER(CSVデータ2!J209),CSVデータ2!J209,0)+IF(ISNUMBER(CSVデータ3!J209),CSVデータ3!J209,0)+IF(ISNUMBER(CSVデータ4!J209),CSVデータ4!J209,0)","v":3},null,{"$f":"IF(ISNUMBER(CSVデータ1!L209),CSVデータ1!L209,0)+IF(ISNUMBER(CSVデータ2!L209),CSVデータ2!L209,0)+IF(ISNUMBER(CSVデータ3!L209),CSVデータ3!L209,0)+IF(ISNUMBER(CSVデータ4!L209),CSVデータ4!L209,0)","v":3},null,{"$f":"IF(ISNUMBER(CSVデータ1!N209),CSVデータ1!N209,0)+IF(ISNUMBER(CSVデータ2!N209),CSVデータ2!N209,0)+IF(ISNUMBER(CSVデータ3!N209),CSVデータ3!N209,0)+IF(ISNUMBER(CSVデータ4!N209),CSVデータ4!N209,0)","v":0},null,{"$f":"IF(ISNUMBER(CSVデータ1!P209),CSVデータ1!P209,0)+IF(ISNUMBER(CSVデータ2!P209),CSVデータ2!P209,0)+IF(ISNUMBER(CSVデータ3!P209),CSVデータ3!P209,0)+IF(ISNUMBER(CSVデータ4!P209),CSVデータ4!P209,0)","v":7},null,{"$f":"IF(ISNUMBER(CSVデータ1!R209),CSVデータ1!R209,0)+IF(ISNUMBER(CSVデータ2!R209),CSVデータ2!R209,0)+IF(ISNUMBER(CSVデータ3!R209),CSVデータ3!R209,0)+IF(ISNUMBER(CSVデータ4!R209),CSVデータ4!R209,0)","v":12},null,{"$f":"IF(ISNUMBER(CSVデータ1!T209),CSVデータ1!T209,0)+IF(ISNUMBER(CSVデータ2!T209),CSVデータ2!T209,0)+IF(ISNUMBER(CSVデータ3!T209),CSVデータ3!T209,0)+IF(ISNUMBER(CSVデータ4!T209),CSVデータ4!T209,0)","v":0},null,{"$f":"IF(ISNUMBER(CSVデータ1!V209),CSVデータ1!V209,0)+IF(ISNUMBER(CSVデータ2!V209),CSVデータ2!V209,0)+IF(ISNUMBER(CSVデータ3!V209),CSVデータ3!V209,0)+IF(ISNUMBER(CSVデータ4!V209),CSVデータ4!V209,0)","v":10},null,{"$f":"IF(ISNUMBER(CSVデータ1!X209),CSVデータ1!X209,0)+IF(ISNUMBER(CSVデータ2!X209),CSVデータ2!X209,0)+IF(ISNUMBER(CSVデータ3!X209),CSVデータ3!X209,0)+IF(ISNUMBER(CSVデータ4!X209),CSVデータ4!X209,0)","v":2},null,{"$f":"IF(ISNUMBER(CSVデータ1!Z209),CSVデータ1!Z209,0)+IF(ISNUMBER(CSVデータ2!Z209),CSVデータ2!Z209,0)+IF(ISNUMBER(CSVデータ3!Z209),CSVデータ3!Z209,0)+IF(ISNUMBER(CSVデータ4!Z209),CSVデータ4!Z209,0)","v":12},null,{"$f":"IF(ISNUMBER(CSVデータ1!AB209),CSVデータ1!AB209,0)+IF(ISNUMBER(CSVデータ2!AB209),CSVデータ2!AB209,0)+IF(ISNUMBER(CSVデータ3!AB209),CSVデータ3!AB209,0)+IF(ISNUMBER(CSVデータ4!AB209),CSVデータ4!AB209,0)","v":0},null,{"$f":"IF(ISNUMBER(CSVデータ1!AD209),CSVデータ1!AD209,0)+IF(ISNUMBER(CSVデータ2!AD209),CSVデータ2!AD209,0)+IF(ISNUMBER(CSVデータ3!AD209),CSVデータ3!AD209,0)+IF(ISNUMBER(CSVデータ4!AD209),CSVデータ4!AD209,0)","v":8},null,{"$f":"IF(ISNUMBER(CSVデータ1!AF209),CSVデータ1!AF209,0)+IF(ISNUMBER(CSVデータ2!AF209),CSVデータ2!AF209,0)+IF(ISNUMBER(CSVデータ3!AF209),CSVデータ3!AF209,0)+IF(ISNUMBER(CSVデータ4!AF209),CSVデータ4!AF209,0)","v":1},null,{"$f":"IF(ISNUMBER(CSVデータ1!AH209),CSVデータ1!AH209,0)+IF(ISNUMBER(CSVデータ2!AH209),CSVデータ2!AH209,0)+IF(ISNUMBER(CSVデータ3!AH209),CSVデータ3!AH209,0)+IF(ISNUMBER(CSVデータ4!AH209),CSVデータ4!AH209,0)","v":0},null,{"$f":"IF(ISNUMBER(CSVデータ1!AJ209),CSVデータ1!AJ209,0)+IF(ISNUMBER(CSVデータ2!AJ209),CSVデータ2!AJ209,0)+IF(ISNUMBER(CSVデータ3!AJ209),CSVデータ3!AJ209,0)+IF(ISNUMBER(CSVデータ4!AJ209),CSVデータ4!AJ209,0)","v":0},null,{"$f":"IF(ISNUMBER(CSVデータ1!AL209),CSVデータ1!AL209,0)+IF(ISNUMBER(CSVデータ2!AL209),CSVデータ2!AL209,0)+IF(ISNUMBER(CSVデータ3!AL209),CSVデータ3!AL209,0)+IF(ISNUMBER(CSVデータ4!AL209),CSVデータ4!AL209,0)","v":11},null,{"$f":"IF(ISNUMBER(CSVデータ1!AN209),CSVデータ1!AN209,0)+IF(ISNUMBER(CSVデータ2!AN209),CSVデータ2!AN209,0)+IF(ISNUMBER(CSVデータ3!AN209),CSVデータ3!AN209,0)+IF(ISNUMBER(CSVデータ4!AN209),CSVデータ4!AN209,0)","v":0}]
[{"$f":"CSVデータ1!A210","v":"明細部"},{"$f":"CSVデータ1!B210","v":"保険者（地区）"},{"$f":"CSVデータ1!C210","v":71},{"$f":"CSVデータ1!D210","v":"女"},{"$f":"IF(ISNUMBER(CSVデータ1!E210),CSVデータ1!E210,0)+IF(ISNUMBER(CSVデータ2!E210),CSVデータ2!E210,0)+IF(ISNUMBER(CSVデータ3!E210),CSVデータ3!E210,0)+IF(ISNUMBER(CSVデータ4!E210),CSVデータ4!E210,0)","v":23},{"$f":"IF(ISNUMBER(CSVデータ1!F210),CSVデータ1!F210,0)+IF(ISNUMBER(CSVデータ2!F210),CSVデータ2!F210,0)+IF(ISNUMBER(CSVデータ3!F210),CSVデータ3!F210,0)+IF(ISNUMBER(CSVデータ4!F210),CSVデータ4!F210,0)","v":2},null,{"$f":"IF(ISNUMBER(CSVデータ1!H210),CSVデータ1!H210,0)+IF(ISNUMBER(CSVデータ2!H210),CSVデータ2!H210,0)+IF(ISNUMBER(CSVデータ3!H210),CSVデータ3!H210,0)+IF(ISNUMBER(CSVデータ4!H210),CSVデータ4!H210,0)","v":2},null,{"$f":"IF(ISNUMBER(CSVデータ1!J210),CSVデータ1!J210,0)+IF(ISNUMBER(CSVデータ2!J210),CSVデータ2!J210,0)+IF(ISNUMBER(CSVデータ3!J210),CSVデータ3!J210,0)+IF(ISNUMBER(CSVデータ4!J210),CSVデータ4!J210,0)","v":2},null,{"$f":"IF(ISNUMBER(CSVデータ1!L210),CSVデータ1!L210,0)+IF(ISNUMBER(CSVデータ2!L210),CSVデータ2!L210,0)+IF(ISNUMBER(CSVデータ3!L210),CSVデータ3!L210,0)+IF(ISNUMBER(CSVデータ4!L210),CSVデータ4!L210,0)","v":3},null,{"$f":"IF(ISNUMBER(CSVデータ1!N210),CSVデータ1!N210,0)+IF(ISNUMBER(CSVデータ2!N210),CSVデータ2!N210,0)+IF(ISNUMBER(CSVデータ3!N210),CSVデータ3!N210,0)+IF(ISNUMBER(CSVデータ4!N210),CSVデータ4!N210,0)","v":0},null,{"$f":"IF(ISNUMBER(CSVデータ1!P210),CSVデータ1!P210,0)+IF(ISNUMBER(CSVデータ2!P210),CSVデータ2!P210,0)+IF(ISNUMBER(CSVデータ3!P210),CSVデータ3!P210,0)+IF(ISNUMBER(CSVデータ4!P210),CSVデータ4!P210,0)","v":6},null,{"$f":"IF(ISNUMBER(CSVデータ1!R210),CSVデータ1!R210,0)+IF(ISNUMBER(CSVデータ2!R210),CSVデータ2!R210,0)+IF(ISNUMBER(CSVデータ3!R210),CSVデータ3!R210,0)+IF(ISNUMBER(CSVデータ4!R210),CSVデータ4!R210,0)","v":8},null,{"$f":"IF(ISNUMBER(CSVデータ1!T210),CSVデータ1!T210,0)+IF(ISNUMBER(CSVデータ2!T210),CSVデータ2!T210,0)+IF(ISNUMBER(CSVデータ3!T210),CSVデータ3!T210,0)+IF(ISNUMBER(CSVデータ4!T210),CSVデータ4!T210,0)","v":0},null,{"$f":"IF(ISNUMBER(CSVデータ1!V210),CSVデータ1!V210,0)+IF(ISNUMBER(CSVデータ2!V210),CSVデータ2!V210,0)+IF(ISNUMBER(CSVデータ3!V210),CSVデータ3!V210,0)+IF(ISNUMBER(CSVデータ4!V210),CSVデータ4!V210,0)","v":12},null,{"$f":"IF(ISNUMBER(CSVデータ1!X210),CSVデータ1!X210,0)+IF(ISNUMBER(CSVデータ2!X210),CSVデータ2!X210,0)+IF(ISNUMBER(CSVデータ3!X210),CSVデータ3!X210,0)+IF(ISNUMBER(CSVデータ4!X210),CSVデータ4!X210,0)","v":3},null,{"$f":"IF(ISNUMBER(CSVデータ1!Z210),CSVデータ1!Z210,0)+IF(ISNUMBER(CSVデータ2!Z210),CSVデータ2!Z210,0)+IF(ISNUMBER(CSVデータ3!Z210),CSVデータ3!Z210,0)+IF(ISNUMBER(CSVデータ4!Z210),CSVデータ4!Z210,0)","v":12},null,{"$f":"IF(ISNUMBER(CSVデータ1!AB210),CSVデータ1!AB210,0)+IF(ISNUMBER(CSVデータ2!AB210),CSVデータ2!AB210,0)+IF(ISNUMBER(CSVデータ3!AB210),CSVデータ3!AB210,0)+IF(ISNUMBER(CSVデータ4!AB210),CSVデータ4!AB210,0)","v":0},null,{"$f":"IF(ISNUMBER(CSVデータ1!AD210),CSVデータ1!AD210,0)+IF(ISNUMBER(CSVデータ2!AD210),CSVデータ2!AD210,0)+IF(ISNUMBER(CSVデータ3!AD210),CSVデータ3!AD210,0)+IF(ISNUMBER(CSVデータ4!AD210),CSVデータ4!AD210,0)","v":4},null,{"$f":"IF(ISNUMBER(CSVデータ1!AF210),CSVデータ1!AF210,0)+IF(ISNUMBER(CSVデータ2!AF210),CSVデータ2!AF210,0)+IF(ISNUMBER(CSVデータ3!AF210),CSVデータ3!AF210,0)+IF(ISNUMBER(CSVデータ4!AF210),CSVデータ4!AF210,0)","v":1},null,{"$f":"IF(ISNUMBER(CSVデータ1!AH210),CSVデータ1!AH210,0)+IF(ISNUMBER(CSVデータ2!AH210),CSVデータ2!AH210,0)+IF(ISNUMBER(CSVデータ3!AH210),CSVデータ3!AH210,0)+IF(ISNUMBER(CSVデータ4!AH210),CSVデータ4!AH210,0)","v":0},null,{"$f":"IF(ISNUMBER(CSVデータ1!AJ210),CSVデータ1!AJ210,0)+IF(ISNUMBER(CSVデータ2!AJ210),CSVデータ2!AJ210,0)+IF(ISNUMBER(CSVデータ3!AJ210),CSVデータ3!AJ210,0)+IF(ISNUMBER(CSVデータ4!AJ210),CSVデータ4!AJ210,0)","v":0},null,{"$f":"IF(ISNUMBER(CSVデータ1!AL210),CSVデータ1!AL210,0)+IF(ISNUMBER(CSVデータ2!AL210),CSVデータ2!AL210,0)+IF(ISNUMBER(CSVデータ3!AL210),CSVデータ3!AL210,0)+IF(ISNUMBER(CSVデータ4!AL210),CSVデータ4!AL210,0)","v":3},null,{"$f":"IF(ISNUMBER(CSVデータ1!AN210),CSVデータ1!AN210,0)+IF(ISNUMBER(CSVデータ2!AN210),CSVデータ2!AN210,0)+IF(ISNUMBER(CSVデータ3!AN210),CSVデータ3!AN210,0)+IF(ISNUMBER(CSVデータ4!AN210),CSVデータ4!AN210,0)","v":0}]
[{"$f":"CSVデータ1!A211","v":"明細部"},{"$f":"CSVデータ1!B211","v":"保険者（地区）"},{"$f":"CSVデータ1!C211","v":72},{"$f":"CSVデータ1!D211","v":"女"},{"$f":"IF(ISNUMBER(CSVデータ1!E211),CSVデータ1!E211,0)+IF(ISNUMBER(CSVデータ2!E211),CSVデータ2!E211,0)+IF(ISNUMBER(CSVデータ3!E211),CSVデータ3!E211,0)+IF(ISNUMBER(CSVデータ4!E211),CSVデータ4!E211,0)","v":20},{"$f":"IF(ISNUMBER(CSVデータ1!F211),CSVデータ1!F211,0)+IF(ISNUMBER(CSVデータ2!F211),CSVデータ2!F211,0)+IF(ISNUMBER(CSVデータ3!F211),CSVデータ3!F211,0)+IF(ISNUMBER(CSVデータ4!F211),CSVデータ4!F211,0)","v":3},null,{"$f":"IF(ISNUMBER(CSVデータ1!H211),CSVデータ1!H211,0)+IF(ISNUMBER(CSVデータ2!H211),CSVデータ2!H211,0)+IF(ISNUMBER(CSVデータ3!H211),CSVデータ3!H211,0)+IF(ISNUMBER(CSVデータ4!H211),CSVデータ4!H211,0)","v":2},null,{"$f":"IF(ISNUMBER(CSVデータ1!J211),CSVデータ1!J211,0)+IF(ISNUMBER(CSVデータ2!J211),CSVデータ2!J211,0)+IF(ISNUMBER(CSVデータ3!J211),CSVデータ3!J211,0)+IF(ISNUMBER(CSVデータ4!J211),CSVデータ4!J211,0)","v":2},null,{"$f":"IF(ISNUMBER(CSVデータ1!L211),CSVデータ1!L211,0)+IF(ISNUMBER(CSVデータ2!L211),CSVデータ2!L211,0)+IF(ISNUMBER(CSVデータ3!L211),CSVデータ3!L211,0)+IF(ISNUMBER(CSVデータ4!L211),CSVデータ4!L211,0)","v":0},null,{"$f":"IF(ISNUMBER(CSVデータ1!N211),CSVデータ1!N211,0)+IF(ISNUMBER(CSVデータ2!N211),CSVデータ2!N211,0)+IF(ISNUMBER(CSVデータ3!N211),CSVデータ3!N211,0)+IF(ISNUMBER(CSVデータ4!N211),CSVデータ4!N211,0)","v":0},null,{"$f":"IF(ISNUMBER(CSVデータ1!P211),CSVデータ1!P211,0)+IF(ISNUMBER(CSVデータ2!P211),CSVデータ2!P211,0)+IF(ISNUMBER(CSVデータ3!P211),CSVデータ3!P211,0)+IF(ISNUMBER(CSVデータ4!P211),CSVデータ4!P211,0)","v":4},null,{"$f":"IF(ISNUMBER(CSVデータ1!R211),CSVデータ1!R211,0)+IF(ISNUMBER(CSVデータ2!R211),CSVデータ2!R211,0)+IF(ISNUMBER(CSVデータ3!R211),CSVデータ3!R211,0)+IF(ISNUMBER(CSVデータ4!R211),CSVデータ4!R211,0)","v":13},null,{"$f":"IF(ISNUMBER(CSVデータ1!T211),CSVデータ1!T211,0)+IF(ISNUMBER(CSVデータ2!T211),CSVデータ2!T211,0)+IF(ISNUMBER(CSVデータ3!T211),CSVデータ3!T211,0)+IF(ISNUMBER(CSVデータ4!T211),CSVデータ4!T211,0)","v":0},null,{"$f":"IF(ISNUMBER(CSVデータ1!V211),CSVデータ1!V211,0)+IF(ISNUMBER(CSVデータ2!V211),CSVデータ2!V211,0)+IF(ISNUMBER(CSVデータ3!V211),CSVデータ3!V211,0)+IF(ISNUMBER(CSVデータ4!V211),CSVデータ4!V211,0)","v":11},null,{"$f":"IF(ISNUMBER(CSVデータ1!X211),CSVデータ1!X211,0)+IF(ISNUMBER(CSVデータ2!X211),CSVデータ2!X211,0)+IF(ISNUMBER(CSVデータ3!X211),CSVデータ3!X211,0)+IF(ISNUMBER(CSVデータ4!X211),CSVデータ4!X211,0)","v":3},null,{"$f":"IF(ISNUMBER(CSVデータ1!Z211),CSVデータ1!Z211,0)+IF(ISNUMBER(CSVデータ2!Z211),CSVデータ2!Z211,0)+IF(ISNUMBER(CSVデータ3!Z211),CSVデータ3!Z211,0)+IF(ISNUMBER(CSVデータ4!Z211),CSVデータ4!Z211,0)","v":11},null,{"$f":"IF(ISNUMBER(CSVデータ1!AB211),CSVデータ1!AB211,0)+IF(ISNUMBER(CSVデータ2!AB211),CSVデータ2!AB211,0)+IF(ISNUMBER(CSVデータ3!AB211),CSVデータ3!AB211,0)+IF(ISNUMBER(CSVデータ4!AB211),CSVデータ4!AB211,0)","v":0},null,{"$f":"IF(ISNUMBER(CSVデータ1!AD211),CSVデータ1!AD211,0)+IF(ISNUMBER(CSVデータ2!AD211),CSVデータ2!AD211,0)+IF(ISNUMBER(CSVデータ3!AD211),CSVデータ3!AD211,0)+IF(ISNUMBER(CSVデータ4!AD211),CSVデータ4!AD211,0)","v":11},null,{"$f":"IF(ISNUMBER(CSVデータ1!AF211),CSVデータ1!AF211,0)+IF(ISNUMBER(CSVデータ2!AF211),CSVデータ2!AF211,0)+IF(ISNUMBER(CSVデータ3!AF211),CSVデータ3!AF211,0)+IF(ISNUMBER(CSVデータ4!AF211),CSVデータ4!AF211,0)","v":1},null,{"$f":"IF(ISNUMBER(CSVデータ1!AH211),CSVデータ1!AH211,0)+IF(ISNUMBER(CSVデータ2!AH211),CSVデータ2!AH211,0)+IF(ISNUMBER(CSVデータ3!AH211),CSVデータ3!AH211,0)+IF(ISNUMBER(CSVデータ4!AH211),CSVデータ4!AH211,0)","v":0},null,{"$f":"IF(ISNUMBER(CSVデータ1!AJ211),CSVデータ1!AJ211,0)+IF(ISNUMBER(CSVデータ2!AJ211),CSVデータ2!AJ211,0)+IF(ISNUMBER(CSVデータ3!AJ211),CSVデータ3!AJ211,0)+IF(ISNUMBER(CSVデータ4!AJ211),CSVデータ4!AJ211,0)","v":0},null,{"$f":"IF(ISNUMBER(CSVデータ1!AL211),CSVデータ1!AL211,0)+IF(ISNUMBER(CSVデータ2!AL211),CSVデータ2!AL211,0)+IF(ISNUMBER(CSVデータ3!AL211),CSVデータ3!AL211,0)+IF(ISNUMBER(CSVデータ4!AL211),CSVデータ4!AL211,0)","v":6},null,{"$f":"IF(ISNUMBER(CSVデータ1!AN211),CSVデータ1!AN211,0)+IF(ISNUMBER(CSVデータ2!AN211),CSVデータ2!AN211,0)+IF(ISNUMBER(CSVデータ3!AN211),CSVデータ3!AN211,0)+IF(ISNUMBER(CSVデータ4!AN211),CSVデータ4!AN211,0)","v":0}]
[{"$f":"CSVデータ1!A212","v":"明細部"},{"$f":"CSVデータ1!B212","v":"保険者（地区）"},{"$f":"CSVデータ1!C212","v":73},{"$f":"CSVデータ1!D212","v":"女"},{"$f":"IF(ISNUMBER(CSVデータ1!E212),CSVデータ1!E212,0)+IF(ISNUMBER(CSVデータ2!E212),CSVデータ2!E212,0)+IF(ISNUMBER(CSVデータ3!E212),CSVデータ3!E212,0)+IF(ISNUMBER(CSVデータ4!E212),CSVデータ4!E212,0)","v":23},{"$f":"IF(ISNUMBER(CSVデータ1!F212),CSVデータ1!F212,0)+IF(ISNUMBER(CSVデータ2!F212),CSVデータ2!F212,0)+IF(ISNUMBER(CSVデータ3!F212),CSVデータ3!F212,0)+IF(ISNUMBER(CSVデータ4!F212),CSVデータ4!F212,0)","v":5},null,{"$f":"IF(ISNUMBER(CSVデータ1!H212),CSVデータ1!H212,0)+IF(ISNUMBER(CSVデータ2!H212),CSVデータ2!H212,0)+IF(ISNUMBER(CSVデータ3!H212),CSVデータ3!H212,0)+IF(ISNUMBER(CSVデータ4!H212),CSVデータ4!H212,0)","v":4},null,{"$f":"IF(ISNUMBER(CSVデータ1!J212),CSVデータ1!J212,0)+IF(ISNUMBER(CSVデータ2!J212),CSVデータ2!J212,0)+IF(ISNUMBER(CSVデータ3!J212),CSVデータ3!J212,0)+IF(ISNUMBER(CSVデータ4!J212),CSVデータ4!J212,0)","v":3},null,{"$f":"IF(ISNUMBER(CSVデータ1!L212),CSVデータ1!L212,0)+IF(ISNUMBER(CSVデータ2!L212),CSVデータ2!L212,0)+IF(ISNUMBER(CSVデータ3!L212),CSVデータ3!L212,0)+IF(ISNUMBER(CSVデータ4!L212),CSVデータ4!L212,0)","v":2},null,{"$f":"IF(ISNUMBER(CSVデータ1!N212),CSVデータ1!N212,0)+IF(ISNUMBER(CSVデータ2!N212),CSVデータ2!N212,0)+IF(ISNUMBER(CSVデータ3!N212),CSVデータ3!N212,0)+IF(ISNUMBER(CSVデータ4!N212),CSVデータ4!N212,0)","v":0},null,{"$f":"IF(ISNUMBER(CSVデータ1!P212),CSVデータ1!P212,0)+IF(ISNUMBER(CSVデータ2!P212),CSVデータ2!P212,0)+IF(ISNUMBER(CSVデータ3!P212),CSVデータ3!P212,0)+IF(ISNUMBER(CSVデータ4!P212),CSVデータ4!P212,0)","v":9},null,{"$f":"IF(ISNUMBER(CSVデータ1!R212),CSVデータ1!R212,0)+IF(ISNUMBER(CSVデータ2!R212),CSVデータ2!R212,0)+IF(ISNUMBER(CSVデータ3!R212),CSVデータ3!R212,0)+IF(ISNUMBER(CSVデータ4!R212),CSVデータ4!R212,0)","v":12},null,{"$f":"IF(ISNUMBER(CSVデータ1!T212),CSVデータ1!T212,0)+IF(ISNUMBER(CSVデータ2!T212),CSVデータ2!T212,0)+IF(ISNUMBER(CSVデータ3!T212),CSVデータ3!T212,0)+IF(ISNUMBER(CSVデータ4!T212),CSVデータ4!T212,0)","v":0},null,{"$f":"IF(ISNUMBER(CSVデータ1!V212),CSVデータ1!V212,0)+IF(ISNUMBER(CSVデータ2!V212),CSVデータ2!V212,0)+IF(ISNUMBER(CSVデータ3!V212),CSVデータ3!V212,0)+IF(ISNUMBER(CSVデータ4!V212),CSVデータ4!V212,0)","v":15},null,{"$f":"IF(ISNUMBER(CSVデータ1!X212),CSVデータ1!X212,0)+IF(ISNUMBER(CSVデータ2!X212),CSVデータ2!X212,0)+IF(ISNUMBER(CSVデータ3!X212),CSVデータ3!X212,0)+IF(ISNUMBER(CSVデータ4!X212),CSVデータ4!X212,0)","v":4},null,{"$f":"IF(ISNUMBER(CSVデータ1!Z212),CSVデータ1!Z212,0)+IF(ISNUMBER(CSVデータ2!Z212),CSVデータ2!Z212,0)+IF(ISNUMBER(CSVデータ3!Z212),CSVデータ3!Z212,0)+IF(ISNUMBER(CSVデータ4!Z212),CSVデータ4!Z212,0)","v":15},null,{"$f":"IF(ISNUMBER(CSVデータ1!AB212),CSVデータ1!AB212,0)+IF(ISNUMBER(CSVデータ2!AB212),CSVデータ2!AB212,0)+IF(ISNUMBER(CSVデータ3!AB212),CSVデータ3!AB212,0)+IF(ISNUMBER(CSVデータ4!AB212),CSVデータ4!AB212,0)","v":0},null,{"$f":"IF(ISNUMBER(CSVデータ1!AD212),CSVデータ1!AD212,0)+IF(ISNUMBER(CSVデータ2!AD212),CSVデータ2!AD212,0)+IF(ISNUMBER(CSVデータ3!AD212),CSVデータ3!AD212,0)+IF(ISNUMBER(CSVデータ4!AD212),CSVデータ4!AD212,0)","v":6},null,{"$f":"IF(ISNUMBER(CSVデータ1!AF212),CSVデータ1!AF212,0)+IF(ISNUMBER(CSVデータ2!AF212),CSVデータ2!AF212,0)+IF(ISNUMBER(CSVデータ3!AF212),CSVデータ3!AF212,0)+IF(ISNUMBER(CSVデータ4!AF212),CSVデータ4!AF212,0)","v":0},null,{"$f":"IF(ISNUMBER(CSVデータ1!AH212),CSVデータ1!AH212,0)+IF(ISNUMBER(CSVデータ2!AH212),CSVデータ2!AH212,0)+IF(ISNUMBER(CSVデータ3!AH212),CSVデータ3!AH212,0)+IF(ISNUMBER(CSVデータ4!AH212),CSVデータ4!AH212,0)","v":0},null,{"$f":"IF(ISNUMBER(CSVデータ1!AJ212),CSVデータ1!AJ212,0)+IF(ISNUMBER(CSVデータ2!AJ212),CSVデータ2!AJ212,0)+IF(ISNUMBER(CSVデータ3!AJ212),CSVデータ3!AJ212,0)+IF(ISNUMBER(CSVデータ4!AJ212),CSVデータ4!AJ212,0)","v":0},null,{"$f":"IF(ISNUMBER(CSVデータ1!AL212),CSVデータ1!AL212,0)+IF(ISNUMBER(CSVデータ2!AL212),CSVデータ2!AL212,0)+IF(ISNUMBER(CSVデータ3!AL212),CSVデータ3!AL212,0)+IF(ISNUMBER(CSVデータ4!AL212),CSVデータ4!AL212,0)","v":5},null,{"$f":"IF(ISNUMBER(CSVデータ1!AN212),CSVデータ1!AN212,0)+IF(ISNUMBER(CSVデータ2!AN212),CSVデータ2!AN212,0)+IF(ISNUMBER(CSVデータ3!AN212),CSVデータ3!AN212,0)+IF(ISNUMBER(CSVデータ4!AN212),CSVデータ4!AN212,0)","v":0}]
[{"$f":"CSVデータ1!A213","v":"明細部"},{"$f":"CSVデータ1!B213","v":"保険者（地区）"},{"$f":"CSVデータ1!C213","v":74},{"$f":"CSVデータ1!D213","v":"女"},{"$f":"IF(ISNUMBER(CSVデータ1!E213),CSVデータ1!E213,0)+IF(ISNUMBER(CSVデータ2!E213),CSVデータ2!E213,0)+IF(ISNUMBER(CSVデータ3!E213),CSVデータ3!E213,0)+IF(ISNUMBER(CSVデータ4!E213),CSVデータ4!E213,0)","v":33},{"$f":"IF(ISNUMBER(CSVデータ1!F213),CSVデータ1!F213,0)+IF(ISNUMBER(CSVデータ2!F213),CSVデータ2!F213,0)+IF(ISNUMBER(CSVデータ3!F213),CSVデータ3!F213,0)+IF(ISNUMBER(CSVデータ4!F213),CSVデータ4!F213,0)","v":7},null,{"$f":"IF(ISNUMBER(CSVデータ1!H213),CSVデータ1!H213,0)+IF(ISNUMBER(CSVデータ2!H213),CSVデータ2!H213,0)+IF(ISNUMBER(CSVデータ3!H213),CSVデータ3!H213,0)+IF(ISNUMBER(CSVデータ4!H213),CSVデータ4!H213,0)","v":9},null,{"$f":"IF(ISNUMBER(CSVデータ1!J213),CSVデータ1!J213,0)+IF(ISNUMBER(CSVデータ2!J213),CSVデータ2!J213,0)+IF(ISNUMBER(CSVデータ3!J213),CSVデータ3!J213,0)+IF(ISNUMBER(CSVデータ4!J213),CSVデータ4!J213,0)","v":3},null,{"$f":"IF(ISNUMBER(CSVデータ1!L213),CSVデータ1!L213,0)+IF(ISNUMBER(CSVデータ2!L213),CSVデータ2!L213,0)+IF(ISNUMBER(CSVデータ3!L213),CSVデータ3!L213,0)+IF(ISNUMBER(CSVデータ4!L213),CSVデータ4!L213,0)","v":0},null,{"$f":"IF(ISNUMBER(CSVデータ1!N213),CSVデータ1!N213,0)+IF(ISNUMBER(CSVデータ2!N213),CSVデータ2!N213,0)+IF(ISNUMBER(CSVデータ3!N213),CSVデータ3!N213,0)+IF(ISNUMBER(CSVデータ4!N213),CSVデータ4!N213,0)","v":0},null,{"$f":"IF(ISNUMBER(CSVデータ1!P213),CSVデータ1!P213,0)+IF(ISNUMBER(CSVデータ2!P213),CSVデータ2!P213,0)+IF(ISNUMBER(CSVデータ3!P213),CSVデータ3!P213,0)+IF(ISNUMBER(CSVデータ4!P213),CSVデータ4!P213,0)","v":6},null,{"$f":"IF(ISNUMBER(CSVデータ1!R213),CSVデータ1!R213,0)+IF(ISNUMBER(CSVデータ2!R213),CSVデータ2!R213,0)+IF(ISNUMBER(CSVデータ3!R213),CSVデータ3!R213,0)+IF(ISNUMBER(CSVデータ4!R213),CSVデータ4!R213,0)","v":17},null,{"$f":"IF(ISNUMBER(CSVデータ1!T213),CSVデータ1!T213,0)+IF(ISNUMBER(CSVデータ2!T213),CSVデータ2!T213,0)+IF(ISNUMBER(CSVデータ3!T213),CSVデータ3!T213,0)+IF(ISNUMBER(CSVデータ4!T213),CSVデータ4!T213,0)","v":0},null,{"$f":"IF(ISNUMBER(CSVデータ1!V213),CSVデータ1!V213,0)+IF(ISNUMBER(CSVデータ2!V213),CSVデータ2!V213,0)+IF(ISNUMBER(CSVデータ3!V213),CSVデータ3!V213,0)+IF(ISNUMBER(CSVデータ4!V213),CSVデータ4!V213,0)","v":11},null,{"$f":"IF(ISNUMBER(CSVデータ1!X213),CSVデータ1!X213,0)+IF(ISNUMBER(CSVデータ2!X213),CSVデータ2!X213,0)+IF(ISNUMBER(CSVデータ3!X213),CSVデータ3!X213,0)+IF(ISNUMBER(CSVデータ4!X213),CSVデータ4!X213,0)","v":3},null,{"$f":"IF(ISNUMBER(CSVデータ1!Z213),CSVデータ1!Z213,0)+IF(ISNUMBER(CSVデータ2!Z213),CSVデータ2!Z213,0)+IF(ISNUMBER(CSVデータ3!Z213),CSVデータ3!Z213,0)+IF(ISNUMBER(CSVデータ4!Z213),CSVデータ4!Z213,0)","v":17},null,{"$f":"IF(ISNUMBER(CSVデータ1!AB213),CSVデータ1!AB213,0)+IF(ISNUMBER(CSVデータ2!AB213),CSVデータ2!AB213,0)+IF(ISNUMBER(CSVデータ3!AB213),CSVデータ3!AB213,0)+IF(ISNUMBER(CSVデータ4!AB213),CSVデータ4!AB213,0)","v":0},null,{"$f":"IF(ISNUMBER(CSVデータ1!AD213),CSVデータ1!AD213,0)+IF(ISNUMBER(CSVデータ2!AD213),CSVデータ2!AD213,0)+IF(ISNUMBER(CSVデータ3!AD213),CSVデータ3!AD213,0)+IF(ISNUMBER(CSVデータ4!AD213),CSVデータ4!AD213,0)","v":11},null,{"$f":"IF(ISNUMBER(CSVデータ1!AF213),CSVデータ1!AF213,0)+IF(ISNUMBER(CSVデータ2!AF213),CSVデータ2!AF213,0)+IF(ISNUMBER(CSVデータ3!AF213),CSVデータ3!AF213,0)+IF(ISNUMBER(CSVデータ4!AF213),CSVデータ4!AF213,0)","v":1},null,{"$f":"IF(ISNUMBER(CSVデータ1!AH213),CSVデータ1!AH213,0)+IF(ISNUMBER(CSVデータ2!AH213),CSVデータ2!AH213,0)+IF(ISNUMBER(CSVデータ3!AH213),CSVデータ3!AH213,0)+IF(ISNUMBER(CSVデータ4!AH213),CSVデータ4!AH213,0)","v":0},null,{"$f":"IF(ISNUMBER(CSVデータ1!AJ213),CSVデータ1!AJ213,0)+IF(ISNUMBER(CSVデータ2!AJ213),CSVデータ2!AJ213,0)+IF(ISNUMBER(CSVデータ3!AJ213),CSVデータ3!AJ213,0)+IF(ISNUMBER(CSVデータ4!AJ213),CSVデータ4!AJ213,0)","v":0},null,{"$f":"IF(ISNUMBER(CSVデータ1!AL213),CSVデータ1!AL213,0)+IF(ISNUMBER(CSVデータ2!AL213),CSVデータ2!AL213,0)+IF(ISNUMBER(CSVデータ3!AL213),CSVデータ3!AL213,0)+IF(ISNUMBER(CSVデータ4!AL213),CSVデータ4!AL213,0)","v":7},null,{"$f":"IF(ISNUMBER(CSVデータ1!AN213),CSVデータ1!AN213,0)+IF(ISNUMBER(CSVデータ2!AN213),CSVデータ2!AN213,0)+IF(ISNUMBER(CSVデータ3!AN213),CSVデータ3!AN213,0)+IF(ISNUMBER(CSVデータ4!AN213),CSVデータ4!AN213,0)","v":1}]

{"sheet":"出力票","index":6,"n_rows":148,"n_cols":33,"rows_kept":148,"cut":false,"hidden":false,"merged":[[5,29,5,32],[6,29,6,32],[7,29,7,32],[53,29,53,32],[54,29,54,32],[55,29,55,32],[57,3,57,29],[71,15,71,19],[71,20,71,24],[71,25,71,29],[58,3,58,9],[58,10,58,14],[58,15,58,19],[58,20,58,24],[58,25,58,29],[71,3,71,9],[5,0,5,1],[6,0,6,1],[7,0,7,1],[22,0,24,1],[12,0,14,0],[15,0,17,0],[18,0,20,0],[132,18,132,22],[132,23,132,27],[119,13,119,17],[119,18,119,22],[10,3,10,7],[10,8,10,12],[9,0,11,1],[9,2,11,2],[53,0,53,1],[10,13,10,19],[10,20,10,24],[10,25,10,29],[9,3,9,29],[41,0,43,0],[44,0,46,0],[54,0,54,1],[25,0,27,0],[28,0,30,0],[31,0,33,0],[23,13,23,19],[23,20,23,24],[23,25,23,29],[35,0,37,1],[35,2,37,2],[35,3,35,29],[36,3,36,7],[36,8,36,12],[36,13,36,19],[36,20,36,24],[36,25,36,29],[38,0,40,0],[51,0,51,29],[22,2,24,2],[22,3,22,29],[23,3,23,7],[23,8,23,12],[60,0,62,0],[63,0,65,0],[66,0,68,0],[70,0,72,1],[70,2,72,2],[92,0,94,0],[102,0,102,1],[103,0,103,1],[101,0,101,1],[83,0,85,1],[83,2,85,2],[86,0,88,0],[73,0,75,0],[76,0,78,0],[55,0,55,1],[57,0,59,1],[57,2,59,2],[147,0,147,29],[121,0,123,0],[124,0,126,0],[127,0,129,0],[114,0,116,0],[118,0,120,1],[108,0,110,0],[111,0,113,0],[105,0,107,1],[105,2,107,2],[134,0,136,0],[137,0,139,0],[140,0,142,0],[118,3,118,12],[118,13,118,32],[119,23,119,27],[119,28,119,32],[131,0,133,1],[89,0,91,0],[131,2,133,2],[131,3,131,12],[131,13,131,32],[132,3,132,7],[132,8,132,12],[132,13,132,17],[79,0,81,0],[119,3,119,7],[119,8,119,12],[99,0,99,29],[105,3,105,12],[118,2,120,2],[83,3,83,29],[84,3,84,9],[84,10,84,14],[84,15,84,19],[84,20,84,24],[84,25,84,29],[132,28,132,32],[103,29,103,32],[101,29,101,32],[102,29,102,32],[71,10,71,14],[70,3,70,29],[106,3,106,7],[106,8,106,12],[105,13,105,32],[106,13,106,17],[106,18,106,22],[106,23,106,27],[106,28,106,32]]}
[null,null,"集計対象年齢（最大範囲40～74歳）"]
[null,null,"群１下限（A歳）",null,40,"必ず「計算開始」をクリックしてから結果をご覧ください。"]
[null,null,"群１上限（B歳）",null,64,"　A歳～B歳、B+1歳～C歳の２群に分けて（およびA～C歳全体について）集計します。"]
[null,null,"群２上限（C歳）",null,74]
[null,null,null,null,null,null,null,null,null,null,null,null,null,null,null,"厚生労働省様式（様式５－２）【補足】"]
["保険者番号：",null,{"$f":"CSVデータ!B2","v":999999},null,null,null,null,null,null,null,null,null,null,null,null,"健診有所見者状況（男女別・年齢調整）",null,null,null,null,null,null,null,null,null,null,null,"作成年月 ：",null,{"$f":"CSVデータ!E$2","v":"R06年度"}]
["保険者名 ：",null,{"$f":"CSVデータ!C2","v":"見本データ"},null,null,null,null,null,null,null,null,null,null,null,null,"第４期特定健診用",null,null,null,null,null,null,null,null,null,null,null,"印刷日 ：",null,{"$f":"TODAY()","v":"2025-07-02"}]
["地区 ：",null,{"$f":"IF(CSVデータ!D2=\"\",\"\",CSVデータ!D2)","v":0},null,null,null,null,null,null,null,null,null,null,null,null,null,null,null,null,null,null,null,null,null,null,null,null,"ページ ：",null,"1/3"]
[]
["男性",null,{"$f":"\"受診者\"&IF(CSVデータ2!E$2<>\"\",CHAR(10)&\"延べ人数\",\"\")&\"※\"","v":"受診者※"},"摂取エネルギーの過剰"]
[null,null,null,"BMI",null,null,null,null,"腹囲",null,null,null,null,"中性脂肪(空腹時・随時)",null,null,null,null,null,null,"ALT(GPT)",null,null,null,null,"HDLコレステロール"]
[null,null,null,"25以上","割合(%)","年齢\n調整(%)","標準化\n比(全国)","標準化\n比(県)","85以上","割合(%)","年齢\n調整(%)","標準化\n比(全国)","標準化\n比(県)","空腹時\n150以上","随時\n175以上","空腹時\n＋随時","割合(%)","年齢\n調整(%)","標準化\n比(全国)","標準化\n比(県)","31以上","割合(%)","年齢\n調整(%)","標準化\n比(全国)","標準化\n比(県)","40未満","割合(%)","年齢\n調整(%)","標準化\n比(全国)","標準化\n比(県)"]
[{"$f":"E2&\"～\"&E3&\"歳\"","v":"40～64歳"},"全国",77585,29989,0.38653090159180253,0.38653090159180253,"100(基準)","-",40737,0.52506283431075595,0.52506283431075595,"100(基準)","-",17012,4577,21589,0.27826255075078948,0.27826255075078948,"100(基準)","-",21786,0.28080170135979893,0.28080170135979893,"100(基準)","-",5443,7.0155313527099306E-2,7.0155313527099306E-2,"100(基準)","-"]
[null,"県",4040,1592,0.39405940594059408,0.39335331303229376,101.8,"100(基準)",2234,0.55297029702970302,0.55296485813134377,"*105.3","100(基準)",998,105,1103,0.27301980198019804,0.2727015282623938,97.9,"100(基準)",1110,0.27475247524752477,0.27350297147002184,97.5,"100(基準)",295,7.3019801980198015E-2,7.2704976822337175E-2,103.8,"100(基準)"]
[null,"地域（地区）",154,56,0.36363636363636365,0.3548852171332853,93.9,92.6,88,0.5714285714285714,0.56931273517025294,108.4,103.2,26,2,28,0.18181818181818182,0.17083935341880602,"*65.3","*66.9",40,0.25974025974025972,0.26189070233940726,93.1,96,4,2.5974025974025976E-2,2.5768993486618687E-2,37,"*35.8"]
[{"$f":"E3+1&\"～\"&E4&\"歳\"","v":"65～74歳"},"全国",128168,41583,0.32444135821733971,0.32444135821733971,"100(基準)","-",70409,0.54934929155483425,0.54934929155483425,"100(基準)","-",20896,7926,28822,0.22487672429935709,0.22487672429935709,"100(基準)","-",20646,0.16108545034642033,0.16108545034642033,"100(基準)","-",8137,6.3486985831096687E-2,6.3486985831096687E-2,"100(基準)","-"]
[null,"県",6588,2016,0.30601092896174864,0.30634867351128892,"*94.4","100(基準)",3699,0.56147540983606559,0.56140196791979746,102.2,"100(基準)",1230,208,1438,0.21827565270188221,0.218880627638711,97.3,"100(基準)",948,0.14389799635701275,0.14434044777433261,"*89.6","100(基準)",418,6.3448694596235575E-2,6.3454936625488331E-2,99.8,"100(基準)"]
[null,"地域（地区）",184,62,0.33695652173913043,0.33807309400242419,103.7,109.9,97,0.52717391304347827,0.52924725075914836,95.9,93.9,33,4,37,0.20108695652173914,0.19966529852851195,89.2,91.6,29,0.15760869565217392,0.15691758308028392,97.5,108.8,8,4.3478260869565216E-2,4.3511467479625997E-2,68.599999999999994,68.5]
["総\n数","全国",205753,71572,0.347853980257882,0.347853980257882,"100(基準)","-",111146,0.54019139453616716,0.54019139453616716,"100(基準)","-",37908,12503,50411,0.24500736319762045,0.24500736319762045,"100(基準)","-",42432,0.20622785572992861,0.20622785572992861,"100(基準)","-",13580,6.6001467779327638E-2,6.6001467779327638E-2,"100(基準)","-"]
[null,"県",10628,3608,0.3394806172374859,0.33915623868524586,97.6,"100(基準)",5933,0.55824237862250659,0.55822051655365856,"*103.4","100(基準)",2228,313,2541,0.23908543470079036,0.23917532358427887,97.6,"100(基準)",2058,0.19363944298080543,0.19304483799430536,"*93.7","100(基準)",713,6.7086940158073011E-2,6.6942926441785136E-2,101.4,"100(基準)"]
[null,"地域（地区）",338,118,0.34911242603550297,0.34441258150981341,98.8,100.9,185,0.5473372781065089,0.54435507717254472,101.5,98.1,59,6,65,0.19230769230769232,0.18879565895418479,"*77.0",79,69,0.20414201183431951,0.19650067279328484,94.9,101,12,3.5502958579881658E-2,3.6821164812119465E-2,"*53.4","*52.5"]
[]
["女性",null,{"$f":"C$10","v":"受診者※"},"摂取エネルギーの過剰"]
[null,null,null,"BMI",null,null,null,null,"腹囲",null,null,null,null,"中性脂肪(空腹時・随時)",null,null,null,null,null,null,"ALT(GPT)",null,null,null,null,"HDLコレステロール"]
[null,null,null,"25以上","割合(%)","年齢\n調整(%)","標準化\n比(全国)","標準化\n比(県)","90以上","割合(%)","年齢\n調整(%)","標準化\n比(全国)","標準化\n比(県)","空腹時\n150以上","随時\n175以上","空腹時\n＋随時","割合(%)","年齢\n調整(%)","標準化\n比(全国)","標準化\n比(県)","31以上","割合(%)","年齢\n調整(%)","標準化\n比(全国)","標準化\n比(県)","40未満","割合(%)","年齢\n調整(%)","標準化\n比(全国)","標準化\n比(県)"]
[{"$f":"+A13","v":"40～64歳"},"全国",64493,13468,0.2088288651481556,0.2088288651481556,"100(基準)","-",10621,0.16468453940737754,0.16468453940737754,"100(基準)","-",5820,1831,7651,0.11863302994123394,0.11863302994123394,"100(基準)","-",6030,9.3498519219140055E-2,9.3498519219140055E-2,"100(基準)","-",755,1.1706696850821019E-2,1.1706696850821019E-2,"100(基準)","-"]
[null,"県",3251,642,0.19747769916948632,0.19785421106786791,94.5,"100(基準)",512,0.15749000307597663,0.15722265404312818,95.2,"100(基準)",326,38,364,0.11196554906182712,0.11110498742850962,93.8,"100(基準)",284,8.7357736081205783E-2,8.6910728325024653E-2,92.8,"100(基準)",26,7.9975392187019382E-3,8.0209131491981514E-3,68.599999999999994,"100(基準)"]
[null,"地域（地区）",148,30,0.20270270270270271,0.20044276984410023,97,103.1,21,0.14189189189189189,0.1335044191625526,84.6,89.3,15,0,15,0.10135135135135136,0.10205147156366669,83.4,88.6,4,2.7027027027027029E-2,2.3860267037045912E-2,"*28.1","*30.3",0,0,0,0,0]
[{"$f":"+A16","v":"65～74歳"},"全国",136375,28360,0.20795600366636113,0.20795600366636113,"100(基準)","-",25101,0.18405866177818514,0.18405866177818514,"100(基準)","-",12307,5474,17781,0.13038313473877178,0.13038313473877178,"100(基準)","-",9838,7.2139321723189737E-2,7.2139321723189737E-2,"100(基準)","-",1433,1.0507791017415216E-2,1.0507791017415216E-2,"100(基準)","-"]
[null,"県",6842,1202,0.17567962584039754,0.17563784130790591,"*84.5","100(基準)",1207,0.17641040631394328,0.17622084694982737,95.8,"100(基準)",742,119,861,0.1258403975445776,0.12586939685750656,96.5,"100(基準)",453,6.6208710903244664E-2,6.6274351856625585E-2,91.9,"100(基準)",64,9.3539900613855594E-3,9.3370089720719081E-3,89,"100(基準)"]
[null,"地域（地区）",195,29,0.14871794871794872,0.14986485792850596,71.599999999999994,84.7,29,0.14871794871794872,0.15022851206843874,80.900000000000006,84.6,16,1,17,8.7179487179487175E-2,8.8466263366941633E-2,66.900000000000006,69.2,12,6.1538461538461542E-2,6.1762248701497095E-2,85,92.7,0,0,0,0,0]
["総\n数","全国",200868,41828,0.20823625465479817,0.20823625465479817,"100(基準)","-",35722,0.17783818228886633,0.17783818228886633,"100(基準)","-",18127,7305,25432,0.1266105103849294,0.1266105103849294,"100(基準)","-",15868,7.8997152358762965E-2,7.8997152358762965E-2,"100(基準)","-",2188,1.0892725571021765E-2,1.0892725571021765E-2,"100(基準)","-"]
[null,"県",10093,1844,0.18270088179926683,0.1827708855704526,"*87.7","100(基準)",1719,0.17031606063608443,0.17012106771604324,95.6,"100(基準)",1068,157,1225,0.12137124739918756,0.12112896504505113,95.7,"100(基準)",737,7.3020905578123449E-2,7.2900105224889628E-2,"*92.3","100(基準)",90,8.9170712374913308E-3,8.9144480469638913E-3,82,"100(基準)"]
[null,"地域（地区）",343,59,0.17201166180758018,0.16610398647646987,82.6,93.2,50,0.1457725947521866,0.14485888164557739,82.4,86.5,31,1,32,9.3294460641399415E-2,9.2828087212608393E-2,73.7,77.099999999999994,16,4.6647230320699708E-2,4.9593000720308207E-2,"*56.5",61.2,0,0,0,0,0]
[]
["総数",null,{"$f":"C$10","v":"受診者※"},"摂取エネルギーの過剰"]
[null,null,null,"BMI",null,null,null,null,"腹囲",null,null,null,null,"中性脂肪(空腹時・随時)",null,null,null,null,null,null,"ALT(GPT)",null,null,null,null,"HDLコレステロール"]
[null,null,null,"25以上","割合(%)","性年齢\n調整(%)","標準化\n比(全国)","標準化\n比(県)","85/90\n以上","割合(%)","性年齢\n調整(%)","標準化\n比(全国)","標準化\n比(県)","空腹時\n150以上","随時\n175以上","空腹時\n＋随時","割合(%)","性年齢\n調整(%)","標準化\n比(全国)","標準化\n比(県)","31以上","割合(%)","性年齢\n調整(%)","標準化\n比(全国)","標準化\n比(県)","40未満","割合(%)","性年齢\n調整(%)","標準化\n比(全国)","標準化\n比(県)"]
[{"$f":"+A26","v":"40～64歳"},"全国",142078,43457,0.30586719970720311,0.30586719970720311,"100(基準)","-",51358,0.36147749827559511,0.36147749827559511,"100(基準)","-",22832,6408,29240,0.20580244654344795,0.20580244654344795,"100(基準)","-",27816,0.19577978293613368,0.19577978293613368,"100(基準)","-",6198,4.3623924886330046E-2,4.3623924886330046E-2,"100(基準)","-"]
[null,"県",7291,2234,0.30640515704292964,0.30461104763587971,99.6,"100(基準)",2746,0.37662872034014538,0.3733268989239979,103.3,"100(基準)",1324,143,1467,0.20120696749417089,0.1993485411144913,96.9,"100(基準)",1394,0.19119462350843505,0.18880376725015455,96.5,"100(基準)",321,4.4026882457824712E-2,4.3343152201553131E-2,99.6,"100(基準)"]
[null,"地域（地区）",302,86,0.28476821192052981,0.28477966417630807,94.9,96,109,0.36092715231788081,0.37148769734395604,102.8,100.2,41,2,43,0.14238410596026491,0.1396146960863302,"*70.6","*73.2",44,0.14569536423841059,0.15384232846058582,76.900000000000006,80.2,4,1.3245033112582781E-2,1.4071758890604533E-2,"*32.0","*32.4"]
[{"$f":"+A29","v":"65～74歳"},"全国",264543,69943,0.26439180019883346,0.26439180019883346,"100(基準)","-",95510,0.36103771409562907,0.36103771409562907,"100(基準)","-",33203,13400,46603,0.17616417746831328,0.17616417746831328,"100(基準)","-",30484,0.11523268428951058,0.11523268428951058,"100(基準)","-",9570,3.6175593381794262E-2,3.6175593381794262E-2,"100(基準)","-"]
[null,"県",13430,3218,0.23961280714817573,0.23896571595151089,"*90.4","100(基準)",4906,0.36530156366344008,0.36283661040786302,100.6,"100(基準)",1972,327,2299,0.17118391660461654,0.17093225403673795,97,"100(基準)",1401,0.1043186895011169,0.10409646539423828,"*90.4","100(基準)",482,3.5889798957557707E-2,3.5556514124289416E-2,98.3,"100(基準)"]
[null,"地域（地区）",379,91,0.24010554089709762,0.24104955456051647,90.7,100.4,126,0.33245382585751981,0.33385867314059287,92,91.6,49,5,54,0.14248021108179421,0.14234089977232051,80.7,83.1,41,0.10817941952506596,0.10786389908219268,93.5,103.5,8,2.1108179419525065E-2,2.1080798826386277E-2,58.3,59.3]
["総\n数","全国",406621,113400,0.27888377629291156,0.27888377629291156,"100(基準)","-",146868,0.36119137968771903,0.36119137968771903,"100(基準)","-",56035,19808,75843,0.18652012562066397,0.18652012562066397,"100(基準)","-",58300,0.14337675624229934,0.14337675624229934,"100(基準)","-",15768,3.8778125084538179E-2,3.8778125084538179E-2,"100(基準)","-"]
[null,"県",20721,5452,0.26311471454080404,0.26190294111954637,"*94.0","100(基準)",7652,0.36928719656387238,0.36650203647241797,101.5,"100(基準)",3296,470,3766,0.18174798513585252,0.18086122778731412,96.9,"100(基準)",2795,0.13488731238839824,0.13369415964289949,"*93.3","100(基準)",803,3.8752955938419958E-2,3.8277253989523807E-2,98.8,"100(基準)"]
[null,"地域（地区）",681,177,0.25991189427312777,0.2563293519984069,92.7,98.2,235,0.34508076358296624,0.34700668197625417,96.7,95.4,90,7,97,0.14243759177679882,0.14138833321206382,"*75.9","*78.4",85,0.12481644640234948,0.1239292850047676,84.1,90,12,1.7621145374449341E-2,1.8631760591774689E-2,"*45.8","*46.5"]
["※全て健診受診者数（検査した人数とは限らない）を分母として割合等を計算しているため、必須項目以外の解釈には注意を要する。"]
["国保データベース（KDB）のCSVファイル（厚生労働省様式（様式５－２） 健診有所見者状況（男女別・年代別））より計算。"]
["年齢調整(%)は全国受診者数（男女別）を基準人口とした直接法による。従って、厳密な男女比較はできない。受診者が少ない地域では、年齢調整(%)がエラーまたは異常な値となることがあるため、標準化比で評価することが望ましい。"]
["標準化比は全国または県を基準とした間接法による。標準化比に*が付記されたものは、基準に比べて有意な差(p<0.05)があること意味する。複数年度をプールした場合には過度に有意になりやすくなる。"]
["Ver. 2.0 (2025.7.2) 平成30年度厚生労働行政推進調査事業費補助金（政策科学推進研究事業）「都道府県医療費適正化計画推進のための健診・医療等の情報活用を担う地域の保健医療人材の育成に関する研究」（研究代表：横山徹爾）"]
[null,null,null,null,null,null,null,null,null,null,null,null,null,null,null,{"$f":"P$5","v":"厚生労働省様式（様式５－２）【補足】"}]
["保険者番号：",null,{"$f":"C$6","v":999999},null,null,null,null,null,null,null,null,null,null,null,null,{"$f":"P$6","v":"健診有所見者状況（男女別・年齢調整）"},null,null,null,null,null,null,null,null,null,null,null,"作成年月 ：",null,{"$f":"AD$6","v":"R06年度"}]
["保険者名 ：",null,{"$f":"C$7","v":"見本データ"},null,null,null,null,null,null,null,null,null,null,null,null,{"$f":"P$7","v":"第４期特定健診用"},null,null,null,null,null,null,null,null,null,null,null,"印刷日 ：",null,{"$f":"AD$7","v":"2025-07-02"}]
["地区 ：",null,{"$f":"C$8","v":0},null,null,null,null,null,null,null,null,null,null,null,null,null,null,null,null,null,null,null,null,null,null,null,null,"ページ ：",null,"2/3"]
[]
["男性",null,{"$f":"C$10","v":"受診者※"},"血管を傷つける"]
[null,null,null,"血糖(空腹時・随時[食後3.5時間以上])",null,null,null,null,null,null,"HbA1c",null,null,null,null,"尿酸",null,null,null,null,"収縮期血圧",null,null,null,null,"拡張期血圧"]
[null,null,null,"空腹時\n100以上","随時\n100以上","空腹時\n＋随時","割合(%)","年齢\n調整(%)","標準化\n比(全国)","標準化\n比(県)","5.6以上","割合(%)","年齢\n調整(%)","標準化\n比(全国)","標準化\n比(県)","7.0以上","割合(%)","年齢\n調整(%)","標準化\n比(全国)","標準化\n比(県)","130以上","割合(%)","年齢\n調整(%)","標準化\n比(全国)","標準化\n比(県)","85以上","割合(%)","年齢\n調整(%)","標準化\n比(全国)","標準化\n比(県)"]
[{"$f":"+A13","v":"40～64歳"},"全国",77585,19176,1621,20797,0.2680543919572082,0.2680543919572082,"100(基準)","-",37502,0.48336663014758008,0.48336663014758008,"100(基準)","-",10924,0.14080041245086033,0.14080041245086033,"100(基準)","-",29314,0.37783076625636397,0.37783076625636397,"100(基準)","-",23834,0.30719855642198879,0.30719855642198879,"100(基準)","-"]
[null,"県",4040,1065,52,1117,0.27648514851485151,0.2778281530721069,103.6,"100(基準)",2048,0.50693069306930694,0.50842357024714635,"*105.2","100(基準)",730,0.18069306930693069,0.18067906408179302,"*128.2","100(基準)",1631,0.40371287128712874,0.40480762726942499,"*107.2","100(基準)",1310,0.32425742574257427,0.32419370871618464,105.6,"100(基準)"]
[null,"地域（地区）",154,28,0,28,0.18181818181818182,0.17636051771551262,"*67.3","*65.0",52,0.33766233766233766,0.33472545734702119,"*69.3","*65.9",20,0.12987012987012986,0.12842229048525791,92.4,72.400000000000006,48,0.31168831168831168,0.30865833587700275,81.8,76.3,31,0.20129870129870131,0.19392046988266978,"*65.1","*61.7"]
[{"$f":"+A16","v":"65～74歳"},"全国",128168,44492,4192,48684,0.37984520317083825,0.37984520317083825,"100(基準)","-",84881,0.66226359153610881,0.6622635915361087,"100(基準)","-",14036,0.10951251482429311,0.10951251482429311,"100(基準)","-",67182,0.52417140003745089,0.52417140003745089,"100(基準)","-",30894,0.24104300605455339,0.24104300605455339,"100(基準)","-"]
[null,"県",6588,2254,218,2472,0.37522768670309653,0.37512048763879458,98.7,"100(基準)",4588,0.69641772920461442,0.69548444775877916,"*105.1","100(基準)",921,0.13979963570127504,0.1402381151803874,"*127.9","100(基準)",3453,0.5241347905282332,0.52367466009183283,99.9,"100(基準)",1565,0.23755312689738919,0.23855649271695567,98.9,"100(基準)"]
[null,"地域（地区）",184,63,3,66,0.35869565217391303,0.35734663364019381,94.5,95.7,85,0.46195652173913043,0.46302535950046181,"*69.8","*66.5",22,0.11956521739130435,0.11822450051010032,108.9,85,98,0.53260869565217395,0.53330188363719278,101.7,101.8,41,0.22282608695652173,0.22161197027617441,92.1,93]
["総\n数","全国",205753,63668,5813,69481,0.3376913094827293,0.3376913094827293,"100(基準)","-",122383,0.59480542203515863,0.59480542203515863,"100(基準)","-",24960,0.12131050337054623,0.12131050337054623,"100(基準)","-",96496,0.4689895165562592,0.4689895165562592,"100(基準)","-",54728,0.26598883126855988,0.26598883126855988,"100(基準)","-"]
[null,"県",10628,3319,270,3589,0.3376928867143395,0.33843365547908627,100.2,"100(基準)",6636,0.62438840797892359,0.62494784230593026,"*105.1","100(基準)",1651,0.15534437335340609,0.15548752112108111,"*128.0","100(基準)",5084,0.47835905156191194,0.47885247649535301,102.1,"100(基準)",2875,0.27051185547610085,0.27084843209718429,101.8,"100(基準)"]
[null,"地域（地区）",338,91,3,94,0.27810650887573962,0.28910068921160037,84.3,83.9,137,0.40532544378698226,0.41464624518098803,"*69.6","*66.3",42,0.1242603550295858,0.122069866240965,100.4,78.5,146,0.43195266272189348,0.44859366721762978,94.2,91.7,72,0.21301775147928995,0.21117010523396335,"*78.1","*76.3"]
[]
["女性",null,{"$f":"C$10","v":"受診者※"},"血管を傷つける"]
[null,null,null,"血糖(空腹時・随時[食後3.5時間以上])",null,null,null,null,null,null,"HbA1c",null,null,null,null,"尿酸",null,null,null,null,"収縮期血圧",null,null,null,null,"拡張期血圧"]
[null,null,null,"空腹時\n100以上","随時\n100以上","空腹時\n＋随時","割合(%)","年齢\n調整(%)","標準化\n比(全国)","標準化\n比(県)","5.6以上","割合(%)","年齢\n調整(%)","標準化\n比(全国)","標準化\n比(県)","7.0以上","割合(%)","年齢\n調整(%)","標準化\n比(全国)","標準化\n比(県)","130以上","割合(%)","年齢\n調整(%)","標準化\n比(全国)","標準化\n比(県)","85以上","割合(%)","年齢\n調整(%)","標準化\n比(全国)","標準化\n比(県)"]
[{"$f":"+A13","v":"40～64歳"},"全国",64493,8406,776,9182,0.14237204037647497,0.14237204037647497,"100(基準)","-",29298,0.4542818600468268,0.4542818600468268,"100(基準)","-",1088,1.6870047912176514E-2,1.6870047912176514E-2,"100(基準)","-",16693,0.25883429209371561,0.25883429209371561,"100(基準)","-",9886,0.15328795373141271,0.15328795373141271,"100(基準)","-"]
[null,"県",3251,405,27,432,0.13288219009535526,0.13164481908219436,92.5,"100(基準)",1592,0.48969547831436483,0.48594688145134779,"*106.9","100(基準)",54,1.6610273761919408E-2,1.6475269144959382E-2,97.7,"100(基準)",848,0.26084281759458627,0.25881467657684032,99.9,"100(基準)",522,0.1605659796985543,0.15980274366593675,104.1,"100(基準)"]
[null,"地域（地区）",148,17,0,17,0.11486486486486487,0.10269048069894673,77.5,83.7,43,0.29054054054054052,0.26630523835724396,"*61.5","*57.8",1,6.7567567567567571E-3,6.377577270542399E-3,38.700000000000003,39.5,35,0.23648648648648649,0.23238075951238618,87.9,88.6,22,0.14864864864864866,0.14125679131726299,94.6,91.6]
[{"$f":"+A16","v":"65～74歳"},"全国",136375,30070,2926,32996,0.24195050412465627,0.24195050412465627,"100(基準)","-",90692,0.66501924839596704,0.66501924839596704,"100(基準)","-",2475,1.8148487626031166E-2,1.8148487626031166E-2,"100(基準)","-",67527,0.49515673693858847,0.49515673693858847,"100(基準)","-",22082,0.16192117323556371,0.16192117323556371,"100(基準)","-"]
[null,"県",6842,1473,148,1621,0.23691902952353114,0.23658310120791698,97.8,"100(基準)",4787,0.69964922537269802,0.69933046905805252,"*105.2","100(基準)",127,1.856182402806197E-2,1.8558562620622294E-2,102.3,"100(基準)",3416,0.49926921952645426,0.49853186010159545,100.7,"100(基準)",1122,0.16398713826366559,0.16414990887085787,101.4,"100(基準)"]
[null,"地域（地区）",195,49,0,49,0.25128205128205128,0.25195341277115796,104.1,106.5,92,0.47179487179487178,0.47375300947143301,"*71.0","*67.5",0,0,0,0,0,93,0.47692307692307695,0.47756646501680411,96.6,95.9,27,0.13846153846153847,0.13787409715857013,85.4,84.2]
["総\n数","全国",200868,38476,3702,42178,0.20997869247465997,0.20997869247465997,"100(基準)","-",119990,0.59735746858633532,0.59735746858633532,"100(基準)","-",3563,1.7738017006193121E-2,1.7738017006193121E-2,"100(基準)","-",84220,0.41928032339645938,0.41928032339645938,"100(基準)","-",31968,0.15914929207240575,0.15914929207240575,"100(基準)","-"]
[null,"県",10093,1878,175,2053,0.20340830278410779,0.20289040436653744,96.7,"100(基準)",6379,0.63202219359952438,0.63081906995257431,"*105.6","100(基準)",181,1.7933221044288121E-2,1.7889676356379464E-2,100.9,"100(基準)",4264,0.42247101951847815,0.42156549255145281,100.5,"100(基準)",1644,0.16288516793817498,0.16275415780268884,102.2,"100(基準)"]
[null,"地域（地区）",343,66,0,66,0.1924198250728863,0.20402933189151004,95.6,99.5,135,0.39358600583090381,0.40714743216460769,"*67.7","*64.1",1,2.9154518950437317E-3,2.0476586161513577E-3,16.3,16.3,128,0.37317784256559766,0.39884431064131165,94,93.8,49,0.14285714285714285,0.1389601840135026,89.3,87.4]
[]
["総数",null,{"$f":"C$10","v":"受診者※"},"血管を傷つける"]
[null,null,null,"血糖(空腹時・随時[食後3.5時間以上])",null,null,null,null,null,null,"HbA1c",null,null,null,null,"尿酸",null,null,null,null,"収縮期血圧",null,null,null,null,"拡張期血圧"]
[null,null,null,"空腹時\n100以上","随時\n100以上","空腹時\n＋随時","割合(%)","性年齢\n調整(%)","標準化\n比(全国)","標準化\n比(県)","5.6以上","割合(%)","性年齢\n調整(%)","標準化\n比(全国)","標準化\n比(県)","7.0以上","割合(%)","性年齢\n調整(%)","標準化\n比(全国)","標準化\n比(県)","130以上","割合(%)","性年齢\n調整(%)","標準化\n比(全国)","標準化\n比(県)","85以上","割合(%)","性年齢\n調整(%)","標準化\n比(全国)","標準化\n比(県)"]
[{"$f":"+A26","v":"40～64歳"},"全国",142078,27582,2397,29979,0.21100381480595165,0.21100381480595165,"100(基準)","-",66800,0.47016427596109178,0.47016427596109178,"100(基準)","-",12012,8.4545109024620285E-2,8.4545109024620285E-2,"100(基準)","-",46007,0.32381508748715493,0.32381508748715493,"100(基準)","-",33720,0.23733442193724574,0.23733442193724574,"100(基準)","-"]
[null,"県",7291,1470,79,1549,0.21245371005349062,0.21147163229470695,100.2,"100(基準)",3640,0.49924564531614318,0.4982208007085307,"*105.9","100(基準)",784,0.10752983129886161,0.10614257464035091,"*125.5","100(基準)",2479,0.34000822932382391,0.33853752655702146,"*104.6","100(基準)",1832,0.25126868742285008,0.24957225775976885,"*105.2","100(基準)"]
[null,"地域（地区）",302,45,0,45,0.1490066225165563,0.1429197197220908,"*70.8","*71.0",95,0.31456953642384106,0.30366769201172861,"*65.6","*62.0",21,6.9536423841059597E-2,7.3022934572613815E-2,86.7,69.599999999999994,83,0.27483443708609273,0.27403390610966921,84.3,81,53,0.17549668874172186,0.17001501920262937,"*74.8","*71.3"]
[{"$f":"+A29","v":"65～74歳"},"全国",264543,74562,7118,81680,0.30875887851880413,0.30875887851880413,"100(基準)","-",175573,0.66368416476716452,0.66368416476716452,"100(基準)","-",16511,6.2413293869049646E-2,6.2413293869049646E-2,"100(基準)","-",134709,0.50921400301652286,0.50921400301652286,"100(基準)","-",52976,0.20025477899623123,0.20025477899623123,"100(基準)","-"]
[null,"県",13430,3727,366,4093,0.30476545048399106,0.30370285014881782,98.4,"100(基準)",9375,0.69806403574087861,0.69746711656758675,"*105.1","100(基準)",1048,7.8034251675353689E-2,7.7510887545039028E-2,"*124.1","100(基準)",6869,0.5114668652271035,0.51071325363364406,100.3,"100(基準)",2687,0.20007446016381236,0.2001990314648659,99.9,"100(基準)"]
[null,"地域（地区）",379,112,3,115,0.30343007915567283,0.30301519982408537,98.3,100,177,0.46701846965699206,0.46855558810144987,"*70.4","*67.0",22,5.8047493403693931E-2,5.7278392478268325E-2,92.7,74.5,191,0.50395778364116095,0.50456962568912567,99.1,98.9,68,0.17941952506596306,0.17844412063958118,89.3,89.3]
["総\n数","全国",406621,102144,9515,111659,0.27460214794612181,0.27460214794612181,"100(基準)","-",242373,0.59606611562118039,0.59606611562118039,"100(基準)","-",28523,7.0146401686090973E-2,7.0146401686090973E-2,"100(基準)","-",180716,0.44443351425528932,0.44443351425528932,"100(基準)","-",86696,0.21321082777328274,0.21321082777328274,"100(基準)","-"]
[null,"県",20721,5197,445,5642,0.27228415617006901,0.27147621411605916,98.9,"100(基準)",13015,0.62810675160465224,0.62784818870940207,"*105.3","100(基準)",1832,8.8412721393755125E-2,8.7515124510487735E-2,"*124.7","100(基準)",9348,0.45113652815983785,0.45055309724331405,101.4,"100(基準)",4519,0.21808793011920274,0.21745059802322669,102,"100(基準)"]
[null,"地域（地区）",681,157,3,160,0.23494860499265785,0.24707601905887361,88.6,89.7,272,0.39941262848751835,0.41094188270838011,"*68.7","*65.2",43,6.3142437591776804E-2,6.277971447511653E-2,89.7,"*72.1",274,0.4023494860499266,0.42401782446289776,94.1,92.7,121,0.1776798825256975,0.17549889677273897,"*82.3","*80.4"]
[{"$f":"A$48","v":"※全て健診受診者数（検査した人数とは限らない）を分母として割合等を計算しているため、必須項目以外の解釈には注意を要する。"}]
[{"$f":"A$49","v":"国保データベース（KDB）のCSVファイル（厚生労働省様式（様式５－２） 健診有所見者状況（男女別・年代別））より計算。"}]
[{"$f":"A$50","v":"年齢調整(%)は全国受診者数（男女別）を基準人口とした直接法による。従って、厳密な男女比較はできない。受診者が少ない地域では、年齢調整(%)がエラーまたは異常な値となることがあるため、標準化比で評価することが望ましい。"}]
[{"$f":"A$51","v":"標準化比は全国または県を基準とした間接法による。標準化比に*が付記されたものは、基準に比べて有意な差(p<0.05)があること意味する。複数年度をプールした場合には過度に有意になりやすくなる。"}]
[{"$f":"A$52","v":"Ver. 2.0 (2025.7.2) 平成30年度厚生労働行政推進調査事業費補助金（政策科学推進研究事業）「都道府県医療費適正化計画推進のための健診・医療等の情報活用を担う地域の保健医療人材の育成に関する研究」（研究代表：横山徹爾）"}]
[null,null,null,null,null,null,null,null,null,null,null,null,null,null,null,{"$f":"P$5","v":"厚生労働省様式（様式５－２）【補足】"}]
["保険者番号：",null,{"$f":"C$6","v":999999},null,null,null,null,null,null,null,null,null,null,null,null,{"$f":"P$6","v":"健診有所見者状況（男女別・年齢調整）"},null,null,null,null,null,null,null,null,null,null,null,"作成年月 ：",null,{"$f":"AD$6","v":"R06年度"}]
["保険者名 ：",null,{"$f":"C$7","v":"見本データ"},null,null,null,null,null,null,null,null,null,null,null,null,{"$f":"P$7","v":"第４期特定健診用"},null,null,null,null,null,null,null,null,null,null,null,"印刷日 ：",null,{"$f":"AD$7","v":"2025-07-02"}]
["地区 ：",null,{"$f":"C$8","v":0},null,null,null,null,null,null,null,null,null,null,null,null,null,null,null,null,null,null,null,null,null,null,null,null,"ページ ：",null,"3/3"]
[]
["男性",null,{"$f":"C$10","v":"受診者※"},"内臓脂肪症候群以外の動脈硬化要因",null,null,null,null,null,null,null,null,null,"臓器障害"]
[null,null,null,"LDLコレステロール",null,null,null,null,"non-HDLコレステロール",null,null,null,null,"クレアチニン",null,null,null,null,"eGFR",null,null,null,null,"心電図",null,null,null,null,"眼底検査"]
[null,null,null,"120以上","割合(%)","年齢\n調整(%)","標準化\n比(全国)","標準化\n比(県)","150以上","割合(%)","年齢\n調整(%)","標準化\n比(全国)","標準化\n比(県)","1.3以上","割合(%)","年齢\n調整(%)","標準化\n比(全国)","標準化\n比(県)","60未満","割合(%)","年齢\n調整(%)","標準化\n比(全国)","標準化\n比(県)","あり","割合(%)","年齢\n調整(%)","標準化\n比(全国)","標準化\n比(県)","あり","割合(%)","年齢\n調整(%)","標準化\n比(全国)","標準化\n比(県)"]
[{"$f":"+A13","v":"40～64歳"},"全国",77585,40037,0.51604047174067147,0.51604047174067147,"100(基準)","-",6372,8.2129277566539927E-2,8.2129277566539927E-2,"100(基準)","-",848,1.0929947799187987E-2,1.0929947799187987E-2,"100(基準)","-",7615,9.8150415673132693E-2,9.8150415673132693E-2,"100(基準)","-",12986,0.1673777147644519,0.1673777147644519,"100(基準)","-",17202,0.2217181156151318,0.2217181156151318,"100(基準)","-"]
[null,"県",4040,2082,0.51534653465346536,0.51483321163375739,99.7,"100(基準)",99,2.4504950495049506E-2,2.4556935182867841E-2,"*29.7","100(基準)",43,1.0643564356435644E-2,1.0962371123882212E-2,99,"100(基準)",446,0.1103960396039604,0.11198284298092308,"*114.1","100(基準)",987,0.2443069306930693,0.24471438734538145,"*146.6","100(基準)",360,8.9108910891089105E-2,8.9811742904547132E-2,"*40.2","100(基準)"]
[null,"地域（地区）",154,58,0.37662337662337664,0.38788837657535891,"*73.0","*73.7",0,0,0,"*0.0",0,0,0,0,0,0,6,3.896103896103896E-2,3.9244133499529231E-2,"*39.0","*34.3",45,0.29220779220779219,0.28390489604562819,"*173.5",118.5,1,6.4935064935064939E-3,6.2794415955465125E-3,"*2.9","*7.2"]
[{"$f":"+A16","v":"65～74歳"},"全国",128168,54068,0.42185256850383873,0.42185256850383873,"100(基準)","-",7281,5.6808251669683542E-2,5.6808251669683542E-2,"100(基準)","-",4191,3.2699269708507582E-2,3.2699269708507582E-2,"100(基準)","-",37061,0.28915954060295862,0.28915954060295862,"100(基準)","-",33997,0.26525341738967606,0.26525341738967606,"100(基準)","-",31393,0.24493633356219963,0.24493633356219963,"100(基準)","-"]
[null,"県",6588,2866,0.43503339404978747,0.43567846912093783,103.2,"100(基準)",161,2.4438372799028538E-2,2.452258538869314E-2,"*43.1","100(基準)",232,3.5215543412264724E-2,3.5031841991289212E-2,107.2,"100(基準)",2064,0.31329690346083788,0.31252264376763861,"*108.0","100(基準)",2181,0.33105646630236796,0.33052428715678306,"*124.6","100(基準)",841,0.12765634486945962,0.12764246760387044,"*52.1","100(基準)"]
[null,"地域（地区）",184,73,0.39673913043478259,0.39794909628887232,93.9,90.9,0,0,0,"*0.0",0,0,0,0,"*0.0","*0.0",46,0.25,0.25219578709026919,86.8,80.2,84,0.45652173913043476,0.45820697459101939,"*172.5","*138.4",1,5.434782608695652E-3,5.582136940840368E-3,"*2.2","*4.3"]
["総\n数","全国",205753,94105,0.45736878684636434,0.45736878684636434,"100(基準)","-",13653,6.6356262120114889E-2,6.6356262120114889E-2,"100(基準)","-",5039,2.4490529907218849E-2,2.4490529907218849E-2,"100(基準)","-",44676,0.21713413656179983,0.21713413656179983,"100(基準)","-",46983,0.2283466097699669,0.2283466097699669,"100(基準)","-",48595,0.23618124644598135,0.23618124644598135,"100(基準)","-"]
[null,"県",10628,4948,0.46556266465939028,0.46552600815005091,101.7,"100(基準)",260,2.4463680843056078E-2,2.4535537952111629E-2,"*36.8","100(基準)",275,2.5875047045540084E-2,2.595576583566683E-2,105.8,"100(基準)",2510,0.23616861121565674,0.23690342828092723,"*109.0","100(基準)",3168,0.29808054196462175,0.29816723245105536,"*130.7","100(基準)",1201,0.11300338727888597,0.11337732067625819,"*47.9","100(基準)"]
[null,"地域（地区）",338,131,0.3875739644970414,0.39415541678493832,"*83.4","*82.4",0,0,0,"*0.0","*0.0",0,0,0,"*0.0","*0.0",52,0.15384615384615385,0.17189633073319266,76.099999999999994,"*69.5",129,0.38165680473372782,0.39248143589197648,"*172.8","*130.7",2,5.9171597633136093E-3,5.8450754235617689E-3,"*2.5","*5.4"]
[]
["女性",null,{"$f":"C$10","v":"受診者※"},"内臓脂肪症候群以外の動脈硬化要因",null,null,null,null,null,null,null,null,null,"臓器障害"]
[null,null,null,"LDLコレステロール",null,null,null,null,"non-HDLコレステロール",null,null,null,null,"クレアチニン",null,null,null,null,"eGFR",null,null,null,null,"心電図",null,null,null,null,"眼底検査"]
[null,null,null,"120以上","割合(%)","年齢\n調整(%)","標準化\n比(全国)","標準化\n比(県)","150以上","割合(%)","年齢\n調整(%)","標準化\n比(全国)","標準化\n比(県)","1.3以上","割合(%)","年齢\n調整(%)","標準化\n比(全国)","標準化\n比(県)","60未満","割合(%)","年齢\n調整(%)","標準化\n比(全国)","標準化\n比(県)","あり","割合(%)","年齢\n調整(%)","標準化\n比(全国)","標準化\n比(県)","あり","割合(%)","年齢\n調整(%)","標準化\n比(全国)","標準化\n比(県)"]
[{"$f":"+A26","v":"40～64歳"},"全国",64493,34492,0.53481773215697825,0.53481773215697825,"100(基準)","-",4555,7.0627820073496342E-2,7.0627820073496342E-2,"100(基準)","-",114,1.7676336966802599E-3,1.7676336966802599E-3,"100(基準)","-",7162,0.11105081171600019,0.11105081171600019,"100(基準)","-",9207,0.14275967934504519,0.14275967934504519,"100(基準)","-",13065,0.20258012497480346,0.20258012497480346,"100(基準)","-"]
[null,"県",3251,1749,0.53798831128883418,0.53437435960057311,100,"100(基準)",79,2.4300215318363582E-2,2.4119783847415154E-2,"*34.1","100(基準)",0,0,0,"*0.0","100(基準)",434,0.1334973854198708,0.13187010511856587,"*118.8","100(基準)",647,0.19901568748077514,0.19856725653328111,"*139.0","100(基準)",303,9.3202091664103356E-2,9.3060948628890236E-2,"*46.0","100(基準)"]
[null,"地域（地区）",148,72,0.48648648648648651,0.46801918209900473,88.6,88.5,0,0,0,"*0.0",0,0,0,0,0,0,12,8.1081081081081086E-2,7.4880885201385097E-2,69,58.1,31,0.20945945945945946,0.19684756328578137,144.4,104.4,0,0,0,"*0.0","*0.0"]
[{"$f":"+A29","v":"65～74歳"},"全国",136375,74077,0.54318606782768097,0.54318606782768097,"100(基準)","-",8970,6.5774518790100822E-2,6.5774518790100822E-2,"100(基準)","-",430,3.1530705774518789E-3,3.1530705774518789E-3,"100(基準)","-",35366,0.25932905591200733,0.25932905591200733,"100(基準)","-",28312,0.20760403299725022,0.20760403299725022,"100(基準)","-",31332,0.22974885426214481,0.22974885426214481,"100(基準)","-"]
[null,"県",6842,3848,0.56240865244080673,0.56274830772035267,"*103.6","100(基準)",157,2.2946506869336452E-2,2.2990427435301389E-2,"*34.9","100(基準)",15,2.1923414206372407E-3,2.1844227736136112E-3,69.3,"100(基準)",1923,0.28105817012569423,0.28058840269193941,"*108.1","100(基準)",1686,0.24641917567962585,0.24632201671920079,"*118.6","100(基準)",707,0.10333235895936861,0.10352897368140154,"*45.0","100(基準)"]
[null,"地域（地区）",195,113,0.57948717948717954,0.57856405743965789,106.6,102.9,0,0,0,"*0.0",0,0,0,0,0,0,45,0.23076923076923078,0.23233574091047968,89.4,82.5,58,0.29743589743589743,0.29900240757714636,"*143.5",120.8,4,2.0512820512820513E-2,2.107228842040941E-2,"*8.9","*19.7"]
["総\n数","全国",200868,108569,0.54049923332735927,0.54049923332735927,"100(基準)","-",13525,6.7332775753230975E-2,6.7332775753230975E-2,"100(基準)","-",544,2.7082462114423403E-3,2.7082462114423403E-3,"100(基準)","-",42528,0.21172113029452178,0.21172113029452178,"100(基準)","-",37519,0.18678435589541389,0.18678435589541389,"100(基準)","-",44397,0.22102574825258378,0.22102574825258378,"100(基準)","-"]
[null,"県",10093,5597,0.55454275240265527,0.55363824023280395,102.4,"100(基準)",236,2.3382542356088377E-2,2.3353031648448597E-2,"*34.7","100(基準)",15,1.4861785395818884E-3,1.4830667689804064E-3,"*54.6","100(基準)",2357,0.23352818785296739,0.23283918845473098,"*110.0","100(基準)",2333,0.23115030218963639,0.23098932187148727,"*123.6","100(基準)",1010,0.10006935499851383,0.10016798865784571,"*45.3","100(基準)"]
[null,"地域（地区）",343,185,0.53935860058309038,0.54307124302748289,98.8,96.8,0,0,0,"*0.0","*0.0",0,0,0,0,0,57,0.16618075801749271,0.18178146641555445,84.1,"*75.8",89,0.25947521865889212,0.26620339343411209,"*143.8",114.6,4,1.1661807580174927E-2,1.4306576126278616E-2,"*5.3","*11.7"]
[]
["総数",null,{"$f":"C$10","v":"受診者※"},"内臓脂肪症候群以外の動脈硬化要因",null,null,null,null,null,null,null,null,null,"臓器障害"]
[null,null,null,"LDLコレステロール",null,null,null,null,"non-HDLコレステロール",null,null,null,null,"クレアチニン",null,null,null,null,"eGFR",null,null,null,null,"心電図",null,null,null,null,"眼底検査"]
[null,null,null,"120以上","割合(%)","性年齢\n調整(%)","標準化\n比(全国)","標準化\n比(県)","150以上","割合(%)","性年齢\n調整(%)","標準化\n比(全国)","標準化\n比(県)","1.3以上","割合(%)","性年齢\n調整(%)","標準化\n比(全国)","標準化\n比(県)","60未満","割合(%)","性年齢\n調整(%)","標準化\n比(全国)","標準化\n比(県)","あり","割合(%)","性年齢\n調整(%)","標準化\n比(全国)","標準化\n比(県)","あり","割合(%)","性年齢\n調整(%)","標準化\n比(全国)","標準化\n比(県)"]
[{"$f":"+A39","v":"40～64歳"},"全国",142078,74529,0.52456397190275761,0.52456397190275761,"100(基準)","-",10927,7.6908458733934884E-2,7.6908458733934884E-2,"100(基準)","-",962,6.7709286448288967E-3,6.7709286448288967E-3,"100(基準)","-",14777,0.10400625008797984,0.10400625008797984,"100(基準)","-",22193,0.15620293078449865,0.15620293078449865,"100(基準)","-",30267,0.21303087036698151,0.21303087036698151,"100(基準)","-"]
[null,"県",7291,3831,0.52544232615553421,0.52370346076327678,99.8,"100(基準)",178,2.4413660677547661E-2,2.435850051263494E-2,"*31.5","100(基準)",43,5.8976820737896033E-3,5.9862579966384766E-3,87.3,"100(基準)",880,0.12069674941708956,0.12101020257947456,"*116.4","100(基準)",1634,0.22411191880400494,0.22376697178868171,"*143.5","100(基準)",663,9.0934028254011798E-2,9.1286644189616323E-2,"*42.7","100(基準)"]
[null,"地域（地区）",302,130,0.43046357615894038,0.42426189000204345,"*80.9","*81.2",0,0,0,"*0.0","*0.0",0,0,0,0,0,18,5.9602649006622516E-2,5.5420607179534516E-2,"*54.9","*47.2",76,0.25165562913907286,0.24438724685517788,"*160.3",112.3,1,3.3112582781456954E-3,3.4290352918148912E-3,"*1.6","*3.6"]
[{"$f":"+A42","v":"65～74歳"},"全国",264543,128145,0.48440140166248963,0.48440140166248963,"100(基準)","-",16251,6.1430466880620545E-2,6.1430466880620545E-2,"100(基準)","-",4621,1.7467859667426467E-2,1.7467859667426467E-2,"100(基準)","-",72427,0.27378157804213304,0.27378157804213304,"100(基準)","-",62309,0.23553448777703437,0.23553448777703437,"100(基準)","-",62725,0.23710701095852091,0.23710701095852091,"100(基準)","-"]
[null,"県",13430,6714,0.49992553983618765,0.5011844520386306,"*103.5","100(基準)",318,2.3678332092330605E-2,2.3732740104963086E-2,"*38.7","100(基準)",247,1.8391660461653015E-2,1.809861451669903E-2,103.7,"100(基準)",3987,0.29687267311988086,0.29606017026919612,"*108.1","100(基準)",3867,0.28793745346239763,0.28711703528874921,"*121.9","100(基準)",1548,0.11526433358153387,0.1152116804211565,"*48.6","100(基準)"]
[null,"地域（地区）",379,186,0.49076517150395776,0.49105821400107175,101.2,97.8,0,0,0,"*0.0","*0.0",0,0,0,"*0.0","*0.0",91,0.24010554089709762,0.241957701796881,88,81.3,142,0.37467018469656993,0.37613516461488344,"*159.4","*130.6",5,1.3192612137203167E-2,1.3567490580990467E-2,"*5.6","*11.4"]
["総\n数","全国",406621,202674,0.49843466028562222,0.49843466028562222,"100(基準)","-",27178,6.6838653193022499E-2,6.6838653193022499E-2,"100(基準)","-",5583,1.3730230361934086E-2,1.3730230361934086E-2,"100(基準)","-",87204,0.21446014839371305,0.21446014839371305,"100(基準)","-",84502,0.20781513989685726,0.20781513989685726,"100(基準)","-",92992,0.22869453373042711,0.22869453373042711,"100(基準)","-"]
[null,"県",20721,10545,0.5089040104242073,0.50905284969044962,"*102.1","100(基準)",496,2.3937068674291781E-2,2.3951387905251812E-2,"*35.8","100(基準)",290,1.3995463539404469E-2,1.3866419451374899E-2,100.9,"100(基準)",4867,0.23488248636648809,0.23489572153334559,"*109.5","100(基準)",5501,0.26547946527677235,0.2649818029176651,"*127.6","100(基準)",2211,0.10670334443318373,0.10685200077424997,"*46.7","100(基準)"]
[null,"地域（地区）",681,316,0.46402349486049926,0.46771881903343865,91.7,90.2,0,0,0,"*0.0","*0.0",0,0,0,"*0.0","*0.0",109,0.16005873715124816,0.17677952032311708,"*80.1","*72.7",218,0.32011747430249632,0.33010094439639137,"*159.7","*123.6",6,8.8105726872246704E-3,1.0024999045689813E-2,"*3.9","*8.4"]
[{"$f":"A$48","v":"※全て健診受診者数（検査した人数とは限らない）を分母として割合等を計算しているため、必須項目以外の解釈には注意を要する。"}]
[{"$f":"A$49","v":"国保データベース（KDB）のCSVファイル（厚生労働省様式（様式５－２） 健診有所見者状況（男女別・年代別））より計算。"}]
[{"$f":"A$50","v":"年齢調整(%)は全国受診者数（男女別）を基準人口とした直接法による。従って、厳密な男女比較はできない。受診者が少ない地域では、年齢調整(%)がエラーまたは異常な値となることがあるため、標準化比で評価することが望ましい。"}]
[{"$f":"A$51","v":"標準化比は全国または県を基準とした間接法による。標準化比に*が付記されたものは、基準に比べて有意な差(p<0.05)があること意味する。複数年度をプールした場合には過度に有意になりやすくなる。"}]
[{"$f":"A$52","v":"Ver. 2.0 (2025.7.2) 平成30年度厚生労働行政推進調査事業費補助金（政策科学推進研究事業）「都道府県医療費適正化計画推進のための健診・医療等の情報活用を担う地域の保健医療人材の育成に関する研究」（研究代表：横山徹爾）"}]

{"sheet":"項目定義","index":7,"n_rows":21,"n_cols":9,"rows_kept":21,"cut":false,"hidden":true,"merged":[]}
["項目番号","列番号","出力行位置","出力列位置","５年度","６年度","表示名","基準値名"]
[1,6,13,4,"ＢＭＩ人数","ＢＭＩ人数","ＢＭＩ","25以上","行+13+13"]
[2,8,13,9,"腹囲人数","腹囲人数","腹囲","＊"]
[3,-1,13,16,null,"中性脂肪（空腹時＋随時）人数","中性脂肪(空腹時/随時)","150/175以上"]
[4,10,13,14,"中性脂肪人数","空腹時中性脂肪人数","空腹時中性脂肪（参考）","150以上"]
[5,40,13,15,null,"随時中性脂肪人数","随時中性脂肪（参考）","175以上"]
[6,12,13,21,"ＡＬＴ（ＧＰＴ）人数","ＡＬＴ（ＧＰＴ）人数","ＡＬＴ（ＧＰＴ）","31以上"]
[7,14,13,26,"ＨＤＬコレステロール人数","ＨＤＬコレステロール人数","ＨＤＬコレステロール","40未満"]
[8,-1,61,6,null,"血糖（空腹時＋随時）人数","血糖(空腹時+随時)","100以上"]
[9,16,61,4,"空腹時血糖人数","空腹時血糖人数","空腹時血糖(参考)","100以上"]
[10,34,61,5,"随時血糖人数","随時血糖人数","随時血糖(参考)","100以上"]
[11,18,61,11,"ＨｂＡ１ｃ人数","ＨｂＡ１ｃ人数","ＨｂＡ１ｃ","5.6以上"]
[12,20,61,16,"尿酸人数","尿酸人数","尿酸","7.0以上"]
[13,22,61,21,"収縮期血圧人数","収縮期血圧人数","収縮期血圧","130以上"]
[14,24,61,26,"拡張期血圧人数","拡張期血圧人数","拡張期血圧","85以上"]
[15,26,109,4,"ＬＤＬコレステロール人数","ＬＤＬコレステロール人数","ＬＤＬコレステロール","120以上"]
[16,36,109,9,"ｎｏｎ－ＨＤＬコレステロール人数","ｎｏｎ－ＨＤＬコレステロール人数","non-HDLコレステロール","150以上"]
[17,28,109,14,"血清クレアチニン人数","血清クレアチニン人数","血清クレアチニン","1.3以上"]
[18,38,109,19,"ｅＧＦＲ人数","ｅＧＦＲ人数","ｅＧＦＲ","60未満"]
[19,30,109,24,"心電図人数","心電図人数","心電図","あり"]
[20,32,109,29,"眼底検査人数","眼底検査人数","眼底検査","あり"]

{"sheet":"temp","index":8,"n_rows":0,"n_cols":0,"rows_kept":0,"cut":false,"hidden":true,"merged":[]}